Workbook

Sheet Feuil1
B1: TEST
A2: Absence Test cyclique ligne | B2: =IF(A1<>"","",IF(OR(A2="",A3="",A4="",A5<>""),"PB NB LIGNES",VLOOKUP(LEFT(A2,1)&LEFT(A3,1)&LEFT(A4,1),Reference!$A$2:$B$20,2,FALSE))) -> A GARDER | E2: Exemple
A3: Réception Test cyclique ligne | B3: =IF(A2<>"","",IF(OR(A3="",A4="",A5="",A6<>""),"PB NB LIGNES",VLOOKUP(LEFT(A3,1)&LEFT(A4,1)&LEFT(A5,1),Reference!$A$2:$B$20,2,FALSE)))
A4: Absence Test cyclique ligne | B4: =IF(A3<>"","",IF(OR(A4="",A5="",A6="",A7<>""),"PB NB LIGNES",VLOOKUP(LEFT(A4,1)&LEFT(A5,1)&LEFT(A6,1),Reference!$A$2:$B$20,2,FALSE))) | E4: Réception Test cyclique ligne | F4: A GARDER
B5: =IF(A4<>"","",IF(OR(A5="",A6="",A7="",A8<>""),"PB NB LIGNES",VLOOKUP(LEFT(A5,1)&LEFT(A6,1)&LEFT(A7,1),Reference!$A$2:$B$20,2,FALSE))) | E5: Réception Test cyclique ligne
A6: Réception Test cyclique ligne | B6: =IF(A5<>"","",IF(OR(A6="",A7="",A8="",A9<>""),"PB NB LIGNES",VLOOKUP(LEFT(A6,1)&LEFT(A7,1)&LEFT(A8,1),Reference!$A$2:$B$20,2,FALSE))) -> A GARDER | E6: Absence Test cyclique ligne
A7: Réception Test cyclique ligne | B7: =IF(A6<>"","",IF(OR(A7="",A8="",A9="",A10<>""),"PB NB LIGNES",VLOOKUP(LEFT(A7,1)&LEFT(A8,1)&LEFT(A9,1),Reference!$A$2:$B$20,2,FALSE)))
A8: Absence Test cyclique ligne | B8: =IF(A7<>"","",IF(OR(A8="",A9="",A10="",A11<>""),"PB NB LIGNES",VLOOKUP(LEFT(A8,1)&LEFT(A9,1)&LEFT(A10,1),Reference!$A$2:$B$20,2,FALSE))) | E8: Absence Test cyclique ligne | F8: A GARDER
B9: =IF(A8<>"","",IF(OR(A9="",A10="",A11="",A12<>""),"PB NB LIGNES",VLOOKUP(LEFT(A9,1)&LEFT(A10,1)&LEFT(A11,1),Reference!$A$2:$B$20,2,FALSE))) | E9: Réception Test cyclique ligne
A10: Réception Test cyclique ligne | B10: =IF(A9<>"","",IF(OR(A10="",A11="",A12="",A13<>""),"PB NB LIGNES",VLOOKUP(LEFT(A10,1)&LEFT(A11,1)&LEFT(A12,1),Reference!$A$2:$B$20,2,FALSE))) -> A STATUER | E10: Absence Test cyclique ligne
A11: Absence Test cyclique ligne | B11: =IF(A10<>"","",IF(OR(A11="",A12="",A13="",A14<>""),"PB NB LIGNES",VLOOKUP(LEFT(A11,1)&LEFT(A12,1)&LEFT(A13,1),Reference!$A$2:$B$20,2,FALSE)))
A12: Absence Test cyclique ligne | B12: =IF(A11<>"","",IF(OR(A12="",A13="",A14="",A15<>""),"PB NB LIGNES",VLOOKUP(LEFT(A12,1)&LEFT(A13,1)&LEFT(A14,1),Reference!$A$2:$B$20,2,FALSE))) | E12: Absence Test cyclique ligne | F12: A GARDER
B13: =IF(A12<>"","",IF(OR(A13="",A14="",A15="",A16<>""),"PB NB LIGNES",VLOOKUP(LEFT(A13,1)&LEFT(A14,1)&LEFT(A15,1),Reference!$A$2:$B$20,2,FALSE))) | E13: Absence Test cyclique ligne
A14: Absence Test cyclique ligne | B14: =IF(A13<>"","",IF(OR(A14="",A15="",A16="",A17<>""),"PB NB LIGNES",VLOOKUP(LEFT(A14,1)&LEFT(A15,1)&LEFT(A16,1),Reference!$A$2:$B$20,2,FALSE))) -> A GARDER | E14: Absence Test cyclique ligne
A15: Absence Test cyclique ligne | B15: =IF(A14<>"","",IF(OR(A15="",A16="",A17="",A18<>""),"PB NB LIGNES",VLOOKUP(LEFT(A15,1)&LEFT(A16,1)&LEFT(A17,1),Reference!$A$2:$B$20,2,FALSE)))
A16: Absence Test cyclique ligne | B16: =IF(A15<>"","",IF(OR(A16="",A17="",A18="",A19<>""),"PB NB LIGNES",VLOOKUP(LEFT(A16,1)&LEFT(A17,1)&LEFT(A18,1),Reference!$A$2:$B$20,2,FALSE))) | E16: Absence Test cyclique ligne | F16: A SUPPRIMER
B17: =IF(A16<>"","",IF(OR(A17="",A18="",A19="",A20<>""),"PB NB LIGNES",VLOOKUP(LEFT(A17,1)&LEFT(A18,1)&LEFT(A19,1),Reference!$A$2:$B$20,2,FALSE))) | E17: Absence Test cyclique ligne
A18: Réception Test cyclique ligne | B18: =IF(A17<>"","",IF(OR(A18="",A19="",A20="",A21<>""),"PB NB LIGNES",VLOOKUP(LEFT(A18,1)&LEFT(A19,1)&LEFT(A20,1),Reference!$A$2:$B$20,2,FALSE))) -> A GARDER | E18: Réception Test cyclique ligne
A19: Réception Test cyclique ligne | B19: =IF(A18<>"","",IF(OR(A19="",A20="",A21="",A22<>""),"PB NB LIGNES",VLOOKUP(LEFT(A19,1)&LEFT(A20,1)&LEFT(A21,1),Reference!$A$2:$B$20,2,FALSE)))
A20: Absence Test cyclique ligne | B20: =IF(A19<>"","",IF(OR(A20="",A21="",A22="",A23<>""),"PB NB LIGNES",VLOOKUP(LEFT(A20,1)&LEFT(A21,1)&LEFT(A22,1),Reference!$A$2:$B$20,2,FALSE))) | E20: Absence Test cyclique ligne | F20: A SUPPRIMER
B21: =IF(A20<>"","",IF(OR(A21="",A22="",A23="",A24<>""),"PB NB LIGNES",VLOOKUP(LEFT(A21,1)&LEFT(A22,1)&LEFT(A23,1),Reference!$A$2:$B$20,2,FALSE))) | E21: Réception Test cyclique ligne
A22: Absence Test cyclique ligne | B22: =IF(A21<>"","",IF(OR(A22="",A23="",A24="",A25<>""),"PB NB LIGNES",VLOOKUP(LEFT(A22,1)&LEFT(A23,1)&LEFT(A24,1),Reference!$A$2:$B$20,2,FALSE))) -> A GARDER | E22: Réception Test cyclique ligne
A23: Réception Test cyclique ligne | B23: =IF(A22<>"","",IF(OR(A23="",A24="",A25="",A26<>""),"PB NB LIGNES",VLOOKUP(LEFT(A23,1)&LEFT(A24,1)&LEFT(A25,1),Reference!$A$2:$B$20,2,FALSE)))
A24: Absence Test cyclique ligne | B24: =IF(A23<>"","",IF(OR(A24="",A25="",A26="",A27<>""),"PB NB LIGNES",VLOOKUP(LEFT(A24,1)&LEFT(A25,1)&LEFT(A26,1),Reference!$A$2:$B$20,2,FALSE))) | E24: Réception Test cyclique ligne | F24: A SUPPRIMER
B25: =IF(A24<>"","",IF(OR(A25="",A26="",A27="",A28<>""),"PB NB LIGNES",VLOOKUP(LEFT(A25,1)&LEFT(A26,1)&LEFT(A27,1),Reference!$A$2:$B$20,2,FALSE))) | E25: Absence Test cyclique ligne
A26: Absence Test cyclique ligne | B26: =IF(A25<>"","",IF(OR(A26="",A27="",A28="",A29<>""),"PB NB LIGNES",VLOOKUP(LEFT(A26,1)&LEFT(A27,1)&LEFT(A28,1),Reference!$A$2:$B$20,2,FALSE))) -> A GARDER | E26: Réception Test cyclique ligne
A27: Absence Test cyclique ligne | B27: =IF(A26<>"","",IF(OR(A27="",A28="",A29="",A30<>""),"PB NB LIGNES",VLOOKUP(LEFT(A27,1)&LEFT(A28,1)&LEFT(A29,1),Reference!$A$2:$B$20,2,FALSE)))
A28: Absence Test cyclique ligne | B28: =IF(A27<>"","",IF(OR(A28="",A29="",A30="",A31<>""),"PB NB LIGNES",VLOOKUP(LEFT(A28,1)&LEFT(A29,1)&LEFT(A30,1),Reference!$A$2:$B$20,2,FALSE))) | E28: Réception Test cyclique ligne | F28: A SUPPRIMER
B29: =IF(A28<>"","",IF(OR(A29="",A30="",A31="",A32<>""),"PB NB LIGNES",VLOOKUP(LEFT(A29,1)&LEFT(A30,1)&LEFT(A31,1),Reference!$A$2:$B$20,2,FALSE))) | E29: Réception Test cyclique ligne
A30: Réception Test cyclique ligne | B30: =IF(A29<>"","",IF(OR(A30="",A31="",A32="",A33<>""),"PB NB LIGNES",VLOOKUP(LEFT(A30,1)&LEFT(A31,1)&LEFT(A32,1),Reference!$A$2:$B$20,2,FALSE))) -> A GARDER | E30: Réception Test cyclique ligne
A31: Réception Test cyclique ligne | B31: =IF(A30<>"","",IF(OR(A31="",A32="",A33="",A34<>""),"PB NB LIGNES",VLOOKUP(LEFT(A31,1)&LEFT(A32,1)&LEFT(A33,1),Reference!$A$2:$B$20,2,FALSE)))
A32: Absence Test cyclique ligne | B32: =IF(A31<>"","",IF(OR(A32="",A33="",A34="",A35<>""),"PB NB LIGNES",VLOOKUP(LEFT(A32,1)&LEFT(A33,1)&LEFT(A34,1),Reference!$A$2:$B$20,2,FALSE)))
B33: =IF(A32<>"","",IF(OR(A33="",A34="",A35="",A36<>""),"PB NB LIGNES",VLOOKUP(LEFT(A33,1)&LEFT(A34,1)&LEFT(A35,1),Reference!$A$2:$B$20,2,FALSE)))
A34: Absence Test cyclique ligne | B34: =IF(A33<>"","",IF(OR(A34="",A35="",A36="",A37<>""),"PB NB LIGNES",VLOOKUP(LEFT(A34,1)&LEFT(A35,1)&LEFT(A36,1),Reference!$A$2:$B$20,2,FALSE))) -> PB NB LIGNES
A35: Absence Test cyclique ligne | B35: =IF(A34<>"","",IF(OR(A35="",A36="",A37="",A38<>""),"PB NB LIGNES",VLOOKUP(LEFT(A35,1)&LEFT(A36,1)&LEFT(A37,1),Reference!$A$2:$B$20,2,FALSE)))
B36: =IF(A35<>"","",IF(OR(A36="",A37="",A38="",A39<>""),"PB NB LIGNES",VLOOKUP(LEFT(A36,1)&LEFT(A37,1)&LEFT(A38,1),Reference!$A$2:$B$20,2,FALSE)))
A37: Réception Test cyclique ligne | B37: =IF(A36<>"","",IF(OR(A37="",A38="",A39="",A40<>""),"PB NB LIGNES",VLOOKUP(LEFT(A37,1)&LEFT(A38,1)&LEFT(A39,1),Reference!$A$2:$B$20,2,FALSE))) -> A SUPPRIMER
A38: Réception Test cyclique ligne | B38: =IF(A37<>"","",IF(OR(A38="",A39="",A40="",A41<>""),"PB NB LIGNES",VLOOKUP(LEFT(A38,1)&LEFT(A39,1)&LEFT(A40,1),Reference!$A$2:$B$20,2,FALSE)))
A39: Réception Test cyclique ligne | B39: =IF(A38<>"","",IF(OR(A39="",A40="",A41="",A42<>""),"PB NB LIGNES",VLOOKUP(LEFT(A39,1)&LEFT(A40,1)&LEFT(A41,1),Reference!$A$2:$B$20,2,FALSE)))
B40: =IF(A39<>"","",IF(OR(A40="",A41="",A42="",A43<>""),"PB NB LIGNES",VLOOKUP(LEFT(A40,1)&LEFT(A41,1)&LEFT(A42,1),Reference!$A$2:$B$20,2,FALSE)))
A41: Réception Test cyclique ligne | B41: =IF(A40<>"","",IF(OR(A41="",A42="",A43="",A44<>""),"PB NB LIGNES",VLOOKUP(LEFT(A41,1)&LEFT(A42,1)&LEFT(A43,1),Reference!$A$2:$B$20,2,FALSE))) -> A SUPPRIMER
A42: Réception Test cyclique ligne | B42: =IF(A41<>"","",IF(OR(A42="",A43="",A44="",A45<>""),"PB NB LIGNES",VLOOKUP(LEFT(A42,1)&LEFT(A43,1)&LEFT(A44,1),Reference!$A$2:$B$20,2,FALSE)))
A43: Réception Test cyclique ligne | B43: =IF(A42<>"","",IF(OR(A43="",A44="",A45="",A46<>""),"PB NB LIGNES",VLOOKUP(LEFT(A43,1)&LEFT(A44,1)&LEFT(A45,1),Reference!$A$2:$B$20,2,FALSE)))
B44: =IF(A43<>"","",IF(OR(A44="",A45="",A46="",A47<>""),"PB NB LIGNES",VLOOKUP(LEFT(A44,1)&LEFT(A45,1)&LEFT(A46,1),Reference!$A$2:$B$20,2,FALSE)))
A45: Réception Test cyclique ligne | B45: =IF(A44<>"","",IF(OR(A45="",A46="",A47="",A48<>""),"PB NB LIGNES",VLOOKUP(LEFT(A45,1)&LEFT(A46,1)&LEFT(A47,1),Reference!$A$2:$B$20,2,FALSE))) -> A SUPPRIMER
A46: Réception Test cyclique ligne | B46: =IF(A45<>"","",IF(OR(A46="",A47="",A48="",A49<>""),"PB NB LIGNES",VLOOKUP(LEFT(A46,1)&LEFT(A47,1)&LEFT(A48,1),Reference!$A$2:$B$20,2,FALSE)))
A47: Réception Test cyclique ligne | B47: =IF(A46<>"","",IF(OR(A47="",A48="",A49="",A50<>""),"PB NB LIGNES",VLOOKUP(LEFT(A47,1)&LEFT(A48,1)&LEFT(A49,1),Reference!$A$2:$B$20,2,FALSE)))
B48: =IF(A47<>"","",IF(OR(A48="",A49="",A50="",A51<>""),"PB NB LIGNES",VLOOKUP(LEFT(A48,1)&LEFT(A49,1)&LEFT(A50,1),Reference!$A$2:$B$20,2,FALSE)))
A49: Réception Test cyclique ligne | B49: =IF(A48<>"","",IF(OR(A49="",A50="",A51="",A52<>""),"PB NB LIGNES",VLOOKUP(LEFT(A49,1)&LEFT(A50,1)&LEFT(A51,1),Reference!$A$2:$B$20,2,FALSE))) -> A SUPPRIMER
A50: Réception Test cyclique ligne | B50: =IF(A49<>"","",IF(OR(A50="",A51="",A52="",A53<>""),"PB NB LIGNES",VLOOKUP(LEFT(A50,1)&LEFT(A51,1)&LEFT(A52,1),Reference!$A$2:$B$20,2,FALSE)))
A51: Réception Test cyclique ligne | B51: =IF(A50<>"","",IF(OR(A51="",A52="",A53="",A54<>""),"PB NB LIGNES",VLOOKUP(LEFT(A51,1)&LEFT(A52,1)&LEFT(A53,1),Reference!$A$2:$B$20,2,FALSE)))
B52: =IF(A51<>"","",IF(OR(A52="",A53="",A54="",A55<>""),"PB NB LIGNES",VLOOKUP(LEFT(A52,1)&LEFT(A53,1)&LEFT(A54,1),Reference!$A$2:$B$20,2,FALSE)))
A53: Absence Test cyclique ligne | B53: =IF(A52<>"","",IF(OR(A53="",A54="",A55="",A56<>""),"PB NB LIGNES",VLOOKUP(LEFT(A53,1)&LEFT(A54,1)&LEFT(A55,1),Reference!$A$2:$B$20,2,FALSE))) -> A GARDER
A54: Absence Test cyclique ligne | B54: =IF(A53<>"","",IF(OR(A54="",A55="",A56="",A57<>""),"PB NB LIGNES",VLOOKUP(LEFT(A54,1)&LEFT(A55,1)&LEFT(A56,1),Reference!$A$2:$B$20,2,FALSE)))
A55: Absence Test cyclique ligne | B55: =IF(A54<>"","",IF(OR(A55="",A56="",A57="",A58<>""),"PB NB LIGNES",VLOOKUP(LEFT(A55,1)&LEFT(A56,1)&LEFT(A57,1),Reference!$A$2:$B$20,2,FALSE)))
B56: =IF(A55<>"","",IF(OR(A56="",A57="",A58="",A59<>""),"PB NB LIGNES",VLOOKUP(LEFT(A56,1)&LEFT(A57,1)&LEFT(A58,1),Reference!$A$2:$B$20,2,FALSE)))
A57: Réception Test cyclique ligne | B57: =IF(A56<>"","",IF(OR(A57="",A58="",A59="",A60<>""),"PB NB LIGNES",VLOOKUP(LEFT(A57,1)&LEFT(A58,1)&LEFT(A59,1),Reference!$A$2:$B$20,2,FALSE))) -> A SUPPRIMER
A58: Réception Test cyclique ligne | B58: =IF(A57<>"","",IF(OR(A58="",A59="",A60="",A61<>""),"PB NB LIGNES",VLOOKUP(LEFT(A58,1)&LEFT(A59,1)&LEFT(A60,1),Reference!$A$2:$B$20,2,FALSE)))
A59: Réception Test cyclique ligne | B59: =IF(A58<>"","",IF(OR(A59="",A60="",A61="",A62<>""),"PB NB LIGNES",VLOOKUP(LEFT(A59,1)&LEFT(A60,1)&LEFT(A61,1),Reference!$A$2:$B$20,2,FALSE)))
B60: =IF(A59<>"","",IF(OR(A60="",A61="",A62="",A63<>""),"PB NB LIGNES",VLOOKUP(LEFT(A60,1)&LEFT(A61,1)&LEFT(A62,1),Reference!$A$2:$B$20,2,FALSE)))
A61: Réception Test cyclique ligne | B61: =IF(A60<>"","",IF(OR(A61="",A62="",A63="",A64<>""),"PB NB LIGNES",VLOOKUP(LEFT(A61,1)&LEFT(A62,1)&LEFT(A63,1),Reference!$A$2:$B$20,2,FALSE))) -> A SUPPRIMER
A62: Réception Test cyclique ligne | B62: =IF(A61<>"","",IF(OR(A62="",A63="",A64="",A65<>""),"PB NB LIGNES",VLOOKUP(LEFT(A62,1)&LEFT(A63,1)&LEFT(A64,1),Reference!$A$2:$B$20,2,FALSE)))
A63: Réception Test cyclique ligne | B63: =IF(A62<>"","",IF(OR(A63="",A64="",A65="",A66<>""),"PB NB LIGNES",VLOOKUP(LEFT(A63,1)&LEFT(A64,1)&LEFT(A65,1),Reference!$A$2:$B$20,2,FALSE)))
B64: =IF(A63<>"","",IF(OR(A64="",A65="",A66="",A67<>""),"PB NB LIGNES",VLOOKUP(LEFT(A64,1)&LEFT(A65,1)&LEFT(A66,1),Reference!$A$2:$B$20,2,FALSE)))
A65: Réception Test cyclique ligne | B65: =IF(A64<>"","",IF(OR(A65="",A66="",A67="",A68<>""),"PB NB LIGNES",VLOOKUP(LEFT(A65,1)&LEFT(A66,1)&LEFT(A67,1),Reference!$A$2:$B$20,2,FALSE))) -> A SUPPRIMER
A66: Réception Test cyclique ligne | B66: =IF(A65<>"","",IF(OR(A66="",A67="",A68="",A69<>""),"PB NB LIGNES",VLOOKUP(LEFT(A66,1)&LEFT(A67,1)&LEFT(A68,1),Reference!$A$2:$B$20,2,FALSE)))
A67: Réception Test cyclique ligne | B67: =IF(A66<>"","",IF(OR(A67="",A68="",A69="",A70<>""),"PB NB LIGNES",VLOOKUP(LEFT(A67,1)&LEFT(A68,1)&LEFT(A69,1),Reference!$A$2:$B$20,2,FALSE)))
B68: =IF(A67<>"","",IF(OR(A68="",A69="",A70="",A71<>""),"PB NB LIGNES",VLOOKUP(LEFT(A68,1)&LEFT(A69,1)&LEFT(A70,1),Reference!$A$2:$B$20,2,FALSE)))
A69: Réception Test cyclique ligne | B69: =IF(A68<>"","",IF(OR(A69="",A70="",A71="",A72<>""),"PB NB LIGNES",VLOOKUP(LEFT(A69,1)&LEFT(A70,1)&LEFT(A71,1),Reference!$A$2:$B$20,2,FALSE))) -> A SUPPRIMER
A70: Réception Test cyclique ligne | B70: =IF(A69<>"","",IF(OR(A70="",A71="",A72="",A73<>""),"PB NB LIGNES",VLOOKUP(LEFT(A70,1)&LEFT(A71,1)&LEFT(A72,1),Reference!$A$2:$B$20,2,FALSE)))
A71: Réception Test cyclique ligne | B71: =IF(A70<>"","",IF(OR(A71="",A72="",A73="",A74<>""),"PB NB LIGNES",VLOOKUP(LEFT(A71,1)&LEFT(A72,1)&LEFT(A73,1),Reference!$A$2:$B$20,2,FALSE)))
B72: =IF(A71<>"","",IF(OR(A72="",A73="",A74="",A75<>""),"PB NB LIGNES",VLOOKUP(LEFT(A72,1)&LEFT(A73,1)&LEFT(A74,1),Reference!$A$2:$B$20,2,FALSE)))
A73: Réception Test cyclique ligne | B73: =IF(A72<>"","",IF(OR(A73="",A74="",A75="",A76<>""),"PB NB LIGNES",VLOOKUP(LEFT(A73,1)&LEFT(A74,1)&LEFT(A75,1),Reference!$A$2:$B$20,2,FALSE))) -> A SUPPRIMER
A74: Réception Test cyclique ligne | B74: =IF(A73<>"","",IF(OR(A74="",A75="",A76="",A77<>""),"PB NB LIGNES",VLOOKUP(LEFT(A74,1)&LEFT(A75,1)&LEFT(A76,1),Reference!$A$2:$B$20,2,FALSE)))
A75: Réception Test cyclique ligne | B75: =IF(A74<>"","",IF(OR(A75="",A76="",A77="",A78<>""),"PB NB LIGNES",VLOOKUP(LEFT(A75,1)&LEFT(A76,1)&LEFT(A77,1),Reference!$A$2:$B$20,2,FALSE)))
B76: =IF(A75<>"","",IF(OR(A76="",A77="",A78="",A79<>""),"PB NB LIGNES",VLOOKUP(LEFT(A76,1)&LEFT(A77,1)&LEFT(A78,1),Reference!$A$2:$B$20,2,FALSE)))
A77: Réception Test cyclique ligne | B77: =IF(A76<>"","",IF(OR(A77="",A78="",A79="",A80<>""),"PB NB LIGNES",VLOOKUP(LEFT(A77,1)&LEFT(A78,1)&LEFT(A79,1),Reference!$A$2:$B$20,2,FALSE))) -> A SUPPRIMER
A78: Réception Test cyclique ligne | B78: =IF(A77<>"","",IF(OR(A78="",A79="",A80="",A81<>""),"PB NB LIGNES",VLOOKUP(LEFT(A78,1)&LEFT(A79,1)&LEFT(A80,1),Reference!$A$2:$B$20,2,FALSE)))
A79: Réception Test cyclique ligne | B79: =IF(A78<>"","",IF(OR(A79="",A80="",A81="",A82<>""),"PB NB LIGNES",VLOOKUP(LEFT(A79,1)&LEFT(A80,1)&LEFT(A81,1),Reference!$A$2:$B$20,2,FALSE)))
B80: =IF(A79<>"","",IF(OR(A80="",A81="",A82="",A83<>""),"PB NB LIGNES",VLOOKUP(LEFT(A80,1)&LEFT(A81,1)&LEFT(A82,1),Reference!$A$2:$B$20,2,FALSE)))
A81: Réception Test cyclique ligne | B81: =IF(A80<>"","",IF(OR(A81="",A82="",A83="",A84<>""),"PB NB LIGNES",VLOOKUP(LEFT(A81,1)&LEFT(A82,1)&LEFT(A83,1),Reference!$A$2:$B$20,2,FALSE))) -> A SUPPRIMER
A82: Réception Test cyclique ligne | B82: =IF(A81<>"","",IF(OR(A82="",A83="",A84="",A85<>""),"PB NB LIGNES",VLOOKUP(LEFT(A82,1)&LEFT(A83,1)&LEFT(A84,1),Reference!$A$2:$B$20,2,FALSE)))
A83: Réception Test cyclique ligne | B83: =IF(A82<>"","",IF(OR(A83="",A84="",A85="",A86<>""),"PB NB LIGNES",VLOOKUP(LEFT(A83,1)&LEFT(A84,1)&LEFT(A85,1),Reference!$A$2:$B$20,2,FALSE)))
B84: =IF(A83<>"","",IF(OR(A84="",A85="",A86="",A87<>""),"PB NB LIGNES",VLOOKUP(LEFT(A84,1)&LEFT(A85,1)&LEFT(A86,1),Reference!$A$2:$B$20,2,FALSE)))
A85: Réception Test cyclique ligne | B85: =IF(A84<>"","",IF(OR(A85="",A86="",A87="",A88<>""),"PB NB LIGNES",VLOOKUP(LEFT(A85,1)&LEFT(A86,1)&LEFT(A87,1),Reference!$A$2:$B$20,2,FALSE))) -> A SUPPRIMER
A86: Réception Test cyclique ligne | B86: =IF(A85<>"","",IF(OR(A86="",A87="",A88="",A89<>""),"PB NB LIGNES",VLOOKUP(LEFT(A86,1)&LEFT(A87,1)&LEFT(A88,1),Reference!$A$2:$B$20,2,FALSE)))
A87: Réception Test cyclique ligne | B87: =IF(A86<>"","",IF(OR(A87="",A88="",A89="",A90<>""),"PB NB LIGNES",VLOOKUP(LEFT(A87,1)&LEFT(A88,1)&LEFT(A89,1),Reference!$A$2:$B$20,2,FALSE)))
B88: =IF(A87<>"","",IF(OR(A88="",A89="",A90="",A91<>""),"PB NB LIGNES",VLOOKUP(LEFT(A88,1)&LEFT(A89,1)&LEFT(A90,1),Reference!$A$2:$B$20,2,FALSE)))
A89: Réception Test cyclique ligne | B89: =IF(A88<>"","",IF(OR(A89="",A90="",A91="",A92<>""),"PB NB LIGNES",VLOOKUP(LEFT(A89,1)&LEFT(A90,1)&LEFT(A91,1),Reference!$A$2:$B$20,2,FALSE))) -> A SUPPRIMER
A90: Réception Test cyclique ligne | B90: =IF(A89<>"","",IF(OR(A90="",A91="",A92="",A93<>""),"PB NB LIGNES",VLOOKUP(LEFT(A90,1)&LEFT(A91,1)&LEFT(A92,1),Reference!$A$2:$B$20,2,FALSE)))
A91: Réception Test cyclique ligne | B91: =IF(A90<>"","",IF(OR(A91="",A92="",A93="",A94<>""),"PB NB LIGNES",VLOOKUP(LEFT(A91,1)&LEFT(A92,1)&LEFT(A93,1),Reference!$A$2:$B$20,2,FALSE)))
B92: =IF(A91<>"","",IF(OR(A92="",A93="",A94="",A95<>""),"PB NB LIGNES",VLOOKUP(LEFT(A92,1)&LEFT(A93,1)&LEFT(A94,1),Reference!$A$2:$B$20,2,FALSE)))
A93: Réception Test cyclique ligne | B93: =IF(A92<>"","",IF(OR(A93="",A94="",A95="",A96<>""),"PB NB LIGNES",VLOOKUP(LEFT(A93,1)&LEFT(A94,1)&LEFT(A95,1),Reference!$A$2:$B$20,2,FALSE))) -> A SUPPRIMER
A94: Réception Test cyclique ligne | B94: =IF(A93<>"","",IF(OR(A94="",A95="",A96="",A97<>""),"PB NB LIGNES",VLOOKUP(LEFT(A94,1)&LEFT(A95,1)&LEFT(A96,1),Reference!$A$2:$B$20,2,FALSE)))
A95: Réception Test cyclique ligne | B95: =IF(A94<>"","",IF(OR(A95="",A96="",A97="",A98<>""),"PB NB LIGNES",VLOOKUP(LEFT(A95,1)&LEFT(A96,1)&LEFT(A97,1),Reference!$A$2:$B$20,2,FALSE)))
B96: =IF(A95<>"","",IF(OR(A96="",A97="",A98="",A99<>""),"PB NB LIGNES",VLOOKUP(LEFT(A96,1)&LEFT(A97,1)&LEFT(A98,1),Reference!$A$2:$B$20,2,FALSE)))
A97: Réception Test cyclique ligne | B97: =IF(A96<>"","",IF(OR(A97="",A98="",A99="",A100<>""),"PB NB LIGNES",VLOOKUP(LEFT(A97,1)&LEFT(A98,1)&LEFT(A99,1),Reference!$A$2:$B$20,2,FALSE))) -> A SUPPRIMER
A98: Réception Test cyclique ligne | B98: =IF(A97<>"","",IF(OR(A98="",A99="",A100="",A101<>""),"PB NB LIGNES",VLOOKUP(LEFT(A98,1)&LEFT(A99,1)&LEFT(A100,1),Reference!$A$2:$B$20,2,FALSE)))
A99: Réception Test cyclique ligne | B99: =IF(A98<>"","",IF(OR(A99="",A100="",A101="",A102<>""),"PB NB LIGNES",VLOOKUP(LEFT(A99,1)&LEFT(A100,1)&LEFT(A101,1),Reference!$A$2:$B$20,2,FALSE)))
B100: =IF(A99<>"","",IF(OR(A100="",A101="",A102="",A103<>""),"PB NB LIGNES",VLOOKUP(LEFT(A100,1)&LEFT(A101,1)&LEFT(A102,1),Reference!$A$2:$B$20,2,FALSE)))
...

Sheet Reference
A1: Code | B1: Resultat
A2: RRA | B2: A GARDER
A3: ARA | B3: A GARDER
A4: AAA | B4: A GARDER
A5: AAB | B5: A SUPPRIMER
A6: ARR | B6: A SUPPRIMER
A7: RAR | B7: A SUPPRIMER
A8: RRR | B8: A SUPPRIMER
A9: RAA | B9: A STATUER
A10: AAR | B10: A STATUER
A11: TTT | B11: A STATUER
