Workbook

Sheet Feuil1
B1: TEST
A2: Absence Test cyclique ligne | B2: =IF(A1<>"","",IF(OR(A2="",A3="",A4="",A5<>""),"PB NB LIGNES",VLOOKUP(LEFT(A2,1)&LEFT(A3,1)&LEFT(A4,1),Reference!$A$2:$B$20,2,FALSE))) -> A GARDER | E2: Exemple
A3: Réception Test cyclique ligne | B3: =IF(A2<>"","",IF(OR(A3="",A4="",A5="",A6<>""),"PB NB LIGNES",VLOOKUP(LEFT(A3,1)&LEFT(A4,1)&LEFT(A5,1),Reference!$A$2:$B$20,2,FALSE)))
A4: Absence Test cyclique ligne | B4: =IF(A3<>"","",IF(OR(A4="",A5="",A6="",A7<>""),"PB NB LIGNES",VLOOKUP(LEFT(A4,1)&LEFT(A5,1)&LEFT(A6,1),Reference!$A$2:$B$20,2,FALSE))) | E4: Réception Test cyclique ligne | F4: A GARDER
B5: =IF(A4<>"","",IF(OR(A5="",A6="",A7="",A8<>""),"PB NB LIGNES",VLOOKUP(LEFT(A5,1)&LEFT(A6,1)&LEFT(A7,1),Reference!$A$2:$B$20,2,FALSE))) | E5: Réception Test cyclique ligne
A6: Réception Test cyclique ligne | B6: =IF(A5<>"","",IF(OR(A6="",A7="",A8="",A9<>""),"PB NB LIGNES",VLOOKUP(LEFT(A6,1)&LEFT(A7,1)&LEFT(A8,1),Reference!$A$2:$B$20,2,FALSE))) -> A GARDER | E6: Absence Test cyclique ligne
A7: Réception Test cyclique ligne | B7: =IF(A6<>"","",IF(OR(A7="",A8="",A9="",A10<>""),"PB NB LIGNES",VLOOKUP(LEFT(A7,1)&LEFT(A8,1)&LEFT(A9,1),Reference!$A$2:$B$20,2,FALSE)))
A8: Absence Test cyclique ligne | B8: =IF(A7<>"","",IF(OR(A8="",A9="",A10="",A11<>""),"PB NB LIGNES",VLOOKUP(LEFT(A8,1)&LEFT(A9,1)&LEFT(A10,1),Reference!$A$2:$B$20,2,FALSE))) | E8: Absence Test cyclique ligne | F8: A GARDER
B9: =IF(A8<>"","",IF(OR(A9="",A10="",A11="",A12<>""),"PB NB LIGNES",VLOOKUP(LEFT(A9,1)&LEFT(A10,1)&LEFT(A11,1),Reference!$A$2:$B$20,2,FALSE))) | E9: Réception Test cyclique ligne
A10: Réception Test cyclique ligne | B10: =IF(A9<>"","",IF(OR(A10="",A11="",A12="",A13<>""),"PB NB LIGNES",VLOOKUP(LEFT(A10,1)&LEFT(A11,1)&LEFT(A12,1),Reference!$A$2:$B$20,2,FALSE))) -> A STATUER | E10: Absence Test cyclique ligne
A11: Absence Test cyclique ligne | B11: =IF(A10<>"","",IF(OR(A11="",A12="",A13="",A14<>""),"PB NB LIGNES",VLOOKUP(LEFT(A11,1)&LEFT(A12,1)&LEFT(A13,1),Reference!$A$2:$B$20,2,FALSE)))
A12: Absence Test cyclique ligne | B12: =IF(A11<>"","",IF(OR(A12="",A13="",A14="",A15<>""),"PB NB LIGNES",VLOOKUP(LEFT(A12,1)&LEFT(A13,1)&LEFT(A14,1),Reference!$A$2:$B$20,2,FALSE))) | E12: Absence Test cyclique ligne | F12: A GARDER
B13: =IF(A12<>"","",IF(OR(A13="",A14="",A15="",A16<>""),"PB NB LIGNES",VLOOKUP(LEFT(A13,1)&LEFT(A14,1)&LEFT(A15,1),Reference!$A$2:$B$20,2,FALSE))) | E13: Absence Test cyclique ligne
A14: Absence Test cyclique ligne | B14: =IF(A13<>"","",IF(OR(A14="",A15="",A16="",A17<>""),"PB NB LIGNES",VLOOKUP(LEFT(A14,1)&LEFT(A15,1)&LEFT(A16,1),Reference!$A$2:$B$20,2,FALSE))) -> A GARDER | E14: Absence Test cyclique ligne
A15: Absence Test cyclique ligne | B15: =IF(A14<>"","",IF(OR(A15="",A16="",A17="",A18<>""),"PB NB LIGNES",VLOOKUP(LEFT(A15,1)&LEFT(A16,1)&LEFT(A17,1),Reference!$A$2:$B$20,2,FALSE)))
A16: Absence Test cyclique ligne | B16: =IF(A15<>"","",IF(OR(A16="",A17="",A18="",A19<>""),"PB NB LIGNES",VLOOKUP(LEFT(A16,1)&LEFT(A17,1)&LEFT(A18,1),Reference!$A$2:$B$20,2,FALSE))) | E16: Absence Test cyclique ligne | F16: A SUPPRIMER
B17: =IF(A16<>"","",IF(OR(A17="",A18="",A19="",A20<>""),"PB NB LIGNES",VLOOKUP(LEFT(A17,1)&LEFT(A18,1)&LEFT(A19,1),Reference!$A$2:$B$20,2,FALSE))) | E17: Absence Test cyclique ligne
A18: Réception Test cyclique ligne | B18: =IF(A17<>"","",IF(OR(A18="",A19="",A20="",A21<>""),"PB NB LIGNES",VLOOKUP(LEFT(A18,1)&LEFT(A19,1)&LEFT(A20,1),Reference!$A$2:$B$20,2,FALSE))) -> A GARDER | E18: Réception Test cyclique ligne
A19: Réception Test cyclique ligne | B19: =IF(A18<>"","",IF(OR(A19="",A20="",A21="",A22<>""),"PB NB LIGNES",VLOOKUP(LEFT(A19,1)&LEFT(A20,1)&LEFT(A21,1),Reference!$A$2:$B$20,2,FALSE)))
A20: Absence Test cyclique ligne | B20: =IF(A19<>"","",IF(OR(A20="",A21="",A22="",A23<>""),"PB NB LIGNES",VLOOKUP(LEFT(A20,1)&LEFT(A21,1)&LEFT(A22,1),Reference!$A$2:$B$20,2,FALSE))) | E20: Absence Test cyclique ligne | F20: A SUPPRIMER
B21: =IF(A20<>"","",IF(OR(A21="",A22="",A23="",A24<>""),"PB NB LIGNES",VLOOKUP(LEFT(A21,1)&LEFT(A22,1)&LEFT(A23,1),Reference!$A$2:$B$20,2,FALSE))) | E21: Réception Test cyclique ligne
A22: Absence Test cyclique ligne | B22: =IF(A21<>"","",IF(OR(A22="",A23="",A24="",A25<>""),"PB NB LIGNES",VLOOKUP(LEFT(A22,1)&LEFT(A23,1)&LEFT(A24,1),Reference!$A$2:$B$20,2,FALSE))) -> A GARDER | E22: Réception Test cyclique ligne
A23: Réception Test cyclique ligne | B23: =IF(A22<>"","",IF(OR(A23="",A24="",A25="",A26<>""),"PB NB LIGNES",VLOOKUP(LEFT(A23,1)&LEFT(A24,1)&LEFT(A25,1),Reference!$A$2:$B$20,2,FALSE)))
A24: Absence Test cyclique ligne | B24: =IF(A23<>"","",IF(OR(A24="",A25="",A26="",A27<>""),"PB NB LIGNES",VLOOKUP(LEFT(A24,1)&LEFT(A25,1)&LEFT(A26,1),Reference!$A$2:$B$20,2,FALSE))) | E24: Réception Test cyclique ligne | F24: A SUPPRIMER
B25: =IF(A24<>"","",IF(OR(A25="",A26="",A27="",A28<>""),"PB NB LIGNES",VLOOKUP(LEFT(A25,1)&LEFT(A26,1)&LEFT(A27,1),Reference!$A$2:$B$20,2,FALSE))) | E25: Absence Test cyclique ligne
A26: Absence Test cyclique ligne | B26: =IF(A25<>"","",IF(OR(A26="",A27="",A28="",A29<>""),"PB NB LIGNES",VLOOKUP(LEFT(A26,1)&LEFT(A27,1)&LEFT(A28,1),Reference!$A$2:$B$20,2,FALSE))) -> A GARDER | E26: Réception Test cyclique ligne
A27: Absence Test cyclique ligne | B27: =IF(A26<>"","",IF(OR(A27="",A28="",A29="",A30<>""),"PB NB LIGNES",VLOOKUP(LEFT(A27,1)&LEFT(A28,1)&LEFT(A29,1),Reference!$A$2:$B$20,2,FALSE)))
A28: Absence Test cyclique ligne | B28: =IF(A27<>"","",IF(OR(A28="",A29="",A30="",A31<>""),"PB NB LIGNES",VLOOKUP(LEFT(A28,1)&LEFT(A29,1)&LEFT(A30,1),Reference!$A$2:$B$20,2,FALSE))) | E28: Réception Test cyclique ligne | F28: A SUPPRIMER
B29: =IF(A28<>"","",IF(OR(A29="",A30="",A31="",A32<>""),"PB NB LIGNES",VLOOKUP(LEFT(A29,1)&LEFT(A30,1)&LEFT(A31,1),Reference!$A$2:$B$20,2,FALSE))) | E29: Réception Test cyclique ligne
A30: Réception Test cyclique ligne | B30: =IF(A29<>"","",IF(OR(A30="",A31="",A32="",A33<>""),"PB NB LIGNES",VLOOKUP(LEFT(A30,1)&LEFT(A31,1)&LEFT(A32,1),Reference!$A$2:$B$20,2,FALSE))) -> A GARDER | E30: Réception Test cyclique ligne
A31: Réception Test cyclique ligne | B31: =IF(A30<>"","",IF(OR(A31="",A32="",A33="",A34<>""),"PB NB LIGNES",VLOOKUP(LEFT(A31,1)&LEFT(A32,1)&LEFT(A33,1),Reference!$A$2:$B$20,2,FALSE)))
A32: Absence Test cyclique ligne | B32: =IF(A31<>"","",IF(OR(A32="",A33="",A34="",A35<>""),"PB NB LIGNES",VLOOKUP(LEFT(A32,1)&LEFT(A33,1)&LEFT(A34,1),Reference!$A$2:$B$20,2,FALSE)))
B33: =IF(A32<>"","",IF(OR(A33="",A34="",A35="",A36<>""),"PB NB LIGNES",VLOOKUP(LEFT(A33,1)&LEFT(A34,1)&LEFT(A35,1),Reference!$A$2:$B$20,2,FALSE)))
A34: Absence Test cyclique ligne | B34: =IF(A33<>"","",IF(OR(A34="",A35="",A36="",A37<>""),"PB NB LIGNES",VLOOKUP(LEFT(A34,1)&LEFT(A35,1)&LEFT(A36,1),Reference!$A$2:$B$20,2,FALSE))) -> PB NB LIGNES
A35: Absence Test cyclique ligne | B35: =IF(A34<>"","",IF(OR(A35="",A36="",A37="",A38<>""),"PB NB LIGNES",VLOOKUP(LEFT(A35,1)&LEFT(A36,1)&LEFT(A37,1),Reference!$A$2:$B$20,2,FALSE)))
B36: =IF(A35<>"","",IF(OR(A36="",A37="",A38="",A39<>""),"PB NB LIGNES",VLOOKUP(LEFT(A36,1)&LEFT(A37,1)&LEFT(A38,1),Reference!$A$2:$B$20,2,FALSE)))
A37: Réception Test cyclique ligne | B37: =IF(A36<>"","",IF(OR(A37="",A38="",A39="",A40<>""),"PB NB LIGNES",VLOOKUP(LEFT(A37,1)&LEFT(A38,1)&LEFT(A39,1),Reference!$A$2:$B$20,2,FALSE))) -> A SUPPRIMER
A38: Réception Test cyclique ligne | B38: =IF(A37<>"","",IF(OR(A38="",A39="",A40="",A41<>""),"PB NB LIGNES",VLOOKUP(LEFT(A38,1)&LEFT(A39,1)&LEFT(A40,1),Reference!$A$2:$B$20,2,FALSE)))
A39: Réception Test cyclique ligne | B39: =IF(A38<>"","",IF(OR(A39="",A40="",A41="",A42<>""),"PB NB LIGNES",VLOOKUP(LEFT(A39,1)&LEFT(A40,1)&LEFT(A41,1),Reference!$A$2:$B$20,2,FALSE)))
B40: =IF(A39<>"","",IF(OR(A40="",A41="",A42="",A43<>""),"PB NB LIGNES",VLOOKUP(LEFT(A40,1)&LEFT(A41,1)&LEFT(A42,1),Reference!$A$2:$B$20,2,FALSE)))
...

Sheet Reference
A1: Code | B1: Resultat
A2: RRA | B2: A GARDER
A3: ARA | B3: A GARDER
A4: AAA | B4: A GARDER
A5: AAB | B5: A SUPPRIMER
A6: ARR | B6: A SUPPRIMER
A7: RAR | B7: A SUPPRIMER
A8: RRR | B8: A SUPPRIMER
A9: RAA | B9: A STATUER
A10: AAR | B10: A STATUER
A11: TTT | B11: A STATUER
