Workbook
Name Status: Summary!$C$111:$C$114

Sheet Summary
B2: WHEN | C2: WHO | D2: CATEGORY | E2: TOPIC | F2: TASK | G2: STATUS
B3: =Process!F3 -> 37 | C3: =Process!E3 -> Alain | D3: =Process!C3 -> Topic1 | E3: =Process!C3 -> Topic1 | F3: =Process!D3 -> task1-1 | G3: =Process!G3 -> to do
B4: =Process!F4 -> 37 | C4: =Process!E4 -> Marie | D4: =Process!C4 -> Topic1 | E4: =Process!C4 -> Topic1 | F4: =Process!D4 -> task1-2 | G4: =Process!G4 -> to do
B5: =Application!F3 -> 37 | C5: =Application!E3 -> Marie | D5: =Application!C3 -> Topic1 | E5: =Application!C3 -> Topic1 | F5: =Application!D3 -> task1-1 | G5: =Application!G3 -> on track
B6: =Application!F4 -> 37 | C6: =Application!E4 -> Aline | D6: =Application!C4 -> Topic1 | E6: =Application!C4 -> Topic1 | F6: =Application!D4 -> task1-2 | G6: =Application!G4 -> on track
B7: =Application!F5 -> 37 | C7: =Application!E5 -> Marie | D7: =Application!C5 -> Topic2 | E7: =Application!C5 -> Topic2 | F7: =Application!D5 -> task2-1 | G7: =Application!G5 -> to do
B8: =Application!F6 -> 37 | C8: =Application!E6 -> Betty | D8: =Application!C6 -> Topic2 | E8: =Application!C6 -> Topic2 | F8: =Application!D6 -> task2-2 | G8: =Application!G6 -> to do
B9: =Application!F8 -> 37 | C9: =Application!E8 -> Monique | D9: =Application!C8 -> Topic3 | E9: =Application!C8 -> Topic3 | F9: =Application!D8 -> task3-1 | G9: =Application!G8 -> done
B10: =Documentation!F3 -> 37 | C10: =Documentation!E3 -> Marie | D10: =Documentation!C3 -> Topic1 | E10: =Documentation!C3 -> Topic1 | F10: =Documentation!D3 -> task1-1 | G10: =Documentation!G3 -> on track
B11: =Documentation!F4 -> 37 | C11: =Documentation!E4 -> Aline | D11: =Documentation!C4 -> Topic1 | E11: =Documentation!C4 -> Topic1 | F11: =Documentation!D4 -> task1-2 | G11: =Documentation!G4 -> to do
B12: =Documentation!F9 -> 37 | C12: =Documentation!E9 -> Betty | D12: =Documentation!C9 -> Topic4 | E12: =Documentation!C9 -> Topic4 | F12: =Documentation!D9 -> task4-1 | G12: =Documentation!G9 -> to do
B13: =Communication!F8 -> 37 | C13: =Communication!E8 -> Betty | D13: =Communication!C8 -> Topic3 | E13: =Communication!C8 -> Topic3 | F13: =Communication!D8 -> task3-1 | G13: =Communication!G8 -> to do
B14: =Communication!F3 -> 37 | C14: =Communication!E3 -> Marie | D14: =Communication!C3 -> Topic1 | E14: =Communication!C3 -> Topic1 | F14: =Communication!D3 -> task1-1 | G14: =Communication!G3 -> to do
B15: =Communication!F4 -> 37 | C15: =Communication!E4 -> Marie | D15: =Communication!C4 -> Topic1 | E15: =Communication!C4 -> Topic1 | F15: =Communication!D4 -> task1-2 | G15: =Communication!G4 -> to do
B16: =Documentation!F5 -> 38 | C16: =Documentation!E5 -> Marie | D16: =Documentation!C5 -> Topic2 | E16: =Documentation!C5 -> Topic2 | F16: =Documentation!D5 -> task2-1 | G16: =Documentation!G5 -> to do
B17: =Application!F7 -> 38 | C17: =Application!E7 -> Monique | D17: =Application!C7 -> Topic2 | E17: =Application!C7 -> Topic2 | F17: =Application!D7 -> task2-3 | G17: =Application!G7 -> to do
B18: =Documentation!F6 -> 38 | C18: =Documentation!E6 -> Betty | D18: =Documentation!C6 -> Topic2 | E18: =Documentation!C6 -> Topic2 | F18: =Documentation!D6 -> task2-2 | G18: =Documentation!G6 -> to do
B19: =Documentation!F8 -> 38 | C19: =Documentation!E8 -> Monique | D19: =Documentation!C8 -> Topic3 | E19: =Documentation!C8 -> Topic3 | F19: =Documentation!D8 -> task3-1 | G19: =Documentation!G8 -> to do
B20: =Process!F5 -> 38 | C20: =Process!E5 -> Marie | D20: =Process!C5 -> Topic2 | E20: =Process!C5 -> Topic2 | F20: =Process!D5 -> task2-1 | G20: =Process!G5 -> to do
B21: =Process!F6 -> 38 | C21: =Process!E6 -> Betty | D21: =Process!C6 -> Topic2 | E21: =Process!C6 -> Topic2 | F21: =Process!D6 -> task2-2 | G21: =Process!G6 -> to do
B22: =Communication!F5 -> 38 | C22: =Communication!E5 -> Betty | D22: =Communication!C5 -> Topic2 | E22: =Communication!C5 -> Topic2 | F22: =Communication!D5 -> task2-1 | G22: =Communication!G5 -> to do
B23: =Documentation!F7 -> 39 | C23: =Documentation!E7 -> Monique | D23: =Documentation!C7 -> Topic2 | E23: =Documentation!C7 -> Topic2 | F23: =Documentation!D7 -> task2-3 | G23: =Documentation!G7 -> to do
B24: =Communication!F6 -> 39 | C24: =Communication!E6 -> Monique | D24: =Communication!C6 -> Topic2 | E24: =Communication!C6 -> Topic2 | F24: =Communication!D6 -> task2-2 | G24: =Communication!G6 -> to do
B25: =Communication!F7 -> 39 | C25: =Communication!E7 -> Monique | D25: =Communication!C7 -> Topic2 | E25: =Communication!C7 -> Topic2 | F25: =Communication!D7 -> task2-3 | G25: =Communication!G7 -> to do
C110: Status
C111: on track
C112: delayed
C113: done
C114: to do

Sheet Process
B2: CATEGORY | C2: TOPIC | D2: TASK | E2: WHO | F2: WHEN | G2: STATUS
B3: Process | C3: Topic1 | D3: task1-1 | E3: Alain | F3: 37 | G3: to do
B4: Process | C4: Topic1 | D4: task1-2 | E4: Marie | F4: 37 | G4: to do
B5: Process | C5: Topic2 | D5: task2-1 | E5: Marie | F5: 38 | G5: to do
B6: Process | C6: Topic2 | D6: task2-2 | E6: Betty | F6: 38 | G6: to do

Sheet Application
B2: CATEGORY | C2: TOPIC | D2: TASK | E2: WHO | F2: WHEN | G2: STATUS
B3: Application | C3: Topic1 | D3: task1-1 | E3: Marie | F3: 37 | G3: on track
B4: Application | C4: Topic1 | D4: task1-2 | E4: Aline | F4: 37 | G4: on track
B5: Application | C5: Topic2 | D5: task2-1 | E5: Marie | F5: 37 | G5: to do
B6: Application | C6: Topic2 | D6: task2-2 | E6: Betty | F6: 37 | G6: to do
B7: Application | C7: Topic2 | D7: task2-3 | E7: Monique | F7: 38 | G7: to do
B8: Application | C8: Topic3 | D8: task3-1 | E8: Monique | F8: 37 | G8: done

Sheet Documentation
B2: CATEGORY | C2: TOPIC | D2: TASK | E2: WHO | F2: WHEN | G2: STATUS
B3: Documentation | C3: Topic1 | D3: task1-1 | E3: Marie | F3: 37 | G3: on track
B4: Documentation | C4: Topic1 | D4: task1-2 | E4: Aline | F4: 37 | G4: to do
B5: Documentation | C5: Topic2 | D5: task2-1 | E5: Marie | F5: 38 | G5: to do
B6: Documentation | C6: Topic2 | D6: task2-2 | E6: Betty | F6: 38 | G6: to do
B7: Documentation | C7: Topic2 | D7: task2-3 | E7: Monique | F7: 39 | G7: to do
B8: Documentation | C8: Topic3 | D8: task3-1 | E8: Monique | F8: 38 | G8: to do
B9: Documentation | C9: Topic4 | D9: task4-1 | E9: Betty | F9: 37 | G9: to do

Sheet Communication
B2: CATEGORY | C2: TOPIC | D2: TASK | E2: WHO | F2: WHEN | G2: STATUS
B3: Communication | C3: Topic1 | D3: task1-1 | E3: Marie | F3: 37 | G3: to do
B4: Communication | C4: Topic1 | D4: task1-2 | E4: Marie | F4: 37 | G4: to do
B5: Communication | C5: Topic2 | D5: task2-1 | E5: Betty | F5: 38 | G5: to do
B6: Communication | C6: Topic2 | D6: task2-2 | E6: Monique | F6: 39 | G6: to do
B7: Communication | C7: Topic2 | D7: task2-3 | E7: Monique | F7: 39 | G7: to do
B8: Communication | C8: Topic3 | D8: task3-1 | E8: Betty | F8: 37 | G8: to do
