Workbook

Sheet Instituts
A1: Id institut | B1: Institut | C1: Adresse | D1: CP | E1: Ville | F1: Tél | G1: Nb_Clients
A2: 1 | B2: Palais des Arts | C2: Place de Bretagne | D2: 56000 | E2: Vannes | G2: =COUNTIF(Clients!B:B,Instituts!A2) -> 2
A3: 2 | B3: Mbaq | C3: 40 Place Saint-Corentin | D3: 29000 | E3: Quimper | G3: =COUNTIF(Clients!B:B,Instituts!A3) -> 1
A4: S01 | B4: ABC1 | C4: 7 RUE DU JEUDI | D4: 61000 | E4: ALENCON | G4: =COUNTIF(Clients!B:B,Instituts!A4) -> 1
A5: S02 | B5: ABC2 | C5: 158 RUE P.V. COUTURIER | D5: 94140 | E5: ALFORTVILLE | G5: =COUNTIF(Clients!B:B,Instituts!A5) -> 1
A6: S03 | B6: ABC3 | C6: C. CIAL INTERMARCHE 65, IMPASSE DES CHAMPS | D6: 74800 | E6: AMANCY | G6: =COUNTIF(Clients!B:B,Instituts!A6) -> 1
A7: S04 | B7: ABC4 | C7: Centre Commercial ESPACE ANJOU 75 Avenue MONTAIGNE | D7: 49000 | E7: ANGERS | G7: =COUNTIF(Clients!B:B,Instituts!A7) -> 1
A8: S05 | B8: ABC5 | C8: 21 RUE BRESSIGNY | D8: 49100 | E8: ANGERS | G8: =COUNTIF(Clients!B:B,Instituts!A8) -> 1
A9: S06 | B9: ABC6 | C9: 3, AVENUE DE BAYONNE | D9: 64600 | E9: ANGLET | G9: =COUNTIF(Clients!B:B,Instituts!A9) -> 1
A10: S07 | B10: ABC7 | C10: RUE DE LA MADELEINE C/C LECLERC | D10: 16000 | E10: ANGOULEME | G10: =COUNTIF(Clients!B:B,Instituts!A10) -> 1
A11: S08 | B11: ABC8 | C11: 51 RUE RENE GOSCINNY | D11: 16000 | E11: ANGOULEME | G11: =COUNTIF(Clients!B:B,Instituts!A11) -> 1
A12: S09 | B12: ABC9 | C12: C/CCIAL INTERMARCHE RUE DES IBIS | D12: 66700 | E12: ARGELES SUR MER | G12: =COUNTIF(Clients!B:B,Instituts!A12) -> 1
A13: S10 | B13: ABC10 | C13: 9 RUE GUINCHARD | D13: 91290 | E13: ARPAJON | G13: =COUNTIF(Clients!B:B,Instituts!A13) -> 1
A14: S11 | B14: ABC11 | C14: CENTRE COMMERCIAL AUCHAN 6 RUE CLAUDE BERNARD | D14: 62000 | E14: ARRAS | G14: =COUNTIF(Clients!B:B,Instituts!A14) -> 1
A15: S12 | B15: ABC12 | C15: 13 RUE DE BONDY | D15: 93600 | E15: AULNAY SOUS BOIS | G15: =COUNTIF(Clients!B:B,Instituts!A15) -> 1
... A234: S231 | B234: ABC231 | C234: CENTRE COMMERCIAL LECLERC 25 ROUTE DEPARTEMENTALE | D234: 67310 | E234: WASSELONNE | G234: =COUNTIF(Clients!B:B,Instituts!A234) -> 1

Sheet Clients
A1: Id | B1: Id_Institut | C1: Nom | D1: Prénom | E1: Adresse | F1: CP | G1: Ville | H1: Tél | I1: xml | J1: Distance (km)
A2: 1 | B2: 1 | C2: Suscinio | E2: 1 Rue de Kerglomirec | F2: 56370 | G2: Sarzeau | I2: =_xlfn.WEBSERVICE("https://maps.googleapis.com/maps/api/distancematrix/xml?origins="&VLOOKUP($B2,Instituts!A:F,3,FALSE)&", "&VLOOKUP($B2,Instituts!A:F,4,FALSE)&" "&VLOOKUP($B2,Instituts!A:F,5,FALSE)&"&destinations="&E2&", " &F2&" "&G2&"&mode=driving") -> <?xml version="1.0" encoding="UTF-8"?> <DistanceMatrixResponse> <status>OK</status> <origin_address>Place de Bretagne, 56000 Vannes, France</origin_address> <destination_address>Rue de Kerglomirec, 56370 Sarzeau, France</destination_address> <row> <element> <status>OK</status> <duration> <value>1546</value> <text>26 mins</text> </duration> <distance> <value>25436</value> <text>25.4 km</text> </distance> </element> </row> </DistanceMatrixResponse> | J2: =ROUND(_xlfn.FILTERXML(I2,"/DistanceMatrixResponse/row/element/distance/value")/1000,1) -> 25.4
A3: 2 | B3: 1 | C3: StCo | E3: 3 Avenue de la Grève | F3: 56340 | G3: Carnac | I3: =_xlfn.WEBSERVICE("https://maps.googleapis.com/maps/api/distancematrix/xml?origins="&VLOOKUP($B3,Instituts!A:F,3,FALSE)&", "&VLOOKUP($B3,Instituts!A:F,4,FALSE)&" "&VLOOKUP($B3,Instituts!A:F,5,FALSE)&"&destinations="&E3&", " &F3&" "&G3&"&mode=driving") -> <?xml version="1.0" encoding="UTF-8"?> <DistanceMatrixResponse> <status>OK</status> <origin_address>Place de Bretagne, 56000 Vannes, France</origin_address> <destination_address>3 Avenue de la Grève, 56340 Carnac, France</destination_address> <row> <element> <status>OK</status> <duration> <value>2034</value> <text>34 mins</text> </duration> <distance> <value>34708</value> <text>34.7 km</text> </distance> </element> </row> </DistanceMatrixResponse> | J3: =ROUND(_xlfn.FILTERXML(I3,"/DistanceMatrixResponse/row/element/distance/value")/1000,1) -> 34.7
A4: 3 | B4: 2 | C4: LaPoste | E4: 1 rue Ar Ster | F4: 29100 | G4: Pouldergat | I4: =_xlfn.WEBSERVICE("https://maps.googleapis.com/maps/api/distancematrix/xml?origins="&VLOOKUP($B4,Instituts!A:F,3,FALSE)&", "&VLOOKUP($B4,Instituts!A:F,4,FALSE)&" "&VLOOKUP($B4,Instituts!A:F,5,FALSE)&"&destinations="&E4&", " &F4&" "&G4&"&mode=driving") -> <?xml version="1.0" encoding="UTF-8"?> <DistanceMatrixResponse> <status>OK</status> <origin_address>40 Place Saint-Corentin, 29000 Quimper, France</origin_address> <destination_address>1 Rue ar Ster, 29100 Pouldergat, France</destination_address> <row> <element> <status>OK</status> <duration> <value>1463</value> <text>24 mins</text> </duration> <distance> <value>20885</value> <text>20.9 km</text> </distance> </element> </row> </DistanceMatrixResponse> | J4: =ROUND(_xlfn.FILTERXML(I4,"/DistanceMatrixResponse/row/element/distance/value")/1000,1) -> 20.9
A5: FR01 | B5: S01 | C5: Art Studio | E5: 4 avenue Jean Giono | F5: 4100 | G5: Manosque | I5: =_xlfn.WEBSERVICE("https://maps.googleapis.com/maps/api/distancematrix/xml?origins="&VLOOKUP($B5,Instituts!A:F,3,FALSE)&", "&VLOOKUP($B5,Instituts!A:F,4,FALSE)&" "&VLOOKUP($B5,Instituts!A:F,5,FALSE)&"&destinations="&E5&", " &F5&" "&G5&"&mode=driving") -> <?xml version="1.0" encoding="UTF-8"?> <DistanceMatrixResponse> <status>OK</status> <origin_address>7 Rue du Jeudi, 61000 Alençon, France</origin_address> <destination_address>4 Avenue Jean Giono, 04100 Manosque, France</destination_address> <row> <element> <status>OK</status> <duration> <value>32031</value> <text>8 hours 54 mins</text> </duration> <distance> <value>963779</value> <text>964 km</text> </distance> </element> </row> </DistanceMatrixResponse> | J5: =ROUND(_xlfn.FILTERXML(I5,"/DistanceMatrixResponse/row/element/distance/value")/1000,1) -> 963.8
A6: FR02 | B6: S02 | C6: Art et Trust | E6: 59 rue Carnot | F6: 05000 | G6: Gap | I6: =_xlfn.WEBSERVICE("https://maps.googleapis.com/maps/api/distancematrix/xml?origins="&VLOOKUP($B6,Instituts!A:F,3,FALSE)&", "&VLOOKUP($B6,Instituts!A:F,4,FALSE)&" "&VLOOKUP($B6,Instituts!A:F,5,FALSE)&"&destinations="&E6&", " &F6&" "&G6&"&mode=driving") -> <?xml version="1.0" encoding="UTF-8"?> <DistanceMatrixResponse> <status>OK</status> <origin_address>158 Rue Paul Vaillant Couturier, 94140 Alfortville, France</origin_address> <destination_address>59 Rue Carnot, 05000 Gap, France</destination_address> <row> <element> <status>OK</status> <duration> <value>24910</value> <text>6 hours 55 mins</text> </duration> <distance> <value>693488</value> <text>693 km</text> </distance> </element> </row> </DistanceMatrixResponse> | J6: =ROUND(_xlfn.FILTERXML(I6,"/DistanceMatrixResponse/row/element/distance/value")/1000,1) -> 693.5
A7: FR03 | B7: S03 | C7: Chevallier | E7: 12 rue de la Trinité | F7: 10000 | G7: Troyes | I7: =_xlfn.WEBSERVICE("https://maps.googleapis.com/maps/api/distancematrix/xml?origins="&VLOOKUP($B7,Instituts!A:F,3,FALSE)&", "&VLOOKUP($B7,Instituts!A:F,4,FALSE)&" "&VLOOKUP($B7,Instituts!A:F,5,FALSE)&"&destinations="&E7&", " &F7&" "&G7&"&mode=driving") -> <?xml version="1.0" encoding="UTF-8"?> <DistanceMatrixResponse> <status>OK</status> <origin_address>65 Impasse des Champs, 74800 Amancy, France</origin_address> <destination_address>12 Rue de la Trinité, 10000 Troyes, France</destination_address> <row> <element> <status>OK</status> <duration> <value>15009</value> <text>4 hours 10 mins</text> </duration> <distance> <value>453464</value> <text>453 km</text> </distance> </element> </row> </DistanceMatrixResponse> | J7: =ROUND(_xlfn.FILTERXML(I7,"/DistanceMatrixResponse/row/element/distance/value")/1000,1) -> 453.5
A8: FR04 | B8: S04 | C8: See Boyer | E8: 25 rue Jacquemart | F8: 26100 | G8: Romans | I8: =_xlfn.WEBSERVICE("https://maps.googleapis.com/maps/api/distancematrix/xml?origins="&VLOOKUP($B8,Instituts!A:F,3,FALSE)&", "&VLOOKUP($B8,Instituts!A:F,4,FALSE)&" "&VLOOKUP($B8,Instituts!A:F,5,FALSE)&"&destinations="&E8&", " &F8&" "&G8&"&mode=driving") -> <?xml version="1.0" encoding="UTF-8"?> <DistanceMatrixResponse> <status>OK</status> <origin_address>75 Avenue Montaigne, 49000 Angers, France</origin_address> <destination_address>25 Rue Jacquemart, 26100 Romans-sur-Isère, France</destination_address> <row> <element> <status>OK</status> <duration> <value>22714</value> <text>6 hours 19 mins</text> </duration> <distance> <value>695373</value> <text>695 km</text> </distance> </element> </row> </DistanceMatrixResponse> | J8: =ROUND(_xlfn.FILTERXML(I8,"/DistanceMatrixResponse/row/element/distance/value")/1000,1) -> 695.4
A9: FR05 | B9: S05 | C9: Studio Martino | E9: 26-28 place des Halles | F9: 28000 | G9: Chartres | I9: =_xlfn.WEBSERVICE("https://maps.googleapis.com/maps/api/distancematrix/xml?origins="&VLOOKUP($B9,Instituts!A:F,3,FALSE)&", "&VLOOKUP($B9,Instituts!A:F,4,FALSE)&" "&VLOOKUP($B9,Instituts!A:F,5,FALSE)&"&destinations="&E9&", " &F9&" "&G9&"&mode=driving") -> <?xml version="1.0" encoding="UTF-8"?> <DistanceMatrixResponse> <status>OK</status> <origin_address>21 Rue Bressigny, 49100 Angers, France</origin_address> <destination_address>26 Place des Halles, 28000 Chartres, France</destination_address> <row> <element> <status>OK</status> <duration> <value>7538</value> <text>2 hours 6 mins</text> </duration> <distance> <value>216227</value> <text>216 km</text> </distance> </element> </row> </DistanceMatrixResponse> | J9: =ROUND(_xlfn.FILTERXML(I9,"/DistanceMatrixResponse/row/element/distance/value")/1000,1) -> 216.2
A10: FR06 | B10: S06 | C10: Thymerais | E10: 53 rue Jean Moulin | F10: 28170 | G10: Chateauneuf-en-Thymerais | I10: =_xlfn.WEBSERVICE("https://maps.googleapis.com/maps/api/distancematrix/xml?origins="&VLOOKUP($B10,Instituts!A:F,3,FALSE)&", "&VLOOKUP($B10,Instituts!A:F,4,FALSE)&" "&VLOOKUP($B10,Instituts!A:F,5,FALSE)&"&destinations="&E10&", " &F10&" "&G10&"&mode=driving") -> <?xml version="1.0" encoding="UTF-8"?> <DistanceMatrixResponse> <status>OK</status> <origin_address>3 Avenue de Bayonne, 64600 Anglet, France</origin_address> <destination_address>53 Rue Jean Moulin, 28170 Châteauneuf-en-Thymerais, France</destination_address> <row> <element> <status>OK</status> <duration> <value>24597</value> <text>6 hours 50 mins</text> </duration> <distance> <value>739452</value> <text>739 km</text> </distance> </element> </row> </DistanceMatrixResponse> | J10: =ROUND(_xlfn.FILTERXML(I10,"/DistanceMatrixResponse/row/element/distance/value")/1000,1) -> 739.5
A11: FR07 | B11: S07 | C11: Studio André | E11: 22 place des Otages | F11: 29600 | G11: Morlaix | I11: =_xlfn.WEBSERVICE("https://maps.googleapis.com/maps/api/distancematrix/xml?origins="&VLOOKUP($B11,Instituts!A:F,3,FALSE)&", "&VLOOKUP($B11,Instituts!A:F,4,FALSE)&" "&VLOOKUP($B11,Instituts!A:F,5,FALSE)&"&destinations="&E11&", " &F11&" "&G11&"&mode=driving") -> <?xml version="1.0" encoding="UTF-8"?> <DistanceMatrixResponse> <status>OK</status> <origin_address>3 Rue de la Madeleine, C. Cial Leclerc, 16000 Angoulême, France</origin_address> <destination_address>22 Place des Otages, 29600 Morlaix, France</destination_address> <row> <element> <status>OK</status> <duration> <value>20668</value> <text>5 hours 44 mins</text> </duration> <distance> <value>566908</value> <text>567 km</text> </distance> </element> </row> </DistanceMatrixResponse> | J11: =ROUND(_xlfn.FILTERXML(I11,"/DistanceMatrixResponse/row/element/distance/value")/1000,1) -> 566.9
A12: FR08 | B12: S08 | C12: Clic Clac | E12: 43 Boulevard Gambetta | F12: 30700 | G12: Uzes | I12: =_xlfn.WEBSERVICE("https://maps.googleapis.com/maps/api/distancematrix/xml?origins="&VLOOKUP($B12,Instituts!A:F,3,FALSE)&", "&VLOOKUP($B12,Instituts!A:F,4,FALSE)&" "&VLOOKUP($B12,Instituts!A:F,5,FALSE)&"&destinations="&E12&", " &F12&" "&G12&"&mode=driving") -> <?xml version="1.0" encoding="UTF-8"?> <DistanceMatrixResponse> <status>OK</status> <origin_address>51 Rue René Goscinny, 16000 Angoulême, France</origin_address> <destination_address>43 Boulevard Gambetta, 30700 Uzès, France</destination_address> <row> <element> <status>OK</status> <duration> <value>22922</value> <text>6 hours 22 mins</text> </duration> <distance> <value>671763</value> <text>672 km</text> </distance> </element> </row> </DistanceMatrixResponse> | J12: =ROUND(_xlfn.FILTERXML(I12,"/DistanceMatrixResponse/row/element/distance/value")/1000,1) -> 671.8
A13: FR09 | B13: S09 | C13: Edmond -Graf | E13: Ctre Cial Leclerc Moleon | F13: 33210 | G13: Langon | I13: =_xlfn.WEBSERVICE("https://maps.googleapis.com/maps/api/distancematrix/xml?origins="&VLOOKUP($B13,Instituts!A:F,3,FALSE)&", "&VLOOKUP($B13,Instituts!A:F,4,FALSE)&" "&VLOOKUP($B13,Instituts!A:F,5,FALSE)&"&destinations="&E13&", " &F13&" "&G13&"&mode=driving") -> <?xml version="1.0" encoding="UTF-8"?> <DistanceMatrixResponse> <status>OK</status> <origin_address>Route de Perpignan, 66700 Argeles-sur-mer, France</origin_address> <destination_address>Moléon, 33210 Langon, France</destination_address> <row> <element> <status>OK</status> <duration> <value>13882</value> <text>3 hours 51 mins</text> </duration> <distance> <value>429817</value> <text>430 km</text> </distance> </element> </row> </DistanceMatrixResponse> | J13: =ROUND(_xlfn.FILTERXML(I13,"/DistanceMatrixResponse/row/element/distance/value")/1000,1) -> 429.8
A14: FR10 | B14: S10 | C14: Studio Roger | E14: 272 boulevard de la Plage | F14: 33120 | G14: Arcachon | I14: =_xlfn.WEBSERVICE("https://maps.googleapis.com/maps/api/distancematrix/xml?origins="&VLOOKUP($B14,Instituts!A:F,3,FALSE)&", "&VLOOKUP($B14,Instituts!A:F,4,FALSE)&" "&VLOOKUP($B14,Instituts!A:F,5,FALSE)&"&destinations="&E14&", " &F14&" "&G14&"&mode=driving") -> <?xml version="1.0" encoding="UTF-8"?> <DistanceMatrixResponse> <status>OK</status> <origin_address>9 Rue Guinchard, 91290 Arpajon, France</origin_address> <destination_address>272 Boulevard de la Plage, 33120 Arcachon, France</destination_address> <row> <element> <status>OK</status> <duration> <value>20963</value> <text>5 hours 49 mins</text> </duration> <distance> <value>629280</value> <text>629 km</text> </distance> </element> </row> </DistanceMatrixResponse> | J14: =ROUND(_xlfn.FILTERXML(I14,"/DistanceMatrixResponse/row/element/distance/value")/1000,1) -> 629.3
A15: FR11 | B15: S11 | C15: Patrick Forest | E15: 27 rue de la République | F15: 42000 | G15: Saint-Etienne | I15: =_xlfn.WEBSERVICE("https://maps.googleapis.com/maps/api/distancematrix/xml?origins="&VLOOKUP($B15,Instituts!A:F,3,FALSE)&", "&VLOOKUP($B15,Instituts!A:F,4,FALSE)&" "&VLOOKUP($B15,Instituts!A:F,5,FALSE)&"&destinations="&E15&", " &F15&" "&G15&"&mode=driving") -> <?xml version="1.0" encoding="UTF-8"?> <DistanceMatrixResponse> <status>OK</status> <origin_address>6 Rue Claude Bernard, Ccial Auchan, 62000 Arras, France</origin_address> <destination_address>27 Rue de la République, 42000 Saint-Étienne, France</destination_address> <row> <element> <status>OK</status> <duration> <value>24326</value> <text>6 hours 45 mins</text> </duration> <distance> <value>739203</value> <text>739 km</text> </distance> </element> </row> </DistanceMatrixResponse> | J15: =ROUND(_xlfn.FILTERXML(I15,"/DistanceMatrixResponse/row/element/distance/value")/1000,1) -> 739.2
A16: FR12 | B16: S12 | C16: Studio JB - Maison Aumeunie | E16: 21 rue Maurice André | F16: 42330 | G16: Saint-Galmier | I16: =_xlfn.WEBSERVICE("https://maps.googleapis.com/maps/api/distancematrix/xml?origins="&VLOOKUP($B16,Instituts!A:F,3,FALSE)&", "&VLOOKUP($B16,Instituts!A:F,4,FALSE)&" "&VLOOKUP($B16,Instituts!A:F,5,FALSE)&"&destinations="&E16&", " &F16&" "&G16&"&mode=driving") -> <?xml version="1.0" encoding="UTF-8"?> <DistanceMatrixResponse> <status>OK</status> <origin_address>13 Route de Bondy, 93600 Aulnay-sous-Bois, France</origin_address> <destination_address>21 Rue Maurice André, 42330 Saint-Galmier, France</destination_address> <row> <element> <status>OK</status> <duration> <value>18453</value> <text>5 hours 8 mins</text> </duration> <distance> <value>547046</value> <text>547 km</text> </distance> </element> </row> </DistanceMatrixResponse> | J16: =ROUND(_xlfn.FILTERXML(I16,"/DistanceMatrixResponse/row/element/distance/value")/1000,1) -> 547
A17: FR13 | B17: S13 | C17: Studio Arria | E17: 10 rue Raymond Mondon | F17: 54150 | G17: Briey | I17: =_xlfn.WEBSERVICE("https://maps.googleapis.com/maps/api/distancematrix/xml?origins="&VLOOKUP($B17,Instituts!A:F,3,FALSE)&", "&VLOOKUP($B17,Instituts!A:F,4,FALSE)&" "&VLOOKUP($B17,Instituts!A:F,5,FALSE)&"&destinations="&E17&", " &F17&" "&G17&"&mode=driving") -> <?xml version="1.0" encoding="UTF-8"?> <DistanceMatrixResponse> <status>OK</status> <origin_address>Avenue de la Rotonde, 17440 Aytré, France</origin_address> <destination_address>10 Rue Raymond Mondon, 54150 Briey, France</destination_address> <row> <element> <status>OK</status> <duration> <value>25046</value> <text>6 hours 57 mins</text> </duration> <distance> <value>790647</value> <text>791 km</text> </distance> </element> </row> </DistanceMatrixResponse> | J17: =ROUND(_xlfn.FILTERXML(I17,"/DistanceMatrixResponse/row/element/distance/value")/1000,1) -> 790.6
... A70: FR66 | B70: S66 | C70: Jeremy Sezille | E70: 2A Rue de la Mairie | F70: 25360 | G70: Aïssey | I70: =_xlfn.WEBSERVICE("https://maps.googleapis.com/maps/api/distancematrix/xml?origins="&VLOOKUP($B70,Instituts!A:F,3,FALSE)&", "&VLOOKUP($B70,Instituts!A:F,4,FALSE)&" "&VLOOKUP($B70,Instituts!A:F,5,FALSE)&"&destinations="&E70&", " &F70&" "&G70&"&mode=driving") -> <?xml version="1.0" encoding="UTF-8"?> <DistanceMatrixResponse> <status>OK</status> <origin_address>2-20 Allée de l'Est, 93190 Livry-Gargan, France</origin_address> <destination_address>2a Rue de la Mairie, 25360 Aïssey, France</destination_address> <row> <element> <status>OK</status> <duration> <value>15337</value> <text>4 hours 16 mins</text> </duration> <distance> <value>462739</value> <text>463 km</text> </distance> </element> </row> </DistanceMatrixResponse> | J70: =ROUND(_xlfn.FILTERXML(I70,"/DistanceMatrixResponse/row/element/distance/value")/1000,1) -> 462.7
A71: FR67 | B71: S67 | C71: FRANCESCO PROCOPIO | F71: 68000 | G71: Colmar | I71: =_xlfn.WEBSERVICE("https://maps.googleapis.com/maps/api/distancematrix/xml?origins="&VLOOKUP($B71,Instituts!A:F,3,FALSE)&", "&VLOOKUP($B71,Instituts!A:F,4,FALSE)&" "&VLOOKUP($B71,Instituts!A:F,5,FALSE)&"&destinations="&E71&", " &F71&" "&G71&"&mode=driving") -> <?xml version="1.0" encoding="UTF-8"?> <DistanceMatrixResponse> <status>OK</status> <origin_address>69 Rue du Président François Mitterrand, 91160 Longjumeau, France</origin_address> <destination_address>68000 Colmar, France</destination_address> <row> <element> <status>OK</status> <duration> <value>17985</value> <text>5 hours 0 mins</text> </duration> <distance> <value>559190</value> <text>559 km</text> </distance> </element> </row> </DistanceMatrixResponse> | J71: =ROUND(_xlfn.FILTERXML(I71,"/DistanceMatrixResponse/row/element/distance/value")/1000,1) -> 559.2
A72: FR68 | B72: S68 | C72: C DANS LA BOITE | E72: 9 Place de l'Église | F72: 63570 | G72: Auzat-la-Combelle | I72: =_xlfn.WEBSERVICE("https://maps.googleapis.com/maps/api/distancematrix/xml?origins="&VLOOKUP($B72,Instituts!A:F,3,FALSE)&", "&VLOOKUP($B72,Instituts!A:F,4,FALSE)&" "&VLOOKUP($B72,Instituts!A:F,5,FALSE)&"&destinations="&E72&", " &F72&" "&G72&"&mode=driving") -> <?xml version="1.0" encoding="UTF-8"?> <DistanceMatrixResponse> <status>OK</status> <origin_address>25 Rue du Commerce, 39000 Lons-le-Saunier, France</origin_address> <destination_address>9 Place de l'Église, 63570 Auzat-la-Combelle, France</destination_address> <row> <element> <status>OK</status> <duration> <value>12509</value> <text>3 hours 28 mins</text> </duration> <distance> <value>351572</value> <text>352 km</text> </distance> </element> </row> </DistanceMatrixResponse> | J72: =ROUND(_xlfn.FILTERXML(I72,"/DistanceMatrixResponse/row/element/distance/value")/1000,1) -> 351.6
A73: FR69 | B73: S69 | C73: Froggy's | E73: Le Tensonnieu | F73: 48500 | G73: Le Recoux | I73: =_xlfn.WEBSERVICE("https://maps.googleapis.com/maps/api/distancematrix/xml?origins="&VLOOKUP($B73,Instituts!A:F,3,FALSE)&", "&VLOOKUP($B73,Instituts!A:F,4,FALSE)&" "&VLOOKUP($B73,Instituts!A:F,5,FALSE)&"&destinations="&E73&", " &F73&" "&G73&"&mode=driving") -> <?xml version="1.0" encoding="UTF-8"?> <DistanceMatrixResponse> <status>OK</status> <origin_address>50 Rue de Liège, 56100 Lorient, France</origin_address> <destination_address>Le Tensonnieu, 48500 Le Recoux, France</destination_address> <row> <element> <status>OK</status> <duration> <value>28905</value> <text>8 hours 2 mins</text> </duration> <distance> <value>885406</value> <text>885 km</text> </distance> </element> </row> </DistanceMatrixResponse> | J73: =ROUND(_xlfn.FILTERXML(I73,"/DistanceMatrixResponse/row/element/distance/value")/1000,1) -> 885.4
A74: FR70 | B74: S70 | C74: Alexia Bonhomme | F74: 23000 | G74: Guéret | I74: =_xlfn.WEBSERVICE("https://maps.googleapis.com/maps/api/distancematrix/xml?origins="&VLOOKUP($B74,Instituts!A:F,3,FALSE)&", "&VLOOKUP($B74,Instituts!A:F,4,FALSE)&" "&VLOOKUP($B74,Instituts!A:F,5,FALSE)&"&destinations="&E74&", " &F74&" "&G74&"&mode=driving") -> <?xml version="1.0" encoding="UTF-8"?> <DistanceMatrixResponse> <status>OK</status> <origin_address>43 Rue du Général de Gaulle, 27400 Louviers, France</origin_address> <destination_address>23000 Guéret, France</destination_address> <row> <element> <status>OK</status> <duration> <value>16020</value> <text>4 hours 27 mins</text> </duration> <distance> <value>441005</value> <text>441 km</text> </distance> </element> </row> </DistanceMatrixResponse> | J74: =ROUND(_xlfn.FILTERXML(I74,"/DistanceMatrixResponse/row/element/distance/value")/1000,1) -> 441
A75: FR71 | B75: S71 | C75: Capture de Vie | E75: 4 rue du fourneau | F75: 53600 | G75: Évron | I75: =_xlfn.WEBSERVICE("https://maps.googleapis.com/maps/api/distancematrix/xml?origins="&VLOOKUP($B75,Instituts!A:F,3,FALSE)&", "&VLOOKUP($B75,Instituts!A:F,4,FALSE)&" "&VLOOKUP($B75,Instituts!A:F,5,FALSE)&"&destinations="&E75&", " &F75&" "&G75&"&mode=driving") -> <?xml version="1.0" encoding="UTF-8"?> <DistanceMatrixResponse> <status>OK</status> <origin_address>17 Place de France, 91300 Massy, France</origin_address> <destination_address>4 Rue du Fourneau, 53600 Évron, France</destination_address> <row> <element> <status>OK</status> <duration> <value>8240</value> <text>2 hours 17 mins</text> </duration> <distance> <value>252118</value> <text>252 km</text> </distance> </element> </row> </DistanceMatrixResponse> | J75: =ROUND(_xlfn.FILTERXML(I75,"/DistanceMatrixResponse/row/element/distance/value")/1000,1) -> 252.1
A76: FR72 | B76: S72 | C76: Antoine Harrewyn | E76: 52 Avenue Victor Cresson | F76: 92130 | G76: Issy-les-Moulineaux | I76: =_xlfn.WEBSERVICE("https://maps.googleapis.com/maps/api/distancematrix/xml?origins="&VLOOKUP($B76,Instituts!A:F,3,FALSE)&", "&VLOOKUP($B76,Instituts!A:F,4,FALSE)&" "&VLOOKUP($B76,Instituts!A:F,5,FALSE)&"&destinations="&E76&", " &F76&" "&G76&"&mode=driving") -> <?xml version="1.0" encoding="UTF-8"?> <DistanceMatrixResponse> <status>OK</status> <origin_address>Place de Beauval, C. Cial La Verrière, 77100 Meaux, France</origin_address> <destination_address>52 Avenue Victor Cresson, 92130 Issy-les-Moulineaux, France</destination_address> <row> <element> <status>OK</status> <duration> <value>3613</value> <text>1 hour 0 mins</text> </duration> <distance> <value>63975</value> <text>64.0 km</text> </distance> </element> </row> </DistanceMatrixResponse> | J76: =ROUND(_xlfn.FILTERXML(I76,"/DistanceMatrixResponse/row/element/distance/value")/1000,1) -> 64
A77: FR73 | B77: S73 | C77: Victoria VIENNET | E77: 42 rue du Dragon | F77: 75006 | G77: Paris | I77: =_xlfn.WEBSERVICE("https://maps.googleapis.com/maps/api/distancematrix/xml?origins="&VLOOKUP($B77,Instituts!A:F,3,FALSE)&", "&VLOOKUP($B77,Instituts!A:F,4,FALSE)&" "&VLOOKUP($B77,Instituts!A:F,5,FALSE)&"&destinations="&E77&", " &F77&" "&G77&"&mode=driving") -> <?xml version="1.0" encoding="UTF-8"?> <DistanceMatrixResponse> <status>OK</status> <origin_address>5 Rue Saint-Ambroise, 77000 Melun, France</origin_address> <destination_address>42 Rue du Dragon, 75006 Paris, France</destination_address> <row> <element> <status>OK</status> <duration> <value>3319</value> <text>55 mins</text> </duration> <distance> <value>58289</value> <text>58.3 km</text> </distance> </element> </row> </DistanceMatrixResponse> | J77: =ROUND(_xlfn.FILTERXML(I77,"/DistanceMatrixResponse/row/element/distance/value")/1000,1) -> 58.3
A78: FR74 | B78: S74 | C78: Atelier JPC | E78: Avenue St Exupéry Bâtiment A1 | F78: 33260 | G78: La Teste-de-Buch | I78: =_xlfn.WEBSERVICE("https://maps.googleapis.com/maps/api/distancematrix/xml?origins="&VLOOKUP($B78,Instituts!A:F,3,FALSE)&", "&VLOOKUP($B78,Instituts!A:F,4,FALSE)&" "&VLOOKUP($B78,Instituts!A:F,5,FALSE)&"&destinations="&E78&", " &F78&" "&G78&"&mode=driving") -> <?xml version="1.0" encoding="UTF-8"?> <DistanceMatrixResponse> <status>OK</status> <origin_address>15Bis Cité nationale, 80350 Mers-les-Bains, France</origin_address> <destination_address>Avenue Saint-Exupéry, 33260 La Teste-de-Buch, France</destination_address> <row> <element> <status>OK</status> <duration> <value>27372</value> <text>7 hours 36 mins</text> </duration> <distance> <value>804465</value> <text>804 km</text> </distance> </element> </row> </DistanceMatrixResponse> | J78: =ROUND(_xlfn.FILTERXML(I78,"/DistanceMatrixResponse/row/element/distance/value")/1000,1) -> 804.5
A79: FR75 | B79: S75 | C79: KEVIN PERIAC | F79: 92000 | G79: Nanterre | I79: =_xlfn.WEBSERVICE("https://maps.googleapis.com/maps/api/distancematrix/xml?origins="&VLOOKUP($B79,Instituts!A:F,3,FALSE)&", "&VLOOKUP($B79,Instituts!A:F,4,FALSE)&" "&VLOOKUP($B79,Instituts!A:F,5,FALSE)&"&destinations="&E79&", " &F79&" "&G79&"&mode=driving") -> <?xml version="1.0" encoding="UTF-8"?> <DistanceMatrixResponse> <status>OK</status> <origin_address>130 Avenue de la République, 91230 Montgeron, France</origin_address> <destination_address>92000 Nanterre, France</destination_address> <row> <element> <status>OK</status> <duration> <value>3438</value> <text>57 mins</text> </duration> <distance> <value>43542</value> <text>43.5 km</text> </distance> </element> </row> </DistanceMatrixResponse> | J79: =ROUND(_xlfn.FILTERXML(I79,"/DistanceMatrixResponse/row/element/distance/value")/1000,1) -> 43.5
A80: FR76 | B80: S76 | C80: KEVIN PERIAC | F80: 93000 | G80: Bobigny | I80: =_xlfn.WEBSERVICE("https://maps.googleapis.com/maps/api/distancematrix/xml?origins="&VLOOKUP($B80,Instituts!A:F,3,FALSE)&", "&VLOOKUP($B80,Instituts!A:F,4,FALSE)&" "&VLOOKUP($B80,Instituts!A:F,5,FALSE)&"&destinations="&E80&", " &F80&" "&G80&"&mode=driving") -> <?xml version="1.0" encoding="UTF-8"?> <DistanceMatrixResponse> <status>OK</status> <origin_address>rue Joel Letheule, Centre Commercial, 78180 Montigny-le-Bretonneux, France</origin_address> <destination_address>93000 Bobigny, France</destination_address> <row> <element> <status>OK</status> <duration> <value>2614</value> <text>44 mins</text> </duration> <distance> <value>45975</value> <text>46.0 km</text> </distance> </element> </row> </DistanceMatrixResponse> | J80: =ROUND(_xlfn.FILTERXML(I80,"/DistanceMatrixResponse/row/element/distance/value")/1000,1) -> 46
A81: FR77 | B81: S77 | C81: KEVIN PERIAC | F81: 94000 | G81: Créteil | I81: =_xlfn.WEBSERVICE("https://maps.googleapis.com/maps/api/distancematrix/xml?origins="&VLOOKUP($B81,Instituts!A:F,3,FALSE)&", "&VLOOKUP($B81,Instituts!A:F,4,FALSE)&" "&VLOOKUP($B81,Instituts!A:F,5,FALSE)&"&destinations="&E81&", " &F81&" "&G81&"&mode=driving") -> <?xml version="1.0" encoding="UTF-8"?> <DistanceMatrixResponse> <status>OK</status> <origin_address>15 rue Des Lumières, Coeur De Ville, 93100 Montreuil, France</origin_address> <destination_address>94000 Créteil, France</destination_address> <row> <element> <status>OK</status> <duration> <value>1678</value> <text>28 mins</text> </duration> <distance> <value>18728</value> <text>18.7 km</text> </distance> </element> </row> </DistanceMatrixResponse> | J81: =ROUND(_xlfn.FILTERXML(I81,"/DistanceMatrixResponse/row/element/distance/value")/1000,1) -> 18.7
A82: FR78 | B82: S78 | C82: Grand Angle Sarl | E82: Rue Clément Ader | F82: 73100 | G82: Aix-les-Bains | I82: =_xlfn.WEBSERVICE("https://maps.googleapis.com/maps/api/distancematrix/xml?origins="&VLOOKUP($B82,Instituts!A:F,3,FALSE)&", "&VLOOKUP($B82,Instituts!A:F,4,FALSE)&" "&VLOOKUP($B82,Instituts!A:F,5,FALSE)&"&destinations="&E82&", " &F82&" "&G82&"&mode=driving") -> <?xml version="1.0" encoding="UTF-8"?> <DistanceMatrixResponse> <status>OK</status> <origin_address>126 Rue Jean Monnet, 77120 Mouroux, France</origin_address> <destination_address>Rue Clément Ader, 73100 Aix-les-Bains, France</destination_address> <row> <element> <status>OK</status> <duration> <value>19189</value> <text>5 hours 20 mins</text> </duration> <distance> <value>557365</value> <text>557 km</text> </distance> </element> </row> </DistanceMatrixResponse> | J82: =ROUND(_xlfn.FILTERXML(I82,"/DistanceMatrixResponse/row/element/distance/value")/1000,1) -> 557.4
A83: FR79 | B83: S79 | C83: Spve Studio | E83: 12 Lices Georges Pompidou | F83: 81000 | G83: Albi | I83: =_xlfn.WEBSERVICE("https://maps.googleapis.com/maps/api/distancematrix/xml?origins="&VLOOKUP($B83,Instituts!A:F,3,FALSE)&", "&VLOOKUP($B83,Instituts!A:F,4,FALSE)&" "&VLOOKUP($B83,Instituts!A:F,5,FALSE)&"&destinations="&E83&", " &F83&" "&G83&"&mode=driving") -> <?xml version="1.0" encoding="UTF-8"?> <DistanceMatrixResponse> <status>OK</status> <origin_address>27 Rue Raymond Poincaré, 54000 Nancy, France</origin_address> <destination_address>12 Lices Georges Pompidou, 81000 Albi, France</destination_address> <row> <element> <status>OK</status> <duration> <value>29450</value> <text>8 hours 11 mins</text> </duration> <distance> <value>849749</value> <text>850 km</text> </distance> </element> </row> </DistanceMatrixResponse> | J83: =ROUND(_xlfn.FILTERXML(I83,"/DistanceMatrixResponse/row/element/distance/value")/1000,1) -> 849.7
A84: FR80 | B84: S80 | C84: - Didier Faugas | E84: Rond-point d'Alencon | F84: 72610 | G84: Arçonnay | I84: =_xlfn.WEBSERVICE("https://maps.googleapis.com/maps/api/distancematrix/xml?origins="&VLOOKUP($B84,Instituts!A:F,3,FALSE)&", "&VLOOKUP($B84,Instituts!A:F,4,FALSE)&" "&VLOOKUP($B84,Instituts!A:F,5,FALSE)&"&destinations="&E84&", " &F84&" "&G84&"&mode=driving") -> <?xml version="1.0" encoding="UTF-8"?> <DistanceMatrixResponse> <status>OK</status> <origin_address>73 Rue Saint-Dizier, 54000 Nancy, France</origin_address> <destination_address>Rue d' Alençon, 72610 Arçonnay, France</destination_address> <row> <element> <status>OK</status> <duration> <value>19900</value> <text>5 hours 32 mins</text> </duration> <distance> <value>617527</value> <text>618 km</text> </distance> </element> </row> </DistanceMatrixResponse> | J84: =ROUND(_xlfn.FILTERXML(I84,"/DistanceMatrixResponse/row/element/distance/value")/1000,1) -> 617.5
A85: FR81 | B85: S81 | C85: Sarl Guibout et Fils | E85: 10 rue du Général de Gaulle | F85: 37150 | G85: Bléré | I85: =_xlfn.WEBSERVICE("https://maps.googleapis.com/maps/api/distancematrix/xml?origins="&VLOOKUP($B85,Instituts!A:F,3,FALSE)&", "&VLOOKUP($B85,Instituts!A:F,4,FALSE)&" "&VLOOKUP($B85,Instituts!A:F,5,FALSE)&"&destinations="&E85&", " &F85&" "&G85&"&mode=driving") -> <?xml version="1.0" encoding="UTF-8"?> <DistanceMatrixResponse> <status>OK</status> <origin_address>14 ROUTE DE PARIS, C CIAL PARIDIS, 44300 Nantes, France</origin_address> <destination_address>10 Rue du Général de Gaulle, 37150 Bléré, France</destination_address> <row> <element> <status>OK</status> <duration> <value>7903</value> <text>2 hours 12 mins</text> </duration> <distance> <value>230008</value> <text>230 km</text> </distance> </element> </row> </DistanceMatrixResponse> | J85: =ROUND(_xlfn.FILTERXML(I85,"/DistanceMatrixResponse/row/element/distance/value")/1000,1) -> 230
A86: FR82 | B86: S82 | C86: Eurl Anaistudio | E86: 1 Grande Rue | F86: 02400 | G86: Château-Thierry | I86: =_xlfn.WEBSERVICE("https://maps.googleapis.com/maps/api/distancematrix/xml?origins="&VLOOKUP($B86,Instituts!A:F,3,FALSE)&", "&VLOOKUP($B86,Instituts!A:F,4,FALSE)&" "&VLOOKUP($B86,Instituts!A:F,5,FALSE)&"&destinations="&E86&", " &F86&" "&G86&"&mode=driving") -> <?xml version="1.0" encoding="UTF-8"?> <DistanceMatrixResponse> <status>OK</status> <origin_address>7 Rue Étienne Litaud, 58000 Nevers, France</origin_address> <destination_address>1 Grande Rue, 02400 Château-Thierry, France</destination_address> <row> <element> <status>OK</status> <duration> <value>11087</value> <text>3 hours 5 mins</text> </duration> <distance> <value>315972</value> <text>316 km</text> </distance> </element> </row> </DistanceMatrixResponse> | J86: =ROUND(_xlfn.FILTERXML(I86,"/DistanceMatrixResponse/row/element/distance/value")/1000,1) -> 316
A87: FR83 | B87: S83 | C87: Lepoutre | E87: 20 place Jean Jaurès | F87: 62300 | G87: Lens | I87: =_xlfn.WEBSERVICE("https://maps.googleapis.com/maps/api/distancematrix/xml?origins="&VLOOKUP($B87,Instituts!A:F,3,FALSE)&", "&VLOOKUP($B87,Instituts!A:F,4,FALSE)&" "&VLOOKUP($B87,Instituts!A:F,5,FALSE)&"&destinations="&E87&", " &F87&" "&G87&"&mode=driving") -> <?xml version="1.0" encoding="UTF-8"?> <DistanceMatrixResponse> <status>OK</status> <origin_address>234 Boulevard du Mont d'Est, 93160 Noisy-le-Grand, France</origin_address> <destination_address>20 Place Jean Jaurès, 62300 Lens, France</destination_address> <row> <element> <status>OK</status> <duration> <value>7940</value> <text>2 hours 12 mins</text> </duration> <distance> <value>202680</value> <text>203 km</text> </distance> </element> </row> </DistanceMatrixResponse> | J87: =ROUND(_xlfn.FILTERXML(I87,"/DistanceMatrixResponse/row/element/distance/value")/1000,1) -> 202.7
A88: FR84 | B88: S84 | C88: store | E88: 30 rue Champagne Saint-Georges | F88: 17100 | G88: Saintes | I88: =_xlfn.WEBSERVICE("https://maps.googleapis.com/maps/api/distancematrix/xml?origins="&VLOOKUP($B88,Instituts!A:F,3,FALSE)&", "&VLOOKUP($B88,Instituts!A:F,4,FALSE)&" "&VLOOKUP($B88,Instituts!A:F,5,FALSE)&"&destinations="&E88&", " &F88&" "&G88&"&mode=driving") -> <?xml version="1.0" encoding="UTF-8"?> <DistanceMatrixResponse> <status>OK</status> <origin_address>11 Chemin des Hayettes, 95520 Osny, France</origin_address> <destination_address>30 Rue Champagne Saint-Georges, 17100 Saintes, France</destination_address> <row> <element> <status>OK</status> <duration> <value>17557</value> <text>4 hours 53 mins</text> </duration> <distance> <value>505131</value> <text>505 km</text> </distance> </element> </row> </DistanceMatrixResponse> | J88: =ROUND(_xlfn.FILTERXML(I88,"/DistanceMatrixResponse/row/element/distance/value")/1000,1) -> 505.1
A89: FR85 | B89: S85 | C89: Philippe PELLETIER | F89: 13000 | G89: Marseille | I89: =_xlfn.WEBSERVICE("https://maps.googleapis.com/maps/api/distancematrix/xml?origins="&VLOOKUP($B89,Instituts!A:F,3,FALSE)&", "&VLOOKUP($B89,Instituts!A:F,4,FALSE)&" "&VLOOKUP($B89,Instituts!A:F,5,FALSE)&"&destinations="&E89&", " &F89&" "&G89&"&mode=driving") -> <?xml version="1.0" encoding="UTF-8"?> <DistanceMatrixResponse> <status>OK</status> <origin_address>179 Rue de la Convention, 75015 Paris, France</origin_address> <destination_address>Marseille, France</destination_address> <row> <element> <status>OK</status> <duration> <value>25787</value> <text>7 hours 10 mins</text> </duration> <distance> <value>784671</value> <text>785 km</text> </distance> </element> </row> </DistanceMatrixResponse> | J89: =ROUND(_xlfn.FILTERXML(I89,"/DistanceMatrixResponse/row/element/distance/value")/1000,1) -> 784.7
A90: FR86 | B90: S86 | C90: Philippe PELLETIER | F90: 83000 | G90: Toulon | I90: =_xlfn.WEBSERVICE("https://maps.googleapis.com/maps/api/distancematrix/xml?origins="&VLOOKUP($B90,Instituts!A:F,3,FALSE)&", "&VLOOKUP($B90,Instituts!A:F,4,FALSE)&" "&VLOOKUP($B90,Instituts!A:F,5,FALSE)&"&destinations="&E90&", " &F90&" "&G90&"&mode=driving") -> <?xml version="1.0" encoding="UTF-8"?> <DistanceMatrixResponse> <status>OK</status> <origin_address>29 Avenue du Général Leclerc, 75014 Paris, France</origin_address> <destination_address>83000 Toulon, France</destination_address> <row> <element> <status>OK</status> <duration> <value>27925</value> <text>7 hours 45 mins</text> </duration> <distance> <value>848540</value> <text>849 km</text> </distance> </element> </row> </DistanceMatrixResponse> | J90: =ROUND(_xlfn.FILTERXML(I90,"/DistanceMatrixResponse/row/element/distance/value")/1000,1) -> 848.5
A91: FR87 | B91: S87 | C91: Philippe PELLETIER | F91: 84000 | G91: Avignon | I91: =_xlfn.WEBSERVICE("https://maps.googleapis.com/maps/api/distancematrix/xml?origins="&VLOOKUP($B91,Instituts!A:F,3,FALSE)&", "&VLOOKUP($B91,Instituts!A:F,4,FALSE)&" "&VLOOKUP($B91,Instituts!A:F,5,FALSE)&"&destinations="&E91&", " &F91&" "&G91&"&mode=driving") -> <?xml version="1.0" encoding="UTF-8"?> <DistanceMatrixResponse> <status>OK</status> <origin_address>centre commercial Auchan, Rue Evariste Galois, 59494 Petite-Forêt, France</origin_address> <destination_address>84000, France</destination_address> <row> <element> <status>OK</status> <duration> <value>28599</value> <text>7 hours 57 mins</text> </duration> <distance> <value>898978</value> <text>899 km</text> </distance> </element> </row> </DistanceMatrixResponse> | J91: =ROUND(_xlfn.FILTERXML(I91,"/DistanceMatrixResponse/row/element/distance/value")/1000,1) -> 899
A92: FR88 | B92: S88 | C92: Philippe PELLETIER | F92: 30000 | G92: Nîmes | I92: =_xlfn.WEBSERVICE("https://maps.googleapis.com/maps/api/distancematrix/xml?origins="&VLOOKUP($B92,Instituts!A:F,3,FALSE)&", "&VLOOKUP($B92,Instituts!A:F,4,FALSE)&" "&VLOOKUP($B92,Instituts!A:F,5,FALSE)&"&destinations="&E92&", " &F92&" "&G92&"&mode=driving") -> <?xml version="1.0" encoding="UTF-8"?> <DistanceMatrixResponse> <status>OK</status> <origin_address>Centre Commercial du Carpont, Rue de la Côté des Claies, 22440 Ploufragan, France</origin_address> <destination_address>30000 Nimes, France</destination_address> <row> <element> <status>OK</status> <duration> <value>35220</value> <text>9 hours 47 mins</text> </duration> <distance> <value>1085104</value> <text>1,085 km</text> </distance> </element> </row> </DistanceMatrixResponse> | J92: =ROUND(_xlfn.FILTERXML(I92,"/DistanceMatrixResponse/row/element/distance/value")/1000,1) -> 1085.1
A93: FR89 | B93: S89 | C93: Philippe PELLETIER | F93: 34000 | G93: Montpellier | I93: =_xlfn.WEBSERVICE("https://maps.googleapis.com/maps/api/distancematrix/xml?origins="&VLOOKUP($B93,Instituts!A:F,3,FALSE)&", "&VLOOKUP($B93,Instituts!A:F,4,FALSE)&" "&VLOOKUP($B93,Instituts!A:F,5,FALSE)&"&destinations="&E93&", " &F93&" "&G93&"&mode=driving") -> <?xml version="1.0" encoding="UTF-8"?> <DistanceMatrixResponse> <status>OK</status> <origin_address>Centre Commercial Val D'Halatte, Avenue D'Auvelais, 60700 Pont-Sainte-Maxence, France</origin_address> <destination_address>34000 Montpellier, France</destination_address> <row> <element> <status>OK</status> <duration> <value>27463</value> <text>7 hours 38 mins</text> </duration> <distance> <value>820669</value> <text>821 km</text> </distance> </element> </row> </DistanceMatrixResponse> | J93: =ROUND(_xlfn.FILTERXML(I93,"/DistanceMatrixResponse/row/element/distance/value")/1000,1) -> 820.7
A94: FR90 | B94: S90 | C94: Philippe PELLETIER | F94: 36000 | G94: Châteauroux | I94: =_xlfn.WEBSERVICE("https://maps.googleapis.com/maps/api/distancematrix/xml?origins="&VLOOKUP($B94,Instituts!A:F,3,FALSE)&", "&VLOOKUP($B94,Instituts!A:F,4,FALSE)&" "&VLOOKUP($B94,Instituts!A:F,5,FALSE)&"&destinations="&E94&", " &F94&" "&G94&"&mode=driving") -> <?xml version="1.0" encoding="UTF-8"?> <DistanceMatrixResponse> <status>OK</status> <origin_address></origin_address> <destination_address>36000 Châteauroux, France</destination_address> <row> <element> <status>NOT_FOUND</status> </element> </row> </DistanceMatrixResponse> | J94: =ROUND(_xlfn.FILTERXML(I94,"/DistanceMatrixResponse/row/element/distance/value")/1000,1) -> #VALUE!
A95: FR91 | B95: S91 | C95: Philippe PELLETIER | F95: 26000 | G95: Valence | I95: =_xlfn.WEBSERVICE("https://maps.googleapis.com/maps/api/distancematrix/xml?origins="&VLOOKUP($B95,Instituts!A:F,3,FALSE)&", "&VLOOKUP($B95,Instituts!A:F,4,FALSE)&" "&VLOOKUP($B95,Instituts!A:F,5,FALSE)&"&destinations="&E95&", " &F95&" "&G95&"&mode=driving") -> <?xml version="1.0" encoding="UTF-8"?> <DistanceMatrixResponse> <status>OK</status> <origin_address>Centre Commercial Alma, Rue du Bosphore, 35000 Rennes, France</origin_address> <destination_address>26000 Valence, France</destination_address> <row> <element> <status>OK</status> <duration> <value>27075</value> <text>7 hours 31 mins</text> </duration> <distance> <value>835420</value> <text>835 km</text> </distance> </element> </row> </DistanceMatrixResponse> | J95: =ROUND(_xlfn.FILTERXML(I95,"/DistanceMatrixResponse/row/element/distance/value")/1000,1) -> 835.4
A96: FR92 | B96: S92 | C96: Philippe PELLETIER | F96: 06000 | G96: Nice | I96: =_xlfn.WEBSERVICE("https://maps.googleapis.com/maps/api/distancematrix/xml?origins="&VLOOKUP($B96,Instituts!A:F,3,FALSE)&", "&VLOOKUP($B96,Instituts!A:F,4,FALSE)&" "&VLOOKUP($B96,Instituts!A:F,5,FALSE)&"&destinations="&E96&", " &F96&" "&G96&"&mode=driving") -> <?xml version="1.0" encoding="UTF-8"?> <DistanceMatrixResponse> <status>OK</status> <origin_address>30 Rue des Buissons, 95700 Roissy-en-France, France</origin_address> <destination_address>06000 Nice, France</destination_address> <row> <element> <status>OK</status> <duration> <value>32265</value> <text>8 hours 58 mins</text> </duration> <distance> <value>964735</value> <text>965 km</text> </distance> </element> </row> </DistanceMatrixResponse> | J96: =ROUND(_xlfn.FILTERXML(I96,"/DistanceMatrixResponse/row/element/distance/value")/1000,1) -> 964.7
A97: FR93 | B97: S93 | C97: Philippe PELLETIER | F97: 04000 | G97: Digne-les-Bains | I97: =_xlfn.WEBSERVICE("https://maps.googleapis.com/maps/api/distancematrix/xml?origins="&VLOOKUP($B97,Instituts!A:F,3,FALSE)&", "&VLOOKUP($B97,Instituts!A:F,4,FALSE)&" "&VLOOKUP($B97,Instituts!A:F,5,FALSE)&"&destinations="&E97&", " &F97&" "&G97&"&mode=driving") -> <?xml version="1.0" encoding="UTF-8"?> <DistanceMatrixResponse> <status>OK</status> <origin_address></origin_address> <destination_address>Digne, France</destination_address> <row> <element> <status>NOT_FOUND</status> </element> </row> </DistanceMatrixResponse> | J97: =ROUND(_xlfn.FILTERXML(I97,"/DistanceMatrixResponse/row/element/distance/value")/1000,1) -> #VALUE!
A98: FR94 | B98: S94 | C98: Noëlle YUNG | E98: 27 Rue de la Plaine | F98: 91250 | G98: Saintry-sur-Seine | I98: =_xlfn.WEBSERVICE("https://maps.googleapis.com/maps/api/distancematrix/xml?origins="&VLOOKUP($B98,Instituts!A:F,3,FALSE)&", "&VLOOKUP($B98,Instituts!A:F,4,FALSE)&" "&VLOOKUP($B98,Instituts!A:F,5,FALSE)&"&destinations="&E98&", " &F98&" "&G98&"&mode=driving") -> <?xml version="1.0" encoding="UTF-8"?> <DistanceMatrixResponse> <status>OK</status> <origin_address>Rue Arthur Rimbaud, Zac de la Mare Aux Saules, 91400 Saclay, France</origin_address> <destination_address>27 Rue de la Plaine, 91250 Saintry-sur-Seine, France</destination_address> <row> <element> <status>OK</status> <duration> <value>2165</value> <text>36 mins</text> </duration> <distance> <value>43180</value> <text>43.2 km</text> </distance> </element> </row> </DistanceMatrixResponse> | J98: =ROUND(_xlfn.FILTERXML(I98,"/DistanceMatrixResponse/row/element/distance/value")/1000,1) -> 43.2
A99: FR95 | B99: S95 | C99: KEVIN PERIAC | F99: 75000 | G99: Paris | I99: =_xlfn.WEBSERVICE("https://maps.googleapis.com/maps/api/distancematrix/xml?origins="&VLOOKUP($B99,Instituts!A:F,3,FALSE)&", "&VLOOKUP($B99,Instituts!A:F,4,FALSE)&" "&VLOOKUP($B99,Instituts!A:F,5,FALSE)&"&destinations="&E99&", " &F99&" "&G99&"&mode=driving") -> <?xml version="1.0" encoding="UTF-8"?> <DistanceMatrixResponse> <status>OK</status> <origin_address>Boulevard Salvador Allende, 44800 Saint-Herblain, France</origin_address> <destination_address>75000 Paris, France</destination_address> <row> <element> <status>OK</status> <duration> <value>13966</value> <text>3 hours 53 mins</text> </duration> <distance> <value>397334</value> <text>397 km</text> </distance> </element> </row> </DistanceMatrixResponse> | J99: =ROUND(_xlfn.FILTERXML(I99,"/DistanceMatrixResponse/row/element/distance/value")/1000,1) -> 397.3
A100: FR96 | B100: S96 | C100: Jean-François Bessin | E100: 9 rue Docteur Maxime Pellerin | F100: 14290 | G100: Orbec | I100: =_xlfn.WEBSERVICE("https://maps.googleapis.com/maps/api/distancematrix/xml?origins="&VLOOKUP($B100,Instituts!A:F,3,FALSE)&", "&VLOOKUP($B100,Instituts!A:F,4,FALSE)&" "&VLOOKUP($B100,Instituts!A:F,5,FALSE)&"&destinations="&E100&", " &F100&" "&G100&"&mode=driving") -> <?xml version="1.0" encoding="UTF-8"?> <DistanceMatrixResponse> <status>OK</status> <origin_address>201 Rue des Girondins, 60740 Saint-Maximin, France</origin_address> <destination_address>9 Rue Dr Maxime Pellerin, 14290 Orbec, France</destination_address> <row> <element> <status>OK</status> <duration> <value>9202</value> <text>2 hours 33 mins</text> </duration> <distance> <value>249207</value> <text>249 km</text> </distance> </element> </row> </DistanceMatrixResponse> | J100: =ROUND(_xlfn.FILTERXML(I100,"/DistanceMatrixResponse/row/element/distance/value")/1000,1) -> 249.2
A101: FR97 | B101: S97 | C101: Froggy's | F101: 12000 | G101: Rodez | I101: =_xlfn.WEBSERVICE("https://maps.googleapis.com/maps/api/distancematrix/xml?origins="&VLOOKUP($B101,Instituts!A:F,3,FALSE)&", "&VLOOKUP($B101,Instituts!A:F,4,FALSE)&" "&VLOOKUP($B101,Instituts!A:F,5,FALSE)&"&destinations="&E101&", " &F101&" "&G101&"&mode=driving") -> <?xml version="1.0" encoding="UTF-8"?> <DistanceMatrixResponse> <status>OK</status> <origin_address>Rue Marguerite Yourcenar, 91280 Saint-Pierre-du-Perray, France</origin_address> <destination_address>Rodez, France</destination_address> <row> <element> <status>OK</status> <duration> <value>22159</value> <text>6 hours 9 mins</text> </duration> <distance> <value>659272</value> <text>659 km</text> </distance> </element> </row> </DistanceMatrixResponse> | J101: =ROUND(_xlfn.FILTERXML(I101,"/DistanceMatrixResponse/row/element/distance/value")/1000,1) -> 659.3
A102: FR98 | B102: S98 | C102: Philippe Gaudin - Créateur d'Images | E102: 32 rue François Mitterand | F102: 79200 | G102: Parthenay | I102: =_xlfn.WEBSERVICE("https://maps.googleapis.com/maps/api/distancematrix/xml?origins="&VLOOKUP($B102,Instituts!A:F,3,FALSE)&", "&VLOOKUP($B102,Instituts!A:F,4,FALSE)&" "&VLOOKUP($B102,Instituts!A:F,5,FALSE)&"&destinations="&E102&", " &F102&" "&G102&"&mode=driving") -> <?xml version="1.0" encoding="UTF-8"?> <DistanceMatrixResponse> <status>OK</status> <origin_address>108 Cours Gimon, 13300 Salon-de-Provence, France</origin_address> <destination_address>32 Avenue François Mitterrand, 79200 Parthenay, France</destination_address> <row> <element> <status>OK</status> <duration> <value>26556</value> <text>7 hours 23 mins</text> </duration> <distance> <value>822500</value> <text>822 km</text> </distance> </element> </row> </DistanceMatrixResponse> | J102: =ROUND(_xlfn.FILTERXML(I102,"/DistanceMatrixResponse/row/element/distance/value")/1000,1) -> 822.5
A103: FR99 | B103: S99 | C103: Anne LETOURNEL s | E103: 67 Rue des Trois Rois | F103: 44000 | G103: Nantes | I103: =_xlfn.WEBSERVICE("https://maps.googleapis.com/maps/api/distancematrix/xml?origins="&VLOOKUP($B103,Instituts!A:F,3,FALSE)&", "&VLOOKUP($B103,Instituts!A:F,4,FALSE)&" "&VLOOKUP($B103,Instituts!A:F,5,FALSE)&"&destinations="&E103&", " &F103&" "&G103&"&mode=driving") -> <?xml version="1.0" encoding="UTF-8"?> <DistanceMatrixResponse> <status>OK</status> <origin_address>19 Rue Gambetta, 34200 Sète, France</origin_address> <destination_address>67 Rue des Trois Rois, 44000 Nantes, France</destination_address> <row> <element> <status>OK</status> <duration> <value>26102</value> <text>7 hours 15 mins</text> </duration> <distance> <value>818332</value> <text>818 km</text> </distance> </element> </row> </DistanceMatrixResponse> | J103: =ROUND(_xlfn.FILTERXML(I103,"/DistanceMatrixResponse/row/element/distance/value")/1000,1) -> 818.3
A104: FR100 | B104: S100 | C104: Studio Folies | E104: 3 Rue de la Mairie | F104: 31570 | G104: Lanta | I104: =_xlfn.WEBSERVICE("https://maps.googleapis.com/maps/api/distancematrix/xml?origins="&VLOOKUP($B104,Instituts!A:F,3,FALSE)&", "&VLOOKUP($B104,Instituts!A:F,4,FALSE)&" "&VLOOKUP($B104,Instituts!A:F,5,FALSE)&"&destinations="&E104&", " &F104&" "&G104&"&mode=driving") -> <?xml version="1.0" encoding="UTF-8"?> <DistanceMatrixResponse> <status>OK</status> <origin_address>110 rue de l'industrie les Vernailles, 69830 Saint-Georges-de-Reneins, France</origin_address> <destination_address>3 Rue de la Mairie, 31570 Lanta, France</destination_address> <row> <element> <status>OK</status> <duration> <value>19242</value> <text>5 hours 21 mins</text> </duration> <distance> <value>580748</value> <text>581 km</text> </distance> </element> </row> </DistanceMatrixResponse> | J104: =ROUND(_xlfn.FILTERXML(I104,"/DistanceMatrixResponse/row/element/distance/value")/1000,1) -> 580.7
A105: FR101 | B105: S101 | C105: SARL Image'In Kodak Express | E105: Rue de Bonnetable | F105: 72000 | G105: Le Mans | I105: =_xlfn.WEBSERVICE("https://maps.googleapis.com/maps/api/distancematrix/xml?origins="&VLOOKUP($B105,Instituts!A:F,3,FALSE)&", "&VLOOKUP($B105,Instituts!A:F,4,FALSE)&" "&VLOOKUP($B105,Instituts!A:F,5,FALSE)&"&destinations="&E105&", " &F105&" "&G105&"&mode=driving") -> <?xml version="1.0" encoding="UTF-8"?> <DistanceMatrixResponse> <status>OK</status> <origin_address>2-4 Avenue du Portou, 64990 Saint-Pierre-d'Irube, France</origin_address> <destination_address>Rue de Bonnetable, 72100 Le Mans, France</destination_address> <row> <element> <status>OK</status> <duration> <value>20371</value> <text>5 hours 40 mins</text> </duration> <distance> <value>630486</value> <text>630 km</text> </distance> </element> </row> </DistanceMatrixResponse> | J105: =ROUND(_xlfn.FILTERXML(I105,"/DistanceMatrixResponse/row/element/distance/value")/1000,1) -> 630.5
A106: FR102 | B106: S102 | C106: Pbp | E106: 5 Rue Oberkampf | F106: 88000 | G106: Epinal | I106: =_xlfn.WEBSERVICE("https://maps.googleapis.com/maps/api/distancematrix/xml?origins="&VLOOKUP($B106,Instituts!A:F,3,FALSE)&", "&VLOOKUP($B106,Instituts!A:F,4,FALSE)&" "&VLOOKUP($B106,Instituts!A:F,5,FALSE)&"&destinations="&E106&", " &F106&" "&G106&"&mode=driving") -> <?xml version="1.0" encoding="UTF-8"?> <DistanceMatrixResponse> <status>OK</status> <origin_address>2525 Avenue des Vallées, 74300 Thyez, France</origin_address> <destination_address>5 Rue Oberkampf, 88000 Épinal, France</destination_address> <row> <element> <status>OK</status> <duration> <value>16162</value> <text>4 hours 29 mins</text> </duration> <distance> <value>348325</value> <text>348 km</text> </distance> </element> </row> </DistanceMatrixResponse> | J106: =ROUND(_xlfn.FILTERXML(I106,"/DistanceMatrixResponse/row/element/distance/value")/1000,1) -> 348.3
A107: FR103 | B107: S103 | C107: Jbo | F107: 95000 | G107: Argenteuil | I107: =_xlfn.WEBSERVICE("https://maps.googleapis.com/maps/api/distancematrix/xml?origins="&VLOOKUP($B107,Instituts!A:F,3,FALSE)&", "&VLOOKUP($B107,Instituts!A:F,4,FALSE)&" "&VLOOKUP($B107,Instituts!A:F,5,FALSE)&"&destinations="&E107&", " &F107&" "&G107&"&mode=driving") -> <?xml version="1.0" encoding="UTF-8"?> <DistanceMatrixResponse> <status>OK</status> <origin_address>4 Rue Gambetta, 54200 Toul, France</origin_address> <destination_address>95100 Argenteuil, France</destination_address> <row> <element> <status>OK</status> <duration> <value>12874</value> <text>3 hours 35 mins</text> </duration> <distance> <value>341423</value> <text>341 km</text> </distance> </element> </row> </DistanceMatrixResponse> | J107: =ROUND(_xlfn.FILTERXML(I107,"/DistanceMatrixResponse/row/element/distance/value")/1000,1) -> 341.4
A108: FR104 | B108: S104 | C108: Paris Studio | E108: 22 Rue des Rigoles | F108: 75020 | G108: Paris | I108: =_xlfn.WEBSERVICE("https://maps.googleapis.com/maps/api/distancematrix/xml?origins="&VLOOKUP($B108,Instituts!A:F,3,FALSE)&", "&VLOOKUP($B108,Instituts!A:F,4,FALSE)&" "&VLOOKUP($B108,Instituts!A:F,5,FALSE)&"&destinations="&E108&", " &F108&" "&G108&"&mode=driving") -> <?xml version="1.0" encoding="UTF-8"?> <DistanceMatrixResponse> <status>OK</status> <origin_address>Centre Commercial Hyper U, Route de Paris, 14800 Touques, France</origin_address> <destination_address>22 Rue des Rigoles, 75020 Paris, France</destination_address> <row> <element> <status>OK</status> <duration> <value>8329</value> <text>2 hours 19 mins</text> </duration> <distance> <value>216885</value> <text>217 km</text> </distance> </element> </row> </DistanceMatrixResponse> | J108: =ROUND(_xlfn.FILTERXML(I108,"/DistanceMatrixResponse/row/element/distance/value")/1000,1) -> 216.9
A109: FR105 | B109: S105 | C109: Partenaire Image | E109: Lotissement Floralies | F109: 01710 | G109: Thoiry | I109: =_xlfn.WEBSERVICE("https://maps.googleapis.com/maps/api/distancematrix/xml?origins="&VLOOKUP($B109,Instituts!A:F,3,FALSE)&", "&VLOOKUP($B109,Instituts!A:F,4,FALSE)&" "&VLOOKUP($B109,Instituts!A:F,5,FALSE)&"&destinations="&E109&", " &F109&" "&G109&"&mode=driving") -> <?xml version="1.0" encoding="UTF-8"?> <DistanceMatrixResponse> <status>OK</status> <origin_address>CC Grand Large ZAC de la Fontaine au Brun, N471, 44570 Trignac, France</origin_address> <destination_address>Lotissement Floralies, 01710 Thoiry, France</destination_address> <row> <element> <status>OK</status> <duration> <value>28420</value> <text>7 hours 54 mins</text> </duration> <distance> <value>819813</value> <text>820 km</text> </distance> </element> </row> </DistanceMatrixResponse> | J109: =ROUND(_xlfn.FILTERXML(I109,"/DistanceMatrixResponse/row/element/distance/value")/1000,1) -> 819.8
A110: FR106 | B110: S106 | C110: Justyyn | E110: 5 bis Rue des Cordeliers | F110: 39000 | G110: Lons-le-Saunier | I110: =_xlfn.WEBSERVICE("https://maps.googleapis.com/maps/api/distancematrix/xml?origins="&VLOOKUP($B110,Instituts!A:F,3,FALSE)&", "&VLOOKUP($B110,Instituts!A:F,4,FALSE)&" "&VLOOKUP($B110,Instituts!A:F,5,FALSE)&"&destinations="&E110&", " &F110&" "&G110&"&mode=driving") -> <?xml version="1.0" encoding="UTF-8"?> <DistanceMatrixResponse> <status>OK</status> <origin_address>Avenue de Romans, 26000 Valence, France</origin_address> <destination_address>5 Rue des Cordeliers, 39000 Lons-le-Saunier, France</destination_address> <row> <element> <status>OK</status> <duration> <value>8999</value> <text>2 hours 30 mins</text> </duration> <distance> <value>248224</value> <text>248 km</text> </distance> </element> </row> </DistanceMatrixResponse> | J110: =ROUND(_xlfn.FILTERXML(I110,"/DistanceMatrixResponse/row/element/distance/value")/1000,1) -> 248.2
A111: FR107 | B111: S107 | C111: Photys | E111: 40 rue Gabriel Vicaire | F111: 01000 | G111: Bourg-en-Bresse | I111: =_xlfn.WEBSERVICE("https://maps.googleapis.com/maps/api/distancematrix/xml?origins="&VLOOKUP($B111,Instituts!A:F,3,FALSE)&", "&VLOOKUP($B111,Instituts!A:F,4,FALSE)&" "&VLOOKUP($B111,Instituts!A:F,5,FALSE)&"&destinations="&E111&", " &F111&" "&G111&"&mode=driving") -> <?xml version="1.0" encoding="UTF-8"?> <DistanceMatrixResponse> <status>OK</status> <origin_address>28 Rue Maréchal Foch, 03200 Vichy, France</origin_address> <destination_address>40 Rue Gabriel Vicaire, 01000 Bourg-en-Bresse, France</destination_address> <row> <element> <status>OK</status> <duration> <value>8948</value> <text>2 hours 29 mins</text> </duration> <distance> <value>183671</value> <text>184 km</text> </distance> </element> </row> </DistanceMatrixResponse> | J111: =ROUND(_xlfn.FILTERXML(I111,"/DistanceMatrixResponse/row/element/distance/value")/1000,1) -> 183.7
A112: FR108 | B112: S108 | C112: Atelier JPC | F112: 40000 | G112: Villes au choix | I112: =_xlfn.WEBSERVICE("https://maps.googleapis.com/maps/api/distancematrix/xml?origins="&VLOOKUP($B112,Instituts!A:F,3,FALSE)&", "&VLOOKUP($B112,Instituts!A:F,4,FALSE)&" "&VLOOKUP($B112,Instituts!A:F,5,FALSE)&"&destinations="&E112&", " &F112&" "&G112&"&mode=driving") -> <?xml version="1.0" encoding="UTF-8"?> <DistanceMatrixResponse> <status>OK</status> <origin_address>1 Rue du Mouton, 18100 Vierzon, France</origin_address> <destination_address>52 Avenue de Flandre, 75019 Paris, France</destination_address> <row> <element> <status>OK</status> <duration> <value>8411</value> <text>2 hours 20 mins</text> </duration> <distance> <value>221573</value> <text>222 km</text> </distance> </element> </row> </DistanceMatrixResponse> | J112: =ROUND(_xlfn.FILTERXML(I112,"/DistanceMatrixResponse/row/element/distance/value")/1000,1) -> 221.6
A113: FR109 | B113: S109 | C113: Alexia Bonhomme | E113: 76 avenue Garibaldi | F113: 87000 | G113: Limoges | I113: =_xlfn.WEBSERVICE("https://maps.googleapis.com/maps/api/distancematrix/xml?origins="&VLOOKUP($B113,Instituts!A:F,3,FALSE)&", "&VLOOKUP($B113,Instituts!A:F,4,FALSE)&" "&VLOOKUP($B113,Instituts!A:F,5,FALSE)&"&destinations="&E113&", " &F113&" "&G113&"&mode=driving") -> <?xml version="1.0" encoding="UTF-8"?> <DistanceMatrixResponse> <status>OK</status> <origin_address>4 Boulevard Gallieni, 92390 Villeneuve-la-Garenne, France</origin_address> <destination_address>76 Avenue Garibaldi, 87100 Limoges, France</destination_address> <row> <element> <status>OK</status> <duration> <value>14100</value> <text>3 hours 55 mins</text> </duration> <distance> <value>396558</value> <text>397 km</text> </distance> </element> </row> </DistanceMatrixResponse> | J113: =ROUND(_xlfn.FILTERXML(I113,"/DistanceMatrixResponse/row/element/distance/value")/1000,1) -> 396.6
A114: FR110 | B114: S110 | C114: Atelier JPC | F114: 24000 | G114: Villes au choix | I114: =_xlfn.WEBSERVICE("https://maps.googleapis.com/maps/api/distancematrix/xml?origins="&VLOOKUP($B114,Instituts!A:F,3,FALSE)&", "&VLOOKUP($B114,Instituts!A:F,4,FALSE)&" "&VLOOKUP($B114,Instituts!A:F,5,FALSE)&"&destinations="&E114&", " &F114&" "&G114&"&mode=driving") -> <?xml version="1.0" encoding="UTF-8"?> <DistanceMatrixResponse> <status>OK</status> <origin_address>20 Place des Martyrs de Châteaubriant, 91170 Viry-Châtillon, France</origin_address> <destination_address>52 Avenue de Flandre, 75019 Paris, France</destination_address> <row> <element> <status>OK</status> <duration> <value>2807</value> <text>47 mins</text> </duration> <distance> <value>33256</value> <text>33.3 km</text> </distance> </element> </row> </DistanceMatrixResponse> | J114: =ROUND(_xlfn.FILTERXML(I114,"/DistanceMatrixResponse/row/element/distance/value")/1000,1) -> 33.3
A115: FR111 | B115: S111 | C115: Alexia Bonhomme | F115: 24000 | G115: Périgueux | I115: =_xlfn.WEBSERVICE("https://maps.googleapis.com/maps/api/distancematrix/xml?origins="&VLOOKUP($B115,Instituts!A:F,3,FALSE)&", "&VLOOKUP($B115,Instituts!A:F,4,FALSE)&" "&VLOOKUP($B115,Instituts!A:F,5,FALSE)&"&destinations="&E115&", " &F115&" "&G115&"&mode=driving") -> <?xml version="1.0" encoding="UTF-8"?> <DistanceMatrixResponse> <status>OK</status> <origin_address>65 Rue de Concy, 91330 Yerres, France</origin_address> <destination_address>24000 Périgueux, France</destination_address> <row> <element> <status>OK</status> <duration> <value>18458</value> <text>5 hours 8 mins</text> </duration> <distance> <value>496589</value> <text>497 km</text> </distance> </element> </row> </DistanceMatrixResponse> | J115: =ROUND(_xlfn.FILTERXML(I115,"/DistanceMatrixResponse/row/element/distance/value")/1000,1) -> 496.6
A116: FR112 | B116: S112 | C116: Alexia Bonhomme | F116: 19000 | G116: Tulle | I116: =_xlfn.WEBSERVICE("https://maps.googleapis.com/maps/api/distancematrix/xml?origins="&VLOOKUP($B116,Instituts!A:F,3,FALSE)&", "&VLOOKUP($B116,Instituts!A:F,4,FALSE)&" "&VLOOKUP($B116,Instituts!A:F,5,FALSE)&"&destinations="&E116&", " &F116&" "&G116&"&mode=driving") -> <?xml version="1.0" encoding="UTF-8"?> <DistanceMatrixResponse> <status>OK</status> <origin_address>420 Route de Belley, 38490 Aoste, France</origin_address> <destination_address>19000 Tulle, France</destination_address> <row> <element> <status>OK</status> <duration> <value>14057</value> <text>3 hours 54 mins</text> </duration> <distance> <value>401021</value> <text>401 km</text> </distance> </element> </row> </DistanceMatrixResponse> | J116: =ROUND(_xlfn.FILTERXML(I116,"/DistanceMatrixResponse/row/element/distance/value")/1000,1) -> 401
A117: FR113 | B117: S113 | C117: Jeremy Sezille | F117: 39000 | G117: Dole | I117: =_xlfn.WEBSERVICE("https://maps.googleapis.com/maps/api/distancematrix/xml?origins="&VLOOKUP($B117,Instituts!A:F,3,FALSE)&", "&VLOOKUP($B117,Instituts!A:F,4,FALSE)&" "&VLOOKUP($B117,Instituts!A:F,5,FALSE)&"&destinations="&E117&", " &F117&" "&G117&"&mode=driving") -> <?xml version="1.0" encoding="UTF-8"?> <DistanceMatrixResponse> <status>OK</status> <origin_address>centre commercial Porte Des Flandres, 62138 Auchy-les-Mines, France</origin_address> <destination_address>39100 Dole, France</destination_address> <row> <element> <status>OK</status> <duration> <value>17157</value> <text>4 hours 46 mins</text> </duration> <distance> <value>534548</value> <text>535 km</text> </distance> </element> </row> </DistanceMatrixResponse> | J117: =ROUND(_xlfn.FILTERXML(I117,"/DistanceMatrixResponse/row/element/distance/value")/1000,1) -> 534.5
A118: FR114 | B118: S114 | C118: Tours | E118: 16 Rue Littré | F118: 37000 | G118: Tours | I118: =_xlfn.WEBSERVICE("https://maps.googleapis.com/maps/api/distancematrix/xml?origins="&VLOOKUP($B118,Instituts!A:F,3,FALSE)&", "&VLOOKUP($B118,Instituts!A:F,4,FALSE)&" "&VLOOKUP($B118,Instituts!A:F,5,FALSE)&"&destinations="&E118&", " &F118&" "&G118&"&mode=driving") -> <?xml version="1.0" encoding="UTF-8"?> <DistanceMatrixResponse> <status>OK</status> <origin_address>ZAC Saint-Siméon, Boulevard de Verdun, 89000 Auxerre, France</origin_address> <destination_address>16 Rue Littré, 37000 Tours, France</destination_address> <row> <element> <status>OK</status> <duration> <value>8911</value> <text>2 hours 29 mins</text> </duration> <distance> <value>274940</value> <text>275 km</text> </distance> </element> </row> </DistanceMatrixResponse> | J118: =ROUND(_xlfn.FILTERXML(I118,"/DistanceMatrixResponse/row/element/distance/value")/1000,1) -> 274.9
A119: FR115 | B119: S115 | C119: Olivier Pain Reporter | E119: 10 Rue Louis David | F119: 37000 | G119: Tours | I119: =_xlfn.WEBSERVICE("https://maps.googleapis.com/maps/api/distancematrix/xml?origins="&VLOOKUP($B119,Instituts!A:F,3,FALSE)&", "&VLOOKUP($B119,Instituts!A:F,4,FALSE)&" "&VLOOKUP($B119,Instituts!A:F,5,FALSE)&"&destinations="&E119&", " &F119&" "&G119&"&mode=driving") -> <?xml version="1.0" encoding="UTF-8"?> <DistanceMatrixResponse> <status>OK</status> <origin_address>Centre Cormercial Mesnil Roux, 76360 Barentin, France</origin_address> <destination_address>10 Rue Louis David, 37000 Tours, France</destination_address> <row> <element> <status>OK</status> <duration> <value>10660</value> <text>2 hours 58 mins</text> </duration> <distance> <value>322912</value> <text>323 km</text> </distance> </element> </row> </DistanceMatrixResponse> | J119: =ROUND(_xlfn.FILTERXML(I119,"/DistanceMatrixResponse/row/element/distance/value")/1000,1) -> 322.9
A120: FR116 | B120: S116 | C120: Mod'els Eyes | E120: 36 rue Gallieni | F120: 36000 | G120: Châteauroux | I120: =_xlfn.WEBSERVICE("https://maps.googleapis.com/maps/api/distancematrix/xml?origins="&VLOOKUP($B120,Instituts!A:F,3,FALSE)&", "&VLOOKUP($B120,Instituts!A:F,4,FALSE)&" "&VLOOKUP($B120,Instituts!A:F,5,FALSE)&"&destinations="&E120&", " &F120&" "&G120&"&mode=driving") -> <?xml version="1.0" encoding="UTF-8"?> <DistanceMatrixResponse> <status>OK</status> <origin_address>4 Boulevard Saint-André, 60000 Beauvais, France</origin_address> <destination_address>36 Rue du Général Gallieni, 36000 Châteauroux, France</destination_address> <row> <element> <status>OK</status> <duration> <value>13124</value> <text>3 hours 39 mins</text> </duration> <distance> <value>347671</value> <text>348 km</text> </distance> </element> </row> </DistanceMatrixResponse> | J120: =ROUND(_xlfn.FILTERXML(I120,"/DistanceMatrixResponse/row/element/distance/value")/1000,1) -> 347.7
A121: FR117 | B121: S117 | C121: Charlotte K. | E121: 28 rue fontchaudière | F121: 16000 | G121: Angoulême | I121: =_xlfn.WEBSERVICE("https://maps.googleapis.com/maps/api/distancematrix/xml?origins="&VLOOKUP($B121,Instituts!A:F,3,FALSE)&", "&VLOOKUP($B121,Instituts!A:F,4,FALSE)&" "&VLOOKUP($B121,Instituts!A:F,5,FALSE)&"&destinations="&E121&", " &F121&" "&G121&"&mode=driving") -> <?xml version="1.0" encoding="UTF-8"?> <DistanceMatrixResponse> <status>OK</status> <origin_address>2 Avenue de Lattre de Tassigny, 01200 Bellegarde-sur-Valserine, France</origin_address> <destination_address>28 Rue Fontchaudière, 16000 Angoulême, France</destination_address> <row> <element> <status>OK</status> <duration> <value>21382</value> <text>5 hours 56 mins</text> </duration> <distance> <value>553258</value> <text>553 km</text> </distance> </element> </row> </DistanceMatrixResponse> | J121: =ROUND(_xlfn.FILTERXML(I121,"/DistanceMatrixResponse/row/element/distance/value")/1000,1) -> 553.3
A122: FR118 | B122: S118 | C122: Jean-François Bessin | F122: 61000 | G122: Alençon | I122: =_xlfn.WEBSERVICE("https://maps.googleapis.com/maps/api/distancematrix/xml?origins="&VLOOKUP($B122,Instituts!A:F,3,FALSE)&", "&VLOOKUP($B122,Instituts!A:F,4,FALSE)&" "&VLOOKUP($B122,Instituts!A:F,5,FALSE)&"&destinations="&E122&", " &F122&" "&G122&"&mode=driving") -> <?xml version="1.0" encoding="UTF-8"?> <DistanceMatrixResponse> <status>OK</status> <origin_address>3 Grande Rue, 25000 Besançon, France</origin_address> <destination_address>Alençon, France</destination_address> <row> <element> <status>OK</status> <duration> <value>19658</value> <text>5 hours 28 mins</text> </duration> <distance> <value>613340</value> <text>613 km</text> </distance> </element> </row> </DistanceMatrixResponse> | J122: =ROUND(_xlfn.FILTERXML(I122,"/DistanceMatrixResponse/row/element/distance/value")/1000,1) -> 613.3
A123: FR119 | B123: S119 | C123: Jean-François Bessin | F123: 27000 | G123: Evreux | I123: =_xlfn.WEBSERVICE("https://maps.googleapis.com/maps/api/distancematrix/xml?origins="&VLOOKUP($B123,Instituts!A:F,3,FALSE)&", "&VLOOKUP($B123,Instituts!A:F,4,FALSE)&" "&VLOOKUP($B123,Instituts!A:F,5,FALSE)&"&destinations="&E123&", " &F123&" "&G123&"&mode=driving") -> <?xml version="1.0" encoding="UTF-8"?> <DistanceMatrixResponse> <status>OK</status> <origin_address>59 Rue Albert 1er, 62400 Béthune, France</origin_address> <destination_address>27000 Évreux, France</destination_address> <row> <element> <status>OK</status> <duration> <value>11682</value> <text>3 hours 15 mins</text> </duration> <distance> <value>262774</value> <text>263 km</text> </distance> </element> </row> </DistanceMatrixResponse> | J123: =ROUND(_xlfn.FILTERXML(I123,"/DistanceMatrixResponse/row/element/distance/value")/1000,1) -> 262.8
A124: FR120 | B124: S120 | C124: Bourge Xavier | E124: 1 Lotissement la Termiere | F124: 64170 | G124: Artix | I124: =_xlfn.WEBSERVICE("https://maps.googleapis.com/maps/api/distancematrix/xml?origins="&VLOOKUP($B124,Instituts!A:F,3,FALSE)&", "&VLOOKUP($B124,Instituts!A:F,4,FALSE)&" "&VLOOKUP($B124,Instituts!A:F,5,FALSE)&"&destinations="&E124&", " &F124&" "&G124&"&mode=driving") -> <?xml version="1.0" encoding="UTF-8"?> <DistanceMatrixResponse> <status>OK</status> <origin_address>81 Rue Yves Kermen, 92100 Boulogne-Billancourt, France</origin_address> <destination_address>1 Lotissement la Termiere, 64170 Artix, France</destination_address> <row> <element> <status>OK</status> <duration> <value>25260</value> <text>7 hours 1 min</text> </duration> <distance> <value>786725</value> <text>787 km</text> </distance> </element> </row> </DistanceMatrixResponse> | J124: =ROUND(_xlfn.FILTERXML(I124,"/DistanceMatrixResponse/row/element/distance/value")/1000,1) -> 786.7
A125: FR121 | B125: S121 | C125: Studio Martino | E125: 2 rue Billault | F125: 28800 | G125: Bonneval | I125: =_xlfn.WEBSERVICE("https://maps.googleapis.com/maps/api/distancematrix/xml?origins="&VLOOKUP($B125,Instituts!A:F,3,FALSE)&", "&VLOOKUP($B125,Instituts!A:F,4,FALSE)&" "&VLOOKUP($B125,Instituts!A:F,5,FALSE)&"&destinations="&E125&", " &F125&" "&G125&"&mode=driving") -> <?xml version="1.0" encoding="UTF-8"?> <DistanceMatrixResponse> <status>OK</status> <origin_address>1380 Boulevard des Crêtes du Revermont, 01000 Bourg-en-Bresse, France</origin_address> <destination_address>2 Rue Alfred Billault, 28800 Bonneval, France</destination_address> <row> <element> <status>OK</status> <duration> <value>15064</value> <text>4 hours 11 mins</text> </duration> <distance> <value>458207</value> <text>458 km</text> </distance> </element> </row> </DistanceMatrixResponse> | J125: =ROUND(_xlfn.FILTERXML(I125,"/DistanceMatrixResponse/row/element/distance/value")/1000,1) -> 458.2
A126: FR122 | B126: S122 | C126: Diemer Vidéo Nina | E126: 17 boulevard Anatole France | F126: 68300 | G126: Saint-Louis | I126: =_xlfn.WEBSERVICE("https://maps.googleapis.com/maps/api/distancematrix/xml?origins="&VLOOKUP($B126,Instituts!A:F,3,FALSE)&", "&VLOOKUP($B126,Instituts!A:F,4,FALSE)&" "&VLOOKUP($B126,Instituts!A:F,5,FALSE)&"&destinations="&E126&", " &F126&" "&G126&"&mode=driving") -> <?xml version="1.0" encoding="UTF-8"?> <DistanceMatrixResponse> <status>OK</status> <origin_address>20 Boulevard de Champaret, 38300 Bourgoin-Jallieu, France</origin_address> <destination_address>17 Avenue Anatole France, 13230 Port-Saint-Louis-du-Rhône, France</destination_address> <row> <element> <status>OK</status> <duration> <value>11954</value> <text>3 hours 19 mins</text> </duration> <distance> <value>349800</value> <text>350 km</text> </distance> </element> </row> </DistanceMatrixResponse> | J126: =ROUND(_xlfn.FILTERXML(I126,"/DistanceMatrixResponse/row/element/distance/value")/1000,1) -> 349.8
A127: FR123 | B127: S123 | C127: Capture and Shoot | E127: 11 Rue Henri Guillaumet | F127: 86000 | G127: Poitiers | I127: =_xlfn.WEBSERVICE("https://maps.googleapis.com/maps/api/distancematrix/xml?origins="&VLOOKUP($B127,Instituts!A:F,3,FALSE)&", "&VLOOKUP($B127,Instituts!A:F,4,FALSE)&" "&VLOOKUP($B127,Instituts!A:F,5,FALSE)&"&destinations="&E127&", " &F127&" "&G127&"&mode=driving") -> <?xml version="1.0" encoding="UTF-8"?> <DistanceMatrixResponse> <status>OK</status> <origin_address>14 Rue du Pont d'Ouit, 79300 Bressuire, France</origin_address> <destination_address>11 Rue Henri Guillaumet, 86000 Poitiers, France</destination_address> <row> <element> <status>OK</status> <duration> <value>4457</value> <text>1 hour 14 mins</text> </duration> <distance> <value>79617</value> <text>79.6 km</text> </distance> </element> </row> </DistanceMatrixResponse> | J127: =ROUND(_xlfn.FILTERXML(I127,"/DistanceMatrixResponse/row/element/distance/value")/1000,1) -> 79.6
A128: FR124 | B128: S124 | C128: Capture and Shoot | F128: 86000 | G128: Poitiers | I128: =_xlfn.WEBSERVICE("https://maps.googleapis.com/maps/api/distancematrix/xml?origins="&VLOOKUP($B128,Instituts!A:F,3,FALSE)&", "&VLOOKUP($B128,Instituts!A:F,4,FALSE)&" "&VLOOKUP($B128,Instituts!A:F,5,FALSE)&"&destinations="&E128&", " &F128&" "&G128&"&mode=driving") -> <?xml version="1.0" encoding="UTF-8"?> <DistanceMatrixResponse> <status>OK</status> <origin_address>4 Rue Victor Hugo, 29200 Brest, France</origin_address> <destination_address>86000 Poitiers, France</destination_address> <row> <element> <status>OK</status> <duration> <value>17884</value> <text>4 hours 58 mins</text> </duration> <distance> <value>514834</value> <text>515 km</text> </distance> </element> </row> </DistanceMatrixResponse> | J128: =ROUND(_xlfn.FILTERXML(I128,"/DistanceMatrixResponse/row/element/distance/value")/1000,1) -> 514.8
A129: FR125 | B129: S125 | C129: Capture and Shoot | F129: 37120 | G129: Braslou | I129: =_xlfn.WEBSERVICE("https://maps.googleapis.com/maps/api/distancematrix/xml?origins="&VLOOKUP($B129,Instituts!A:F,3,FALSE)&", "&VLOOKUP($B129,Instituts!A:F,4,FALSE)&" "&VLOOKUP($B129,Instituts!A:F,5,FALSE)&"&destinations="&E129&", " &F129&" "&G129&"&mode=driving") -> <?xml version="1.0" encoding="UTF-8"?> <DistanceMatrixResponse> <status>OK</status> <origin_address>6 Rue Guichard, 94230 Cachan, France</origin_address> <destination_address>37120 Braslou, France</destination_address> <row> <element> <status>OK</status> <duration> <value>9954</value> <text>2 hours 46 mins</text> </duration> <distance> <value>285628</value> <text>286 km</text> </distance> </element> </row> </DistanceMatrixResponse> | J129: =ROUND(_xlfn.FILTERXML(I129,"/DistanceMatrixResponse/row/element/distance/value")/1000,1) -> 285.6
A130: FR126 | B130: S126 | C130: La Rochelle | E130: 10 rue Amelot | F130: 17000 | G130: La Rochelle | I130: =_xlfn.WEBSERVICE("https://maps.googleapis.com/maps/api/distancematrix/xml?origins="&VLOOKUP($B130,Instituts!A:F,3,FALSE)&", "&VLOOKUP($B130,Instituts!A:F,4,FALSE)&" "&VLOOKUP($B130,Instituts!A:F,5,FALSE)&"&destinations="&E130&", " &F130&" "&G130&"&mode=driving") -> <?xml version="1.0" encoding="UTF-8"?> <DistanceMatrixResponse> <status>OK</status> <origin_address>Rue du Vieux Château, 62220 Carvin, France</origin_address> <destination_address>10 Rue Amelot, 17000 La Rochelle, France</destination_address> <row> <element> <status>OK</status> <duration> <value>22615</value> <text>6 hours 17 mins</text> </duration> <distance> <value>667413</value> <text>667 km</text> </distance> </element> </row> </DistanceMatrixResponse> | J130: =ROUND(_xlfn.FILTERXML(I130,"/DistanceMatrixResponse/row/element/distance/value")/1000,1) -> 667.4
A131: FR127 | B131: S127 | C131: Atelier Robert | E131: Galerie d’Avison | F131: 88600 | G131: Bruyères | I131: =_xlfn.WEBSERVICE("https://maps.googleapis.com/maps/api/distancematrix/xml?origins="&VLOOKUP($B131,Instituts!A:F,3,FALSE)&", "&VLOOKUP($B131,Instituts!A:F,4,FALSE)&" "&VLOOKUP($B131,Instituts!A:F,5,FALSE)&"&destinations="&E131&", " &F131&" "&G131&"&mode=driving") -> <?xml version="1.0" encoding="UTF-8"?> <DistanceMatrixResponse> <status>OK</status> <origin_address>6, Rue Paul Sabatier Zi Nord, 71100 Chalon-sur-Saône, France</origin_address> <destination_address>Z.A. Barbazan, 88600 Bruyères, France</destination_address> <row> <element> <status>OK</status> <duration> <value>10464</value> <text>2 hours 54 mins</text> </duration> <distance> <value>287797</value> <text>288 km</text> </distance> </element> </row> </DistanceMatrixResponse> | J131: =ROUND(_xlfn.FILTERXML(I131,"/DistanceMatrixResponse/row/element/distance/value")/1000,1) -> 287.8
A132: FR128 | B132: S128 | C132: Bleu Marine | E132: 42 avenue Henri Bartho | F132: 44500 | G132: La Baule-Escoublac | I132: =_xlfn.WEBSERVICE("https://maps.googleapis.com/maps/api/distancematrix/xml?origins="&VLOOKUP($B132,Instituts!A:F,3,FALSE)&", "&VLOOKUP($B132,Instituts!A:F,4,FALSE)&" "&VLOOKUP($B132,Instituts!A:F,5,FALSE)&"&destinations="&E132&", " &F132&" "&G132&"&mode=driving") -> <?xml version="1.0" encoding="UTF-8"?> <DistanceMatrixResponse> <status>OK</status> <origin_address>59 Place Dupleix, 86100 Châtellerault, France</origin_address> <destination_address>42 Avenue Henri Bertho, 44500 La Baule-Escoublac, France</destination_address> <row> <element> <status>OK</status> <duration> <value>10892</value> <text>3 hours 2 mins</text> </duration> <distance> <value>254878</value> <text>255 km</text> </distance> </element> </row> </DistanceMatrixResponse> | J132: =ROUND(_xlfn.FILTERXML(I132,"/DistanceMatrixResponse/row/element/distance/value")/1000,1) -> 254.9
A133: FR129 | B133: S129 | C133: Image System The Studio | E133: 275 Grand Rue | F133: 74350 | G133: Cruseilles | I133: =_xlfn.WEBSERVICE("https://maps.googleapis.com/maps/api/distancematrix/xml?origins="&VLOOKUP($B133,Instituts!A:F,3,FALSE)&", "&VLOOKUP($B133,Instituts!A:F,4,FALSE)&" "&VLOOKUP($B133,Instituts!A:F,5,FALSE)&"&destinations="&E133&", " &F133&" "&G133&"&mode=driving") -> <?xml version="1.0" encoding="UTF-8"?> <DistanceMatrixResponse> <status>OK</status> <origin_address></origin_address> <destination_address>275 Grand Rue, 74350 Cruseilles, France</destination_address> <row> <element> <status>NOT_FOUND</status> </element> </row> </DistanceMatrixResponse> | J133: =ROUND(_xlfn.FILTERXML(I133,"/DistanceMatrixResponse/row/element/distance/value")/1000,1) -> #VALUE!
A134: FR130 | B134: S130 | C134: Sonia Lorec | E134: 69 rue Amiral Courbet | F134: 56100 | G134: Lorient | I134: =_xlfn.WEBSERVICE("https://maps.googleapis.com/maps/api/distancematrix/xml?origins="&VLOOKUP($B134,Instituts!A:F,3,FALSE)&", "&VLOOKUP($B134,Instituts!A:F,4,FALSE)&" "&VLOOKUP($B134,Instituts!A:F,5,FALSE)&"&destinations="&E134&", " &F134&" "&G134&"&mode=driving") -> <?xml version="1.0" encoding="UTF-8"?> <DistanceMatrixResponse> <status>OK</status> <origin_address>17 Rue Auguste Renoir, 78400 Chatou, France</origin_address> <destination_address>69 Rue Amiral Courbet, 56100 Lorient, France</destination_address> <row> <element> <status>OK</status> <duration> <value>17979</value> <text>5 hours 0 mins</text> </duration> <distance> <value>499716</value> <text>500 km</text> </distance> </element> </row> </DistanceMatrixResponse> | J134: =ROUND(_xlfn.FILTERXML(I134,"/DistanceMatrixResponse/row/element/distance/value")/1000,1) -> 499.7
A135: FR131 | B135: S131 | C135: Studio du Miroir | E135: 2 place du Miroir | F135: 22300 | G135: Lannion | I135: =_xlfn.WEBSERVICE("https://maps.googleapis.com/maps/api/distancematrix/xml?origins="&VLOOKUP($B135,Instituts!A:F,3,FALSE)&", "&VLOOKUP($B135,Instituts!A:F,4,FALSE)&" "&VLOOKUP($B135,Instituts!A:F,5,FALSE)&"&destinations="&E135&", " &F135&" "&G135&"&mode=driving") -> <?xml version="1.0" encoding="UTF-8"?> <DistanceMatrixResponse> <status>OK</status> <origin_address></origin_address> <destination_address>2 Place du Miroir, 22300 Lannion, France</destination_address> <row> <element> <status>NOT_FOUND</status> </element> </row> </DistanceMatrixResponse> | J135: =ROUND(_xlfn.FILTERXML(I135,"/DistanceMatrixResponse/row/element/distance/value")/1000,1) -> #VALUE!
A136: FR132 | B136: S132 | C136: Jean-Luc Moyne SAS | E136: 60 rue Georges Braque | F136: 76600 | G136: Le Havre | I136: =_xlfn.WEBSERVICE("https://maps.googleapis.com/maps/api/distancematrix/xml?origins="&VLOOKUP($B136,Instituts!A:F,3,FALSE)&", "&VLOOKUP($B136,Instituts!A:F,4,FALSE)&" "&VLOOKUP($B136,Instituts!A:F,5,FALSE)&"&destinations="&E136&", " &F136&" "&G136&"&mode=driving") -> <?xml version="1.0" encoding="UTF-8"?> <DistanceMatrixResponse> <status>OK</status> <origin_address></origin_address> <destination_address>60 Rue Georges Braque, 76600 Le Havre, France</destination_address> <row> <element> <status>NOT_FOUND</status> </element> </row> </DistanceMatrixResponse> | J136: =ROUND(_xlfn.FILTERXML(I136,"/DistanceMatrixResponse/row/element/distance/value")/1000,1) -> #VALUE!
A137: FR133 | B137: S133 | C137: La | E137: 18 Rue de la République | F137: 38110 | G137: La-Tour-du-Pin | I137: =_xlfn.WEBSERVICE("https://maps.googleapis.com/maps/api/distancematrix/xml?origins="&VLOOKUP($B137,Instituts!A:F,3,FALSE)&", "&VLOOKUP($B137,Instituts!A:F,4,FALSE)&" "&VLOOKUP($B137,Instituts!A:F,5,FALSE)&"&destinations="&E137&", " &F137&" "&G137&"&mode=driving") -> <?xml version="1.0" encoding="UTF-8"?> <DistanceMatrixResponse> <status>OK</status> <origin_address>18 Avenue de Montpellier, 34800 Clermont-l'Hérault, France</origin_address> <destination_address>18 Rue de la République, 38110 La Tour-du-Pin, France</destination_address> <row> <element> <status>OK</status> <duration> <value>12789</value> <text>3 hours 33 mins</text> </duration> <distance> <value>370360</value> <text>370 km</text> </distance> </element> </row> </DistanceMatrixResponse> | J137: =ROUND(_xlfn.FILTERXML(I137,"/DistanceMatrixResponse/row/element/distance/value")/1000,1) -> 370.4
A138: FR134 | B138: S134 | C138: Amandine Crochet | E138: 8 Rue de Mayencin | F138: 38400 | G138: Saint-Martin-d'Hères | I138: =_xlfn.WEBSERVICE("https://maps.googleapis.com/maps/api/distancematrix/xml?origins="&VLOOKUP($B138,Instituts!A:F,3,FALSE)&", "&VLOOKUP($B138,Instituts!A:F,4,FALSE)&" "&VLOOKUP($B138,Instituts!A:F,5,FALSE)&"&destinations="&E138&", " &F138&" "&G138&"&mode=driving") -> <?xml version="1.0" encoding="UTF-8"?> <DistanceMatrixResponse> <status>OK</status> <origin_address>59 Boulevard du Général Leclerc, 92110 Clichy, France</origin_address> <destination_address>8 Rue de Mayencin, 38610 Saint-Martin-d'Hères, France</destination_address> <row> <element> <status>OK</status> <duration> <value>19694</value> <text>5 hours 28 mins</text> </duration> <distance> <value>596707</value> <text>597 km</text> </distance> </element> </row> </DistanceMatrixResponse> | J138: =ROUND(_xlfn.FILTERXML(I138,"/DistanceMatrixResponse/row/element/distance/value")/1000,1) -> 596.7
A139: FR135 | B139: S135 | C139: Jacques Ginguene | E139: 4 rue des Cèdres | F139: 35240 | G139: Retiers | I139: =_xlfn.WEBSERVICE("https://maps.googleapis.com/maps/api/distancematrix/xml?origins="&VLOOKUP($B139,Instituts!A:F,3,FALSE)&", "&VLOOKUP($B139,Instituts!A:F,4,FALSE)&" "&VLOOKUP($B139,Instituts!A:F,5,FALSE)&"&destinations="&E139&", " &F139&" "&G139&"&mode=driving") -> <?xml version="1.0" encoding="UTF-8"?> <DistanceMatrixResponse> <status>OK</status> <origin_address>20 Avenue des Saintes, Route de Poitiers, 16100 Cognac, France</origin_address> <destination_address>4 Rue Des Cèdres, 35240 Retiers, France</destination_address> <row> <element> <status>OK</status> <duration> <value>13059</value> <text>3 hours 38 mins</text> </duration> <distance> <value>329800</value> <text>330 km</text> </distance> </element> </row> </DistanceMatrixResponse> | J139: =ROUND(_xlfn.FILTERXML(I139,"/DistanceMatrixResponse/row/element/distance/value")/1000,1) -> 329.8
A140: FR136 | B140: S136 | C140: Caze | E140: 10 place Célestin Bellet | F140: 76110 | G140: Goderville | I140: =_xlfn.WEBSERVICE("https://maps.googleapis.com/maps/api/distancematrix/xml?origins="&VLOOKUP($B140,Instituts!A:F,3,FALSE)&", "&VLOOKUP($B140,Instituts!A:F,4,FALSE)&" "&VLOOKUP($B140,Instituts!A:F,5,FALSE)&"&destinations="&E140&", " &F140&" "&G140&"&mode=driving") -> <?xml version="1.0" encoding="UTF-8"?> <DistanceMatrixResponse> <status>OK</status> <origin_address>2 rue Charles Fabry, ZAC de l'Ormeau, 77380 Combs-la-Ville, France</origin_address> <destination_address>10 Place Célestin Bellet, 76110 Goderville, France</destination_address> <row> <element> <status>OK</status> <duration> <value>8904</value> <text>2 hours 28 mins</text> </duration> <distance> <value>236416</value> <text>236 km</text> </distance> </element> </row> </DistanceMatrixResponse> | J140: =ROUND(_xlfn.FILTERXML(I140,"/DistanceMatrixResponse/row/element/distance/value")/1000,1) -> 236.4
A141: FR137 | B141: S137 | C141: Déclic En Boite | F141: 22290 | G141: Pludual | I141: =_xlfn.WEBSERVICE("https://maps.googleapis.com/maps/api/distancematrix/xml?origins="&VLOOKUP($B141,Instituts!A:F,3,FALSE)&", "&VLOOKUP($B141,Instituts!A:F,4,FALSE)&" "&VLOOKUP($B141,Instituts!A:F,5,FALSE)&"&destinations="&E141&", " &F141&" "&G141&"&mode=driving") -> <?xml version="1.0" encoding="UTF-8"?> <DistanceMatrixResponse> <status>OK</status> <origin_address>2 Rue de l'Ambassadeur, 78700 Conflans-Sainte-Honorine, France</origin_address> <destination_address>22290 Pludual, France</destination_address> <row> <element> <status>OK</status> <duration> <value>17226</value> <text>4 hours 47 mins</text> </duration> <distance> <value>483705</value> <text>484 km</text> </distance> </element> </row> </DistanceMatrixResponse> | J141: =ROUND(_xlfn.FILTERXML(I141,"/DistanceMatrixResponse/row/element/distance/value")/1000,1) -> 483.7
A142: FR138 | B142: S138 | C142: Déclic En Boite | F142: 72000 | G142: Le Mans | I142: =_xlfn.WEBSERVICE("https://maps.googleapis.com/maps/api/distancematrix/xml?origins="&VLOOKUP($B142,Instituts!A:F,3,FALSE)&", "&VLOOKUP($B142,Instituts!A:F,4,FALSE)&" "&VLOOKUP($B142,Instituts!A:F,5,FALSE)&"&destinations="&E142&", " &F142&" "&G142&"&mode=driving") -> <?xml version="1.0" encoding="UTF-8"?> <DistanceMatrixResponse> <status>OK</status> <origin_address>4 Avenue de la Liberté, 92400 Courbevoie, France</origin_address> <destination_address>72000 Le Mans, France</destination_address> <row> <element> <status>OK</status> <duration> <value>7710</value> <text>2 hours 9 mins</text> </duration> <distance> <value>210157</value> <text>210 km</text> </distance> </element> </row> </DistanceMatrixResponse> | J142: =ROUND(_xlfn.FILTERXML(I142,"/DistanceMatrixResponse/row/element/distance/value")/1000,1) -> 210.2
A143: FR139 | B143: S139 | C143: Gweltaz Rollando | F143: 22600 | G143: Loudéac | I143: =_xlfn.WEBSERVICE("https://maps.googleapis.com/maps/api/distancematrix/xml?origins="&VLOOKUP($B143,Instituts!A:F,3,FALSE)&", "&VLOOKUP($B143,Instituts!A:F,4,FALSE)&" "&VLOOKUP($B143,Instituts!A:F,5,FALSE)&"&destinations="&E143&", " &F143&" "&G143&"&mode=driving") -> <?xml version="1.0" encoding="UTF-8"?> <DistanceMatrixResponse> <status>OK</status> <origin_address>9027 Avenue de la division Leclerc, 50200 Coutances, France</origin_address> <destination_address>22600 Loudéac, France</destination_address> <row> <element> <status>OK</status> <duration> <value>8570</value> <text>2 hours 23 mins</text> </duration> <distance> <value>200126</value> <text>200 km</text> </distance> </element> </row> </DistanceMatrixResponse> | J143: =ROUND(_xlfn.FILTERXML(I143,"/DistanceMatrixResponse/row/element/distance/value")/1000,1) -> 200.1
A144: FR140 | B144: S140 | C144: SEPIA VIDEO | E144: 5 rue des Suisses _ Cours Lafayette | F144: 03300 | G144: Cusset | I144: =_xlfn.WEBSERVICE("https://maps.googleapis.com/maps/api/distancematrix/xml?origins="&VLOOKUP($B144,Instituts!A:F,3,FALSE)&", "&VLOOKUP($B144,Instituts!A:F,4,FALSE)&" "&VLOOKUP($B144,Instituts!A:F,5,FALSE)&"&destinations="&E144&", " &F144&" "&G144&"&mode=driving") -> <?xml version="1.0" encoding="UTF-8"?> <DistanceMatrixResponse> <status>OK</status> <origin_address>Rue saint Étienne - Parc D'Activités Sud, 57150 Creutzwald, France</origin_address> <destination_address></destination_address> <row> <element> <status>NOT_FOUND</status> </element> </row> </DistanceMatrixResponse> | J144: =ROUND(_xlfn.FILTERXML(I144,"/DistanceMatrixResponse/row/element/distance/value")/1000,1) -> #VALUE!
A145: FR141 | B145: S141 | C145: Sabrina Lavigne | E145: 4 Place Jean Jaurès | F145: 34000 | G145: Montpellier | I145: =_xlfn.WEBSERVICE("https://maps.googleapis.com/maps/api/distancematrix/xml?origins="&VLOOKUP($B145,Instituts!A:F,3,FALSE)&", "&VLOOKUP($B145,Instituts!A:F,4,FALSE)&" "&VLOOKUP($B145,Instituts!A:F,5,FALSE)&"&destinations="&E145&", " &F145&" "&G145&"&mode=driving") -> <?xml version="1.0" encoding="UTF-8"?> <DistanceMatrixResponse> <status>OK</status> <origin_address>39 Rue Jean Jacques Rousseau, 21000 Dijon, France</origin_address> <destination_address>4 Place Jean Jaurès, 34000 Montpellier, France</destination_address> <row> <element> <status>OK</status> <duration> <value>17755</value> <text>4 hours 56 mins</text> </duration> <distance> <value>507690</value> <text>508 km</text> </distance> </element> </row> </DistanceMatrixResponse> | J145: =ROUND(_xlfn.FILTERXML(I145,"/DistanceMatrixResponse/row/element/distance/value")/1000,1) -> 507.7
A146: FR142 | B146: S142 | C146: Studio Alain Quittot | E146: 38 bis rue Val Anne Marie | F146: 52000 | G146: Chaumont | I146: =_xlfn.WEBSERVICE("https://maps.googleapis.com/maps/api/distancematrix/xml?origins="&VLOOKUP($B146,Instituts!A:F,3,FALSE)&", "&VLOOKUP($B146,Instituts!A:F,4,FALSE)&" "&VLOOKUP($B146,Instituts!A:F,5,FALSE)&"&destinations="&E146&", " &F146&" "&G146&"&mode=driving") -> <?xml version="1.0" encoding="UTF-8"?> <DistanceMatrixResponse> <status>OK</status> <origin_address>11 Rue du Chapeau Rouge, 21000 Dijon, France</origin_address> <destination_address>38 Rue du Val Anne Marie, 52000 Chaumont, France</destination_address> <row> <element> <status>OK</status> <duration> <value>4388</value> <text>1 hour 13 mins</text> </duration> <distance> <value>110018</value> <text>110 km</text> </distance> </element> </row> </DistanceMatrixResponse> | J146: =ROUND(_xlfn.FILTERXML(I146,"/DistanceMatrixResponse/row/element/distance/value")/1000,1) -> 110
A147: FR143 | B147: S143 | C147: Studio Tancrède | E147: 13 rue Tancrède | F147: 50200 | G147: Coutances | I147: =_xlfn.WEBSERVICE("https://maps.googleapis.com/maps/api/distancematrix/xml?origins="&VLOOKUP($B147,Instituts!A:F,3,FALSE)&", "&VLOOKUP($B147,Instituts!A:F,4,FALSE)&" "&VLOOKUP($B147,Instituts!A:F,5,FALSE)&"&destinations="&E147&", " &F147&" "&G147&"&mode=driving") -> <?xml version="1.0" encoding="UTF-8"?> <DistanceMatrixResponse> <status>OK</status> <origin_address>9 Rue Georges Cisson, 83300 Draguignan, France</origin_address> <destination_address>13 Rue Tancrède, 50200 Coutances, France</destination_address> <row> <element> <status>OK</status> <duration> <value>39740</value> <text>11 hours 2 mins</text> </duration> <distance> <value>1210330</value> <text>1,210 km</text> </distance> </element> </row> </DistanceMatrixResponse> | J147: =ROUND(_xlfn.FILTERXML(I147,"/DistanceMatrixResponse/row/element/distance/value")/1000,1) -> 1210.3
A148: FR144 | B148: S144 | C148: Espace | E148: 14 rue Jacques Soubielle | F148: 65200 | G148: Bagnères-de-Bigorre | I148: =_xlfn.WEBSERVICE("https://maps.googleapis.com/maps/api/distancematrix/xml?origins="&VLOOKUP($B148,Instituts!A:F,3,FALSE)&", "&VLOOKUP($B148,Instituts!A:F,4,FALSE)&" "&VLOOKUP($B148,Instituts!A:F,5,FALSE)&"&destinations="&E148&", " &F148&" "&G148&"&mode=driving") -> <?xml version="1.0" encoding="UTF-8"?> <DistanceMatrixResponse> <status>OK</status> <origin_address>5 Rue Cristino Garcia, 95600 Eaubonne, France</origin_address> <destination_address>14 Rue Jacques Soubielle, 65200 Bagnères-de-Bigorre, France</destination_address> <row> <element> <status>OK</status> <duration> <value>28870</value> <text>8 hours 1 min</text> </duration> <distance> <value>840728</value> <text>841 km</text> </distance> </element> </row> </DistanceMatrixResponse> | J148: =ROUND(_xlfn.FILTERXML(I148,"/DistanceMatrixResponse/row/element/distance/value")/1000,1) -> 840.7
A149: FR145 | B149: S145 | C149: Grand Angle | E149: 60 Rue Gambetta | F149: 50120 | G149: Équeurdreville-Hainneville | I149: =_xlfn.WEBSERVICE("https://maps.googleapis.com/maps/api/distancematrix/xml?origins="&VLOOKUP($B149,Instituts!A:F,3,FALSE)&", "&VLOOKUP($B149,Instituts!A:F,4,FALSE)&" "&VLOOKUP($B149,Instituts!A:F,5,FALSE)&"&destinations="&E149&", " &F149&" "&G149&"&mode=driving") -> <?xml version="1.0" encoding="UTF-8"?> <DistanceMatrixResponse> <status>OK</status> <origin_address>Avenue François Mitterrand, 57290 Fameck, France</origin_address> <destination_address>60 Rue Gambetta, 50120 Équeurdreville-Hainneville, France</destination_address> <row> <element> <status>OK</status> <duration> <value>23845</value> <text>6 hours 37 mins</text> </duration> <distance> <value>700527</value> <text>701 km</text> </distance> </element> </row> </DistanceMatrixResponse> | J149: =ROUND(_xlfn.FILTERXML(I149,"/DistanceMatrixResponse/row/element/distance/value")/1000,1) -> 700.5
A150: FR146 | B150: S146 | C150: Puech Michel s | F150: 31000 | G150: Toulouse | I150: =_xlfn.WEBSERVICE("https://maps.googleapis.com/maps/api/distancematrix/xml?origins="&VLOOKUP($B150,Instituts!A:F,3,FALSE)&", "&VLOOKUP($B150,Instituts!A:F,4,FALSE)&" "&VLOOKUP($B150,Instituts!A:F,5,FALSE)&"&destinations="&E150&", " &F150&" "&G150&"&mode=driving") -> <?xml version="1.0" encoding="UTF-8"?> <DistanceMatrixResponse> <status>OK</status> <origin_address></origin_address> <destination_address>31000 Toulouse, France</destination_address> <row> <element> <status>NOT_FOUND</status> </element> </row> </DistanceMatrixResponse> | J150: =ROUND(_xlfn.FILTERXML(I150,"/DistanceMatrixResponse/row/element/distance/value")/1000,1) -> #VALUE!
A151: FR147 | B151: S147 | C151: Puech Michel s | F151: 82000 | G151: Montauban | I151: =_xlfn.WEBSERVICE("https://maps.googleapis.com/maps/api/distancematrix/xml?origins="&VLOOKUP($B151,Instituts!A:F,3,FALSE)&", "&VLOOKUP($B151,Instituts!A:F,4,FALSE)&" "&VLOOKUP($B151,Instituts!A:F,5,FALSE)&"&destinations="&E151&", " &F151&" "&G151&"&mode=driving") -> <?xml version="1.0" encoding="UTF-8"?> <DistanceMatrixResponse> <status>OK</status> <origin_address>ZAC Les Portes du Gers, RD 632, 31470 Fonsorbes, France</origin_address> <destination_address>82000 Montauban, France</destination_address> <row> <element> <status>OK</status> <duration> <value>3722</value> <text>1 hour 2 mins</text> </duration> <distance> <value>81632</value> <text>81.6 km</text> </distance> </element> </row> </DistanceMatrixResponse> | J151: =ROUND(_xlfn.FILTERXML(I151,"/DistanceMatrixResponse/row/element/distance/value")/1000,1) -> 81.6
A152: FR148 | B152: S148 | C152: Puech Michel s | F152: 46000 | G152: Cahors | I152: =_xlfn.WEBSERVICE("https://maps.googleapis.com/maps/api/distancematrix/xml?origins="&VLOOKUP($B152,Instituts!A:F,3,FALSE)&", "&VLOOKUP($B152,Instituts!A:F,4,FALSE)&" "&VLOOKUP($B152,Instituts!A:F,5,FALSE)&"&destinations="&E152&", " &F152&" "&G152&"&mode=driving") -> <?xml version="1.0" encoding="UTF-8"?> <DistanceMatrixResponse> <status>OK</status> <origin_address>1 Boulevard Jacques Faucheux, 35300 Fougères, France</origin_address> <destination_address>46000 Cahors, France</destination_address> <row> <element> <status>OK</status> <duration> <value>24273</value> <text>6 hours 45 mins</text> </duration> <distance> <value>660523</value> <text>661 km</text> </distance> </element> </row> </DistanceMatrixResponse> | J152: =ROUND(_xlfn.FILTERXML(I152,"/DistanceMatrixResponse/row/element/distance/value")/1000,1) -> 660.5
...
