Workbook

Sheet Instituts
A1: Id institut | B1: Institut | C1: Adresse | D1: CP | E1: Ville | F1: Tél | G1: Nb_Clients
A2: 1 | B2: Palais des Arts | C2: Place de Bretagne | D2: 56000 | E2: Vannes | G2: =COUNTIF(Clients!B:B,Instituts!A2) -> 2
A3: 2 | B3: Mbaq | C3: 40 Place Saint-Corentin | D3: 29000 | E3: Quimper | G3: =COUNTIF(Clients!B:B,Instituts!A3) -> 1
A4: S01 | B4: ABC1 | C4: 7 RUE DU JEUDI | D4: 61000 | E4: ALENCON | G4: =COUNTIF(Clients!B:B,Instituts!A4) -> 1
A5: S02 | B5: ABC2 | C5: 158 RUE P.V. COUTURIER | D5: 94140 | E5: ALFORTVILLE | G5: =COUNTIF(Clients!B:B,Instituts!A5) -> 1
A6: S03 | B6: ABC3 | C6: C. CIAL INTERMARCHE 65, IMPASSE DES CHAMPS | D6: 74800 | E6: AMANCY | G6: =COUNTIF(Clients!B:B,Instituts!A6) -> 1
A7: S04 | B7: ABC4 | C7: Centre Commercial ESPACE ANJOU 75 Avenue MONTAIGNE | D7: 49000 | E7: ANGERS | G7: =COUNTIF(Clients!B:B,Instituts!A7) -> 1
A8: S05 | B8: ABC5 | C8: 21 RUE BRESSIGNY | D8: 49100 | E8: ANGERS | G8: =COUNTIF(Clients!B:B,Instituts!A8) -> 1
A9: S06 | B9: ABC6 | C9: 3, AVENUE DE BAYONNE | D9: 64600 | E9: ANGLET | G9: =COUNTIF(Clients!B:B,Instituts!A9) -> 1
A10: S07 | B10: ABC7 | C10: RUE DE LA MADELEINE C/C LECLERC | D10: 16000 | E10: ANGOULEME | G10: =COUNTIF(Clients!B:B,Instituts!A10) -> 1
A11: S08 | B11: ABC8 | C11: 51 RUE RENE GOSCINNY | D11: 16000 | E11: ANGOULEME | G11: =COUNTIF(Clients!B:B,Instituts!A11) -> 1
A12: S09 | B12: ABC9 | C12: C/CCIAL INTERMARCHE RUE DES IBIS | D12: 66700 | E12: ARGELES SUR MER | G12: =COUNTIF(Clients!B:B,Instituts!A12) -> 1
A13: S10 | B13: ABC10 | C13: 9 RUE GUINCHARD | D13: 91290 | E13: ARPAJON | G13: =COUNTIF(Clients!B:B,Instituts!A13) -> 1
A14: S11 | B14: ABC11 | C14: CENTRE COMMERCIAL AUCHAN 6 RUE CLAUDE BERNARD | D14: 62000 | E14: ARRAS | G14: =COUNTIF(Clients!B:B,Instituts!A14) -> 1
A15: S12 | B15: ABC12 | C15: 13 RUE DE BONDY | D15: 93600 | E15: AULNAY SOUS BOIS | G15: =COUNTIF(Clients!B:B,Instituts!A15) -> 1
... A234: S231 | B234: ABC231 | C234: CENTRE COMMERCIAL LECLERC 25 ROUTE DEPARTEMENTALE | D234: 67310 | E234: WASSELONNE | G234: =COUNTIF(Clients!B:B,Instituts!A234) -> 1

Sheet Clients
A1: Id | B1: Id_Institut | C1: Nom | D1: Prénom | E1: Adresse | F1: CP | G1: Ville | H1: Tél | I1: xml | J1: Distance (km)
A2: 1 | B2: 1 | C2: Suscinio | E2: 1 Rue de Kerglomirec | F2: 56370 | G2: Sarzeau | I2: =_xlfn.WEBSERVICE("https://maps.googleapis.com/maps/api/distancematrix/xml?origins="&VLOOKUP($B2,Instituts!A:F,3,FALSE)&", "&VLOOKUP($B2,Instituts!A:F,4,FALSE)&" "&VLOOKUP($B2,Instituts!A:F,5,FALSE)&"&destinations="&E2&", " &F2&" "&G2&"&mode=driving") -> <?xml version="1.0" encoding="UTF-8"?> <DistanceMatrixResponse> <status>OK</status> <origin_address>Place de Bretagne, 56000 Vannes, France</origin_address> <destination_address>Rue de Kerglomirec, 56370 Sarzeau, France</destination_address> <row> <element> <status>OK</status> <duration> <value>1546</value> <text>26 mins</text> </duration> <distance> <value>25436</value> <text>25.4 km</text> </distance> </element> </row> </DistanceMatrixResponse> | J2: =ROUND(_xlfn.FILTERXML(I2,"/DistanceMatrixResponse/row/element/distance/value")/1000,1) -> 25.4
A3: 2 | B3: 1 | C3: StCo | E3: 3 Avenue de la Grève | F3: 56340 | G3: Carnac | I3: =_xlfn.WEBSERVICE("https://maps.googleapis.com/maps/api/distancematrix/xml?origins="&VLOOKUP($B3,Instituts!A:F,3,FALSE)&", "&VLOOKUP($B3,Instituts!A:F,4,FALSE)&" "&VLOOKUP($B3,Instituts!A:F,5,FALSE)&"&destinations="&E3&", " &F3&" "&G3&"&mode=driving") -> <?xml version="1.0" encoding="UTF-8"?> <DistanceMatrixResponse> <status>OK</status> <origin_address>Place de Bretagne, 56000 Vannes, France</origin_address> <destination_address>3 Avenue de la Grève, 56340 Carnac, France</destination_address> <row> <element> <status>OK</status> <duration> <value>2034</value> <text>34 mins</text> </duration> <distance> <value>34708</value> <text>34.7 km</text> </distance> </element> </row> </DistanceMatrixResponse> | J3: =ROUND(_xlfn.FILTERXML(I3,"/DistanceMatrixResponse/row/element/distance/value")/1000,1) -> 34.7
A4: 3 | B4: 2 | C4: LaPoste | E4: 1 rue Ar Ster | F4: 29100 | G4: Pouldergat | I4: =_xlfn.WEBSERVICE("https://maps.googleapis.com/maps/api/distancematrix/xml?origins="&VLOOKUP($B4,Instituts!A:F,3,FALSE)&", "&VLOOKUP($B4,Instituts!A:F,4,FALSE)&" "&VLOOKUP($B4,Instituts!A:F,5,FALSE)&"&destinations="&E4&", " &F4&" "&G4&"&mode=driving") -> <?xml version="1.0" encoding="UTF-8"?> <DistanceMatrixResponse> <status>OK</status> <origin_address>40 Place Saint-Corentin, 29000 Quimper, France</origin_address> <destination_address>1 Rue ar Ster, 29100 Pouldergat, France</destination_address> <row> <element> <status>OK</status> <duration> <value>1463</value> <text>24 mins</text> </duration> <distance> <value>20885</value> <text>20.9 km</text> </distance> </element> </row> </DistanceMatrixResponse> | J4: =ROUND(_xlfn.FILTERXML(I4,"/DistanceMatrixResponse/row/element/distance/value")/1000,1) -> 20.9
A5: FR01 | B5: S01 | C5: Art Studio | E5: 4 avenue Jean Giono | F5: 4100 | G5: Manosque | I5: =_xlfn.WEBSERVICE("https://maps.googleapis.com/maps/api/distancematrix/xml?origins="&VLOOKUP($B5,Instituts!A:F,3,FALSE)&", "&VLOOKUP($B5,Instituts!A:F,4,FALSE)&" "&VLOOKUP($B5,Instituts!A:F,5,FALSE)&"&destinations="&E5&", " &F5&" "&G5&"&mode=driving") -> <?xml version="1.0" encoding="UTF-8"?> <DistanceMatrixResponse> <status>OK</status> <origin_address>7 Rue du Jeudi, 61000 Alençon, France</origin_address> <destination_address>4 Avenue Jean Giono, 04100 Manosque, France</destination_address> <row> <element> <status>OK</status> <duration> <value>32031</value> <text>8 hours 54 mins</text> </duration> <distance> <value>963779</value> <text>964 km</text> </distance> </element> </row> </DistanceMatrixResponse> | J5: =ROUND(_xlfn.FILTERXML(I5,"/DistanceMatrixResponse/row/element/distance/value")/1000,1) -> 963.8
A6: FR02 | B6: S02 | C6: Art et Trust | E6: 59 rue Carnot | F6: 05000 | G6: Gap | I6: =_xlfn.WEBSERVICE("https://maps.googleapis.com/maps/api/distancematrix/xml?origins="&VLOOKUP($B6,Instituts!A:F,3,FALSE)&", "&VLOOKUP($B6,Instituts!A:F,4,FALSE)&" "&VLOOKUP($B6,Instituts!A:F,5,FALSE)&"&destinations="&E6&", " &F6&" "&G6&"&mode=driving") -> <?xml version="1.0" encoding="UTF-8"?> <DistanceMatrixResponse> <status>OK</status> <origin_address>158 Rue Paul Vaillant Couturier, 94140 Alfortville, France</origin_address> <destination_address>59 Rue Carnot, 05000 Gap, France</destination_address> <row> <element> <status>OK</status> <duration> <value>24910</value> <text>6 hours 55 mins</text> </duration> <distance> <value>693488</value> <text>693 km</text> </distance> </element> </row> </DistanceMatrixResponse> | J6: =ROUND(_xlfn.FILTERXML(I6,"/DistanceMatrixResponse/row/element/distance/value")/1000,1) -> 693.5
A7: FR03 | B7: S03 | C7: Chevallier | E7: 12 rue de la Trinité | F7: 10000 | G7: Troyes | I7: =_xlfn.WEBSERVICE("https://maps.googleapis.com/maps/api/distancematrix/xml?origins="&VLOOKUP($B7,Instituts!A:F,3,FALSE)&", "&VLOOKUP($B7,Instituts!A:F,4,FALSE)&" "&VLOOKUP($B7,Instituts!A:F,5,FALSE)&"&destinations="&E7&", " &F7&" "&G7&"&mode=driving") -> <?xml version="1.0" encoding="UTF-8"?> <DistanceMatrixResponse> <status>OK</status> <origin_address>65 Impasse des Champs, 74800 Amancy, France</origin_address> <destination_address>12 Rue de la Trinité, 10000 Troyes, France</destination_address> <row> <element> <status>OK</status> <duration> <value>15009</value> <text>4 hours 10 mins</text> </duration> <distance> <value>453464</value> <text>453 km</text> </distance> </element> </row> </DistanceMatrixResponse> | J7: =ROUND(_xlfn.FILTERXML(I7,"/DistanceMatrixResponse/row/element/distance/value")/1000,1) -> 453.5
A8: FR04 | B8: S04 | C8: See Boyer | E8: 25 rue Jacquemart | F8: 26100 | G8: Romans | I8: =_xlfn.WEBSERVICE("https://maps.googleapis.com/maps/api/distancematrix/xml?origins="&VLOOKUP($B8,Instituts!A:F,3,FALSE)&", "&VLOOKUP($B8,Instituts!A:F,4,FALSE)&" "&VLOOKUP($B8,Instituts!A:F,5,FALSE)&"&destinations="&E8&", " &F8&" "&G8&"&mode=driving") -> <?xml version="1.0" encoding="UTF-8"?> <DistanceMatrixResponse> <status>OK</status> <origin_address>75 Avenue Montaigne, 49000 Angers, France</origin_address> <destination_address>25 Rue Jacquemart, 26100 Romans-sur-Isère, France</destination_address> <row> <element> <status>OK</status> <duration> <value>22714</value> <text>6 hours 19 mins</text> </duration> <distance> <value>695373</value> <text>695 km</text> </distance> </element> </row> </DistanceMatrixResponse> | J8: =ROUND(_xlfn.FILTERXML(I8,"/DistanceMatrixResponse/row/element/distance/value")/1000,1) -> 695.4
A9: FR05 | B9: S05 | C9: Studio Martino | E9: 26-28 place des Halles | F9: 28000 | G9: Chartres | I9: =_xlfn.WEBSERVICE("https://maps.googleapis.com/maps/api/distancematrix/xml?origins="&VLOOKUP($B9,Instituts!A:F,3,FALSE)&", "&VLOOKUP($B9,Instituts!A:F,4,FALSE)&" "&VLOOKUP($B9,Instituts!A:F,5,FALSE)&"&destinations="&E9&", " &F9&" "&G9&"&mode=driving") -> <?xml version="1.0" encoding="UTF-8"?> <DistanceMatrixResponse> <status>OK</status> <origin_address>21 Rue Bressigny, 49100 Angers, France</origin_address> <destination_address>26 Place des Halles, 28000 Chartres, France</destination_address> <row> <element> <status>OK</status> <duration> <value>7538</value> <text>2 hours 6 mins</text> </duration> <distance> <value>216227</value> <text>216 km</text> </distance> </element> </row> </DistanceMatrixResponse> | J9: =ROUND(_xlfn.FILTERXML(I9,"/DistanceMatrixResponse/row/element/distance/value")/1000,1) -> 216.2
A10: FR06 | B10: S06 | C10: Thymerais | E10: 53 rue Jean Moulin | F10: 28170 | G10: Chateauneuf-en-Thymerais | I10: =_xlfn.WEBSERVICE("https://maps.googleapis.com/maps/api/distancematrix/xml?origins="&VLOOKUP($B10,Instituts!A:F,3,FALSE)&", "&VLOOKUP($B10,Instituts!A:F,4,FALSE)&" "&VLOOKUP($B10,Instituts!A:F,5,FALSE)&"&destinations="&E10&", " &F10&" "&G10&"&mode=driving") -> <?xml version="1.0" encoding="UTF-8"?> <DistanceMatrixResponse> <status>OK</status> <origin_address>3 Avenue de Bayonne, 64600 Anglet, France</origin_address> <destination_address>53 Rue Jean Moulin, 28170 Châteauneuf-en-Thymerais, France</destination_address> <row> <element> <status>OK</status> <duration> <value>24597</value> <text>6 hours 50 mins</text> </duration> <distance> <value>739452</value> <text>739 km</text> </distance> </element> </row> </DistanceMatrixResponse> | J10: =ROUND(_xlfn.FILTERXML(I10,"/DistanceMatrixResponse/row/element/distance/value")/1000,1) -> 739.5
A11: FR07 | B11: S07 | C11: Studio André | E11: 22 place des Otages | F11: 29600 | G11: Morlaix | I11: =_xlfn.WEBSERVICE("https://maps.googleapis.com/maps/api/distancematrix/xml?origins="&VLOOKUP($B11,Instituts!A:F,3,FALSE)&", "&VLOOKUP($B11,Instituts!A:F,4,FALSE)&" "&VLOOKUP($B11,Instituts!A:F,5,FALSE)&"&destinations="&E11&", " &F11&" "&G11&"&mode=driving") -> <?xml version="1.0" encoding="UTF-8"?> <DistanceMatrixResponse> <status>OK</status> <origin_address>3 Rue de la Madeleine, C. Cial Leclerc, 16000 Angoulême, France</origin_address> <destination_address>22 Place des Otages, 29600 Morlaix, France</destination_address> <row> <element> <status>OK</status> <duration> <value>20668</value> <text>5 hours 44 mins</text> </duration> <distance> <value>566908</value> <text>567 km</text> </distance> </element> </row> </DistanceMatrixResponse> | J11: =ROUND(_xlfn.FILTERXML(I11,"/DistanceMatrixResponse/row/element/distance/value")/1000,1) -> 566.9
A12: FR08 | B12: S08 | C12: Clic Clac | E12: 43 Boulevard Gambetta | F12: 30700 | G12: Uzes | I12: =_xlfn.WEBSERVICE("https://maps.googleapis.com/maps/api/distancematrix/xml?origins="&VLOOKUP($B12,Instituts!A:F,3,FALSE)&", "&VLOOKUP($B12,Instituts!A:F,4,FALSE)&" "&VLOOKUP($B12,Instituts!A:F,5,FALSE)&"&destinations="&E12&", " &F12&" "&G12&"&mode=driving") -> <?xml version="1.0" encoding="UTF-8"?> <DistanceMatrixResponse> <status>OK</status> <origin_address>51 Rue René Goscinny, 16000 Angoulême, France</origin_address> <destination_address>43 Boulevard Gambetta, 30700 Uzès, France</destination_address> <row> <element> <status>OK</status> <duration> <value>22922</value> <text>6 hours 22 mins</text> </duration> <distance> <value>671763</value> <text>672 km</text> </distance> </element> </row> </DistanceMatrixResponse> | J12: =ROUND(_xlfn.FILTERXML(I12,"/DistanceMatrixResponse/row/element/distance/value")/1000,1) -> 671.8
A13: FR09 | B13: S09 | C13: Edmond -Graf | E13: Ctre Cial Leclerc Moleon | F13: 33210 | G13: Langon | I13: =_xlfn.WEBSERVICE("https://maps.googleapis.com/maps/api/distancematrix/xml?origins="&VLOOKUP($B13,Instituts!A:F,3,FALSE)&", "&VLOOKUP($B13,Instituts!A:F,4,FALSE)&" "&VLOOKUP($B13,Instituts!A:F,5,FALSE)&"&destinations="&E13&", " &F13&" "&G13&"&mode=driving") -> <?xml version="1.0" encoding="UTF-8"?> <DistanceMatrixResponse> <status>OK</status> <origin_address>Route de Perpignan, 66700 Argeles-sur-mer, France</origin_address> <destination_address>Moléon, 33210 Langon, France</destination_address> <row> <element> <status>OK</status> <duration> <value>13882</value> <text>3 hours 51 mins</text> </duration> <distance> <value>429817</value> <text>430 km</text> </distance> </element> </row> </DistanceMatrixResponse> | J13: =ROUND(_xlfn.FILTERXML(I13,"/DistanceMatrixResponse/row/element/distance/value")/1000,1) -> 429.8
A14: FR10 | B14: S10 | C14: Studio Roger | E14: 272 boulevard de la Plage | F14: 33120 | G14: Arcachon | I14: =_xlfn.WEBSERVICE("https://maps.googleapis.com/maps/api/distancematrix/xml?origins="&VLOOKUP($B14,Instituts!A:F,3,FALSE)&", "&VLOOKUP($B14,Instituts!A:F,4,FALSE)&" "&VLOOKUP($B14,Instituts!A:F,5,FALSE)&"&destinations="&E14&", " &F14&" "&G14&"&mode=driving") -> <?xml version="1.0" encoding="UTF-8"?> <DistanceMatrixResponse> <status>OK</status> <origin_address>9 Rue Guinchard, 91290 Arpajon, France</origin_address> <destination_address>272 Boulevard de la Plage, 33120 Arcachon, France</destination_address> <row> <element> <status>OK</status> <duration> <value>20963</value> <text>5 hours 49 mins</text> </duration> <distance> <value>629280</value> <text>629 km</text> </distance> </element> </row> </DistanceMatrixResponse> | J14: =ROUND(_xlfn.FILTERXML(I14,"/DistanceMatrixResponse/row/element/distance/value")/1000,1) -> 629.3
A15: FR11 | B15: S11 | C15: Patrick Forest | E15: 27 rue de la République | F15: 42000 | G15: Saint-Etienne | I15: =_xlfn.WEBSERVICE("https://maps.googleapis.com/maps/api/distancematrix/xml?origins="&VLOOKUP($B15,Instituts!A:F,3,FALSE)&", "&VLOOKUP($B15,Instituts!A:F,4,FALSE)&" "&VLOOKUP($B15,Instituts!A:F,5,FALSE)&"&destinations="&E15&", " &F15&" "&G15&"&mode=driving") -> <?xml version="1.0" encoding="UTF-8"?> <DistanceMatrixResponse> <status>OK</status> <origin_address>6 Rue Claude Bernard, Ccial Auchan, 62000 Arras, France</origin_address> <destination_address>27 Rue de la République, 42000 Saint-Étienne, France</destination_address> <row> <element> <status>OK</status> <duration> <value>24326</value> <text>6 hours 45 mins</text> </duration> <distance> <value>739203</value> <text>739 km</text> </distance> </element> </row> </DistanceMatrixResponse> | J15: =ROUND(_xlfn.FILTERXML(I15,"/DistanceMatrixResponse/row/element/distance/value")/1000,1) -> 739.2
A16: FR12 | B16: S12 | C16: Studio JB - Maison Aumeunie | E16: 21 rue Maurice André | F16: 42330 | G16: Saint-Galmier | I16: =_xlfn.WEBSERVICE("https://maps.googleapis.com/maps/api/distancematrix/xml?origins="&VLOOKUP($B16,Instituts!A:F,3,FALSE)&", "&VLOOKUP($B16,Instituts!A:F,4,FALSE)&" "&VLOOKUP($B16,Instituts!A:F,5,FALSE)&"&destinations="&E16&", " &F16&" "&G16&"&mode=driving") -> <?xml version="1.0" encoding="UTF-8"?> <DistanceMatrixResponse> <status>OK</status> <origin_address>13 Route de Bondy, 93600 Aulnay-sous-Bois, France</origin_address> <destination_address>21 Rue Maurice André, 42330 Saint-Galmier, France</destination_address> <row> <element> <status>OK</status> <duration> <value>18453</value> <text>5 hours 8 mins</text> </duration> <distance> <value>547046</value> <text>547 km</text> </distance> </element> </row> </DistanceMatrixResponse> | J16: =ROUND(_xlfn.FILTERXML(I16,"/DistanceMatrixResponse/row/element/distance/value")/1000,1) -> 547
A17: FR13 | B17: S13 | C17: Studio Arria | E17: 10 rue Raymond Mondon | F17: 54150 | G17: Briey | I17: =_xlfn.WEBSERVICE("https://maps.googleapis.com/maps/api/distancematrix/xml?origins="&VLOOKUP($B17,Instituts!A:F,3,FALSE)&", "&VLOOKUP($B17,Instituts!A:F,4,FALSE)&" "&VLOOKUP($B17,Instituts!A:F,5,FALSE)&"&destinations="&E17&", " &F17&" "&G17&"&mode=driving") -> <?xml version="1.0" encoding="UTF-8"?> <DistanceMatrixResponse> <status>OK</status> <origin_address>Avenue de la Rotonde, 17440 Aytré, France</origin_address> <destination_address>10 Rue Raymond Mondon, 54150 Briey, France</destination_address> <row> <element> <status>OK</status> <duration> <value>25046</value> <text>6 hours 57 mins</text> </duration> <distance> <value>790647</value> <text>791 km</text> </distance> </element> </row> </DistanceMatrixResponse> | J17: =ROUND(_xlfn.FILTERXML(I17,"/DistanceMatrixResponse/row/element/distance/value")/1000,1) -> 790.6
... A70: FR66 | B70: S66 | C70: Jeremy Sezille | E70: 2A Rue de la Mairie | F70: 25360 | G70: Aïssey | I70: =_xlfn.WEBSERVICE("https://maps.googleapis.com/maps/api/distancematrix/xml?origins="&VLOOKUP($B70,Instituts!A:F,3,FALSE)&", "&VLOOKUP($B70,Instituts!A:F,4,FALSE)&" "&VLOOKUP($B70,Instituts!A:F,5,FALSE)&"&destinations="&E70&", " &F70&" "&G70&"&mode=driving") -> <?xml version="1.0" encoding="UTF-8"?> <DistanceMatrixResponse> <status>OK</status> <origin_address>2-20 Allée de l'Est, 93190 Livry-Gargan, France</origin_address> <destination_address>2a Rue de la Mairie, 25360 Aïssey, France</destination_address> <row> <element> <status>OK</status> <duration> <value>15337</value> <text>4 hours 16 mins</text> </duration> <distance> <value>462739</value> <text>463 km</text> </distance> </element> </row> </DistanceMatrixResponse> | J70: =ROUND(_xlfn.FILTERXML(I70,"/DistanceMatrixResponse/row/element/distance/value")/1000,1) -> 462.7
A71: FR67 | B71: S67 | C71: FRANCESCO PROCOPIO | F71: 68000 | G71: Colmar | I71: =_xlfn.WEBSERVICE("https://maps.googleapis.com/maps/api/distancematrix/xml?origins="&VLOOKUP($B71,Instituts!A:F,3,FALSE)&", "&VLOOKUP($B71,Instituts!A:F,4,FALSE)&" "&VLOOKUP($B71,Instituts!A:F,5,FALSE)&"&destinations="&E71&", " &F71&" "&G71&"&mode=driving") -> <?xml version="1.0" encoding="UTF-8"?> <DistanceMatrixResponse> <status>OK</status> <origin_address>69 Rue du Président François Mitterrand, 91160 Longjumeau, France</origin_address> <destination_address>68000 Colmar, France</destination_address> <row> <element> <status>OK</status> <duration> <value>17985</value> <text>5 hours 0 mins</text> </duration> <distance> <value>559190</value> <text>559 km</text> </distance> </element> </row> </DistanceMatrixResponse> | J71: =ROUND(_xlfn.FILTERXML(I71,"/DistanceMatrixResponse/row/element/distance/value")/1000,1) -> 559.2
A72: FR68 | B72: S68 | C72: C DANS LA BOITE | E72: 9 Place de l'Église | F72: 63570 | G72: Auzat-la-Combelle | I72: =_xlfn.WEBSERVICE("https://maps.googleapis.com/maps/api/distancematrix/xml?origins="&VLOOKUP($B72,Instituts!A:F,3,FALSE)&", "&VLOOKUP($B72,Instituts!A:F,4,FALSE)&" "&VLOOKUP($B72,Instituts!A:F,5,FALSE)&"&destinations="&E72&", " &F72&" "&G72&"&mode=driving") -> <?xml version="1.0" encoding="UTF-8"?> <DistanceMatrixResponse> <status>OK</status> <origin_address>25 Rue du Commerce, 39000 Lons-le-Saunier, France</origin_address> <destination_address>9 Place de l'Église, 63570 Auzat-la-Combelle, France</destination_address> <row> <element> <status>OK</status> <duration> <value>12509</value> <text>3 hours 28 mins</text> </duration> <distance> <value>351572</value> <text>352 km</text> </distance> </element> </row> </DistanceMatrixResponse> | J72: =ROUND(_xlfn.FILTERXML(I72,"/DistanceMatrixResponse/row/element/distance/value")/1000,1) -> 351.6
A73: FR69 | B73: S69 | C73: Froggy's | E73: Le Tensonnieu | F73: 48500 | G73: Le Recoux | I73: =_xlfn.WEBSERVICE("https://maps.googleapis.com/maps/api/distancematrix/xml?origins="&VLOOKUP($B73,Instituts!A:F,3,FALSE)&", "&VLOOKUP($B73,Instituts!A:F,4,FALSE)&" "&VLOOKUP($B73,Instituts!A:F,5,FALSE)&"&destinations="&E73&", " &F73&" "&G73&"&mode=driving") -> <?xml version="1.0" encoding="UTF-8"?> <DistanceMatrixResponse> <status>OK</status> <origin_address>50 Rue de Liège, 56100 Lorient, France</origin_address> <destination_address>Le Tensonnieu, 48500 Le Recoux, France</destination_address> <row> <element> <status>OK</status> <duration> <value>28905</value> <text>8 hours 2 mins</text> </duration> <distance> <value>885406</value> <text>885 km</text> </distance> </element> </row> </DistanceMatrixResponse> | J73: =ROUND(_xlfn.FILTERXML(I73,"/DistanceMatrixResponse/row/element/distance/value")/1000,1) -> 885.4
A74: FR70 | B74: S70 | C74: Alexia Bonhomme | F74: 23000 | G74: Guéret | I74: =_xlfn.WEBSERVICE("https://maps.googleapis.com/maps/api/distancematrix/xml?origins="&VLOOKUP($B74,Instituts!A:F,3,FALSE)&", "&VLOOKUP($B74,Instituts!A:F,4,FALSE)&" "&VLOOKUP($B74,Instituts!A:F,5,FALSE)&"&destinations="&E74&", " &F74&" "&G74&"&mode=driving") -> <?xml version="1.0" encoding="UTF-8"?> <DistanceMatrixResponse> <status>OK</status> <origin_address>43 Rue du Général de Gaulle, 27400 Louviers, France</origin_address> <destination_address>23000 Guéret, France</destination_address> <row> <element> <status>OK</status> <duration> <value>16020</value> <text>4 hours 27 mins</text> </duration> <distance> <value>441005</value> <text>441 km</text> </distance> </element> </row> </DistanceMatrixResponse> | J74: =ROUND(_xlfn.FILTERXML(I74,"/DistanceMatrixResponse/row/element/distance/value")/1000,1) -> 441
A75: FR71 | B75: S71 | C75: Capture de Vie | E75: 4 rue du fourneau | F75: 53600 | G75: Évron | I75: =_xlfn.WEBSERVICE("https://maps.googleapis.com/maps/api/distancematrix/xml?origins="&VLOOKUP($B75,Instituts!A:F,3,FALSE)&", "&VLOOKUP($B75,Instituts!A:F,4,FALSE)&" "&VLOOKUP($B75,Instituts!A:F,5,FALSE)&"&destinations="&E75&", " &F75&" "&G75&"&mode=driving") -> <?xml version="1.0" encoding="UTF-8"?> <DistanceMatrixResponse> <status>OK</status> <origin_address>17 Place de France, 91300 Massy, France</origin_address> <destination_address>4 Rue du Fourneau, 53600 Évron, France</destination_address> <row> <element> <status>OK</status> <duration> <value>8240</value> <text>2 hours 17 mins</text> </duration> <distance> <value>252118</value> <text>252 km</text> </distance> </element> </row> </DistanceMatrixResponse> | J75: =ROUND(_xlfn.FILTERXML(I75,"/DistanceMatrixResponse/row/element/distance/value")/1000,1) -> 252.1
A76: FR72 | B76: S72 | C76: Antoine Harrewyn | E76: 52 Avenue Victor Cresson | F76: 92130 | G76: Issy-les-Moulineaux | I76: =_xlfn.WEBSERVICE("https://maps.googleapis.com/maps/api/distancematrix/xml?origins="&VLOOKUP($B76,Instituts!A:F,3,FALSE)&", "&VLOOKUP($B76,Instituts!A:F,4,FALSE)&" "&VLOOKUP($B76,Instituts!A:F,5,FALSE)&"&destinations="&E76&", " &F76&" "&G76&"&mode=driving") -> <?xml version="1.0" encoding="UTF-8"?> <DistanceMatrixResponse> <status>OK</status> <origin_address>Place de Beauval, C. Cial La Verrière, 77100 Meaux, France</origin_address> <destination_address>52 Avenue Victor Cresson, 92130 Issy-les-Moulineaux, France</destination_address> <row> <element> <status>OK</status> <duration> <value>3613</value> <text>1 hour 0 mins</text> </duration> <distance> <value>63975</value> <text>64.0 km</text> </distance> </element> </row> </DistanceMatrixResponse> | J76: =ROUND(_xlfn.FILTERXML(I76,"/DistanceMatrixResponse/row/element/distance/value")/1000,1) -> 64
A77: FR73 | B77: S73 | C77: Victoria VIENNET | E77: 42 rue du Dragon | F77: 75006 | G77: Paris | I77: =_xlfn.WEBSERVICE("https://maps.googleapis.com/maps/api/distancematrix/xml?origins="&VLOOKUP($B77,Instituts!A:F,3,FALSE)&", "&VLOOKUP($B77,Instituts!A:F,4,FALSE)&" "&VLOOKUP($B77,Instituts!A:F,5,FALSE)&"&destinations="&E77&", " &F77&" "&G77&"&mode=driving") -> <?xml version="1.0" encoding="UTF-8"?> <DistanceMatrixResponse> <status>OK</status> <origin_address>5 Rue Saint-Ambroise, 77000 Melun, France</origin_address> <destination_address>42 Rue du Dragon, 75006 Paris, France</destination_address> <row> <element> <status>OK</status> <duration> <value>3319</value> <text>55 mins</text> </duration> <distance> <value>58289</value> <text>58.3 km</text> </distance> </element> </row> </DistanceMatrixResponse> | J77: =ROUND(_xlfn.FILTERXML(I77,"/DistanceMatrixResponse/row/element/distance/value")/1000,1) -> 58.3
A78: FR74 | B78: S74 | C78: Atelier JPC | E78: Avenue St Exupéry Bâtiment A1 | F78: 33260 | G78: La Teste-de-Buch | I78: =_xlfn.WEBSERVICE("https://maps.googleapis.com/maps/api/distancematrix/xml?origins="&VLOOKUP($B78,Instituts!A:F,3,FALSE)&", "&VLOOKUP($B78,Instituts!A:F,4,FALSE)&" "&VLOOKUP($B78,Instituts!A:F,5,FALSE)&"&destinations="&E78&", " &F78&" "&G78&"&mode=driving") -> <?xml version="1.0" encoding="UTF-8"?> <DistanceMatrixResponse> <status>OK</status> <origin_address>15Bis Cité nationale, 80350 Mers-les-Bains, France</origin_address> <destination_address>Avenue Saint-Exupéry, 33260 La Teste-de-Buch, France</destination_address> <row> <element> <status>OK</status> <duration> <value>27372</value> <text>7 hours 36 mins</text> </duration> <distance> <value>804465</value> <text>804 km</text> </distance> </element> </row> </DistanceMatrixResponse> | J78: =ROUND(_xlfn.FILTERXML(I78,"/DistanceMatrixResponse/row/element/distance/value")/1000,1) -> 804.5
A79: FR75 | B79: S75 | C79: KEVIN PERIAC | F79: 92000 | G79: Nanterre | I79: =_xlfn.WEBSERVICE("https://maps.googleapis.com/maps/api/distancematrix/xml?origins="&VLOOKUP($B79,Instituts!A:F,3,FALSE)&", "&VLOOKUP($B79,Instituts!A:F,4,FALSE)&" "&VLOOKUP($B79,Instituts!A:F,5,FALSE)&"&destinations="&E79&", " &F79&" "&G79&"&mode=driving") -> <?xml version="1.0" encoding="UTF-8"?> <DistanceMatrixResponse> <status>OK</status> <origin_address>130 Avenue de la République, 91230 Montgeron, France</origin_address> <destination_address>92000 Nanterre, France</destination_address> <row> <element> <status>OK</status> <duration> <value>3438</value> <text>57 mins</text> </duration> <distance> <value>43542</value> <text>43.5 km</text> </distance> </element> </row> </DistanceMatrixResponse> | J79: =ROUND(_xlfn.FILTERXML(I79,"/DistanceMatrixResponse/row/element/distance/value")/1000,1) -> 43.5
A80: FR76 | B80: S76 | C80: KEVIN PERIAC | F80: 93000 | G80: Bobigny | I80: =_xlfn.WEBSERVICE("https://maps.googleapis.com/maps/api/distancematrix/xml?origins="&VLOOKUP($B80,Instituts!A:F,3,FALSE)&", "&VLOOKUP($B80,Instituts!A:F,4,FALSE)&" "&VLOOKUP($B80,Instituts!A:F,5,FALSE)&"&destinations="&E80&", " &F80&" "&G80&"&mode=driving") -> <?xml version="1.0" encoding="UTF-8"?> <DistanceMatrixResponse> <status>OK</status> <origin_address>rue Joel Letheule, Centre Commercial, 78180 Montigny-le-Bretonneux, France</origin_address> <destination_address>93000 Bobigny, France</destination_address> <row> <element> <status>OK</status> <duration> <value>2614</value> <text>44 mins</text> </duration> <distance> <value>45975</value> <text>46.0 km</text> </distance> </element> </row> </DistanceMatrixResponse> | J80: =ROUND(_xlfn.FILTERXML(I80,"/DistanceMatrixResponse/row/element/distance/value")/1000,1) -> 46
A81: FR77 | B81: S77 | C81: KEVIN PERIAC | F81: 94000 | G81: Créteil | I81: =_xlfn.WEBSERVICE("https://maps.googleapis.com/maps/api/distancematrix/xml?origins="&VLOOKUP($B81,Instituts!A:F,3,FALSE)&", "&VLOOKUP($B81,Instituts!A:F,4,FALSE)&" "&VLOOKUP($B81,Instituts!A:F,5,FALSE)&"&destinations="&E81&", " &F81&" "&G81&"&mode=driving") -> <?xml version="1.0" encoding="UTF-8"?> <DistanceMatrixResponse> <status>OK</status> <origin_address>15 rue Des Lumières, Coeur De Ville, 93100 Montreuil, France</origin_address> <destination_address>94000 Créteil, France</destination_address> <row> <element> <status>OK</status> <duration> <value>1678</value> <text>28 mins</text> </duration> <distance> <value>18728</value> <text>18.7 km</text> </distance> </element> </row> </DistanceMatrixResponse> | J81: =ROUND(_xlfn.FILTERXML(I81,"/DistanceMatrixResponse/row/element/distance/value")/1000,1) -> 18.7
A82: FR78 | B82: S78 | C82: Grand Angle Sarl | E82: Rue Clément Ader | F82: 73100 | G82: Aix-les-Bains | I82: =_xlfn.WEBSERVICE("https://maps.googleapis.com/maps/api/distancematrix/xml?origins="&VLOOKUP($B82,Instituts!A:F,3,FALSE)&", "&VLOOKUP($B82,Instituts!A:F,4,FALSE)&" "&VLOOKUP($B82,Instituts!A:F,5,FALSE)&"&destinations="&E82&", " &F82&" "&G82&"&mode=driving") -> <?xml version="1.0" encoding="UTF-8"?> <DistanceMatrixResponse> <status>OK</status> <origin_address>126 Rue Jean Monnet, 77120 Mouroux, France</origin_address> <destination_address>Rue Clément Ader, 73100 Aix-les-Bains, France</destination_address> <row> <element> <status>OK</status> <duration> <value>19189</value> <text>5 hours 20 mins</text> </duration> <distance> <value>557365</value> <text>557 km</text> </distance> </element> </row> </DistanceMatrixResponse> | J82: =ROUND(_xlfn.FILTERXML(I82,"/DistanceMatrixResponse/row/element/distance/value")/1000,1) -> 557.4
A83: FR79 | B83: S79 | C83: Spve Studio | E83: 12 Lices Georges Pompidou | F83: 81000 | G83: Albi | I83: =_xlfn.WEBSERVICE("https://maps.googleapis.com/maps/api/distancematrix/xml?origins="&VLOOKUP($B83,Instituts!A:F,3,FALSE)&", "&VLOOKUP($B83,Instituts!A:F,4,FALSE)&" "&VLOOKUP($B83,Instituts!A:F,5,FALSE)&"&destinations="&E83&", " &F83&" "&G83&"&mode=driving") -> <?xml version="1.0" encoding="UTF-8"?> <DistanceMatrixResponse> <status>OK</status> <origin_address>27 Rue Raymond Poincaré, 54000 Nancy, France</origin_address> <destination_address>12 Lices Georges Pompidou, 81000 Albi, France</destination_address> <row> <element> <status>OK</status> <duration> <value>29450</value> <text>8 hours 11 mins</text> </duration> <distance> <value>849749</value> <text>850 km</text> </distance> </element> </row> </DistanceMatrixResponse> | J83: =ROUND(_xlfn.FILTERXML(I83,"/DistanceMatrixResponse/row/element/distance/value")/1000,1) -> 849.7
A84: FR80 | B84: S80 | C84: - Didier Faugas | E84: Rond-point d'Alencon | F84: 72610 | G84: Arçonnay | I84: =_xlfn.WEBSERVICE("https://maps.googleapis.com/maps/api/distancematrix/xml?origins="&VLOOKUP($B84,Instituts!A:F,3,FALSE)&", "&VLOOKUP($B84,Instituts!A:F,4,FALSE)&" "&VLOOKUP($B84,Instituts!A:F,5,FALSE)&"&destinations="&E84&", " &F84&" "&G84&"&mode=driving") -> <?xml version="1.0" encoding="UTF-8"?> <DistanceMatrixResponse> <status>OK</status> <origin_address>73 Rue Saint-Dizier, 54000 Nancy, France</origin_address> <destination_address>Rue d' Alençon, 72610 Arçonnay, France</destination_address> <row> <element> <status>OK</status> <duration> <value>19900</value> <text>5 hours 32 mins</text> </duration> <distance> <value>617527</value> <text>618 km</text> </distance> </element> </row> </DistanceMatrixResponse> | J84: =ROUND(_xlfn.FILTERXML(I84,"/DistanceMatrixResponse/row/element/distance/value")/1000,1) -> 617.5
A85: FR81 | B85: S81 | C85: Sarl Guibout et Fils | E85: 10 rue du Général de Gaulle | F85: 37150 | G85: Bléré | I85: =_xlfn.WEBSERVICE("https://maps.googleapis.com/maps/api/distancematrix/xml?origins="&VLOOKUP($B85,Instituts!A:F,3,FALSE)&", "&VLOOKUP($B85,Instituts!A:F,4,FALSE)&" "&VLOOKUP($B85,Instituts!A:F,5,FALSE)&"&destinations="&E85&", " &F85&" "&G85&"&mode=driving") -> <?xml version="1.0" encoding="UTF-8"?> <DistanceMatrixResponse> <status>OK</status> <origin_address>14 ROUTE DE PARIS, C CIAL PARIDIS, 44300 Nantes, France</origin_address> <destination_address>10 Rue du Général de Gaulle, 37150 Bléré, France</destination_address> <row> <element> <status>OK</status> <duration> <value>7903</value> <text>2 hours 12 mins</text> </duration> <distance> <value>230008</value> <text>230 km</text> </distance> </element> </row> </DistanceMatrixResponse> | J85: =ROUND(_xlfn.FILTERXML(I85,"/DistanceMatrixResponse/row/element/distance/value")/1000,1) -> 230
A86: FR82 | B86: S82 | C86: Eurl Anaistudio | E86: 1 Grande Rue | F86: 02400 | G86: Château-Thierry | I86: =_xlfn.WEBSERVICE("https://maps.googleapis.com/maps/api/distancematrix/xml?origins="&VLOOKUP($B86,Instituts!A:F,3,FALSE)&", "&VLOOKUP($B86,Instituts!A:F,4,FALSE)&" "&VLOOKUP($B86,Instituts!A:F,5,FALSE)&"&destinations="&E86&", " &F86&" "&G86&"&mode=driving") -> <?xml version="1.0" encoding="UTF-8"?> <DistanceMatrixResponse> <status>OK</status> <origin_address>7 Rue Étienne Litaud, 58000 Nevers, France</origin_address> <destination_address>1 Grande Rue, 02400 Château-Thierry, France</destination_address> <row> <element> <status>OK</status> <duration> <value>11087</value> <text>3 hours 5 mins</text> </duration> <distance> <value>315972</value> <text>316 km</text> </distance> </element> </row> </DistanceMatrixResponse> | J86: =ROUND(_xlfn.FILTERXML(I86,"/DistanceMatrixResponse/row/element/distance/value")/1000,1) -> 316
A87: FR83 | B87: S83 | C87: Lepoutre | E87: 20 place Jean Jaurès | F87: 62300 | G87: Lens | I87: =_xlfn.WEBSERVICE("https://maps.googleapis.com/maps/api/distancematrix/xml?origins="&VLOOKUP($B87,Instituts!A:F,3,FALSE)&", "&VLOOKUP($B87,Instituts!A:F,4,FALSE)&" "&VLOOKUP($B87,Instituts!A:F,5,FALSE)&"&destinations="&E87&", " &F87&" "&G87&"&mode=driving") -> <?xml version="1.0" encoding="UTF-8"?> <DistanceMatrixResponse> <status>OK</status> <origin_address>234 Boulevard du Mont d'Est, 93160 Noisy-le-Grand, France</origin_address> <destination_address>20 Place Jean Jaurès, 62300 Lens, France</destination_address> <row> <element> <status>OK</status> <duration> <value>7940</value> <text>2 hours 12 mins</text> </duration> <distance> <value>202680</value> <text>203 km</text> </distance> </element> </row> </DistanceMatrixResponse> | J87: =ROUND(_xlfn.FILTERXML(I87,"/DistanceMatrixResponse/row/element/distance/value")/1000,1) -> 202.7
A88: FR84 | B88: S84 | C88: store | E88: 30 rue Champagne Saint-Georges | F88: 17100 | G88: Saintes | I88: =_xlfn.WEBSERVICE("https://maps.googleapis.com/maps/api/distancematrix/xml?origins="&VLOOKUP($B88,Instituts!A:F,3,FALSE)&", "&VLOOKUP($B88,Instituts!A:F,4,FALSE)&" "&VLOOKUP($B88,Instituts!A:F,5,FALSE)&"&destinations="&E88&", " &F88&" "&G88&"&mode=driving") -> <?xml version="1.0" encoding="UTF-8"?> <DistanceMatrixResponse> <status>OK</status> <origin_address>11 Chemin des Hayettes, 95520 Osny, France</origin_address> <destination_address>30 Rue Champagne Saint-Georges, 17100 Saintes, France</destination_address> <row> <element> <status>OK</status> <duration> <value>17557</value> <text>4 hours 53 mins</text> </duration> <distance> <value>505131</value> <text>505 km</text> </distance> </element> </row> </DistanceMatrixResponse> | J88: =ROUND(_xlfn.FILTERXML(I88,"/DistanceMatrixResponse/row/element/distance/value")/1000,1) -> 505.1
A89: FR85 | B89: S85 | C89: Philippe PELLETIER | F89: 13000 | G89: Marseille | I89: =_xlfn.WEBSERVICE("https://maps.googleapis.com/maps/api/distancematrix/xml?origins="&VLOOKUP($B89,Instituts!A:F,3,FALSE)&", "&VLOOKUP($B89,Instituts!A:F,4,FALSE)&" "&VLOOKUP($B89,Instituts!A:F,5,FALSE)&"&destinations="&E89&", " &F89&" "&G89&"&mode=driving") -> <?xml version="1.0" encoding="UTF-8"?> <DistanceMatrixResponse> <status>OK</status> <origin_address>179 Rue de la Convention, 75015 Paris, France</origin_address> <destination_address>Marseille, France</destination_address> <row> <element> <status>OK</status> <duration> <value>25787</value> <text>7 hours 10 mins</text> </duration> <distance> <value>784671</value> <text>785 km</text> </distance> </element> </row> </DistanceMatrixResponse> | J89: =ROUND(_xlfn.FILTERXML(I89,"/DistanceMatrixResponse/row/element/distance/value")/1000,1) -> 784.7
A90: FR86 | B90: S86 | C90: Philippe PELLETIER | F90: 83000 | G90: Toulon | I90: =_xlfn.WEBSERVICE("https://maps.googleapis.com/maps/api/distancematrix/xml?origins="&VLOOKUP($B90,Instituts!A:F,3,FALSE)&", "&VLOOKUP($B90,Instituts!A:F,4,FALSE)&" "&VLOOKUP($B90,Instituts!A:F,5,FALSE)&"&destinations="&E90&", " &F90&" "&G90&"&mode=driving") -> <?xml version="1.0" encoding="UTF-8"?> <DistanceMatrixResponse> <status>OK</status> <origin_address>29 Avenue du Général Leclerc, 75014 Paris, France</origin_address> <destination_address>83000 Toulon, France</destination_address> <row> <element> <status>OK</status> <duration> <value>27925</value> <text>7 hours 45 mins</text> </duration> <distance> <value>848540</value> <text>849 km</text> </distance> </element> </row> </DistanceMatrixResponse> | J90: =ROUND(_xlfn.FILTERXML(I90,"/DistanceMatrixResponse/row/element/distance/value")/1000,1) -> 848.5
A91: FR87 | B91: S87 | C91: Philippe PELLETIER | F91: 84000 | G91: Avignon | I91: =_xlfn.WEBSERVICE("https://maps.googleapis.com/maps/api/distancematrix/xml?origins="&VLOOKUP($B91,Instituts!A:F,3,FALSE)&", "&VLOOKUP($B91,Instituts!A:F,4,FALSE)&" "&VLOOKUP($B91,Instituts!A:F,5,FALSE)&"&destinations="&E91&", " &F91&" "&G91&"&mode=driving") -> <?xml version="1.0" encoding="UTF-8"?> <DistanceMatrixResponse> <status>OK</status> <origin_address>centre commercial Auchan, Rue Evariste Galois, 59494 Petite-Forêt, France</origin_address> <destination_address>84000, France</destination_address> <row> <element> <status>OK</status> <duration> <value>28599</value> <text>7 hours 57 mins</text> </duration> <distance> <value>898978</value> <text>899 km</text> </distance> </element> </row> </DistanceMatrixResponse> | J91: =ROUND(_xlfn.FILTERXML(I91,"/DistanceMatrixResponse/row/element/distance/value")/1000,1) -> 899
A92: FR88 | B92: S88 | C92: Philippe PELLETIER | F92: 30000 | G92: Nîmes | I92: =_xlfn.WEBSERVICE("https://maps.googleapis.com/maps/api/distancematrix/xml?origins="&VLOOKUP($B92,Instituts!A:F,3,FALSE)&", "&VLOOKUP($B92,Instituts!A:F,4,FALSE)&" "&VLOOKUP($B92,Instituts!A:F,5,FALSE)&"&destinations="&E92&", " &F92&" "&G92&"&mode=driving") -> <?xml version="1.0" encoding="UTF-8"?> <DistanceMatrixResponse> <status>OK</status> <origin_address>Centre Commercial du Carpont, Rue de la Côté des Claies, 22440 Ploufragan, France</origin_address> <destination_address>30000 Nimes, France</destination_address> <row> <element> <status>OK</status> <duration> <value>35220</value> <text>9 hours 47 mins</text> </duration> <distance> <value>1085104</value> <text>1,085 km</text> </distance> </element> </row> </DistanceMatrixResponse> | J92: =ROUND(_xlfn.FILTERXML(I92,"/DistanceMatrixResponse/row/element/distance/value")/1000,1) -> 1085.1
...
