Workbook

Sheet Data1
A1: Valeur Data1 | B1: Info
A2: 1.0000001 | B2: Data1
A3: =A2+0.00000001 -> 1.0000001 | B3: =B2 -> Data1
A4: =A3+0.00000001 -> 1.0000001 | B4: =B3 -> Data1
A5: =A4+0.00000001 -> 1.0000001 | B5: =B4 -> Data1
A6: =A5+0.00000001 -> 1.0000001 | B6: =B5 -> Data1
A7: =A6+0.00000001 -> 1.0000001 | B7: =B6 -> Data1
A8: =A7+0.00000001 -> 1.0000001 | B8: =B7 -> Data1
A9: =A8+0.00000001 -> 1.0000001 | B9: =B8 -> Data1
A10: =A9+0.00000001 -> 1.0000002 | B10: =B9 -> Data1
A11: =A10+0.00000001 -> 1.0000002 | B11: =B10 -> Data1
A12: =A11+0.00000001 -> 1.0000002 | B12: =B11 -> Data1
A13: =A12+0.00000001 -> 1.0000002 | B13: =B12 -> Data1
A14: =A13+0.00000001 -> 1.0000002 | B14: =B13 -> Data1
... A101: =A100+0.00000001 -> 1.0000011 | B101: =B100 -> Data1

Sheet Data2
A1: Valeur Data2 | B1: Info
A2: 2.0000001 | B2: Data2
A3: =A2+0.00000001 -> 2.0000001 | B3: =B2 -> Data2
A4: =A3+0.00000001 -> 2.0000001 | B4: =B3 -> Data2
A5: =A4+0.00000001 -> 2.0000001 | B5: =B4 -> Data2
A6: =A5+0.00000001 -> 2.0000001 | B6: =B5 -> Data2
A7: =A6+0.00000001 -> 2.0000001 | B7: =B6 -> Data2
A8: =A7+0.00000001 -> 2.0000001 | B8: =B7 -> Data2
A9: =A8+0.00000001 -> 2.0000001 | B9: =B8 -> Data2
A10: =A9+0.00000001 -> 2.0000002 | B10: =B9 -> Data2
A11: =A10+0.00000001 -> 2.0000002 | B11: =B10 -> Data2
A12: =A11+0.00000001 -> 2.0000002 | B12: =B11 -> Data2
A13: =A12+0.00000001 -> 2.0000002 | B13: =B12 -> Data2
A14: =A13+0.00000001 -> 2.0000002 | B14: =B13 -> Data2
... A101: =A100+0.00000001 -> 2.0000011 | B101: =B100 -> Data2

Sheet Param
A1: Data1 | B1: =A1 -> Data1
A2: Data2

Sheet Result
A1: Resultat | B1: Info
A2: =INDIRECT(Param!$B$1 & "!A" & ROW()) -> 1.0000001 | B2: =INDIRECT(Param!$B$1 & "!A" & ROW()) -> 1.0000001 | C2: En colonne B je devrais avoir Data1 ou Data2 et non le chiffre, merci pour ton aide inconnu.
A3: =INDIRECT(Param!$B$1 & "!A" & ROW()) -> 1.0000001 | B3: =INDIRECT(Param!$B$1 & "!A" & ROW()) -> 1.0000001
A4: =INDIRECT(Param!$B$1 & "!A" & ROW()) -> 1.0000001 | B4: =INDIRECT(Param!$B$1 & "!A" & ROW()) -> 1.0000001
A5: =INDIRECT(Param!$B$1 & "!A" & ROW()) -> 1.0000001 | B5: =INDIRECT(Param!$B$1 & "!A" & ROW()) -> 1.0000001
A6: =INDIRECT(Param!$B$1 & "!A" & ROW()) -> 1.0000001 | B6: =INDIRECT(Param!$B$1 & "!A" & ROW()) -> 1.0000001
A7: =INDIRECT(Param!$B$1 & "!A" & ROW()) -> 1.0000001 | B7: =INDIRECT(Param!$B$1 & "!A" & ROW()) -> 1.0000001
A8: =INDIRECT(Param!$B$1 & "!A" & ROW()) -> 1.0000001 | B8: =INDIRECT(Param!$B$1 & "!A" & ROW()) -> 1.0000001
A9: =INDIRECT(Param!$B$1 & "!A" & ROW()) -> 1.0000001 | B9: =INDIRECT(Param!$B$1 & "!A" & ROW()) -> 1.0000001
A10: =INDIRECT(Param!$B$1 & "!A" & ROW()) -> 1.0000002 | B10: =INDIRECT(Param!$B$1 & "!A" & ROW()) -> 1.0000002
A11: =INDIRECT(Param!$B$1 & "!A" & ROW()) -> 1.0000002 | B11: =INDIRECT(Param!$B$1 & "!A" & ROW()) -> 1.0000002
A12: =INDIRECT(Param!$B$1 & "!A" & ROW()) -> 1.0000002 | B12: =INDIRECT(Param!$B$1 & "!A" & ROW()) -> 1.0000002
A13: =INDIRECT(Param!$B$1 & "!A" & ROW()) -> 1.0000002 | B13: =INDIRECT(Param!$B$1 & "!A" & ROW()) -> 1.0000002
A14: =INDIRECT(Param!$B$1 & "!A" & ROW()) -> 1.0000002 | B14: =INDIRECT(Param!$B$1 & "!A" & ROW()) -> 1.0000002
... A105: =INDIRECT(Param!$B$1 & "!A" & ROW()) -> 0 | B105: =INDIRECT(Param!$B$1 & "!A" & ROW()) -> 0
