Workbook
Name All_Trajet: 'Données directindirect'!$F$6:$F$59
Name Trajet: 'Données directindirect'!$D$6:$D$43
Name Trajet_D: 'Données directindirect'!$C$6:$C$32
Name Transport: 'Données directindirect'!$H$3:$I$3

Sheet Données directindirect
H3: Sedan 20 Ft | I3: Sedan 40 Ft
C4: Pour le premier tableau | F4: Pour le second tableau
C6: Alger D | D6: Alger | F6: Alger
C7: Buenos Aires D | D7: Adélaide | F7: Buenos Aires
C8: Adélaide D | D8: Brisbane | F8: Adélaide
C9: Brisbane D | D9: Fremantle | F9: Brisbane
C10: Fremantle D | D10: Melbourne | F10: Fremantle
C11: Melbourne D | D11: Sydney | F11: Melbourne
C12: Sydney D | D12: Bahrain | F12: Sydney
C13: Santos D | D13: San Antonio | F13: Bahrain
C14: San Antonio D | D14: Chongqing | F14: Santos
C15: Valparaiso D | D15: Xingang | F15: San Antonio
C16: Shanghai D | D16: Guayaquil | F16: Valparaiso
C17: Cartagena D | D17: Calcutta / Kolkata | F17: Chongqing
... C32: Kaohsiung D | D32: Manila | F32: Aqaba
D33: Hammad, Qatar | F33: Busan
D34: Damman | F34: Kuwait
D35: Cape Town | F35: Shuwaikh
D36: Durban | F36: Beirut
D37: Kaohsiung | F37: Port Kelang
D38: Keelung | F38: Casablanca
D39: Sfax Seago | F39: Altamira
D40: Tunis MSC | F40: Veracruz
D41: Ho Chi Minh | F41: Auckland
D42: Dubai | F42: Lyttelton
D43: Doha | F43: Sohar
F44: Asuncion
F45: Callao
F46: Manila
F47: Hammad, Qatar
F48: Damman
F49: Jeddah
F50: Singapore
F51: Cape Town
F52: Durban
F53: Kaohsiung
F54: Keelung
F55: Sfax Seago
... F59: Doha

Sheet Données prix et lead time
A3: BLEU | B3: KOCT
A4: VERT | B4: POCT
A5: ROSE | B5: MOCT
A6: JAUNE | B6: : Trajet Direct
D10: Sedan 20 Ft | H10: Sedan 40 Ft | L10: Lead Time
B11: Alger D | D11: 1826 | H11: 2826 | J11: 2159 | L11: 10j | N11: 10j
B12: Alger | E12: 1615 | I12: 2125 | M12: 22j
B13: Buenos Aires D | D13: 1078 | E13: 1077 | H13: 1336 | I13: 1329 | L13: 23j | M13: 19j
B14: Adélaide D | D14: 1606 | H14: 2454 | L14: 44j
B15: Adélaide | D15: 1347 | E15: 1397 | F15: 1421 | H15: 1924 | I15: 1880 | J15: 2106 | L15: 45j | M15: 55j | N15: 51j
B16: Brisbane D | D16: 1693 | H16: 2497 | L16: 42j
B17: Brisbane | D17: 1405 | E17: 1397 | F17: 1421 | H17: 2030 | I17: 1880 | J17: 1974 | L17: 40j | M17: 49j | N17: 42j (20') et 45j (40')
B18: Fremantle D | D18: 1606 | H18: 2454 | L18: 50j
B19: Fremantle | D19: 1347 | E19: 1397 | F19: 1386 | H19: 1924 | I19: 1880 | J19: 1931 | L19: 40j | M19: 42j | N19: 33j (20') et 45j (40')
B20: Melbourne D | D20: 1606 | H20: 2454 | L20: 42j
B21: Melbourne | D21: 1347 | E21: 1397 | F21: 1421 | H21: 1924 | I21: 1880 | J21: 1974 | L21: 48j | M21: 55j | N21: 42à63j (20') et 45j (40')
B22: Sydney D | D22: 1606 | H22: 2454 | L22: 38j
B23: Sydney | D23: 1347 | E23: 1397 | F23: 1421 | H23: 1924 | I23: 1880 | J23: 1974 | L23: 51j | M23: 52j | N23: 46j à 60j
B24: Bahrain | D24: 1540 | E24: 1576 | F24: 1679 | H24: 1665 | I24: 1814 | J24: 1874 | L24: 30j | M24: 29j | N24: 26j
B25: Santos D | D25: 1078 | E25: 1077 | F25: 1256 | H25: 1336 | I25: 1329 | J25: 1457 | L25: 16j | M25: 15j | N25: 16j
B26: San Antonio D | D26: 1520 | H26: 1976 | L26: 31j
B27: San Antonio | E27: 1292 | I27: 1793 | M27: 31j
B28: Valparaiso D | D28: 1520 | E28: 1402 | F28: 1531 | H28: 1976 | I28: 2064 | J28: 2056 | L28: 34j | M28: 29j | N28: 25j
B29: Chongqing | D29: 1653 | H29: 2073 | L29: 59j
B30: Shanghai D | D30: 1373 | E30: 1344 | F30: 1514 | H30: 1544 | I30: 1577 | J30: 1609 | L30: 31j | M30: 30j | N30: 40j
B31: Xingang | D31: 1373 | F31: 1539 | H31: 1544 | J31: 1719 | L31: 33j | N31: 45j
B32: Cartagena D | D32: 1319 | E32: 1177 | F32: 1331 | H32: 1717 | I32: 1804 | J32: 1897 | L32: 15j | M32: 14j | N32: 14j
B33: Limassol D | D33: 1253 | E33: 1245 | F33: 1320 | H33: 1516 | I33: 1530 | J33: 1636 | L33: 19j | M33: 7j | N33: 12j
B34: Guayaquil | D34: 1319 | E34: 1327 | H34: 1717 | I34: 1954 | L34: 19j | M34: 21j
B35: Alexandrie D | D35: 1273 | E35: 1095 | F35: 1232 | H35: 1561 | I35: 1330 | J35: 1481 | L35: 13j | M35: 13j | N35: 12j
B36: Hong Kong D | D36: 1373 | E36: 1344 | F36: 1534 | H36: 1544 | I36: 1577 | J36: 1644 | L36: 35j | M36: 30j | N36: 29j
B37: Calcutta / Kolkata | D37: 1611 | H37: 2137 | L37: 40j
B38: Chennai | D38: 1474 | H38: 1852 | L38: 40j
B39: Nhava Sheva D | D39: 1373 | E39: 1247 | F39: 1494 | H39: 1544 | I39: 1580 | J39: 1974 | L39: 28j | M39: 29j | N39: 30j
B40: Jakarta | D40: 1544 | H40: 1852 | L40: 30j
B41: Ashdod D | D41: 1218 | E41: 1228 | F41: 1329 | H41: 1421 | I41: 1414 | J41: 2159 | L41: 14j | M41: 10j | N41: 16j (20') et 10j (40')
B42: Nagoya | D42: 1516 | E42: 1490 | F42: 1674 | H42: 1645 | I42: 1759 | J42: 1909 | L42: 40j | M42: 39j | N42: 40j
B43: Osaka
B44: Aqaba | D44: 1609 | F44: 1809 | H44: 2041 | J44: 2159 | L44: 29j | N44: 28j (20') et 25j (40')
B45: Busan D | D45: 1373 | E45: 1344 | H45: 1544 | I45: 1577 | L45: 40j | M45: 40j
B46: Kuwait | D46: 1603 | E46: 1622 | F46: 1892 | H46: 1883 | I46: 1928 | J46: 2033 | L46: 30j | M46: 30j | N46: 29j
B47: Shuwaikh | D47: 1603 | F47: 1892 | H47: 1883 | J47: 2033 | L47: 30j | N47: 29j
B48: Beirut | D48: 1233 | H48: 1521 | L48: 16j
B49: Port Kelang D | D49: 1373 | H49: 1544 | L49: 39j
B50: Port Kelang | E50: 1344 | I50: 1577 | M50: 30j
B51: Casablanca D | D51: 1218 | E51: 1195 | F51: 1361 | H51: 1541 | I51: 1430 | J51: 1576 | L51: 6j | M51: 10j | N51: 6j
B52: Altamira D | D52: 1367 | E52: 1394 | H52: 1594 | I52: 1696 | L52: 24j | M52: 24j
B53: Veracruz D | D53: 1367 | E53: 1394 | F53: 1714 | H53: 1594 | I53: 1696 | J53: 2024 | L53: 21j | M53: 22j | N53: 18j
B54: Auckland | D54: 1521 | E54: 1391 | F54: 1504 | H54: 2181 | I54: 2124 | L54: 45j | M54: 41j | N54: 45j
B55: Lyttelton | D55: 1521 | F55: 1519 | H55: 2181 | J55: 2029 | L55: 45j | N55: 50j
B56: Sohar | D56: 1570 | E56: 1622 | F56: 1750 | H56: 1922 | I56: 2041 | J56: 1950 | L56: 34j | M56: 26j | N56: 28j
B57: Asuncion | D57: 1798 | E57: 1913 | H57: 2736 | I57: 2823 | L57: 36j | M57: 49j
B58: Callao | D58: 1319 | H58: 1717 | L58: 27j
B59: Manila | D59: 1539 | E59: 1527 | H59: 1894 | I59: 1942 | L59: 35j | M59: 41j
B60: Hammad, Qatar | D60: 1767 | E60: 2411 | H60: 2102 | I60: 3050 | L60: 30j | M60: 29j
B61: Damman | D61: 1627 | E61: 1667 | F61: 1664 | H61: 1800 | I61: 1905 | J61: 1834 | L61: 27j | M61: 25j | N61: 30j
B62: Jeddah D | D62: 1414 | E62: 1247 | H62: 1561 | I62: 1580 | J62: 1584 | L62: 20j | M62: 15j | N62: 16j
B63: Singapore D | D63: 1373 | E63: 1345 | F63: 1499 | H63: 1544 | I63: 1578 | J63: 1609 | L63: 30j | M63: 32j | N63: 29j
B64: Cape Town D | D64: 1314 | H64: 2072 | L64: 24j
B65: Cape Town | E65: 1319 | I65: 2189 | M65: 22j
B66: Durban D | D66: 1314 | F66: 1416 | H66: 2072 | J66: 2150 | L66: 29j | N66: 28j
B67: Durban | E67: 1319 | I67: 2189 | M67: 28j
B68: Kaohsiung D | D68: 1373 | H68: 1544 | L68: 35j
B69: Kaohsiung | E69: 1344 | I69: 1577 | M69: 39j
B70: Keelung | D70: 1439 | E70: 1413 | H70: 1544 | I70: 1714 | J70: 1904 | L70: 52j | M70: 33j | N70: 42j
B71: Sfax Seago | D71: 1348 | E71: 1295 | F71: 1534 | H71: 1661 | I71: 1630 | J71: 1929 | L71: 22j | M71: 25j | N71: 28j (20') et 22j (40')
B72: Tunis MSC | D72: 1498 | E72: 1390 | F72: 1584 | H72: 1911 | I72: 1825 | J72: 2002 | L72: 18j | M72: 34j | N72: 18j
B73: Ho Chi Minh | D73: 1467 | H73: 1714 | L73: 33j
B74: Dubai | D74: 1414 | E74: 1485 | F74: 1474 | H74: 1561 | I74: 1723 | J74: 1694 | L74: 21j | M74: 19j | N74: 23j
B75: Doha | F75: 1920 | J75: 2064 | N75: 22j

Sheet KOCT
A2: Prices in euros | B2: Prices in euros
A3: All in prices inclusing Seafreight+THC+trucking+toll (BE)+ISPS+BUC+Tunnel+ all surcharges + 2 hours for loading | B3: All in prices inclusing Seafreight+THC+trucking+toll (BE)+ISPS+BUC+Tunnel+ all surcharges + 2 hours for loading
A5: Country | B5: Port | C5: Direct (Yes/No) | D5: lead time (port to port) | E5: Special or Rate additional !! On top of all in rate | F5: Lentzweiler 20 Ft | G5: Lentzweiler 40 Ft | H5: Konz 20 FT | I5: Konz 40FT | J5: Konz + Lenztweiler 20FT | K5: Konz + Lenztweiler 40FT | L5: Sedan 20 Ft | M5: Sedan 40 Ft | N5: Dudelange 20 Ft | O5: Dudelange 40 Ft | P5: 01.10.17 | Q5: Weigting (Solas) fees | R5: PSS in US$
A6: Algeria | B6: Alger Neptumar | C6: Yes | D6: 10 | F6: 1797 | G6: 2807 | H6: =F6+130 -> 1927 | I6: =G6+130 -> 2937 | J6: =H6+115 -> 2042 | K6: =I6+145 -> 3082 | L6: =F6+29 -> 1826 | M6: =G6+19 -> 2826 | N6: =F6+108 -> 1905 | O6: =G6+123 -> 2930 | P6: n/a | Q6: 92.5
A7: Algeria | B7: Alger CNAN | C7: Yes | D7: 6-10 | F7: 1895 | G7: 2995 | H7: =F7+130 -> 2025 | I7: =G7+130 -> 3125 | J7: =H7+115 -> 2140 | K7: =I7+145 -> 3270 | L7: =F7+29 -> 1924 | M7: =G7+19 -> 3014 | N7: =F7+108 -> 2003 | O7: =G7+123 -> 3118 | P7: n/a | Q7: 92.5
A8: Argentina | B8: Buenos Aires | C8: Yes | D8: 23 | F8: 1049 | G8: 1317 | H8: =F8+130 -> 1179 | I8: =G8+130 -> 1447 | J8: =H8+115 -> 1294 | K8: =I8+145 -> 1592 | L8: =F8+29 -> 1078 | M8: =G8+19 -> 1336 | N8: =F8+108 -> 1157 | O8: =G8+123 -> 1440 | P8: 525 | Q8: 92.5
A9: Australia | B9: Adelaide | C9: YES | D9: 44 | F9: 1577 | G9: 2435 | H9: =F9+100 -> 1677 | I9: =G9+70 -> 2505 | J9: =H9+115 -> 1792 | K9: =I9+145 -> 2650 | L9: =F9+29 -> 1606 | M9: =G9+19 -> 2454 | N9: =F9+108 -> 1685 | O9: =G9+123 -> 2558 | P9: 1152 | Q9: 92.5
A10: Australia | B10: Adélaide | C10: No | D10: 45 | F10: 1318 | G10: 1905 | H10: =F10+100 -> 1418 | I10: =G10+70 -> 1975 | J10: =H10+115 -> 1533 | K10: =I10+145 -> 2120 | L10: =F10+29 -> 1347 | M10: =G10+19 -> 1924 | N10: =F10+108 -> 1426 | O10: =G10+123 -> 2028 | P10: 885 | Q10: 92.5
A11: Australia | B11: Brisbane | C11: YES | D11: 42 | F11: 1664 | G11: 2478 | H11: =F11+100 -> 1764 | I11: =G11+70 -> 2548 | J11: =H11+115 -> 1879 | K11: =I11+145 -> 2693 | L11: =F11+29 -> 1693 | M11: =G11+19 -> 2497 | N11: =F11+108 -> 1772 | O11: =G11+123 -> 2601 | P11: 1204 | Q11: 92.5
A12: Australia | B12: Brisbane | C12: No | D12: 40 | F12: 1376 | G12: 2011 | H12: =F12+100 -> 1476 | I12: =G12+70 -> 2081 | J12: =H12+115 -> 1591 | K12: =I12+145 -> 2226 | L12: =F12+29 -> 1405 | M12: =G12+19 -> 2030 | N12: =F12+108 -> 1484 | O12: =G12+123 -> 2134 | P12: n/a | Q12: 92.5
A13: Australia | B13: Fremantle | C13: YES | D13: 50 | F13: 1577 | G13: 2435 | H13: =F13+100 -> 1677 | I13: =G13+70 -> 2505 | J13: =H13+115 -> 1792 | K13: =I13+145 -> 2650 | L13: =F13+29 -> 1606 | M13: =G13+19 -> 2454 | N13: =F13+108 -> 1685 | O13: =G13+123 -> 2558 | P13: 1152 | Q13: 92.5
A14: Australia | B14: Fremantle | C14: No | D14: 40 | F14: 1318 | G14: 1905 | H14: =F14+100 -> 1418 | I14: =G14+70 -> 1975 | J14: =H14+115 -> 1533 | K14: =I14+145 -> 2120 | L14: =F14+29 -> 1347 | M14: =G14+19 -> 1924 | N14: =F14+108 -> 1426 | O14: =G14+123 -> 2028 | P14: 885 | Q14: 92.5
A15: Australia | B15: Melbourne | C15: YES | D15: 42 | F15: 1577 | G15: 2435 | H15: =F15+100 -> 1677 | I15: =G15+70 -> 2505 | J15: =H15+115 -> 1792 | K15: =I15+145 -> 2650 | L15: =F15+29 -> 1606 | M15: =G15+19 -> 2454 | N15: =F15+108 -> 1685 | O15: =G15+123 -> 2558 | P15: 1152 | Q15: 92.5
A16: Australia | B16: Melbourne | C16: No | D16: 48 | F16: 1318 | G16: 1905 | H16: =F16+100 -> 1418 | I16: =G16+70 -> 1975 | J16: =H16+115 -> 1533 | K16: =I16+145 -> 2120 | L16: =F16+29 -> 1347 | M16: =G16+19 -> 1924 | N16: =F16+108 -> 1426 | O16: =G16+123 -> 2028 | P16: n/a no MSC serv | Q16: 92.5
A17: Australia | B17: Sydney | C17: YES | D17: 38 | F17: 1577 | G17: 2435 | H17: =F17+100 -> 1677 | I17: =G17+70 -> 2505 | J17: =H17+115 -> 1792 | K17: =I17+145 -> 2650 | L17: =F17+29 -> 1606 | M17: =G17+19 -> 2454 | N17: =F17+108 -> 1685 | O17: =G17+123 -> 2558 | P17: 1152 | Q17: 92.5
A18: Australia | B18: Sydney | C18: No | D18: 51 | F18: 1318 | G18: 1905 | H18: =F18+100 -> 1418 | I18: =G18+70 -> 1975 | J18: =H18+115 -> 1533 | K18: =I18+145 -> 2120 | L18: =F18+29 -> 1347 | M18: =G18+19 -> 1924 | N18: =F18+108 -> 1426 | O18: =G18+123 -> 2028 | P18: n/a no MSC serv | Q18: 92.5
A19: Bahrain | B19: Bahrain | C19: No | D19: 30 | F19: 1511 | G19: 1646 | H19: =F19+130 -> 1641 | I19: =G19+130 -> 1776 | J19: =H19+115 -> 1756 | K19: =I19+145 -> 1921 | L19: =F19+29 -> 1540 | M19: =G19+19 -> 1665 | N19: =F19+108 -> 1619 | O19: =G19+123 -> 1769 | P19: 975 | Q19: 92.5
A20: Brazil | B20: Santos | C20: Yes | D20: 16 | F20: 1049 | G20: 1317 | H20: =F20+130 -> 1179 | I20: =G20+130 -> 1447 | J20: =H20+115 -> 1294 | K20: =I20+145 -> 1592 | L20: =F20+29 -> 1078 | M20: =G20+19 -> 1336 | N20: =F20+108 -> 1157 | O20: =G20+123 -> 1440 | P20: 525 | Q20: 92.5
A21: Chile | B21: San Antonio | C21: Yes | D21: 31 | E21: inkl THC dest. , 20 Days free time dest. | F21: 1491 | G21: 1957 | H21: =F21+130 -> 1621 | I21: =G21+130 -> 2087 | J21: =H21+115 -> 1736 | K21: =I21+145 -> 2232 | L21: =F21+29 -> 1520 | M21: =G21+19 -> 1976 | N21: =F21+108 -> 1599 | O21: =G21+123 -> 2080 | P21: 945 | Q21: 92.5
A22: Chile | B22: Valparaiso | C22: Yes | D22: 34 | E22: inkl THC dest. , 20 Days free time dest. | F22: 1491 | G22: 1957 | H22: =F22+130 -> 1621 | I22: =G22+130 -> 2087 | J22: =H22+115 -> 1736 | K22: =I22+145 -> 2232 | L22: =F22+29 -> 1520 | M22: =G22+19 -> 1976 | N22: =F22+108 -> 1599 | O22: =G22+123 -> 2080 | P22: 945 | Q22: 92.5
A23: China | B23: Chongqing | C23: No | D23: 59 | F23: 1624 | G23: 2054 | H23: =F23+130 -> 1754 | I23: =G23+130 -> 2184 | J23: =H23+115 -> 1869 | K23: =I23+145 -> 2329 | L23: =F23+29 -> 1653 | M23: =G23+19 -> 2073 | N23: =F23+108 -> 1732 | O23: =G23+123 -> 2177 | P23: n/a | Q23: 92.5
A24: China | B24: Shanghai | C24: Yes | D24: 31 | F24: 1344 | G24: 1525 | H24: =F24+130 -> 1474 | I24: =G24+130 -> 1655 | J24: =H24+115 -> 1589 | K24: =I24+145 -> 1800 | L24: =F24+29 -> 1373 | M24: =G24+19 -> 1544 | N24: =F24+108 -> 1452 | O24: =G24+123 -> 1648 | P24: 855 | Q24: 92.5
A25: China | B25: Xingang | C25: No | D25: 33 | F25: 1344 | G25: 1525 | H25: =F25+130 -> 1474 | I25: =G25+130 -> 1655 | J25: =H25+115 -> 1589 | K25: =I25+145 -> 1800 | L25: =F25+29 -> 1373 | M25: =G25+19 -> 1544 | N25: =F25+108 -> 1452 | O25: =G25+123 -> 1648 | P25: 855 | Q25: 92.5
A26: Columbia | B26: Cartagena | C26: Yes | D26: 15 | F26: 1290 | G26: 1698 | H26: =F26+130 -> 1420 | I26: =G26+130 -> 1828 | J26: =H26+115 -> 1535 | K26: =I26+145 -> 1973 | L26: =F26+29 -> 1319 | M26: =G26+19 -> 1717 | N26: =F26+108 -> 1398 | O26: =G26+123 -> 1821 | P26: 765 | Q26: 92.5
A27: Cyprus | B27: Limassol | C27: Yes | D27: 19 | F27: 1224 | G27: 1497 | H27: =F27+130 -> 1354 | I27: =G27+130 -> 1627 | J27: =H27+115 -> 1469 | K27: =I27+145 -> 1772 | L27: =F27+29 -> 1253 | M27: =G27+19 -> 1516 | N27: =F27+108 -> 1332 | O27: =G27+123 -> 1620 | P27: n/a | Q27: 92.5
A28: Ecuador | B28: Guayaquil | C28: No | D28: 19 | F28: 1290 | G28: 1698 | H28: =F28+130 -> 1420 | I28: =G28+130 -> 1828 | J28: =H28+115 -> 1535 | K28: =I28+145 -> 1973 | L28: =F28+29 -> 1319 | M28: =G28+19 -> 1717 | N28: =F28+108 -> 1398 | O28: =G28+123 -> 1821 | P28: 1095 | Q28: 92.5
A29: Egypt | B29: Alexandrie | C29: Yes | D29: 13 | F29: 1244 | G29: 1542 | H29: =F29+130 -> 1374 | I29: =G29+130 -> 1672 | J29: =H29+115 -> 1489 | K29: =I29+145 -> 1817 | L29: =F29+29 -> 1273 | M29: =G29+19 -> 1561 | N29: =F29+108 -> 1352 | O29: =G29+123 -> 1665 | P29: n/a | Q29: 92.5
A30: Hong Kong | B30: Hong Kong | C30: Yes | D30: 35 | F30: 1344 | G30: 1525 | H30: =F30+130 -> 1474 | I30: =G30+130 -> 1655 | J30: =H30+115 -> 1589 | K30: =I30+145 -> 1800 | L30: =F30+29 -> 1373 | M30: =G30+19 -> 1544 | N30: =F30+108 -> 1452 | O30: =G30+123 -> 1648 | P30: 855 | Q30: 92.5
A31: India | B31: Calcutta / Kolkata | C31: No | D31: 40 | F31: 1582 | G31: 2118 | H31: =F31+130 -> 1712 | I31: =G31+130 -> 2248 | J31: =H31+115 -> 1827 | K31: =I31+145 -> 2393 | L31: =F31+29 -> 1611 | M31: =G31+19 -> 2137 | N31: =F31+108 -> 1690 | O31: =G31+123 -> 2241 | P31: 1145 | Q31: 92.5
A32: India | B32: Chennai | C32: No | D32: 40 | F32: 1445 | G32: 1833 | H32: =F32+130 -> 1575 | I32: =G32+130 -> 1963 | J32: =H32+115 -> 1690 | K32: =I32+145 -> 2108 | L32: =F32+29 -> 1474 | M32: =G32+19 -> 1852 | N32: =F32+108 -> 1553 | O32: =G32+123 -> 1956 | P32: 985 | Q32: 92.5
A33: India | B33: Nhava Sheva | C33: Yes | D33: 28 | F33: 1344 | G33: 1525 | H33: =F33+130 -> 1474 | I33: =G33+130 -> 1655 | J33: =H33+115 -> 1589 | K33: =I33+145 -> 1800 | L33: =F33+29 -> 1373 | M33: =G33+19 -> 1544 | N33: =F33+108 -> 1452 | O33: =G33+123 -> 1648 | P33: 825 | Q33: 92.5
A34: Indonesia | B34: Jakarta | C34: No | D34: 30 | F34: 1515 | G34: 1833 | H34: =F34+130 -> 1645 | I34: =G34+130 -> 1963 | J34: =H34+115 -> 1760 | K34: =I34+145 -> 2108 | L34: =F34+29 -> 1544 | M34: =G34+19 -> 1852 | N34: =F34+108 -> 1623 | O34: =G34+123 -> 1956 | P34: 1045 | Q34: 92.5
A35: Iraq | B35: Umm Qasr | F35: on request | G35: on requst | H35: on request | I35: on request | J35: on request | K35: on request | L35: on request | M35: on request | N35: on request | O35: on request | P35: n/a | Q35: 92.5
A36: Israel | B36: Ashdod | C36: Yes | D36: 14 | F36: 1189 | G36: 1402 | H36: =F36+130 -> 1319 | I36: =G36+130 -> 1532 | J36: =H36+115 -> 1434 | K36: =I36+145 -> 1677 | L36: =F36+29 -> 1218 | M36: =G36+19 -> 1421 | N36: =F36+108 -> 1297 | O36: =G36+123 -> 1525 | P36: n/a | Q36: 92.5
A37: Japan | B37: Nagoya | C37: No | D37: 40 | F37: 1487 | G37: 1626 | H37: =F37+130 -> 1617 | I37: =G37+130 -> 1756 | J37: =H37+115 -> 1732 | K37: =I37+145 -> 1901 | L37: =F37+29 -> 1516 | M37: =G37+19 -> 1645 | N37: =F37+108 -> 1595 | O37: =G37+123 -> 1749 | P37: 915 | Q37: 92.5
A38: Jordan | B38: Aqaba | C38: No | D38: 29 | F38: 1580 | G38: 2022 | H38: =F38+130 -> 1710 | I38: =G38+130 -> 2152 | J38: =H38+115 -> 1825 | K38: =I38+145 -> 2297 | L38: =F38+29 -> 1609 | M38: =G38+19 -> 2041 | N38: =F38+108 -> 1688 | O38: =G38+123 -> 2145 | P38: 1175 | Q38: 92.5
A39: Korea | B39: Busan | C39: Yes | D39: 40 | F39: 1344 | G39: 1525 | H39: =F39+130 -> 1474 | I39: =G39+130 -> 1655 | J39: =H39+115 -> 1589 | K39: =I39+145 -> 1800 | L39: =F39+29 -> 1373 | M39: =G39+19 -> 1544 | N39: =F39+108 -> 1452 | O39: =G39+123 -> 1648 | P39: 855 | Q39: 92.5
A40: Kuwait | B40: Kuwait | C40: No | D40: 30 | F40: 1574 | G40: 1814 | H40: =F40+130 -> 1704 | I40: =G40+130 -> 1944 | J40: =H40+115 -> 1819 | K40: =I40+145 -> 2089 | L40: =F40+29 -> 1603 | M40: =G40+19 -> 1833 | N40: =F40+108 -> 1682 | O40: =G40+123 -> 1937 | P40: 975 | Q40: 92.5
A41: Kuwait | B41: Shuwaikh | C41: No | D41: 30 | E41: additional port congestion 150/300 USD | F41: 1574 | G41: 1814 | H41: =F41+130 -> 1704 | I41: =G41+130 -> 1944 | J41: =H41+115 -> 1819 | K41: =I41+145 -> 2089 | L41: =F41+29 -> 1603 | M41: =G41+19 -> 1833 | N41: =F41+108 -> 1682 | O41: =G41+123 -> 1937 | P41: 975 | Q41: 92.5
A42: Libanon | B42: Beirut | C42: No | D42: 16 | F42: 1204 | G42: 1502 | H42: =F42+130 -> 1334 | I42: =G42+130 -> 1632 | J42: =H42+115 -> 1449 | K42: =I42+145 -> 1777 | L42: =F42+29 -> 1233 | M42: =G42+19 -> 1521 | N42: =F42+108 -> 1312 | O42: =G42+123 -> 1625 | P42: n/a | Q42: 92.5
A43: Malaysia | B43: Port Kelang | C43: Yes | D43: 39 | F43: 1344 | G43: 1525 | H43: =F43+130 -> 1474 | I43: =G43+130 -> 1655 | J43: =H43+115 -> 1589 | K43: =I43+145 -> 1800 | L43: =F43+29 -> 1373 | M43: =G43+19 -> 1544 | N43: =F43+108 -> 1452 | O43: =G43+123 -> 1648 | P43: 945 | Q43: 92.5
A44: Maroc | B44: Casablanca | C44: Yes | D44: 6 | F44: 1189 | G44: 1522 | H44: =F44+130 -> 1319 | I44: =G44+130 -> 1652 | J44: =H44+115 -> 1434 | K44: =I44+145 -> 1797 | L44: =F44+29 -> 1218 | M44: =G44+19 -> 1541 | N44: =F44+108 -> 1297 | O44: =G44+123 -> 1645 | Q44: 92.5
A45: Mexico | B45: Altamira | C45: Yes | D45: 24 | F45: 1338 | G45: 1575 | H45: =F45+130 -> 1468 | I45: =G45+130 -> 1705 | J45: =H45+115 -> 1583 | K45: =I45+145 -> 1850 | L45: =F45+29 -> 1367 | M45: =G45+19 -> 1594 | N45: =F45+108 -> 1446 | O45: =G45+123 -> 1698 | P45: 885 | Q45: 92.5
A46: Mexico | B46: Veracruz | C46: Yes | D46: 21 | F46: 1338 | G46: 1575 | H46: =F46+130 -> 1468 | I46: =G46+130 -> 1705 | J46: =H46+115 -> 1583 | K46: =I46+145 -> 1850 | L46: =F46+29 -> 1367 | M46: =G46+19 -> 1594 | N46: =F46+108 -> 1446 | O46: =G46+123 -> 1698 | P46: 885 | Q46: 92.5
A47: New Zealand | B47: Auckland | C47: NO | D47: 45 | F47: 1492 | G47: 2162 | H47: =F47+130 -> 1622 | I47: =G47+130 -> 2292 | J47: =H47+115 -> 1737 | K47: =I47+145 -> 2437 | L47: =F47+29 -> 1521 | M47: =G47+19 -> 2181 | N47: =F47+108 -> 1600 | O47: =G47+123 -> 2285 | P47: 1195 | Q47: 92.5
A48: New Zealand | B48: Lyttelton | C48: NO | D48: 45 | F48: 1492 | G48: 2162 | H48: =F48+130 -> 1622 | I48: =G48+130 -> 2292 | J48: =H48+115 -> 1737 | K48: =I48+145 -> 2437 | L48: =F48+29 -> 1521 | M48: =G48+19 -> 2181 | N48: =F48+108 -> 1600 | O48: =G48+123 -> 2285 | P48: 1195 | Q48: 92.5
A49: Oman | B49: Sohar | C49: No | D49: 34 | F49: 1541 | G49: 1903 | H49: =F49+130 -> 1671 | I49: =G49+130 -> 2033 | J49: =H49+115 -> 1786 | K49: =I49+145 -> 2178 | L49: =F49+29 -> 1570 | M49: =G49+19 -> 1922 | N49: =F49+108 -> 1649 | O49: =G49+123 -> 2026 | P49: 945 | Q49: 92.5
A50: Uruguay | B50: Montevideo | C50: No | F50: 1090 | G50: 1329 | H50: =F50+130 -> 1220 | I50: =G50+130 -> 1459 | J50: =H50+115 -> 1335 | K50: =I50+145 -> 1604 | L50: =F50+29 -> 1119 | M50: =G50+19 -> 1348 | N50: =F50+108 -> 1198 | O50: =G50+123 -> 1452
A51: Paraguay | B51: Asuncion | C51: No | D51: 36 | F51: 1769 | G51: 2717 | H51: =F51+130 -> 1899 | I51: =G51+130 -> 2847 | J51: =H51+115 -> 2014 | K51: =I51+145 -> 2992 | L51: =F51+29 -> 1798 | M51: =G51+19 -> 2736 | N51: =F51+108 -> 1877 | O51: =G51+123 -> 2840 | P51: n/a | Q51: 92.5
A52: Peru | B52: Callao | C52: No | D52: 27 | F52: 1290 | G52: 1698 | H52: =F52+130 -> 1420 | I52: =G52+130 -> 1828 | J52: =H52+115 -> 1535 | K52: =I52+145 -> 1973 | L52: =F52+29 -> 1319 | M52: =G52+19 -> 1717 | N52: =F52+108 -> 1398 | O52: =G52+123 -> 1821 | P52: n/a | Q52: 92.5
A53: Philippinen | B53: Manila | C53: No | D53: 35 | F53: 1510 | G53: 1875 | H53: =F53+130 -> 1640 | I53: =G53+130 -> 2005 | J53: =H53+115 -> 1755 | K53: =I53+145 -> 2150 | L53: =F53+29 -> 1539 | M53: =G53+19 -> 1894 | N53: =F53+108 -> 1618 | O53: =G53+123 -> 1998 | P53: n/a | Q53: 92.5
A54: Qatar | B54: Hammad, Qatar | C54: No | D54: 30 | F54: 1738 | G54: 2083 | H54: =F54+130 -> 1868 | I54: =G54+130 -> 2213 | J54: =H54+115 -> 1983 | K54: =I54+145 -> 2358 | L54: =F54+29 -> 1767 | M54: =G54+19 -> 2102 | N54: =F54+108 -> 1846 | O54: =G54+123 -> 2206 | P54: n/a | Q54: 92.5
A55: Saudi Arabia | B55: Damman | C55: No | D55: 27 | F55: 1598 | G55: 1781 | H55: =F55+130 -> 1728 | I55: =G55+130 -> 1911 | J55: =H55+115 -> 1843 | K55: =I55+145 -> 2056 | L55: =F55+29 -> 1627 | M55: =G55+19 -> 1800 | N55: =F55+108 -> 1706 | O55: =G55+123 -> 1904 | P55: 1085 | Q55: 92.5
A56: UAE | B56: Jebel Ali / Dubai | C56: Yes | D56: 21 | F56: 1385 | G56: 1542 | H56: =F56+75 -> 1460 | I56: =G56+113 -> 1655 | J56: =H56+115 -> 1575 | K56: =I56+145 -> 1800 | L56: =F56+29 -> 1414 | M56: =G56+19 -> 1561 | N56: =F56+108 -> 1493 | O56: =G56+123 -> 1665 | P56: 895 | Q56: 92.5
A57: Saudi Arabia | B57: Jeddah | C57: Yes | D57: 20 | F57: 1385 | G57: 1542 | H57: =F57+75 -> 1460 | I57: =G57+113 -> 1655 | J57: =H57+115 -> 1575 | K57: =I57+145 -> 1800 | L57: =F57+29 -> 1414 | M57: =G57+19 -> 1561 | N57: =F57+108 -> 1493 | O57: =G57+123 -> 1665 | P57: n/a | Q57: 92.5
A58: Singapore | B58: Singapore | C58: Yes | D58: 30 | F58: 1344 | G58: 1525 | H58: =F58+130 -> 1474 | I58: =G58+130 -> 1655 | J58: =H58+115 -> 1589 | K58: =I58+145 -> 1800 | L58: =F58+29 -> 1373 | M58: =G58+19 -> 1544 | N58: =F58+108 -> 1452 | O58: =G58+123 -> 1648 | P58: 855 | Q58: 92.5
A59: South Africa | B59: Cape Town | C59: Yes | D59: 24 | F59: 1285 | G59: 2053 | H59: =F59+130 -> 1415 | I59: =G59+130 -> 2183 | J59: =H59+115 -> 1530 | K59: =I59+145 -> 2328 | L59: =F59+29 -> 1314 | M59: =G59+19 -> 2072 | N59: =F59+108 -> 1393 | O59: =G59+123 -> 2176 | P59: n/a | Q59: 92.5
A60: South Africa | B60: Durban | C60: Yes | D60: 29 | F60: 1285 | G60: 2053 | H60: =F60+130 -> 1415 | I60: =G60+130 -> 2183 | J60: =H60+115 -> 1530 | K60: =I60+145 -> 2328 | L60: =F60+29 -> 1314 | M60: =G60+19 -> 2072 | N60: =F60+108 -> 1393 | O60: =G60+123 -> 2176 | P60: n/a | Q60: 92.5
A61: Taiwan | B61: Kaohsiung | C61: Yes | D61: 35 | F61: 1344 | G61: 1525 | H61: =F61+130 -> 1474 | I61: =G61+130 -> 1655 | J61: =H61+115 -> 1589 | K61: =I61+145 -> 1800 | L61: =F61+29 -> 1373 | M61: =G61+19 -> 1544 | N61: =F61+108 -> 1452 | O61: =G61+123 -> 1648 | P61: 985 | Q61: 92.5
A62: Taiwan | B62: Keelung | C62: No | D62: 52 | F62: 1410 | G62: 1525 | H62: =F62+130 -> 1540 | I62: =G62+130 -> 1655 | J62: =H62+115 -> 1655 | K62: =I62+145 -> 1800 | L62: =F62+29 -> 1439 | M62: =G62+19 -> 1544 | N62: =F62+108 -> 1518 | O62: =G62+123 -> 1648 | P62: 985 | Q62: 92.5
A63: Tunis | B63: Sfax Seago | C63: No | D63: 22 | F63: 1319 | G63: 1642 | H63: =F63+130 -> 1449 | I63: =G63+130 -> 1772 | J63: =H63+115 -> 1564 | K63: =I63+145 -> 1917 | L63: =F63+29 -> 1348 | M63: =G63+19 -> 1661 | N63: =F63+108 -> 1427 | O63: =G63+123 -> 1765 | P63: n/a | Q63: 92.5
A64: Tunis | B64: Tunis Seago | C64: No | D64: 18 | F64: 1469 | G64: 1892 | H64: =F64+130 -> 1599 | I64: =G64+130 -> 2022 | J64: =H64+115 -> 1714 | K64: =I64+145 -> 2167 | L64: =F64+29 -> 1498 | M64: =G64+19 -> 1911 | N64: =F64+108 -> 1577 | O64: =G64+123 -> 2015 | P64: n/a | Q64: 92.5
A65: Vietnam | B65: Ho Chi Minh | C65: No | D65: 33 | F65: 1438 | G65: 1695 | H65: =F65+130 -> 1568 | I65: =G65+130 -> 1825 | J65: =H65+115 -> 1683 | K65: =I65+145 -> 1970 | L65: =F65+29 -> 1467 | M65: =G65+19 -> 1714 | N65: =F65+108 -> 1546 | O65: =G65+123 -> 1818 | P65: 1095 | Q65: 92.5
A66: USA | C66: Yes | D66: 20 | E66: 19.9 tons | F66: - | G66: 0 | H66: - | I66: =G66+130 -> 130 | J66: - | K66: =I66+145 -> 275 | L66: - | M66: =G66+19 -> 19 | N66: - | O66: =G66+123 -> 123 | P66: n/a | Q66: 92.5
C67: Yes | D67: 20 | E67: 23.8 tons | F67: - | G67: 0 | H67: - | I67: =G67+130 -> 130 | J67: - | K67: =I67+145 -> 275 | L67: - | M67: =G67+19 -> 19 | N67: - | O67: =G67+123 -> 123 | P67: n/a | Q67: 92.5
B69: - Subject to space & equipment availability
B70: - Payment: within 30 days as from invoice date
B71: - Shipment with carriers of our choice
B72: - Surcharges valid at time of shipment
B73: - Exceptional surcharges implemented by the carrier during the validity period, will be forwarded to the customer
B74: - Validity: 01.10.2017- 31.10.2017
B75: - Since all rates are in EUR, we will adjust our quotation in case the USD/EUR exchange rate will drastically change
B76: - 2 hours freetime for loading/unloading, each additional hour 45 EUR
B77: - Since all rates are in EUR, we will adjust our quotation in case the USD/EUR exchange rate will drastically change

Sheet POCT
A2: Prices in euros
A3: All in prices inclusing Seafreight+THC+trucking+toll (BE)+ISPS+BUC+Tunnel+ all surcharges + 2 hours for loading
A6: Country | B6: Port | C6: Direct (Yes/No) | D6: lead time (port to port) | E6: Port of transhipment | F6: Lentzweiler 20 Ft | G6: Lentzweiler 40 Ft | H6: Konz 20 FT | I6: Konz 40FT | J6: Konz + Lenztweiler 20FT | K6: Konz + Lenztweiler 40FT | L6: Sedan 20 Ft | M6: Sedan 40 Ft | N6: Dudelange 20 Ft | O6: Dudelange 40 Ft | P6: Weigting (Solas) fees at port
A7: Algeria | B7: Alger | C7: no | D7: 22 | E7: Marsaxlokk | F7: 1615 | G7: 2080 | H7: 1750 | I7: 2200 | J7: 1840 | K7: 2290 | L7: 1615 | M7: 2125 | N7: 1681 | O7: 2204 | P7: 90
A8: Argentina | B8: Buenos Aires | C8: yes | D8: 19 | F8: 1077 | G8: 1284 | H8: 1212 | I8: 1404 | J8: 1302 | K8: 1494 | L8: 1077 | M8: 1329 | N8: 1143 | O8: 1408 | P8: 90
A9: Australia | B9: Adelaide | C9: no | D9: 55 | E9: Singapore | F9: 1397.15 | G9: 1835.3 | H9: 1532.15 | I9: 1955.3 | J9: 1622.15 | K9: 2045.3 | L9: 1397.15 | M9: 1880.3 | N9: 1463.15 | O9: 1959.3 | P9: 90
A10: Australia | B10: Brisbane | C10: no | D10: 49 | E10: Singapore | F10: 1397.15 | G10: 1835.3 | H10: 1532.15 | I10: 1955.3 | J10: 1622.15 | K10: 2045.3 | L10: 1397.15 | M10: 1880.3 | N10: 1463.15 | O10: 1959.3 | P10: 90
A11: Australia | B11: Fremantle | C11: no | D11: 42 | E11: Singapore | F11: 1397.15 | G11: 1835.3 | H11: 1532.15 | I11: 1955.3 | J11: 1622.15 | K11: 2045.3 | L11: 1397.15 | M11: 1880.3 | N11: 1463.15 | O11: 1959.3 | P11: 90
A12: Australia | B12: Melbourne | C12: no | D12: 55 | E12: Singapore | F12: 1397.15 | G12: 1835.3 | H12: 1532.15 | I12: 1955.3 | J12: 1622.15 | K12: 2045.3 | L12: 1397.15 | M12: 1880.3 | N12: 1463.15 | O12: 1959.3 | P12: 90
A13: Australia | B13: Sydney | C13: no | D13: 52 | E13: Singapore | F13: 1397.15 | G13: 1835.3 | H13: 1532.15 | I13: 1955.3 | J13: 1622.15 | K13: 2045.3 | L13: 1397.15 | M13: 1880.3 | N13: 1463.15 | O13: 1959.3 | P13: 90
A14: Bahrain | B14: Bahrain | C14: no | D14: 29 | E14: Jebel Ali | F14: 1576.42 | G14: 1768.87 | H14: 1711.42 | I14: 1888.87 | J14: 1801.42 | K14: 1978.87 | L14: 1576.42 | M14: 1813.87 | N14: 1642.42 | O14: 1892.87 | P14: 90
A15: Brazil | B15: Santos | C15: yes | D15: 15 | F15: 1077 | G15: 1284 | H15: 1212 | I15: 1404 | J15: 1302 | K15: 1494 | L15: 1077 | M15: 1329 | N15: 1143 | O15: 1408 | P15: 90
A16: Chile | B16: San Antonio | C16: no | D16: 31 | E16: Balboa | F16: 1292 | G16: 1748 | H16: 1427 | I16: 1868 | J16: 1517 | K16: 1958 | L16: 1292 | M16: 1793 | N16: 1358 | O16: 1872 | P16: 90
A17: Chile | B17: Valparaiso | C17: yes | D17: 29 | F17: 1402 | G17: 2019 | H17: 1537 | I17: 2139 | J17: 1627 | K17: 2229 | L17: 1402 | M17: 2064 | N17: 1468 | O17: 2143 | P17: 90
A18: China | B18: Shanghai | C18: yes | D18: 30 | F18: 1344.37 | G18: 1532.27 | H18: 1479.37 | I18: 1652.27 | J18: 1569.37 | K18: 1742.27 | L18: 1344.37 | M18: 1577.27 | N18: 1410.37 | O18: 1656.27 | P18: 90
A19: Columbia | B19: Cartagena | C19: yes | D19: 14 | F19: 1177 | G19: 1759 | H19: 1312 | I19: 1879 | J19: 1402 | K19: 1969 | L19: 1177 | M19: 1804 | N19: 1243 | O19: 1883 | P19: 90
A20: Cyprus | B20: Limassol | C20: yes | D20: 7 | F20: 1245 | G20: 1485 | H20: 1380 | I20: 1605 | J20: 1470 | K20: 1695 | L20: 1245 | M20: 1530 | N20: 1311 | O20: 1609 | P20: 90
A21: Ecuador | B21: Guayaquil | C21: no | D21: 21 | E21: Cartagena | F21: 1327 | G21: 1909 | H21: 1462 | I21: 2029 | J21: 1552 | K21: 2119 | L21: 1327 | M21: 1954 | N21: 1393 | O21: 2033 | P21: 90
A22: Egypt | B22: Alexandrie | C22: yes | D22: 13 | F22: 1095 | G22: 1285 | H22: 1230 | I22: 1405 | J22: 1320 | K22: 1495 | L22: 1095 | M22: 1330 | N22: 1161 | O22: 1409 | P22: 90
A23: Hong Kong | B23: Hong Kong | C23: yes | D23: 30 | F23: 1344.37 | G23: 1532.27 | H23: 1479.37 | I23: 1652.27 | J23: 1569.37 | K23: 1742.27 | L23: 1344.37 | M23: 1577.27 | N23: 1410.37 | O23: 1656.27 | P23: 90
A24: India | B24: Nhava Sheva | C24: yes | D24: 29 | F24: 1247 | G24: 1535 | H24: 1382 | I24: 1655 | J24: 1472 | K24: 1745 | L24: 1247 | M24: 1580 | N24: 1313 | O24: 1659 | P24: 90
A25: Israel | B25: Ashdod | C25: yes | D25: 10 | F25: 1227.89 | G25: 1369.38 | H25: 1362.89 | I25: 1489.38 | J25: 1452.89 | K25: 1579.38 | L25: 1227.89 | M25: 1414.38 | N25: 1293.89 | O25: 1493.38 | P25: 90
A26: Japan | B26: Nagoya | C26: no | D26: 39 | E26: Hong Kong | F26: 1489.97 | G26: 1714.27 | H26: 1624.97 | I26: 1834.27 | J26: 1714.97 | K26: 1924.27 | L26: 1489.97 | M26: 1759.27 | N26: 1555.97 | O26: 1838.27 | P26: 90
A27: Korea | B27: Busan | C27: yes | D27: 40 | F27: 1344.37 | G27: 1532.27 | H27: 1479.37 | I27: 1652.27 | J27: 1569.37 | K27: 1742.27 | L27: 1344.37 | M27: 1577.27 | N27: 1410.37 | O27: 1656.27 | P27: 90
A28: Kuwait | B28: Kuwait | C28: no | D28: 30 | E28: Jebel Ali | F28: 1621.92 | G28: 1882.62 | H28: 1756.92 | I28: 2002.62 | J28: 1846.92 | K28: 2092.62 | L28: 1621.92 | M28: 1927.62 | N28: 1687.92 | O28: 2006.62 | P28: 90
A29: Malaysia | B29: Port Kelang | C29: no | D29: 30 | E29: Singapore | F29: 1344.37 | G29: 1532.27 | H29: 1479.37 | I29: 1652.27 | J29: 1569.37 | K29: 1742.27 | L29: 1344.37 | M29: 1577.27 | N29: 1410.37 | O29: 1656.27 | P29: 90
A30: Maroc | B30: Casablanca | C30: yes | D30: 10 | F30: 1195 | G30: 1385 | H30: 1330 | I30: 1505 | J30: 1420 | K30: 1595 | L30: 1195 | M30: 1430 | N30: 1261 | O30: 1509 | P30: 90
A31: Mexico | B31: Altamira | C31: yes | D31: 24 | F31: 1394.42 | G31: 1650.57 | H31: 1529.42 | I31: 1770.57 | J31: 1619.42 | K31: 1860.57 | L31: 1394.42 | M31: 1695.57 | N31: 1460.42 | O31: 1774.57 | P31: 90
A32: Mexico | B32: Veracruz | C32: yes | D32: 22 | F32: 1394.42 | G32: 1650.57 | H32: 1529.42 | I32: 1770.57 | J32: 1619.42 | K32: 1860.57 | L32: 1394.42 | M32: 1695.57 | N32: 1460.42 | O32: 1774.57 | P32: 90
A33: New Zealand | B33: Auckland | C33: no | D33: 41 | E33: Singapore | F33: 1390.78 | G33: 2079.18 | H33: 1525.78 | I33: 2199.18 | J33: 1615.78 | K33: 2289.18 | L33: 1390.78 | M33: 2124.18 | N33: 1456.78 | O33: 2203.18 | P33: 90
A34: Oman | B34: Sohar | C34: no | D34: 26 | E34: Jebel Ali | F34: 1621.92 | G34: 1996.37 | H34: 1756.92 | I34: 2116.37 | J34: 1846.92 | K34: 2206.37 | L34: 1621.92 | M34: 2041.37 | N34: 1687.92 | O34: 2120.37 | P34: 90
A35: Paraguay | B35: Asuncion | C35: no | D35: 49 | E35: Montevideo | F35: 1913 | G35: 2778 | H35: 2048 | I35: 2898 | J35: 2138 | K35: 2988 | L35: 1913 | M35: 2823 | N35: 1979 | O35: 2902 | P35: 90
A36: Philippinen | B36: Manila | C36: no | D36: 41 | E36: Hong Kong | F36: 1527.28 | G36: 1897.18 | H36: 1662.28 | I36: 2017.18 | J36: 1752.28 | K36: 2107.18 | L36: 1527.28 | M36: 1942.18 | N36: 1593.28 | O36: 2021.18 | P36: 90
A37: Qatar | B37: Hamad Port | C37: no | D37: 29 | E37: Salalah | F37: 2410.89 | G37: 3004.65 | H37: 2545.89 | I37: 3124.65 | J37: 2635.89 | K37: 3214.65 | L37: 2410.89 | M37: 3049.65 | N37: 2476.89 | O37: 3128.65 | P37: 90
A38: Saudi Arabia | B38: Damman | C38: no | D38: 25 | E38: Salalah | F38: 1667.42 | G38: 1859.87 | H38: 1802.42 | I38: 1979.87 | J38: 1892.42 | K38: 2069.87 | L38: 1667.42 | M38: 1904.87 | N38: 1733.42 | O38: 1983.87 | P38: 90
A39: Saudi Arabia | B39: Jeddah | C39: yes | D39: 15 | F39: 1247 | G39: 1535 | H39: 1382 | I39: 1655 | J39: 1472 | K39: 1745 | L39: 1247 | M39: 1580 | N39: 1313 | O39: 1659 | P39: 90
A40: Singapore | B40: Singapore | C40: yes | D40: 32 | F40: 1345.28 | G40: 1533.18 | H40: 1480.28 | I40: 1653.18 | J40: 1570.28 | K40: 1743.18 | L40: 1345.28 | M40: 1578.18 | N40: 1411.28 | O40: 1657.18 | P40: 90
A41: South Africa | B41: Cape Town | C41: no | D41: 22 | E41: Algeciras | F41: 1318.89 | G41: 2143.79 | H41: 1453.89 | I41: 2263.79 | J41: 1543.89 | K41: 2353.79 | L41: 1318.89 | M41: 2188.79 | N41: 1384.89 | O41: 2267.79 | P41: 90
A42: South Africa | B42: Durban | C42: no | D42: 28 | E42: Algeciras | F42: 1318.89 | G42: 2143.79 | H42: 1453.89 | I42: 2263.79 | J42: 1543.89 | K42: 2353.79 | L42: 1318.89 | M42: 2188.79 | N42: 1384.89 | O42: 2267.79 | P42: 90
A43: Taiwan | B43: Kaohsiung | C43: no | D43: 39 | E43: Singapore | F43: 1344.37 | G43: 1532.27 | H43: 1479.37 | I43: 1652.27 | J43: 1569.37 | K43: 1742.27 | L43: 1344.37 | M43: 1577.27 | N43: 1410.37 | O43: 1656.27 | P43: 90
A44: Taiwan | B44: Keelung | C44: no | D44: 33 | E44: Singapore | F44: 1412.62 | G44: 1668.77 | H44: 1547.62 | I44: 1788.77 | J44: 1637.62 | K44: 1878.77 | L44: 1412.62 | M44: 1713.77 | N44: 1478.62 | O44: 1792.77 | P44: 90
A45: Tunis | B45: Sfax | C45: no | D45: 25 | E45: Marsaxlokk | F45: 1295 | G45: 1585 | H45: 1430 | I45: 1705 | J45: 1520 | K45: 1795 | L45: 1295 | M45: 1630 | N45: 1361 | O45: 1709 | P45: 90
A46: Tunis | B46: Tunis | C46: no | D46: 34 | E46: Marsaxlokk | F46: 1390 | G46: 1780 | H46: 1525 | I46: 1900 | J46: 1615 | K46: 1990 | L46: 1390 | M46: 1825 | N46: 1456 | O46: 1904 | P46: 90
A47: UAE | B47: Dubai | C47: yes | D47: 19 | F47: 1485.42 | G47: 1677.87 | H47: 1620.42 | I47: 1797.87 | J47: 1710.42 | K47: 1887.87 | L47: 1485.42 | M47: 1722.87 | N47: 1551.42 | O47: 1801.87 | P47: 90

Sheet Comparateur
L2: =IFERROR(MATCH($I$3& " D",'Données prix et lead time'!$B$11:$B$74,0),"") -> 10
G3: TRAJET | I3: Melbourne | L3: =IFERROR(MATCH($I$3,'Données prix et lead time'!$B$11:$B$75,0),"") -> 11
G4: TRANSPORT | I4: Sedan 40 Ft | L4: =IFERROR(MATCH($I$4,'Données prix et lead time'!$D$10:$AO$10,0),0) -> 5
G6: Direct | I6: Lead Time Direct | J6: Indirect | L6: Lead Time Indirect
D7: KOCT | G7: =IF($L$2="","",INDEX('Données prix et lead time'!$D$11:$J$75,$L$2,$L$4)) -> 2454 | I7: =IF($L$2="","",INDEX('Données prix et lead time'!$L$11:$N$75,$L$2,1)) -> 42j | J7: =IF($L$3="","",INDEX('Données prix et lead time'!$D$11:$J$75,$L$3,$L$4)) -> 1924 | L7: =IF($L$3="","",INDEX('Données prix et lead time'!$L$11:$N$75,$L$3,1)) -> 48j
D8: POCT | G8: =IF($L$2="","",INDEX('Données prix et lead time'!$D$11:$J$75,$L$2,$L$4+1)) -> 0 | I8: =IF($L$2="","",INDEX('Données prix et lead time'!$L$11:$N$75,$L$2,2)) -> 0 | J8: =IF($L$3="","",INDEX('Données prix et lead time'!$D$11:$J$75,$L$3,$L$4+1)) -> 1880 | L8: =IF($L$3="","",INDEX('Données prix et lead time'!$L$11:$N$75,$L$3,2)) -> 55j
D9: MOCT | G9: =IF($L$2="","",INDEX('Données prix et lead time'!$D$11:$J$75,$L$2,$L$4+2)) -> 0 | I9: =IF($L$2="","",INDEX('Données prix et lead time'!$L$11:$N$75,$L$2,3)) -> 0 | J9: =IF($L$3="","",INDEX('Données prix et lead time'!$D$11:$J$75,$L$3,$L$4+2)) -> 1974 | L9: =IF($L$3="","",INDEX('Données prix et lead time'!$L$11:$N$75,$L$3,3)) -> 42à63j (20') et 45j (40')
