Workbook

Sheet geology
A1: sondage | B1: from | C1: to | D1: description | E1: type_materiau | F1: couleur_teinte | G1: couleur_intensite | H1: POLLUTIONI | I1: POLLUTIONII | J1: Remarques | K1: TYPE MATERIAU | L1: COULEUR TEINTE | M1: COULEUR INTEN | N1: POLLUTION I | O1: POLLUTION II | P1: litho | Q1: date
A2: 1253 | B2: 0 | C2: 1 | E2: 30 | K2: =IFERROR(VLOOKUP(E2,'[1]Feuil1 (2)'!F:G,2,FALSE)," ") -> Terre Végétale | L2: =IFERROR(VLOOKUP(F2,'[1]Feuil1 (2)'!H:I,2,FALSE)," ") | M2: =IFERROR(VLOOKUP(G2,'[1]Feuil1 (2)'!J:K,2,FALSE)," ") -> ind | N2: =IFERROR(VLOOKUP(H2,'[1]Feuil1 (2)'!L:M,2,FALSE)," ") | O2: =IFERROR(VLOOKUP(I2,'[1]Feuil1 (2)'!L:M,2,FALSE)," ") | P2: =CONCATENATE(K2," ",L2," ",M2) -> Terre Végétale ind | Q2: =VLOOKUP(A2,[1]collar!A:I,9,FALSE) -> 1974
A3: 1253 | B3: =IF(A3=A2,C2,0) -> 1 | C3: 8 | E3: 50 | K3: =IFERROR(VLOOKUP(E3,'[1]Feuil1 (2)'!F:G,2,FALSE)," ") -> Sable | L3: =IFERROR(VLOOKUP(F3,'[1]Feuil1 (2)'!H:I,2,FALSE)," ") | M3: =IFERROR(VLOOKUP(G3,'[1]Feuil1 (2)'!J:K,2,FALSE)," ") -> ind | N3: =IFERROR(VLOOKUP(H3,'[1]Feuil1 (2)'!L:M,2,FALSE)," ") | O3: =IFERROR(VLOOKUP(I3,'[1]Feuil1 (2)'!L:M,2,FALSE)," ") | P3: =CONCATENATE(K3," ",L3," ",M3) -> Sable ind | Q3: =VLOOKUP(A3,[1]collar!A:I,9,FALSE) -> 1974
A4: 1253 | B4: =IF(A4=A3,C3,0) -> 8 | C4: 9.5 | E4: 40 | K4: =IFERROR(VLOOKUP(E4,'[1]Feuil1 (2)'!F:G,2,FALSE)," ") -> Calcaire massif (dur) | L4: =IFERROR(VLOOKUP(F4,'[1]Feuil1 (2)'!H:I,2,FALSE)," ") | M4: =IFERROR(VLOOKUP(G4,'[1]Feuil1 (2)'!J:K,2,FALSE)," ") -> ind | N4: =IFERROR(VLOOKUP(H4,'[1]Feuil1 (2)'!L:M,2,FALSE)," ") | O4: =IFERROR(VLOOKUP(I4,'[1]Feuil1 (2)'!L:M,2,FALSE)," ") | P4: =CONCATENATE(K4," ",L4," ",M4) -> Calcaire massif (dur) ind | Q4: =VLOOKUP(A4,[1]collar!A:I,9,FALSE) -> 1974
A5: 1253 | B5: =IF(A5=A4,C4,0) -> 9.5 | C5: 11 | E5: 42 | K5: =IFERROR(VLOOKUP(E5,'[1]Feuil1 (2)'!F:G,2,FALSE)," ") -> Marne | L5: =IFERROR(VLOOKUP(F5,'[1]Feuil1 (2)'!H:I,2,FALSE)," ") | M5: =IFERROR(VLOOKUP(G5,'[1]Feuil1 (2)'!J:K,2,FALSE)," ") -> ind | N5: =IFERROR(VLOOKUP(H5,'[1]Feuil1 (2)'!L:M,2,FALSE)," ") | O5: =IFERROR(VLOOKUP(I5,'[1]Feuil1 (2)'!L:M,2,FALSE)," ") | P5: =CONCATENATE(K5," ",L5," ",M5) -> Marne ind | Q5: =VLOOKUP(A5,[1]collar!A:I,9,FALSE) -> 1974
A6: 1253 | B6: =IF(A6=A5,C5,0) -> 11 | C6: 19.8 | E6: 10 | K6: =IFERROR(VLOOKUP(E6,'[1]Feuil1 (2)'!F:G,2,FALSE)," ") -> argile | L6: =IFERROR(VLOOKUP(F6,'[1]Feuil1 (2)'!H:I,2,FALSE)," ") | M6: =IFERROR(VLOOKUP(G6,'[1]Feuil1 (2)'!J:K,2,FALSE)," ") -> ind | N6: =IFERROR(VLOOKUP(H6,'[1]Feuil1 (2)'!L:M,2,FALSE)," ") | O6: =IFERROR(VLOOKUP(I6,'[1]Feuil1 (2)'!L:M,2,FALSE)," ") | P6: =CONCATENATE(K6," ",L6," ",M6) -> argile ind | Q6: =VLOOKUP(A6,[1]collar!A:I,9,FALSE) -> 1974
A7: 1253 | B7: =IF(A7=A6,C6,0) -> 19.8 | C7: 21.3 | E7: 12 | K7: =IFERROR(VLOOKUP(E7,'[1]Feuil1 (2)'!F:G,2,FALSE)," ") -> argile sableuse | L7: =IFERROR(VLOOKUP(F7,'[1]Feuil1 (2)'!H:I,2,FALSE)," ") | M7: =IFERROR(VLOOKUP(G7,'[1]Feuil1 (2)'!J:K,2,FALSE)," ") -> ind | N7: =IFERROR(VLOOKUP(H7,'[1]Feuil1 (2)'!L:M,2,FALSE)," ") | O7: =IFERROR(VLOOKUP(I7,'[1]Feuil1 (2)'!L:M,2,FALSE)," ") | P7: =CONCATENATE(K7," ",L7," ",M7) -> argile sableuse ind | Q7: =VLOOKUP(A7,[1]collar!A:I,9,FALSE) -> 1974
A8: 1262 | B8: =IF(A8=A7,C7,0) -> 0 | C8: 1 | E8: 30 | K8: =IFERROR(VLOOKUP(E8,'[1]Feuil1 (2)'!F:G,2,FALSE)," ") -> Terre Végétale | L8: =IFERROR(VLOOKUP(F8,'[1]Feuil1 (2)'!H:I,2,FALSE)," ") | M8: =IFERROR(VLOOKUP(G8,'[1]Feuil1 (2)'!J:K,2,FALSE)," ") -> ind | N8: =IFERROR(VLOOKUP(H8,'[1]Feuil1 (2)'!L:M,2,FALSE)," ") | O8: =IFERROR(VLOOKUP(I8,'[1]Feuil1 (2)'!L:M,2,FALSE)," ") | P8: =CONCATENATE(K8," ",L8," ",M8) -> Terre Végétale ind | Q8: =VLOOKUP(A8,[1]collar!A:I,9,FALSE) -> 1974
A9: 1262 | B9: =IF(A9=A8,C8,0) -> 1 | C9: 10 | E9: 50 | K9: =IFERROR(VLOOKUP(E9,'[1]Feuil1 (2)'!F:G,2,FALSE)," ") -> Sable | L9: =IFERROR(VLOOKUP(F9,'[1]Feuil1 (2)'!H:I,2,FALSE)," ") | M9: =IFERROR(VLOOKUP(G9,'[1]Feuil1 (2)'!J:K,2,FALSE)," ") -> ind | N9: =IFERROR(VLOOKUP(H9,'[1]Feuil1 (2)'!L:M,2,FALSE)," ") | O9: =IFERROR(VLOOKUP(I9,'[1]Feuil1 (2)'!L:M,2,FALSE)," ") | P9: =CONCATENATE(K9," ",L9," ",M9) -> Sable ind | Q9: =VLOOKUP(A9,[1]collar!A:I,9,FALSE) -> 1974
A10: 1262 | B10: =IF(A10=A9,C9,0) -> 10 | C10: 13.5 | E10: 40 | K10: =IFERROR(VLOOKUP(E10,'[1]Feuil1 (2)'!F:G,2,FALSE)," ") -> Calcaire massif (dur) | L10: =IFERROR(VLOOKUP(F10,'[1]Feuil1 (2)'!H:I,2,FALSE)," ") | M10: =IFERROR(VLOOKUP(G10,'[1]Feuil1 (2)'!J:K,2,FALSE)," ") -> ind | N10: =IFERROR(VLOOKUP(H10,'[1]Feuil1 (2)'!L:M,2,FALSE)," ") | O10: =IFERROR(VLOOKUP(I10,'[1]Feuil1 (2)'!L:M,2,FALSE)," ") | P10: =CONCATENATE(K10," ",L10," ",M10) -> Calcaire massif (dur) ind | Q10: =VLOOKUP(A10,[1]collar!A:I,9,FALSE) -> 1974
A11: 1262 | B11: =IF(A11=A10,C10,0) -> 13.5 | C11: 15.3 | E11: 42 | F11: 1 | K11: =IFERROR(VLOOKUP(E11,'[1]Feuil1 (2)'!F:G,2,FALSE)," ") -> Marne | L11: =IFERROR(VLOOKUP(F11,'[1]Feuil1 (2)'!H:I,2,FALSE)," ") -> blanc | M11: =IFERROR(VLOOKUP(G11,'[1]Feuil1 (2)'!J:K,2,FALSE)," ") -> ind | N11: =IFERROR(VLOOKUP(H11,'[1]Feuil1 (2)'!L:M,2,FALSE)," ") | O11: =IFERROR(VLOOKUP(I11,'[1]Feuil1 (2)'!L:M,2,FALSE)," ") | P11: =CONCATENATE(K11," ",L11," ",M11) -> Marne blanc ind | Q11: =VLOOKUP(A11,[1]collar!A:I,9,FALSE) -> 1974
A12: 1262 | B12: =IF(A12=A11,C11,0) -> 15.3 | C12: 21.3 | E12: 10 | K12: =IFERROR(VLOOKUP(E12,'[1]Feuil1 (2)'!F:G,2,FALSE)," ") -> argile | L12: =IFERROR(VLOOKUP(F12,'[1]Feuil1 (2)'!H:I,2,FALSE)," ") | M12: =IFERROR(VLOOKUP(G12,'[1]Feuil1 (2)'!J:K,2,FALSE)," ") -> ind | N12: =IFERROR(VLOOKUP(H12,'[1]Feuil1 (2)'!L:M,2,FALSE)," ") | O12: =IFERROR(VLOOKUP(I12,'[1]Feuil1 (2)'!L:M,2,FALSE)," ") | P12: =CONCATENATE(K12," ",L12," ",M12) -> argile ind | Q12: =VLOOKUP(A12,[1]collar!A:I,9,FALSE) -> 1974
A13: 1262 | B13: =IF(A13=A12,C12,0) -> 21.3 | C13: 22.8 | E13: 50 | K13: =IFERROR(VLOOKUP(E13,'[1]Feuil1 (2)'!F:G,2,FALSE)," ") -> Sable | L13: =IFERROR(VLOOKUP(F13,'[1]Feuil1 (2)'!H:I,2,FALSE)," ") | M13: =IFERROR(VLOOKUP(G13,'[1]Feuil1 (2)'!J:K,2,FALSE)," ") -> ind | N13: =IFERROR(VLOOKUP(H13,'[1]Feuil1 (2)'!L:M,2,FALSE)," ") | O13: =IFERROR(VLOOKUP(I13,'[1]Feuil1 (2)'!L:M,2,FALSE)," ") | P13: =CONCATENATE(K13," ",L13," ",M13) -> Sable ind | Q13: =VLOOKUP(A13,[1]collar!A:I,9,FALSE) -> 1974
A14: 1263 | B14: =IF(A14=A13,C13,0) -> 0 | C14: 1.5 | E14: 30 | K14: =IFERROR(VLOOKUP(E14,'[1]Feuil1 (2)'!F:G,2,FALSE)," ") -> Terre Végétale | L14: =IFERROR(VLOOKUP(F14,'[1]Feuil1 (2)'!H:I,2,FALSE)," ") | M14: =IFERROR(VLOOKUP(G14,'[1]Feuil1 (2)'!J:K,2,FALSE)," ") -> ind | N14: =IFERROR(VLOOKUP(H14,'[1]Feuil1 (2)'!L:M,2,FALSE)," ") | O14: =IFERROR(VLOOKUP(I14,'[1]Feuil1 (2)'!L:M,2,FALSE)," ") | P14: =CONCATENATE(K14," ",L14," ",M14) -> Terre Végétale ind | Q14: =VLOOKUP(A14,[1]collar!A:I,9,FALSE) -> 1974
A15: 1263 | B15: =IF(A15=A14,C14,0) -> 1.5 | C15: 10 | E15: 50 | K15: =IFERROR(VLOOKUP(E15,'[1]Feuil1 (2)'!F:G,2,FALSE)," ") -> Sable | L15: =IFERROR(VLOOKUP(F15,'[1]Feuil1 (2)'!H:I,2,FALSE)," ") | M15: =IFERROR(VLOOKUP(G15,'[1]Feuil1 (2)'!J:K,2,FALSE)," ") -> ind | N15: =IFERROR(VLOOKUP(H15,'[1]Feuil1 (2)'!L:M,2,FALSE)," ") | O15: =IFERROR(VLOOKUP(I15,'[1]Feuil1 (2)'!L:M,2,FALSE)," ") | P15: =CONCATENATE(K15," ",L15," ",M15) -> Sable ind | Q15: =VLOOKUP(A15,[1]collar!A:I,9,FALSE) -> 1974
A16: 1263 | B16: =IF(A16=A15,C15,0) -> 10 | C16: 15 | E16: 41 | K16: =IFERROR(VLOOKUP(E16,'[1]Feuil1 (2)'!F:G,2,FALSE)," ") -> Calcaire tendre | L16: =IFERROR(VLOOKUP(F16,'[1]Feuil1 (2)'!H:I,2,FALSE)," ") | M16: =IFERROR(VLOOKUP(G16,'[1]Feuil1 (2)'!J:K,2,FALSE)," ") -> ind | N16: =IFERROR(VLOOKUP(H16,'[1]Feuil1 (2)'!L:M,2,FALSE)," ") | O16: =IFERROR(VLOOKUP(I16,'[1]Feuil1 (2)'!L:M,2,FALSE)," ") | P16: =CONCATENATE(K16," ",L16," ",M16) -> Calcaire tendre ind | Q16: =VLOOKUP(A16,[1]collar!A:I,9,FALSE) -> 1974
A17: 1263 | B17: =IF(A17=A16,C16,0) -> 15 | C17: 16 | E17: 51 | K17: =IFERROR(VLOOKUP(E17,'[1]Feuil1 (2)'!F:G,2,FALSE)," ") -> Sable argileux | L17: =IFERROR(VLOOKUP(F17,'[1]Feuil1 (2)'!H:I,2,FALSE)," ") | M17: =IFERROR(VLOOKUP(G17,'[1]Feuil1 (2)'!J:K,2,FALSE)," ") -> ind | N17: =IFERROR(VLOOKUP(H17,'[1]Feuil1 (2)'!L:M,2,FALSE)," ") | O17: =IFERROR(VLOOKUP(I17,'[1]Feuil1 (2)'!L:M,2,FALSE)," ") | P17: =CONCATENATE(K17," ",L17," ",M17) -> Sable argileux ind | Q17: =VLOOKUP(A17,[1]collar!A:I,9,FALSE) -> 1974
A18: 1263 | B18: =IF(A18=A17,C17,0) -> 16 | C18: 21.3 | E18: 10 | K18: =IFERROR(VLOOKUP(E18,'[1]Feuil1 (2)'!F:G,2,FALSE)," ") -> argile | L18: =IFERROR(VLOOKUP(F18,'[1]Feuil1 (2)'!H:I,2,FALSE)," ") | M18: =IFERROR(VLOOKUP(G18,'[1]Feuil1 (2)'!J:K,2,FALSE)," ") -> ind | N18: =IFERROR(VLOOKUP(H18,'[1]Feuil1 (2)'!L:M,2,FALSE)," ") | O18: =IFERROR(VLOOKUP(I18,'[1]Feuil1 (2)'!L:M,2,FALSE)," ") | P18: =CONCATENATE(K18," ",L18," ",M18) -> argile ind | Q18: =VLOOKUP(A18,[1]collar!A:I,9,FALSE) -> 1974
A19: 1263 | B19: =IF(A19=A18,C18,0) -> 21.3 | C19: 25.8 | E19: 50 | K19: =IFERROR(VLOOKUP(E19,'[1]Feuil1 (2)'!F:G,2,FALSE)," ") -> Sable | L19: =IFERROR(VLOOKUP(F19,'[1]Feuil1 (2)'!H:I,2,FALSE)," ") | M19: =IFERROR(VLOOKUP(G19,'[1]Feuil1 (2)'!J:K,2,FALSE)," ") -> ind | N19: =IFERROR(VLOOKUP(H19,'[1]Feuil1 (2)'!L:M,2,FALSE)," ") | O19: =IFERROR(VLOOKUP(I19,'[1]Feuil1 (2)'!L:M,2,FALSE)," ") | P19: =CONCATENATE(K19," ",L19," ",M19) -> Sable ind | Q19: =VLOOKUP(A19,[1]collar!A:I,9,FALSE) -> 1974
A20: 1264 | B20: =IF(A20=A19,C19,0) -> 0 | C20: 1 | E20: 30 | K20: =IFERROR(VLOOKUP(E20,'[1]Feuil1 (2)'!F:G,2,FALSE)," ") -> Terre Végétale | L20: =IFERROR(VLOOKUP(F20,'[1]Feuil1 (2)'!H:I,2,FALSE)," ") | M20: =IFERROR(VLOOKUP(G20,'[1]Feuil1 (2)'!J:K,2,FALSE)," ") -> ind | N20: =IFERROR(VLOOKUP(H20,'[1]Feuil1 (2)'!L:M,2,FALSE)," ") | O20: =IFERROR(VLOOKUP(I20,'[1]Feuil1 (2)'!L:M,2,FALSE)," ") | P20: =CONCATENATE(K20," ",L20," ",M20) -> Terre Végétale ind | Q20: =VLOOKUP(A20,[1]collar!A:I,9,FALSE) -> 1974
A21: 1264 | B21: =IF(A21=A20,C20,0) -> 1 | C21: 4.8 | E21: 50 | K21: =IFERROR(VLOOKUP(E21,'[1]Feuil1 (2)'!F:G,2,FALSE)," ") -> Sable | L21: =IFERROR(VLOOKUP(F21,'[1]Feuil1 (2)'!H:I,2,FALSE)," ") | M21: =IFERROR(VLOOKUP(G21,'[1]Feuil1 (2)'!J:K,2,FALSE)," ") -> ind | N21: =IFERROR(VLOOKUP(H21,'[1]Feuil1 (2)'!L:M,2,FALSE)," ") | O21: =IFERROR(VLOOKUP(I21,'[1]Feuil1 (2)'!L:M,2,FALSE)," ") | P21: =CONCATENATE(K21," ",L21," ",M21) -> Sable ind | Q21: =VLOOKUP(A21,[1]collar!A:I,9,FALSE) -> 1974
A22: 1264 | B22: =IF(A22=A21,C21,0) -> 4.8 | C22: 10.8 | E22: 40 | K22: =IFERROR(VLOOKUP(E22,'[1]Feuil1 (2)'!F:G,2,FALSE)," ") -> Calcaire massif (dur) | L22: =IFERROR(VLOOKUP(F22,'[1]Feuil1 (2)'!H:I,2,FALSE)," ") | M22: =IFERROR(VLOOKUP(G22,'[1]Feuil1 (2)'!J:K,2,FALSE)," ") -> ind | N22: =IFERROR(VLOOKUP(H22,'[1]Feuil1 (2)'!L:M,2,FALSE)," ") | O22: =IFERROR(VLOOKUP(I22,'[1]Feuil1 (2)'!L:M,2,FALSE)," ") | P22: =CONCATENATE(K22," ",L22," ",M22) -> Calcaire massif (dur) ind | Q22: =VLOOKUP(A22,[1]collar!A:I,9,FALSE) -> 1974
A23: 1264 | B23: =IF(A23=A22,C22,0) -> 10.8 | C23: 12.3 | E23: 42 | K23: =IFERROR(VLOOKUP(E23,'[1]Feuil1 (2)'!F:G,2,FALSE)," ") -> Marne | L23: =IFERROR(VLOOKUP(F23,'[1]Feuil1 (2)'!H:I,2,FALSE)," ") | M23: =IFERROR(VLOOKUP(G23,'[1]Feuil1 (2)'!J:K,2,FALSE)," ") -> ind | N23: =IFERROR(VLOOKUP(H23,'[1]Feuil1 (2)'!L:M,2,FALSE)," ") | O23: =IFERROR(VLOOKUP(I23,'[1]Feuil1 (2)'!L:M,2,FALSE)," ") | P23: =CONCATENATE(K23," ",L23," ",M23) -> Marne ind | Q23: =VLOOKUP(A23,[1]collar!A:I,9,FALSE) -> 1974
... A25: 1264 | B25: =IF(A25=A24,C24,0) -> 14.3 | C25: 21.3 | E25: 10 | K25: =IFERROR(VLOOKUP(E25,'[1]Feuil1 (2)'!F:G,2,FALSE)," ") -> argile | L25: =IFERROR(VLOOKUP(F25,'[1]Feuil1 (2)'!H:I,2,FALSE)," ") | M25: =IFERROR(VLOOKUP(G25,'[1]Feuil1 (2)'!J:K,2,FALSE)," ") -> ind | N25: =IFERROR(VLOOKUP(H25,'[1]Feuil1 (2)'!L:M,2,FALSE)," ") | O25: =IFERROR(VLOOKUP(I25,'[1]Feuil1 (2)'!L:M,2,FALSE)," ") | P25: =CONCATENATE(K25," ",L25," ",M25) -> argile ind | Q25: =VLOOKUP(A25,[1]collar!A:I,9,FALSE) -> 1974
A26: 1264 | B26: =IF(A26=A25,C25,0) -> 21.3 | C26: 22.8 | E26: 10 | H26: 23 | K26: =IFERROR(VLOOKUP(E26,'[1]Feuil1 (2)'!F:G,2,FALSE)," ") -> argile | L26: =IFERROR(VLOOKUP(F26,'[1]Feuil1 (2)'!H:I,2,FALSE)," ") | M26: =IFERROR(VLOOKUP(G26,'[1]Feuil1 (2)'!J:K,2,FALSE)," ") -> ind | N26: =IFERROR(VLOOKUP(H26,'[1]Feuil1 (2)'!L:M,2,FALSE)," ") -> Carbonaté (chaux) | O26: =IFERROR(VLOOKUP(I26,'[1]Feuil1 (2)'!L:M,2,FALSE)," ") | P26: =CONCATENATE(K26," ",L26," ",M26) -> argile ind | Q26: =VLOOKUP(A26,[1]collar!A:I,9,FALSE) -> 1974
A27: 1264 | B27: =IF(A27=A26,C26,0) -> 22.8 | C27: 24.3 | E27: 51 | K27: =IFERROR(VLOOKUP(E27,'[1]Feuil1 (2)'!F:G,2,FALSE)," ") -> Sable argileux | L27: =IFERROR(VLOOKUP(F27,'[1]Feuil1 (2)'!H:I,2,FALSE)," ") | M27: =IFERROR(VLOOKUP(G27,'[1]Feuil1 (2)'!J:K,2,FALSE)," ") -> ind | N27: =IFERROR(VLOOKUP(H27,'[1]Feuil1 (2)'!L:M,2,FALSE)," ") | O27: =IFERROR(VLOOKUP(I27,'[1]Feuil1 (2)'!L:M,2,FALSE)," ") | P27: =CONCATENATE(K27," ",L27," ",M27) -> Sable argileux ind | Q27: =VLOOKUP(A27,[1]collar!A:I,9,FALSE) -> 1974
A28: 1980 | B28: =IF(A28=A27,C27,0) -> 0 | C28: 8.5 | E28: 43 | K28: =IFERROR(VLOOKUP(E28,'[1]Feuil1 (2)'!F:G,2,FALSE)," ") -> Alternance marne-calcaire | L28: =IFERROR(VLOOKUP(F28,'[1]Feuil1 (2)'!H:I,2,FALSE)," ") | M28: =IFERROR(VLOOKUP(G28,'[1]Feuil1 (2)'!J:K,2,FALSE)," ") -> ind | N28: =IFERROR(VLOOKUP(H28,'[1]Feuil1 (2)'!L:M,2,FALSE)," ") | O28: =IFERROR(VLOOKUP(I28,'[1]Feuil1 (2)'!L:M,2,FALSE)," ") | P28: =CONCATENATE(K28," ",L28," ",M28) -> Alternance marne-calcaire ind | Q28: =VLOOKUP(A28,[1]collar!A:I,9,FALSE) -> 1980
A29: 1980 | B29: =IF(A29=A28,C28,0) -> 8.5 | C29: 14.8 | E29: 41 | K29: =IFERROR(VLOOKUP(E29,'[1]Feuil1 (2)'!F:G,2,FALSE)," ") -> Calcaire tendre | L29: =IFERROR(VLOOKUP(F29,'[1]Feuil1 (2)'!H:I,2,FALSE)," ") | M29: =IFERROR(VLOOKUP(G29,'[1]Feuil1 (2)'!J:K,2,FALSE)," ") -> ind | N29: =IFERROR(VLOOKUP(H29,'[1]Feuil1 (2)'!L:M,2,FALSE)," ") | O29: =IFERROR(VLOOKUP(I29,'[1]Feuil1 (2)'!L:M,2,FALSE)," ") | P29: =CONCATENATE(K29," ",L29," ",M29) -> Calcaire tendre ind | Q29: =VLOOKUP(A29,[1]collar!A:I,9,FALSE) -> 1980
A30: 1980 | B30: =IF(A30=A29,C29,0) -> 14.8 | C30: 15.4 | E30: 40 | K30: =IFERROR(VLOOKUP(E30,'[1]Feuil1 (2)'!F:G,2,FALSE)," ") -> Calcaire massif (dur) | L30: =IFERROR(VLOOKUP(F30,'[1]Feuil1 (2)'!H:I,2,FALSE)," ") | M30: =IFERROR(VLOOKUP(G30,'[1]Feuil1 (2)'!J:K,2,FALSE)," ") -> ind | N30: =IFERROR(VLOOKUP(H30,'[1]Feuil1 (2)'!L:M,2,FALSE)," ") | O30: =IFERROR(VLOOKUP(I30,'[1]Feuil1 (2)'!L:M,2,FALSE)," ") | P30: =CONCATENATE(K30," ",L30," ",M30) -> Calcaire massif (dur) ind | Q30: =VLOOKUP(A30,[1]collar!A:I,9,FALSE) -> 1980
A31: 1980 | B31: =IF(A31=A30,C30,0) -> 15.4 | C31: 18 | E31: 41 | K31: =IFERROR(VLOOKUP(E31,'[1]Feuil1 (2)'!F:G,2,FALSE)," ") -> Calcaire tendre | L31: =IFERROR(VLOOKUP(F31,'[1]Feuil1 (2)'!H:I,2,FALSE)," ") | M31: =IFERROR(VLOOKUP(G31,'[1]Feuil1 (2)'!J:K,2,FALSE)," ") -> ind | N31: =IFERROR(VLOOKUP(H31,'[1]Feuil1 (2)'!L:M,2,FALSE)," ") | O31: =IFERROR(VLOOKUP(I31,'[1]Feuil1 (2)'!L:M,2,FALSE)," ") | P31: =CONCATENATE(K31," ",L31," ",M31) -> Calcaire tendre ind | Q31: =VLOOKUP(A31,[1]collar!A:I,9,FALSE) -> 1980
A32: 1980 | B32: =IF(A32=A31,C31,0) -> 18 | C32: 19 | E32: 51 | K32: =IFERROR(VLOOKUP(E32,'[1]Feuil1 (2)'!F:G,2,FALSE)," ") -> Sable argileux | L32: =IFERROR(VLOOKUP(F32,'[1]Feuil1 (2)'!H:I,2,FALSE)," ") | M32: =IFERROR(VLOOKUP(G32,'[1]Feuil1 (2)'!J:K,2,FALSE)," ") -> ind | N32: =IFERROR(VLOOKUP(H32,'[1]Feuil1 (2)'!L:M,2,FALSE)," ") | O32: =IFERROR(VLOOKUP(I32,'[1]Feuil1 (2)'!L:M,2,FALSE)," ") | P32: =CONCATENATE(K32," ",L32," ",M32) -> Sable argileux ind | Q32: =VLOOKUP(A32,[1]collar!A:I,9,FALSE) -> 1980
A33: 1980 | B33: =IF(A33=A32,C32,0) -> 19 | C33: 24 | E33: 10 | K33: =IFERROR(VLOOKUP(E33,'[1]Feuil1 (2)'!F:G,2,FALSE)," ") -> argile | L33: =IFERROR(VLOOKUP(F33,'[1]Feuil1 (2)'!H:I,2,FALSE)," ") | M33: =IFERROR(VLOOKUP(G33,'[1]Feuil1 (2)'!J:K,2,FALSE)," ") -> ind | N33: =IFERROR(VLOOKUP(H33,'[1]Feuil1 (2)'!L:M,2,FALSE)," ") | O33: =IFERROR(VLOOKUP(I33,'[1]Feuil1 (2)'!L:M,2,FALSE)," ") | P33: =CONCATENATE(K33," ",L33," ",M33) -> argile ind | Q33: =VLOOKUP(A33,[1]collar!A:I,9,FALSE) -> 1980
A34: 1980 | B34: =IF(A34=A33,C33,0) -> 24 | C34: 26 | E34: 50 | F34: 8 | H34: 24 | K34: =IFERROR(VLOOKUP(E34,'[1]Feuil1 (2)'!F:G,2,FALSE)," ") -> Sable | L34: =IFERROR(VLOOKUP(F34,'[1]Feuil1 (2)'!H:I,2,FALSE)," ") -> noir | M34: =IFERROR(VLOOKUP(G34,'[1]Feuil1 (2)'!J:K,2,FALSE)," ") -> ind | N34: =IFERROR(VLOOKUP(H34,'[1]Feuil1 (2)'!L:M,2,FALSE)," ") -> Lignite (charbon) | O34: =IFERROR(VLOOKUP(I34,'[1]Feuil1 (2)'!L:M,2,FALSE)," ") | P34: =CONCATENATE(K34," ",L34," ",M34) -> Sable noir ind | Q34: =VLOOKUP(A34,[1]collar!A:I,9,FALSE) -> 1980
A35: 1981 | B35: =IF(A35=A34,C34,0) -> 0 | C35: 1.5 | E35: 30 | K35: =IFERROR(VLOOKUP(E35,'[1]Feuil1 (2)'!F:G,2,FALSE)," ") -> Terre Végétale | L35: =IFERROR(VLOOKUP(F35,'[1]Feuil1 (2)'!H:I,2,FALSE)," ") | M35: =IFERROR(VLOOKUP(G35,'[1]Feuil1 (2)'!J:K,2,FALSE)," ") -> ind | N35: =IFERROR(VLOOKUP(H35,'[1]Feuil1 (2)'!L:M,2,FALSE)," ") | O35: =IFERROR(VLOOKUP(I35,'[1]Feuil1 (2)'!L:M,2,FALSE)," ") | P35: =CONCATENATE(K35," ",L35," ",M35) -> Terre Végétale ind | Q35: =VLOOKUP(A35,[1]collar!A:I,9,FALSE) -> 1980
A36: 1981 | B36: =IF(A36=A35,C35,0) -> 1.5 | C36: 2.5 | E36: 31 | K36: =IFERROR(VLOOKUP(E36,'[1]Feuil1 (2)'!F:G,2,FALSE)," ") -> Limon | L36: =IFERROR(VLOOKUP(F36,'[1]Feuil1 (2)'!H:I,2,FALSE)," ") | M36: =IFERROR(VLOOKUP(G36,'[1]Feuil1 (2)'!J:K,2,FALSE)," ") -> ind | N36: =IFERROR(VLOOKUP(H36,'[1]Feuil1 (2)'!L:M,2,FALSE)," ") | O36: =IFERROR(VLOOKUP(I36,'[1]Feuil1 (2)'!L:M,2,FALSE)," ") | P36: =CONCATENATE(K36," ",L36," ",M36) -> Limon ind | Q36: =VLOOKUP(A36,[1]collar!A:I,9,FALSE) -> 1980
A37: 1981 | B37: =IF(A37=A36,C36,0) -> 2.5 | C37: 2.8 | E37: 31 | K37: =IFERROR(VLOOKUP(E37,'[1]Feuil1 (2)'!F:G,2,FALSE)," ") -> Limon | L37: =IFERROR(VLOOKUP(F37,'[1]Feuil1 (2)'!H:I,2,FALSE)," ") | M37: =IFERROR(VLOOKUP(G37,'[1]Feuil1 (2)'!J:K,2,FALSE)," ") -> ind | N37: =IFERROR(VLOOKUP(H37,'[1]Feuil1 (2)'!L:M,2,FALSE)," ") | O37: =IFERROR(VLOOKUP(I37,'[1]Feuil1 (2)'!L:M,2,FALSE)," ") | P37: =CONCATENATE(K37," ",L37," ",M37) -> Limon ind | Q37: =VLOOKUP(A37,[1]collar!A:I,9,FALSE) -> 1980
A38: 1981 | B38: =IF(A38=A37,C37,0) -> 2.8 | C38: 3.8 | E38: 31 | K38: =IFERROR(VLOOKUP(E38,'[1]Feuil1 (2)'!F:G,2,FALSE)," ") -> Limon | L38: =IFERROR(VLOOKUP(F38,'[1]Feuil1 (2)'!H:I,2,FALSE)," ") | M38: =IFERROR(VLOOKUP(G38,'[1]Feuil1 (2)'!J:K,2,FALSE)," ") -> ind | N38: =IFERROR(VLOOKUP(H38,'[1]Feuil1 (2)'!L:M,2,FALSE)," ") | O38: =IFERROR(VLOOKUP(I38,'[1]Feuil1 (2)'!L:M,2,FALSE)," ") | P38: =CONCATENATE(K38," ",L38," ",M38) -> Limon ind | Q38: =VLOOKUP(A38,[1]collar!A:I,9,FALSE) -> 1980
A39: 1981 | B39: =IF(A39=A38,C38,0) -> 3.8 | C39: 6 | E39: 42 | K39: =IFERROR(VLOOKUP(E39,'[1]Feuil1 (2)'!F:G,2,FALSE)," ") -> Marne | L39: =IFERROR(VLOOKUP(F39,'[1]Feuil1 (2)'!H:I,2,FALSE)," ") | M39: =IFERROR(VLOOKUP(G39,'[1]Feuil1 (2)'!J:K,2,FALSE)," ") -> ind | N39: =IFERROR(VLOOKUP(H39,'[1]Feuil1 (2)'!L:M,2,FALSE)," ") | O39: =IFERROR(VLOOKUP(I39,'[1]Feuil1 (2)'!L:M,2,FALSE)," ") | P39: =CONCATENATE(K39," ",L39," ",M39) -> Marne ind | Q39: =VLOOKUP(A39,[1]collar!A:I,9,FALSE) -> 1980
A40: 1981 | B40: =IF(A40=A39,C39,0) -> 6 | C40: 6.3 | E40: 50 | K40: =IFERROR(VLOOKUP(E40,'[1]Feuil1 (2)'!F:G,2,FALSE)," ") -> Sable | L40: =IFERROR(VLOOKUP(F40,'[1]Feuil1 (2)'!H:I,2,FALSE)," ") | M40: =IFERROR(VLOOKUP(G40,'[1]Feuil1 (2)'!J:K,2,FALSE)," ") -> ind | N40: =IFERROR(VLOOKUP(H40,'[1]Feuil1 (2)'!L:M,2,FALSE)," ") | O40: =IFERROR(VLOOKUP(I40,'[1]Feuil1 (2)'!L:M,2,FALSE)," ") | P40: =CONCATENATE(K40," ",L40," ",M40) -> Sable ind | Q40: =VLOOKUP(A40,[1]collar!A:I,9,FALSE) -> 1980
A41: 1981 | B41: =IF(A41=A40,C40,0) -> 6.3 | C41: 10.5 | E41: 50 | K41: =IFERROR(VLOOKUP(E41,'[1]Feuil1 (2)'!F:G,2,FALSE)," ") -> Sable | L41: =IFERROR(VLOOKUP(F41,'[1]Feuil1 (2)'!H:I,2,FALSE)," ") | M41: =IFERROR(VLOOKUP(G41,'[1]Feuil1 (2)'!J:K,2,FALSE)," ") -> ind | N41: =IFERROR(VLOOKUP(H41,'[1]Feuil1 (2)'!L:M,2,FALSE)," ") | O41: =IFERROR(VLOOKUP(I41,'[1]Feuil1 (2)'!L:M,2,FALSE)," ") | P41: =CONCATENATE(K41," ",L41," ",M41) -> Sable ind | Q41: =VLOOKUP(A41,[1]collar!A:I,9,FALSE) -> 1980
...

Sheet Sheet3
A1: sondage | B1: from | C1: to | D1: description | E1: type_materiau | F1: couleur_teinte | G1: couleur_intensite | H1: POLLUTIONI | I1: POLLUTIONII | J1: Remarques | K1: date
A2: =CONCATENATE("MTR_R17",'33'!E5) -> MTR_R1733 | B2: ='33'!B25 -> 0 | C2: ='33'!C25 -> 2 | E2: ='33'!G25 -> 11 | F2: ='33'!H25 -> 2 | G2: ='33'!I25 -> 1 | H2: ='33'!J25 -> 0 | I2: ='33'!K25 -> 0 | J2: ='33'!L25 -> 0 | K2: ='33'!L2 -> 41516

Sheet 33
J2: DATE : | L2: 41516
F3: FICHE DESCRIPTIVE SONDAGE
B5: NOM SONDAGE | E5: 33 | H5: X | J5: Y | M5: Z
B6: LIEU-DIT/ CARRIERE | E6: MONTRE
B7: EQUIPE | E7: NATURE R/T) | G7: REMARQUES
B8: DURAND M. | E8: T | G8: Althea geo
B9: FERNANDES L.
B11: TYPE MATERIAU | I11: COULEUR MATERIAU
B12: ARGILES | F12: DECOUVERTURE | I12: TEINTE | J12: INTENSITE | L12: POLLUTION
B13: 10 - argile | F13: 30 - Terre Végétale | I13: 1 - blanc | J13: 0 - indéfinie | L13: 20 - Silex | X13: =LEFT(N13,2) | Y13: =LEFT(O13,2)
B14: 11 - argile peu sableuse | F14: 31 - Limon | I14: 2 - beige | J14: 1 - claire | L14: 21 - Galet | X14: =LEFT(N14,2) | Y14: =LEFT(O14,2)
B15: 12 - argile sableuse | F15: 40 - Calcaire massif (dur) | I15: 3 - jaune | J15: 2 - foncée | L15: 22 - Gravier | X15: =LEFT(N15,2) | Y15: =LEFT(O15,2)
B16: SABLES | F16: 41 - Calcaire tendre | I16: 4 - gris | L16: 23 - Carbonaté (chaux) | X16: =LEFT(N16,2) | Y16: =LEFT(O16,2)
B17: 50 - Sable | F17: 42 - Marne | I17: 5 - brun | L17: 24 - Lignite (charbon) | X17: =LEFT(N17,2) | Y17: =LEFT(O17,2)
B18: 51 - Sable argileux | F18: 43 - Alternance marne-calcaire | I18: 6 - roux | L18: 25 - Pyrite | X18: =LEFT(N18,2) | Y18: =LEFT(O18,2)
B19: 52 - Sable argileux fin | F19: 44 - Induration (quartz) | I19: 7 - marron | L19: 26 - Bois flotté | X19: =LEFT(N19,2) | Y19: =LEFT(O19,2)
B20: 53 - Sable argileux grossier | I20: 8 - noir | L20: 27 -Tâché (+ code coul) | X20: =LEFT(N20,2) | Y20: =LEFT(O20,2)
I21: 9 - kaki | X21: =LEFT(H21,2)
B23: PROF | D23: TYPE SOND | F23: RECUP. en m | G23: TYPE MATER | H23: COULEUR | J23: POLLUTION | L23: REMARQUES
B24: De | C24: à | D24: Destr | E24: Car | H24: Teinte | I24: Intens | J24: I | K24: II
B25: 0 | C25: 2 | G25: 11 | H25: 2 | I25: 1
B26: =C25 -> 2 | C26: 5 | G26: 10 | H26: 5 | I26: 2
B27: =C26 -> 5 | C27: 8 | G27: 10 | H27: 5 | I27: 1 | J27: 24 | L27: très peu charbon
B28: =C27 -> 8 | C28: 9 | G28: 12 | H28: 5 | I28: 1 | J28: 23 | L28: parpaing
B29: =C28 -> 9
B30: =C29 -> 0
B31: =C30 -> 0
B32: =C31 -> 0
B33: =C32 -> 0
B34: =C33 -> 0
B35: =C34 -> 0
B36: =C35 -> 0
B37: =C36 -> 0
B38: =C37 -> 0
B39: =C38 -> 0
B40: =C39 -> 0
... B43: =C42 -> 0

Sheet 32
J2: DATE : | L2: 41516
F3: FICHE DESCRIPTIVE SONDAGE
B5: NOM SONDAGE | E5: 32 | H5: X | J5: Y | M5: Z
B6: LIEU-DIT/ CARRIERE | E6: MONTRE
B7: EQUIPE | E7: NATURE R/T) | G7: REMARQUES
B8: DURAND M. | E8: T | G8: Althea geo
B9: FERNANDES L.
B11: TYPE MATERIAU | I11: COULEUR MATERIAU
B12: ARGILES | F12: DECOUVERTURE | I12: TEINTE | J12: INTENSITE | L12: POLLUTION
B13: 10 - argile | F13: 30 - Terre Végétale | I13: 1 - blanc | J13: 0 - indéfinie | L13: 20 - Silex | X13: =LEFT(N13,2) | Y13: =LEFT(O13,2)
B14: 11 - argile peu sableuse | F14: 31 - Limon | I14: 2 - beige | J14: 1 - claire | L14: 21 - Galet | X14: =LEFT(N14,2) | Y14: =LEFT(O14,2)
B15: 12 - argile sableuse | F15: 40 - Calcaire massif (dur) | I15: 3 - jaune | J15: 2 - foncée | L15: 22 - Gravier | X15: =LEFT(N15,2) | Y15: =LEFT(O15,2)
B16: SABLES | F16: 41 - Calcaire tendre | I16: 4 - gris | L16: 23 - Carbonaté (chaux) | X16: =LEFT(N16,2) | Y16: =LEFT(O16,2)
B17: 50 - Sable | F17: 42 - Marne | I17: 5 - brun | L17: 24 - Lignite (charbon) | X17: =LEFT(N17,2) | Y17: =LEFT(O17,2)
B18: 51 - Sable argileux | F18: 43 - Alternance marne-calcaire | I18: 6 - roux | L18: 25 - Pyrite | X18: =LEFT(N18,2) | Y18: =LEFT(O18,2)
B19: 52 - Sable argileux fin | F19: 44 - Induration (quartz) | I19: 7 - marron | L19: 26 - Bois flotté | X19: =LEFT(N19,2) | Y19: =LEFT(O19,2)
B20: 53 - Sable argileux grossier | I20: 8 - noir | L20: 27 -Tâché (+ code coul) | X20: =LEFT(N20,2) | Y20: =LEFT(O20,2)
I21: 9 - kaki | X21: =LEFT(H21,2)
B23: PROF | D23: TYPE SOND | F23: RECUP. en m | G23: TYPE MATER | H23: COULEUR | J23: POLLUTION | L23: REMARQUES
B24: De | C24: à | D24: Destr | E24: Car | H24: Teinte | I24: Intens | J24: I | K24: II
B25: 0 | C25: 1 | G25: 12 | H25: 2 | I25: 1
B26: =C25 -> 1 | C26: 4 | G26: 10 | H26: 5 | I26: 2
B27: =C26 -> 4 | C27: 5.5 | G27: 10 | H27: 5 | I27: 1 | J27: 27 | L27: 279
B28: =C27 -> 5.5 | C28: 7 | G28: 10 | H28: 9 | L28: bileuse
B29: =C28 -> 7 | C29: 8 | G29: 12 | H29: 4 | I29: 1 | J29: 23 | L29: parpaing
B30: =C29 -> 8
B31: =C30 -> 0
B32: =C31 -> 0
B33: =C32 -> 0
B34: =C33 -> 0
B35: =C34 -> 0
B36: =C35 -> 0
B37: =C36 -> 0
B38: =C37 -> 0
B39: =C38 -> 0
B40: =C39 -> 0
B41: =C40 -> 0
... B43: =C42 -> 0

Sheet 31
J2: DATE : | L2: 41516
F3: FICHE DESCRIPTIVE SONDAGE
B5: NOM SONDAGE | E5: 31 | H5: X | J5: Y | M5: Z
B6: LIEU-DIT/ CARRIERE | E6: MONTRE
B7: EQUIPE | E7: NATURE R/T) | G7: REMARQUES
B8: DURAND M. | E8: T | G8: Althea geo
B9: FERNANDES L.
B11: TYPE MATERIAU | I11: COULEUR MATERIAU
B12: ARGILES | F12: DECOUVERTURE | I12: TEINTE | J12: INTENSITE | L12: POLLUTION
B13: 10 - argile | F13: 30 - Terre Végétale | I13: 1 - blanc | J13: 0 - indéfinie | L13: 20 - Silex | X13: =LEFT(N13,2) | Y13: =LEFT(O13,2)
B14: 11 - argile peu sableuse | F14: 31 - Limon | I14: 2 - beige | J14: 1 - claire | L14: 21 - Galet | X14: =LEFT(N14,2) | Y14: =LEFT(O14,2)
B15: 12 - argile sableuse | F15: 40 - Calcaire massif (dur) | I15: 3 - jaune | J15: 2 - foncée | L15: 22 - Gravier | X15: =LEFT(N15,2) | Y15: =LEFT(O15,2)
B16: SABLES | F16: 41 - Calcaire tendre | I16: 4 - gris | L16: 23 - Carbonaté (chaux) | X16: =LEFT(N16,2) | Y16: =LEFT(O16,2)
B17: 50 - Sable | F17: 42 - Marne | I17: 5 - brun | L17: 24 - Lignite (charbon) | X17: =LEFT(N17,2) | Y17: =LEFT(O17,2)
B18: 51 - Sable argileux | F18: 43 - Alternance marne-calcaire | I18: 6 - roux | L18: 25 - Pyrite | X18: =LEFT(N18,2) | Y18: =LEFT(O18,2)
B19: 52 - Sable argileux fin | F19: 44 - Induration (quartz) | I19: 7 - marron | L19: 26 - Bois flotté | X19: =LEFT(N19,2) | Y19: =LEFT(O19,2)
B20: 53 - Sable argileux grossier | I20: 8 - noir | L20: 27 -Tâché (+ code coul) | X20: =LEFT(N20,2) | Y20: =LEFT(O20,2)
I21: 9 - kaki | X21: =LEFT(H21,2)
B23: PROF | D23: TYPE SOND | F23: RECUP. en m | G23: TYPE MATER | H23: COULEUR | J23: POLLUTION | L23: REMARQUES
B24: De | C24: à | D24: Destr | E24: Car | H24: Teinte | I24: Intens | J24: I | K24: II
B25: 0 | C25: 1.3 | G25: 11 | H25: 2 | I25: 1 | J25: 28 | L25: sable marron
B26: =C25 -> 1.3 | C26: 5 | G26: 10 | H26: 5 | I26: 2
B27: =C26 -> 5 | C27: 7 | G27: 11 | H27: 5 | I27: 2
B28: =C27 -> 7 | C28: 8 | G28: 11 | H28: 9 | J28: 28 | L28: bileuse
B29: =C28 -> 8
B30: =C29 -> 0
B31: =C30 -> 0
B32: =C31 -> 0
B33: =C32 -> 0
B34: =C33 -> 0
B35: =C34 -> 0
B36: =C35 -> 0
B37: =C36 -> 0
B38: =C37 -> 0
B39: =C38 -> 0
B40: =C39 -> 0
... B43: =C42 -> 0

Sheet Log_Sondage_vierge
J2: DATE : | L2: 41373
F3: FICHE DESCRIPTIVE SONDAGE
B5: NOM SONDAGE | H5: X | J5: Y | M5: Z
B6: LIEU-DIT/ CARRIERE
B7: EQUIPE | E7: NATURE R/T) | G7: REMARQUES
B8: DURAND M.
B9: FERNANDES L.
B11: TYPE MATERIAU | I11: COULEUR MATERIAU
B12: ARGILES | F12: DECOUVERTURE | I12: TEINTE | J12: INTENSITE | L12: POLLUTION
B13: 10 - argile | F13: 30 - Terre Végétale | I13: 1 - blanc | J13: 0 - indéfinie | L13: 20 - Silex | X13: =LEFT(N13,2) | Y13: =LEFT(O13,2)
B14: 11 - argile peu sableuse | F14: 31 - Limon | I14: 2 - beige | J14: 1 - claire | L14: 21 - Galet | X14: =LEFT(N14,2) | Y14: =LEFT(O14,2)
B15: 12 - argile sableuse | F15: 40 - Calcaire massif (dur) | I15: 3 - jaune | J15: 2 - foncée | L15: 22 - Gravier | X15: =LEFT(N15,2) | Y15: =LEFT(O15,2)
B16: SABLES | F16: 41 - Calcaire tendre | I16: 4 - gris | L16: 23 - Carbonaté (chaux) | X16: =LEFT(N16,2) | Y16: =LEFT(O16,2)
B17: 50 - Sable | F17: 42 - Marne | I17: 5 - brun | L17: 24 - Lignite (charbon) | X17: =LEFT(N17,2) | Y17: =LEFT(O17,2)
B18: 51 - Sable argileux | F18: 43 - Alternance marne-calcaire | I18: 6 - roux | L18: 25 - Pyrite | X18: =LEFT(N18,2) | Y18: =LEFT(O18,2)
B19: 52 - Sable argileux fin | F19: 44 - Induration (quartz) | I19: 7 - marron | L19: 26 - Bois flotté | X19: =LEFT(N19,2) | Y19: =LEFT(O19,2)
B20: 53 - Sable argileux grossier | I20: 8 - noir | L20: 27 -Tâché (+ code coul) | X20: =LEFT(N20,2) | Y20: =LEFT(O20,2)
I21: 9 - kaki | X21: =LEFT(H21,2)
B23: PROF | D23: TYPE SOND | F23: RECUP. en m | G23: TYPE MATER | H23: COULEUR | J23: POLLUTION | L23: REMARQUES
B24: De | C24: à | D24: Destr | E24: Car | H24: Teinte | I24: Intens | J24: I | K24: II
B25: 0
B26: =C25 -> 0
B27: =C26 -> 0
B28: =C27 -> 0
B29: =C28 -> 0
B30: =C29 -> 0
B31: =C30 -> 0
B32: =C31 -> 0
B33: =C32 -> 0
B34: =C33 -> 0
B35: =C34 -> 0
B36: =C35 -> 0
B37: =C36 -> 0
... B43: =C42 -> 0

Sheet Feuil1
C3: CARRIERES | E3: R
C4: BARONNIE | E4: T | G4: =LEFT(Log_Sondage_vierge!B13,2) -> 10 | I4: =LEFT(Log_Sondage_vierge!I13,2) -> 1 | J4: =LEFT(Log_Sondage_vierge!J13,2) -> 0 | K4: =LEFT(Log_Sondage_vierge!L13,2) -> 20 | L4: =LEFT(Log_Sondage_vierge!M13,2)
C5: CHALAUTRE | G5: =LEFT(Log_Sondage_vierge!B14,2) -> 11 | I5: =LEFT(Log_Sondage_vierge!I14,2) -> 2 | J5: =LEFT(Log_Sondage_vierge!J14,2) -> 1 | K5: =LEFT(Log_Sondage_vierge!L14,2) -> 21 | L5: =LEFT(Log_Sondage_vierge!M14,2)
C6: CORMERON | G6: =LEFT(Log_Sondage_vierge!B15,2) -> 12 | I6: =LEFT(Log_Sondage_vierge!I15,2) -> 3 | J6: =LEFT(Log_Sondage_vierge!J15,2) -> 2 | K6: =LEFT(Log_Sondage_vierge!L15,2) -> 22 | L6: =LEFT(Log_Sondage_vierge!M15,2)
C7: CROIX-GERARD | G7: =LEFT(Log_Sondage_vierge!B17,2) -> 50 | I7: =LEFT(Log_Sondage_vierge!I16,2) -> 4 | J7: =LEFT(Log_Sondage_vierge!J16,2) | K7: =LEFT(Log_Sondage_vierge!L16,2) -> 23 | L7: =LEFT(Log_Sondage_vierge!M16,2)
C8: MARIVAL | G8: =LEFT(Log_Sondage_vierge!B18,2) -> 51 | I8: =LEFT(Log_Sondage_vierge!I17,2) -> 5 | J8: =LEFT(Log_Sondage_vierge!J17,2) | K8: =LEFT(Log_Sondage_vierge!L17,2) -> 24 | L8: =LEFT(Log_Sondage_vierge!M17,2)
C9: MONTBRON | G9: =LEFT(Log_Sondage_vierge!B19,2) -> 52 | I9: =LEFT(Log_Sondage_vierge!I18,2) -> 6 | J9: =LEFT(Log_Sondage_vierge!J18,2) | K9: =LEFT(Log_Sondage_vierge!L18,2) -> 25 | L9: =LEFT(Log_Sondage_vierge!M18,2)
C10: MONTRE | G10: =LEFT(Log_Sondage_vierge!B20,2) -> 53 | I10: =LEFT(Log_Sondage_vierge!I19,2) -> 7 | J10: =LEFT(Log_Sondage_vierge!J19,2) | K10: =LEFT(Log_Sondage_vierge!L19,2) -> 26 | L10: =LEFT(Log_Sondage_vierge!M19,2)
C11: AUTRES | G11: =LEFT(Log_Sondage_vierge!F13,2) -> 30 | H11: =LEFT(Log_Sondage_vierge!C20,2) | I11: =LEFT(Log_Sondage_vierge!I20,2) -> 8 | J11: =LEFT(Log_Sondage_vierge!E20,2) | K11: =LEFT(Log_Sondage_vierge!L20,2) -> 27 | L11: =LEFT(Log_Sondage_vierge!M20,2)
G12: =LEFT(Log_Sondage_vierge!F14,2) -> 31 | H12: =LEFT(Log_Sondage_vierge!C21,2) | I12: =LEFT(Log_Sondage_vierge!I21,2) -> 9 | J12: =LEFT(Log_Sondage_vierge!E21,2) | K12: 28 | L12: =LEFT(Log_Sondage_vierge!G21,2)
G13: =LEFT(Log_Sondage_vierge!F15,2) -> 40
G14: =LEFT(Log_Sondage_vierge!F16,2) -> 41
G15: =LEFT(Log_Sondage_vierge!F17,2) -> 42
G16: =LEFT(Log_Sondage_vierge!F18,2) -> 43
G17: =LEFT(Log_Sondage_vierge!F19,2) -> 44
