Workbook

Sheet geology
A1: sondage | B1: from | C1: to | D1: description | E1: type_materiau | F1: couleur_teinte | G1: couleur_intensite | H1: POLLUTIONI | I1: POLLUTIONII | J1: Remarques | K1: TYPE MATERIAU | L1: COULEUR TEINTE | M1: COULEUR INTEN | N1: POLLUTION I | O1: POLLUTION II | P1: litho | Q1: date
A2: 1253 | B2: 0 | C2: 1 | E2: 30 | K2: =IFERROR(VLOOKUP(E2,'[1]Feuil1 (2)'!F:G,2,FALSE)," ") -> Terre Végétale | L2: =IFERROR(VLOOKUP(F2,'[1]Feuil1 (2)'!H:I,2,FALSE)," ") | M2: =IFERROR(VLOOKUP(G2,'[1]Feuil1 (2)'!J:K,2,FALSE)," ") -> ind | N2: =IFERROR(VLOOKUP(H2,'[1]Feuil1 (2)'!L:M,2,FALSE)," ") | O2: =IFERROR(VLOOKUP(I2,'[1]Feuil1 (2)'!L:M,2,FALSE)," ") | P2: =CONCATENATE(K2," ",L2," ",M2) -> Terre Végétale ind | Q2: =VLOOKUP(A2,[1]collar!A:I,9,FALSE) -> 1974
A3: 1253 | B3: =IF(A3=A2,C2,0) -> 1 | C3: 8 | E3: 50 | K3: =IFERROR(VLOOKUP(E3,'[1]Feuil1 (2)'!F:G,2,FALSE)," ") -> Sable | L3: =IFERROR(VLOOKUP(F3,'[1]Feuil1 (2)'!H:I,2,FALSE)," ") | M3: =IFERROR(VLOOKUP(G3,'[1]Feuil1 (2)'!J:K,2,FALSE)," ") -> ind | N3: =IFERROR(VLOOKUP(H3,'[1]Feuil1 (2)'!L:M,2,FALSE)," ") | O3: =IFERROR(VLOOKUP(I3,'[1]Feuil1 (2)'!L:M,2,FALSE)," ") | P3: =CONCATENATE(K3," ",L3," ",M3) -> Sable ind | Q3: =VLOOKUP(A3,[1]collar!A:I,9,FALSE) -> 1974
A4: 1253 | B4: =IF(A4=A3,C3,0) -> 8 | C4: 9.5 | E4: 40 | K4: =IFERROR(VLOOKUP(E4,'[1]Feuil1 (2)'!F:G,2,FALSE)," ") -> Calcaire massif (dur) | L4: =IFERROR(VLOOKUP(F4,'[1]Feuil1 (2)'!H:I,2,FALSE)," ") | M4: =IFERROR(VLOOKUP(G4,'[1]Feuil1 (2)'!J:K,2,FALSE)," ") -> ind | N4: =IFERROR(VLOOKUP(H4,'[1]Feuil1 (2)'!L:M,2,FALSE)," ") | O4: =IFERROR(VLOOKUP(I4,'[1]Feuil1 (2)'!L:M,2,FALSE)," ") | P4: =CONCATENATE(K4," ",L4," ",M4) -> Calcaire massif (dur) ind | Q4: =VLOOKUP(A4,[1]collar!A:I,9,FALSE) -> 1974
A5: 1253 | B5: =IF(A5=A4,C4,0) -> 9.5 | C5: 11 | E5: 42 | K5: =IFERROR(VLOOKUP(E5,'[1]Feuil1 (2)'!F:G,2,FALSE)," ") -> Marne | L5: =IFERROR(VLOOKUP(F5,'[1]Feuil1 (2)'!H:I,2,FALSE)," ") | M5: =IFERROR(VLOOKUP(G5,'[1]Feuil1 (2)'!J:K,2,FALSE)," ") -> ind | N5: =IFERROR(VLOOKUP(H5,'[1]Feuil1 (2)'!L:M,2,FALSE)," ") | O5: =IFERROR(VLOOKUP(I5,'[1]Feuil1 (2)'!L:M,2,FALSE)," ") | P5: =CONCATENATE(K5," ",L5," ",M5) -> Marne ind | Q5: =VLOOKUP(A5,[1]collar!A:I,9,FALSE) -> 1974
A6: 1253 | B6: =IF(A6=A5,C5,0) -> 11 | C6: 19.8 | E6: 10 | K6: =IFERROR(VLOOKUP(E6,'[1]Feuil1 (2)'!F:G,2,FALSE)," ") -> argile | L6: =IFERROR(VLOOKUP(F6,'[1]Feuil1 (2)'!H:I,2,FALSE)," ") | M6: =IFERROR(VLOOKUP(G6,'[1]Feuil1 (2)'!J:K,2,FALSE)," ") -> ind | N6: =IFERROR(VLOOKUP(H6,'[1]Feuil1 (2)'!L:M,2,FALSE)," ") | O6: =IFERROR(VLOOKUP(I6,'[1]Feuil1 (2)'!L:M,2,FALSE)," ") | P6: =CONCATENATE(K6," ",L6," ",M6) -> argile ind | Q6: =VLOOKUP(A6,[1]collar!A:I,9,FALSE) -> 1974
A7: 1253 | B7: =IF(A7=A6,C6,0) -> 19.8 | C7: 21.3 | E7: 12 | K7: =IFERROR(VLOOKUP(E7,'[1]Feuil1 (2)'!F:G,2,FALSE)," ") -> argile sableuse | L7: =IFERROR(VLOOKUP(F7,'[1]Feuil1 (2)'!H:I,2,FALSE)," ") | M7: =IFERROR(VLOOKUP(G7,'[1]Feuil1 (2)'!J:K,2,FALSE)," ") -> ind | N7: =IFERROR(VLOOKUP(H7,'[1]Feuil1 (2)'!L:M,2,FALSE)," ") | O7: =IFERROR(VLOOKUP(I7,'[1]Feuil1 (2)'!L:M,2,FALSE)," ") | P7: =CONCATENATE(K7," ",L7," ",M7) -> argile sableuse ind | Q7: =VLOOKUP(A7,[1]collar!A:I,9,FALSE) -> 1974
A8: 1262 | B8: =IF(A8=A7,C7,0) -> 0 | C8: 1 | E8: 30 | K8: =IFERROR(VLOOKUP(E8,'[1]Feuil1 (2)'!F:G,2,FALSE)," ") -> Terre Végétale | L8: =IFERROR(VLOOKUP(F8,'[1]Feuil1 (2)'!H:I,2,FALSE)," ") | M8: =IFERROR(VLOOKUP(G8,'[1]Feuil1 (2)'!J:K,2,FALSE)," ") -> ind | N8: =IFERROR(VLOOKUP(H8,'[1]Feuil1 (2)'!L:M,2,FALSE)," ") | O8: =IFERROR(VLOOKUP(I8,'[1]Feuil1 (2)'!L:M,2,FALSE)," ") | P8: =CONCATENATE(K8," ",L8," ",M8) -> Terre Végétale ind | Q8: =VLOOKUP(A8,[1]collar!A:I,9,FALSE) -> 1974
A9: 1262 | B9: =IF(A9=A8,C8,0) -> 1 | C9: 10 | E9: 50 | K9: =IFERROR(VLOOKUP(E9,'[1]Feuil1 (2)'!F:G,2,FALSE)," ") -> Sable | L9: =IFERROR(VLOOKUP(F9,'[1]Feuil1 (2)'!H:I,2,FALSE)," ") | M9: =IFERROR(VLOOKUP(G9,'[1]Feuil1 (2)'!J:K,2,FALSE)," ") -> ind | N9: =IFERROR(VLOOKUP(H9,'[1]Feuil1 (2)'!L:M,2,FALSE)," ") | O9: =IFERROR(VLOOKUP(I9,'[1]Feuil1 (2)'!L:M,2,FALSE)," ") | P9: =CONCATENATE(K9," ",L9," ",M9) -> Sable ind | Q9: =VLOOKUP(A9,[1]collar!A:I,9,FALSE) -> 1974
A10: 1262 | B10: =IF(A10=A9,C9,0) -> 10 | C10: 13.5 | E10: 40 | K10: =IFERROR(VLOOKUP(E10,'[1]Feuil1 (2)'!F:G,2,FALSE)," ") -> Calcaire massif (dur) | L10: =IFERROR(VLOOKUP(F10,'[1]Feuil1 (2)'!H:I,2,FALSE)," ") | M10: =IFERROR(VLOOKUP(G10,'[1]Feuil1 (2)'!J:K,2,FALSE)," ") -> ind | N10: =IFERROR(VLOOKUP(H10,'[1]Feuil1 (2)'!L:M,2,FALSE)," ") | O10: =IFERROR(VLOOKUP(I10,'[1]Feuil1 (2)'!L:M,2,FALSE)," ") | P10: =CONCATENATE(K10," ",L10," ",M10) -> Calcaire massif (dur) ind | Q10: =VLOOKUP(A10,[1]collar!A:I,9,FALSE) -> 1974
A11: 1262 | B11: =IF(A11=A10,C10,0) -> 13.5 | C11: 15.3 | E11: 42 | F11: 1 | K11: =IFERROR(VLOOKUP(E11,'[1]Feuil1 (2)'!F:G,2,FALSE)," ") -> Marne | L11: =IFERROR(VLOOKUP(F11,'[1]Feuil1 (2)'!H:I,2,FALSE)," ") -> blanc | M11: =IFERROR(VLOOKUP(G11,'[1]Feuil1 (2)'!J:K,2,FALSE)," ") -> ind | N11: =IFERROR(VLOOKUP(H11,'[1]Feuil1 (2)'!L:M,2,FALSE)," ") | O11: =IFERROR(VLOOKUP(I11,'[1]Feuil1 (2)'!L:M,2,FALSE)," ") | P11: =CONCATENATE(K11," ",L11," ",M11) -> Marne blanc ind | Q11: =VLOOKUP(A11,[1]collar!A:I,9,FALSE) -> 1974
A12: 1262 | B12: =IF(A12=A11,C11,0) -> 15.3 | C12: 21.3 | E12: 10 | K12: =IFERROR(VLOOKUP(E12,'[1]Feuil1 (2)'!F:G,2,FALSE)," ") -> argile | L12: =IFERROR(VLOOKUP(F12,'[1]Feuil1 (2)'!H:I,2,FALSE)," ") | M12: =IFERROR(VLOOKUP(G12,'[1]Feuil1 (2)'!J:K,2,FALSE)," ") -> ind | N12: =IFERROR(VLOOKUP(H12,'[1]Feuil1 (2)'!L:M,2,FALSE)," ") | O12: =IFERROR(VLOOKUP(I12,'[1]Feuil1 (2)'!L:M,2,FALSE)," ") | P12: =CONCATENATE(K12," ",L12," ",M12) -> argile ind | Q12: =VLOOKUP(A12,[1]collar!A:I,9,FALSE) -> 1974
A13: 1262 | B13: =IF(A13=A12,C12,0) -> 21.3 | C13: 22.8 | E13: 50 | K13: =IFERROR(VLOOKUP(E13,'[1]Feuil1 (2)'!F:G,2,FALSE)," ") -> Sable | L13: =IFERROR(VLOOKUP(F13,'[1]Feuil1 (2)'!H:I,2,FALSE)," ") | M13: =IFERROR(VLOOKUP(G13,'[1]Feuil1 (2)'!J:K,2,FALSE)," ") -> ind | N13: =IFERROR(VLOOKUP(H13,'[1]Feuil1 (2)'!L:M,2,FALSE)," ") | O13: =IFERROR(VLOOKUP(I13,'[1]Feuil1 (2)'!L:M,2,FALSE)," ") | P13: =CONCATENATE(K13," ",L13," ",M13) -> Sable ind | Q13: =VLOOKUP(A13,[1]collar!A:I,9,FALSE) -> 1974
A14: 1263 | B14: =IF(A14=A13,C13,0) -> 0 | C14: 1.5 | E14: 30 | K14: =IFERROR(VLOOKUP(E14,'[1]Feuil1 (2)'!F:G,2,FALSE)," ") -> Terre Végétale | L14: =IFERROR(VLOOKUP(F14,'[1]Feuil1 (2)'!H:I,2,FALSE)," ") | M14: =IFERROR(VLOOKUP(G14,'[1]Feuil1 (2)'!J:K,2,FALSE)," ") -> ind | N14: =IFERROR(VLOOKUP(H14,'[1]Feuil1 (2)'!L:M,2,FALSE)," ") | O14: =IFERROR(VLOOKUP(I14,'[1]Feuil1 (2)'!L:M,2,FALSE)," ") | P14: =CONCATENATE(K14," ",L14," ",M14) -> Terre Végétale ind | Q14: =VLOOKUP(A14,[1]collar!A:I,9,FALSE) -> 1974
A15: 1263 | B15: =IF(A15=A14,C14,0) -> 1.5 | C15: 10 | E15: 50 | K15: =IFERROR(VLOOKUP(E15,'[1]Feuil1 (2)'!F:G,2,FALSE)," ") -> Sable | L15: =IFERROR(VLOOKUP(F15,'[1]Feuil1 (2)'!H:I,2,FALSE)," ") | M15: =IFERROR(VLOOKUP(G15,'[1]Feuil1 (2)'!J:K,2,FALSE)," ") -> ind | N15: =IFERROR(VLOOKUP(H15,'[1]Feuil1 (2)'!L:M,2,FALSE)," ") | O15: =IFERROR(VLOOKUP(I15,'[1]Feuil1 (2)'!L:M,2,FALSE)," ") | P15: =CONCATENATE(K15," ",L15," ",M15) -> Sable ind | Q15: =VLOOKUP(A15,[1]collar!A:I,9,FALSE) -> 1974
A16: 1263 | B16: =IF(A16=A15,C15,0) -> 10 | C16: 15 | E16: 41 | K16: =IFERROR(VLOOKUP(E16,'[1]Feuil1 (2)'!F:G,2,FALSE)," ") -> Calcaire tendre | L16: =IFERROR(VLOOKUP(F16,'[1]Feuil1 (2)'!H:I,2,FALSE)," ") | M16: =IFERROR(VLOOKUP(G16,'[1]Feuil1 (2)'!J:K,2,FALSE)," ") -> ind | N16: =IFERROR(VLOOKUP(H16,'[1]Feuil1 (2)'!L:M,2,FALSE)," ") | O16: =IFERROR(VLOOKUP(I16,'[1]Feuil1 (2)'!L:M,2,FALSE)," ") | P16: =CONCATENATE(K16," ",L16," ",M16) -> Calcaire tendre ind | Q16: =VLOOKUP(A16,[1]collar!A:I,9,FALSE) -> 1974
A17: 1263 | B17: =IF(A17=A16,C16,0) -> 15 | C17: 16 | E17: 51 | K17: =IFERROR(VLOOKUP(E17,'[1]Feuil1 (2)'!F:G,2,FALSE)," ") -> Sable argileux | L17: =IFERROR(VLOOKUP(F17,'[1]Feuil1 (2)'!H:I,2,FALSE)," ") | M17: =IFERROR(VLOOKUP(G17,'[1]Feuil1 (2)'!J:K,2,FALSE)," ") -> ind | N17: =IFERROR(VLOOKUP(H17,'[1]Feuil1 (2)'!L:M,2,FALSE)," ") | O17: =IFERROR(VLOOKUP(I17,'[1]Feuil1 (2)'!L:M,2,FALSE)," ") | P17: =CONCATENATE(K17," ",L17," ",M17) -> Sable argileux ind | Q17: =VLOOKUP(A17,[1]collar!A:I,9,FALSE) -> 1974
A18: 1263 | B18: =IF(A18=A17,C17,0) -> 16 | C18: 21.3 | E18: 10 | K18: =IFERROR(VLOOKUP(E18,'[1]Feuil1 (2)'!F:G,2,FALSE)," ") -> argile | L18: =IFERROR(VLOOKUP(F18,'[1]Feuil1 (2)'!H:I,2,FALSE)," ") | M18: =IFERROR(VLOOKUP(G18,'[1]Feuil1 (2)'!J:K,2,FALSE)," ") -> ind | N18: =IFERROR(VLOOKUP(H18,'[1]Feuil1 (2)'!L:M,2,FALSE)," ") | O18: =IFERROR(VLOOKUP(I18,'[1]Feuil1 (2)'!L:M,2,FALSE)," ") | P18: =CONCATENATE(K18," ",L18," ",M18) -> argile ind | Q18: =VLOOKUP(A18,[1]collar!A:I,9,FALSE) -> 1974
A19: 1263 | B19: =IF(A19=A18,C18,0) -> 21.3 | C19: 25.8 | E19: 50 | K19: =IFERROR(VLOOKUP(E19,'[1]Feuil1 (2)'!F:G,2,FALSE)," ") -> Sable | L19: =IFERROR(VLOOKUP(F19,'[1]Feuil1 (2)'!H:I,2,FALSE)," ") | M19: =IFERROR(VLOOKUP(G19,'[1]Feuil1 (2)'!J:K,2,FALSE)," ") -> ind | N19: =IFERROR(VLOOKUP(H19,'[1]Feuil1 (2)'!L:M,2,FALSE)," ") | O19: =IFERROR(VLOOKUP(I19,'[1]Feuil1 (2)'!L:M,2,FALSE)," ") | P19: =CONCATENATE(K19," ",L19," ",M19) -> Sable ind | Q19: =VLOOKUP(A19,[1]collar!A:I,9,FALSE) -> 1974
A20: 1264 | B20: =IF(A20=A19,C19,0) -> 0 | C20: 1 | E20: 30 | K20: =IFERROR(VLOOKUP(E20,'[1]Feuil1 (2)'!F:G,2,FALSE)," ") -> Terre Végétale | L20: =IFERROR(VLOOKUP(F20,'[1]Feuil1 (2)'!H:I,2,FALSE)," ") | M20: =IFERROR(VLOOKUP(G20,'[1]Feuil1 (2)'!J:K,2,FALSE)," ") -> ind | N20: =IFERROR(VLOOKUP(H20,'[1]Feuil1 (2)'!L:M,2,FALSE)," ") | O20: =IFERROR(VLOOKUP(I20,'[1]Feuil1 (2)'!L:M,2,FALSE)," ") | P20: =CONCATENATE(K20," ",L20," ",M20) -> Terre Végétale ind | Q20: =VLOOKUP(A20,[1]collar!A:I,9,FALSE) -> 1974
A21: 1264 | B21: =IF(A21=A20,C20,0) -> 1 | C21: 4.8 | E21: 50 | K21: =IFERROR(VLOOKUP(E21,'[1]Feuil1 (2)'!F:G,2,FALSE)," ") -> Sable | L21: =IFERROR(VLOOKUP(F21,'[1]Feuil1 (2)'!H:I,2,FALSE)," ") | M21: =IFERROR(VLOOKUP(G21,'[1]Feuil1 (2)'!J:K,2,FALSE)," ") -> ind | N21: =IFERROR(VLOOKUP(H21,'[1]Feuil1 (2)'!L:M,2,FALSE)," ") | O21: =IFERROR(VLOOKUP(I21,'[1]Feuil1 (2)'!L:M,2,FALSE)," ") | P21: =CONCATENATE(K21," ",L21," ",M21) -> Sable ind | Q21: =VLOOKUP(A21,[1]collar!A:I,9,FALSE) -> 1974
A22: 1264 | B22: =IF(A22=A21,C21,0) -> 4.8 | C22: 10.8 | E22: 40 | K22: =IFERROR(VLOOKUP(E22,'[1]Feuil1 (2)'!F:G,2,FALSE)," ") -> Calcaire massif (dur) | L22: =IFERROR(VLOOKUP(F22,'[1]Feuil1 (2)'!H:I,2,FALSE)," ") | M22: =IFERROR(VLOOKUP(G22,'[1]Feuil1 (2)'!J:K,2,FALSE)," ") -> ind | N22: =IFERROR(VLOOKUP(H22,'[1]Feuil1 (2)'!L:M,2,FALSE)," ") | O22: =IFERROR(VLOOKUP(I22,'[1]Feuil1 (2)'!L:M,2,FALSE)," ") | P22: =CONCATENATE(K22," ",L22," ",M22) -> Calcaire massif (dur) ind | Q22: =VLOOKUP(A22,[1]collar!A:I,9,FALSE) -> 1974
A23: 1264 | B23: =IF(A23=A22,C22,0) -> 10.8 | C23: 12.3 | E23: 42 | K23: =IFERROR(VLOOKUP(E23,'[1]Feuil1 (2)'!F:G,2,FALSE)," ") -> Marne | L23: =IFERROR(VLOOKUP(F23,'[1]Feuil1 (2)'!H:I,2,FALSE)," ") | M23: =IFERROR(VLOOKUP(G23,'[1]Feuil1 (2)'!J:K,2,FALSE)," ") -> ind | N23: =IFERROR(VLOOKUP(H23,'[1]Feuil1 (2)'!L:M,2,FALSE)," ") | O23: =IFERROR(VLOOKUP(I23,'[1]Feuil1 (2)'!L:M,2,FALSE)," ") | P23: =CONCATENATE(K23," ",L23," ",M23) -> Marne ind | Q23: =VLOOKUP(A23,[1]collar!A:I,9,FALSE) -> 1974
... A25: 1264 | B25: =IF(A25=A24,C24,0) -> 14.3 | C25: 21.3 | E25: 10 | K25: =IFERROR(VLOOKUP(E25,'[1]Feuil1 (2)'!F:G,2,FALSE)," ") -> argile | L25: =IFERROR(VLOOKUP(F25,'[1]Feuil1 (2)'!H:I,2,FALSE)," ") | M25: =IFERROR(VLOOKUP(G25,'[1]Feuil1 (2)'!J:K,2,FALSE)," ") -> ind | N25: =IFERROR(VLOOKUP(H25,'[1]Feuil1 (2)'!L:M,2,FALSE)," ") | O25: =IFERROR(VLOOKUP(I25,'[1]Feuil1 (2)'!L:M,2,FALSE)," ") | P25: =CONCATENATE(K25," ",L25," ",M25) -> argile ind | Q25: =VLOOKUP(A25,[1]collar!A:I,9,FALSE) -> 1974
A26: 1264 | B26: =IF(A26=A25,C25,0) -> 21.3 | C26: 22.8 | E26: 10 | H26: 23 | K26: =IFERROR(VLOOKUP(E26,'[1]Feuil1 (2)'!F:G,2,FALSE)," ") -> argile | L26: =IFERROR(VLOOKUP(F26,'[1]Feuil1 (2)'!H:I,2,FALSE)," ") | M26: =IFERROR(VLOOKUP(G26,'[1]Feuil1 (2)'!J:K,2,FALSE)," ") -> ind | N26: =IFERROR(VLOOKUP(H26,'[1]Feuil1 (2)'!L:M,2,FALSE)," ") -> Carbonaté (chaux) | O26: =IFERROR(VLOOKUP(I26,'[1]Feuil1 (2)'!L:M,2,FALSE)," ") | P26: =CONCATENATE(K26," ",L26," ",M26) -> argile ind | Q26: =VLOOKUP(A26,[1]collar!A:I,9,FALSE) -> 1974
A27: 1264 | B27: =IF(A27=A26,C26,0) -> 22.8 | C27: 24.3 | E27: 51 | K27: =IFERROR(VLOOKUP(E27,'[1]Feuil1 (2)'!F:G,2,FALSE)," ") -> Sable argileux | L27: =IFERROR(VLOOKUP(F27,'[1]Feuil1 (2)'!H:I,2,FALSE)," ") | M27: =IFERROR(VLOOKUP(G27,'[1]Feuil1 (2)'!J:K,2,FALSE)," ") -> ind | N27: =IFERROR(VLOOKUP(H27,'[1]Feuil1 (2)'!L:M,2,FALSE)," ") | O27: =IFERROR(VLOOKUP(I27,'[1]Feuil1 (2)'!L:M,2,FALSE)," ") | P27: =CONCATENATE(K27," ",L27," ",M27) -> Sable argileux ind | Q27: =VLOOKUP(A27,[1]collar!A:I,9,FALSE) -> 1974
A28: 1980 | B28: =IF(A28=A27,C27,0) -> 0 | C28: 8.5 | E28: 43 | K28: =IFERROR(VLOOKUP(E28,'[1]Feuil1 (2)'!F:G,2,FALSE)," ") -> Alternance marne-calcaire | L28: =IFERROR(VLOOKUP(F28,'[1]Feuil1 (2)'!H:I,2,FALSE)," ") | M28: =IFERROR(VLOOKUP(G28,'[1]Feuil1 (2)'!J:K,2,FALSE)," ") -> ind | N28: =IFERROR(VLOOKUP(H28,'[1]Feuil1 (2)'!L:M,2,FALSE)," ") | O28: =IFERROR(VLOOKUP(I28,'[1]Feuil1 (2)'!L:M,2,FALSE)," ") | P28: =CONCATENATE(K28," ",L28," ",M28) -> Alternance marne-calcaire ind | Q28: =VLOOKUP(A28,[1]collar!A:I,9,FALSE) -> 1980
A29: 1980 | B29: =IF(A29=A28,C28,0) -> 8.5 | C29: 14.8 | E29: 41 | K29: =IFERROR(VLOOKUP(E29,'[1]Feuil1 (2)'!F:G,2,FALSE)," ") -> Calcaire tendre | L29: =IFERROR(VLOOKUP(F29,'[1]Feuil1 (2)'!H:I,2,FALSE)," ") | M29: =IFERROR(VLOOKUP(G29,'[1]Feuil1 (2)'!J:K,2,FALSE)," ") -> ind | N29: =IFERROR(VLOOKUP(H29,'[1]Feuil1 (2)'!L:M,2,FALSE)," ") | O29: =IFERROR(VLOOKUP(I29,'[1]Feuil1 (2)'!L:M,2,FALSE)," ") | P29: =CONCATENATE(K29," ",L29," ",M29) -> Calcaire tendre ind | Q29: =VLOOKUP(A29,[1]collar!A:I,9,FALSE) -> 1980
A30: 1980 | B30: =IF(A30=A29,C29,0) -> 14.8 | C30: 15.4 | E30: 40 | K30: =IFERROR(VLOOKUP(E30,'[1]Feuil1 (2)'!F:G,2,FALSE)," ") -> Calcaire massif (dur) | L30: =IFERROR(VLOOKUP(F30,'[1]Feuil1 (2)'!H:I,2,FALSE)," ") | M30: =IFERROR(VLOOKUP(G30,'[1]Feuil1 (2)'!J:K,2,FALSE)," ") -> ind | N30: =IFERROR(VLOOKUP(H30,'[1]Feuil1 (2)'!L:M,2,FALSE)," ") | O30: =IFERROR(VLOOKUP(I30,'[1]Feuil1 (2)'!L:M,2,FALSE)," ") | P30: =CONCATENATE(K30," ",L30," ",M30) -> Calcaire massif (dur) ind | Q30: =VLOOKUP(A30,[1]collar!A:I,9,FALSE) -> 1980
A31: 1980 | B31: =IF(A31=A30,C30,0) -> 15.4 | C31: 18 | E31: 41 | K31: =IFERROR(VLOOKUP(E31,'[1]Feuil1 (2)'!F:G,2,FALSE)," ") -> Calcaire tendre | L31: =IFERROR(VLOOKUP(F31,'[1]Feuil1 (2)'!H:I,2,FALSE)," ") | M31: =IFERROR(VLOOKUP(G31,'[1]Feuil1 (2)'!J:K,2,FALSE)," ") -> ind | N31: =IFERROR(VLOOKUP(H31,'[1]Feuil1 (2)'!L:M,2,FALSE)," ") | O31: =IFERROR(VLOOKUP(I31,'[1]Feuil1 (2)'!L:M,2,FALSE)," ") | P31: =CONCATENATE(K31," ",L31," ",M31) -> Calcaire tendre ind | Q31: =VLOOKUP(A31,[1]collar!A:I,9,FALSE) -> 1980
A32: 1980 | B32: =IF(A32=A31,C31,0) -> 18 | C32: 19 | E32: 51 | K32: =IFERROR(VLOOKUP(E32,'[1]Feuil1 (2)'!F:G,2,FALSE)," ") -> Sable argileux | L32: =IFERROR(VLOOKUP(F32,'[1]Feuil1 (2)'!H:I,2,FALSE)," ") | M32: =IFERROR(VLOOKUP(G32,'[1]Feuil1 (2)'!J:K,2,FALSE)," ") -> ind | N32: =IFERROR(VLOOKUP(H32,'[1]Feuil1 (2)'!L:M,2,FALSE)," ") | O32: =IFERROR(VLOOKUP(I32,'[1]Feuil1 (2)'!L:M,2,FALSE)," ") | P32: =CONCATENATE(K32," ",L32," ",M32) -> Sable argileux ind | Q32: =VLOOKUP(A32,[1]collar!A:I,9,FALSE) -> 1980
A33: 1980 | B33: =IF(A33=A32,C32,0) -> 19 | C33: 24 | E33: 10 | K33: =IFERROR(VLOOKUP(E33,'[1]Feuil1 (2)'!F:G,2,FALSE)," ") -> argile | L33: =IFERROR(VLOOKUP(F33,'[1]Feuil1 (2)'!H:I,2,FALSE)," ") | M33: =IFERROR(VLOOKUP(G33,'[1]Feuil1 (2)'!J:K,2,FALSE)," ") -> ind | N33: =IFERROR(VLOOKUP(H33,'[1]Feuil1 (2)'!L:M,2,FALSE)," ") | O33: =IFERROR(VLOOKUP(I33,'[1]Feuil1 (2)'!L:M,2,FALSE)," ") | P33: =CONCATENATE(K33," ",L33," ",M33) -> argile ind | Q33: =VLOOKUP(A33,[1]collar!A:I,9,FALSE) -> 1980
A34: 1980 | B34: =IF(A34=A33,C33,0) -> 24 | C34: 26 | E34: 50 | F34: 8 | H34: 24 | K34: =IFERROR(VLOOKUP(E34,'[1]Feuil1 (2)'!F:G,2,FALSE)," ") -> Sable | L34: =IFERROR(VLOOKUP(F34,'[1]Feuil1 (2)'!H:I,2,FALSE)," ") -> noir | M34: =IFERROR(VLOOKUP(G34,'[1]Feuil1 (2)'!J:K,2,FALSE)," ") -> ind | N34: =IFERROR(VLOOKUP(H34,'[1]Feuil1 (2)'!L:M,2,FALSE)," ") -> Lignite (charbon) | O34: =IFERROR(VLOOKUP(I34,'[1]Feuil1 (2)'!L:M,2,FALSE)," ") | P34: =CONCATENATE(K34," ",L34," ",M34) -> Sable noir ind | Q34: =VLOOKUP(A34,[1]collar!A:I,9,FALSE) -> 1980
A35: 1981 | B35: =IF(A35=A34,C34,0) -> 0 | C35: 1.5 | E35: 30 | K35: =IFERROR(VLOOKUP(E35,'[1]Feuil1 (2)'!F:G,2,FALSE)," ") -> Terre Végétale | L35: =IFERROR(VLOOKUP(F35,'[1]Feuil1 (2)'!H:I,2,FALSE)," ") | M35: =IFERROR(VLOOKUP(G35,'[1]Feuil1 (2)'!J:K,2,FALSE)," ") -> ind | N35: =IFERROR(VLOOKUP(H35,'[1]Feuil1 (2)'!L:M,2,FALSE)," ") | O35: =IFERROR(VLOOKUP(I35,'[1]Feuil1 (2)'!L:M,2,FALSE)," ") | P35: =CONCATENATE(K35," ",L35," ",M35) -> Terre Végétale ind | Q35: =VLOOKUP(A35,[1]collar!A:I,9,FALSE) -> 1980
A36: 1981 | B36: =IF(A36=A35,C35,0) -> 1.5 | C36: 2.5 | E36: 31 | K36: =IFERROR(VLOOKUP(E36,'[1]Feuil1 (2)'!F:G,2,FALSE)," ") -> Limon | L36: =IFERROR(VLOOKUP(F36,'[1]Feuil1 (2)'!H:I,2,FALSE)," ") | M36: =IFERROR(VLOOKUP(G36,'[1]Feuil1 (2)'!J:K,2,FALSE)," ") -> ind | N36: =IFERROR(VLOOKUP(H36,'[1]Feuil1 (2)'!L:M,2,FALSE)," ") | O36: =IFERROR(VLOOKUP(I36,'[1]Feuil1 (2)'!L:M,2,FALSE)," ") | P36: =CONCATENATE(K36," ",L36," ",M36) -> Limon ind | Q36: =VLOOKUP(A36,[1]collar!A:I,9,FALSE) -> 1980
A37: 1981 | B37: =IF(A37=A36,C36,0) -> 2.5 | C37: 2.8 | E37: 31 | K37: =IFERROR(VLOOKUP(E37,'[1]Feuil1 (2)'!F:G,2,FALSE)," ") -> Limon | L37: =IFERROR(VLOOKUP(F37,'[1]Feuil1 (2)'!H:I,2,FALSE)," ") | M37: =IFERROR(VLOOKUP(G37,'[1]Feuil1 (2)'!J:K,2,FALSE)," ") -> ind | N37: =IFERROR(VLOOKUP(H37,'[1]Feuil1 (2)'!L:M,2,FALSE)," ") | O37: =IFERROR(VLOOKUP(I37,'[1]Feuil1 (2)'!L:M,2,FALSE)," ") | P37: =CONCATENATE(K37," ",L37," ",M37) -> Limon ind | Q37: =VLOOKUP(A37,[1]collar!A:I,9,FALSE) -> 1980
A38: 1981 | B38: =IF(A38=A37,C37,0) -> 2.8 | C38: 3.8 | E38: 31 | K38: =IFERROR(VLOOKUP(E38,'[1]Feuil1 (2)'!F:G,2,FALSE)," ") -> Limon | L38: =IFERROR(VLOOKUP(F38,'[1]Feuil1 (2)'!H:I,2,FALSE)," ") | M38: =IFERROR(VLOOKUP(G38,'[1]Feuil1 (2)'!J:K,2,FALSE)," ") -> ind | N38: =IFERROR(VLOOKUP(H38,'[1]Feuil1 (2)'!L:M,2,FALSE)," ") | O38: =IFERROR(VLOOKUP(I38,'[1]Feuil1 (2)'!L:M,2,FALSE)," ") | P38: =CONCATENATE(K38," ",L38," ",M38) -> Limon ind | Q38: =VLOOKUP(A38,[1]collar!A:I,9,FALSE) -> 1980
A39: 1981 | B39: =IF(A39=A38,C38,0) -> 3.8 | C39: 6 | E39: 42 | K39: =IFERROR(VLOOKUP(E39,'[1]Feuil1 (2)'!F:G,2,FALSE)," ") -> Marne | L39: =IFERROR(VLOOKUP(F39,'[1]Feuil1 (2)'!H:I,2,FALSE)," ") | M39: =IFERROR(VLOOKUP(G39,'[1]Feuil1 (2)'!J:K,2,FALSE)," ") -> ind | N39: =IFERROR(VLOOKUP(H39,'[1]Feuil1 (2)'!L:M,2,FALSE)," ") | O39: =IFERROR(VLOOKUP(I39,'[1]Feuil1 (2)'!L:M,2,FALSE)," ") | P39: =CONCATENATE(K39," ",L39," ",M39) -> Marne ind | Q39: =VLOOKUP(A39,[1]collar!A:I,9,FALSE) -> 1980
A40: 1981 | B40: =IF(A40=A39,C39,0) -> 6 | C40: 6.3 | E40: 50 | K40: =IFERROR(VLOOKUP(E40,'[1]Feuil1 (2)'!F:G,2,FALSE)," ") -> Sable | L40: =IFERROR(VLOOKUP(F40,'[1]Feuil1 (2)'!H:I,2,FALSE)," ") | M40: =IFERROR(VLOOKUP(G40,'[1]Feuil1 (2)'!J:K,2,FALSE)," ") -> ind | N40: =IFERROR(VLOOKUP(H40,'[1]Feuil1 (2)'!L:M,2,FALSE)," ") | O40: =IFERROR(VLOOKUP(I40,'[1]Feuil1 (2)'!L:M,2,FALSE)," ") | P40: =CONCATENATE(K40," ",L40," ",M40) -> Sable ind | Q40: =VLOOKUP(A40,[1]collar!A:I,9,FALSE) -> 1980
A41: 1981 | B41: =IF(A41=A40,C40,0) -> 6.3 | C41: 10.5 | E41: 50 | K41: =IFERROR(VLOOKUP(E41,'[1]Feuil1 (2)'!F:G,2,FALSE)," ") -> Sable | L41: =IFERROR(VLOOKUP(F41,'[1]Feuil1 (2)'!H:I,2,FALSE)," ") | M41: =IFERROR(VLOOKUP(G41,'[1]Feuil1 (2)'!J:K,2,FALSE)," ") -> ind | N41: =IFERROR(VLOOKUP(H41,'[1]Feuil1 (2)'!L:M,2,FALSE)," ") | O41: =IFERROR(VLOOKUP(I41,'[1]Feuil1 (2)'!L:M,2,FALSE)," ") | P41: =CONCATENATE(K41," ",L41," ",M41) -> Sable ind | Q41: =VLOOKUP(A41,[1]collar!A:I,9,FALSE) -> 1980
A42: 1981 | B42: =IF(A42=A41,C41,0) -> 10.5 | C42: 14 | E42: 41 | K42: =IFERROR(VLOOKUP(E42,'[1]Feuil1 (2)'!F:G,2,FALSE)," ") -> Calcaire tendre | L42: =IFERROR(VLOOKUP(F42,'[1]Feuil1 (2)'!H:I,2,FALSE)," ") | M42: =IFERROR(VLOOKUP(G42,'[1]Feuil1 (2)'!J:K,2,FALSE)," ") -> ind | N42: =IFERROR(VLOOKUP(H42,'[1]Feuil1 (2)'!L:M,2,FALSE)," ") | O42: =IFERROR(VLOOKUP(I42,'[1]Feuil1 (2)'!L:M,2,FALSE)," ") | P42: =CONCATENATE(K42," ",L42," ",M42) -> Calcaire tendre ind | Q42: =VLOOKUP(A42,[1]collar!A:I,9,FALSE) -> 1980
A43: 1981 | B43: =IF(A43=A42,C42,0) -> 14 | C43: 15.8 | E43: 40 | K43: =IFERROR(VLOOKUP(E43,'[1]Feuil1 (2)'!F:G,2,FALSE)," ") -> Calcaire massif (dur) | L43: =IFERROR(VLOOKUP(F43,'[1]Feuil1 (2)'!H:I,2,FALSE)," ") | M43: =IFERROR(VLOOKUP(G43,'[1]Feuil1 (2)'!J:K,2,FALSE)," ") -> ind | N43: =IFERROR(VLOOKUP(H43,'[1]Feuil1 (2)'!L:M,2,FALSE)," ") | O43: =IFERROR(VLOOKUP(I43,'[1]Feuil1 (2)'!L:M,2,FALSE)," ") | P43: =CONCATENATE(K43," ",L43," ",M43) -> Calcaire massif (dur) ind | Q43: =VLOOKUP(A43,[1]collar!A:I,9,FALSE) -> 1980
A44: 1981 | B44: =IF(A44=A43,C43,0) -> 15.8 | C44: 18.6 | E44: 41 | K44: =IFERROR(VLOOKUP(E44,'[1]Feuil1 (2)'!F:G,2,FALSE)," ") -> Calcaire tendre | L44: =IFERROR(VLOOKUP(F44,'[1]Feuil1 (2)'!H:I,2,FALSE)," ") | M44: =IFERROR(VLOOKUP(G44,'[1]Feuil1 (2)'!J:K,2,FALSE)," ") -> ind | N44: =IFERROR(VLOOKUP(H44,'[1]Feuil1 (2)'!L:M,2,FALSE)," ") | O44: =IFERROR(VLOOKUP(I44,'[1]Feuil1 (2)'!L:M,2,FALSE)," ") | P44: =CONCATENATE(K44," ",L44," ",M44) -> Calcaire tendre ind | Q44: =VLOOKUP(A44,[1]collar!A:I,9,FALSE) -> 1980
A45: 1981 | B45: =IF(A45=A44,C44,0) -> 18.6 | C45: 20.3 | E45: 42 | K45: =IFERROR(VLOOKUP(E45,'[1]Feuil1 (2)'!F:G,2,FALSE)," ") -> Marne | L45: =IFERROR(VLOOKUP(F45,'[1]Feuil1 (2)'!H:I,2,FALSE)," ") | M45: =IFERROR(VLOOKUP(G45,'[1]Feuil1 (2)'!J:K,2,FALSE)," ") -> ind | N45: =IFERROR(VLOOKUP(H45,'[1]Feuil1 (2)'!L:M,2,FALSE)," ") | O45: =IFERROR(VLOOKUP(I45,'[1]Feuil1 (2)'!L:M,2,FALSE)," ") | P45: =CONCATENATE(K45," ",L45," ",M45) -> Marne ind | Q45: =VLOOKUP(A45,[1]collar!A:I,9,FALSE) -> 1980
A46: 1981 | B46: =IF(A46=A45,C45,0) -> 20.3 | C46: 24.5 | E46: 10 | K46: =IFERROR(VLOOKUP(E46,'[1]Feuil1 (2)'!F:G,2,FALSE)," ") -> argile | L46: =IFERROR(VLOOKUP(F46,'[1]Feuil1 (2)'!H:I,2,FALSE)," ") | M46: =IFERROR(VLOOKUP(G46,'[1]Feuil1 (2)'!J:K,2,FALSE)," ") -> ind | N46: =IFERROR(VLOOKUP(H46,'[1]Feuil1 (2)'!L:M,2,FALSE)," ") | O46: =IFERROR(VLOOKUP(I46,'[1]Feuil1 (2)'!L:M,2,FALSE)," ") | P46: =CONCATENATE(K46," ",L46," ",M46) -> argile ind | Q46: =VLOOKUP(A46,[1]collar!A:I,9,FALSE) -> 1980
A47: 1981 | B47: =IF(A47=A46,C46,0) -> 24.5 | C47: 26 | E47: 50 | F47: 8 | H47: 24 | K47: =IFERROR(VLOOKUP(E47,'[1]Feuil1 (2)'!F:G,2,FALSE)," ") -> Sable | L47: =IFERROR(VLOOKUP(F47,'[1]Feuil1 (2)'!H:I,2,FALSE)," ") -> noir | M47: =IFERROR(VLOOKUP(G47,'[1]Feuil1 (2)'!J:K,2,FALSE)," ") -> ind | N47: =IFERROR(VLOOKUP(H47,'[1]Feuil1 (2)'!L:M,2,FALSE)," ") -> Lignite (charbon) | O47: =IFERROR(VLOOKUP(I47,'[1]Feuil1 (2)'!L:M,2,FALSE)," ") | P47: =CONCATENATE(K47," ",L47," ",M47) -> Sable noir ind | Q47: =VLOOKUP(A47,[1]collar!A:I,9,FALSE) -> 1980
A48: 1982 | B48: =IF(A48=A47,C47,0) -> 0 | C48: 2.5 | E48: 31 | K48: =IFERROR(VLOOKUP(E48,'[1]Feuil1 (2)'!F:G,2,FALSE)," ") -> Limon | L48: =IFERROR(VLOOKUP(F48,'[1]Feuil1 (2)'!H:I,2,FALSE)," ") | M48: =IFERROR(VLOOKUP(G48,'[1]Feuil1 (2)'!J:K,2,FALSE)," ") -> ind | N48: =IFERROR(VLOOKUP(H48,'[1]Feuil1 (2)'!L:M,2,FALSE)," ") | O48: =IFERROR(VLOOKUP(I48,'[1]Feuil1 (2)'!L:M,2,FALSE)," ") | P48: =CONCATENATE(K48," ",L48," ",M48) -> Limon ind | Q48: =VLOOKUP(A48,[1]collar!A:I,9,FALSE) -> 1980
A49: 1982 | B49: =IF(A49=A48,C48,0) -> 2.5 | C49: 3.5 | E49: 31 | K49: =IFERROR(VLOOKUP(E49,'[1]Feuil1 (2)'!F:G,2,FALSE)," ") -> Limon | L49: =IFERROR(VLOOKUP(F49,'[1]Feuil1 (2)'!H:I,2,FALSE)," ") | M49: =IFERROR(VLOOKUP(G49,'[1]Feuil1 (2)'!J:K,2,FALSE)," ") -> ind | N49: =IFERROR(VLOOKUP(H49,'[1]Feuil1 (2)'!L:M,2,FALSE)," ") | O49: =IFERROR(VLOOKUP(I49,'[1]Feuil1 (2)'!L:M,2,FALSE)," ") | P49: =CONCATENATE(K49," ",L49," ",M49) -> Limon ind | Q49: =VLOOKUP(A49,[1]collar!A:I,9,FALSE) -> 1980
A50: 1982 | B50: =IF(A50=A49,C49,0) -> 3.5 | C50: 4.5 | E50: 31 | K50: =IFERROR(VLOOKUP(E50,'[1]Feuil1 (2)'!F:G,2,FALSE)," ") -> Limon | L50: =IFERROR(VLOOKUP(F50,'[1]Feuil1 (2)'!H:I,2,FALSE)," ") | M50: =IFERROR(VLOOKUP(G50,'[1]Feuil1 (2)'!J:K,2,FALSE)," ") -> ind | N50: =IFERROR(VLOOKUP(H50,'[1]Feuil1 (2)'!L:M,2,FALSE)," ") | O50: =IFERROR(VLOOKUP(I50,'[1]Feuil1 (2)'!L:M,2,FALSE)," ") | P50: =CONCATENATE(K50," ",L50," ",M50) -> Limon ind | Q50: =VLOOKUP(A50,[1]collar!A:I,9,FALSE) -> 1980
A51: 1982 | B51: =IF(A51=A50,C50,0) -> 4.5 | C51: 9.5 | E51: 42 | K51: =IFERROR(VLOOKUP(E51,'[1]Feuil1 (2)'!F:G,2,FALSE)," ") -> Marne | L51: =IFERROR(VLOOKUP(F51,'[1]Feuil1 (2)'!H:I,2,FALSE)," ") | M51: =IFERROR(VLOOKUP(G51,'[1]Feuil1 (2)'!J:K,2,FALSE)," ") -> ind | N51: =IFERROR(VLOOKUP(H51,'[1]Feuil1 (2)'!L:M,2,FALSE)," ") | O51: =IFERROR(VLOOKUP(I51,'[1]Feuil1 (2)'!L:M,2,FALSE)," ") | P51: =CONCATENATE(K51," ",L51," ",M51) -> Marne ind | Q51: =VLOOKUP(A51,[1]collar!A:I,9,FALSE) -> 1980
A52: 1982 | B52: =IF(A52=A51,C51,0) -> 9.5 | C52: 13.5 | E52: 41 | K52: =IFERROR(VLOOKUP(E52,'[1]Feuil1 (2)'!F:G,2,FALSE)," ") -> Calcaire tendre | L52: =IFERROR(VLOOKUP(F52,'[1]Feuil1 (2)'!H:I,2,FALSE)," ") | M52: =IFERROR(VLOOKUP(G52,'[1]Feuil1 (2)'!J:K,2,FALSE)," ") -> ind | N52: =IFERROR(VLOOKUP(H52,'[1]Feuil1 (2)'!L:M,2,FALSE)," ") | O52: =IFERROR(VLOOKUP(I52,'[1]Feuil1 (2)'!L:M,2,FALSE)," ") | P52: =CONCATENATE(K52," ",L52," ",M52) -> Calcaire tendre ind | Q52: =VLOOKUP(A52,[1]collar!A:I,9,FALSE) -> 1980
A53: 1982 | B53: =IF(A53=A52,C52,0) -> 13.5 | C53: 14 | E53: 40 | K53: =IFERROR(VLOOKUP(E53,'[1]Feuil1 (2)'!F:G,2,FALSE)," ") -> Calcaire massif (dur) | L53: =IFERROR(VLOOKUP(F53,'[1]Feuil1 (2)'!H:I,2,FALSE)," ") | M53: =IFERROR(VLOOKUP(G53,'[1]Feuil1 (2)'!J:K,2,FALSE)," ") -> ind | N53: =IFERROR(VLOOKUP(H53,'[1]Feuil1 (2)'!L:M,2,FALSE)," ") | O53: =IFERROR(VLOOKUP(I53,'[1]Feuil1 (2)'!L:M,2,FALSE)," ") | P53: =CONCATENATE(K53," ",L53," ",M53) -> Calcaire massif (dur) ind | Q53: =VLOOKUP(A53,[1]collar!A:I,9,FALSE) -> 1980
A54: 1982 | B54: =IF(A54=A53,C53,0) -> 14 | C54: 16.5 | E54: 41 | K54: =IFERROR(VLOOKUP(E54,'[1]Feuil1 (2)'!F:G,2,FALSE)," ") -> Calcaire tendre | L54: =IFERROR(VLOOKUP(F54,'[1]Feuil1 (2)'!H:I,2,FALSE)," ") | M54: =IFERROR(VLOOKUP(G54,'[1]Feuil1 (2)'!J:K,2,FALSE)," ") -> ind | N54: =IFERROR(VLOOKUP(H54,'[1]Feuil1 (2)'!L:M,2,FALSE)," ") | O54: =IFERROR(VLOOKUP(I54,'[1]Feuil1 (2)'!L:M,2,FALSE)," ") | P54: =CONCATENATE(K54," ",L54," ",M54) -> Calcaire tendre ind | Q54: =VLOOKUP(A54,[1]collar!A:I,9,FALSE) -> 1980
A55: 1982 | B55: =IF(A55=A54,C54,0) -> 16.5 | C55: 18.5 | E55: 42 | F55: 1 | K55: =IFERROR(VLOOKUP(E55,'[1]Feuil1 (2)'!F:G,2,FALSE)," ") -> Marne | L55: =IFERROR(VLOOKUP(F55,'[1]Feuil1 (2)'!H:I,2,FALSE)," ") -> blanc | M55: =IFERROR(VLOOKUP(G55,'[1]Feuil1 (2)'!J:K,2,FALSE)," ") -> ind | N55: =IFERROR(VLOOKUP(H55,'[1]Feuil1 (2)'!L:M,2,FALSE)," ") | O55: =IFERROR(VLOOKUP(I55,'[1]Feuil1 (2)'!L:M,2,FALSE)," ") | P55: =CONCATENATE(K55," ",L55," ",M55) -> Marne blanc ind | Q55: =VLOOKUP(A55,[1]collar!A:I,9,FALSE) -> 1980
A56: 1982 | B56: =IF(A56=A55,C55,0) -> 18.5 | C56: 23 | E56: 10 | K56: =IFERROR(VLOOKUP(E56,'[1]Feuil1 (2)'!F:G,2,FALSE)," ") -> argile | L56: =IFERROR(VLOOKUP(F56,'[1]Feuil1 (2)'!H:I,2,FALSE)," ") | M56: =IFERROR(VLOOKUP(G56,'[1]Feuil1 (2)'!J:K,2,FALSE)," ") -> ind | N56: =IFERROR(VLOOKUP(H56,'[1]Feuil1 (2)'!L:M,2,FALSE)," ") | O56: =IFERROR(VLOOKUP(I56,'[1]Feuil1 (2)'!L:M,2,FALSE)," ") | P56: =CONCATENATE(K56," ",L56," ",M56) -> argile ind | Q56: =VLOOKUP(A56,[1]collar!A:I,9,FALSE) -> 1980
A57: 1982 | B57: =IF(A57=A56,C56,0) -> 23 | C57: 24.5 | E57: 10 | F57: 8 | H57: 25 | I57: 24 | K57: =IFERROR(VLOOKUP(E57,'[1]Feuil1 (2)'!F:G,2,FALSE)," ") -> argile | L57: =IFERROR(VLOOKUP(F57,'[1]Feuil1 (2)'!H:I,2,FALSE)," ") -> noir | M57: =IFERROR(VLOOKUP(G57,'[1]Feuil1 (2)'!J:K,2,FALSE)," ") -> ind | N57: =IFERROR(VLOOKUP(H57,'[1]Feuil1 (2)'!L:M,2,FALSE)," ") -> Pyrite | O57: =IFERROR(VLOOKUP(I57,'[1]Feuil1 (2)'!L:M,2,FALSE)," ") -> Lignite (charbon) | P57: =CONCATENATE(K57," ",L57," ",M57) -> argile noir ind | Q57: =VLOOKUP(A57,[1]collar!A:I,9,FALSE) -> 1980
A58: 1983 | B58: =IF(A58=A57,C57,0) -> 0 | C58: 4 | E58: 31 | K58: =IFERROR(VLOOKUP(E58,'[1]Feuil1 (2)'!F:G,2,FALSE)," ") -> Limon | L58: =IFERROR(VLOOKUP(F58,'[1]Feuil1 (2)'!H:I,2,FALSE)," ") | M58: =IFERROR(VLOOKUP(G58,'[1]Feuil1 (2)'!J:K,2,FALSE)," ") -> ind | N58: =IFERROR(VLOOKUP(H58,'[1]Feuil1 (2)'!L:M,2,FALSE)," ") | O58: =IFERROR(VLOOKUP(I58,'[1]Feuil1 (2)'!L:M,2,FALSE)," ") | P58: =CONCATENATE(K58," ",L58," ",M58) -> Limon ind | Q58: =VLOOKUP(A58,[1]collar!A:I,9,FALSE) -> 1980
A59: 1983 | B59: =IF(A59=A58,C58,0) -> 4 | C59: 6.5 | E59: 31 | K59: =IFERROR(VLOOKUP(E59,'[1]Feuil1 (2)'!F:G,2,FALSE)," ") -> Limon | L59: =IFERROR(VLOOKUP(F59,'[1]Feuil1 (2)'!H:I,2,FALSE)," ") | M59: =IFERROR(VLOOKUP(G59,'[1]Feuil1 (2)'!J:K,2,FALSE)," ") -> ind | N59: =IFERROR(VLOOKUP(H59,'[1]Feuil1 (2)'!L:M,2,FALSE)," ") | O59: =IFERROR(VLOOKUP(I59,'[1]Feuil1 (2)'!L:M,2,FALSE)," ") | P59: =CONCATENATE(K59," ",L59," ",M59) -> Limon ind | Q59: =VLOOKUP(A59,[1]collar!A:I,9,FALSE) -> 1980
A60: 1983 | B60: =IF(A60=A59,C59,0) -> 6.5 | C60: 10.5 | E60: 41 | K60: =IFERROR(VLOOKUP(E60,'[1]Feuil1 (2)'!F:G,2,FALSE)," ") -> Calcaire tendre | L60: =IFERROR(VLOOKUP(F60,'[1]Feuil1 (2)'!H:I,2,FALSE)," ") | M60: =IFERROR(VLOOKUP(G60,'[1]Feuil1 (2)'!J:K,2,FALSE)," ") -> ind | N60: =IFERROR(VLOOKUP(H60,'[1]Feuil1 (2)'!L:M,2,FALSE)," ") | O60: =IFERROR(VLOOKUP(I60,'[1]Feuil1 (2)'!L:M,2,FALSE)," ") | P60: =CONCATENATE(K60," ",L60," ",M60) -> Calcaire tendre ind | Q60: =VLOOKUP(A60,[1]collar!A:I,9,FALSE) -> 1980
A61: 1983 | B61: =IF(A61=A60,C60,0) -> 10.5 | C61: 13 | E61: 40 | K61: =IFERROR(VLOOKUP(E61,'[1]Feuil1 (2)'!F:G,2,FALSE)," ") -> Calcaire massif (dur) | L61: =IFERROR(VLOOKUP(F61,'[1]Feuil1 (2)'!H:I,2,FALSE)," ") | M61: =IFERROR(VLOOKUP(G61,'[1]Feuil1 (2)'!J:K,2,FALSE)," ") -> ind | N61: =IFERROR(VLOOKUP(H61,'[1]Feuil1 (2)'!L:M,2,FALSE)," ") | O61: =IFERROR(VLOOKUP(I61,'[1]Feuil1 (2)'!L:M,2,FALSE)," ") | P61: =CONCATENATE(K61," ",L61," ",M61) -> Calcaire massif (dur) ind | Q61: =VLOOKUP(A61,[1]collar!A:I,9,FALSE) -> 1980
A62: 1983 | B62: =IF(A62=A61,C61,0) -> 13 | C62: 15 | E62: 41 | K62: =IFERROR(VLOOKUP(E62,'[1]Feuil1 (2)'!F:G,2,FALSE)," ") -> Calcaire tendre | L62: =IFERROR(VLOOKUP(F62,'[1]Feuil1 (2)'!H:I,2,FALSE)," ") | M62: =IFERROR(VLOOKUP(G62,'[1]Feuil1 (2)'!J:K,2,FALSE)," ") -> ind | N62: =IFERROR(VLOOKUP(H62,'[1]Feuil1 (2)'!L:M,2,FALSE)," ") | O62: =IFERROR(VLOOKUP(I62,'[1]Feuil1 (2)'!L:M,2,FALSE)," ") | P62: =CONCATENATE(K62," ",L62," ",M62) -> Calcaire tendre ind | Q62: =VLOOKUP(A62,[1]collar!A:I,9,FALSE) -> 1980
A63: 1983 | B63: =IF(A63=A62,C62,0) -> 15 | C63: 17 | E63: 42 | F63: 1 | K63: =IFERROR(VLOOKUP(E63,'[1]Feuil1 (2)'!F:G,2,FALSE)," ") -> Marne | L63: =IFERROR(VLOOKUP(F63,'[1]Feuil1 (2)'!H:I,2,FALSE)," ") -> blanc | M63: =IFERROR(VLOOKUP(G63,'[1]Feuil1 (2)'!J:K,2,FALSE)," ") -> ind | N63: =IFERROR(VLOOKUP(H63,'[1]Feuil1 (2)'!L:M,2,FALSE)," ") | O63: =IFERROR(VLOOKUP(I63,'[1]Feuil1 (2)'!L:M,2,FALSE)," ") | P63: =CONCATENATE(K63," ",L63," ",M63) -> Marne blanc ind | Q63: =VLOOKUP(A63,[1]collar!A:I,9,FALSE) -> 1980
A64: 1983 | B64: =IF(A64=A63,C63,0) -> 17 | C64: 21.5 | E64: 10 | K64: =IFERROR(VLOOKUP(E64,'[1]Feuil1 (2)'!F:G,2,FALSE)," ") -> argile | L64: =IFERROR(VLOOKUP(F64,'[1]Feuil1 (2)'!H:I,2,FALSE)," ") | M64: =IFERROR(VLOOKUP(G64,'[1]Feuil1 (2)'!J:K,2,FALSE)," ") -> ind | N64: =IFERROR(VLOOKUP(H64,'[1]Feuil1 (2)'!L:M,2,FALSE)," ") | O64: =IFERROR(VLOOKUP(I64,'[1]Feuil1 (2)'!L:M,2,FALSE)," ") | P64: =CONCATENATE(K64," ",L64," ",M64) -> argile ind | Q64: =VLOOKUP(A64,[1]collar!A:I,9,FALSE) -> 1980
A65: 1983 | B65: =IF(A65=A64,C64,0) -> 21.5 | C65: 23 | E65: 50 | F65: 8 | H65: 24 | K65: =IFERROR(VLOOKUP(E65,'[1]Feuil1 (2)'!F:G,2,FALSE)," ") -> Sable | L65: =IFERROR(VLOOKUP(F65,'[1]Feuil1 (2)'!H:I,2,FALSE)," ") -> noir | M65: =IFERROR(VLOOKUP(G65,'[1]Feuil1 (2)'!J:K,2,FALSE)," ") -> ind | N65: =IFERROR(VLOOKUP(H65,'[1]Feuil1 (2)'!L:M,2,FALSE)," ") -> Lignite (charbon) | O65: =IFERROR(VLOOKUP(I65,'[1]Feuil1 (2)'!L:M,2,FALSE)," ") | P65: =CONCATENATE(K65," ",L65," ",M65) -> Sable noir ind | Q65: =VLOOKUP(A65,[1]collar!A:I,9,FALSE) -> 1980
A66: 1984 | B66: =IF(A66=A65,C65,0) -> 0 | C66: 7 | E66: 31 | K66: =IFERROR(VLOOKUP(E66,'[1]Feuil1 (2)'!F:G,2,FALSE)," ") -> Limon | L66: =IFERROR(VLOOKUP(F66,'[1]Feuil1 (2)'!H:I,2,FALSE)," ") | M66: =IFERROR(VLOOKUP(G66,'[1]Feuil1 (2)'!J:K,2,FALSE)," ") -> ind | N66: =IFERROR(VLOOKUP(H66,'[1]Feuil1 (2)'!L:M,2,FALSE)," ") | O66: =IFERROR(VLOOKUP(I66,'[1]Feuil1 (2)'!L:M,2,FALSE)," ") | P66: =CONCATENATE(K66," ",L66," ",M66) -> Limon ind | Q66: =VLOOKUP(A66,[1]collar!A:I,9,FALSE) -> 1980
A67: 1984 | B67: =IF(A67=A66,C66,0) -> 7 | C67: 10.5 | E67: 41 | K67: =IFERROR(VLOOKUP(E67,'[1]Feuil1 (2)'!F:G,2,FALSE)," ") -> Calcaire tendre | L67: =IFERROR(VLOOKUP(F67,'[1]Feuil1 (2)'!H:I,2,FALSE)," ") | M67: =IFERROR(VLOOKUP(G67,'[1]Feuil1 (2)'!J:K,2,FALSE)," ") -> ind | N67: =IFERROR(VLOOKUP(H67,'[1]Feuil1 (2)'!L:M,2,FALSE)," ") | O67: =IFERROR(VLOOKUP(I67,'[1]Feuil1 (2)'!L:M,2,FALSE)," ") | P67: =CONCATENATE(K67," ",L67," ",M67) -> Calcaire tendre ind | Q67: =VLOOKUP(A67,[1]collar!A:I,9,FALSE) -> 1980
A68: 1984 | B68: =IF(A68=A67,C67,0) -> 10.5 | C68: 15 | E68: 40 | K68: =IFERROR(VLOOKUP(E68,'[1]Feuil1 (2)'!F:G,2,FALSE)," ") -> Calcaire massif (dur) | L68: =IFERROR(VLOOKUP(F68,'[1]Feuil1 (2)'!H:I,2,FALSE)," ") | M68: =IFERROR(VLOOKUP(G68,'[1]Feuil1 (2)'!J:K,2,FALSE)," ") -> ind | N68: =IFERROR(VLOOKUP(H68,'[1]Feuil1 (2)'!L:M,2,FALSE)," ") | O68: =IFERROR(VLOOKUP(I68,'[1]Feuil1 (2)'!L:M,2,FALSE)," ") | P68: =CONCATENATE(K68," ",L68," ",M68) -> Calcaire massif (dur) ind | Q68: =VLOOKUP(A68,[1]collar!A:I,9,FALSE) -> 1980
A69: 1984 | B69: =IF(A69=A68,C68,0) -> 15 | C69: 17 | E69: 42 | F69: 1 | K69: =IFERROR(VLOOKUP(E69,'[1]Feuil1 (2)'!F:G,2,FALSE)," ") -> Marne | L69: =IFERROR(VLOOKUP(F69,'[1]Feuil1 (2)'!H:I,2,FALSE)," ") -> blanc | M69: =IFERROR(VLOOKUP(G69,'[1]Feuil1 (2)'!J:K,2,FALSE)," ") -> ind | N69: =IFERROR(VLOOKUP(H69,'[1]Feuil1 (2)'!L:M,2,FALSE)," ") | O69: =IFERROR(VLOOKUP(I69,'[1]Feuil1 (2)'!L:M,2,FALSE)," ") | P69: =CONCATENATE(K69," ",L69," ",M69) -> Marne blanc ind | Q69: =VLOOKUP(A69,[1]collar!A:I,9,FALSE) -> 1980
A70: 1984 | B70: =IF(A70=A69,C69,0) -> 17 | C70: 21 | E70: 10 | K70: =IFERROR(VLOOKUP(E70,'[1]Feuil1 (2)'!F:G,2,FALSE)," ") -> argile | L70: =IFERROR(VLOOKUP(F70,'[1]Feuil1 (2)'!H:I,2,FALSE)," ") | M70: =IFERROR(VLOOKUP(G70,'[1]Feuil1 (2)'!J:K,2,FALSE)," ") -> ind | N70: =IFERROR(VLOOKUP(H70,'[1]Feuil1 (2)'!L:M,2,FALSE)," ") | O70: =IFERROR(VLOOKUP(I70,'[1]Feuil1 (2)'!L:M,2,FALSE)," ") | P70: =CONCATENATE(K70," ",L70," ",M70) -> argile ind | Q70: =VLOOKUP(A70,[1]collar!A:I,9,FALSE) -> 1980
A71: 1984 | B71: =IF(A71=A70,C70,0) -> 21 | C71: 23 | E71: 51 | K71: =IFERROR(VLOOKUP(E71,'[1]Feuil1 (2)'!F:G,2,FALSE)," ") -> Sable argileux | L71: =IFERROR(VLOOKUP(F71,'[1]Feuil1 (2)'!H:I,2,FALSE)," ") | M71: =IFERROR(VLOOKUP(G71,'[1]Feuil1 (2)'!J:K,2,FALSE)," ") -> ind | N71: =IFERROR(VLOOKUP(H71,'[1]Feuil1 (2)'!L:M,2,FALSE)," ") | O71: =IFERROR(VLOOKUP(I71,'[1]Feuil1 (2)'!L:M,2,FALSE)," ") | P71: =CONCATENATE(K71," ",L71," ",M71) -> Sable argileux ind | Q71: =VLOOKUP(A71,[1]collar!A:I,9,FALSE) -> 1980
A72: 1985 | B72: =IF(A72=A71,C71,0) -> 0 | C72: 6 | E72: 31 | K72: =IFERROR(VLOOKUP(E72,'[1]Feuil1 (2)'!F:G,2,FALSE)," ") -> Limon | L72: =IFERROR(VLOOKUP(F72,'[1]Feuil1 (2)'!H:I,2,FALSE)," ") | M72: =IFERROR(VLOOKUP(G72,'[1]Feuil1 (2)'!J:K,2,FALSE)," ") -> ind | N72: =IFERROR(VLOOKUP(H72,'[1]Feuil1 (2)'!L:M,2,FALSE)," ") | O72: =IFERROR(VLOOKUP(I72,'[1]Feuil1 (2)'!L:M,2,FALSE)," ") | P72: =CONCATENATE(K72," ",L72," ",M72) -> Limon ind | Q72: =VLOOKUP(A72,[1]collar!A:I,9,FALSE) -> 1980
A73: 1985 | B73: =IF(A73=A72,C72,0) -> 6 | C73: 10.5 | E73: 40 | K73: =IFERROR(VLOOKUP(E73,'[1]Feuil1 (2)'!F:G,2,FALSE)," ") -> Calcaire massif (dur) | L73: =IFERROR(VLOOKUP(F73,'[1]Feuil1 (2)'!H:I,2,FALSE)," ") | M73: =IFERROR(VLOOKUP(G73,'[1]Feuil1 (2)'!J:K,2,FALSE)," ") -> ind | N73: =IFERROR(VLOOKUP(H73,'[1]Feuil1 (2)'!L:M,2,FALSE)," ") | O73: =IFERROR(VLOOKUP(I73,'[1]Feuil1 (2)'!L:M,2,FALSE)," ") | P73: =CONCATENATE(K73," ",L73," ",M73) -> Calcaire massif (dur) ind | Q73: =VLOOKUP(A73,[1]collar!A:I,9,FALSE) -> 1980
A74: 1985 | B74: =IF(A74=A73,C73,0) -> 10.5 | C74: 15.5 | E74: 41 | K74: =IFERROR(VLOOKUP(E74,'[1]Feuil1 (2)'!F:G,2,FALSE)," ") -> Calcaire tendre | L74: =IFERROR(VLOOKUP(F74,'[1]Feuil1 (2)'!H:I,2,FALSE)," ") | M74: =IFERROR(VLOOKUP(G74,'[1]Feuil1 (2)'!J:K,2,FALSE)," ") -> ind | N74: =IFERROR(VLOOKUP(H74,'[1]Feuil1 (2)'!L:M,2,FALSE)," ") | O74: =IFERROR(VLOOKUP(I74,'[1]Feuil1 (2)'!L:M,2,FALSE)," ") | P74: =CONCATENATE(K74," ",L74," ",M74) -> Calcaire tendre ind | Q74: =VLOOKUP(A74,[1]collar!A:I,9,FALSE) -> 1980
A75: 1985 | B75: =IF(A75=A74,C74,0) -> 15.5 | C75: 17 | E75: 51 | K75: =IFERROR(VLOOKUP(E75,'[1]Feuil1 (2)'!F:G,2,FALSE)," ") -> Sable argileux | L75: =IFERROR(VLOOKUP(F75,'[1]Feuil1 (2)'!H:I,2,FALSE)," ") | M75: =IFERROR(VLOOKUP(G75,'[1]Feuil1 (2)'!J:K,2,FALSE)," ") -> ind | N75: =IFERROR(VLOOKUP(H75,'[1]Feuil1 (2)'!L:M,2,FALSE)," ") | O75: =IFERROR(VLOOKUP(I75,'[1]Feuil1 (2)'!L:M,2,FALSE)," ") | P75: =CONCATENATE(K75," ",L75," ",M75) -> Sable argileux ind | Q75: =VLOOKUP(A75,[1]collar!A:I,9,FALSE) -> 1980
A76: 1985 | B76: =IF(A76=A75,C75,0) -> 17 | C76: 18.5 | E76: 42 | F76: 1 | K76: =IFERROR(VLOOKUP(E76,'[1]Feuil1 (2)'!F:G,2,FALSE)," ") -> Marne | L76: =IFERROR(VLOOKUP(F76,'[1]Feuil1 (2)'!H:I,2,FALSE)," ") -> blanc | M76: =IFERROR(VLOOKUP(G76,'[1]Feuil1 (2)'!J:K,2,FALSE)," ") -> ind | N76: =IFERROR(VLOOKUP(H76,'[1]Feuil1 (2)'!L:M,2,FALSE)," ") | O76: =IFERROR(VLOOKUP(I76,'[1]Feuil1 (2)'!L:M,2,FALSE)," ") | P76: =CONCATENATE(K76," ",L76," ",M76) -> Marne blanc ind | Q76: =VLOOKUP(A76,[1]collar!A:I,9,FALSE) -> 1980
A77: 1985 | B77: =IF(A77=A76,C76,0) -> 18.5 | C77: 23 | E77: 10 | K77: =IFERROR(VLOOKUP(E77,'[1]Feuil1 (2)'!F:G,2,FALSE)," ") -> argile | L77: =IFERROR(VLOOKUP(F77,'[1]Feuil1 (2)'!H:I,2,FALSE)," ") | M77: =IFERROR(VLOOKUP(G77,'[1]Feuil1 (2)'!J:K,2,FALSE)," ") -> ind | N77: =IFERROR(VLOOKUP(H77,'[1]Feuil1 (2)'!L:M,2,FALSE)," ") | O77: =IFERROR(VLOOKUP(I77,'[1]Feuil1 (2)'!L:M,2,FALSE)," ") | P77: =CONCATENATE(K77," ",L77," ",M77) -> argile ind | Q77: =VLOOKUP(A77,[1]collar!A:I,9,FALSE) -> 1980
A78: 1985 | B78: =IF(A78=A77,C77,0) -> 23 | C78: 24.5 | E78: 10 | H78: 23 | K78: =IFERROR(VLOOKUP(E78,'[1]Feuil1 (2)'!F:G,2,FALSE)," ") -> argile | L78: =IFERROR(VLOOKUP(F78,'[1]Feuil1 (2)'!H:I,2,FALSE)," ") | M78: =IFERROR(VLOOKUP(G78,'[1]Feuil1 (2)'!J:K,2,FALSE)," ") -> ind | N78: =IFERROR(VLOOKUP(H78,'[1]Feuil1 (2)'!L:M,2,FALSE)," ") -> Carbonaté (chaux) | O78: =IFERROR(VLOOKUP(I78,'[1]Feuil1 (2)'!L:M,2,FALSE)," ") | P78: =CONCATENATE(K78," ",L78," ",M78) -> argile ind | Q78: =VLOOKUP(A78,[1]collar!A:I,9,FALSE) -> 1980
A79: 1986 | B79: =IF(A79=A78,C78,0) -> 0 | C79: 6.5 | E79: 31 | K79: =IFERROR(VLOOKUP(E79,'[1]Feuil1 (2)'!F:G,2,FALSE)," ") -> Limon | L79: =IFERROR(VLOOKUP(F79,'[1]Feuil1 (2)'!H:I,2,FALSE)," ") | M79: =IFERROR(VLOOKUP(G79,'[1]Feuil1 (2)'!J:K,2,FALSE)," ") -> ind | N79: =IFERROR(VLOOKUP(H79,'[1]Feuil1 (2)'!L:M,2,FALSE)," ") | O79: =IFERROR(VLOOKUP(I79,'[1]Feuil1 (2)'!L:M,2,FALSE)," ") | P79: =CONCATENATE(K79," ",L79," ",M79) -> Limon ind | Q79: =VLOOKUP(A79,[1]collar!A:I,9,FALSE) -> 1980
A80: 1986 | B80: =IF(A80=A79,C79,0) -> 6.5 | C80: 11.5 | E80: 40 | K80: =IFERROR(VLOOKUP(E80,'[1]Feuil1 (2)'!F:G,2,FALSE)," ") -> Calcaire massif (dur) | L80: =IFERROR(VLOOKUP(F80,'[1]Feuil1 (2)'!H:I,2,FALSE)," ") | M80: =IFERROR(VLOOKUP(G80,'[1]Feuil1 (2)'!J:K,2,FALSE)," ") -> ind | N80: =IFERROR(VLOOKUP(H80,'[1]Feuil1 (2)'!L:M,2,FALSE)," ") | O80: =IFERROR(VLOOKUP(I80,'[1]Feuil1 (2)'!L:M,2,FALSE)," ") | P80: =CONCATENATE(K80," ",L80," ",M80) -> Calcaire massif (dur) ind | Q80: =VLOOKUP(A80,[1]collar!A:I,9,FALSE) -> 1980
A81: 1986 | B81: =IF(A81=A80,C80,0) -> 11.5 | C81: 16 | E81: 41 | K81: =IFERROR(VLOOKUP(E81,'[1]Feuil1 (2)'!F:G,2,FALSE)," ") -> Calcaire tendre | L81: =IFERROR(VLOOKUP(F81,'[1]Feuil1 (2)'!H:I,2,FALSE)," ") | M81: =IFERROR(VLOOKUP(G81,'[1]Feuil1 (2)'!J:K,2,FALSE)," ") -> ind | N81: =IFERROR(VLOOKUP(H81,'[1]Feuil1 (2)'!L:M,2,FALSE)," ") | O81: =IFERROR(VLOOKUP(I81,'[1]Feuil1 (2)'!L:M,2,FALSE)," ") | P81: =CONCATENATE(K81," ",L81," ",M81) -> Calcaire tendre ind | Q81: =VLOOKUP(A81,[1]collar!A:I,9,FALSE) -> 1980
A82: 1986 | B82: =IF(A82=A81,C81,0) -> 16 | C82: 18.5 | E82: 42 | F82: 1 | K82: =IFERROR(VLOOKUP(E82,'[1]Feuil1 (2)'!F:G,2,FALSE)," ") -> Marne | L82: =IFERROR(VLOOKUP(F82,'[1]Feuil1 (2)'!H:I,2,FALSE)," ") -> blanc | M82: =IFERROR(VLOOKUP(G82,'[1]Feuil1 (2)'!J:K,2,FALSE)," ") -> ind | N82: =IFERROR(VLOOKUP(H82,'[1]Feuil1 (2)'!L:M,2,FALSE)," ") | O82: =IFERROR(VLOOKUP(I82,'[1]Feuil1 (2)'!L:M,2,FALSE)," ") | P82: =CONCATENATE(K82," ",L82," ",M82) -> Marne blanc ind | Q82: =VLOOKUP(A82,[1]collar!A:I,9,FALSE) -> 1980
A83: 1986 | B83: =IF(A83=A82,C82,0) -> 18.5 | C83: 26 | E83: 10 | K83: =IFERROR(VLOOKUP(E83,'[1]Feuil1 (2)'!F:G,2,FALSE)," ") -> argile | L83: =IFERROR(VLOOKUP(F83,'[1]Feuil1 (2)'!H:I,2,FALSE)," ") | M83: =IFERROR(VLOOKUP(G83,'[1]Feuil1 (2)'!J:K,2,FALSE)," ") -> ind | N83: =IFERROR(VLOOKUP(H83,'[1]Feuil1 (2)'!L:M,2,FALSE)," ") | O83: =IFERROR(VLOOKUP(I83,'[1]Feuil1 (2)'!L:M,2,FALSE)," ") | P83: =CONCATENATE(K83," ",L83," ",M83) -> argile ind | Q83: =VLOOKUP(A83,[1]collar!A:I,9,FALSE) -> 1980
A84: 1986 | B84: =IF(A84=A83,C83,0) -> 26 | C84: 27.5 | E84: 10 | H84: 23 | K84: =IFERROR(VLOOKUP(E84,'[1]Feuil1 (2)'!F:G,2,FALSE)," ") -> argile | L84: =IFERROR(VLOOKUP(F84,'[1]Feuil1 (2)'!H:I,2,FALSE)," ") | M84: =IFERROR(VLOOKUP(G84,'[1]Feuil1 (2)'!J:K,2,FALSE)," ") -> ind | N84: =IFERROR(VLOOKUP(H84,'[1]Feuil1 (2)'!L:M,2,FALSE)," ") -> Carbonaté (chaux) | O84: =IFERROR(VLOOKUP(I84,'[1]Feuil1 (2)'!L:M,2,FALSE)," ") | P84: =CONCATENATE(K84," ",L84," ",M84) -> argile ind | Q84: =VLOOKUP(A84,[1]collar!A:I,9,FALSE) -> 1980
A85: 1989 | B85: =IF(A85=A84,C84,0) -> 0 | C85: 2 | E85: 31 | K85: =IFERROR(VLOOKUP(E85,'[1]Feuil1 (2)'!F:G,2,FALSE)," ") -> Limon | L85: =IFERROR(VLOOKUP(F85,'[1]Feuil1 (2)'!H:I,2,FALSE)," ") | M85: =IFERROR(VLOOKUP(G85,'[1]Feuil1 (2)'!J:K,2,FALSE)," ") -> ind | N85: =IFERROR(VLOOKUP(H85,'[1]Feuil1 (2)'!L:M,2,FALSE)," ") | O85: =IFERROR(VLOOKUP(I85,'[1]Feuil1 (2)'!L:M,2,FALSE)," ") | P85: =CONCATENATE(K85," ",L85," ",M85) -> Limon ind | Q85: =VLOOKUP(A85,[1]collar!A:I,9,FALSE) -> 1980
A86: 1989 | B86: =IF(A86=A85,C85,0) -> 2 | C86: 3.5 | E86: 31 | K86: =IFERROR(VLOOKUP(E86,'[1]Feuil1 (2)'!F:G,2,FALSE)," ") -> Limon | L86: =IFERROR(VLOOKUP(F86,'[1]Feuil1 (2)'!H:I,2,FALSE)," ") | M86: =IFERROR(VLOOKUP(G86,'[1]Feuil1 (2)'!J:K,2,FALSE)," ") -> ind | N86: =IFERROR(VLOOKUP(H86,'[1]Feuil1 (2)'!L:M,2,FALSE)," ") | O86: =IFERROR(VLOOKUP(I86,'[1]Feuil1 (2)'!L:M,2,FALSE)," ") | P86: =CONCATENATE(K86," ",L86," ",M86) -> Limon ind | Q86: =VLOOKUP(A86,[1]collar!A:I,9,FALSE) -> 1980
A87: 1989 | B87: =IF(A87=A86,C86,0) -> 3.5 | C87: 11 | E87: 42 | K87: =IFERROR(VLOOKUP(E87,'[1]Feuil1 (2)'!F:G,2,FALSE)," ") -> Marne | L87: =IFERROR(VLOOKUP(F87,'[1]Feuil1 (2)'!H:I,2,FALSE)," ") | M87: =IFERROR(VLOOKUP(G87,'[1]Feuil1 (2)'!J:K,2,FALSE)," ") -> ind | N87: =IFERROR(VLOOKUP(H87,'[1]Feuil1 (2)'!L:M,2,FALSE)," ") | O87: =IFERROR(VLOOKUP(I87,'[1]Feuil1 (2)'!L:M,2,FALSE)," ") | P87: =CONCATENATE(K87," ",L87," ",M87) -> Marne ind | Q87: =VLOOKUP(A87,[1]collar!A:I,9,FALSE) -> 1980
A88: 1989 | B88: =IF(A88=A87,C87,0) -> 11 | C88: 14 | E88: 41 | K88: =IFERROR(VLOOKUP(E88,'[1]Feuil1 (2)'!F:G,2,FALSE)," ") -> Calcaire tendre | L88: =IFERROR(VLOOKUP(F88,'[1]Feuil1 (2)'!H:I,2,FALSE)," ") | M88: =IFERROR(VLOOKUP(G88,'[1]Feuil1 (2)'!J:K,2,FALSE)," ") -> ind | N88: =IFERROR(VLOOKUP(H88,'[1]Feuil1 (2)'!L:M,2,FALSE)," ") | O88: =IFERROR(VLOOKUP(I88,'[1]Feuil1 (2)'!L:M,2,FALSE)," ") | P88: =CONCATENATE(K88," ",L88," ",M88) -> Calcaire tendre ind | Q88: =VLOOKUP(A88,[1]collar!A:I,9,FALSE) -> 1980
A89: 1989 | B89: =IF(A89=A88,C88,0) -> 14 | C89: 15 | E89: 40 | K89: =IFERROR(VLOOKUP(E89,'[1]Feuil1 (2)'!F:G,2,FALSE)," ") -> Calcaire massif (dur) | L89: =IFERROR(VLOOKUP(F89,'[1]Feuil1 (2)'!H:I,2,FALSE)," ") | M89: =IFERROR(VLOOKUP(G89,'[1]Feuil1 (2)'!J:K,2,FALSE)," ") -> ind | N89: =IFERROR(VLOOKUP(H89,'[1]Feuil1 (2)'!L:M,2,FALSE)," ") | O89: =IFERROR(VLOOKUP(I89,'[1]Feuil1 (2)'!L:M,2,FALSE)," ") | P89: =CONCATENATE(K89," ",L89," ",M89) -> Calcaire massif (dur) ind | Q89: =VLOOKUP(A89,[1]collar!A:I,9,FALSE) -> 1980
A90: 1989 | B90: =IF(A90=A89,C89,0) -> 15 | C90: 17.5 | E90: 42 | K90: =IFERROR(VLOOKUP(E90,'[1]Feuil1 (2)'!F:G,2,FALSE)," ") -> Marne | L90: =IFERROR(VLOOKUP(F90,'[1]Feuil1 (2)'!H:I,2,FALSE)," ") | M90: =IFERROR(VLOOKUP(G90,'[1]Feuil1 (2)'!J:K,2,FALSE)," ") -> ind | N90: =IFERROR(VLOOKUP(H90,'[1]Feuil1 (2)'!L:M,2,FALSE)," ") | O90: =IFERROR(VLOOKUP(I90,'[1]Feuil1 (2)'!L:M,2,FALSE)," ") | P90: =CONCATENATE(K90," ",L90," ",M90) -> Marne ind | Q90: =VLOOKUP(A90,[1]collar!A:I,9,FALSE) -> 1980
A91: 1989 | B91: =IF(A91=A90,C90,0) -> 17.5 | C91: 23.5 | E91: 10 | K91: =IFERROR(VLOOKUP(E91,'[1]Feuil1 (2)'!F:G,2,FALSE)," ") -> argile | L91: =IFERROR(VLOOKUP(F91,'[1]Feuil1 (2)'!H:I,2,FALSE)," ") | M91: =IFERROR(VLOOKUP(G91,'[1]Feuil1 (2)'!J:K,2,FALSE)," ") -> ind | N91: =IFERROR(VLOOKUP(H91,'[1]Feuil1 (2)'!L:M,2,FALSE)," ") | O91: =IFERROR(VLOOKUP(I91,'[1]Feuil1 (2)'!L:M,2,FALSE)," ") | P91: =CONCATENATE(K91," ",L91," ",M91) -> argile ind | Q91: =VLOOKUP(A91,[1]collar!A:I,9,FALSE) -> 1980
A92: 1989 | B92: =IF(A92=A91,C91,0) -> 23.5 | C92: 26 | E92: 50 | F92: 8 | H92: 24 | K92: =IFERROR(VLOOKUP(E92,'[1]Feuil1 (2)'!F:G,2,FALSE)," ") -> Sable | L92: =IFERROR(VLOOKUP(F92,'[1]Feuil1 (2)'!H:I,2,FALSE)," ") -> noir | M92: =IFERROR(VLOOKUP(G92,'[1]Feuil1 (2)'!J:K,2,FALSE)," ") -> ind | N92: =IFERROR(VLOOKUP(H92,'[1]Feuil1 (2)'!L:M,2,FALSE)," ") -> Lignite (charbon) | O92: =IFERROR(VLOOKUP(I92,'[1]Feuil1 (2)'!L:M,2,FALSE)," ") | P92: =CONCATENATE(K92," ",L92," ",M92) -> Sable noir ind | Q92: =VLOOKUP(A92,[1]collar!A:I,9,FALSE) -> 1980
A93: 1990 | B93: =IF(A93=A92,C92,0) -> 0 | C93: 0.8 | E93: 31 | K93: =IFERROR(VLOOKUP(E93,'[1]Feuil1 (2)'!F:G,2,FALSE)," ") -> Limon | L93: =IFERROR(VLOOKUP(F93,'[1]Feuil1 (2)'!H:I,2,FALSE)," ") | M93: =IFERROR(VLOOKUP(G93,'[1]Feuil1 (2)'!J:K,2,FALSE)," ") -> ind | N93: =IFERROR(VLOOKUP(H93,'[1]Feuil1 (2)'!L:M,2,FALSE)," ") | O93: =IFERROR(VLOOKUP(I93,'[1]Feuil1 (2)'!L:M,2,FALSE)," ") | P93: =CONCATENATE(K93," ",L93," ",M93) -> Limon ind | Q93: =VLOOKUP(A93,[1]collar!A:I,9,FALSE) -> 1980
A94: 1990 | B94: =IF(A94=A93,C93,0) -> 0.8 | C94: 4 | E94: 31 | K94: =IFERROR(VLOOKUP(E94,'[1]Feuil1 (2)'!F:G,2,FALSE)," ") -> Limon | L94: =IFERROR(VLOOKUP(F94,'[1]Feuil1 (2)'!H:I,2,FALSE)," ") | M94: =IFERROR(VLOOKUP(G94,'[1]Feuil1 (2)'!J:K,2,FALSE)," ") -> ind | N94: =IFERROR(VLOOKUP(H94,'[1]Feuil1 (2)'!L:M,2,FALSE)," ") | O94: =IFERROR(VLOOKUP(I94,'[1]Feuil1 (2)'!L:M,2,FALSE)," ") | P94: =CONCATENATE(K94," ",L94," ",M94) -> Limon ind | Q94: =VLOOKUP(A94,[1]collar!A:I,9,FALSE) -> 1980
A95: 1990 | B95: =IF(A95=A94,C94,0) -> 4 | C95: 9.5 | E95: 31 | K95: =IFERROR(VLOOKUP(E95,'[1]Feuil1 (2)'!F:G,2,FALSE)," ") -> Limon | L95: =IFERROR(VLOOKUP(F95,'[1]Feuil1 (2)'!H:I,2,FALSE)," ") | M95: =IFERROR(VLOOKUP(G95,'[1]Feuil1 (2)'!J:K,2,FALSE)," ") -> ind | N95: =IFERROR(VLOOKUP(H95,'[1]Feuil1 (2)'!L:M,2,FALSE)," ") | O95: =IFERROR(VLOOKUP(I95,'[1]Feuil1 (2)'!L:M,2,FALSE)," ") | P95: =CONCATENATE(K95," ",L95," ",M95) -> Limon ind | Q95: =VLOOKUP(A95,[1]collar!A:I,9,FALSE) -> 1980
A96: 1990 | B96: =IF(A96=A95,C95,0) -> 9.5 | C96: 17 | E96: 41 | K96: =IFERROR(VLOOKUP(E96,'[1]Feuil1 (2)'!F:G,2,FALSE)," ") -> Calcaire tendre | L96: =IFERROR(VLOOKUP(F96,'[1]Feuil1 (2)'!H:I,2,FALSE)," ") | M96: =IFERROR(VLOOKUP(G96,'[1]Feuil1 (2)'!J:K,2,FALSE)," ") -> ind | N96: =IFERROR(VLOOKUP(H96,'[1]Feuil1 (2)'!L:M,2,FALSE)," ") | O96: =IFERROR(VLOOKUP(I96,'[1]Feuil1 (2)'!L:M,2,FALSE)," ") | P96: =CONCATENATE(K96," ",L96," ",M96) -> Calcaire tendre ind | Q96: =VLOOKUP(A96,[1]collar!A:I,9,FALSE) -> 1980
A97: 1990 | B97: =IF(A97=A96,C96,0) -> 17 | C97: 18.3 | E97: 42 | F97: 1 | K97: =IFERROR(VLOOKUP(E97,'[1]Feuil1 (2)'!F:G,2,FALSE)," ") -> Marne | L97: =IFERROR(VLOOKUP(F97,'[1]Feuil1 (2)'!H:I,2,FALSE)," ") -> blanc | M97: =IFERROR(VLOOKUP(G97,'[1]Feuil1 (2)'!J:K,2,FALSE)," ") -> ind | N97: =IFERROR(VLOOKUP(H97,'[1]Feuil1 (2)'!L:M,2,FALSE)," ") | O97: =IFERROR(VLOOKUP(I97,'[1]Feuil1 (2)'!L:M,2,FALSE)," ") | P97: =CONCATENATE(K97," ",L97," ",M97) -> Marne blanc ind | Q97: =VLOOKUP(A97,[1]collar!A:I,9,FALSE) -> 1980
A98: 1990 | B98: =IF(A98=A97,C97,0) -> 18.3 | C98: 23.5 | E98: 10 | K98: =IFERROR(VLOOKUP(E98,'[1]Feuil1 (2)'!F:G,2,FALSE)," ") -> argile | L98: =IFERROR(VLOOKUP(F98,'[1]Feuil1 (2)'!H:I,2,FALSE)," ") | M98: =IFERROR(VLOOKUP(G98,'[1]Feuil1 (2)'!J:K,2,FALSE)," ") -> ind | N98: =IFERROR(VLOOKUP(H98,'[1]Feuil1 (2)'!L:M,2,FALSE)," ") | O98: =IFERROR(VLOOKUP(I98,'[1]Feuil1 (2)'!L:M,2,FALSE)," ") | P98: =CONCATENATE(K98," ",L98," ",M98) -> argile ind | Q98: =VLOOKUP(A98,[1]collar!A:I,9,FALSE) -> 1980
A99: 1990 | B99: =IF(A99=A98,C98,0) -> 23.5 | C99: 24.5 | E99: 50 | F99: 8 | H99: 24 | K99: =IFERROR(VLOOKUP(E99,'[1]Feuil1 (2)'!F:G,2,FALSE)," ") -> Sable | L99: =IFERROR(VLOOKUP(F99,'[1]Feuil1 (2)'!H:I,2,FALSE)," ") -> noir | M99: =IFERROR(VLOOKUP(G99,'[1]Feuil1 (2)'!J:K,2,FALSE)," ") -> ind | N99: =IFERROR(VLOOKUP(H99,'[1]Feuil1 (2)'!L:M,2,FALSE)," ") -> Lignite (charbon) | O99: =IFERROR(VLOOKUP(I99,'[1]Feuil1 (2)'!L:M,2,FALSE)," ") | P99: =CONCATENATE(K99," ",L99," ",M99) -> Sable noir ind | Q99: =VLOOKUP(A99,[1]collar!A:I,9,FALSE) -> 1980
A100: 1991 | B100: =IF(A100=A99,C99,0) -> 0 | C100: 0.5 | E100: 31 | K100: =IFERROR(VLOOKUP(E100,'[1]Feuil1 (2)'!F:G,2,FALSE)," ") -> Limon | L100: =IFERROR(VLOOKUP(F100,'[1]Feuil1 (2)'!H:I,2,FALSE)," ") | M100: =IFERROR(VLOOKUP(G100,'[1]Feuil1 (2)'!J:K,2,FALSE)," ") -> ind | N100: =IFERROR(VLOOKUP(H100,'[1]Feuil1 (2)'!L:M,2,FALSE)," ") | O100: =IFERROR(VLOOKUP(I100,'[1]Feuil1 (2)'!L:M,2,FALSE)," ") | P100: =CONCATENATE(K100," ",L100," ",M100) -> Limon ind | Q100: =VLOOKUP(A100,[1]collar!A:I,9,FALSE) -> 1980
A101: 1991 | B101: =IF(A101=A100,C100,0) -> 0.5 | C101: 2.5 | E101: 31 | K101: =IFERROR(VLOOKUP(E101,'[1]Feuil1 (2)'!F:G,2,FALSE)," ") -> Limon | L101: =IFERROR(VLOOKUP(F101,'[1]Feuil1 (2)'!H:I,2,FALSE)," ") | M101: =IFERROR(VLOOKUP(G101,'[1]Feuil1 (2)'!J:K,2,FALSE)," ") -> ind | N101: =IFERROR(VLOOKUP(H101,'[1]Feuil1 (2)'!L:M,2,FALSE)," ") | O101: =IFERROR(VLOOKUP(I101,'[1]Feuil1 (2)'!L:M,2,FALSE)," ") | P101: =CONCATENATE(K101," ",L101," ",M101) -> Limon ind | Q101: =VLOOKUP(A101,[1]collar!A:I,9,FALSE) -> 1980
...

Sheet Sheet3
A1: sondage | B1: from | C1: to | D1: description | E1: type_materiau | F1: couleur_teinte | G1: couleur_intensite | H1: POLLUTIONI | I1: POLLUTIONII | J1: Remarques | K1: date
A2: =CONCATENATE("MTR_R17",'33'!E5) -> MTR_R1733 | B2: ='33'!B25 -> 0 | C2: ='33'!C25 -> 2 | E2: ='33'!G25 -> 11 | F2: ='33'!H25 -> 2 | G2: ='33'!I25 -> 1 | H2: ='33'!J25 -> 0 | I2: ='33'!K25 -> 0 | J2: ='33'!L25 -> 0 | K2: ='33'!L2 -> 41516

Sheet 33
J2: DATE : | L2: 41516
F3: FICHE DESCRIPTIVE SONDAGE
B5: NOM SONDAGE | E5: 33 | H5: X | J5: Y | M5: Z
B6: LIEU-DIT/ CARRIERE | E6: MONTRE
B7: EQUIPE | E7: NATURE R/T) | G7: REMARQUES
B8: DURAND M. | E8: T | G8: Althea geo
B9: FERNANDES L.
B11: TYPE MATERIAU | I11: COULEUR MATERIAU
B12: ARGILES | F12: DECOUVERTURE | I12: TEINTE | J12: INTENSITE | L12: POLLUTION
B13: 10 - argile | F13: 30 - Terre Végétale | I13: 1 - blanc | J13: 0 - indéfinie | L13: 20 - Silex | X13: =LEFT(N13,2) | Y13: =LEFT(O13,2)
B14: 11 - argile peu sableuse | F14: 31 - Limon | I14: 2 - beige | J14: 1 - claire | L14: 21 - Galet | X14: =LEFT(N14,2) | Y14: =LEFT(O14,2)
B15: 12 - argile sableuse | F15: 40 - Calcaire massif (dur) | I15: 3 - jaune | J15: 2 - foncée | L15: 22 - Gravier | X15: =LEFT(N15,2) | Y15: =LEFT(O15,2)
B16: SABLES | F16: 41 - Calcaire tendre | I16: 4 - gris | L16: 23 - Carbonaté (chaux) | X16: =LEFT(N16,2) | Y16: =LEFT(O16,2)
B17: 50 - Sable | F17: 42 - Marne | I17: 5 - brun | L17: 24 - Lignite (charbon) | X17: =LEFT(N17,2) | Y17: =LEFT(O17,2)
B18: 51 - Sable argileux | F18: 43 - Alternance marne-calcaire | I18: 6 - roux | L18: 25 - Pyrite | X18: =LEFT(N18,2) | Y18: =LEFT(O18,2)
B19: 52 - Sable argileux fin | F19: 44 - Induration (quartz) | I19: 7 - marron | L19: 26 - Bois flotté | X19: =LEFT(N19,2) | Y19: =LEFT(O19,2)
B20: 53 - Sable argileux grossier | I20: 8 - noir | L20: 27 -Tâché (+ code coul) | X20: =LEFT(N20,2) | Y20: =LEFT(O20,2)
I21: 9 - kaki | X21: =LEFT(H21,2)
B23: PROF | D23: TYPE SOND | F23: RECUP. en m | G23: TYPE MATER | H23: COULEUR | J23: POLLUTION | L23: REMARQUES
B24: De | C24: à | D24: Destr | E24: Car | H24: Teinte | I24: Intens | J24: I | K24: II
B25: 0 | C25: 2 | G25: 11 | H25: 2 | I25: 1
B26: =C25 -> 2 | C26: 5 | G26: 10 | H26: 5 | I26: 2
B27: =C26 -> 5 | C27: 8 | G27: 10 | H27: 5 | I27: 1 | J27: 24 | L27: très peu charbon
B28: =C27 -> 8 | C28: 9 | G28: 12 | H28: 5 | I28: 1 | J28: 23 | L28: parpaing
B29: =C28 -> 9
B30: =C29 -> 0
B31: =C30 -> 0
B32: =C31 -> 0
B33: =C32 -> 0
B34: =C33 -> 0
B35: =C34 -> 0
B36: =C35 -> 0
B37: =C36 -> 0
B38: =C37 -> 0
B39: =C38 -> 0
B40: =C39 -> 0
... B43: =C42 -> 0

Sheet 32
J2: DATE : | L2: 41516
F3: FICHE DESCRIPTIVE SONDAGE
B5: NOM SONDAGE | E5: 32 | H5: X | J5: Y | M5: Z
B6: LIEU-DIT/ CARRIERE | E6: MONTRE
B7: EQUIPE | E7: NATURE R/T) | G7: REMARQUES
B8: DURAND M. | E8: T | G8: Althea geo
B9: FERNANDES L.
B11: TYPE MATERIAU | I11: COULEUR MATERIAU
B12: ARGILES | F12: DECOUVERTURE | I12: TEINTE | J12: INTENSITE | L12: POLLUTION
B13: 10 - argile | F13: 30 - Terre Végétale | I13: 1 - blanc | J13: 0 - indéfinie | L13: 20 - Silex | X13: =LEFT(N13,2) | Y13: =LEFT(O13,2)
B14: 11 - argile peu sableuse | F14: 31 - Limon | I14: 2 - beige | J14: 1 - claire | L14: 21 - Galet | X14: =LEFT(N14,2) | Y14: =LEFT(O14,2)
B15: 12 - argile sableuse | F15: 40 - Calcaire massif (dur) | I15: 3 - jaune | J15: 2 - foncée | L15: 22 - Gravier | X15: =LEFT(N15,2) | Y15: =LEFT(O15,2)
B16: SABLES | F16: 41 - Calcaire tendre | I16: 4 - gris | L16: 23 - Carbonaté (chaux) | X16: =LEFT(N16,2) | Y16: =LEFT(O16,2)
B17: 50 - Sable | F17: 42 - Marne | I17: 5 - brun | L17: 24 - Lignite (charbon) | X17: =LEFT(N17,2) | Y17: =LEFT(O17,2)
B18: 51 - Sable argileux | F18: 43 - Alternance marne-calcaire | I18: 6 - roux | L18: 25 - Pyrite | X18: =LEFT(N18,2) | Y18: =LEFT(O18,2)
B19: 52 - Sable argileux fin | F19: 44 - Induration (quartz) | I19: 7 - marron | L19: 26 - Bois flotté | X19: =LEFT(N19,2) | Y19: =LEFT(O19,2)
B20: 53 - Sable argileux grossier | I20: 8 - noir | L20: 27 -Tâché (+ code coul) | X20: =LEFT(N20,2) | Y20: =LEFT(O20,2)
I21: 9 - kaki | X21: =LEFT(H21,2)
B23: PROF | D23: TYPE SOND | F23: RECUP. en m | G23: TYPE MATER | H23: COULEUR | J23: POLLUTION | L23: REMARQUES
B24: De | C24: à | D24: Destr | E24: Car | H24: Teinte | I24: Intens | J24: I | K24: II
B25: 0 | C25: 1 | G25: 12 | H25: 2 | I25: 1
B26: =C25 -> 1 | C26: 4 | G26: 10 | H26: 5 | I26: 2
B27: =C26 -> 4 | C27: 5.5 | G27: 10 | H27: 5 | I27: 1 | J27: 27 | L27: 279
B28: =C27 -> 5.5 | C28: 7 | G28: 10 | H28: 9 | L28: bileuse
B29: =C28 -> 7 | C29: 8 | G29: 12 | H29: 4 | I29: 1 | J29: 23 | L29: parpaing
B30: =C29 -> 8
B31: =C30 -> 0
B32: =C31 -> 0
B33: =C32 -> 0
B34: =C33 -> 0
B35: =C34 -> 0
B36: =C35 -> 0
B37: =C36 -> 0
B38: =C37 -> 0
B39: =C38 -> 0
B40: =C39 -> 0
B41: =C40 -> 0
... B43: =C42 -> 0

Sheet 31
J2: DATE : | L2: 41516
F3: FICHE DESCRIPTIVE SONDAGE
B5: NOM SONDAGE | E5: 31 | H5: X | J5: Y | M5: Z
B6: LIEU-DIT/ CARRIERE | E6: MONTRE
B7: EQUIPE | E7: NATURE R/T) | G7: REMARQUES
B8: DURAND M. | E8: T | G8: Althea geo
B9: FERNANDES L.
B11: TYPE MATERIAU | I11: COULEUR MATERIAU
B12: ARGILES | F12: DECOUVERTURE | I12: TEINTE | J12: INTENSITE | L12: POLLUTION
B13: 10 - argile | F13: 30 - Terre Végétale | I13: 1 - blanc | J13: 0 - indéfinie | L13: 20 - Silex | X13: =LEFT(N13,2) | Y13: =LEFT(O13,2)
B14: 11 - argile peu sableuse | F14: 31 - Limon | I14: 2 - beige | J14: 1 - claire | L14: 21 - Galet | X14: =LEFT(N14,2) | Y14: =LEFT(O14,2)
B15: 12 - argile sableuse | F15: 40 - Calcaire massif (dur) | I15: 3 - jaune | J15: 2 - foncée | L15: 22 - Gravier | X15: =LEFT(N15,2) | Y15: =LEFT(O15,2)
B16: SABLES | F16: 41 - Calcaire tendre | I16: 4 - gris | L16: 23 - Carbonaté (chaux) | X16: =LEFT(N16,2) | Y16: =LEFT(O16,2)
B17: 50 - Sable | F17: 42 - Marne | I17: 5 - brun | L17: 24 - Lignite (charbon) | X17: =LEFT(N17,2) | Y17: =LEFT(O17,2)
B18: 51 - Sable argileux | F18: 43 - Alternance marne-calcaire | I18: 6 - roux | L18: 25 - Pyrite | X18: =LEFT(N18,2) | Y18: =LEFT(O18,2)
B19: 52 - Sable argileux fin | F19: 44 - Induration (quartz) | I19: 7 - marron | L19: 26 - Bois flotté | X19: =LEFT(N19,2) | Y19: =LEFT(O19,2)
B20: 53 - Sable argileux grossier | I20: 8 - noir | L20: 27 -Tâché (+ code coul) | X20: =LEFT(N20,2) | Y20: =LEFT(O20,2)
I21: 9 - kaki | X21: =LEFT(H21,2)
B23: PROF | D23: TYPE SOND | F23: RECUP. en m | G23: TYPE MATER | H23: COULEUR | J23: POLLUTION | L23: REMARQUES
B24: De | C24: à | D24: Destr | E24: Car | H24: Teinte | I24: Intens | J24: I | K24: II
B25: 0 | C25: 1.3 | G25: 11 | H25: 2 | I25: 1 | J25: 28 | L25: sable marron
B26: =C25 -> 1.3 | C26: 5 | G26: 10 | H26: 5 | I26: 2
B27: =C26 -> 5 | C27: 7 | G27: 11 | H27: 5 | I27: 2
B28: =C27 -> 7 | C28: 8 | G28: 11 | H28: 9 | J28: 28 | L28: bileuse
B29: =C28 -> 8
B30: =C29 -> 0
B31: =C30 -> 0
B32: =C31 -> 0
B33: =C32 -> 0
B34: =C33 -> 0
B35: =C34 -> 0
B36: =C35 -> 0
B37: =C36 -> 0
B38: =C37 -> 0
B39: =C38 -> 0
B40: =C39 -> 0
... B43: =C42 -> 0

Sheet Log_Sondage_vierge
J2: DATE : | L2: 41373
F3: FICHE DESCRIPTIVE SONDAGE
B5: NOM SONDAGE | H5: X | J5: Y | M5: Z
B6: LIEU-DIT/ CARRIERE
B7: EQUIPE | E7: NATURE R/T) | G7: REMARQUES
B8: DURAND M.
B9: FERNANDES L.
B11: TYPE MATERIAU | I11: COULEUR MATERIAU
B12: ARGILES | F12: DECOUVERTURE | I12: TEINTE | J12: INTENSITE | L12: POLLUTION
B13: 10 - argile | F13: 30 - Terre Végétale | I13: 1 - blanc | J13: 0 - indéfinie | L13: 20 - Silex | X13: =LEFT(N13,2) | Y13: =LEFT(O13,2)
B14: 11 - argile peu sableuse | F14: 31 - Limon | I14: 2 - beige | J14: 1 - claire | L14: 21 - Galet | X14: =LEFT(N14,2) | Y14: =LEFT(O14,2)
B15: 12 - argile sableuse | F15: 40 - Calcaire massif (dur) | I15: 3 - jaune | J15: 2 - foncée | L15: 22 - Gravier | X15: =LEFT(N15,2) | Y15: =LEFT(O15,2)
B16: SABLES | F16: 41 - Calcaire tendre | I16: 4 - gris | L16: 23 - Carbonaté (chaux) | X16: =LEFT(N16,2) | Y16: =LEFT(O16,2)
B17: 50 - Sable | F17: 42 - Marne | I17: 5 - brun | L17: 24 - Lignite (charbon) | X17: =LEFT(N17,2) | Y17: =LEFT(O17,2)
B18: 51 - Sable argileux | F18: 43 - Alternance marne-calcaire | I18: 6 - roux | L18: 25 - Pyrite | X18: =LEFT(N18,2) | Y18: =LEFT(O18,2)
B19: 52 - Sable argileux fin | F19: 44 - Induration (quartz) | I19: 7 - marron | L19: 26 - Bois flotté | X19: =LEFT(N19,2) | Y19: =LEFT(O19,2)
B20: 53 - Sable argileux grossier | I20: 8 - noir | L20: 27 -Tâché (+ code coul) | X20: =LEFT(N20,2) | Y20: =LEFT(O20,2)
I21: 9 - kaki | X21: =LEFT(H21,2)
B23: PROF | D23: TYPE SOND | F23: RECUP. en m | G23: TYPE MATER | H23: COULEUR | J23: POLLUTION | L23: REMARQUES
B24: De | C24: à | D24: Destr | E24: Car | H24: Teinte | I24: Intens | J24: I | K24: II
B25: 0
B26: =C25 -> 0
B27: =C26 -> 0
B28: =C27 -> 0
B29: =C28 -> 0
B30: =C29 -> 0
B31: =C30 -> 0
B32: =C31 -> 0
B33: =C32 -> 0
B34: =C33 -> 0
B35: =C34 -> 0
B36: =C35 -> 0
B37: =C36 -> 0
... B43: =C42 -> 0

Sheet Feuil1
C3: CARRIERES | E3: R
C4: BARONNIE | E4: T | G4: =LEFT(Log_Sondage_vierge!B13,2) -> 10 | I4: =LEFT(Log_Sondage_vierge!I13,2) -> 1 | J4: =LEFT(Log_Sondage_vierge!J13,2) -> 0 | K4: =LEFT(Log_Sondage_vierge!L13,2) -> 20 | L4: =LEFT(Log_Sondage_vierge!M13,2)
C5: CHALAUTRE | G5: =LEFT(Log_Sondage_vierge!B14,2) -> 11 | I5: =LEFT(Log_Sondage_vierge!I14,2) -> 2 | J5: =LEFT(Log_Sondage_vierge!J14,2) -> 1 | K5: =LEFT(Log_Sondage_vierge!L14,2) -> 21 | L5: =LEFT(Log_Sondage_vierge!M14,2)
C6: CORMERON | G6: =LEFT(Log_Sondage_vierge!B15,2) -> 12 | I6: =LEFT(Log_Sondage_vierge!I15,2) -> 3 | J6: =LEFT(Log_Sondage_vierge!J15,2) -> 2 | K6: =LEFT(Log_Sondage_vierge!L15,2) -> 22 | L6: =LEFT(Log_Sondage_vierge!M15,2)
C7: CROIX-GERARD | G7: =LEFT(Log_Sondage_vierge!B17,2) -> 50 | I7: =LEFT(Log_Sondage_vierge!I16,2) -> 4 | J7: =LEFT(Log_Sondage_vierge!J16,2) | K7: =LEFT(Log_Sondage_vierge!L16,2) -> 23 | L7: =LEFT(Log_Sondage_vierge!M16,2)
C8: MARIVAL | G8: =LEFT(Log_Sondage_vierge!B18,2) -> 51 | I8: =LEFT(Log_Sondage_vierge!I17,2) -> 5 | J8: =LEFT(Log_Sondage_vierge!J17,2) | K8: =LEFT(Log_Sondage_vierge!L17,2) -> 24 | L8: =LEFT(Log_Sondage_vierge!M17,2)
C9: MONTBRON | G9: =LEFT(Log_Sondage_vierge!B19,2) -> 52 | I9: =LEFT(Log_Sondage_vierge!I18,2) -> 6 | J9: =LEFT(Log_Sondage_vierge!J18,2) | K9: =LEFT(Log_Sondage_vierge!L18,2) -> 25 | L9: =LEFT(Log_Sondage_vierge!M18,2)
C10: MONTRE | G10: =LEFT(Log_Sondage_vierge!B20,2) -> 53 | I10: =LEFT(Log_Sondage_vierge!I19,2) -> 7 | J10: =LEFT(Log_Sondage_vierge!J19,2) | K10: =LEFT(Log_Sondage_vierge!L19,2) -> 26 | L10: =LEFT(Log_Sondage_vierge!M19,2)
C11: AUTRES | G11: =LEFT(Log_Sondage_vierge!F13,2) -> 30 | H11: =LEFT(Log_Sondage_vierge!C20,2) | I11: =LEFT(Log_Sondage_vierge!I20,2) -> 8 | J11: =LEFT(Log_Sondage_vierge!E20,2) | K11: =LEFT(Log_Sondage_vierge!L20,2) -> 27 | L11: =LEFT(Log_Sondage_vierge!M20,2)
G12: =LEFT(Log_Sondage_vierge!F14,2) -> 31 | H12: =LEFT(Log_Sondage_vierge!C21,2) | I12: =LEFT(Log_Sondage_vierge!I21,2) -> 9 | J12: =LEFT(Log_Sondage_vierge!E21,2) | K12: 28 | L12: =LEFT(Log_Sondage_vierge!G21,2)
G13: =LEFT(Log_Sondage_vierge!F15,2) -> 40
G14: =LEFT(Log_Sondage_vierge!F16,2) -> 41
G15: =LEFT(Log_Sondage_vierge!F17,2) -> 42
G16: =LEFT(Log_Sondage_vierge!F18,2) -> 43
G17: =LEFT(Log_Sondage_vierge!F19,2) -> 44
