Workbook
Name ADRESSE: SASP!#REF!
Name CONTACT: SASP!#REF!
Name FAX: SASP!#REF!
Name FIXE: SASP!#REF!
Name MAILCLIENT: SASP!#REF!
Name NAF: SASP!#REF!
Name SIRET: SASP!#REF!
Name SOCIETE: SASP!#REF!
Name TYPES_D_OFFRES: [1]Feuil2!$A$1:$A$24

Sheet SASP
A1: N° TEL | B1: TYPES D'OFFRES | I1: PRIX UNITAIRE | J1: TOTAL LIGNE
B2: 2 | C2: BUSINESS SMARTPHONE 1 GO √ Appels illimités en France métropolitaine, en itinérance depuis et vers l'UE la suisse et les DOM/COM et en itinérance depuis la Suisse et l'andorre. √ 1 Go d'Internet mobile en France métropolitaine, et en itinérance depuis l'UE, les DOM/COM, Suisse et l'Andorre. • Dont 500 Mo utilisables en itinérance depuis la Suisse et l'Andorre. √ SMS et MMS illimités en France métropolitaine et en itinérance depuis l'UE, les DOM/COM, la Suisse et l'Andorre. | I2: =IF(C2="","",VLOOKUP(C2,PROGRAMATION!$A$1:$B$139,2,0)) -> #VALUE! | J2: =IF(ISERROR(I2*B2),0,I2*B2) -> 0
A3: =(#REF!) -> #REF! | B3: 1 | C3: LIGNE ANALOGIQUE GAMME "AMPLITUDE ILLIMITÉ" - Une ligne analogique classique. - Appels illimités 7j/7 et 24h/24 à destination des postes fixes métropolitains. - Appels illimités 7j/7 et 24h/24 à destination des postes mobiles souscrits auprès de Coriolis Entreprise. - GTR 4 heures. | I3: =IF(C3="","",VLOOKUP(C3,PROGRAMATION!$A$1:$B$139,2,0)) -> #VALUE! | J3: =IF(ISERROR(I3*B3),0,I3*B3) -> 0
A4: =(#REF!) -> #REF! | B4: 1 | C4: BUSINESS SMARTPHONE 30 GO √ Appels illimités en France métropolitaine, en itinérance depuis et vers l'UE la suisse et les DOM/COM et en itinérance depuis la Suisse, l'Andorre, les USA et le Canada. √ Appels illimités depuis la France métropolitaine, vers les fixes et mobiles de l'UE, l'EEA, les DOM/COM, la Suisse, l'Andorre, les USA et le Canada. √ 30 Go d'Internet mobile en France métropolitaine, et en itinérance depuis l'UE, les DOM/COM, Suisse, l'Andorre, les USA et le Canada. • Dont 13 Go utilisables en itinérance depuis l'UE et les DOM/COM. • Dont 5 Go utilisables depuis la Suisse, l'Andorre, les USA et le Cannada. √ SMS et MMS illimités en France métropolitaine et en itinérance depuis l'UE, les DOM/COM, la Suisse, l'Andorre, les USA et le Cannada. | I4: =IF(C4="","",VLOOKUP(C4,PROGRAMATION!$A$1:$B$139,2,0)) -> #VALUE! | J4: =IF(ISERROR(I4*B4),0,I4*B4) -> 0
A5: =(#REF!) -> #REF! | B5: 1 | C5: LIGNE ANALOGIQUE GAMME "AMPLITUDE" - Une ligne analogique classique. - Vos communications vers les fixes nationaux aux tarif de 0,019 € HT. - GTR 4 heures. | I5: =IF(C5="","",VLOOKUP(C5,PROGRAMATION!$A$1:$B$139,2,0)) -> 17.8 | J5: =IF(ISERROR(I5*B5),0,I5*B5) -> 17.8
A6: =(#REF!) -> #REF! | B6: 1 | C6: TRUNK SIP "AU COMPTEUR" - Une ligne fixe avec un appel entrant et un appel sortant. - Appels vers fixes de France 0,016 € HT/min. - Appels vers mobiles de France 0,089 € HT/min. - Facturation à la 1ere seconde. | I6: =IF(C6="","",VLOOKUP(C6,PROGRAMATION!$A$1:$B$139,2,0)) -> 3 | J6: =IF(ISERROR(I6*B6),0,I6*B6) -> 3
A7: =(#REF!) -> #REF! | I7: =IF(C7="","",VLOOKUP(C7,PROGRAMATION!$A$1:$B$139,2,0)) | J7: =IF(ISERROR(I7*B7),0,I7*B7) -> 0
A8: =(#REF!) -> #REF! | I8: =IF(C8="","",VLOOKUP(C8,PROGRAMATION!$A$1:$B$139,2,0)) | J8: =IF(ISERROR(I8*B8),0,I8*B8) -> 0
A9: =(#REF!) -> #REF! | I9: =IF(C9="","",VLOOKUP(C9,PROGRAMATION!$A$1:$B$139,2,0)) | J9: =IF(ISERROR(I9*B9),0,I9*B9) -> 0
A10: =(#REF!) -> #REF! | I10: =IF(C10="","",VLOOKUP(C10,PROGRAMATION!$A$1:$B$139,2,0)) | J10: =IF(ISERROR(I10*B10),0,I10*B10) -> 0
A11: =(#REF!) -> #REF! | I11: =IF(C11="","",VLOOKUP(C11,PROGRAMATION!$A$1:$B$139,2,0)) | J11: =IF(ISERROR(I11*B11),0,I11*B11) -> 0
A12: =(#REF!) -> #REF! | I12: =IF(C12="","",VLOOKUP(C12,PROGRAMATION!$A$1:$B$139,2,0)) | J12: =IF(ISERROR(I12*B12),0,I12*B12) -> 0
A13: =(#REF!) -> #REF! | I13: =IF(C13="","",VLOOKUP(C13,PROGRAMATION!$A$1:$B$139,2,0)) | J13: =IF(ISERROR(I13*B13),0,I13*B13) -> 0
A14: =(#REF!) -> #REF! | I14: =IF(C14="","",VLOOKUP(C14,PROGRAMATION!$A$1:$B$139,2,0)) | J14: =IF(ISERROR(I14*B14),0,I14*B14) -> 0
A15: =(#REF!) -> #REF! | I15: =IF(C15="","",VLOOKUP(C15,PROGRAMATION!$A$1:$B$139,2,0)) | J15: =IF(ISERROR(I15*B15),0,I15*B15) -> 0

Sheet PROGRAMATION
A1: LIGNE ANALOGIQUE GAMME "AMPLITUDE" - Une ligne analogique classique. - Vos communications vers les fixes nationaux aux tarif de 0,019 € HT. - GTR 4 heures. | B1: 17.8 | D1: 1
A2: LIGNE ANALOGIQUE GAMME "AMPLITUDE ILLIMITÉ" - Une ligne analogique classique. - Appels illimités 7j/7 et 24h/24 à destination des postes fixes métropolitains. - Appels illimités 7j/7 et 24h/24 à destination des postes mobiles souscrits auprès de Coriolis Entreprise. - GTR 4 heures. | B2: 27.8 | D2: 2
A3: LIGNE ANALOGIQUE GAMME "PLÉTHORA PLUS" - Une ligne analogique classique. - Appels illimités 7j/7 et 24h/24 à destination des postes fixes métropolitains. - Appels illimités 7j/7 et 24h/24 à destination des postes mobiles - GTR 4 heures. | B3: 29.8 | D3: 3
A4: LIGNE ANALOGIQUE GAMME "PLÉTHORA" - Une ligne analogique classique. - Appels illimités 7j/7 et 24h/24 à destination des postes fixes métropolitains. - Appels illimités 7j/7 et 24h/24 à destination des postes mobiles - GTR 4 heures. | B4: 39.8 | D4: 4
A5: LIGNE NUMÉRIS GAMME "AMPLITUDE" - Une ligne fixe Numéris. - Vos communications aux tarif de 0,019 € HT (Facturation à la seconde). Facturation à la seconde - GTR 4 heures. | B5: 35.6 | D5: 5
A6: LIGNE NUMÉRIS GAMME "AMPLITUDE ILLIMITÉ" - Une ligne fixe numérique avec 2 communications simultanées. - Appels illimités 7j/7 et 24h/24 à destination des postes fixes métropolitains. - Appels illimités 7j/7 et 24h/24 à destination des postes mobiles souscrits auprès de Coriolis Entreprise. - GTR 4 heures. | B6: 39.6 | D6: 6
A7: LIGNE NUMERIS GAMME "PLÉTHORA PLUS" - Une ligne fixe numérique avec 2 communications simultanées. - Appels illimités 7j/7 et 24h/24 à destination des postes fixes métropolitains. - Appels illimités 7j/7 et 24h/24 à destination des postes mobiles - GTR 4 heures. | B7: 59.6 | D7: 7
A8: LIGNE NUMERIS GAMME "PLÉTHORA" - Une ligne fixe numérique avec 2 communications simultanées. - Appels illimités 7j/7 et 24h/24 à destination des postes fixes métropolitains. - Appels illimités 7j/7 et 24h/24 à destination des postes mobiles - GTR 4 heures. | B8: 79.6 | D8: 8
A9: SDA - Sélection directe à l'arrivée | B9: 0.91 | D9: 9
A10: TRUNK SIP "AU COMPTEUR" - Une ligne fixe avec un appel entrant et un appel sortant. - Appels vers fixes de France 0,016 € HT/min. - Appels vers mobiles de France 0,089 € HT/min. - Facturation à la 1ere seconde. | B10: 3 | D10: 10
A11: TRUNK SIP "ILLIMITÉ" - Une ligne fixe avec un appel entrant et un appel sortant. - Appels illimités 7j/7 et 24h/24 à destination des postes fixes métropolitains et 30 destinations. - Appels illimités 7j/7 et 24h/24 à destination des postes mobiles. | B11: 29 | D11: 11
A12: BUSINESS PRÉCISION Un forfait mobileau compteur 0,30 € / min. - SMS et MMS facturé à l'acte. | B12: 10.55 | D12: 12
... A23: BUSINESS SMARTPHONE 30 GO √ Appels illimités en France métropolitaine, en itinérance depuis et vers l'UE la suisse et les DOM/COM et en itinérance depuis la Suisse, l'Andorre, les USA et le Canada. √ Appels illimités depuis la France métropolitaine, vers les fixes et mobiles de l'UE, l'EEA, les DOM/COM, la Suisse, l'Andorre, les USA et le Canada. √ 30 Go d'Internet mobile en France métropolitaine, et en itinérance depuis l'UE, les DOM/COM, Suisse, l'Andorre, les USA et le Canada. • Dont 13 Go utilisables en itinérance depuis l'UE et les DOM/COM. • Dont 5 Go utilisables depuis la Suisse, l'Andorre, les USA et le Cannada. √ SMS et MMS illimités en France métropolitaine et en itinérance depuis l'UE, les DOM/COM, la Suisse, l'Andorre, les USA et le Cannada. | B23: 55.72 | D23: 23
D24: 24
A25: BUSINESS DATA 1 Go - Mails et internet 1 Go de data en France métropolitaine - Fonction modem - Accès au réseau 4G | B25: 12.17 | D25: 25
A26: BUSINESS DATA 1 Go AJUSTABLE - Mails et internet 1 Go ajustable de data en France étropolitaine - Fonction modem - Accès au réseau 4G | B26: 18.26 | D26: 26
A27: BUSINESS DATA 15 Go - Mails et internet 15 Go de data en France étropolitaine - Fonction modem - Accès au réseau 4G | B27: 25.39 | D27: 27
A28: BUSINESS DATA 30 Go LIBERTE - Mails et internet 30 Go de data en France étropolitaine - Fonction modem - Accès au réseau 4G | B28: 72.61 | D28: 28
A29: INTERNET PRO INITIAL Internet jusqu'à 50 méga - Téléphone par Internet avec appels illimités vers les fixes de France métropolitaine et de plus de 100 destinations. - TV d’Orange sur demande - Vos avantages pro dont 10 Go de stockage de données - Location de Livebox | B29: 40 | D29: 29
A30: FIBRE PRO ÉQUILIBRE Internet jusqu'à 200 Mbits/s La nouvelle Livebox Pro - 1 ligne fixe par internet - Appels illimités vers les fixes (France métro et + de 100 destinations) - 2h vers les mobiles (France métro et + de 100 destinations) | B30: 50 | D30: 30
A31: SDSL "Grille Évolution" 512k Mono Paire - Débit symétrique constant. - Fiabilité de la connexion. - GTR 4 Heures. - Frais de mise en service 500 € HT. | B31: 155 | D31: 31
A32: SDSL "Grille Évolution" 512k Bi-Paires - Débit symétrique constant. - Fiabilité de la connexion. - GTR 4 Heures. - Frais de mise en service 500 € HT. | B32: 165 | D32: 32
A33: SDSL "Grille Évolution" 1M Mono Paire - Débit symétrique constant. - Fiabilité de la connexion. - GTR 4 Heures. - Frais de mise en service 500 € HT. | B33: 165 | D33: 33
A34: SDSL "Grille Évolution" 1M Mono Bi-Paires - Débit symétrique constant. - Fiabilité de la connexion. - GTR 4 Heures. - Frais de mise en service 500 € HT. | B34: 175 | D34: 34
A35: SDSL "Grille Évolution" 1M Quadri Paires - Débit symétrique constant. - Fiabilité de la connexion. - GTR 4 Heures. - Frais de mise en service 500 € HT. | B35: 240 | D35: 35
A36: SDSL "Grille Évolution" 2M Mono Paire - Débit symétrique constant. - Fiabilité de la connexion. - GTR 4 Heures. - Frais de mise en service 500 € HT. | B36: 185 | D36: 36
... A41: SDSL "Grille Évolution" 8M Quadri Paires - Débit symétrique constant. - Fiabilité de la connexion. - GTR 4 Heures. - Frais de mise en service 500 € HT. | B41: 770 | D41: 41
D42: 42
D43: 43
D44: 44
D45: 45
D46: 46
D47: 47
D48: 48
D49: 49
D50: 50
D51: 51
D52: 52
D53: 53
... D100: 100
