Workbook

Sheet Classements
A1: Minicrap' 2019 | G1: Points | H1: Minis | I1: Moustiques | J1: Poussi | K1: Benji
A2: Dossard | B2: Place | C2: Nom | D2: Prénom | E2: catégorie | F2: village | L2: bonus caté | M2: total points
A3: 64 | B3: 1 | C3: =VLOOKUP(A3,Inscrits!$A$1:$F$31,2,) -> Karr | D3: =VLOOKUP(A3,Inscrits!$A$1:$F$31,3,) -> Otto | E3: =VLOOKUP(A3,Inscrits!$A$1:$F$31,5,) -> moustiques | F3: =VLOOKUP(A3,Inscrits!$A$1:$F$31,6,) -> melz | G3: 3 | I3: 1 | L3: 3 | M3: =SUM(L3+G3) -> 6
A4: 66 | B4: 2 | C4: =VLOOKUP(A4,Inscrits!$A$1:$F$31,2,) -> lepouletdanslefrigo | D4: =VLOOKUP(A4,Inscrits!$A$1:$F$31,3,) -> Jeremy | E4: =VLOOKUP(A4,Inscrits!$A$1:$F$31,5,) -> moustiques | F4: =VLOOKUP(A4,Inscrits!$A$1:$F$31,6,) -> donnemarie | G4: 3 | I4: 2 | L4: 2 | M4: =SUM(L4+G4) -> 5
A5: 63 | B5: 3 | C5: =VLOOKUP(A5,Inscrits!$A$1:$F$31,2,) -> menvusa | D5: =VLOOKUP(A5,Inscrits!$A$1:$F$31,3,) -> gerard | E5: =VLOOKUP(A5,Inscrits!$A$1:$F$31,5,) -> benjis | F5: =VLOOKUP(A5,Inscrits!$A$1:$F$31,6,) -> gouaix | G5: 3 | K5: 1 | L5: 3 | M5: =SUM(L5+G5) -> 6
A6: 69 | B6: 4 | C6: =VLOOKUP(A6,Inscrits!$A$1:$F$31,2,) -> Bonneau | D6: =VLOOKUP(A6,Inscrits!$A$1:$F$31,3,) -> Jean | E6: =VLOOKUP(A6,Inscrits!$A$1:$F$31,5,) -> moustiques | F6: =VLOOKUP(A6,Inscrits!$A$1:$F$31,6,) -> hermé | G6: 3 | I6: 3 | L6: 1 | M6: =SUM(L6+G6) -> 4
A7: 67 | B7: 5 | C7: =VLOOKUP(A7,Inscrits!$A$1:$F$31,2,) -> tart | D7: =VLOOKUP(A7,Inscrits!$A$1:$F$31,3,) -> pion pion | E7: =VLOOKUP(A7,Inscrits!$A$1:$F$31,5,) -> minis | F7: =VLOOKUP(A7,Inscrits!$A$1:$F$31,6,) -> donnemarie | G7: 2 | H7: 1 | L7: 3 | M7: =SUM(L7+G7) -> 5
A8: 62 | B8: 6 | C8: =VLOOKUP(A8,Inscrits!$A$1:$F$31,2,) -> ochon | D8: =VLOOKUP(A8,Inscrits!$A$1:$F$31,3,) -> paul | E8: =VLOOKUP(A8,Inscrits!$A$1:$F$31,5,) -> poussis | F8: =VLOOKUP(A8,Inscrits!$A$1:$F$31,6,) -> melz | G8: 2 | J8: 1 | L8: 3 | M8: =SUM(L8+G8) -> 5
A9: 68 | B9: 7 | C9: =VLOOKUP(A9,Inscrits!$A$1:$F$31,2,) -> martin | D9: =VLOOKUP(A9,Inscrits!$A$1:$F$31,3,) -> tinmarre | E9: =VLOOKUP(A9,Inscrits!$A$1:$F$31,5,) -> poussis | F9: =VLOOKUP(A9,Inscrits!$A$1:$F$31,6,) -> melz | G9: 2 | J9: 2 | L9: 2 | M9: =SUM(L9+G9) -> 4
A10: 65 | B10: 8 | C10: =VLOOKUP(A10,Inscrits!$A$1:$F$31,2,) -> Aymard | D10: =VLOOKUP(A10,Inscrits!$A$1:$F$31,3,) -> Jean | E10: =VLOOKUP(A10,Inscrits!$A$1:$F$31,5,) -> moustiques | F10: =VLOOKUP(A10,Inscrits!$A$1:$F$31,6,) -> gouaix | G10: 2 | I10: 4 | L10: 0 | M10: =SUM(L10+G10) -> 2
A11: 70 | B11: 9 | C11: =VLOOKUP(A11,Inscrits!$A$1:$F$31,2,) -> plusunfontdeux | D11: =VLOOKUP(A11,Inscrits!$A$1:$F$31,3,) -> Quentin | E11: =VLOOKUP(A11,Inscrits!$A$1:$F$31,5,) -> moustiques | F11: =VLOOKUP(A11,Inscrits!$A$1:$F$31,6,) -> Chalmaison | G11: 1 | I11: 5 | L11: 0 | M11: =SUM(L11+G11) -> 1
A12: 71 | B12: 10 | C12: =VLOOKUP(A12,Inscrits!$A$1:$F$31,2,) -> Ozéclats | D12: =VLOOKUP(A12,Inscrits!$A$1:$F$31,3,) -> Thierry | E12: =VLOOKUP(A12,Inscrits!$A$1:$F$31,5,) -> benjis | F12: =VLOOKUP(A12,Inscrits!$A$1:$F$31,6,) -> Augers | G12: 1 | K12: 2 | L12: 2 | M12: =SUM(L12+G12) -> 3
A13: 72 | B13: 11 | C13: =VLOOKUP(A13,Inscrits!$A$1:$F$31,2,) -> Sidault | D13: =VLOOKUP(A13,Inscrits!$A$1:$F$31,3,) -> Lola | E13: =VLOOKUP(A13,Inscrits!$A$1:$F$31,5,) -> poussis | F13: =VLOOKUP(A13,Inscrits!$A$1:$F$31,6,) -> Augers | G13: 1 | J13: 3 | L13: 1 | M13: =SUM(L13+G13) -> 2
A14: 73 | B14: 12 | C14: =VLOOKUP(A14,Inscrits!$A$1:$F$31,2,) -> Laurent | D14: =VLOOKUP(A14,Inscrits!$A$1:$F$31,3,) -> Jade | E14: =VLOOKUP(A14,Inscrits!$A$1:$F$31,5,) -> poussis | F14: =VLOOKUP(A14,Inscrits!$A$1:$F$31,6,) -> Melz | G14: 1 | J14: 4 | M14: =SUM(L14+G14) -> 1

Sheet Inscrits
A1: dossards | B1: Nom | C1: Prénom | D1: age | E1: caté | F1: Village
A2: 62 | B2: ochon | C2: paul | D2: 11 | E2: =VLOOKUP(D2,caté!$A$1:$B$7,2,) -> poussis | F2: melz
A3: 63 | B3: menvusa | C3: gerard | D3: 12 | E3: =VLOOKUP(D3,caté!$A$1:$B$7,2,) -> benjis | F3: gouaix
A4: 64 | B4: Karr | C4: Otto | D4: 8 | E4: =VLOOKUP(D4,caté!$A$1:$B$7,2,) -> moustiques | F4: melz
A5: 65 | B5: Aymard | C5: Jean | D5: 9 | E5: =VLOOKUP(D5,caté!$A$1:$B$7,2,) -> moustiques | F5: gouaix
A6: 66 | B6: lepouletdanslefrigo | C6: Jeremy | D6: 9 | E6: =VLOOKUP(D6,caté!$A$1:$B$7,2,) -> moustiques | F6: donnemarie
A7: 67 | B7: tart | C7: pion pion | D7: 7 | E7: =VLOOKUP(D7,caté!$A$1:$B$7,2,) -> minis | F7: donnemarie
A8: 68 | B8: martin | C8: tinmarre | D8: 10 | E8: =VLOOKUP(D8,caté!$A$1:$B$7,2,) -> poussis | F8: melz
A9: 69 | B9: Bonneau | C9: Jean | D9: 9 | E9: =VLOOKUP(D9,caté!$A$1:$B$7,2,) -> moustiques | F9: hermé
A10: 70 | B10: plusunfontdeux | C10: Quentin | D10: 8 | E10: =VLOOKUP(D10,caté!$A$1:$B$7,2,) -> moustiques | F10: Chalmaison
A11: 71 | B11: Ozéclats | C11: Thierry | D11: 12 | E11: =VLOOKUP(D11,caté!$A$1:$B$7,2,) -> benjis | F11: Augers
A12: 72 | B12: Sidault | C12: Lola | D12: 11 | E12: =VLOOKUP(D12,caté!$A$1:$B$7,2,) -> poussis | F12: Augers
A13: 73 | B13: Laurent | C13: Jade | D13: 11 | E13: =VLOOKUP(D13,caté!$A$1:$B$7,2,) -> poussis | F13: Melz
A14: 74 | E14: =VLOOKUP(D14,caté!$A$1:$B$7,2,) -> #N/A
A15: 75 | E15: =VLOOKUP(D15,caté!$A$1:$B$7,2,) -> #N/A
A16: 76 | E16: =VLOOKUP(D16,caté!$A$1:$B$7,2,) -> #N/A
A17: 77 | E17: #N/A
A18: 78 | E18: #N/A
A19: 79 | E19: #N/A
A20: 80 | E20: #N/A
A21: 81 | E21: #N/A
A22: 82 | E22: #N/A
A23: 83 | E23: #N/A
A24: 84 | E24: #N/A
A25: 85 | E25: #N/A
A26: 86 | E26: #N/A
A27: 87
A28: 88
A29: 89
A30: 90
A31: 91

Sheet caté
A1: 6 | B1: minis
A2: 7 | B2: minis
A3: 8 | B3: moustiques
A4: 9 | B4: moustiques
A5: 10 | B5: poussis
A6: 11 | B6: poussis
A7: 12 | B7: benjis
