Workbook

Sheet Resource Requirements
A1: Type | B1: Project | C1: Resource Type | D1: Effort(hours) | E1: 42741 | F1: =E1+7 -> 42748 | G1: =F1+7 -> 42755 | H1: =G1+7 -> 42762 | I1: =H1+7 -> 42769 | J1: =I1+7 -> 42776 | K1: =J1+7 -> 42783 | L1: =K1+7 -> 42790 | M1: =L1+7 -> 42797 | ... BD1: =BC1+7 -> 43098 | BG1: Type | BH1: Project | BI1: Resource Type | BJ1: Effort(hours) | BK1: 42741 | BL1: =BK1+7 -> 42748 | BM1: =BL1+7 -> 42755 | BN1: =BM1+7 -> 42762 | BO1: =BN1+7 -> 42769 | BP1: =BO1+7 -> 42776 | BQ1: =BP1+7 -> 42783 | BR1: =BQ1+7 -> 42790 | BS1: =BR1+7 -> 42797 | ... DJ1: =DI1+7 -> 43098
A2: G$ | B2: Project 1 | C2: Resource 1 | D2: =SUM(E2:AZ2) -> 160 | AM2: 40 | AN2: 40 | AO2: 40 | AP2: 20 | AQ2: 20 | BG2: P/B | BH2: Pool | BI2: Resource 1 | BJ2: =SUM(BK2:DF2) -> 105 | CS2: 1 | CT2: 2 | CU2: 3 | CV2: 4 | CW2: 5 | CX2: 6 | CY2: 7 | CZ2: 8 | DA2: 9 | DB2: 10 | DC2: 11 | DD2: 12 | DE2: 13 | DF2: 14 | DG2: 15 | DH2: 16 | DI2: 17 | DJ2: 18
A3: G$ | B3: Project 2 | C3: Resource 2 | D3: =SUM(E3:AZ3) -> 196 | AM3: 14 | AN3: 14 | AO3: 14 | AP3: 14 | AQ3: 14 | AR3: 14 | AS3: 14 | AT3: 14 | AU3: 14 | AV3: 14 | AW3: 14 | AX3: 14 | AY3: 14 | AZ3: 14 | BA3: 14 | BB3: 14 | BC3: 14 | BD3: 14 | BG3: P/B | BH3: Pool | BI3: Resource 2 | BJ3: =SUM(BK3:DF3) -> 105 | CS3: 1 | CT3: 2 | CU3: 3 | CV3: 4 | CW3: 5 | CX3: 6 | CY3: 7 | CZ3: 8 | DA3: 9 | DB3: 10 | DC3: 11 | DD3: 12 | DE3: 13 | DF3: 14 | DG3: 15 | DH3: 16 | DI3: 17 | DJ3: 18
A4: G$ | B4: Project 3 | C4: Resource 3 | D4: =SUM(E4:AZ4) -> 60 | AM4: 10 | AN4: 10 | AO4: 10 | AP4: 5 | AQ4: 5 | AR4: 20 | BG4: P/B | BH4: Pool | BI4: Resource 3 | BJ4: =SUM(BK4:DF4) -> 105 | CS4: 1 | CT4: 2 | CU4: 3 | CV4: 4 | CW4: 5 | CX4: 6 | CY4: 7 | CZ4: 8 | DA4: 9 | DB4: 10 | DC4: 11 | DD4: 12 | DE4: 13 | DF4: 14 | DG4: 15 | DH4: 16 | DI4: 17 | DJ4: 18
A5: G$ | B5: Project 4 | C5: Resource 4 | D5: =SUM(E5:AZ5) -> 24 | AM5: 4 | AN5: 4 | AO5: 4 | AP5: 4 | AQ5: 4 | AR5: 4 | BG5: P/B | BH5: Pool | BI5: Resource 4 | BJ5: =SUM(BK5:DF5) -> 105 | CS5: 1 | CT5: 2 | CU5: 3 | CV5: 4 | CW5: 5 | CX5: 6 | CY5: 7 | CZ5: 8 | DA5: 9 | DB5: 10 | DC5: 11 | DD5: 12 | DE5: 13 | DF5: 14 | DG5: 15 | DH5: 16 | DI5: 17 | DJ5: 18
A6: G$ | B6: Project 5 | C6: Resource 5 | D6: =SUM(E6:AZ6) -> 36 | AM6: 6 | AN6: 6 | AO6: 6 | AP6: 6 | AQ6: 6 | AR6: 6 | BG6: P/B | BH6: Pool | BI6: Resource 5 | BJ6: =SUM(BK6:DF6) -> 105 | CS6: 1 | CT6: 2 | CU6: 3 | CV6: 4 | CW6: 5 | CX6: 6 | CY6: 7 | CZ6: 8 | DA6: 9 | DB6: 10 | DC6: 11 | DD6: 12 | DE6: 13 | DF6: 14 | DG6: 15 | DH6: 16 | DI6: 17 | DJ6: 18
A7: G$ | B7: Project 6 | C7: Resource 6 | D7: =SUM(E7:AZ7) -> 80 | AO7: 16 | AP7: 16 | AQ7: 16 | AR7: 16 | AS7: 16 | BG7: P/B | BH7: Pool | BI7: Resource 6 | BJ7: =SUM(BK7:DF7) -> 105 | CS7: 1 | CT7: 2 | CU7: 3 | CV7: 4 | CW7: 5 | CX7: 6 | CY7: 7 | CZ7: 8 | DA7: 9 | DB7: 10 | DC7: 11 | DD7: 12 | DE7: 13 | DF7: 14 | DG7: 15 | DH7: 16 | DI7: 17 | DJ7: 18
A8: G$ | B8: Project 7 | C8: Resource 7 | D8: =SUM(E8:AZ8) -> 0 | BG8: P/B | BH8: Pool | BI8: Resource 7 | BJ8: =SUM(BK8:DF8) -> 105 | CS8: 1 | CT8: 2 | CU8: 3 | CV8: 4 | CW8: 5 | CX8: 6 | CY8: 7 | CZ8: 8 | DA8: 9 | DB8: 10 | DC8: 11 | DD8: 12 | DE8: 13 | DF8: 14 | DG8: 15 | DH8: 16 | DI8: 17 | DJ8: 18
A9: G$ | B9: Project 8 | C9: Resource 8 | D9: =SUM(E9:AZ9) -> 205 | AM9: 35 | AN9: 35 | AO9: 35 | AP9: 40 | AQ9: 40 | AR9: 20 | BG9: P/B | BH9: Pool | BI9: Resource 8 | BJ9: =SUM(BK9:DF9) -> 105 | CS9: 1 | CT9: 2 | CU9: 3 | CV9: 4 | CW9: 5 | CX9: 6 | CY9: 7 | CZ9: 8 | DA9: 9 | DB9: 10 | DC9: 11 | DD9: 12 | DE9: 13 | DF9: 14 | DG9: 15 | DH9: 16 | DI9: 17 | DJ9: 18
A10: G$ | B10: Project 9 | C10: Resource 9 | D10: =SUM(E10:AZ10) -> 60 | AM10: 20 | AN10: 20 | AO10: 20 | BG10: P/B | BH10: Pool | BI10: Resource 9 | BJ10: =SUM(BK10:DF10) -> 105 | CS10: 1 | CT10: 2 | CU10: 3 | CV10: 4 | CW10: 5 | CX10: 6 | CY10: 7 | CZ10: 8 | DA10: 9 | DB10: 10 | DC10: 11 | DD10: 12 | DE10: 13 | DF10: 14 | DG10: 15 | DH10: 16 | DI10: 17 | DJ10: 18
A11: G$ | B11: Project 10 | C11: Resource 10 | D11: =SUM(E11:AZ11) -> 182 | AM11: 8 | AN11: 24 | AO11: 24 | AP11: 24 | AQ11: 16 | AR11: 16 | AS11: 10 | AT11: 10 | AU11: 10 | AV11: 10 | AW11: 10 | AX11: 10 | AY11: 10 | BG11: P/B | BH11: Pool | BI11: Resource 10 | BJ11: =SUM(BK11:DF11) -> 105 | CS11: 1 | CT11: 2 | CU11: 3 | CV11: 4 | CW11: 5 | CX11: 6 | CY11: 7 | CZ11: 8 | DA11: 9 | DB11: 10 | DC11: 11 | DD11: 12 | DE11: 13 | DF11: 14 | DG11: 15 | DH11: 16 | DI11: 17 | DJ11: 18
A12: G$ | B12: Project 11 | C12: Resource 11 | D12: =SUM(E12:AZ12) -> 302 | AM12: 4 | AN12: 4 | AO12: 8 | AP12: 16 | AQ12: 30 | AR12: 30 | AS12: 30 | AT12: 30 | AU12: 30 | AV12: 30 | AW12: 30 | AX12: 30 | AY12: 30 | BG12: P/B | BH12: Pool | BI12: Resource 11 | BJ12: =SUM(BK12:DF12) -> 105 | CS12: 1 | CT12: 2 | CU12: 3 | CV12: 4 | CW12: 5 | CX12: 6 | CY12: 7 | CZ12: 8 | DA12: 9 | DB12: 10 | DC12: 11 | DD12: 12 | DE12: 13 | DF12: 14 | DG12: 15 | DH12: 16 | DI12: 17 | DJ12: 18
A13: G$ | B13: Project 12 | C13: Resource 12 | D13: =SUM(E13:AZ13) -> 26 | AM13: 10 | AN13: 8 | AO13: 8 | BG13: P/B | BH13: Pool | BI13: Resource 12 | BJ13: =SUM(BK13:DF13) -> 105 | CS13: 1 | CT13: 2 | CU13: 3 | CV13: 4 | CW13: 5 | CX13: 6 | CY13: 7 | CZ13: 8 | DA13: 9 | DB13: 10 | DC13: 11 | DD13: 12 | DE13: 13 | DF13: 14 | DG13: 15 | DH13: 16 | DI13: 17 | DJ13: 18
A14: G$ | B14: Project 13 | C14: Resource 13 | D14: =SUM(E14:AZ14) -> 150 | AV14: 30 | AW14: 30 | AX14: 30 | AY14: 30 | AZ14: 30 | BA14: 20 | BB14: 10 | BG14: P/B | BH14: Pool | BI14: Resource 13 | BJ14: =SUM(BK14:DF14) -> 105 | CS14: 1 | CT14: 2 | CU14: 3 | CV14: 4 | CW14: 5 | CX14: 6 | CY14: 7 | CZ14: 8 | DA14: 9 | DB14: 10 | DC14: 11 | DD14: 12 | DE14: 13 | DF14: 14 | DG14: 15 | DH14: 16 | DI14: 17 | DJ14: 18
A15: G$ | B15: Project 14 | C15: Resource 14 | D15: =SUM(E15:AZ15) -> 0 | BG15: P/B | BH15: Pool | BI15: Resource 14 | BJ15: =SUM(BK15:DF15) -> 105 | CS15: 1 | CT15: 2 | CU15: 3 | CV15: 4 | CW15: 5 | CX15: 6 | CY15: 7 | CZ15: 8 | DA15: 9 | DB15: 10 | DC15: 11 | DD15: 12 | DE15: 13 | DF15: 14 | DG15: 15 | DH15: 16 | DI15: 17 | DJ15: 18
A16: G$ | B16: Project 15 | C16: Resource 15 | D16: =SUM(E16:AZ16) -> 0 | BG16: P/B | BH16: Pool | BI16: Resource 15 | BJ16: =SUM(BK16:DF16) -> 105 | CS16: 1 | CT16: 2 | CU16: 3 | CV16: 4 | CW16: 5 | CX16: 6 | CY16: 7 | CZ16: 8 | DA16: 9 | DB16: 10 | DC16: 11 | DD16: 12 | DE16: 13 | DF16: 14 | DG16: 15 | DH16: 16 | DI16: 17 | DJ16: 18
A17: G$ | B17: Project 16 | C17: Resource 16 | D17: =SUM(E17:AZ17) -> 288 | AM17: 12 | AN17: 12 | AO17: 12 | AP17: 10 | AQ17: 10 | AR17: 16 | AS17: 20 | AT17: 28 | AU17: 28 | AV17: 28 | AW17: 28 | AX17: 28 | AY17: 28 | AZ17: 28 | BA17: 28 | BB17: 28 | BC17: 28 | BD17: 28 | BG17: P/B | BH17: Pool | BI17: Resource 16 | BJ17: =SUM(BK17:DF17) -> 105 | CS17: 1 | CT17: 2 | CU17: 3 | CV17: 4 | CW17: 5 | CX17: 6 | CY17: 7 | CZ17: 8 | DA17: 9 | DB17: 10 | DC17: 11 | DD17: 12 | DE17: 13 | DF17: 14 | DG17: 15 | DH17: 16 | DI17: 17 | DJ17: 18
A18: G$ | B18: Project 17 | C18: Resource 17 | D18: =SUM(E18:AZ18) -> 224 | AM18: 16 | AN18: 16 | AO18: 16 | AP18: 16 | AQ18: 16 | AR18: 16 | AS18: 16 | AT18: 16 | AU18: 16 | AV18: 16 | AW18: 16 | AX18: 16 | AY18: 16 | AZ18: 16 | BA18: 16 | BB18: 16 | BC18: 16 | BD18: 16 | BG18: P/B | BH18: Pool | BI18: Resource 17 | BJ18: =SUM(BK18:DF18) -> 105 | CS18: 1 | CT18: 2 | CU18: 3 | CV18: 4 | CW18: 5 | CX18: 6 | CY18: 7 | CZ18: 8 | DA18: 9 | DB18: 10 | DC18: 11 | DD18: 12 | DE18: 13 | DF18: 14 | DG18: 15 | DH18: 16 | DI18: 17 | DJ18: 18
A19: G$ | B19: Project 18 | C19: Resource 18 | D19: =SUM(E19:AZ19) -> 616 | AM19: 44 | AN19: 44 | AO19: 44 | AP19: 44 | AQ19: 44 | AR19: 44 | AS19: 44 | AT19: 44 | AU19: 44 | AV19: 44 | AW19: 44 | AX19: 44 | AY19: 44 | AZ19: 44 | BA19: 44 | BB19: 44 | BC19: 44 | BD19: 44 | BG19: P/B | BH19: Pool | BI19: Resource 18 | BJ19: =SUM(BK19:DF19) -> 105 | CS19: 1 | CT19: 2 | CU19: 3 | CV19: 4 | CW19: 5 | CX19: 6 | CY19: 7 | CZ19: 8 | DA19: 9 | DB19: 10 | DC19: 11 | DD19: 12 | DE19: 13 | DF19: 14 | DG19: 15 | DH19: 16 | DI19: 17 | DJ19: 18
A20: G$ | B20: Project 19 | C20: Resource 19 | D20: =SUM(E20:AZ20) -> 3 | AM20: 1 | AN20: 1 | AO20: 1 | BG20: P/B | BH20: Pool | BI20: Resource 19 | BJ20: =SUM(BK20:DF20) -> 105 | CS20: 1 | CT20: 2 | CU20: 3 | CV20: 4 | CW20: 5 | CX20: 6 | CY20: 7 | CZ20: 8 | DA20: 9 | DB20: 10 | DC20: 11 | DD20: 12 | DE20: 13 | DF20: 14 | DG20: 15 | DH20: 16 | DI20: 17 | DJ20: 18
A21: G$ | B21: Project 20 | C21: Resource 20 | D21: =SUM(E21:AZ21) -> 6 | AM21: 2 | AN21: 2 | AO21: 2 | BG21: P/B | BH21: Pool | BI21: Resource 20 | BJ21: =SUM(BK21:DF21) -> 105 | CS21: 1 | CT21: 2 | CU21: 3 | CV21: 4 | CW21: 5 | CX21: 6 | CY21: 7 | CZ21: 8 | DA21: 9 | DB21: 10 | DC21: 11 | DD21: 12 | DE21: 13 | DF21: 14 | DG21: 15 | DH21: 16 | DI21: 17 | DJ21: 18
A22: G$ | B22: Project 21 | C22: Resource 21 | AM22: 2 | AN22: 2 | AO22: 2 | BG22: P/B | BH22: Pool | BI22: Resource 21 | BJ22: =SUM(BK22:DF22) -> 105 | CS22: 1 | CT22: 2 | CU22: 3 | CV22: 4 | CW22: 5 | CX22: 6 | CY22: 7 | CZ22: 8 | DA22: 9 | DB22: 10 | DC22: 11 | DD22: 12 | DE22: 13 | DF22: 14 | DG22: 15 | DH22: 16 | DI22: 17 | DJ22: 18
A23: G$ | B23: Project 22 | C23: Resource 22 | D23: =SUM(E23:AZ23) -> 36 | AM23: 10 | AN23: 10 | AO23: 8 | AP23: 8 | BG23: P/B | BH23: Pool | BI23: Resource 22 | BJ23: =SUM(BK23:DF23) -> 105 | CS23: 1 | CT23: 2 | CU23: 3 | CV23: 4 | CW23: 5 | CX23: 6 | CY23: 7 | CZ23: 8 | DA23: 9 | DB23: 10 | DC23: 11 | DD23: 12 | DE23: 13 | DF23: 14 | DG23: 15 | DH23: 16 | DI23: 17 | DJ23: 18
A24: G$ | B24: Project 23 | C24: Resource 23 | D24: =SUM(E24:AZ24) -> 8 | AM24: 2 | AN24: 2 | AQ24: 4 | BG24: P/B | BH24: Pool | BI24: Resource 23 | BJ24: =SUM(BK24:DF24) -> 105 | CS24: 1 | CT24: 2 | CU24: 3 | CV24: 4 | CW24: 5 | CX24: 6 | CY24: 7 | CZ24: 8 | DA24: 9 | DB24: 10 | DC24: 11 | DD24: 12 | DE24: 13 | DF24: 14 | DG24: 15 | DH24: 16 | DI24: 17 | DJ24: 18
A25: G$ | B25: Project 24 | C25: Resource 24 | D25: =SUM(E25:AZ25) -> 22 | AM25: 6 | AN25: 6 | AP25: 4 | AQ25: 6 | BG25: P/B | BH25: Pool | BI25: Resource 24 | BJ25: =SUM(BK25:DF25) -> 105 | CS25: 1 | CT25: 2 | CU25: 3 | CV25: 4 | CW25: 5 | CX25: 6 | CY25: 7 | CZ25: 8 | DA25: 9 | DB25: 10 | DC25: 11 | DD25: 12 | DE25: 13 | DF25: 14 | DG25: 15 | DH25: 16 | DI25: 17 | DJ25: 18
A26: G$ | B26: Project 25 | C26: Resource 25 | D26: =SUM(E26:AZ26) -> 10 | AM26: 4 | AN26: 4 | AO26: 2 | BG26: P/B | BH26: Pool | BI26: Resource 25 | BJ26: =SUM(BK26:DF26) -> 105 | CS26: 1 | CT26: 2 | CU26: 3 | CV26: 4 | CW26: 5 | CX26: 6 | CY26: 7 | CZ26: 8 | DA26: 9 | DB26: 10 | DC26: 11 | DD26: 12 | DE26: 13 | DF26: 14 | DG26: 15 | DH26: 16 | DI26: 17 | DJ26: 18
A27: G$ | B27: Project 26 | C27: Resource 26 | D27: =SUM(E27:AZ27) -> 224 | AM27: 16 | AN27: 16 | AO27: 16 | AP27: 16 | AQ27: 16 | AR27: 16 | AS27: 16 | AT27: 16 | AU27: 16 | AV27: 16 | AW27: 16 | AX27: 16 | AY27: 16 | AZ27: 16 | BA27: 16 | BB27: 16 | BC27: 16 | BD27: 16 | BG27: P/B | BH27: Pool | BI27: Resource 26 | BJ27: =SUM(BK27:DF27) -> 105 | CS27: 1 | CT27: 2 | CU27: 3 | CV27: 4 | CW27: 5 | CX27: 6 | CY27: 7 | CZ27: 8 | DA27: 9 | DB27: 10 | DC27: 11 | DD27: 12 | DE27: 13 | DF27: 14 | DG27: 15 | DH27: 16 | DI27: 17 | DJ27: 18

Sheet Capacity Planner 
A1: Planner
A2: Resource Type | C2: ='Resource Requirements'!E1 -> 42741 | D2: =C2+7 -> 42748 | E2: =D2+7 -> 42755 | F2: =E2+7 -> 42762 | G2: =F2+7 -> 42769 | H2: =G2+7 -> 42776 | I2: =H2+7 -> 42783 | J2: =I2+7 -> 42790 | K2: =J2+7 -> 42797 | ... BB2: =BA2+7 -> 43098 | BC2: Total
A3: Pool/Baseline
A4: 1 | B4: Resource 1 | C4: =SUMIF('Resource Requirements'!$CR$2:$DJ$98,'Capacity Planner '!$B4,'Resource Requirements'!BK$2:CC$98) -> 0 | D4: =SUMIF('Resource Requirements'!$CR$2:$DJ$98,'Capacity Planner '!$B4,'Resource Requirements'!BL$2:CD$98) -> 0 | E4: =SUMIF('Resource Requirements'!$CR$2:$DJ$98,'Capacity Planner '!$B4,'Resource Requirements'!BM$2:CE$98) -> 0 | F4: =SUMIF('Resource Requirements'!$CR$2:$DJ$98,'Capacity Planner '!$B4,'Resource Requirements'!BN$2:CF$98) -> 0 | G4: =SUMIF('Resource Requirements'!$CR$2:$DJ$98,'Capacity Planner '!$B4,'Resource Requirements'!BO$2:CG$98) -> 0 | H4: =SUMIF('Resource Requirements'!$CR$2:$DJ$98,'Capacity Planner '!$B4,'Resource Requirements'!BP$2:CH$98) -> 0 | I4: =SUMIF('Resource Requirements'!$CR$2:$DJ$98,'Capacity Planner '!$B4,'Resource Requirements'!BQ$2:CI$98) -> 0 | J4: =SUMIF('Resource Requirements'!$CR$2:$DJ$98,'Capacity Planner '!$B4,'Resource Requirements'!BR$2:CJ$98) -> 0 | ... BB4: =SUMIF('Resource Requirements'!$CR$2:$DJ$98,'Capacity Planner '!$B4,'Resource Requirements'!DJ$2:EB$98) -> 0 | BC4: =SUM(C4:BB4) -> 0
A5: 2 | B5: Resource 2 | C5: =SUMIF('Resource Requirements'!$CR$2:$DJ$98,'Capacity Planner '!$B5,'Resource Requirements'!BK$2:CC$98) -> 0 | D5: =SUMIF('Resource Requirements'!$CR$2:$DJ$98,'Capacity Planner '!$B5,'Resource Requirements'!BL$2:CD$98) -> 0 | E5: =SUMIF('Resource Requirements'!$CR$2:$DJ$98,'Capacity Planner '!$B5,'Resource Requirements'!BM$2:CE$98) -> 0 | F5: =SUMIF('Resource Requirements'!$CR$2:$DJ$98,'Capacity Planner '!$B5,'Resource Requirements'!BN$2:CF$98) -> 0 | G5: =SUMIF('Resource Requirements'!$CR$2:$DJ$98,'Capacity Planner '!$B5,'Resource Requirements'!BO$2:CG$98) -> 0 | H5: =SUMIF('Resource Requirements'!$CR$2:$DJ$98,'Capacity Planner '!$B5,'Resource Requirements'!BP$2:CH$98) -> 0 | I5: =SUMIF('Resource Requirements'!$CR$2:$DJ$98,'Capacity Planner '!$B5,'Resource Requirements'!BQ$2:CI$98) -> 0 | J5: =SUMIF('Resource Requirements'!$CR$2:$DJ$98,'Capacity Planner '!$B5,'Resource Requirements'!BR$2:CJ$98) -> 0 | ... BB5: =SUMIF('Resource Requirements'!$CR$2:$DJ$98,'Capacity Planner '!$B5,'Resource Requirements'!DJ$2:EB$98) -> 0 | BC5: =SUM(C5:BB5) -> 0
A6: 3 | B6: Resource 3 | C6: =SUMIF('Resource Requirements'!$CR$2:$DJ$98,'Capacity Planner '!$B6,'Resource Requirements'!BK$2:CC$98) -> 0 | D6: =SUMIF('Resource Requirements'!$CR$2:$DJ$98,'Capacity Planner '!$B6,'Resource Requirements'!BL$2:CD$98) -> 0 | E6: =SUMIF('Resource Requirements'!$CR$2:$DJ$98,'Capacity Planner '!$B6,'Resource Requirements'!BM$2:CE$98) -> 0 | F6: =SUMIF('Resource Requirements'!$CR$2:$DJ$98,'Capacity Planner '!$B6,'Resource Requirements'!BN$2:CF$98) -> 0 | G6: =SUMIF('Resource Requirements'!$CR$2:$DJ$98,'Capacity Planner '!$B6,'Resource Requirements'!BO$2:CG$98) -> 0 | H6: =SUMIF('Resource Requirements'!$CR$2:$DJ$98,'Capacity Planner '!$B6,'Resource Requirements'!BP$2:CH$98) -> 0 | I6: =SUMIF('Resource Requirements'!$CR$2:$DJ$98,'Capacity Planner '!$B6,'Resource Requirements'!BQ$2:CI$98) -> 0 | J6: =SUMIF('Resource Requirements'!$CR$2:$DJ$98,'Capacity Planner '!$B6,'Resource Requirements'!BR$2:CJ$98) -> 0 | ... BB6: =SUMIF('Resource Requirements'!$CR$2:$DJ$98,'Capacity Planner '!$B6,'Resource Requirements'!DJ$2:EB$98) -> 0 | BC6: =SUM(C6:BB6) -> 0
A7: 4 | B7: Resource 4 | C7: =SUMIF('Resource Requirements'!$CR$2:$DJ$98,'Capacity Planner '!$B7,'Resource Requirements'!BK$2:CC$98) -> 0 | D7: =SUMIF('Resource Requirements'!$CR$2:$DJ$98,'Capacity Planner '!$B7,'Resource Requirements'!BL$2:CD$98) -> 0 | E7: =SUMIF('Resource Requirements'!$CR$2:$DJ$98,'Capacity Planner '!$B7,'Resource Requirements'!BM$2:CE$98) -> 0 | F7: =SUMIF('Resource Requirements'!$CR$2:$DJ$98,'Capacity Planner '!$B7,'Resource Requirements'!BN$2:CF$98) -> 0 | G7: =SUMIF('Resource Requirements'!$CR$2:$DJ$98,'Capacity Planner '!$B7,'Resource Requirements'!BO$2:CG$98) -> 0 | H7: =SUMIF('Resource Requirements'!$CR$2:$DJ$98,'Capacity Planner '!$B7,'Resource Requirements'!BP$2:CH$98) -> 0 | I7: =SUMIF('Resource Requirements'!$CR$2:$DJ$98,'Capacity Planner '!$B7,'Resource Requirements'!BQ$2:CI$98) -> 0 | J7: =SUMIF('Resource Requirements'!$CR$2:$DJ$98,'Capacity Planner '!$B7,'Resource Requirements'!BR$2:CJ$98) -> 0 | ... BB7: =SUMIF('Resource Requirements'!$CR$2:$DJ$98,'Capacity Planner '!$B7,'Resource Requirements'!DJ$2:EB$98) -> 0 | BC7: =SUM(C7:BB7) -> 0
A8: 5 | B8: Resource 5 | C8: =SUMIF('Resource Requirements'!$CR$2:$DJ$98,'Capacity Planner '!$B8,'Resource Requirements'!BK$2:CC$98) -> 0 | D8: =SUMIF('Resource Requirements'!$CR$2:$DJ$98,'Capacity Planner '!$B8,'Resource Requirements'!BL$2:CD$98) -> 0 | E8: =SUMIF('Resource Requirements'!$CR$2:$DJ$98,'Capacity Planner '!$B8,'Resource Requirements'!BM$2:CE$98) -> 0 | F8: =SUMIF('Resource Requirements'!$CR$2:$DJ$98,'Capacity Planner '!$B8,'Resource Requirements'!BN$2:CF$98) -> 0 | G8: =SUMIF('Resource Requirements'!$CR$2:$DJ$98,'Capacity Planner '!$B8,'Resource Requirements'!BO$2:CG$98) -> 0 | H8: =SUMIF('Resource Requirements'!$CR$2:$DJ$98,'Capacity Planner '!$B8,'Resource Requirements'!BP$2:CH$98) -> 0 | I8: =SUMIF('Resource Requirements'!$CR$2:$DJ$98,'Capacity Planner '!$B8,'Resource Requirements'!BQ$2:CI$98) -> 0 | J8: =SUMIF('Resource Requirements'!$CR$2:$DJ$98,'Capacity Planner '!$B8,'Resource Requirements'!BR$2:CJ$98) -> 0 | ... BB8: =SUMIF('Resource Requirements'!$CR$2:$DJ$98,'Capacity Planner '!$B8,'Resource Requirements'!DJ$2:EB$98) -> 0 | BC8: =SUM(C8:BB8) -> 0
A9: 6 | B9: Resource 6 | C9: =SUMIF('Resource Requirements'!$CR$2:$DJ$98,'Capacity Planner '!$B9,'Resource Requirements'!BK$2:CC$98) -> 0 | D9: =SUMIF('Resource Requirements'!$CR$2:$DJ$98,'Capacity Planner '!$B9,'Resource Requirements'!BL$2:CD$98) -> 0 | E9: =SUMIF('Resource Requirements'!$CR$2:$DJ$98,'Capacity Planner '!$B9,'Resource Requirements'!BM$2:CE$98) -> 0 | F9: =SUMIF('Resource Requirements'!$CR$2:$DJ$98,'Capacity Planner '!$B9,'Resource Requirements'!BN$2:CF$98) -> 0 | G9: =SUMIF('Resource Requirements'!$CR$2:$DJ$98,'Capacity Planner '!$B9,'Resource Requirements'!BO$2:CG$98) -> 0 | H9: =SUMIF('Resource Requirements'!$CR$2:$DJ$98,'Capacity Planner '!$B9,'Resource Requirements'!BP$2:CH$98) -> 0 | I9: =SUMIF('Resource Requirements'!$CR$2:$DJ$98,'Capacity Planner '!$B9,'Resource Requirements'!BQ$2:CI$98) -> 0 | J9: =SUMIF('Resource Requirements'!$CR$2:$DJ$98,'Capacity Planner '!$B9,'Resource Requirements'!BR$2:CJ$98) -> 0 | ... BB9: =SUMIF('Resource Requirements'!$CR$2:$DJ$98,'Capacity Planner '!$B9,'Resource Requirements'!DJ$2:EB$98) -> 0 | BC9: =SUM(C9:BB9) -> 0
A10: 7 | B10: Resource 7 | C10: =SUMIF('Resource Requirements'!$CR$2:$DJ$98,'Capacity Planner '!$B10,'Resource Requirements'!BK$2:CC$98) -> 0 | D10: =SUMIF('Resource Requirements'!$CR$2:$DJ$98,'Capacity Planner '!$B10,'Resource Requirements'!BL$2:CD$98) -> 0 | E10: =SUMIF('Resource Requirements'!$CR$2:$DJ$98,'Capacity Planner '!$B10,'Resource Requirements'!BM$2:CE$98) -> 0 | F10: =SUMIF('Resource Requirements'!$CR$2:$DJ$98,'Capacity Planner '!$B10,'Resource Requirements'!BN$2:CF$98) -> 0 | G10: =SUMIF('Resource Requirements'!$CR$2:$DJ$98,'Capacity Planner '!$B10,'Resource Requirements'!BO$2:CG$98) -> 0 | H10: =SUMIF('Resource Requirements'!$CR$2:$DJ$98,'Capacity Planner '!$B10,'Resource Requirements'!BP$2:CH$98) -> 0 | I10: =SUMIF('Resource Requirements'!$CR$2:$DJ$98,'Capacity Planner '!$B10,'Resource Requirements'!BQ$2:CI$98) -> 0 | J10: =SUMIF('Resource Requirements'!$CR$2:$DJ$98,'Capacity Planner '!$B10,'Resource Requirements'!BR$2:CJ$98) -> 0 | ... BB10: =SUMIF('Resource Requirements'!$CR$2:$DJ$98,'Capacity Planner '!$B10,'Resource Requirements'!DJ$2:EB$98) -> 0 | BC10: =SUM(C10:BB10) -> 0
A11: 8 | B11: Resource 8 | C11: =SUMIF('Resource Requirements'!$CR$2:$DJ$98,'Capacity Planner '!$B11,'Resource Requirements'!BK$2:CC$98) -> 0 | D11: =SUMIF('Resource Requirements'!$CR$2:$DJ$98,'Capacity Planner '!$B11,'Resource Requirements'!BL$2:CD$98) -> 0 | E11: =SUMIF('Resource Requirements'!$CR$2:$DJ$98,'Capacity Planner '!$B11,'Resource Requirements'!BM$2:CE$98) -> 0 | F11: =SUMIF('Resource Requirements'!$CR$2:$DJ$98,'Capacity Planner '!$B11,'Resource Requirements'!BN$2:CF$98) -> 0 | G11: =SUMIF('Resource Requirements'!$CR$2:$DJ$98,'Capacity Planner '!$B11,'Resource Requirements'!BO$2:CG$98) -> 0 | H11: =SUMIF('Resource Requirements'!$CR$2:$DJ$98,'Capacity Planner '!$B11,'Resource Requirements'!BP$2:CH$98) -> 0 | I11: =SUMIF('Resource Requirements'!$CR$2:$DJ$98,'Capacity Planner '!$B11,'Resource Requirements'!BQ$2:CI$98) -> 0 | J11: =SUMIF('Resource Requirements'!$CR$2:$DJ$98,'Capacity Planner '!$B11,'Resource Requirements'!BR$2:CJ$98) -> 0 | ... BB11: =SUMIF('Resource Requirements'!$CR$2:$DJ$98,'Capacity Planner '!$B11,'Resource Requirements'!DJ$2:EB$98) -> 0 | BC11: =SUM(C11:BB11) -> 0
A12: 9 | B12: Resource 9 | C12: =SUMIF('Resource Requirements'!$CR$2:$DJ$98,'Capacity Planner '!$B12,'Resource Requirements'!BK$2:CC$98) -> 0 | D12: =SUMIF('Resource Requirements'!$CR$2:$DJ$98,'Capacity Planner '!$B12,'Resource Requirements'!BL$2:CD$98) -> 0 | E12: =SUMIF('Resource Requirements'!$CR$2:$DJ$98,'Capacity Planner '!$B12,'Resource Requirements'!BM$2:CE$98) -> 0 | F12: =SUMIF('Resource Requirements'!$CR$2:$DJ$98,'Capacity Planner '!$B12,'Resource Requirements'!BN$2:CF$98) -> 0 | G12: =SUMIF('Resource Requirements'!$CR$2:$DJ$98,'Capacity Planner '!$B12,'Resource Requirements'!BO$2:CG$98) -> 0 | H12: =SUMIF('Resource Requirements'!$CR$2:$DJ$98,'Capacity Planner '!$B12,'Resource Requirements'!BP$2:CH$98) -> 0 | I12: =SUMIF('Resource Requirements'!$CR$2:$DJ$98,'Capacity Planner '!$B12,'Resource Requirements'!BQ$2:CI$98) -> 0 | J12: =SUMIF('Resource Requirements'!$CR$2:$DJ$98,'Capacity Planner '!$B12,'Resource Requirements'!BR$2:CJ$98) -> 0 | ... BB12: =SUMIF('Resource Requirements'!$CR$2:$DJ$98,'Capacity Planner '!$B12,'Resource Requirements'!DJ$2:EB$98) -> 0 | BC12: =SUM(C12:BB12) -> 0
A13: 10 | B13: Resource 10 | C13: =SUMIF('Resource Requirements'!$CR$2:$DJ$98,'Capacity Planner '!$B13,'Resource Requirements'!BK$2:CC$98) -> 0 | D13: =SUMIF('Resource Requirements'!$CR$2:$DJ$98,'Capacity Planner '!$B13,'Resource Requirements'!BL$2:CD$98) -> 0 | E13: =SUMIF('Resource Requirements'!$CR$2:$DJ$98,'Capacity Planner '!$B13,'Resource Requirements'!BM$2:CE$98) -> 0 | F13: =SUMIF('Resource Requirements'!$CR$2:$DJ$98,'Capacity Planner '!$B13,'Resource Requirements'!BN$2:CF$98) -> 0 | G13: =SUMIF('Resource Requirements'!$CR$2:$DJ$98,'Capacity Planner '!$B13,'Resource Requirements'!BO$2:CG$98) -> 0 | H13: =SUMIF('Resource Requirements'!$CR$2:$DJ$98,'Capacity Planner '!$B13,'Resource Requirements'!BP$2:CH$98) -> 0 | I13: =SUMIF('Resource Requirements'!$CR$2:$DJ$98,'Capacity Planner '!$B13,'Resource Requirements'!BQ$2:CI$98) -> 0 | J13: =SUMIF('Resource Requirements'!$CR$2:$DJ$98,'Capacity Planner '!$B13,'Resource Requirements'!BR$2:CJ$98) -> 0 | ... BB13: =SUMIF('Resource Requirements'!$CR$2:$DJ$98,'Capacity Planner '!$B13,'Resource Requirements'!DJ$2:EB$98) -> 0 | BC13: =SUM(C13:BB13) -> 0
A14: 11 | B14: Resource 11 | C14: =SUMIF('Resource Requirements'!$CR$2:$DJ$98,'Capacity Planner '!$B14,'Resource Requirements'!BK$2:CC$98) -> 0 | D14: =SUMIF('Resource Requirements'!$CR$2:$DJ$98,'Capacity Planner '!$B14,'Resource Requirements'!BL$2:CD$98) -> 0 | E14: =SUMIF('Resource Requirements'!$CR$2:$DJ$98,'Capacity Planner '!$B14,'Resource Requirements'!BM$2:CE$98) -> 0 | F14: =SUMIF('Resource Requirements'!$CR$2:$DJ$98,'Capacity Planner '!$B14,'Resource Requirements'!BN$2:CF$98) -> 0 | G14: =SUMIF('Resource Requirements'!$CR$2:$DJ$98,'Capacity Planner '!$B14,'Resource Requirements'!BO$2:CG$98) -> 0 | H14: =SUMIF('Resource Requirements'!$CR$2:$DJ$98,'Capacity Planner '!$B14,'Resource Requirements'!BP$2:CH$98) -> 0 | I14: =SUMIF('Resource Requirements'!$CR$2:$DJ$98,'Capacity Planner '!$B14,'Resource Requirements'!BQ$2:CI$98) -> 0 | J14: =SUMIF('Resource Requirements'!$CR$2:$DJ$98,'Capacity Planner '!$B14,'Resource Requirements'!BR$2:CJ$98) -> 0 | ... BB14: =SUMIF('Resource Requirements'!$CR$2:$DJ$98,'Capacity Planner '!$B14,'Resource Requirements'!DJ$2:EB$98) -> 0 | BC14: =SUM(C14:BB14) -> 0
A15: 12 | B15: Resource 12 | C15: =SUMIF('Resource Requirements'!$CR$2:$DJ$98,'Capacity Planner '!$B15,'Resource Requirements'!BK$2:CC$98) -> 0 | D15: =SUMIF('Resource Requirements'!$CR$2:$DJ$98,'Capacity Planner '!$B15,'Resource Requirements'!BL$2:CD$98) -> 0 | E15: =SUMIF('Resource Requirements'!$CR$2:$DJ$98,'Capacity Planner '!$B15,'Resource Requirements'!BM$2:CE$98) -> 0 | F15: =SUMIF('Resource Requirements'!$CR$2:$DJ$98,'Capacity Planner '!$B15,'Resource Requirements'!BN$2:CF$98) -> 0 | G15: =SUMIF('Resource Requirements'!$CR$2:$DJ$98,'Capacity Planner '!$B15,'Resource Requirements'!BO$2:CG$98) -> 0 | H15: =SUMIF('Resource Requirements'!$CR$2:$DJ$98,'Capacity Planner '!$B15,'Resource Requirements'!BP$2:CH$98) -> 0 | I15: =SUMIF('Resource Requirements'!$CR$2:$DJ$98,'Capacity Planner '!$B15,'Resource Requirements'!BQ$2:CI$98) -> 0 | J15: =SUMIF('Resource Requirements'!$CR$2:$DJ$98,'Capacity Planner '!$B15,'Resource Requirements'!BR$2:CJ$98) -> 0 | ... BB15: =SUMIF('Resource Requirements'!$CR$2:$DJ$98,'Capacity Planner '!$B15,'Resource Requirements'!DJ$2:EB$98) -> 0 | BC15: =SUM(C15:BB15) -> 0
A16: 13 | B16: Resource 13 | C16: =SUMIF('Resource Requirements'!$CR$2:$DJ$98,'Capacity Planner '!$B16,'Resource Requirements'!BK$2:CC$98) -> 0 | D16: =SUMIF('Resource Requirements'!$CR$2:$DJ$98,'Capacity Planner '!$B16,'Resource Requirements'!BL$2:CD$98) -> 0 | E16: =SUMIF('Resource Requirements'!$CR$2:$DJ$98,'Capacity Planner '!$B16,'Resource Requirements'!BM$2:CE$98) -> 0 | F16: =SUMIF('Resource Requirements'!$CR$2:$DJ$98,'Capacity Planner '!$B16,'Resource Requirements'!BN$2:CF$98) -> 0 | G16: =SUMIF('Resource Requirements'!$CR$2:$DJ$98,'Capacity Planner '!$B16,'Resource Requirements'!BO$2:CG$98) -> 0 | H16: =SUMIF('Resource Requirements'!$CR$2:$DJ$98,'Capacity Planner '!$B16,'Resource Requirements'!BP$2:CH$98) -> 0 | I16: =SUMIF('Resource Requirements'!$CR$2:$DJ$98,'Capacity Planner '!$B16,'Resource Requirements'!BQ$2:CI$98) -> 0 | J16: =SUMIF('Resource Requirements'!$CR$2:$DJ$98,'Capacity Planner '!$B16,'Resource Requirements'!BR$2:CJ$98) -> 0 | ... BB16: =SUMIF('Resource Requirements'!$CR$2:$DJ$98,'Capacity Planner '!$B16,'Resource Requirements'!DJ$2:EB$98) -> 0 | BC16: =SUM(C16:BB16) -> 0
A17: G$
A18: 14 | B18: Resource 1 | C18: =SUMIF('Resource Requirements'!$C$2:$C$98,'Capacity Planner '!$B18,'Resource Requirements'!E$2:E$98) -> 0 | D18: =SUMIF('Resource Requirements'!$C$2:$C$98,'Capacity Planner '!$B18,'Resource Requirements'!F$2:F$98) -> 0 | E18: =SUMIF('Resource Requirements'!$C$2:$C$98,'Capacity Planner '!$B18,'Resource Requirements'!G$2:G$98) -> 0 | F18: =SUMIF('Resource Requirements'!$C$2:$C$98,'Capacity Planner '!$B18,'Resource Requirements'!H$2:H$98) -> 0 | G18: =SUMIF('Resource Requirements'!$C$2:$C$98,'Capacity Planner '!$B18,'Resource Requirements'!I$2:I$98) -> 0 | H18: =SUMIF('Resource Requirements'!$C$2:$C$98,'Capacity Planner '!$B18,'Resource Requirements'!J$2:J$98) -> 0 | I18: =SUMIF('Resource Requirements'!$C$2:$C$98,'Capacity Planner '!$B18,'Resource Requirements'!K$2:K$98) -> 0 | J18: =SUMIF('Resource Requirements'!$C$2:$C$98,'Capacity Planner '!$B18,'Resource Requirements'!L$2:L$98) -> 0 | ... BB18: =SUMIF('Resource Requirements'!$C$2:$C$98,'Capacity Planner '!$B18,'Resource Requirements'!BD$2:BD$98) -> 0 | BC18: =SUM(C18:BB18) -> 160
A19: 15 | B19: Resource 2 | C19: =SUMIF('Resource Requirements'!$C$2:$C$98,'Capacity Planner '!$B19,'Resource Requirements'!E$2:E$98) -> 0 | D19: =SUMIF('Resource Requirements'!$C$2:$C$98,'Capacity Planner '!$B19,'Resource Requirements'!F$2:F$98) -> 0 | E19: =SUMIF('Resource Requirements'!$C$2:$C$98,'Capacity Planner '!$B19,'Resource Requirements'!G$2:G$98) -> 0 | F19: =SUMIF('Resource Requirements'!$C$2:$C$98,'Capacity Planner '!$B19,'Resource Requirements'!H$2:H$98) -> 0 | G19: =SUMIF('Resource Requirements'!$C$2:$C$98,'Capacity Planner '!$B19,'Resource Requirements'!I$2:I$98) -> 0 | H19: =SUMIF('Resource Requirements'!$C$2:$C$98,'Capacity Planner '!$B19,'Resource Requirements'!J$2:J$98) -> 0 | I19: =SUMIF('Resource Requirements'!$C$2:$C$98,'Capacity Planner '!$B19,'Resource Requirements'!K$2:K$98) -> 0 | J19: =SUMIF('Resource Requirements'!$C$2:$C$98,'Capacity Planner '!$B19,'Resource Requirements'!L$2:L$98) -> 0 | ... BB19: =SUMIF('Resource Requirements'!$C$2:$C$98,'Capacity Planner '!$B19,'Resource Requirements'!BD$2:BD$98) -> 14 | BC19: =SUM(C19:BB19) -> 252
A20: 16 | B20: Resource 3 | C20: =SUMIF('Resource Requirements'!$C$2:$C$98,'Capacity Planner '!$B20,'Resource Requirements'!E$2:E$98) -> 0 | D20: =SUMIF('Resource Requirements'!$C$2:$C$98,'Capacity Planner '!$B20,'Resource Requirements'!F$2:F$98) -> 0 | E20: =SUMIF('Resource Requirements'!$C$2:$C$98,'Capacity Planner '!$B20,'Resource Requirements'!G$2:G$98) -> 0 | F20: =SUMIF('Resource Requirements'!$C$2:$C$98,'Capacity Planner '!$B20,'Resource Requirements'!H$2:H$98) -> 0 | G20: =SUMIF('Resource Requirements'!$C$2:$C$98,'Capacity Planner '!$B20,'Resource Requirements'!I$2:I$98) -> 0 | H20: =SUMIF('Resource Requirements'!$C$2:$C$98,'Capacity Planner '!$B20,'Resource Requirements'!J$2:J$98) -> 0 | I20: =SUMIF('Resource Requirements'!$C$2:$C$98,'Capacity Planner '!$B20,'Resource Requirements'!K$2:K$98) -> 0 | J20: =SUMIF('Resource Requirements'!$C$2:$C$98,'Capacity Planner '!$B20,'Resource Requirements'!L$2:L$98) -> 0 | ... BB20: =SUMIF('Resource Requirements'!$C$2:$C$98,'Capacity Planner '!$B20,'Resource Requirements'!BD$2:BD$98) -> 0 | BC20: =SUM(C20:BB20) -> 60
A21: 17 | B21: Resource 4 | C21: =SUMIF('Resource Requirements'!$C$2:$C$98,'Capacity Planner '!$B21,'Resource Requirements'!E$2:E$98) -> 0 | D21: =SUMIF('Resource Requirements'!$C$2:$C$98,'Capacity Planner '!$B21,'Resource Requirements'!F$2:F$98) -> 0 | E21: =SUMIF('Resource Requirements'!$C$2:$C$98,'Capacity Planner '!$B21,'Resource Requirements'!G$2:G$98) -> 0 | F21: =SUMIF('Resource Requirements'!$C$2:$C$98,'Capacity Planner '!$B21,'Resource Requirements'!H$2:H$98) -> 0 | G21: =SUMIF('Resource Requirements'!$C$2:$C$98,'Capacity Planner '!$B21,'Resource Requirements'!I$2:I$98) -> 0 | H21: =SUMIF('Resource Requirements'!$C$2:$C$98,'Capacity Planner '!$B21,'Resource Requirements'!J$2:J$98) -> 0 | I21: =SUMIF('Resource Requirements'!$C$2:$C$98,'Capacity Planner '!$B21,'Resource Requirements'!K$2:K$98) -> 0 | J21: =SUMIF('Resource Requirements'!$C$2:$C$98,'Capacity Planner '!$B21,'Resource Requirements'!L$2:L$98) -> 0 | ... BB21: =SUMIF('Resource Requirements'!$C$2:$C$98,'Capacity Planner '!$B21,'Resource Requirements'!BD$2:BD$98) -> 0 | BC21: =SUM(C21:BB21) -> 24
A22: 18 | B22: Resource 5 | C22: =SUMIF('Resource Requirements'!$C$2:$C$98,'Capacity Planner '!$B22,'Resource Requirements'!E$2:E$98) -> 0 | D22: =SUMIF('Resource Requirements'!$C$2:$C$98,'Capacity Planner '!$B22,'Resource Requirements'!F$2:F$98) -> 0 | E22: =SUMIF('Resource Requirements'!$C$2:$C$98,'Capacity Planner '!$B22,'Resource Requirements'!G$2:G$98) -> 0 | F22: =SUMIF('Resource Requirements'!$C$2:$C$98,'Capacity Planner '!$B22,'Resource Requirements'!H$2:H$98) -> 0 | G22: =SUMIF('Resource Requirements'!$C$2:$C$98,'Capacity Planner '!$B22,'Resource Requirements'!I$2:I$98) -> 0 | H22: =SUMIF('Resource Requirements'!$C$2:$C$98,'Capacity Planner '!$B22,'Resource Requirements'!J$2:J$98) -> 0 | I22: =SUMIF('Resource Requirements'!$C$2:$C$98,'Capacity Planner '!$B22,'Resource Requirements'!K$2:K$98) -> 0 | J22: =SUMIF('Resource Requirements'!$C$2:$C$98,'Capacity Planner '!$B22,'Resource Requirements'!L$2:L$98) -> 0 | ... BB22: =SUMIF('Resource Requirements'!$C$2:$C$98,'Capacity Planner '!$B22,'Resource Requirements'!BD$2:BD$98) -> 0 | BC22: =SUM(C22:BB22) -> 36
A23: 19 | B23: Resource 6 | C23: =SUMIF('Resource Requirements'!$C$2:$C$98,'Capacity Planner '!$B23,'Resource Requirements'!E$2:E$98) -> 0 | D23: =SUMIF('Resource Requirements'!$C$2:$C$98,'Capacity Planner '!$B23,'Resource Requirements'!F$2:F$98) -> 0 | E23: =SUMIF('Resource Requirements'!$C$2:$C$98,'Capacity Planner '!$B23,'Resource Requirements'!G$2:G$98) -> 0 | F23: =SUMIF('Resource Requirements'!$C$2:$C$98,'Capacity Planner '!$B23,'Resource Requirements'!H$2:H$98) -> 0 | G23: =SUMIF('Resource Requirements'!$C$2:$C$98,'Capacity Planner '!$B23,'Resource Requirements'!I$2:I$98) -> 0 | H23: =SUMIF('Resource Requirements'!$C$2:$C$98,'Capacity Planner '!$B23,'Resource Requirements'!J$2:J$98) -> 0 | I23: =SUMIF('Resource Requirements'!$C$2:$C$98,'Capacity Planner '!$B23,'Resource Requirements'!K$2:K$98) -> 0 | J23: =SUMIF('Resource Requirements'!$C$2:$C$98,'Capacity Planner '!$B23,'Resource Requirements'!L$2:L$98) -> 0 | ... BB23: =SUMIF('Resource Requirements'!$C$2:$C$98,'Capacity Planner '!$B23,'Resource Requirements'!BD$2:BD$98) -> 0 | BC23: =SUM(C23:BB23) -> 80
A24: 20 | B24: Resource 7 | C24: =SUMIF('Resource Requirements'!$C$2:$C$98,'Capacity Planner '!$B24,'Resource Requirements'!E$2:E$98) -> 0 | D24: =SUMIF('Resource Requirements'!$C$2:$C$98,'Capacity Planner '!$B24,'Resource Requirements'!F$2:F$98) -> 0 | E24: =SUMIF('Resource Requirements'!$C$2:$C$98,'Capacity Planner '!$B24,'Resource Requirements'!G$2:G$98) -> 0 | F24: =SUMIF('Resource Requirements'!$C$2:$C$98,'Capacity Planner '!$B24,'Resource Requirements'!H$2:H$98) -> 0 | G24: =SUMIF('Resource Requirements'!$C$2:$C$98,'Capacity Planner '!$B24,'Resource Requirements'!I$2:I$98) -> 0 | H24: =SUMIF('Resource Requirements'!$C$2:$C$98,'Capacity Planner '!$B24,'Resource Requirements'!J$2:J$98) -> 0 | I24: =SUMIF('Resource Requirements'!$C$2:$C$98,'Capacity Planner '!$B24,'Resource Requirements'!K$2:K$98) -> 0 | J24: =SUMIF('Resource Requirements'!$C$2:$C$98,'Capacity Planner '!$B24,'Resource Requirements'!L$2:L$98) -> 0 | ... BB24: =SUMIF('Resource Requirements'!$C$2:$C$98,'Capacity Planner '!$B24,'Resource Requirements'!BD$2:BD$98) -> 0 | BC24: =SUM(C24:BB24) -> 0
A25: 21 | B25: Resource 8 | C25: =SUMIF('Resource Requirements'!$C$2:$C$98,'Capacity Planner '!$B25,'Resource Requirements'!E$2:E$98) -> 0 | D25: =SUMIF('Resource Requirements'!$C$2:$C$98,'Capacity Planner '!$B25,'Resource Requirements'!F$2:F$98) -> 0 | E25: =SUMIF('Resource Requirements'!$C$2:$C$98,'Capacity Planner '!$B25,'Resource Requirements'!G$2:G$98) -> 0 | F25: =SUMIF('Resource Requirements'!$C$2:$C$98,'Capacity Planner '!$B25,'Resource Requirements'!H$2:H$98) -> 0 | G25: =SUMIF('Resource Requirements'!$C$2:$C$98,'Capacity Planner '!$B25,'Resource Requirements'!I$2:I$98) -> 0 | H25: =SUMIF('Resource Requirements'!$C$2:$C$98,'Capacity Planner '!$B25,'Resource Requirements'!J$2:J$98) -> 0 | I25: =SUMIF('Resource Requirements'!$C$2:$C$98,'Capacity Planner '!$B25,'Resource Requirements'!K$2:K$98) -> 0 | J25: =SUMIF('Resource Requirements'!$C$2:$C$98,'Capacity Planner '!$B25,'Resource Requirements'!L$2:L$98) -> 0 | ... BB25: =SUMIF('Resource Requirements'!$C$2:$C$98,'Capacity Planner '!$B25,'Resource Requirements'!BD$2:BD$98) -> 0 | BC25: =SUM(C25:BB25) -> 205
A26: 22 | B26: Resource 9 | C26: =SUMIF('Resource Requirements'!$C$2:$C$98,'Capacity Planner '!$B26,'Resource Requirements'!E$2:E$98) -> 0 | D26: =SUMIF('Resource Requirements'!$C$2:$C$98,'Capacity Planner '!$B26,'Resource Requirements'!F$2:F$98) -> 0 | E26: =SUMIF('Resource Requirements'!$C$2:$C$98,'Capacity Planner '!$B26,'Resource Requirements'!G$2:G$98) -> 0 | F26: =SUMIF('Resource Requirements'!$C$2:$C$98,'Capacity Planner '!$B26,'Resource Requirements'!H$2:H$98) -> 0 | G26: =SUMIF('Resource Requirements'!$C$2:$C$98,'Capacity Planner '!$B26,'Resource Requirements'!I$2:I$98) -> 0 | H26: =SUMIF('Resource Requirements'!$C$2:$C$98,'Capacity Planner '!$B26,'Resource Requirements'!J$2:J$98) -> 0 | I26: =SUMIF('Resource Requirements'!$C$2:$C$98,'Capacity Planner '!$B26,'Resource Requirements'!K$2:K$98) -> 0 | J26: =SUMIF('Resource Requirements'!$C$2:$C$98,'Capacity Planner '!$B26,'Resource Requirements'!L$2:L$98) -> 0 | ... BB26: =SUMIF('Resource Requirements'!$C$2:$C$98,'Capacity Planner '!$B26,'Resource Requirements'!BD$2:BD$98) -> 0 | BC26: =SUM(C26:BB26) -> 60
A27: 23 | B27: Resource 10 | C27: =SUMIF('Resource Requirements'!$C$2:$C$98,'Capacity Planner '!$B27,'Resource Requirements'!E$2:E$98) -> 0 | D27: =SUMIF('Resource Requirements'!$C$2:$C$98,'Capacity Planner '!$B27,'Resource Requirements'!F$2:F$98) -> 0 | E27: =SUMIF('Resource Requirements'!$C$2:$C$98,'Capacity Planner '!$B27,'Resource Requirements'!G$2:G$98) -> 0 | F27: =SUMIF('Resource Requirements'!$C$2:$C$98,'Capacity Planner '!$B27,'Resource Requirements'!H$2:H$98) -> 0 | G27: =SUMIF('Resource Requirements'!$C$2:$C$98,'Capacity Planner '!$B27,'Resource Requirements'!I$2:I$98) -> 0 | H27: =SUMIF('Resource Requirements'!$C$2:$C$98,'Capacity Planner '!$B27,'Resource Requirements'!J$2:J$98) -> 0 | I27: =SUMIF('Resource Requirements'!$C$2:$C$98,'Capacity Planner '!$B27,'Resource Requirements'!K$2:K$98) -> 0 | J27: =SUMIF('Resource Requirements'!$C$2:$C$98,'Capacity Planner '!$B27,'Resource Requirements'!L$2:L$98) -> 0 | ... BB27: =SUMIF('Resource Requirements'!$C$2:$C$98,'Capacity Planner '!$B27,'Resource Requirements'!BD$2:BD$98) -> 0 | BC27: =SUM(C27:BB27) -> 182
A28: 24 | B28: Resource 11 | C28: =SUMIF('Resource Requirements'!$C$2:$C$98,'Capacity Planner '!$B28,'Resource Requirements'!E$2:E$98) -> 0 | D28: =SUMIF('Resource Requirements'!$C$2:$C$98,'Capacity Planner '!$B28,'Resource Requirements'!F$2:F$98) -> 0 | E28: =SUMIF('Resource Requirements'!$C$2:$C$98,'Capacity Planner '!$B28,'Resource Requirements'!G$2:G$98) -> 0 | F28: =SUMIF('Resource Requirements'!$C$2:$C$98,'Capacity Planner '!$B28,'Resource Requirements'!H$2:H$98) -> 0 | G28: =SUMIF('Resource Requirements'!$C$2:$C$98,'Capacity Planner '!$B28,'Resource Requirements'!I$2:I$98) -> 0 | H28: =SUMIF('Resource Requirements'!$C$2:$C$98,'Capacity Planner '!$B28,'Resource Requirements'!J$2:J$98) -> 0 | I28: =SUMIF('Resource Requirements'!$C$2:$C$98,'Capacity Planner '!$B28,'Resource Requirements'!K$2:K$98) -> 0 | J28: =SUMIF('Resource Requirements'!$C$2:$C$98,'Capacity Planner '!$B28,'Resource Requirements'!L$2:L$98) -> 0 | ... BB28: =SUMIF('Resource Requirements'!$C$2:$C$98,'Capacity Planner '!$B28,'Resource Requirements'!BD$2:BD$98) -> 0 | BC28: =SUM(C28:BB28) -> 302
A29: 25 | B29: Resource 12 | C29: =SUMIF('Resource Requirements'!$C$2:$C$98,'Capacity Planner '!$B29,'Resource Requirements'!E$2:E$98) -> 0 | D29: =SUMIF('Resource Requirements'!$C$2:$C$98,'Capacity Planner '!$B29,'Resource Requirements'!F$2:F$98) -> 0 | E29: =SUMIF('Resource Requirements'!$C$2:$C$98,'Capacity Planner '!$B29,'Resource Requirements'!G$2:G$98) -> 0 | F29: =SUMIF('Resource Requirements'!$C$2:$C$98,'Capacity Planner '!$B29,'Resource Requirements'!H$2:H$98) -> 0 | G29: =SUMIF('Resource Requirements'!$C$2:$C$98,'Capacity Planner '!$B29,'Resource Requirements'!I$2:I$98) -> 0 | H29: =SUMIF('Resource Requirements'!$C$2:$C$98,'Capacity Planner '!$B29,'Resource Requirements'!J$2:J$98) -> 0 | I29: =SUMIF('Resource Requirements'!$C$2:$C$98,'Capacity Planner '!$B29,'Resource Requirements'!K$2:K$98) -> 0 | J29: =SUMIF('Resource Requirements'!$C$2:$C$98,'Capacity Planner '!$B29,'Resource Requirements'!L$2:L$98) -> 0 | ... BB29: =SUMIF('Resource Requirements'!$C$2:$C$98,'Capacity Planner '!$B29,'Resource Requirements'!BD$2:BD$98) -> 0 | BC29: =SUM(C29:BB29) -> 26
... A31: 29 | B31: Resource 14 | C31: =SUMIF('Resource Requirements'!$C$2:$C$98,'Capacity Planner '!$B31,'Resource Requirements'!E$2:E$98) -> 0 | D31: =SUMIF('Resource Requirements'!$C$2:$C$98,'Capacity Planner '!$B31,'Resource Requirements'!F$2:F$98) -> 0 | E31: =SUMIF('Resource Requirements'!$C$2:$C$98,'Capacity Planner '!$B31,'Resource Requirements'!G$2:G$98) -> 0 | F31: =SUMIF('Resource Requirements'!$C$2:$C$98,'Capacity Planner '!$B31,'Resource Requirements'!H$2:H$98) -> 0 | G31: =SUMIF('Resource Requirements'!$C$2:$C$98,'Capacity Planner '!$B31,'Resource Requirements'!I$2:I$98) -> 0 | H31: =SUMIF('Resource Requirements'!$C$2:$C$98,'Capacity Planner '!$B31,'Resource Requirements'!J$2:J$98) -> 0 | I31: =SUMIF('Resource Requirements'!$C$2:$C$98,'Capacity Planner '!$B31,'Resource Requirements'!K$2:K$98) -> 0 | J31: =SUMIF('Resource Requirements'!$C$2:$C$98,'Capacity Planner '!$B31,'Resource Requirements'!L$2:L$98) -> 0 | ... BB31: =SUMIF('Resource Requirements'!$C$2:$C$98,'Capacity Planner '!$B31,'Resource Requirements'!BD$2:BD$98) -> 0 | BC31: =SUM(C31:BB31) -> 0
A32: Team Resources
A33: 1 | B33: Resource 1 | AJ33: 45 | AK33: 45 | AL33: 45 | AM33: 45 | AN33: 45 | AO33: 45 | AP33: 45 | AQ33: 45 | AR33: 45 | AS33: 45 | AT33: 45 | AU33: 45 | AV33: 45 | AW33: 45 | AX33: 45 | AY33: 45 | AZ33: 45 | BA33: 45 | BB33: 45 | BC33: =SUM(C33:BB33) -> 855
A34: 2 | B34: Resource 2 | AJ34: 45 | AK34: 45 | AL34: 45 | AM34: 45 | AN34: 45 | AO34: 45 | AP34: 45 | AQ34: 45 | AR34: 45 | AS34: 45 | AT34: 45 | AU34: 45 | AV34: 45 | AW34: 45 | AX34: 45 | AY34: 45 | AZ34: 45 | BA34: 45 | BB34: 45 | BC34: =SUM(C34:BB34) -> 855
A35: 3 | B35: Resource 3 | AJ35: 40 | AK35: 40 | AL35: 40 | AM35: 40 | AN35: 40 | AO35: 40 | AP35: 40 | AQ35: 40 | AR35: 40 | AS35: 40 | AT35: 40 | AU35: 40 | AV35: 40 | AW35: 40 | AX35: 40 | AY35: 40 | AZ35: 40 | BA35: 40 | BB35: 40 | BC35: =SUM(C35:BB35) -> 760
A36: 4 | B36: Resource 4 | AJ36: 45 | AK36: 45 | AL36: 45 | AM36: 45 | AN36: 45 | AO36: 45 | AP36: 45 | AQ36: 45 | AR36: 45 | AS36: 45 | AT36: 45 | AU36: 45 | AV36: 45 | AW36: 45 | AX36: 45 | AY36: 45 | AZ36: 45 | BA36: 45 | BB36: 45 | BC36: =SUM(C36:BB36) -> 855
A37: 5 | B37: Resource 5 | AJ37: 45 | AK37: 45 | AL37: 45 | AM37: 45 | AN37: 45 | AO37: 45 | AP37: 45 | AQ37: 45 | AR37: 45 | AS37: 45 | AT37: 45 | AU37: 45 | AV37: 45 | AW37: 45 | AX37: 45 | AY37: 45 | AZ37: 45 | BA37: 45 | BB37: 45 | BC37: =SUM(C37:BB37) -> 855
A38: 6 | B38: Resource 6 | AJ38: 45 | AK38: 45 | AL38: 45 | AM38: 45 | AN38: 45 | AO38: 45 | AP38: 45 | AQ38: 45 | AR38: 45 | AS38: 45 | AT38: 45 | AU38: 45 | AV38: 45 | AW38: 45 | AX38: 45 | AY38: 45 | AZ38: 45 | BA38: 45 | BB38: 45 | BC38: =SUM(C38:BB38) -> 855
A39: 7 | B39: Resource 7 | AJ39: 20 | AK39: 20 | AL39: 20 | AM39: 20 | AN39: 20 | AO39: 20 | AP39: 20 | AQ39: 20 | AR39: 20 | AS39: 20 | AT39: 20 | AU39: 20 | AV39: 20 | AW39: 20 | AX39: 20 | AY39: 20 | AZ39: 20 | BA39: 20 | BB39: 20 | BC39: =SUM(C39:BB39) -> 380
A40: 8 | B40: Resource 8 | AJ40: 40 | AK40: 40 | AL40: 40 | AM40: 40 | AN40: 40 | AO40: 40 | AP40: 40 | AQ40: 40 | AR40: 40 | AS40: 40 | AT40: 40 | AU40: 40 | AV40: 40 | AW40: 40 | AX40: 40 | AY40: 40 | AZ40: 40 | BA40: 40 | BB40: 40 | BC40: =SUM(C40:BB40) -> 760
A41: 9 | B41: Resource 9 | AJ41: 40 | AK41: 40 | AL41: 40 | AM41: 40 | AN41: 40 | AO41: 40 | AP41: 40 | AQ41: 40 | AR41: 40 | AS41: 40 | AT41: 40 | AU41: 40 | AV41: 40 | AW41: 40 | AX41: 40 | AY41: 40 | AZ41: 40 | BA41: 40 | BB41: 40 | BC41: =SUM(C41:BB41) -> 760
A42: 10 | B42: Resource 10 | AJ42: 40 | BC42: =SUM(C42:BB42) -> 40
A43: 11 | B43: Resource 11 | AJ43: 44 | AK43: 44 | AL43: 44 | AM43: 44 | AN43: 44 | AO43: 44 | AP43: 44 | AQ43: 44 | AR43: 44 | AS43: 44 | AT43: 44 | AU43: 44 | AV43: 44 | AW43: 44 | AX43: 44 | AY43: 44 | AZ43: 44 | BA43: 44 | BB43: 44 | BC43: =SUM(C43:BB43) -> 836
A44: 12 | B44: Resource 12 | AJ44: 44 | AK44: 44 | AL44: 44 | AM44: 44 | AN44: 44 | AO44: 44 | AP44: 44 | AQ44: 44 | AR44: 44 | AS44: 44 | AT44: 44 | AU44: 44 | AV44: 44 | AW44: 44 | AX44: 44 | AY44: 44 | AZ44: 44 | BA44: 44 | BB44: 44 | BC44: =SUM(C44:BB44) -> 836
A45: 13 | B45: Resource 13 | AJ45: 45 | AK45: 45 | AL45: 45 | AM45: 45 | AN45: 45 | AO45: 45 | AP45: 45 | AQ45: 45 | AR45: 45 | AS45: 45 | AT45: 45 | AU45: 45 | AV45: 45 | AW45: 45 | AX45: 45 | AY45: 45 | AZ45: 45 | BA45: 45 | BB45: 45 | BC45: =SUM(C45:BB45) -> 855
A46: 14 | B46: Resource 14 | AJ46: 16 | AK46: 16 | AL46: 16 | AM46: 16 | AN46: 16 | AO46: 16 | AP46: 16 | AQ46: 16 | AR46: 16 | AS46: 16 | AT46: 16 | AU46: 16 | AV46: 16 | AW46: 16 | AX46: 16 | AY46: 16 | AZ46: 16 | BA46: 16 | BB46: 16 | BC46: =SUM(C46:BB46) -> 304
A47: 15 | B47: Resource 15 | AJ47: 8 | AK47: 8 | AL47: 8 | AM47: 8 | AN47: 8 | AO47: 8 | AP47: 8 | AQ47: 8 | AR47: 8 | AS47: 8 | AT47: 8 | AU47: 8 | AV47: 8 | AW47: 8 | AX47: 8 | AY47: 8 | AZ47: 8 | BA47: 8 | BB47: 8 | BC47: =SUM(C47:BB47) -> 152
A48: 16 | B48: Resource 16 | AJ48: 20 | AK48: 20 | AL48: 20 | AM48: 20 | AN48: 20 | AO48: 20 | AP48: 20 | AQ48: 20 | AR48: 20 | AS48: 20 | AT48: 20 | AU48: 20 | AV48: 20 | AW48: 20 | AX48: 20 | AY48: 20 | AZ48: 20 | BA48: 20 | BB48: 20 | BC48: =SUM(C48:BB48) -> 380
A49: 17 | B49: Resource 17 | AJ49: 45 | AK49: 45 | AL49: 45 | AM49: 45 | AN49: 45 | AO49: 45 | AP49: 45 | AQ49: 45 | AR49: 45 | AS49: 45 | AT49: 45 | AU49: 45 | AV49: 45 | AW49: 45 | AX49: 45 | AY49: 45 | AZ49: 45 | BA49: 45 | BB49: 45 | BC49: =SUM(C49:BB49) -> 855
A50: 18 | B50: Resource 18 | AJ50: 45 | AK50: 45 | AL50: 45 | AM50: 45 | AN50: 45 | AO50: 45 | AP50: 45 | AQ50: 45 | AR50: 45 | AS50: 45 | AT50: 45 | AU50: 45 | AV50: 45 | AW50: 45 | AX50: 45 | AY50: 45 | AZ50: 45 | BA50: 45 | BB50: 45 | BC50: =SUM(C50:BB50) -> 855
A51: 19 | B51: Resource 19 | AJ51: 45 | AK51: 45 | AL51: 45 | AM51: 45 | AN51: 45 | AO51: 45 | AP51: 45 | AQ51: 45 | AR51: 45 | AS51: 45 | AT51: 45 | AU51: 45 | AV51: 45 | AW51: 45 | AX51: 45 | AY51: 45 | AZ51: 45 | BA51: 45 | BB51: 45 | BC51: =SUM(C51:BB51) -> 855
A52: 20 | B52: Resource 20 | AJ52: 44 | AK52: 44 | AL52: 44 | AM52: 44 | AN52: 44 | AO52: 44 | AP52: 44 | AQ52: 44 | AR52: 44 | AS52: 44 | AT52: 44 | AU52: 44 | AV52: 44 | AW52: 44 | AX52: 44 | AY52: 44 | AZ52: 44 | BA52: 44 | BB52: 44 | BC52: =SUM(C52:BB52) -> 836
A53: 21 | B53: Resource 21 | AJ53: 45 | AK53: 45 | AL53: 45 | AM53: 45 | AN53: 45 | AO53: 45 | AP53: 45 | AQ53: 45 | AR53: 45 | AS53: 45 | AT53: 45 | AU53: 45 | AV53: 45 | AW53: 45 | AX53: 45 | AY53: 45 | AZ53: 45 | BA53: 45 | BB53: 45 | BC53: =SUM(C53:BB53) -> 855
A54: 22 | B54: Resource 22 | AJ54: 40 | AK54: 40 | AL54: 40 | AM54: 40 | AN54: 40 | AO54: 40 | AP54: 40 | AQ54: 40 | AR54: 40 | AS54: 40 | AT54: 40 | AU54: 40 | AV54: 40 | AW54: 40 | AX54: 40 | AY54: 40 | AZ54: 40 | BA54: 40 | BB54: 40 | BC54: =SUM(C54:BB54) -> 760
... A59: 27 | B59: Resource 27 | AJ59: 16 | AK59: 16 | AL59: 16 | AM59: 16 | AN59: 16 | AO59: 16 | AP59: 16 | AQ59: 16 | AR59: 16 | AS59: 16 | AT59: 16 | AU59: 16 | AV59: 16 | AW59: 16 | AX59: 16 | AY59: 16 | AZ59: 16 | BA59: 16 | BB59: 16 | BC59: =SUM(C59:BB59) -> 304
A60: 28 | B60: Resource 28
A61: 29 | B61: Resource 29
