Workbook
Name Numeration01: Maths!$B$3:$B$35
Name Numeration02: Maths!$C$3:$C$35

Sheet Notice d'utilisation
A4: Une fois les élèves rentrés dans la première colonne, vous pouvez :
A5: * noter C lorsque l'élève a fait un exercice sur le cahier
A6: * noter CC lorsque l'élève a fait 2 exercices sur le cahier
A7: * noter 1, 2, 3 ou 4 lorsque la compétence a été évaluée
A9: Les cases se colorent alors automatiquement pour faciliter visuellement la lecture du tableau

Sheet Edl
B1: 1ère boîte | J1: 2ème boîte | Q1: 3ème boîte | AA1: 4ème boîte | AI1: 5ème boîte | AN1: 6ème boîte | AR1: 7ème boîte | AW1: 1er tiroir | BA1: 2ème tiroir | BF1: 3ème tiroir | BM1: Et aussi … | BQ1: La Phrase | CB1: 1er palier | CG1: 2ème palier | CM1: 3ème palier | CR1: Orthographe Lexicale | DB1: Conjugaison
B2: Gr01 | C2: Gr02 | D2: Gr03 | E2: Gr04 | F2: Or01 | G2: Or02 | H2: Or03 | I2: Or04 | J2: Gr05 | K2: Gr06 | L2: Gr07 | M2: Gr08 | N2: Or05 | O2: Or06 | P2: Or07 | Q2: Gr09 | R2: Gr10 | S2: Gr11 | T2: Gr12 | U2: Gr13 | V2: GR14 | W2: GR15 | X2: Or08 | Y2: Or09 | Z2: Or10 | AA2: Gr16 | AB2: Gr17 | AC2: Gr18 | AD2: GR19 | AE2: GR20 | AF2: OR11 | AG2: OR12 | AH2: Or13 | AI2: Gr21 | AJ2: Gr22 | AK2: Gr23 | AL2: GR24 | AM2: Or14 | AN2: Gr25 | AO2: GR26 | AP2: GR27 | AQ2: Or15 | AR2: Gr28 | AS2: GR29 | AT2: GR30 | AU2: Gr31 | AV2: Or16 | AW2: Gr32 | AX2: GR33 | AY2: Gr34 | AZ2: Or17 | BA2: Gr35 | BB2: Gr36 | BC2: GR37 | BD2: GR38 | BE2: Gr39 | BF2: Gr40 | BG2: Gr41 | BH2: GR42 | BI2: GR43 | BJ2: Gr44 | BK2: GR45 | BL2: Gr46 | BM2: Gr47 | BN2: Gr48 | BO2: Gr49 | BP2: Or18 | BQ2: Gr50 | BR2: Gr51 | BS2: Gr52 | BT2: Gr53 | BU2: Gr54 | BV2: Gr55 | BW2: Gr56 | BX2: Gr57 | BY2: Gr58 | BZ2: Gr59 | CA2: Gr60 | CB2: Or19 | CC2: Or20 | CD2: Or21 | CE2: Or22 | CF2: Or32 | CG2: Or23 | CH2: Or24 | CI2: Or25 | CJ2: Or26 | CK2: Or27 | CL2: Or28 | CM2: Or29 | CN2: Or30 | CO2: Or31 | CP2: Or33 | CQ2: Or34 | CR2: Or35 | CS2: Or36 | CT2: Or37 | CU2: Or38 | CV2: Or39 | CW2: Or40 | CX2: Or41 | CY2: Or42 | CZ2: Or43 | DA2: Or44 | DB2: GV01 | DC2: GV02 | DD2: GV03 | DE2: GV04 | DF2: GV05 | DG2: GV06 | DH2: GV07 | DI2: GV08 | DJ2: GV09 | DK2: GV10 | DL2: GV11 | DM2: GV12
A3: Jules
A4: Emma
A5: Chloé
A6: Océane
A7: Elise
A8: Audran
A9: Coraline
A10: Gabriel
A11: Axel
A12: Camille
A13: Maïna
A16: Elliot
... A28: Kenza

Sheet Edl_Graphique
B1: 1ère boîte | K1: 2ème boîte | S1: 3ème boîte | AD1: 4ème boîte | AM1: 5ème boîte | AS1: 6ème boîte | AX1: 7ème boîte | BD1: 1er tiroir | BI1: 2ème tiroir | BO1: 3ème tiroir | BW1: Et aussi … | CB1: La Phrase | CN1: 1er palier | CT1: 2ème palier | DA1: 3ème palier | DG1: Orthographe Lexicale | DR1: Conjugaison
B2: Gr01 | C2: Gr02 | D2: Gr03 | E2: Gr04 | F2: Or01 | G2: Or02 | H2: Or03 | I2: Or04 | J2: % | K2: Gr05 | L2: Gr06 | M2: Gr07 | N2: Gr08 | O2: Or05 | P2: Or06 | Q2: Or07 | R2: % | S2: Gr09 | T2: Gr10 | U2: Gr11 | V2: Gr12 | W2: Gr13 | X2: GR14 | Y2: GR15 | Z2: Or08 | AA2: Or09 | AB2: Or10 | AC2: % | AD2: Gr16 | AE2: Gr17 | AF2: Gr18 | AG2: GR19 | AH2: GR20 | AI2: OR11 | AJ2: OR12 | AK2: Or13 | AL2: % | AM2: Gr21 | AN2: Gr22 | AO2: Gr23 | AP2: GR24 | AQ2: Or14 | AR2: % | AS2: Gr25 | AT2: GR26 | AU2: GR27 | AV2: Or15 | AW2: % | AX2: Gr28 | AY2: GR29 | AZ2: GR30 | BA2: Gr31 | BB2: Or16 | BC2: % | BD2: Gr32 | BE2: GR33 | BF2: Gr34 | BG2: Or17 | BH2: % | BI2: Gr35 | BJ2: Gr36 | BK2: GR37 | BL2: GR38 | BM2: Gr39 | BN2: % | BO2: Gr40 | BP2: Gr41 | BQ2: GR42 | BR2: GR43 | BS2: Gr44 | BT2: GR45 | BU2: Gr46 | BV2: % | BW2: Gr47 | BX2: Gr48 | BY2: Gr49 | BZ2: Or18 | CA2: % | CB2: Gr50 | CC2: Gr51 | CD2: Gr52 | CE2: Gr53 | CF2: Gr54 | CG2: Gr55 | CH2: Gr56 | CI2: Gr57 | CJ2: Gr58 | CK2: Gr59 | CL2: Gr60 | CM2: % | CN2: Or19 | CO2: Or20 | CP2: Or21 | CQ2: Or22 | CR2: Or32 | CS2: % | CT2: Or23 | CU2: Or24 | CV2: Or25 | CW2: Or26 | CX2: Or27 | CY2: Or28 | CZ2: % | DA2: Or29 | DB2: Or30 | DC2: Or31 | DD2: Or33 | DE2: Or34 | DF2: % | DG2: Or35 | DH2: Or36 | DI2: Or37 | DJ2: Or38 | DK2: Or39 | DL2: Or40 | DM2: Or41 | DN2: Or42 | DO2: Or43 | DP2: Or44 | DQ2: % | DR2: GV01 | DS2: GV02 | DT2: GV03 | DU2: GV04 | DV2: GV05 | DW2: GV06 | DX2: GV07 | DY2: GV08 | DZ2: GV09 | EA2: GV10 | EB2: GV11 | EC2: GV12 | ED2: %
A3: Jules | B3: =IF(AND(OR(Edl!B3<5,Edl!B3="c",Edl!B3="cc"),Edl!B3<>""),1,"") | C3: =IF(AND(OR(Edl!C3<5,Edl!C3="c",Edl!C3="cc"),Edl!C3<>""),1,"") | D3: =IF(AND(OR(Edl!D3<5,Edl!D3="c",Edl!D3="cc"),Edl!D3<>""),1,"") | E3: =IF(AND(OR(Edl!E3<5,Edl!E3="c",Edl!E3="cc"),Edl!E3<>""),1,"") | F3: =IF(AND(OR(Edl!F3<5,Edl!F3="c",Edl!F3="cc"),Edl!F3<>""),1,"") | G3: =IF(AND(OR(Edl!G3<5,Edl!G3="c",Edl!G3="cc"),Edl!G3<>""),1,"") | H3: =IF(AND(OR(Edl!H3<5,Edl!H3="c",Edl!H3="cc"),Edl!H3<>""),1,"") | I3: =IF(AND(OR(Edl!I3<5,Edl!I3="c",Edl!I3="cc"),Edl!I3<>""),1,"") | J3: =SUM(B3:I3)/8*100 -> 0 | K3: =IF(AND(OR(Edl!J3<5,Edl!J3="c",Edl!J3="cc"),Edl!J3<>""),1,"") | L3: =IF(AND(OR(Edl!K3<5,Edl!K3="c",Edl!K3="cc"),Edl!K3<>""),1,"") | M3: =IF(AND(OR(Edl!L3<5,Edl!L3="c",Edl!L3="cc"),Edl!L3<>""),1,"") | N3: =IF(AND(OR(Edl!M3<5,Edl!M3="c",Edl!M3="cc"),Edl!M3<>""),1,"") | O3: =IF(AND(OR(Edl!N3<5,Edl!N3="c",Edl!N3="cc"),Edl!N3<>""),1,"") | P3: =IF(AND(OR(Edl!O3<5,Edl!O3="c",Edl!O3="cc"),Edl!O3<>""),1,"") | Q3: =IF(AND(OR(Edl!P3<5,Edl!P3="c",Edl!P3="cc"),Edl!P3<>""),1,"") | R3: =SUM(K3:Q3)/7*100 -> 0 | S3: =IF(AND(OR(Edl!Q3<5,Edl!Q3="c",Edl!Q3="cc"),Edl!Q3<>""),1,"") | T3: =IF(AND(OR(Edl!R3<5,Edl!R3="c",Edl!R3="cc"),Edl!R3<>""),1,"") | U3: =IF(AND(OR(Edl!S3<5,Edl!S3="c",Edl!S3="cc"),Edl!S3<>""),1,"") | V3: =IF(AND(OR(Edl!T3<5,Edl!T3="c",Edl!T3="cc"),Edl!T3<>""),1,"") | W3: =IF(AND(OR(Edl!U3<5,Edl!U3="c",Edl!U3="cc"),Edl!U3<>""),1,"") | X3: =IF(AND(OR(Edl!V3<5,Edl!V3="c",Edl!V3="cc"),Edl!V3<>""),1,"") | Y3: =IF(AND(OR(Edl!W3<5,Edl!W3="c",Edl!W3="cc"),Edl!W3<>""),1,"") | Z3: =IF(AND(OR(Edl!X3<5,Edl!X3="c",Edl!X3="cc"),Edl!X3<>""),1,"") | ... AB3: =IF(AND(OR(Edl!Z3<5,Edl!Z3="c",Edl!Z3="cc"),Edl!Z3<>""),1,"") | AC3: =SUM(S3:AB3)/10*100 -> 0 | AD3: =IF(AND(OR(Edl!AA3<5,Edl!AA3="c",Edl!AA3="cc"),Edl!AA3<>""),1,"") | AE3: =IF(AND(OR(Edl!AB3<5,Edl!AB3="c",Edl!AB3="cc"),Edl!AB3<>""),1,"") | AF3: =IF(AND(OR(Edl!AC3<5,Edl!AC3="c",Edl!AC3="cc"),Edl!AC3<>""),1,"") | AG3: =IF(AND(OR(Edl!AD3<5,Edl!AD3="c",Edl!AD3="cc"),Edl!AD3<>""),1,"") | AH3: =IF(AND(OR(Edl!AE3<5,Edl!AE3="c",Edl!AE3="cc"),Edl!AE3<>""),1,"") | AI3: =IF(AND(OR(Edl!AF3<5,Edl!AF3="c",Edl!AF3="cc"),Edl!AF3<>""),1,"") | AJ3: =IF(AND(OR(Edl!AG3<5,Edl!AG3="c",Edl!AG3="cc"),Edl!AG3<>""),1,"") | AK3: =IF(AND(OR(Edl!AH3<5,Edl!AH3="c",Edl!AH3="cc"),Edl!AH3<>""),1,"") | AL3: =SUM(AD3:AK3)/8*100 -> 0 | AM3: =IF(AND(OR(Edl!AI3<5,Edl!AI3="c",Edl!AI3="cc"),Edl!AI3<>""),1,"") | AN3: =IF(AND(OR(Edl!AJ3<5,Edl!AJ3="c",Edl!AJ3="cc"),Edl!AJ3<>""),1,"") | AO3: =IF(AND(OR(Edl!AK3<5,Edl!AK3="c",Edl!AK3="cc"),Edl!AK3<>""),1,"") | AP3: =IF(AND(OR(Edl!AL3<5,Edl!AL3="c",Edl!AL3="cc"),Edl!AL3<>""),1,"") | AQ3: =IF(AND(OR(Edl!AM3<5,Edl!AM3="c",Edl!AM3="cc"),Edl!AM3<>""),1,"") | AR3: =SUM(AM3:AQ3)/5*100 -> 0 | AS3: =IF(AND(OR(Edl!AN3<5,Edl!AN3="c",Edl!AN3="cc"),Edl!AN3<>""),1,"") | AT3: =IF(AND(OR(Edl!AO3<5,Edl!AO3="c",Edl!AO3="cc"),Edl!AO3<>""),1,"") | AU3: =IF(AND(OR(Edl!AP3<5,Edl!AP3="c",Edl!AP3="cc"),Edl!AP3<>""),1,"") | AV3: =IF(AND(OR(Edl!AQ3<5,Edl!AQ3="c",Edl!AQ3="cc"),Edl!AQ3<>""),1,"") | AW3: =SUM(AS3:AV3)/4*100 -> 0 | AX3: =IF(AND(OR(Edl!AR3<5,Edl!AR3="c",Edl!AR3="cc"),Edl!AR3<>""),1,"") | AY3: =IF(AND(OR(Edl!AS3<5,Edl!AS3="c",Edl!AS3="cc"),Edl!AS3<>""),1,"") | AZ3: =IF(AND(OR(Edl!AT3<5,Edl!AT3="c",Edl!AT3="cc"),Edl!AT3<>""),1,"") | BA3: =IF(AND(OR(Edl!AU3<5,Edl!AU3="c",Edl!AU3="cc"),Edl!AU3<>""),1,"") | BB3: =IF(AND(OR(Edl!AV3<5,Edl!AV3="c",Edl!AV3="cc"),Edl!AV3<>""),1,"") | BC3: =SUM(AX3:BB3)/5*100 -> 0 | BD3: =IF(AND(OR(Edl!AW3<5,Edl!AW3="c",Edl!AW3="cc"),Edl!AW3<>""),1,"") | BE3: =IF(AND(OR(Edl!AX3<5,Edl!AX3="c",Edl!AX3="cc"),Edl!AX3<>""),1,"") | BF3: =IF(AND(OR(Edl!AY3<5,Edl!AY3="c",Edl!AY3="cc"),Edl!AY3<>""),1,"") | BG3: =IF(AND(OR(Edl!AZ3<5,Edl!AZ3="c",Edl!AZ3="cc"),Edl!AZ3<>""),1,"") | BH3: =SUM(BD3:BG3)/4*100 -> 0 | BI3: =IF(AND(OR(Edl!BA3<5,Edl!BA3="c",Edl!BA3="cc"),Edl!BA3<>""),1,"") | BJ3: =IF(AND(OR(Edl!BB3<5,Edl!BB3="c",Edl!BB3="cc"),Edl!BB3<>""),1,"") | BK3: =IF(AND(OR(Edl!BC3<5,Edl!BC3="c",Edl!BC3="cc"),Edl!BC3<>""),1,"") | BL3: =IF(AND(OR(Edl!BD3<5,Edl!BD3="c",Edl!BD3="cc"),Edl!BD3<>""),1,"") | BM3: =IF(AND(OR(Edl!BE3<5,Edl!BE3="c",Edl!BE3="cc"),Edl!BE3<>""),1,"") | BN3: =SUM(BI3:BM3)/5*100 -> 0 | BO3: =IF(AND(OR(Edl!BF3<5,Edl!BF3="c",Edl!BF3="cc"),Edl!BF3<>""),1,"") | BP3: =IF(AND(OR(Edl!BG3<5,Edl!BG3="c",Edl!BG3="cc"),Edl!BG3<>""),1,"") | BQ3: =IF(AND(OR(Edl!BH3<5,Edl!BH3="c",Edl!BH3="cc"),Edl!BH3<>""),1,"") | BR3: =IF(AND(OR(Edl!BI3<5,Edl!BI3="c",Edl!BI3="cc"),Edl!BI3<>""),1,"") | BS3: =IF(AND(OR(Edl!BJ3<5,Edl!BJ3="c",Edl!BJ3="cc"),Edl!BJ3<>""),1,"") | BT3: =IF(AND(OR(Edl!BK3<5,Edl!BK3="c",Edl!BK3="cc"),Edl!BK3<>""),1,"") | BU3: =IF(AND(OR(Edl!BL3<5,Edl!BL3="c",Edl!BL3="cc"),Edl!BL3<>""),1,"") | BV3: =SUM(BO3:BU3)/7*100 -> 0 | BW3: =IF(AND(OR(Edl!BM3<5,Edl!BM3="c",Edl!BM3="cc"),Edl!BM3<>""),1,"") | BX3: =IF(AND(OR(Edl!BN3<5,Edl!BN3="c",Edl!BN3="cc"),Edl!BN3<>""),1,"") | BY3: =IF(AND(OR(Edl!BO3<5,Edl!BO3="c",Edl!BO3="cc"),Edl!BO3<>""),1,"") | BZ3: =IF(AND(OR(Edl!BP3<5,Edl!BP3="c",Edl!BP3="cc"),Edl!BP3<>""),1,"") | CA3: =SUM(BW3:BZ3)/4*100 -> 0 | CB3: =IF(AND(OR(Edl!BQ3<5,Edl!BQ3="c",Edl!BQ3="cc"),Edl!BQ3<>""),1,"") | CC3: =IF(AND(OR(Edl!BR3<5,Edl!BR3="c",Edl!BR3="cc"),Edl!BR3<>""),1,"") | CD3: =IF(AND(OR(Edl!BS3<5,Edl!BS3="c",Edl!BS3="cc"),Edl!BS3<>""),1,"") | CE3: =IF(AND(OR(Edl!BT3<5,Edl!BT3="c",Edl!BT3="cc"),Edl!BT3<>""),1,"") | CF3: =IF(AND(OR(Edl!BU3<5,Edl!BU3="c",Edl!BU3="cc"),Edl!BU3<>""),1,"") | CG3: =IF(AND(OR(Edl!BV3<5,Edl!BV3="c",Edl!BV3="cc"),Edl!BV3<>""),1,"") | CH3: =IF(AND(OR(Edl!BW3<5,Edl!BW3="c",Edl!BW3="cc"),Edl!BW3<>""),1,"") | CI3: =IF(AND(OR(Edl!BX3<5,Edl!BX3="c",Edl!BX3="cc"),Edl!BX3<>""),1,"") | ... CL3: =IF(AND(OR(Edl!CA3<5,Edl!CA3="c",Edl!CA3="cc"),Edl!CA3<>""),1,"") | CM3: =SUM(CB3:CL3)/11*100 -> 0 | CN3: =IF(AND(OR(Edl!CB3<5,Edl!CB3="c",Edl!CB3="cc"),Edl!CB3<>""),1,"") | CO3: =IF(AND(OR(Edl!CC3<5,Edl!CC3="c",Edl!CC3="cc"),Edl!CC3<>""),1,"") | CP3: =IF(AND(OR(Edl!CD3<5,Edl!CD3="c",Edl!CD3="cc"),Edl!CD3<>""),1,"") | CQ3: =IF(AND(OR(Edl!CE3<5,Edl!CE3="c",Edl!CE3="cc"),Edl!CE3<>""),1,"") | CR3: =IF(AND(OR(Edl!CF3<5,Edl!CF3="c",Edl!CF3="cc"),Edl!CF3<>""),1,"") | CS3: =SUM(CN3:CR3)/5*100 -> 0 | CT3: =IF(AND(OR(Edl!CG3<5,Edl!CG3="c",Edl!CG3="cc"),Edl!CG3<>""),1,"") | CU3: =IF(AND(OR(Edl!CH3<5,Edl!CH3="c",Edl!CH3="cc"),Edl!CH3<>""),1,"") | CV3: =IF(AND(OR(Edl!CI3<5,Edl!CI3="c",Edl!CI3="cc"),Edl!CI3<>""),1,"") | CW3: =IF(AND(OR(Edl!CJ3<5,Edl!CJ3="c",Edl!CJ3="cc"),Edl!CJ3<>""),1,"") | CX3: =IF(AND(OR(Edl!CK3<5,Edl!CK3="c",Edl!CK3="cc"),Edl!CK3<>""),1,"") | CY3: =IF(AND(OR(Edl!CL3<5,Edl!CL3="c",Edl!CL3="cc"),Edl!CL3<>""),1,"") | CZ3: =SUM(CT3:CY3)/6*100 -> 0 | DA3: =IF(AND(OR(Edl!CM3<5,Edl!CM3="c",Edl!CM3="cc"),Edl!CM3<>""),1,"") | DB3: =IF(AND(OR(Edl!CN3<5,Edl!CN3="c",Edl!CN3="cc"),Edl!CN3<>""),1,"") | DC3: =IF(AND(OR(Edl!CO3<5,Edl!CO3="c",Edl!CO3="cc"),Edl!CO3<>""),1,"") | DD3: =IF(AND(OR(Edl!CP3<5,Edl!CP3="c",Edl!CP3="cc"),Edl!CP3<>""),1,"") | DE3: =IF(AND(OR(Edl!CQ3<5,Edl!CQ3="c",Edl!CQ3="cc"),Edl!CQ3<>""),1,"") | DF3: =SUM(DA3:DE3)/5*100 -> 0 | DG3: =IF(AND(OR(Edl!CR3<5,Edl!CR3="c",Edl!CR3="cc"),Edl!CR3<>""),1,"") | DH3: =IF(AND(OR(Edl!CS3<5,Edl!CS3="c",Edl!CS3="cc"),Edl!CS3<>""),1,"") | DI3: =IF(AND(OR(Edl!CT3<5,Edl!CT3="c",Edl!CT3="cc"),Edl!CT3<>""),1,"") | DJ3: =IF(AND(OR(Edl!CU3<5,Edl!CU3="c",Edl!CU3="cc"),Edl!CU3<>""),1,"") | DK3: =IF(AND(OR(Edl!CV3<5,Edl!CV3="c",Edl!CV3="cc"),Edl!CV3<>""),1,"") | DL3: =IF(AND(OR(Edl!CW3<5,Edl!CW3="c",Edl!CW3="cc"),Edl!CW3<>""),1,"") | DM3: =IF(AND(OR(Edl!CX3<5,Edl!CX3="c",Edl!CX3="cc"),Edl!CX3<>""),1,"") | DN3: =IF(AND(OR(Edl!CY3<5,Edl!CY3="c",Edl!CY3="cc"),Edl!CY3<>""),1,"") | ... DP3: =IF(AND(OR(Edl!DA3<5,Edl!DA3="c",Edl!DA3="cc"),Edl!DA3<>""),1,"") | DQ3: =SUM(DG3:DP4)/10*100 -> 0 | DR3: =IF(AND(OR(Edl!DB3<5,Edl!DB3="c",Edl!DB3="cc"),Edl!DB3<>""),1,"") | DS3: =IF(AND(OR(Edl!DC3<5,Edl!DC3="c",Edl!DC3="cc"),Edl!DC3<>""),1,"") | DT3: =IF(AND(OR(Edl!DD3<5,Edl!DD3="c",Edl!DD3="cc"),Edl!DD3<>""),1,"") | DU3: =IF(AND(OR(Edl!DE3<5,Edl!DE3="c",Edl!DE3="cc"),Edl!DE3<>""),1,"") | DV3: =IF(AND(OR(Edl!DF3<5,Edl!DF3="c",Edl!DF3="cc"),Edl!DF3<>""),1,"") | DW3: =IF(AND(OR(Edl!DG3<5,Edl!DG3="c",Edl!DG3="cc"),Edl!DG3<>""),1,"") | DX3: =IF(AND(OR(Edl!DH3<5,Edl!DH3="c",Edl!DH3="cc"),Edl!DH3<>""),1,"") | DY3: =IF(AND(OR(Edl!DI3<5,Edl!DI3="c",Edl!DI3="cc"),Edl!DI3<>""),1,"") | ... EC3: =IF(AND(OR(Edl!DM3<5,Edl!DM3="c",Edl!DM3="cc"),Edl!DM3<>""),1,"") | ED3: =SUM(DR3:EC3)/12*100 -> 0
A4: Emma | B4: =IF(AND(OR(Edl!B4<5,Edl!B4="c",Edl!B4="cc"),Edl!B4<>""),1,"") | C4: =IF(AND(OR(Edl!C4<5,Edl!C4="c",Edl!C4="cc"),Edl!C4<>""),1,"") | D4: =IF(AND(OR(Edl!D4<5,Edl!D4="c",Edl!D4="cc"),Edl!D4<>""),1,"") | E4: =IF(AND(OR(Edl!E4<5,Edl!E4="c",Edl!E4="cc"),Edl!E4<>""),1,"") | F4: =IF(AND(OR(Edl!F4<5,Edl!F4="c",Edl!F4="cc"),Edl!F4<>""),1,"") | G4: =IF(AND(OR(Edl!G4<5,Edl!G4="c",Edl!G4="cc"),Edl!G4<>""),1,"") | H4: =IF(AND(OR(Edl!H4<5,Edl!H4="c",Edl!H4="cc"),Edl!H4<>""),1,"") | I4: =IF(AND(OR(Edl!I4<5,Edl!I4="c",Edl!I4="cc"),Edl!I4<>""),1,"") | J4: =SUM(B4:I4)/8*100 -> 0 | K4: =IF(AND(OR(Edl!J4<5,Edl!J4="c",Edl!J4="cc"),Edl!J4<>""),1,"") | L4: =IF(AND(OR(Edl!K4<5,Edl!K4="c",Edl!K4="cc"),Edl!K4<>""),1,"") | M4: =IF(AND(OR(Edl!L4<5,Edl!L4="c",Edl!L4="cc"),Edl!L4<>""),1,"") | N4: =IF(AND(OR(Edl!M4<5,Edl!M4="c",Edl!M4="cc"),Edl!M4<>""),1,"") | O4: =IF(AND(OR(Edl!N4<5,Edl!N4="c",Edl!N4="cc"),Edl!N4<>""),1,"") | P4: =IF(AND(OR(Edl!O4<5,Edl!O4="c",Edl!O4="cc"),Edl!O4<>""),1,"") | Q4: =IF(AND(OR(Edl!P4<5,Edl!P4="c",Edl!P4="cc"),Edl!P4<>""),1,"") | R4: =SUM(K4:Q4)/7*100 -> 0 | S4: =IF(AND(OR(Edl!Q4<5,Edl!Q4="c",Edl!Q4="cc"),Edl!Q4<>""),1,"") | T4: =IF(AND(OR(Edl!R4<5,Edl!R4="c",Edl!R4="cc"),Edl!R4<>""),1,"") | U4: =IF(AND(OR(Edl!S4<5,Edl!S4="c",Edl!S4="cc"),Edl!S4<>""),1,"") | V4: =IF(AND(OR(Edl!T4<5,Edl!T4="c",Edl!T4="cc"),Edl!T4<>""),1,"") | W4: =IF(AND(OR(Edl!U4<5,Edl!U4="c",Edl!U4="cc"),Edl!U4<>""),1,"") | X4: =IF(AND(OR(Edl!V4<5,Edl!V4="c",Edl!V4="cc"),Edl!V4<>""),1,"") | Y4: =IF(AND(OR(Edl!W4<5,Edl!W4="c",Edl!W4="cc"),Edl!W4<>""),1,"") | Z4: =IF(AND(OR(Edl!X4<5,Edl!X4="c",Edl!X4="cc"),Edl!X4<>""),1,"") | ... AB4: =IF(AND(OR(Edl!Z4<5,Edl!Z4="c",Edl!Z4="cc"),Edl!Z4<>""),1,"") | AC4: =SUM(S4:AB4)/10*100 -> 0 | AD4: =IF(AND(OR(Edl!AA4<5,Edl!AA4="c",Edl!AA4="cc"),Edl!AA4<>""),1,"") | AE4: =IF(AND(OR(Edl!AB4<5,Edl!AB4="c",Edl!AB4="cc"),Edl!AB4<>""),1,"") | AF4: =IF(AND(OR(Edl!AC4<5,Edl!AC4="c",Edl!AC4="cc"),Edl!AC4<>""),1,"") | AG4: =IF(AND(OR(Edl!AD4<5,Edl!AD4="c",Edl!AD4="cc"),Edl!AD4<>""),1,"") | AH4: =IF(AND(OR(Edl!AE4<5,Edl!AE4="c",Edl!AE4="cc"),Edl!AE4<>""),1,"") | AI4: =IF(AND(OR(Edl!AF4<5,Edl!AF4="c",Edl!AF4="cc"),Edl!AF4<>""),1,"") | AJ4: =IF(AND(OR(Edl!AG4<5,Edl!AG4="c",Edl!AG4="cc"),Edl!AG4<>""),1,"") | AK4: =IF(AND(OR(Edl!AH4<5,Edl!AH4="c",Edl!AH4="cc"),Edl!AH4<>""),1,"") | AL4: =SUM(AD4:AK4)/8*100 -> 0 | AM4: =IF(AND(OR(Edl!AI4<5,Edl!AI4="c",Edl!AI4="cc"),Edl!AI4<>""),1,"") | AN4: =IF(AND(OR(Edl!AJ4<5,Edl!AJ4="c",Edl!AJ4="cc"),Edl!AJ4<>""),1,"") | AO4: =IF(AND(OR(Edl!AK4<5,Edl!AK4="c",Edl!AK4="cc"),Edl!AK4<>""),1,"") | AP4: =IF(AND(OR(Edl!AL4<5,Edl!AL4="c",Edl!AL4="cc"),Edl!AL4<>""),1,"") | AQ4: =IF(AND(OR(Edl!AM4<5,Edl!AM4="c",Edl!AM4="cc"),Edl!AM4<>""),1,"") | AR4: =SUM(AM4:AQ4)/5*100 -> 0 | AS4: =IF(AND(OR(Edl!AN4<5,Edl!AN4="c",Edl!AN4="cc"),Edl!AN4<>""),1,"") | AT4: =IF(AND(OR(Edl!AO4<5,Edl!AO4="c",Edl!AO4="cc"),Edl!AO4<>""),1,"") | AU4: =IF(AND(OR(Edl!AP4<5,Edl!AP4="c",Edl!AP4="cc"),Edl!AP4<>""),1,"") | AV4: =IF(AND(OR(Edl!AQ4<5,Edl!AQ4="c",Edl!AQ4="cc"),Edl!AQ4<>""),1,"") | AW4: =SUM(AS4:AV4)/4*100 -> 0 | AX4: =IF(AND(OR(Edl!AR4<5,Edl!AR4="c",Edl!AR4="cc"),Edl!AR4<>""),1,"") | AY4: =IF(AND(OR(Edl!AS4<5,Edl!AS4="c",Edl!AS4="cc"),Edl!AS4<>""),1,"") | AZ4: =IF(AND(OR(Edl!AT4<5,Edl!AT4="c",Edl!AT4="cc"),Edl!AT4<>""),1,"") | BA4: =IF(AND(OR(Edl!AU4<5,Edl!AU4="c",Edl!AU4="cc"),Edl!AU4<>""),1,"") | BB4: =IF(AND(OR(Edl!AV4<5,Edl!AV4="c",Edl!AV4="cc"),Edl!AV4<>""),1,"") | BC4: =SUM(AX4:BB4)/5*100 -> 0 | BD4: =IF(AND(OR(Edl!AW4<5,Edl!AW4="c",Edl!AW4="cc"),Edl!AW4<>""),1,"") | BE4: =IF(AND(OR(Edl!AX4<5,Edl!AX4="c",Edl!AX4="cc"),Edl!AX4<>""),1,"") | BF4: =IF(AND(OR(Edl!AY4<5,Edl!AY4="c",Edl!AY4="cc"),Edl!AY4<>""),1,"") | BG4: =IF(AND(OR(Edl!AZ4<5,Edl!AZ4="c",Edl!AZ4="cc"),Edl!AZ4<>""),1,"") | BH4: =SUM(BD4:BG4)/4*100 -> 0 | BI4: =IF(AND(OR(Edl!BA4<5,Edl!BA4="c",Edl!BA4="cc"),Edl!BA4<>""),1,"") | BJ4: =IF(AND(OR(Edl!BB4<5,Edl!BB4="c",Edl!BB4="cc"),Edl!BB4<>""),1,"") | BK4: =IF(AND(OR(Edl!BC4<5,Edl!BC4="c",Edl!BC4="cc"),Edl!BC4<>""),1,"") | BL4: =IF(AND(OR(Edl!BD4<5,Edl!BD4="c",Edl!BD4="cc"),Edl!BD4<>""),1,"") | BM4: =IF(AND(OR(Edl!BE4<5,Edl!BE4="c",Edl!BE4="cc"),Edl!BE4<>""),1,"") | BN4: =SUM(BI4:BM4)/5*100 -> 0 | BO4: =IF(AND(OR(Edl!BF4<5,Edl!BF4="c",Edl!BF4="cc"),Edl!BF4<>""),1,"") | BP4: =IF(AND(OR(Edl!BG4<5,Edl!BG4="c",Edl!BG4="cc"),Edl!BG4<>""),1,"") | BQ4: =IF(AND(OR(Edl!BH4<5,Edl!BH4="c",Edl!BH4="cc"),Edl!BH4<>""),1,"") | BR4: =IF(AND(OR(Edl!BI4<5,Edl!BI4="c",Edl!BI4="cc"),Edl!BI4<>""),1,"") | BS4: =IF(AND(OR(Edl!BJ4<5,Edl!BJ4="c",Edl!BJ4="cc"),Edl!BJ4<>""),1,"") | BT4: =IF(AND(OR(Edl!BK4<5,Edl!BK4="c",Edl!BK4="cc"),Edl!BK4<>""),1,"") | BU4: =IF(AND(OR(Edl!BL4<5,Edl!BL4="c",Edl!BL4="cc"),Edl!BL4<>""),1,"") | BV4: =SUM(BO4:BU4)/7*100 -> 0 | BW4: =IF(AND(OR(Edl!BM4<5,Edl!BM4="c",Edl!BM4="cc"),Edl!BM4<>""),1,"") | BX4: =IF(AND(OR(Edl!BN4<5,Edl!BN4="c",Edl!BN4="cc"),Edl!BN4<>""),1,"") | BY4: =IF(AND(OR(Edl!BO4<5,Edl!BO4="c",Edl!BO4="cc"),Edl!BO4<>""),1,"") | BZ4: =IF(AND(OR(Edl!BP4<5,Edl!BP4="c",Edl!BP4="cc"),Edl!BP4<>""),1,"") | CA4: =SUM(BW4:BZ4)/4*100 -> 0 | CB4: =IF(AND(OR(Edl!BQ4<5,Edl!BQ4="c",Edl!BQ4="cc"),Edl!BQ4<>""),1,"") | CC4: =IF(AND(OR(Edl!BR4<5,Edl!BR4="c",Edl!BR4="cc"),Edl!BR4<>""),1,"") | CD4: =IF(AND(OR(Edl!BS4<5,Edl!BS4="c",Edl!BS4="cc"),Edl!BS4<>""),1,"") | CE4: =IF(AND(OR(Edl!BT4<5,Edl!BT4="c",Edl!BT4="cc"),Edl!BT4<>""),1,"") | CF4: =IF(AND(OR(Edl!BU4<5,Edl!BU4="c",Edl!BU4="cc"),Edl!BU4<>""),1,"") | CG4: =IF(AND(OR(Edl!BV4<5,Edl!BV4="c",Edl!BV4="cc"),Edl!BV4<>""),1,"") | CH4: =IF(AND(OR(Edl!BW4<5,Edl!BW4="c",Edl!BW4="cc"),Edl!BW4<>""),1,"") | CI4: =IF(AND(OR(Edl!BX4<5,Edl!BX4="c",Edl!BX4="cc"),Edl!BX4<>""),1,"") | ... CL4: =IF(AND(OR(Edl!CA4<5,Edl!CA4="c",Edl!CA4="cc"),Edl!CA4<>""),1,"") | CM4: =SUM(CB4:CL4)/11*100 -> 0 | CN4: =IF(AND(OR(Edl!CB4<5,Edl!CB4="c",Edl!CB4="cc"),Edl!CB4<>""),1,"") | CO4: =IF(AND(OR(Edl!CC4<5,Edl!CC4="c",Edl!CC4="cc"),Edl!CC4<>""),1,"") | CP4: =IF(AND(OR(Edl!CD4<5,Edl!CD4="c",Edl!CD4="cc"),Edl!CD4<>""),1,"") | CQ4: =IF(AND(OR(Edl!CE4<5,Edl!CE4="c",Edl!CE4="cc"),Edl!CE4<>""),1,"") | CR4: =IF(AND(OR(Edl!CF4<5,Edl!CF4="c",Edl!CF4="cc"),Edl!CF4<>""),1,"") | CS4: =SUM(CN4:CR4)/5*100 -> 0 | CT4: =IF(AND(OR(Edl!CG4<5,Edl!CG4="c",Edl!CG4="cc"),Edl!CG4<>""),1,"") | CU4: =IF(AND(OR(Edl!CH4<5,Edl!CH4="c",Edl!CH4="cc"),Edl!CH4<>""),1,"") | CV4: =IF(AND(OR(Edl!CI4<5,Edl!CI4="c",Edl!CI4="cc"),Edl!CI4<>""),1,"") | CW4: =IF(AND(OR(Edl!CJ4<5,Edl!CJ4="c",Edl!CJ4="cc"),Edl!CJ4<>""),1,"") | CX4: =IF(AND(OR(Edl!CK4<5,Edl!CK4="c",Edl!CK4="cc"),Edl!CK4<>""),1,"") | CY4: =IF(AND(OR(Edl!CL4<5,Edl!CL4="c",Edl!CL4="cc"),Edl!CL4<>""),1,"") | CZ4: =SUM(CT4:CY4)/6*100 -> 0 | DA4: =IF(AND(OR(Edl!CM4<5,Edl!CM4="c",Edl!CM4="cc"),Edl!CM4<>""),1,"") | DB4: =IF(AND(OR(Edl!CN4<5,Edl!CN4="c",Edl!CN4="cc"),Edl!CN4<>""),1,"") | DC4: =IF(AND(OR(Edl!CO4<5,Edl!CO4="c",Edl!CO4="cc"),Edl!CO4<>""),1,"") | DD4: =IF(AND(OR(Edl!CP4<5,Edl!CP4="c",Edl!CP4="cc"),Edl!CP4<>""),1,"") | DE4: =IF(AND(OR(Edl!CQ4<5,Edl!CQ4="c",Edl!CQ4="cc"),Edl!CQ4<>""),1,"") | DF4: =SUM(DA4:DE4)/5*100 -> 0 | DG4: =IF(AND(OR(Edl!CR4<5,Edl!CR4="c",Edl!CR4="cc"),Edl!CR4<>""),1,"") | DH4: =IF(AND(OR(Edl!CS4<5,Edl!CS4="c",Edl!CS4="cc"),Edl!CS4<>""),1,"") | DI4: =IF(AND(OR(Edl!CT4<5,Edl!CT4="c",Edl!CT4="cc"),Edl!CT4<>""),1,"") | DJ4: =IF(AND(OR(Edl!CU4<5,Edl!CU4="c",Edl!CU4="cc"),Edl!CU4<>""),1,"") | DK4: =IF(AND(OR(Edl!CV4<5,Edl!CV4="c",Edl!CV4="cc"),Edl!CV4<>""),1,"") | DL4: =IF(AND(OR(Edl!CW4<5,Edl!CW4="c",Edl!CW4="cc"),Edl!CW4<>""),1,"") | DM4: =IF(AND(OR(Edl!CX4<5,Edl!CX4="c",Edl!CX4="cc"),Edl!CX4<>""),1,"") | DN4: =IF(AND(OR(Edl!CY4<5,Edl!CY4="c",Edl!CY4="cc"),Edl!CY4<>""),1,"") | ... DP4: =IF(AND(OR(Edl!DA4<5,Edl!DA4="c",Edl!DA4="cc"),Edl!DA4<>""),1,"") | DQ4: =SUM(DG4:DP5)/10*100 -> 0 | DR4: =IF(AND(OR(Edl!DB4<5,Edl!DB4="c",Edl!DB4="cc"),Edl!DB4<>""),1,"") | DS4: =IF(AND(OR(Edl!DC4<5,Edl!DC4="c",Edl!DC4="cc"),Edl!DC4<>""),1,"") | DT4: =IF(AND(OR(Edl!DD4<5,Edl!DD4="c",Edl!DD4="cc"),Edl!DD4<>""),1,"") | DU4: =IF(AND(OR(Edl!DE4<5,Edl!DE4="c",Edl!DE4="cc"),Edl!DE4<>""),1,"") | DV4: =IF(AND(OR(Edl!DF4<5,Edl!DF4="c",Edl!DF4="cc"),Edl!DF4<>""),1,"") | DW4: =IF(AND(OR(Edl!DG4<5,Edl!DG4="c",Edl!DG4="cc"),Edl!DG4<>""),1,"") | DX4: =IF(AND(OR(Edl!DH4<5,Edl!DH4="c",Edl!DH4="cc"),Edl!DH4<>""),1,"") | DY4: =IF(AND(OR(Edl!DI4<5,Edl!DI4="c",Edl!DI4="cc"),Edl!DI4<>""),1,"") | ... EC4: =IF(AND(OR(Edl!DM4<5,Edl!DM4="c",Edl!DM4="cc"),Edl!DM4<>""),1,"") | ED4: =SUM(DR4:EC4)/12*100 -> 0
A5: Chloé | B5: =IF(AND(OR(Edl!B5<5,Edl!B5="c",Edl!B5="cc"),Edl!B5<>""),1,"") | C5: =IF(AND(OR(Edl!C5<5,Edl!C5="c",Edl!C5="cc"),Edl!C5<>""),1,"") | D5: =IF(AND(OR(Edl!D5<5,Edl!D5="c",Edl!D5="cc"),Edl!D5<>""),1,"") | E5: =IF(AND(OR(Edl!E5<5,Edl!E5="c",Edl!E5="cc"),Edl!E5<>""),1,"") | F5: =IF(AND(OR(Edl!F5<5,Edl!F5="c",Edl!F5="cc"),Edl!F5<>""),1,"") | G5: =IF(AND(OR(Edl!G5<5,Edl!G5="c",Edl!G5="cc"),Edl!G5<>""),1,"") | H5: =IF(AND(OR(Edl!H5<5,Edl!H5="c",Edl!H5="cc"),Edl!H5<>""),1,"") | I5: =IF(AND(OR(Edl!I5<5,Edl!I5="c",Edl!I5="cc"),Edl!I5<>""),1,"") | J5: =SUM(B5:I5)/8*100 -> 0 | K5: =IF(AND(OR(Edl!J5<5,Edl!J5="c",Edl!J5="cc"),Edl!J5<>""),1,"") | L5: =IF(AND(OR(Edl!K5<5,Edl!K5="c",Edl!K5="cc"),Edl!K5<>""),1,"") | M5: =IF(AND(OR(Edl!L5<5,Edl!L5="c",Edl!L5="cc"),Edl!L5<>""),1,"") | N5: =IF(AND(OR(Edl!M5<5,Edl!M5="c",Edl!M5="cc"),Edl!M5<>""),1,"") | O5: =IF(AND(OR(Edl!N5<5,Edl!N5="c",Edl!N5="cc"),Edl!N5<>""),1,"") | P5: =IF(AND(OR(Edl!O5<5,Edl!O5="c",Edl!O5="cc"),Edl!O5<>""),1,"") | Q5: =IF(AND(OR(Edl!P5<5,Edl!P5="c",Edl!P5="cc"),Edl!P5<>""),1,"") | R5: =SUM(K5:Q5)/7*100 -> 0 | S5: =IF(AND(OR(Edl!Q5<5,Edl!Q5="c",Edl!Q5="cc"),Edl!Q5<>""),1,"") | T5: =IF(AND(OR(Edl!R5<5,Edl!R5="c",Edl!R5="cc"),Edl!R5<>""),1,"") | U5: =IF(AND(OR(Edl!S5<5,Edl!S5="c",Edl!S5="cc"),Edl!S5<>""),1,"") | V5: =IF(AND(OR(Edl!T5<5,Edl!T5="c",Edl!T5="cc"),Edl!T5<>""),1,"") | W5: =IF(AND(OR(Edl!U5<5,Edl!U5="c",Edl!U5="cc"),Edl!U5<>""),1,"") | X5: =IF(AND(OR(Edl!V5<5,Edl!V5="c",Edl!V5="cc"),Edl!V5<>""),1,"") | Y5: =IF(AND(OR(Edl!W5<5,Edl!W5="c",Edl!W5="cc"),Edl!W5<>""),1,"") | Z5: =IF(AND(OR(Edl!X5<5,Edl!X5="c",Edl!X5="cc"),Edl!X5<>""),1,"") | ... AB5: =IF(AND(OR(Edl!Z5<5,Edl!Z5="c",Edl!Z5="cc"),Edl!Z5<>""),1,"") | AC5: =SUM(S5:AB5)/10*100 -> 0 | AD5: =IF(AND(OR(Edl!AA5<5,Edl!AA5="c",Edl!AA5="cc"),Edl!AA5<>""),1,"") | AE5: =IF(AND(OR(Edl!AB5<5,Edl!AB5="c",Edl!AB5="cc"),Edl!AB5<>""),1,"") | AF5: =IF(AND(OR(Edl!AC5<5,Edl!AC5="c",Edl!AC5="cc"),Edl!AC5<>""),1,"") | AG5: =IF(AND(OR(Edl!AD5<5,Edl!AD5="c",Edl!AD5="cc"),Edl!AD5<>""),1,"") | AH5: =IF(AND(OR(Edl!AE5<5,Edl!AE5="c",Edl!AE5="cc"),Edl!AE5<>""),1,"") | AI5: =IF(AND(OR(Edl!AF5<5,Edl!AF5="c",Edl!AF5="cc"),Edl!AF5<>""),1,"") | AJ5: =IF(AND(OR(Edl!AG5<5,Edl!AG5="c",Edl!AG5="cc"),Edl!AG5<>""),1,"") | AK5: =IF(AND(OR(Edl!AH5<5,Edl!AH5="c",Edl!AH5="cc"),Edl!AH5<>""),1,"") | AL5: =SUM(AD5:AK5)/8*100 -> 0 | AM5: =IF(AND(OR(Edl!AI5<5,Edl!AI5="c",Edl!AI5="cc"),Edl!AI5<>""),1,"") | AN5: =IF(AND(OR(Edl!AJ5<5,Edl!AJ5="c",Edl!AJ5="cc"),Edl!AJ5<>""),1,"") | AO5: =IF(AND(OR(Edl!AK5<5,Edl!AK5="c",Edl!AK5="cc"),Edl!AK5<>""),1,"") | AP5: =IF(AND(OR(Edl!AL5<5,Edl!AL5="c",Edl!AL5="cc"),Edl!AL5<>""),1,"") | AQ5: =IF(AND(OR(Edl!AM5<5,Edl!AM5="c",Edl!AM5="cc"),Edl!AM5<>""),1,"") | AR5: =SUM(AM5:AQ5)/5*100 -> 0 | AS5: =IF(AND(OR(Edl!AN5<5,Edl!AN5="c",Edl!AN5="cc"),Edl!AN5<>""),1,"") | AT5: =IF(AND(OR(Edl!AO5<5,Edl!AO5="c",Edl!AO5="cc"),Edl!AO5<>""),1,"") | AU5: =IF(AND(OR(Edl!AP5<5,Edl!AP5="c",Edl!AP5="cc"),Edl!AP5<>""),1,"") | AV5: =IF(AND(OR(Edl!AQ5<5,Edl!AQ5="c",Edl!AQ5="cc"),Edl!AQ5<>""),1,"") | AW5: =SUM(AS5:AV5)/4*100 -> 0 | AX5: =IF(AND(OR(Edl!AR5<5,Edl!AR5="c",Edl!AR5="cc"),Edl!AR5<>""),1,"") | AY5: =IF(AND(OR(Edl!AS5<5,Edl!AS5="c",Edl!AS5="cc"),Edl!AS5<>""),1,"") | AZ5: =IF(AND(OR(Edl!AT5<5,Edl!AT5="c",Edl!AT5="cc"),Edl!AT5<>""),1,"") | BA5: =IF(AND(OR(Edl!AU5<5,Edl!AU5="c",Edl!AU5="cc"),Edl!AU5<>""),1,"") | BB5: =IF(AND(OR(Edl!AV5<5,Edl!AV5="c",Edl!AV5="cc"),Edl!AV5<>""),1,"") | BC5: =SUM(AX5:BB5)/5*100 -> 0 | BD5: =IF(AND(OR(Edl!AW5<5,Edl!AW5="c",Edl!AW5="cc"),Edl!AW5<>""),1,"") | BE5: =IF(AND(OR(Edl!AX5<5,Edl!AX5="c",Edl!AX5="cc"),Edl!AX5<>""),1,"") | BF5: =IF(AND(OR(Edl!AY5<5,Edl!AY5="c",Edl!AY5="cc"),Edl!AY5<>""),1,"") | BG5: =IF(AND(OR(Edl!AZ5<5,Edl!AZ5="c",Edl!AZ5="cc"),Edl!AZ5<>""),1,"") | BH5: =SUM(BD5:BG5)/4*100 -> 0 | BI5: =IF(AND(OR(Edl!BA5<5,Edl!BA5="c",Edl!BA5="cc"),Edl!BA5<>""),1,"") | BJ5: =IF(AND(OR(Edl!BB5<5,Edl!BB5="c",Edl!BB5="cc"),Edl!BB5<>""),1,"") | BK5: =IF(AND(OR(Edl!BC5<5,Edl!BC5="c",Edl!BC5="cc"),Edl!BC5<>""),1,"") | BL5: =IF(AND(OR(Edl!BD5<5,Edl!BD5="c",Edl!BD5="cc"),Edl!BD5<>""),1,"") | BM5: =IF(AND(OR(Edl!BE5<5,Edl!BE5="c",Edl!BE5="cc"),Edl!BE5<>""),1,"") | BN5: =SUM(BI5:BM5)/5*100 -> 0 | BO5: =IF(AND(OR(Edl!BF5<5,Edl!BF5="c",Edl!BF5="cc"),Edl!BF5<>""),1,"") | BP5: =IF(AND(OR(Edl!BG5<5,Edl!BG5="c",Edl!BG5="cc"),Edl!BG5<>""),1,"") | BQ5: =IF(AND(OR(Edl!BH5<5,Edl!BH5="c",Edl!BH5="cc"),Edl!BH5<>""),1,"") | BR5: =IF(AND(OR(Edl!BI5<5,Edl!BI5="c",Edl!BI5="cc"),Edl!BI5<>""),1,"") | BS5: =IF(AND(OR(Edl!BJ5<5,Edl!BJ5="c",Edl!BJ5="cc"),Edl!BJ5<>""),1,"") | BT5: =IF(AND(OR(Edl!BK5<5,Edl!BK5="c",Edl!BK5="cc"),Edl!BK5<>""),1,"") | BU5: =IF(AND(OR(Edl!BL5<5,Edl!BL5="c",Edl!BL5="cc"),Edl!BL5<>""),1,"") | BV5: =SUM(BO5:BU5)/7*100 -> 0 | BW5: =IF(AND(OR(Edl!BM5<5,Edl!BM5="c",Edl!BM5="cc"),Edl!BM5<>""),1,"") | BX5: =IF(AND(OR(Edl!BN5<5,Edl!BN5="c",Edl!BN5="cc"),Edl!BN5<>""),1,"") | BY5: =IF(AND(OR(Edl!BO5<5,Edl!BO5="c",Edl!BO5="cc"),Edl!BO5<>""),1,"") | BZ5: =IF(AND(OR(Edl!BP5<5,Edl!BP5="c",Edl!BP5="cc"),Edl!BP5<>""),1,"") | CA5: =SUM(BW5:BZ5)/4*100 -> 0 | CB5: =IF(AND(OR(Edl!BQ5<5,Edl!BQ5="c",Edl!BQ5="cc"),Edl!BQ5<>""),1,"") | CC5: =IF(AND(OR(Edl!BR5<5,Edl!BR5="c",Edl!BR5="cc"),Edl!BR5<>""),1,"") | CD5: =IF(AND(OR(Edl!BS5<5,Edl!BS5="c",Edl!BS5="cc"),Edl!BS5<>""),1,"") | CE5: =IF(AND(OR(Edl!BT5<5,Edl!BT5="c",Edl!BT5="cc"),Edl!BT5<>""),1,"") | CF5: =IF(AND(OR(Edl!BU5<5,Edl!BU5="c",Edl!BU5="cc"),Edl!BU5<>""),1,"") | CG5: =IF(AND(OR(Edl!BV5<5,Edl!BV5="c",Edl!BV5="cc"),Edl!BV5<>""),1,"") | CH5: =IF(AND(OR(Edl!BW5<5,Edl!BW5="c",Edl!BW5="cc"),Edl!BW5<>""),1,"") | CI5: =IF(AND(OR(Edl!BX5<5,Edl!BX5="c",Edl!BX5="cc"),Edl!BX5<>""),1,"") | ... CL5: =IF(AND(OR(Edl!CA5<5,Edl!CA5="c",Edl!CA5="cc"),Edl!CA5<>""),1,"") | CM5: =SUM(CB5:CL5)/11*100 -> 0 | CN5: =IF(AND(OR(Edl!CB5<5,Edl!CB5="c",Edl!CB5="cc"),Edl!CB5<>""),1,"") | CO5: =IF(AND(OR(Edl!CC5<5,Edl!CC5="c",Edl!CC5="cc"),Edl!CC5<>""),1,"") | CP5: =IF(AND(OR(Edl!CD5<5,Edl!CD5="c",Edl!CD5="cc"),Edl!CD5<>""),1,"") | CQ5: =IF(AND(OR(Edl!CE5<5,Edl!CE5="c",Edl!CE5="cc"),Edl!CE5<>""),1,"") | CR5: =IF(AND(OR(Edl!CF5<5,Edl!CF5="c",Edl!CF5="cc"),Edl!CF5<>""),1,"") | CS5: =SUM(CN5:CR5)/5*100 -> 0 | CT5: =IF(AND(OR(Edl!CG5<5,Edl!CG5="c",Edl!CG5="cc"),Edl!CG5<>""),1,"") | CU5: =IF(AND(OR(Edl!CH5<5,Edl!CH5="c",Edl!CH5="cc"),Edl!CH5<>""),1,"") | CV5: =IF(AND(OR(Edl!CI5<5,Edl!CI5="c",Edl!CI5="cc"),Edl!CI5<>""),1,"") | CW5: =IF(AND(OR(Edl!CJ5<5,Edl!CJ5="c",Edl!CJ5="cc"),Edl!CJ5<>""),1,"") | CX5: =IF(AND(OR(Edl!CK5<5,Edl!CK5="c",Edl!CK5="cc"),Edl!CK5<>""),1,"") | CY5: =IF(AND(OR(Edl!CL5<5,Edl!CL5="c",Edl!CL5="cc"),Edl!CL5<>""),1,"") | CZ5: =SUM(CT5:CY5)/6*100 -> 0 | DA5: =IF(AND(OR(Edl!CM5<5,Edl!CM5="c",Edl!CM5="cc"),Edl!CM5<>""),1,"") | DB5: =IF(AND(OR(Edl!CN5<5,Edl!CN5="c",Edl!CN5="cc"),Edl!CN5<>""),1,"") | DC5: =IF(AND(OR(Edl!CO5<5,Edl!CO5="c",Edl!CO5="cc"),Edl!CO5<>""),1,"") | DD5: =IF(AND(OR(Edl!CP5<5,Edl!CP5="c",Edl!CP5="cc"),Edl!CP5<>""),1,"") | DE5: =IF(AND(OR(Edl!CQ5<5,Edl!CQ5="c",Edl!CQ5="cc"),Edl!CQ5<>""),1,"") | DF5: =SUM(DA5:DE5)/5*100 -> 0 | DG5: =IF(AND(OR(Edl!CR5<5,Edl!CR5="c",Edl!CR5="cc"),Edl!CR5<>""),1,"") | DH5: =IF(AND(OR(Edl!CS5<5,Edl!CS5="c",Edl!CS5="cc"),Edl!CS5<>""),1,"") | DI5: =IF(AND(OR(Edl!CT5<5,Edl!CT5="c",Edl!CT5="cc"),Edl!CT5<>""),1,"") | DJ5: =IF(AND(OR(Edl!CU5<5,Edl!CU5="c",Edl!CU5="cc"),Edl!CU5<>""),1,"") | DK5: =IF(AND(OR(Edl!CV5<5,Edl!CV5="c",Edl!CV5="cc"),Edl!CV5<>""),1,"") | DL5: =IF(AND(OR(Edl!CW5<5,Edl!CW5="c",Edl!CW5="cc"),Edl!CW5<>""),1,"") | DM5: =IF(AND(OR(Edl!CX5<5,Edl!CX5="c",Edl!CX5="cc"),Edl!CX5<>""),1,"") | DN5: =IF(AND(OR(Edl!CY5<5,Edl!CY5="c",Edl!CY5="cc"),Edl!CY5<>""),1,"") | ... DP5: =IF(AND(OR(Edl!DA5<5,Edl!DA5="c",Edl!DA5="cc"),Edl!DA5<>""),1,"") | DQ5: =SUM(DG5:DP6)/10*100 -> 0 | DR5: =IF(AND(OR(Edl!DB5<5,Edl!DB5="c",Edl!DB5="cc"),Edl!DB5<>""),1,"") | DS5: =IF(AND(OR(Edl!DC5<5,Edl!DC5="c",Edl!DC5="cc"),Edl!DC5<>""),1,"") | DT5: =IF(AND(OR(Edl!DD5<5,Edl!DD5="c",Edl!DD5="cc"),Edl!DD5<>""),1,"") | DU5: =IF(AND(OR(Edl!DE5<5,Edl!DE5="c",Edl!DE5="cc"),Edl!DE5<>""),1,"") | DV5: =IF(AND(OR(Edl!DF5<5,Edl!DF5="c",Edl!DF5="cc"),Edl!DF5<>""),1,"") | DW5: =IF(AND(OR(Edl!DG5<5,Edl!DG5="c",Edl!DG5="cc"),Edl!DG5<>""),1,"") | DX5: =IF(AND(OR(Edl!DH5<5,Edl!DH5="c",Edl!DH5="cc"),Edl!DH5<>""),1,"") | DY5: =IF(AND(OR(Edl!DI5<5,Edl!DI5="c",Edl!DI5="cc"),Edl!DI5<>""),1,"") | ... EC5: =IF(AND(OR(Edl!DM5<5,Edl!DM5="c",Edl!DM5="cc"),Edl!DM5<>""),1,"") | ED5: =SUM(DR5:EC5)/12*100 -> 0
A6: Océane | B6: =IF(AND(OR(Edl!B6<5,Edl!B6="c",Edl!B6="cc"),Edl!B6<>""),1,"") | C6: =IF(AND(OR(Edl!C6<5,Edl!C6="c",Edl!C6="cc"),Edl!C6<>""),1,"") | D6: =IF(AND(OR(Edl!D6<5,Edl!D6="c",Edl!D6="cc"),Edl!D6<>""),1,"") | E6: =IF(AND(OR(Edl!E6<5,Edl!E6="c",Edl!E6="cc"),Edl!E6<>""),1,"") | F6: =IF(AND(OR(Edl!F6<5,Edl!F6="c",Edl!F6="cc"),Edl!F6<>""),1,"") | G6: =IF(AND(OR(Edl!G6<5,Edl!G6="c",Edl!G6="cc"),Edl!G6<>""),1,"") | H6: =IF(AND(OR(Edl!H6<5,Edl!H6="c",Edl!H6="cc"),Edl!H6<>""),1,"") | I6: =IF(AND(OR(Edl!I6<5,Edl!I6="c",Edl!I6="cc"),Edl!I6<>""),1,"") | J6: =SUM(B6:I6)/8*100 -> 0 | K6: =IF(AND(OR(Edl!J6<5,Edl!J6="c",Edl!J6="cc"),Edl!J6<>""),1,"") | L6: =IF(AND(OR(Edl!K6<5,Edl!K6="c",Edl!K6="cc"),Edl!K6<>""),1,"") | M6: =IF(AND(OR(Edl!L6<5,Edl!L6="c",Edl!L6="cc"),Edl!L6<>""),1,"") | N6: =IF(AND(OR(Edl!M6<5,Edl!M6="c",Edl!M6="cc"),Edl!M6<>""),1,"") | O6: =IF(AND(OR(Edl!N6<5,Edl!N6="c",Edl!N6="cc"),Edl!N6<>""),1,"") | P6: =IF(AND(OR(Edl!O6<5,Edl!O6="c",Edl!O6="cc"),Edl!O6<>""),1,"") | Q6: =IF(AND(OR(Edl!P6<5,Edl!P6="c",Edl!P6="cc"),Edl!P6<>""),1,"") | R6: =SUM(K6:Q6)/7*100 -> 0 | S6: =IF(AND(OR(Edl!Q6<5,Edl!Q6="c",Edl!Q6="cc"),Edl!Q6<>""),1,"") | T6: =IF(AND(OR(Edl!R6<5,Edl!R6="c",Edl!R6="cc"),Edl!R6<>""),1,"") | U6: =IF(AND(OR(Edl!S6<5,Edl!S6="c",Edl!S6="cc"),Edl!S6<>""),1,"") | V6: =IF(AND(OR(Edl!T6<5,Edl!T6="c",Edl!T6="cc"),Edl!T6<>""),1,"") | W6: =IF(AND(OR(Edl!U6<5,Edl!U6="c",Edl!U6="cc"),Edl!U6<>""),1,"") | X6: =IF(AND(OR(Edl!V6<5,Edl!V6="c",Edl!V6="cc"),Edl!V6<>""),1,"") | Y6: =IF(AND(OR(Edl!W6<5,Edl!W6="c",Edl!W6="cc"),Edl!W6<>""),1,"") | Z6: =IF(AND(OR(Edl!X6<5,Edl!X6="c",Edl!X6="cc"),Edl!X6<>""),1,"") | ... AB6: =IF(AND(OR(Edl!Z6<5,Edl!Z6="c",Edl!Z6="cc"),Edl!Z6<>""),1,"") | AC6: =SUM(S6:AB6)/10*100 -> 0 | AD6: =IF(AND(OR(Edl!AA6<5,Edl!AA6="c",Edl!AA6="cc"),Edl!AA6<>""),1,"") | AE6: =IF(AND(OR(Edl!AB6<5,Edl!AB6="c",Edl!AB6="cc"),Edl!AB6<>""),1,"") | AF6: =IF(AND(OR(Edl!AC6<5,Edl!AC6="c",Edl!AC6="cc"),Edl!AC6<>""),1,"") | AG6: =IF(AND(OR(Edl!AD6<5,Edl!AD6="c",Edl!AD6="cc"),Edl!AD6<>""),1,"") | AH6: =IF(AND(OR(Edl!AE6<5,Edl!AE6="c",Edl!AE6="cc"),Edl!AE6<>""),1,"") | AI6: =IF(AND(OR(Edl!AF6<5,Edl!AF6="c",Edl!AF6="cc"),Edl!AF6<>""),1,"") | AJ6: =IF(AND(OR(Edl!AG6<5,Edl!AG6="c",Edl!AG6="cc"),Edl!AG6<>""),1,"") | AK6: =IF(AND(OR(Edl!AH6<5,Edl!AH6="c",Edl!AH6="cc"),Edl!AH6<>""),1,"") | AL6: =SUM(AD6:AK6)/8*100 -> 0 | AM6: =IF(AND(OR(Edl!AI6<5,Edl!AI6="c",Edl!AI6="cc"),Edl!AI6<>""),1,"") | AN6: =IF(AND(OR(Edl!AJ6<5,Edl!AJ6="c",Edl!AJ6="cc"),Edl!AJ6<>""),1,"") | AO6: =IF(AND(OR(Edl!AK6<5,Edl!AK6="c",Edl!AK6="cc"),Edl!AK6<>""),1,"") | AP6: =IF(AND(OR(Edl!AL6<5,Edl!AL6="c",Edl!AL6="cc"),Edl!AL6<>""),1,"") | AQ6: =IF(AND(OR(Edl!AM6<5,Edl!AM6="c",Edl!AM6="cc"),Edl!AM6<>""),1,"") | AR6: =SUM(AM6:AQ6)/5*100 -> 0 | AS6: =IF(AND(OR(Edl!AN6<5,Edl!AN6="c",Edl!AN6="cc"),Edl!AN6<>""),1,"") | AT6: =IF(AND(OR(Edl!AO6<5,Edl!AO6="c",Edl!AO6="cc"),Edl!AO6<>""),1,"") | AU6: =IF(AND(OR(Edl!AP6<5,Edl!AP6="c",Edl!AP6="cc"),Edl!AP6<>""),1,"") | AV6: =IF(AND(OR(Edl!AQ6<5,Edl!AQ6="c",Edl!AQ6="cc"),Edl!AQ6<>""),1,"") | AW6: =SUM(AS6:AV6)/4*100 -> 0 | AX6: =IF(AND(OR(Edl!AR6<5,Edl!AR6="c",Edl!AR6="cc"),Edl!AR6<>""),1,"") | AY6: =IF(AND(OR(Edl!AS6<5,Edl!AS6="c",Edl!AS6="cc"),Edl!AS6<>""),1,"") | AZ6: =IF(AND(OR(Edl!AT6<5,Edl!AT6="c",Edl!AT6="cc"),Edl!AT6<>""),1,"") | BA6: =IF(AND(OR(Edl!AU6<5,Edl!AU6="c",Edl!AU6="cc"),Edl!AU6<>""),1,"") | BB6: =IF(AND(OR(Edl!AV6<5,Edl!AV6="c",Edl!AV6="cc"),Edl!AV6<>""),1,"") | BC6: =SUM(AX6:BB6)/5*100 -> 0 | BD6: =IF(AND(OR(Edl!AW6<5,Edl!AW6="c",Edl!AW6="cc"),Edl!AW6<>""),1,"") | BE6: =IF(AND(OR(Edl!AX6<5,Edl!AX6="c",Edl!AX6="cc"),Edl!AX6<>""),1,"") | BF6: =IF(AND(OR(Edl!AY6<5,Edl!AY6="c",Edl!AY6="cc"),Edl!AY6<>""),1,"") | BG6: =IF(AND(OR(Edl!AZ6<5,Edl!AZ6="c",Edl!AZ6="cc"),Edl!AZ6<>""),1,"") | BH6: =SUM(BD6:BG6)/4*100 -> 0 | BI6: =IF(AND(OR(Edl!BA6<5,Edl!BA6="c",Edl!BA6="cc"),Edl!BA6<>""),1,"") | BJ6: =IF(AND(OR(Edl!BB6<5,Edl!BB6="c",Edl!BB6="cc"),Edl!BB6<>""),1,"") | BK6: =IF(AND(OR(Edl!BC6<5,Edl!BC6="c",Edl!BC6="cc"),Edl!BC6<>""),1,"") | BL6: =IF(AND(OR(Edl!BD6<5,Edl!BD6="c",Edl!BD6="cc"),Edl!BD6<>""),1,"") | BM6: =IF(AND(OR(Edl!BE6<5,Edl!BE6="c",Edl!BE6="cc"),Edl!BE6<>""),1,"") | BN6: =SUM(BI6:BM6)/5*100 -> 0 | BO6: =IF(AND(OR(Edl!BF6<5,Edl!BF6="c",Edl!BF6="cc"),Edl!BF6<>""),1,"") | BP6: =IF(AND(OR(Edl!BG6<5,Edl!BG6="c",Edl!BG6="cc"),Edl!BG6<>""),1,"") | BQ6: =IF(AND(OR(Edl!BH6<5,Edl!BH6="c",Edl!BH6="cc"),Edl!BH6<>""),1,"") | BR6: =IF(AND(OR(Edl!BI6<5,Edl!BI6="c",Edl!BI6="cc"),Edl!BI6<>""),1,"") | BS6: =IF(AND(OR(Edl!BJ6<5,Edl!BJ6="c",Edl!BJ6="cc"),Edl!BJ6<>""),1,"") | BT6: =IF(AND(OR(Edl!BK6<5,Edl!BK6="c",Edl!BK6="cc"),Edl!BK6<>""),1,"") | BU6: =IF(AND(OR(Edl!BL6<5,Edl!BL6="c",Edl!BL6="cc"),Edl!BL6<>""),1,"") | BV6: =SUM(BO6:BU6)/7*100 -> 0 | BW6: =IF(AND(OR(Edl!BM6<5,Edl!BM6="c",Edl!BM6="cc"),Edl!BM6<>""),1,"") | BX6: =IF(AND(OR(Edl!BN6<5,Edl!BN6="c",Edl!BN6="cc"),Edl!BN6<>""),1,"") | BY6: =IF(AND(OR(Edl!BO6<5,Edl!BO6="c",Edl!BO6="cc"),Edl!BO6<>""),1,"") | BZ6: =IF(AND(OR(Edl!BP6<5,Edl!BP6="c",Edl!BP6="cc"),Edl!BP6<>""),1,"") | CA6: =SUM(BW6:BZ6)/4*100 -> 0 | CB6: =IF(AND(OR(Edl!BQ6<5,Edl!BQ6="c",Edl!BQ6="cc"),Edl!BQ6<>""),1,"") | CC6: =IF(AND(OR(Edl!BR6<5,Edl!BR6="c",Edl!BR6="cc"),Edl!BR6<>""),1,"") | CD6: =IF(AND(OR(Edl!BS6<5,Edl!BS6="c",Edl!BS6="cc"),Edl!BS6<>""),1,"") | CE6: =IF(AND(OR(Edl!BT6<5,Edl!BT6="c",Edl!BT6="cc"),Edl!BT6<>""),1,"") | CF6: =IF(AND(OR(Edl!BU6<5,Edl!BU6="c",Edl!BU6="cc"),Edl!BU6<>""),1,"") | CG6: =IF(AND(OR(Edl!BV6<5,Edl!BV6="c",Edl!BV6="cc"),Edl!BV6<>""),1,"") | CH6: =IF(AND(OR(Edl!BW6<5,Edl!BW6="c",Edl!BW6="cc"),Edl!BW6<>""),1,"") | CI6: =IF(AND(OR(Edl!BX6<5,Edl!BX6="c",Edl!BX6="cc"),Edl!BX6<>""),1,"") | ... CL6: =IF(AND(OR(Edl!CA6<5,Edl!CA6="c",Edl!CA6="cc"),Edl!CA6<>""),1,"") | CM6: =SUM(CB6:CL6)/11*100 -> 0 | CN6: =IF(AND(OR(Edl!CB6<5,Edl!CB6="c",Edl!CB6="cc"),Edl!CB6<>""),1,"") | CO6: =IF(AND(OR(Edl!CC6<5,Edl!CC6="c",Edl!CC6="cc"),Edl!CC6<>""),1,"") | CP6: =IF(AND(OR(Edl!CD6<5,Edl!CD6="c",Edl!CD6="cc"),Edl!CD6<>""),1,"") | CQ6: =IF(AND(OR(Edl!CE6<5,Edl!CE6="c",Edl!CE6="cc"),Edl!CE6<>""),1,"") | CR6: =IF(AND(OR(Edl!CF6<5,Edl!CF6="c",Edl!CF6="cc"),Edl!CF6<>""),1,"") | CS6: =SUM(CN6:CR6)/5*100 -> 0 | CT6: =IF(AND(OR(Edl!CG6<5,Edl!CG6="c",Edl!CG6="cc"),Edl!CG6<>""),1,"") | CU6: =IF(AND(OR(Edl!CH6<5,Edl!CH6="c",Edl!CH6="cc"),Edl!CH6<>""),1,"") | CV6: =IF(AND(OR(Edl!CI6<5,Edl!CI6="c",Edl!CI6="cc"),Edl!CI6<>""),1,"") | CW6: =IF(AND(OR(Edl!CJ6<5,Edl!CJ6="c",Edl!CJ6="cc"),Edl!CJ6<>""),1,"") | CX6: =IF(AND(OR(Edl!CK6<5,Edl!CK6="c",Edl!CK6="cc"),Edl!CK6<>""),1,"") | CY6: =IF(AND(OR(Edl!CL6<5,Edl!CL6="c",Edl!CL6="cc"),Edl!CL6<>""),1,"") | CZ6: =SUM(CT6:CY6)/6*100 -> 0 | DA6: =IF(AND(OR(Edl!CM6<5,Edl!CM6="c",Edl!CM6="cc"),Edl!CM6<>""),1,"") | DB6: =IF(AND(OR(Edl!CN6<5,Edl!CN6="c",Edl!CN6="cc"),Edl!CN6<>""),1,"") | DC6: =IF(AND(OR(Edl!CO6<5,Edl!CO6="c",Edl!CO6="cc"),Edl!CO6<>""),1,"") | DD6: =IF(AND(OR(Edl!CP6<5,Edl!CP6="c",Edl!CP6="cc"),Edl!CP6<>""),1,"") | DE6: =IF(AND(OR(Edl!CQ6<5,Edl!CQ6="c",Edl!CQ6="cc"),Edl!CQ6<>""),1,"") | DF6: =SUM(DA6:DE6)/5*100 -> 0 | DG6: =IF(AND(OR(Edl!CR6<5,Edl!CR6="c",Edl!CR6="cc"),Edl!CR6<>""),1,"") | DH6: =IF(AND(OR(Edl!CS6<5,Edl!CS6="c",Edl!CS6="cc"),Edl!CS6<>""),1,"") | DI6: =IF(AND(OR(Edl!CT6<5,Edl!CT6="c",Edl!CT6="cc"),Edl!CT6<>""),1,"") | DJ6: =IF(AND(OR(Edl!CU6<5,Edl!CU6="c",Edl!CU6="cc"),Edl!CU6<>""),1,"") | DK6: =IF(AND(OR(Edl!CV6<5,Edl!CV6="c",Edl!CV6="cc"),Edl!CV6<>""),1,"") | DL6: =IF(AND(OR(Edl!CW6<5,Edl!CW6="c",Edl!CW6="cc"),Edl!CW6<>""),1,"") | DM6: =IF(AND(OR(Edl!CX6<5,Edl!CX6="c",Edl!CX6="cc"),Edl!CX6<>""),1,"") | DN6: =IF(AND(OR(Edl!CY6<5,Edl!CY6="c",Edl!CY6="cc"),Edl!CY6<>""),1,"") | ... DP6: =IF(AND(OR(Edl!DA6<5,Edl!DA6="c",Edl!DA6="cc"),Edl!DA6<>""),1,"") | DQ6: =SUM(DG6:DP7)/10*100 -> 0 | DR6: =IF(AND(OR(Edl!DB6<5,Edl!DB6="c",Edl!DB6="cc"),Edl!DB6<>""),1,"") | DS6: =IF(AND(OR(Edl!DC6<5,Edl!DC6="c",Edl!DC6="cc"),Edl!DC6<>""),1,"") | DT6: =IF(AND(OR(Edl!DD6<5,Edl!DD6="c",Edl!DD6="cc"),Edl!DD6<>""),1,"") | DU6: =IF(AND(OR(Edl!DE6<5,Edl!DE6="c",Edl!DE6="cc"),Edl!DE6<>""),1,"") | DV6: =IF(AND(OR(Edl!DF6<5,Edl!DF6="c",Edl!DF6="cc"),Edl!DF6<>""),1,"") | DW6: =IF(AND(OR(Edl!DG6<5,Edl!DG6="c",Edl!DG6="cc"),Edl!DG6<>""),1,"") | DX6: =IF(AND(OR(Edl!DH6<5,Edl!DH6="c",Edl!DH6="cc"),Edl!DH6<>""),1,"") | DY6: =IF(AND(OR(Edl!DI6<5,Edl!DI6="c",Edl!DI6="cc"),Edl!DI6<>""),1,"") | ... EC6: =IF(AND(OR(Edl!DM6<5,Edl!DM6="c",Edl!DM6="cc"),Edl!DM6<>""),1,"") | ED6: =SUM(DR6:EC6)/12*100 -> 0
A7: Elise | B7: =IF(AND(OR(Edl!B7<5,Edl!B7="c",Edl!B7="cc"),Edl!B7<>""),1,"") | C7: =IF(AND(OR(Edl!C7<5,Edl!C7="c",Edl!C7="cc"),Edl!C7<>""),1,"") | D7: =IF(AND(OR(Edl!D7<5,Edl!D7="c",Edl!D7="cc"),Edl!D7<>""),1,"") | E7: =IF(AND(OR(Edl!E7<5,Edl!E7="c",Edl!E7="cc"),Edl!E7<>""),1,"") | F7: =IF(AND(OR(Edl!F7<5,Edl!F7="c",Edl!F7="cc"),Edl!F7<>""),1,"") | G7: =IF(AND(OR(Edl!G7<5,Edl!G7="c",Edl!G7="cc"),Edl!G7<>""),1,"") | H7: =IF(AND(OR(Edl!H7<5,Edl!H7="c",Edl!H7="cc"),Edl!H7<>""),1,"") | I7: =IF(AND(OR(Edl!I7<5,Edl!I7="c",Edl!I7="cc"),Edl!I7<>""),1,"") | J7: =SUM(B7:I7)/8*100 -> 0 | K7: =IF(AND(OR(Edl!J7<5,Edl!J7="c",Edl!J7="cc"),Edl!J7<>""),1,"") | L7: =IF(AND(OR(Edl!K7<5,Edl!K7="c",Edl!K7="cc"),Edl!K7<>""),1,"") | M7: =IF(AND(OR(Edl!L7<5,Edl!L7="c",Edl!L7="cc"),Edl!L7<>""),1,"") | N7: =IF(AND(OR(Edl!M7<5,Edl!M7="c",Edl!M7="cc"),Edl!M7<>""),1,"") | O7: =IF(AND(OR(Edl!N7<5,Edl!N7="c",Edl!N7="cc"),Edl!N7<>""),1,"") | P7: =IF(AND(OR(Edl!O7<5,Edl!O7="c",Edl!O7="cc"),Edl!O7<>""),1,"") | Q7: =IF(AND(OR(Edl!P7<5,Edl!P7="c",Edl!P7="cc"),Edl!P7<>""),1,"") | R7: =SUM(K7:Q7)/7*100 -> 0 | S7: =IF(AND(OR(Edl!Q7<5,Edl!Q7="c",Edl!Q7="cc"),Edl!Q7<>""),1,"") | T7: =IF(AND(OR(Edl!R7<5,Edl!R7="c",Edl!R7="cc"),Edl!R7<>""),1,"") | U7: =IF(AND(OR(Edl!S7<5,Edl!S7="c",Edl!S7="cc"),Edl!S7<>""),1,"") | V7: =IF(AND(OR(Edl!T7<5,Edl!T7="c",Edl!T7="cc"),Edl!T7<>""),1,"") | W7: =IF(AND(OR(Edl!U7<5,Edl!U7="c",Edl!U7="cc"),Edl!U7<>""),1,"") | X7: =IF(AND(OR(Edl!V7<5,Edl!V7="c",Edl!V7="cc"),Edl!V7<>""),1,"") | Y7: =IF(AND(OR(Edl!W7<5,Edl!W7="c",Edl!W7="cc"),Edl!W7<>""),1,"") | Z7: =IF(AND(OR(Edl!X7<5,Edl!X7="c",Edl!X7="cc"),Edl!X7<>""),1,"") | ... AB7: =IF(AND(OR(Edl!Z7<5,Edl!Z7="c",Edl!Z7="cc"),Edl!Z7<>""),1,"") | AC7: =SUM(S7:AB7)/10*100 -> 0 | AD7: =IF(AND(OR(Edl!AA7<5,Edl!AA7="c",Edl!AA7="cc"),Edl!AA7<>""),1,"") | AE7: =IF(AND(OR(Edl!AB7<5,Edl!AB7="c",Edl!AB7="cc"),Edl!AB7<>""),1,"") | AF7: =IF(AND(OR(Edl!AC7<5,Edl!AC7="c",Edl!AC7="cc"),Edl!AC7<>""),1,"") | AG7: =IF(AND(OR(Edl!AD7<5,Edl!AD7="c",Edl!AD7="cc"),Edl!AD7<>""),1,"") | AH7: =IF(AND(OR(Edl!AE7<5,Edl!AE7="c",Edl!AE7="cc"),Edl!AE7<>""),1,"") | AI7: =IF(AND(OR(Edl!AF7<5,Edl!AF7="c",Edl!AF7="cc"),Edl!AF7<>""),1,"") | AJ7: =IF(AND(OR(Edl!AG7<5,Edl!AG7="c",Edl!AG7="cc"),Edl!AG7<>""),1,"") | AK7: =IF(AND(OR(Edl!AH7<5,Edl!AH7="c",Edl!AH7="cc"),Edl!AH7<>""),1,"") | AL7: =SUM(AD7:AK7)/8*100 -> 0 | AM7: =IF(AND(OR(Edl!AI7<5,Edl!AI7="c",Edl!AI7="cc"),Edl!AI7<>""),1,"") | AN7: =IF(AND(OR(Edl!AJ7<5,Edl!AJ7="c",Edl!AJ7="cc"),Edl!AJ7<>""),1,"") | AO7: =IF(AND(OR(Edl!AK7<5,Edl!AK7="c",Edl!AK7="cc"),Edl!AK7<>""),1,"") | AP7: =IF(AND(OR(Edl!AL7<5,Edl!AL7="c",Edl!AL7="cc"),Edl!AL7<>""),1,"") | AQ7: =IF(AND(OR(Edl!AM7<5,Edl!AM7="c",Edl!AM7="cc"),Edl!AM7<>""),1,"") | AR7: =SUM(AM7:AQ7)/5*100 -> 0 | AS7: =IF(AND(OR(Edl!AN7<5,Edl!AN7="c",Edl!AN7="cc"),Edl!AN7<>""),1,"") | AT7: =IF(AND(OR(Edl!AO7<5,Edl!AO7="c",Edl!AO7="cc"),Edl!AO7<>""),1,"") | AU7: =IF(AND(OR(Edl!AP7<5,Edl!AP7="c",Edl!AP7="cc"),Edl!AP7<>""),1,"") | AV7: =IF(AND(OR(Edl!AQ7<5,Edl!AQ7="c",Edl!AQ7="cc"),Edl!AQ7<>""),1,"") | AW7: =SUM(AS7:AV7)/4*100 -> 0 | AX7: =IF(AND(OR(Edl!AR7<5,Edl!AR7="c",Edl!AR7="cc"),Edl!AR7<>""),1,"") | AY7: =IF(AND(OR(Edl!AS7<5,Edl!AS7="c",Edl!AS7="cc"),Edl!AS7<>""),1,"") | AZ7: =IF(AND(OR(Edl!AT7<5,Edl!AT7="c",Edl!AT7="cc"),Edl!AT7<>""),1,"") | BA7: =IF(AND(OR(Edl!AU7<5,Edl!AU7="c",Edl!AU7="cc"),Edl!AU7<>""),1,"") | BB7: =IF(AND(OR(Edl!AV7<5,Edl!AV7="c",Edl!AV7="cc"),Edl!AV7<>""),1,"") | BC7: =SUM(AX7:BB7)/5*100 -> 0 | BD7: =IF(AND(OR(Edl!AW7<5,Edl!AW7="c",Edl!AW7="cc"),Edl!AW7<>""),1,"") | BE7: =IF(AND(OR(Edl!AX7<5,Edl!AX7="c",Edl!AX7="cc"),Edl!AX7<>""),1,"") | BF7: =IF(AND(OR(Edl!AY7<5,Edl!AY7="c",Edl!AY7="cc"),Edl!AY7<>""),1,"") | BG7: =IF(AND(OR(Edl!AZ7<5,Edl!AZ7="c",Edl!AZ7="cc"),Edl!AZ7<>""),1,"") | BH7: =SUM(BD7:BG7)/4*100 -> 0 | BI7: =IF(AND(OR(Edl!BA7<5,Edl!BA7="c",Edl!BA7="cc"),Edl!BA7<>""),1,"") | BJ7: =IF(AND(OR(Edl!BB7<5,Edl!BB7="c",Edl!BB7="cc"),Edl!BB7<>""),1,"") | BK7: =IF(AND(OR(Edl!BC7<5,Edl!BC7="c",Edl!BC7="cc"),Edl!BC7<>""),1,"") | BL7: =IF(AND(OR(Edl!BD7<5,Edl!BD7="c",Edl!BD7="cc"),Edl!BD7<>""),1,"") | BM7: =IF(AND(OR(Edl!BE7<5,Edl!BE7="c",Edl!BE7="cc"),Edl!BE7<>""),1,"") | BN7: =SUM(BI7:BM7)/5*100 -> 0 | BO7: =IF(AND(OR(Edl!BF7<5,Edl!BF7="c",Edl!BF7="cc"),Edl!BF7<>""),1,"") | BP7: =IF(AND(OR(Edl!BG7<5,Edl!BG7="c",Edl!BG7="cc"),Edl!BG7<>""),1,"") | BQ7: =IF(AND(OR(Edl!BH7<5,Edl!BH7="c",Edl!BH7="cc"),Edl!BH7<>""),1,"") | BR7: =IF(AND(OR(Edl!BI7<5,Edl!BI7="c",Edl!BI7="cc"),Edl!BI7<>""),1,"") | BS7: =IF(AND(OR(Edl!BJ7<5,Edl!BJ7="c",Edl!BJ7="cc"),Edl!BJ7<>""),1,"") | BT7: =IF(AND(OR(Edl!BK7<5,Edl!BK7="c",Edl!BK7="cc"),Edl!BK7<>""),1,"") | BU7: =IF(AND(OR(Edl!BL7<5,Edl!BL7="c",Edl!BL7="cc"),Edl!BL7<>""),1,"") | BV7: =SUM(BO7:BU7)/7*100 -> 0 | BW7: =IF(AND(OR(Edl!BM7<5,Edl!BM7="c",Edl!BM7="cc"),Edl!BM7<>""),1,"") | BX7: =IF(AND(OR(Edl!BN7<5,Edl!BN7="c",Edl!BN7="cc"),Edl!BN7<>""),1,"") | BY7: =IF(AND(OR(Edl!BO7<5,Edl!BO7="c",Edl!BO7="cc"),Edl!BO7<>""),1,"") | BZ7: =IF(AND(OR(Edl!BP7<5,Edl!BP7="c",Edl!BP7="cc"),Edl!BP7<>""),1,"") | CA7: =SUM(BW7:BZ7)/4*100 -> 0 | CB7: =IF(AND(OR(Edl!BQ7<5,Edl!BQ7="c",Edl!BQ7="cc"),Edl!BQ7<>""),1,"") | CC7: =IF(AND(OR(Edl!BR7<5,Edl!BR7="c",Edl!BR7="cc"),Edl!BR7<>""),1,"") | CD7: =IF(AND(OR(Edl!BS7<5,Edl!BS7="c",Edl!BS7="cc"),Edl!BS7<>""),1,"") | CE7: =IF(AND(OR(Edl!BT7<5,Edl!BT7="c",Edl!BT7="cc"),Edl!BT7<>""),1,"") | CF7: =IF(AND(OR(Edl!BU7<5,Edl!BU7="c",Edl!BU7="cc"),Edl!BU7<>""),1,"") | CG7: =IF(AND(OR(Edl!BV7<5,Edl!BV7="c",Edl!BV7="cc"),Edl!BV7<>""),1,"") | CH7: =IF(AND(OR(Edl!BW7<5,Edl!BW7="c",Edl!BW7="cc"),Edl!BW7<>""),1,"") | CI7: =IF(AND(OR(Edl!BX7<5,Edl!BX7="c",Edl!BX7="cc"),Edl!BX7<>""),1,"") | ... CL7: =IF(AND(OR(Edl!CA7<5,Edl!CA7="c",Edl!CA7="cc"),Edl!CA7<>""),1,"") | CM7: =SUM(CB7:CL7)/11*100 -> 0 | CN7: =IF(AND(OR(Edl!CB7<5,Edl!CB7="c",Edl!CB7="cc"),Edl!CB7<>""),1,"") | CO7: =IF(AND(OR(Edl!CC7<5,Edl!CC7="c",Edl!CC7="cc"),Edl!CC7<>""),1,"") | CP7: =IF(AND(OR(Edl!CD7<5,Edl!CD7="c",Edl!CD7="cc"),Edl!CD7<>""),1,"") | CQ7: =IF(AND(OR(Edl!CE7<5,Edl!CE7="c",Edl!CE7="cc"),Edl!CE7<>""),1,"") | CR7: =IF(AND(OR(Edl!CF7<5,Edl!CF7="c",Edl!CF7="cc"),Edl!CF7<>""),1,"") | CS7: =SUM(CN7:CR7)/5*100 -> 0 | CT7: =IF(AND(OR(Edl!CG7<5,Edl!CG7="c",Edl!CG7="cc"),Edl!CG7<>""),1,"") | CU7: =IF(AND(OR(Edl!CH7<5,Edl!CH7="c",Edl!CH7="cc"),Edl!CH7<>""),1,"") | CV7: =IF(AND(OR(Edl!CI7<5,Edl!CI7="c",Edl!CI7="cc"),Edl!CI7<>""),1,"") | CW7: =IF(AND(OR(Edl!CJ7<5,Edl!CJ7="c",Edl!CJ7="cc"),Edl!CJ7<>""),1,"") | CX7: =IF(AND(OR(Edl!CK7<5,Edl!CK7="c",Edl!CK7="cc"),Edl!CK7<>""),1,"") | CY7: =IF(AND(OR(Edl!CL7<5,Edl!CL7="c",Edl!CL7="cc"),Edl!CL7<>""),1,"") | CZ7: =SUM(CT7:CY7)/6*100 -> 0 | DA7: =IF(AND(OR(Edl!CM7<5,Edl!CM7="c",Edl!CM7="cc"),Edl!CM7<>""),1,"") | DB7: =IF(AND(OR(Edl!CN7<5,Edl!CN7="c",Edl!CN7="cc"),Edl!CN7<>""),1,"") | DC7: =IF(AND(OR(Edl!CO7<5,Edl!CO7="c",Edl!CO7="cc"),Edl!CO7<>""),1,"") | DD7: =IF(AND(OR(Edl!CP7<5,Edl!CP7="c",Edl!CP7="cc"),Edl!CP7<>""),1,"") | DE7: =IF(AND(OR(Edl!CQ7<5,Edl!CQ7="c",Edl!CQ7="cc"),Edl!CQ7<>""),1,"") | DF7: =SUM(DA7:DE7)/5*100 -> 0 | DG7: =IF(AND(OR(Edl!CR7<5,Edl!CR7="c",Edl!CR7="cc"),Edl!CR7<>""),1,"") | DH7: =IF(AND(OR(Edl!CS7<5,Edl!CS7="c",Edl!CS7="cc"),Edl!CS7<>""),1,"") | DI7: =IF(AND(OR(Edl!CT7<5,Edl!CT7="c",Edl!CT7="cc"),Edl!CT7<>""),1,"") | DJ7: =IF(AND(OR(Edl!CU7<5,Edl!CU7="c",Edl!CU7="cc"),Edl!CU7<>""),1,"") | DK7: =IF(AND(OR(Edl!CV7<5,Edl!CV7="c",Edl!CV7="cc"),Edl!CV7<>""),1,"") | DL7: =IF(AND(OR(Edl!CW7<5,Edl!CW7="c",Edl!CW7="cc"),Edl!CW7<>""),1,"") | DM7: =IF(AND(OR(Edl!CX7<5,Edl!CX7="c",Edl!CX7="cc"),Edl!CX7<>""),1,"") | DN7: =IF(AND(OR(Edl!CY7<5,Edl!CY7="c",Edl!CY7="cc"),Edl!CY7<>""),1,"") | ... DP7: =IF(AND(OR(Edl!DA7<5,Edl!DA7="c",Edl!DA7="cc"),Edl!DA7<>""),1,"") | DQ7: =SUM(DG7:DP8)/10*100 -> 0 | DR7: =IF(AND(OR(Edl!DB7<5,Edl!DB7="c",Edl!DB7="cc"),Edl!DB7<>""),1,"") | DS7: =IF(AND(OR(Edl!DC7<5,Edl!DC7="c",Edl!DC7="cc"),Edl!DC7<>""),1,"") | DT7: =IF(AND(OR(Edl!DD7<5,Edl!DD7="c",Edl!DD7="cc"),Edl!DD7<>""),1,"") | DU7: =IF(AND(OR(Edl!DE7<5,Edl!DE7="c",Edl!DE7="cc"),Edl!DE7<>""),1,"") | DV7: =IF(AND(OR(Edl!DF7<5,Edl!DF7="c",Edl!DF7="cc"),Edl!DF7<>""),1,"") | DW7: =IF(AND(OR(Edl!DG7<5,Edl!DG7="c",Edl!DG7="cc"),Edl!DG7<>""),1,"") | DX7: =IF(AND(OR(Edl!DH7<5,Edl!DH7="c",Edl!DH7="cc"),Edl!DH7<>""),1,"") | DY7: =IF(AND(OR(Edl!DI7<5,Edl!DI7="c",Edl!DI7="cc"),Edl!DI7<>""),1,"") | ... EC7: =IF(AND(OR(Edl!DM7<5,Edl!DM7="c",Edl!DM7="cc"),Edl!DM7<>""),1,"") | ED7: =SUM(DR7:EC7)/12*100 -> 0
A8: Audran | B8: =IF(AND(OR(Edl!B8<5,Edl!B8="c",Edl!B8="cc"),Edl!B8<>""),1,"") | C8: =IF(AND(OR(Edl!C8<5,Edl!C8="c",Edl!C8="cc"),Edl!C8<>""),1,"") | D8: =IF(AND(OR(Edl!D8<5,Edl!D8="c",Edl!D8="cc"),Edl!D8<>""),1,"") | E8: =IF(AND(OR(Edl!E8<5,Edl!E8="c",Edl!E8="cc"),Edl!E8<>""),1,"") | F8: =IF(AND(OR(Edl!F8<5,Edl!F8="c",Edl!F8="cc"),Edl!F8<>""),1,"") | G8: =IF(AND(OR(Edl!G8<5,Edl!G8="c",Edl!G8="cc"),Edl!G8<>""),1,"") | H8: =IF(AND(OR(Edl!H8<5,Edl!H8="c",Edl!H8="cc"),Edl!H8<>""),1,"") | I8: =IF(AND(OR(Edl!I8<5,Edl!I8="c",Edl!I8="cc"),Edl!I8<>""),1,"") | J8: =SUM(B8:I8)/8*100 -> 0 | K8: =IF(AND(OR(Edl!J8<5,Edl!J8="c",Edl!J8="cc"),Edl!J8<>""),1,"") | L8: =IF(AND(OR(Edl!K8<5,Edl!K8="c",Edl!K8="cc"),Edl!K8<>""),1,"") | M8: =IF(AND(OR(Edl!L8<5,Edl!L8="c",Edl!L8="cc"),Edl!L8<>""),1,"") | N8: =IF(AND(OR(Edl!M8<5,Edl!M8="c",Edl!M8="cc"),Edl!M8<>""),1,"") | O8: =IF(AND(OR(Edl!N8<5,Edl!N8="c",Edl!N8="cc"),Edl!N8<>""),1,"") | P8: =IF(AND(OR(Edl!O8<5,Edl!O8="c",Edl!O8="cc"),Edl!O8<>""),1,"") | Q8: =IF(AND(OR(Edl!P8<5,Edl!P8="c",Edl!P8="cc"),Edl!P8<>""),1,"") | R8: =SUM(K8:Q8)/7*100 -> 0 | S8: =IF(AND(OR(Edl!Q8<5,Edl!Q8="c",Edl!Q8="cc"),Edl!Q8<>""),1,"") | T8: =IF(AND(OR(Edl!R8<5,Edl!R8="c",Edl!R8="cc"),Edl!R8<>""),1,"") | U8: =IF(AND(OR(Edl!S8<5,Edl!S8="c",Edl!S8="cc"),Edl!S8<>""),1,"") | V8: =IF(AND(OR(Edl!T8<5,Edl!T8="c",Edl!T8="cc"),Edl!T8<>""),1,"") | W8: =IF(AND(OR(Edl!U8<5,Edl!U8="c",Edl!U8="cc"),Edl!U8<>""),1,"") | X8: =IF(AND(OR(Edl!V8<5,Edl!V8="c",Edl!V8="cc"),Edl!V8<>""),1,"") | Y8: =IF(AND(OR(Edl!W8<5,Edl!W8="c",Edl!W8="cc"),Edl!W8<>""),1,"") | Z8: =IF(AND(OR(Edl!X8<5,Edl!X8="c",Edl!X8="cc"),Edl!X8<>""),1,"") | ... AB8: =IF(AND(OR(Edl!Z8<5,Edl!Z8="c",Edl!Z8="cc"),Edl!Z8<>""),1,"") | AC8: =SUM(S8:AB8)/10*100 -> 0 | AD8: =IF(AND(OR(Edl!AA8<5,Edl!AA8="c",Edl!AA8="cc"),Edl!AA8<>""),1,"") | AE8: =IF(AND(OR(Edl!AB8<5,Edl!AB8="c",Edl!AB8="cc"),Edl!AB8<>""),1,"") | AF8: =IF(AND(OR(Edl!AC8<5,Edl!AC8="c",Edl!AC8="cc"),Edl!AC8<>""),1,"") | AG8: =IF(AND(OR(Edl!AD8<5,Edl!AD8="c",Edl!AD8="cc"),Edl!AD8<>""),1,"") | AH8: =IF(AND(OR(Edl!AE8<5,Edl!AE8="c",Edl!AE8="cc"),Edl!AE8<>""),1,"") | AI8: =IF(AND(OR(Edl!AF8<5,Edl!AF8="c",Edl!AF8="cc"),Edl!AF8<>""),1,"") | AJ8: =IF(AND(OR(Edl!AG8<5,Edl!AG8="c",Edl!AG8="cc"),Edl!AG8<>""),1,"") | AK8: =IF(AND(OR(Edl!AH8<5,Edl!AH8="c",Edl!AH8="cc"),Edl!AH8<>""),1,"") | AL8: =SUM(AD8:AK8)/8*100 -> 0 | AM8: =IF(AND(OR(Edl!AI8<5,Edl!AI8="c",Edl!AI8="cc"),Edl!AI8<>""),1,"") | AN8: =IF(AND(OR(Edl!AJ8<5,Edl!AJ8="c",Edl!AJ8="cc"),Edl!AJ8<>""),1,"") | AO8: =IF(AND(OR(Edl!AK8<5,Edl!AK8="c",Edl!AK8="cc"),Edl!AK8<>""),1,"") | AP8: =IF(AND(OR(Edl!AL8<5,Edl!AL8="c",Edl!AL8="cc"),Edl!AL8<>""),1,"") | AQ8: =IF(AND(OR(Edl!AM8<5,Edl!AM8="c",Edl!AM8="cc"),Edl!AM8<>""),1,"") | AR8: =SUM(AM8:AQ8)/5*100 -> 0 | AS8: =IF(AND(OR(Edl!AN8<5,Edl!AN8="c",Edl!AN8="cc"),Edl!AN8<>""),1,"") | AT8: =IF(AND(OR(Edl!AO8<5,Edl!AO8="c",Edl!AO8="cc"),Edl!AO8<>""),1,"") | AU8: =IF(AND(OR(Edl!AP8<5,Edl!AP8="c",Edl!AP8="cc"),Edl!AP8<>""),1,"") | AV8: =IF(AND(OR(Edl!AQ8<5,Edl!AQ8="c",Edl!AQ8="cc"),Edl!AQ8<>""),1,"") | AW8: =SUM(AS8:AV8)/4*100 -> 0 | AX8: =IF(AND(OR(Edl!AR8<5,Edl!AR8="c",Edl!AR8="cc"),Edl!AR8<>""),1,"") | AY8: =IF(AND(OR(Edl!AS8<5,Edl!AS8="c",Edl!AS8="cc"),Edl!AS8<>""),1,"") | AZ8: =IF(AND(OR(Edl!AT8<5,Edl!AT8="c",Edl!AT8="cc"),Edl!AT8<>""),1,"") | BA8: =IF(AND(OR(Edl!AU8<5,Edl!AU8="c",Edl!AU8="cc"),Edl!AU8<>""),1,"") | BB8: =IF(AND(OR(Edl!AV8<5,Edl!AV8="c",Edl!AV8="cc"),Edl!AV8<>""),1,"") | BC8: =SUM(AX8:BB8)/5*100 -> 0 | BD8: =IF(AND(OR(Edl!AW8<5,Edl!AW8="c",Edl!AW8="cc"),Edl!AW8<>""),1,"") | BE8: =IF(AND(OR(Edl!AX8<5,Edl!AX8="c",Edl!AX8="cc"),Edl!AX8<>""),1,"") | BF8: =IF(AND(OR(Edl!AY8<5,Edl!AY8="c",Edl!AY8="cc"),Edl!AY8<>""),1,"") | BG8: =IF(AND(OR(Edl!AZ8<5,Edl!AZ8="c",Edl!AZ8="cc"),Edl!AZ8<>""),1,"") | BH8: =SUM(BD8:BG8)/4*100 -> 0 | BI8: =IF(AND(OR(Edl!BA8<5,Edl!BA8="c",Edl!BA8="cc"),Edl!BA8<>""),1,"") | BJ8: =IF(AND(OR(Edl!BB8<5,Edl!BB8="c",Edl!BB8="cc"),Edl!BB8<>""),1,"") | BK8: =IF(AND(OR(Edl!BC8<5,Edl!BC8="c",Edl!BC8="cc"),Edl!BC8<>""),1,"") | BL8: =IF(AND(OR(Edl!BD8<5,Edl!BD8="c",Edl!BD8="cc"),Edl!BD8<>""),1,"") | BM8: =IF(AND(OR(Edl!BE8<5,Edl!BE8="c",Edl!BE8="cc"),Edl!BE8<>""),1,"") | BN8: =SUM(BI8:BM8)/5*100 -> 0 | BO8: =IF(AND(OR(Edl!BF8<5,Edl!BF8="c",Edl!BF8="cc"),Edl!BF8<>""),1,"") | BP8: =IF(AND(OR(Edl!BG8<5,Edl!BG8="c",Edl!BG8="cc"),Edl!BG8<>""),1,"") | BQ8: =IF(AND(OR(Edl!BH8<5,Edl!BH8="c",Edl!BH8="cc"),Edl!BH8<>""),1,"") | BR8: =IF(AND(OR(Edl!BI8<5,Edl!BI8="c",Edl!BI8="cc"),Edl!BI8<>""),1,"") | BS8: =IF(AND(OR(Edl!BJ8<5,Edl!BJ8="c",Edl!BJ8="cc"),Edl!BJ8<>""),1,"") | BT8: =IF(AND(OR(Edl!BK8<5,Edl!BK8="c",Edl!BK8="cc"),Edl!BK8<>""),1,"") | BU8: =IF(AND(OR(Edl!BL8<5,Edl!BL8="c",Edl!BL8="cc"),Edl!BL8<>""),1,"") | BV8: =SUM(BO8:BU8)/7*100 -> 0 | BW8: =IF(AND(OR(Edl!BM8<5,Edl!BM8="c",Edl!BM8="cc"),Edl!BM8<>""),1,"") | BX8: =IF(AND(OR(Edl!BN8<5,Edl!BN8="c",Edl!BN8="cc"),Edl!BN8<>""),1,"") | BY8: =IF(AND(OR(Edl!BO8<5,Edl!BO8="c",Edl!BO8="cc"),Edl!BO8<>""),1,"") | BZ8: =IF(AND(OR(Edl!BP8<5,Edl!BP8="c",Edl!BP8="cc"),Edl!BP8<>""),1,"") | CA8: =SUM(BW8:BZ8)/4*100 -> 0 | CB8: =IF(AND(OR(Edl!BQ8<5,Edl!BQ8="c",Edl!BQ8="cc"),Edl!BQ8<>""),1,"") | CC8: =IF(AND(OR(Edl!BR8<5,Edl!BR8="c",Edl!BR8="cc"),Edl!BR8<>""),1,"") | CD8: =IF(AND(OR(Edl!BS8<5,Edl!BS8="c",Edl!BS8="cc"),Edl!BS8<>""),1,"") | CE8: =IF(AND(OR(Edl!BT8<5,Edl!BT8="c",Edl!BT8="cc"),Edl!BT8<>""),1,"") | CF8: =IF(AND(OR(Edl!BU8<5,Edl!BU8="c",Edl!BU8="cc"),Edl!BU8<>""),1,"") | CG8: =IF(AND(OR(Edl!BV8<5,Edl!BV8="c",Edl!BV8="cc"),Edl!BV8<>""),1,"") | CH8: =IF(AND(OR(Edl!BW8<5,Edl!BW8="c",Edl!BW8="cc"),Edl!BW8<>""),1,"") | CI8: =IF(AND(OR(Edl!BX8<5,Edl!BX8="c",Edl!BX8="cc"),Edl!BX8<>""),1,"") | ... CL8: =IF(AND(OR(Edl!CA8<5,Edl!CA8="c",Edl!CA8="cc"),Edl!CA8<>""),1,"") | CM8: =SUM(CB8:CL8)/11*100 -> 0 | CN8: =IF(AND(OR(Edl!CB8<5,Edl!CB8="c",Edl!CB8="cc"),Edl!CB8<>""),1,"") | CO8: =IF(AND(OR(Edl!CC8<5,Edl!CC8="c",Edl!CC8="cc"),Edl!CC8<>""),1,"") | CP8: =IF(AND(OR(Edl!CD8<5,Edl!CD8="c",Edl!CD8="cc"),Edl!CD8<>""),1,"") | CQ8: =IF(AND(OR(Edl!CE8<5,Edl!CE8="c",Edl!CE8="cc"),Edl!CE8<>""),1,"") | CR8: =IF(AND(OR(Edl!CF8<5,Edl!CF8="c",Edl!CF8="cc"),Edl!CF8<>""),1,"") | CS8: =SUM(CN8:CR8)/5*100 -> 0 | CT8: =IF(AND(OR(Edl!CG8<5,Edl!CG8="c",Edl!CG8="cc"),Edl!CG8<>""),1,"") | CU8: =IF(AND(OR(Edl!CH8<5,Edl!CH8="c",Edl!CH8="cc"),Edl!CH8<>""),1,"") | CV8: =IF(AND(OR(Edl!CI8<5,Edl!CI8="c",Edl!CI8="cc"),Edl!CI8<>""),1,"") | CW8: =IF(AND(OR(Edl!CJ8<5,Edl!CJ8="c",Edl!CJ8="cc"),Edl!CJ8<>""),1,"") | CX8: =IF(AND(OR(Edl!CK8<5,Edl!CK8="c",Edl!CK8="cc"),Edl!CK8<>""),1,"") | CY8: =IF(AND(OR(Edl!CL8<5,Edl!CL8="c",Edl!CL8="cc"),Edl!CL8<>""),1,"") | CZ8: =SUM(CT8:CY8)/6*100 -> 0 | DA8: =IF(AND(OR(Edl!CM8<5,Edl!CM8="c",Edl!CM8="cc"),Edl!CM8<>""),1,"") | DB8: =IF(AND(OR(Edl!CN8<5,Edl!CN8="c",Edl!CN8="cc"),Edl!CN8<>""),1,"") | DC8: =IF(AND(OR(Edl!CO8<5,Edl!CO8="c",Edl!CO8="cc"),Edl!CO8<>""),1,"") | DD8: =IF(AND(OR(Edl!CP8<5,Edl!CP8="c",Edl!CP8="cc"),Edl!CP8<>""),1,"") | DE8: =IF(AND(OR(Edl!CQ8<5,Edl!CQ8="c",Edl!CQ8="cc"),Edl!CQ8<>""),1,"") | DF8: =SUM(DA8:DE8)/5*100 -> 0 | DG8: =IF(AND(OR(Edl!CR8<5,Edl!CR8="c",Edl!CR8="cc"),Edl!CR8<>""),1,"") | DH8: =IF(AND(OR(Edl!CS8<5,Edl!CS8="c",Edl!CS8="cc"),Edl!CS8<>""),1,"") | DI8: =IF(AND(OR(Edl!CT8<5,Edl!CT8="c",Edl!CT8="cc"),Edl!CT8<>""),1,"") | DJ8: =IF(AND(OR(Edl!CU8<5,Edl!CU8="c",Edl!CU8="cc"),Edl!CU8<>""),1,"") | DK8: =IF(AND(OR(Edl!CV8<5,Edl!CV8="c",Edl!CV8="cc"),Edl!CV8<>""),1,"") | DL8: =IF(AND(OR(Edl!CW8<5,Edl!CW8="c",Edl!CW8="cc"),Edl!CW8<>""),1,"") | DM8: =IF(AND(OR(Edl!CX8<5,Edl!CX8="c",Edl!CX8="cc"),Edl!CX8<>""),1,"") | DN8: =IF(AND(OR(Edl!CY8<5,Edl!CY8="c",Edl!CY8="cc"),Edl!CY8<>""),1,"") | ... DP8: =IF(AND(OR(Edl!DA8<5,Edl!DA8="c",Edl!DA8="cc"),Edl!DA8<>""),1,"") | DQ8: =SUM(DG8:DP9)/10*100 -> 0 | DR8: =IF(AND(OR(Edl!DB8<5,Edl!DB8="c",Edl!DB8="cc"),Edl!DB8<>""),1,"") | DS8: =IF(AND(OR(Edl!DC8<5,Edl!DC8="c",Edl!DC8="cc"),Edl!DC8<>""),1,"") | DT8: =IF(AND(OR(Edl!DD8<5,Edl!DD8="c",Edl!DD8="cc"),Edl!DD8<>""),1,"") | DU8: =IF(AND(OR(Edl!DE8<5,Edl!DE8="c",Edl!DE8="cc"),Edl!DE8<>""),1,"") | DV8: =IF(AND(OR(Edl!DF8<5,Edl!DF8="c",Edl!DF8="cc"),Edl!DF8<>""),1,"") | DW8: =IF(AND(OR(Edl!DG8<5,Edl!DG8="c",Edl!DG8="cc"),Edl!DG8<>""),1,"") | DX8: =IF(AND(OR(Edl!DH8<5,Edl!DH8="c",Edl!DH8="cc"),Edl!DH8<>""),1,"") | DY8: =IF(AND(OR(Edl!DI8<5,Edl!DI8="c",Edl!DI8="cc"),Edl!DI8<>""),1,"") | ... EC8: =IF(AND(OR(Edl!DM8<5,Edl!DM8="c",Edl!DM8="cc"),Edl!DM8<>""),1,"") | ED8: =SUM(DR8:EC8)/12*100 -> 0
A9: Coraline | B9: =IF(AND(OR(Edl!B9<5,Edl!B9="c",Edl!B9="cc"),Edl!B9<>""),1,"") | C9: =IF(AND(OR(Edl!C9<5,Edl!C9="c",Edl!C9="cc"),Edl!C9<>""),1,"") | D9: =IF(AND(OR(Edl!D9<5,Edl!D9="c",Edl!D9="cc"),Edl!D9<>""),1,"") | E9: =IF(AND(OR(Edl!E9<5,Edl!E9="c",Edl!E9="cc"),Edl!E9<>""),1,"") | F9: =IF(AND(OR(Edl!F9<5,Edl!F9="c",Edl!F9="cc"),Edl!F9<>""),1,"") | G9: =IF(AND(OR(Edl!G9<5,Edl!G9="c",Edl!G9="cc"),Edl!G9<>""),1,"") | H9: =IF(AND(OR(Edl!H9<5,Edl!H9="c",Edl!H9="cc"),Edl!H9<>""),1,"") | I9: =IF(AND(OR(Edl!I9<5,Edl!I9="c",Edl!I9="cc"),Edl!I9<>""),1,"") | J9: =SUM(B9:I9)/8*100 -> 0 | K9: =IF(AND(OR(Edl!J9<5,Edl!J9="c",Edl!J9="cc"),Edl!J9<>""),1,"") | L9: =IF(AND(OR(Edl!K9<5,Edl!K9="c",Edl!K9="cc"),Edl!K9<>""),1,"") | M9: =IF(AND(OR(Edl!L9<5,Edl!L9="c",Edl!L9="cc"),Edl!L9<>""),1,"") | N9: =IF(AND(OR(Edl!M9<5,Edl!M9="c",Edl!M9="cc"),Edl!M9<>""),1,"") | O9: =IF(AND(OR(Edl!N9<5,Edl!N9="c",Edl!N9="cc"),Edl!N9<>""),1,"") | P9: =IF(AND(OR(Edl!O9<5,Edl!O9="c",Edl!O9="cc"),Edl!O9<>""),1,"") | Q9: =IF(AND(OR(Edl!P9<5,Edl!P9="c",Edl!P9="cc"),Edl!P9<>""),1,"") | R9: =SUM(K9:Q9)/7*100 -> 0 | S9: =IF(AND(OR(Edl!Q9<5,Edl!Q9="c",Edl!Q9="cc"),Edl!Q9<>""),1,"") | T9: =IF(AND(OR(Edl!R9<5,Edl!R9="c",Edl!R9="cc"),Edl!R9<>""),1,"") | U9: =IF(AND(OR(Edl!S9<5,Edl!S9="c",Edl!S9="cc"),Edl!S9<>""),1,"") | V9: =IF(AND(OR(Edl!T9<5,Edl!T9="c",Edl!T9="cc"),Edl!T9<>""),1,"") | W9: =IF(AND(OR(Edl!U9<5,Edl!U9="c",Edl!U9="cc"),Edl!U9<>""),1,"") | X9: =IF(AND(OR(Edl!V9<5,Edl!V9="c",Edl!V9="cc"),Edl!V9<>""),1,"") | Y9: =IF(AND(OR(Edl!W9<5,Edl!W9="c",Edl!W9="cc"),Edl!W9<>""),1,"") | Z9: =IF(AND(OR(Edl!X9<5,Edl!X9="c",Edl!X9="cc"),Edl!X9<>""),1,"") | ... AB9: =IF(AND(OR(Edl!Z9<5,Edl!Z9="c",Edl!Z9="cc"),Edl!Z9<>""),1,"") | AC9: =SUM(S9:AB9)/10*100 -> 0 | AD9: =IF(AND(OR(Edl!AA9<5,Edl!AA9="c",Edl!AA9="cc"),Edl!AA9<>""),1,"") | AE9: =IF(AND(OR(Edl!AB9<5,Edl!AB9="c",Edl!AB9="cc"),Edl!AB9<>""),1,"") | AF9: =IF(AND(OR(Edl!AC9<5,Edl!AC9="c",Edl!AC9="cc"),Edl!AC9<>""),1,"") | AG9: =IF(AND(OR(Edl!AD9<5,Edl!AD9="c",Edl!AD9="cc"),Edl!AD9<>""),1,"") | AH9: =IF(AND(OR(Edl!AE9<5,Edl!AE9="c",Edl!AE9="cc"),Edl!AE9<>""),1,"") | AI9: =IF(AND(OR(Edl!AF9<5,Edl!AF9="c",Edl!AF9="cc"),Edl!AF9<>""),1,"") | AJ9: =IF(AND(OR(Edl!AG9<5,Edl!AG9="c",Edl!AG9="cc"),Edl!AG9<>""),1,"") | AK9: =IF(AND(OR(Edl!AH9<5,Edl!AH9="c",Edl!AH9="cc"),Edl!AH9<>""),1,"") | AL9: =SUM(AD9:AK9)/8*100 -> 0 | AM9: =IF(AND(OR(Edl!AI9<5,Edl!AI9="c",Edl!AI9="cc"),Edl!AI9<>""),1,"") | AN9: =IF(AND(OR(Edl!AJ9<5,Edl!AJ9="c",Edl!AJ9="cc"),Edl!AJ9<>""),1,"") | AO9: =IF(AND(OR(Edl!AK9<5,Edl!AK9="c",Edl!AK9="cc"),Edl!AK9<>""),1,"") | AP9: =IF(AND(OR(Edl!AL9<5,Edl!AL9="c",Edl!AL9="cc"),Edl!AL9<>""),1,"") | AQ9: =IF(AND(OR(Edl!AM9<5,Edl!AM9="c",Edl!AM9="cc"),Edl!AM9<>""),1,"") | AR9: =SUM(AM9:AQ9)/5*100 -> 0 | AS9: =IF(AND(OR(Edl!AN9<5,Edl!AN9="c",Edl!AN9="cc"),Edl!AN9<>""),1,"") | AT9: =IF(AND(OR(Edl!AO9<5,Edl!AO9="c",Edl!AO9="cc"),Edl!AO9<>""),1,"") | AU9: =IF(AND(OR(Edl!AP9<5,Edl!AP9="c",Edl!AP9="cc"),Edl!AP9<>""),1,"") | AV9: =IF(AND(OR(Edl!AQ9<5,Edl!AQ9="c",Edl!AQ9="cc"),Edl!AQ9<>""),1,"") | AW9: =SUM(AS9:AV9)/4*100 -> 0 | AX9: =IF(AND(OR(Edl!AR9<5,Edl!AR9="c",Edl!AR9="cc"),Edl!AR9<>""),1,"") | AY9: =IF(AND(OR(Edl!AS9<5,Edl!AS9="c",Edl!AS9="cc"),Edl!AS9<>""),1,"") | AZ9: =IF(AND(OR(Edl!AT9<5,Edl!AT9="c",Edl!AT9="cc"),Edl!AT9<>""),1,"") | BA9: =IF(AND(OR(Edl!AU9<5,Edl!AU9="c",Edl!AU9="cc"),Edl!AU9<>""),1,"") | BB9: =IF(AND(OR(Edl!AV9<5,Edl!AV9="c",Edl!AV9="cc"),Edl!AV9<>""),1,"") | BC9: =SUM(AX9:BB9)/5*100 -> 0 | BD9: =IF(AND(OR(Edl!AW9<5,Edl!AW9="c",Edl!AW9="cc"),Edl!AW9<>""),1,"") | BE9: =IF(AND(OR(Edl!AX9<5,Edl!AX9="c",Edl!AX9="cc"),Edl!AX9<>""),1,"") | BF9: =IF(AND(OR(Edl!AY9<5,Edl!AY9="c",Edl!AY9="cc"),Edl!AY9<>""),1,"") | BG9: =IF(AND(OR(Edl!AZ9<5,Edl!AZ9="c",Edl!AZ9="cc"),Edl!AZ9<>""),1,"") | BH9: =SUM(BD9:BG9)/4*100 -> 0 | BI9: =IF(AND(OR(Edl!BA9<5,Edl!BA9="c",Edl!BA9="cc"),Edl!BA9<>""),1,"") | BJ9: =IF(AND(OR(Edl!BB9<5,Edl!BB9="c",Edl!BB9="cc"),Edl!BB9<>""),1,"") | BK9: =IF(AND(OR(Edl!BC9<5,Edl!BC9="c",Edl!BC9="cc"),Edl!BC9<>""),1,"") | BL9: =IF(AND(OR(Edl!BD9<5,Edl!BD9="c",Edl!BD9="cc"),Edl!BD9<>""),1,"") | BM9: =IF(AND(OR(Edl!BE9<5,Edl!BE9="c",Edl!BE9="cc"),Edl!BE9<>""),1,"") | BN9: =SUM(BI9:BM9)/5*100 -> 0 | BO9: =IF(AND(OR(Edl!BF9<5,Edl!BF9="c",Edl!BF9="cc"),Edl!BF9<>""),1,"") | BP9: =IF(AND(OR(Edl!BG9<5,Edl!BG9="c",Edl!BG9="cc"),Edl!BG9<>""),1,"") | BQ9: =IF(AND(OR(Edl!BH9<5,Edl!BH9="c",Edl!BH9="cc"),Edl!BH9<>""),1,"") | BR9: =IF(AND(OR(Edl!BI9<5,Edl!BI9="c",Edl!BI9="cc"),Edl!BI9<>""),1,"") | BS9: =IF(AND(OR(Edl!BJ9<5,Edl!BJ9="c",Edl!BJ9="cc"),Edl!BJ9<>""),1,"") | BT9: =IF(AND(OR(Edl!BK9<5,Edl!BK9="c",Edl!BK9="cc"),Edl!BK9<>""),1,"") | BU9: =IF(AND(OR(Edl!BL9<5,Edl!BL9="c",Edl!BL9="cc"),Edl!BL9<>""),1,"") | BV9: =SUM(BO9:BU9)/7*100 -> 0 | BW9: =IF(AND(OR(Edl!BM9<5,Edl!BM9="c",Edl!BM9="cc"),Edl!BM9<>""),1,"") | BX9: =IF(AND(OR(Edl!BN9<5,Edl!BN9="c",Edl!BN9="cc"),Edl!BN9<>""),1,"") | BY9: =IF(AND(OR(Edl!BO9<5,Edl!BO9="c",Edl!BO9="cc"),Edl!BO9<>""),1,"") | BZ9: =IF(AND(OR(Edl!BP9<5,Edl!BP9="c",Edl!BP9="cc"),Edl!BP9<>""),1,"") | CA9: =SUM(BW9:BZ9)/4*100 -> 0 | CB9: =IF(AND(OR(Edl!BQ9<5,Edl!BQ9="c",Edl!BQ9="cc"),Edl!BQ9<>""),1,"") | CC9: =IF(AND(OR(Edl!BR9<5,Edl!BR9="c",Edl!BR9="cc"),Edl!BR9<>""),1,"") | CD9: =IF(AND(OR(Edl!BS9<5,Edl!BS9="c",Edl!BS9="cc"),Edl!BS9<>""),1,"") | CE9: =IF(AND(OR(Edl!BT9<5,Edl!BT9="c",Edl!BT9="cc"),Edl!BT9<>""),1,"") | CF9: =IF(AND(OR(Edl!BU9<5,Edl!BU9="c",Edl!BU9="cc"),Edl!BU9<>""),1,"") | CG9: =IF(AND(OR(Edl!BV9<5,Edl!BV9="c",Edl!BV9="cc"),Edl!BV9<>""),1,"") | CH9: =IF(AND(OR(Edl!BW9<5,Edl!BW9="c",Edl!BW9="cc"),Edl!BW9<>""),1,"") | CI9: =IF(AND(OR(Edl!BX9<5,Edl!BX9="c",Edl!BX9="cc"),Edl!BX9<>""),1,"") | ... CL9: =IF(AND(OR(Edl!CA9<5,Edl!CA9="c",Edl!CA9="cc"),Edl!CA9<>""),1,"") | CM9: =SUM(CB9:CL9)/11*100 -> 0 | CN9: =IF(AND(OR(Edl!CB9<5,Edl!CB9="c",Edl!CB9="cc"),Edl!CB9<>""),1,"") | CO9: =IF(AND(OR(Edl!CC9<5,Edl!CC9="c",Edl!CC9="cc"),Edl!CC9<>""),1,"") | CP9: =IF(AND(OR(Edl!CD9<5,Edl!CD9="c",Edl!CD9="cc"),Edl!CD9<>""),1,"") | CQ9: =IF(AND(OR(Edl!CE9<5,Edl!CE9="c",Edl!CE9="cc"),Edl!CE9<>""),1,"") | CR9: =IF(AND(OR(Edl!CF9<5,Edl!CF9="c",Edl!CF9="cc"),Edl!CF9<>""),1,"") | CS9: =SUM(CN9:CR9)/5*100 -> 0 | CT9: =IF(AND(OR(Edl!CG9<5,Edl!CG9="c",Edl!CG9="cc"),Edl!CG9<>""),1,"") | CU9: =IF(AND(OR(Edl!CH9<5,Edl!CH9="c",Edl!CH9="cc"),Edl!CH9<>""),1,"") | CV9: =IF(AND(OR(Edl!CI9<5,Edl!CI9="c",Edl!CI9="cc"),Edl!CI9<>""),1,"") | CW9: =IF(AND(OR(Edl!CJ9<5,Edl!CJ9="c",Edl!CJ9="cc"),Edl!CJ9<>""),1,"") | CX9: =IF(AND(OR(Edl!CK9<5,Edl!CK9="c",Edl!CK9="cc"),Edl!CK9<>""),1,"") | CY9: =IF(AND(OR(Edl!CL9<5,Edl!CL9="c",Edl!CL9="cc"),Edl!CL9<>""),1,"") | CZ9: =SUM(CT9:CY9)/6*100 -> 0 | DA9: =IF(AND(OR(Edl!CM9<5,Edl!CM9="c",Edl!CM9="cc"),Edl!CM9<>""),1,"") | DB9: =IF(AND(OR(Edl!CN9<5,Edl!CN9="c",Edl!CN9="cc"),Edl!CN9<>""),1,"") | DC9: =IF(AND(OR(Edl!CO9<5,Edl!CO9="c",Edl!CO9="cc"),Edl!CO9<>""),1,"") | DD9: =IF(AND(OR(Edl!CP9<5,Edl!CP9="c",Edl!CP9="cc"),Edl!CP9<>""),1,"") | DE9: =IF(AND(OR(Edl!CQ9<5,Edl!CQ9="c",Edl!CQ9="cc"),Edl!CQ9<>""),1,"") | DF9: =SUM(DA9:DE9)/5*100 -> 0 | DG9: =IF(AND(OR(Edl!CR9<5,Edl!CR9="c",Edl!CR9="cc"),Edl!CR9<>""),1,"") | DH9: =IF(AND(OR(Edl!CS9<5,Edl!CS9="c",Edl!CS9="cc"),Edl!CS9<>""),1,"") | DI9: =IF(AND(OR(Edl!CT9<5,Edl!CT9="c",Edl!CT9="cc"),Edl!CT9<>""),1,"") | DJ9: =IF(AND(OR(Edl!CU9<5,Edl!CU9="c",Edl!CU9="cc"),Edl!CU9<>""),1,"") | DK9: =IF(AND(OR(Edl!CV9<5,Edl!CV9="c",Edl!CV9="cc"),Edl!CV9<>""),1,"") | DL9: =IF(AND(OR(Edl!CW9<5,Edl!CW9="c",Edl!CW9="cc"),Edl!CW9<>""),1,"") | DM9: =IF(AND(OR(Edl!CX9<5,Edl!CX9="c",Edl!CX9="cc"),Edl!CX9<>""),1,"") | DN9: =IF(AND(OR(Edl!CY9<5,Edl!CY9="c",Edl!CY9="cc"),Edl!CY9<>""),1,"") | ... DP9: =IF(AND(OR(Edl!DA9<5,Edl!DA9="c",Edl!DA9="cc"),Edl!DA9<>""),1,"") | DQ9: =SUM(DG9:DP10)/10*100 -> 0 | DR9: =IF(AND(OR(Edl!DB9<5,Edl!DB9="c",Edl!DB9="cc"),Edl!DB9<>""),1,"") | DS9: =IF(AND(OR(Edl!DC9<5,Edl!DC9="c",Edl!DC9="cc"),Edl!DC9<>""),1,"") | DT9: =IF(AND(OR(Edl!DD9<5,Edl!DD9="c",Edl!DD9="cc"),Edl!DD9<>""),1,"") | DU9: =IF(AND(OR(Edl!DE9<5,Edl!DE9="c",Edl!DE9="cc"),Edl!DE9<>""),1,"") | DV9: =IF(AND(OR(Edl!DF9<5,Edl!DF9="c",Edl!DF9="cc"),Edl!DF9<>""),1,"") | DW9: =IF(AND(OR(Edl!DG9<5,Edl!DG9="c",Edl!DG9="cc"),Edl!DG9<>""),1,"") | DX9: =IF(AND(OR(Edl!DH9<5,Edl!DH9="c",Edl!DH9="cc"),Edl!DH9<>""),1,"") | DY9: =IF(AND(OR(Edl!DI9<5,Edl!DI9="c",Edl!DI9="cc"),Edl!DI9<>""),1,"") | ... EC9: =IF(AND(OR(Edl!DM9<5,Edl!DM9="c",Edl!DM9="cc"),Edl!DM9<>""),1,"") | ED9: =SUM(DR9:EC9)/12*100 -> 0
A10: Gabriel | B10: =IF(AND(OR(Edl!B10<5,Edl!B10="c",Edl!B10="cc"),Edl!B10<>""),1,"") | C10: =IF(AND(OR(Edl!C10<5,Edl!C10="c",Edl!C10="cc"),Edl!C10<>""),1,"") | D10: =IF(AND(OR(Edl!D10<5,Edl!D10="c",Edl!D10="cc"),Edl!D10<>""),1,"") | E10: =IF(AND(OR(Edl!E10<5,Edl!E10="c",Edl!E10="cc"),Edl!E10<>""),1,"") | F10: =IF(AND(OR(Edl!F10<5,Edl!F10="c",Edl!F10="cc"),Edl!F10<>""),1,"") | G10: =IF(AND(OR(Edl!G10<5,Edl!G10="c",Edl!G10="cc"),Edl!G10<>""),1,"") | H10: =IF(AND(OR(Edl!H10<5,Edl!H10="c",Edl!H10="cc"),Edl!H10<>""),1,"") | I10: =IF(AND(OR(Edl!I10<5,Edl!I10="c",Edl!I10="cc"),Edl!I10<>""),1,"") | J10: =SUM(B10:I10)/8*100 -> 0 | K10: =IF(AND(OR(Edl!J10<5,Edl!J10="c",Edl!J10="cc"),Edl!J10<>""),1,"") | L10: =IF(AND(OR(Edl!K10<5,Edl!K10="c",Edl!K10="cc"),Edl!K10<>""),1,"") | M10: =IF(AND(OR(Edl!L10<5,Edl!L10="c",Edl!L10="cc"),Edl!L10<>""),1,"") | N10: =IF(AND(OR(Edl!M10<5,Edl!M10="c",Edl!M10="cc"),Edl!M10<>""),1,"") | O10: =IF(AND(OR(Edl!N10<5,Edl!N10="c",Edl!N10="cc"),Edl!N10<>""),1,"") | P10: =IF(AND(OR(Edl!O10<5,Edl!O10="c",Edl!O10="cc"),Edl!O10<>""),1,"") | Q10: =IF(AND(OR(Edl!P10<5,Edl!P10="c",Edl!P10="cc"),Edl!P10<>""),1,"") | R10: =SUM(K10:Q10)/7*100 -> 0 | S10: =IF(AND(OR(Edl!Q10<5,Edl!Q10="c",Edl!Q10="cc"),Edl!Q10<>""),1,"") | T10: =IF(AND(OR(Edl!R10<5,Edl!R10="c",Edl!R10="cc"),Edl!R10<>""),1,"") | U10: =IF(AND(OR(Edl!S10<5,Edl!S10="c",Edl!S10="cc"),Edl!S10<>""),1,"") | V10: =IF(AND(OR(Edl!T10<5,Edl!T10="c",Edl!T10="cc"),Edl!T10<>""),1,"") | W10: =IF(AND(OR(Edl!U10<5,Edl!U10="c",Edl!U10="cc"),Edl!U10<>""),1,"") | X10: =IF(AND(OR(Edl!V10<5,Edl!V10="c",Edl!V10="cc"),Edl!V10<>""),1,"") | Y10: =IF(AND(OR(Edl!W10<5,Edl!W10="c",Edl!W10="cc"),Edl!W10<>""),1,"") | Z10: =IF(AND(OR(Edl!X10<5,Edl!X10="c",Edl!X10="cc"),Edl!X10<>""),1,"") | ... AB10: =IF(AND(OR(Edl!Z10<5,Edl!Z10="c",Edl!Z10="cc"),Edl!Z10<>""),1,"") | AC10: =SUM(S10:AB10)/10*100 -> 0 | AD10: =IF(AND(OR(Edl!AA10<5,Edl!AA10="c",Edl!AA10="cc"),Edl!AA10<>""),1,"") | AE10: =IF(AND(OR(Edl!AB10<5,Edl!AB10="c",Edl!AB10="cc"),Edl!AB10<>""),1,"") | AF10: =IF(AND(OR(Edl!AC10<5,Edl!AC10="c",Edl!AC10="cc"),Edl!AC10<>""),1,"") | AG10: =IF(AND(OR(Edl!AD10<5,Edl!AD10="c",Edl!AD10="cc"),Edl!AD10<>""),1,"") | AH10: =IF(AND(OR(Edl!AE10<5,Edl!AE10="c",Edl!AE10="cc"),Edl!AE10<>""),1,"") | AI10: =IF(AND(OR(Edl!AF10<5,Edl!AF10="c",Edl!AF10="cc"),Edl!AF10<>""),1,"") | AJ10: =IF(AND(OR(Edl!AG10<5,Edl!AG10="c",Edl!AG10="cc"),Edl!AG10<>""),1,"") | AK10: =IF(AND(OR(Edl!AH10<5,Edl!AH10="c",Edl!AH10="cc"),Edl!AH10<>""),1,"") | AL10: =SUM(AD10:AK10)/8*100 -> 0 | AM10: =IF(AND(OR(Edl!AI10<5,Edl!AI10="c",Edl!AI10="cc"),Edl!AI10<>""),1,"") | AN10: =IF(AND(OR(Edl!AJ10<5,Edl!AJ10="c",Edl!AJ10="cc"),Edl!AJ10<>""),1,"") | AO10: =IF(AND(OR(Edl!AK10<5,Edl!AK10="c",Edl!AK10="cc"),Edl!AK10<>""),1,"") | AP10: =IF(AND(OR(Edl!AL10<5,Edl!AL10="c",Edl!AL10="cc"),Edl!AL10<>""),1,"") | AQ10: =IF(AND(OR(Edl!AM10<5,Edl!AM10="c",Edl!AM10="cc"),Edl!AM10<>""),1,"") | AR10: =SUM(AM10:AQ10)/5*100 -> 0 | AS10: =IF(AND(OR(Edl!AN10<5,Edl!AN10="c",Edl!AN10="cc"),Edl!AN10<>""),1,"") | AT10: =IF(AND(OR(Edl!AO10<5,Edl!AO10="c",Edl!AO10="cc"),Edl!AO10<>""),1,"") | AU10: =IF(AND(OR(Edl!AP10<5,Edl!AP10="c",Edl!AP10="cc"),Edl!AP10<>""),1,"") | AV10: =IF(AND(OR(Edl!AQ10<5,Edl!AQ10="c",Edl!AQ10="cc"),Edl!AQ10<>""),1,"") | AW10: =SUM(AS10:AV10)/4*100 -> 0 | AX10: =IF(AND(OR(Edl!AR10<5,Edl!AR10="c",Edl!AR10="cc"),Edl!AR10<>""),1,"") | AY10: =IF(AND(OR(Edl!AS10<5,Edl!AS10="c",Edl!AS10="cc"),Edl!AS10<>""),1,"") | AZ10: =IF(AND(OR(Edl!AT10<5,Edl!AT10="c",Edl!AT10="cc"),Edl!AT10<>""),1,"") | BA10: =IF(AND(OR(Edl!AU10<5,Edl!AU10="c",Edl!AU10="cc"),Edl!AU10<>""),1,"") | BB10: =IF(AND(OR(Edl!AV10<5,Edl!AV10="c",Edl!AV10="cc"),Edl!AV10<>""),1,"") | BC10: =SUM(AX10:BB10)/5*100 -> 0 | BD10: =IF(AND(OR(Edl!AW10<5,Edl!AW10="c",Edl!AW10="cc"),Edl!AW10<>""),1,"") | BE10: =IF(AND(OR(Edl!AX10<5,Edl!AX10="c",Edl!AX10="cc"),Edl!AX10<>""),1,"") | BF10: =IF(AND(OR(Edl!AY10<5,Edl!AY10="c",Edl!AY10="cc"),Edl!AY10<>""),1,"") | BG10: =IF(AND(OR(Edl!AZ10<5,Edl!AZ10="c",Edl!AZ10="cc"),Edl!AZ10<>""),1,"") | BH10: =SUM(BD10:BG10)/4*100 -> 0 | BI10: =IF(AND(OR(Edl!BA10<5,Edl!BA10="c",Edl!BA10="cc"),Edl!BA10<>""),1,"") | BJ10: =IF(AND(OR(Edl!BB10<5,Edl!BB10="c",Edl!BB10="cc"),Edl!BB10<>""),1,"") | BK10: =IF(AND(OR(Edl!BC10<5,Edl!BC10="c",Edl!BC10="cc"),Edl!BC10<>""),1,"") | BL10: =IF(AND(OR(Edl!BD10<5,Edl!BD10="c",Edl!BD10="cc"),Edl!BD10<>""),1,"") | BM10: =IF(AND(OR(Edl!BE10<5,Edl!BE10="c",Edl!BE10="cc"),Edl!BE10<>""),1,"") | BN10: =SUM(BI10:BM10)/5*100 -> 0 | BO10: =IF(AND(OR(Edl!BF10<5,Edl!BF10="c",Edl!BF10="cc"),Edl!BF10<>""),1,"") | BP10: =IF(AND(OR(Edl!BG10<5,Edl!BG10="c",Edl!BG10="cc"),Edl!BG10<>""),1,"") | BQ10: =IF(AND(OR(Edl!BH10<5,Edl!BH10="c",Edl!BH10="cc"),Edl!BH10<>""),1,"") | BR10: =IF(AND(OR(Edl!BI10<5,Edl!BI10="c",Edl!BI10="cc"),Edl!BI10<>""),1,"") | BS10: =IF(AND(OR(Edl!BJ10<5,Edl!BJ10="c",Edl!BJ10="cc"),Edl!BJ10<>""),1,"") | BT10: =IF(AND(OR(Edl!BK10<5,Edl!BK10="c",Edl!BK10="cc"),Edl!BK10<>""),1,"") | BU10: =IF(AND(OR(Edl!BL10<5,Edl!BL10="c",Edl!BL10="cc"),Edl!BL10<>""),1,"") | BV10: =SUM(BO10:BU10)/7*100 -> 0 | BW10: =IF(AND(OR(Edl!BM10<5,Edl!BM10="c",Edl!BM10="cc"),Edl!BM10<>""),1,"") | BX10: =IF(AND(OR(Edl!BN10<5,Edl!BN10="c",Edl!BN10="cc"),Edl!BN10<>""),1,"") | BY10: =IF(AND(OR(Edl!BO10<5,Edl!BO10="c",Edl!BO10="cc"),Edl!BO10<>""),1,"") | BZ10: =IF(AND(OR(Edl!BP10<5,Edl!BP10="c",Edl!BP10="cc"),Edl!BP10<>""),1,"") | CA10: =SUM(BW10:BZ10)/4*100 -> 0 | CB10: =IF(AND(OR(Edl!BQ10<5,Edl!BQ10="c",Edl!BQ10="cc"),Edl!BQ10<>""),1,"") | CC10: =IF(AND(OR(Edl!BR10<5,Edl!BR10="c",Edl!BR10="cc"),Edl!BR10<>""),1,"") | CD10: =IF(AND(OR(Edl!BS10<5,Edl!BS10="c",Edl!BS10="cc"),Edl!BS10<>""),1,"") | CE10: =IF(AND(OR(Edl!BT10<5,Edl!BT10="c",Edl!BT10="cc"),Edl!BT10<>""),1,"") | CF10: =IF(AND(OR(Edl!BU10<5,Edl!BU10="c",Edl!BU10="cc"),Edl!BU10<>""),1,"") | CG10: =IF(AND(OR(Edl!BV10<5,Edl!BV10="c",Edl!BV10="cc"),Edl!BV10<>""),1,"") | CH10: =IF(AND(OR(Edl!BW10<5,Edl!BW10="c",Edl!BW10="cc"),Edl!BW10<>""),1,"") | CI10: =IF(AND(OR(Edl!BX10<5,Edl!BX10="c",Edl!BX10="cc"),Edl!BX10<>""),1,"") | ... CL10: =IF(AND(OR(Edl!CA10<5,Edl!CA10="c",Edl!CA10="cc"),Edl!CA10<>""),1,"") | CM10: =SUM(CB10:CL10)/11*100 -> 0 | CN10: =IF(AND(OR(Edl!CB10<5,Edl!CB10="c",Edl!CB10="cc"),Edl!CB10<>""),1,"") | CO10: =IF(AND(OR(Edl!CC10<5,Edl!CC10="c",Edl!CC10="cc"),Edl!CC10<>""),1,"") | CP10: =IF(AND(OR(Edl!CD10<5,Edl!CD10="c",Edl!CD10="cc"),Edl!CD10<>""),1,"") | CQ10: =IF(AND(OR(Edl!CE10<5,Edl!CE10="c",Edl!CE10="cc"),Edl!CE10<>""),1,"") | CR10: =IF(AND(OR(Edl!CF10<5,Edl!CF10="c",Edl!CF10="cc"),Edl!CF10<>""),1,"") | CS10: =SUM(CN10:CR10)/5*100 -> 0 | CT10: =IF(AND(OR(Edl!CG10<5,Edl!CG10="c",Edl!CG10="cc"),Edl!CG10<>""),1,"") | CU10: =IF(AND(OR(Edl!CH10<5,Edl!CH10="c",Edl!CH10="cc"),Edl!CH10<>""),1,"") | CV10: =IF(AND(OR(Edl!CI10<5,Edl!CI10="c",Edl!CI10="cc"),Edl!CI10<>""),1,"") | CW10: =IF(AND(OR(Edl!CJ10<5,Edl!CJ10="c",Edl!CJ10="cc"),Edl!CJ10<>""),1,"") | CX10: =IF(AND(OR(Edl!CK10<5,Edl!CK10="c",Edl!CK10="cc"),Edl!CK10<>""),1,"") | CY10: =IF(AND(OR(Edl!CL10<5,Edl!CL10="c",Edl!CL10="cc"),Edl!CL10<>""),1,"") | CZ10: =SUM(CT10:CY10)/6*100 -> 0 | DA10: =IF(AND(OR(Edl!CM10<5,Edl!CM10="c",Edl!CM10="cc"),Edl!CM10<>""),1,"") | DB10: =IF(AND(OR(Edl!CN10<5,Edl!CN10="c",Edl!CN10="cc"),Edl!CN10<>""),1,"") | DC10: =IF(AND(OR(Edl!CO10<5,Edl!CO10="c",Edl!CO10="cc"),Edl!CO10<>""),1,"") | DD10: =IF(AND(OR(Edl!CP10<5,Edl!CP10="c",Edl!CP10="cc"),Edl!CP10<>""),1,"") | DE10: =IF(AND(OR(Edl!CQ10<5,Edl!CQ10="c",Edl!CQ10="cc"),Edl!CQ10<>""),1,"") | DF10: =SUM(DA10:DE10)/5*100 -> 0 | DG10: =IF(AND(OR(Edl!CR10<5,Edl!CR10="c",Edl!CR10="cc"),Edl!CR10<>""),1,"") | DH10: =IF(AND(OR(Edl!CS10<5,Edl!CS10="c",Edl!CS10="cc"),Edl!CS10<>""),1,"") | DI10: =IF(AND(OR(Edl!CT10<5,Edl!CT10="c",Edl!CT10="cc"),Edl!CT10<>""),1,"") | DJ10: =IF(AND(OR(Edl!CU10<5,Edl!CU10="c",Edl!CU10="cc"),Edl!CU10<>""),1,"") | DK10: =IF(AND(OR(Edl!CV10<5,Edl!CV10="c",Edl!CV10="cc"),Edl!CV10<>""),1,"") | DL10: =IF(AND(OR(Edl!CW10<5,Edl!CW10="c",Edl!CW10="cc"),Edl!CW10<>""),1,"") | DM10: =IF(AND(OR(Edl!CX10<5,Edl!CX10="c",Edl!CX10="cc"),Edl!CX10<>""),1,"") | DN10: =IF(AND(OR(Edl!CY10<5,Edl!CY10="c",Edl!CY10="cc"),Edl!CY10<>""),1,"") | ... DP10: =IF(AND(OR(Edl!DA10<5,Edl!DA10="c",Edl!DA10="cc"),Edl!DA10<>""),1,"") | DQ10: =SUM(DG10:DP11)/10*100 -> 0 | DR10: =IF(AND(OR(Edl!DB10<5,Edl!DB10="c",Edl!DB10="cc"),Edl!DB10<>""),1,"") | DS10: =IF(AND(OR(Edl!DC10<5,Edl!DC10="c",Edl!DC10="cc"),Edl!DC10<>""),1,"") | DT10: =IF(AND(OR(Edl!DD10<5,Edl!DD10="c",Edl!DD10="cc"),Edl!DD10<>""),1,"") | DU10: =IF(AND(OR(Edl!DE10<5,Edl!DE10="c",Edl!DE10="cc"),Edl!DE10<>""),1,"") | DV10: =IF(AND(OR(Edl!DF10<5,Edl!DF10="c",Edl!DF10="cc"),Edl!DF10<>""),1,"") | DW10: =IF(AND(OR(Edl!DG10<5,Edl!DG10="c",Edl!DG10="cc"),Edl!DG10<>""),1,"") | DX10: =IF(AND(OR(Edl!DH10<5,Edl!DH10="c",Edl!DH10="cc"),Edl!DH10<>""),1,"") | DY10: =IF(AND(OR(Edl!DI10<5,Edl!DI10="c",Edl!DI10="cc"),Edl!DI10<>""),1,"") | ... EC10: =IF(AND(OR(Edl!DM10<5,Edl!DM10="c",Edl!DM10="cc"),Edl!DM10<>""),1,"") | ED10: =SUM(DR10:EC10)/12*100 -> 0
A11: Axel | B11: =IF(AND(OR(Edl!B11<5,Edl!B11="c",Edl!B11="cc"),Edl!B11<>""),1,"") | C11: =IF(AND(OR(Edl!C11<5,Edl!C11="c",Edl!C11="cc"),Edl!C11<>""),1,"") | D11: =IF(AND(OR(Edl!D11<5,Edl!D11="c",Edl!D11="cc"),Edl!D11<>""),1,"") | E11: =IF(AND(OR(Edl!E11<5,Edl!E11="c",Edl!E11="cc"),Edl!E11<>""),1,"") | F11: =IF(AND(OR(Edl!F11<5,Edl!F11="c",Edl!F11="cc"),Edl!F11<>""),1,"") | G11: =IF(AND(OR(Edl!G11<5,Edl!G11="c",Edl!G11="cc"),Edl!G11<>""),1,"") | H11: =IF(AND(OR(Edl!H11<5,Edl!H11="c",Edl!H11="cc"),Edl!H11<>""),1,"") | I11: =IF(AND(OR(Edl!I11<5,Edl!I11="c",Edl!I11="cc"),Edl!I11<>""),1,"") | J11: =SUM(B11:I11)/8*100 -> 0 | K11: =IF(AND(OR(Edl!J11<5,Edl!J11="c",Edl!J11="cc"),Edl!J11<>""),1,"") | L11: =IF(AND(OR(Edl!K11<5,Edl!K11="c",Edl!K11="cc"),Edl!K11<>""),1,"") | M11: =IF(AND(OR(Edl!L11<5,Edl!L11="c",Edl!L11="cc"),Edl!L11<>""),1,"") | N11: =IF(AND(OR(Edl!M11<5,Edl!M11="c",Edl!M11="cc"),Edl!M11<>""),1,"") | O11: =IF(AND(OR(Edl!N11<5,Edl!N11="c",Edl!N11="cc"),Edl!N11<>""),1,"") | P11: =IF(AND(OR(Edl!O11<5,Edl!O11="c",Edl!O11="cc"),Edl!O11<>""),1,"") | Q11: =IF(AND(OR(Edl!P11<5,Edl!P11="c",Edl!P11="cc"),Edl!P11<>""),1,"") | R11: =SUM(K11:Q11)/7*100 -> 0 | S11: =IF(AND(OR(Edl!Q11<5,Edl!Q11="c",Edl!Q11="cc"),Edl!Q11<>""),1,"") | T11: =IF(AND(OR(Edl!R11<5,Edl!R11="c",Edl!R11="cc"),Edl!R11<>""),1,"") | U11: =IF(AND(OR(Edl!S11<5,Edl!S11="c",Edl!S11="cc"),Edl!S11<>""),1,"") | V11: =IF(AND(OR(Edl!T11<5,Edl!T11="c",Edl!T11="cc"),Edl!T11<>""),1,"") | W11: =IF(AND(OR(Edl!U11<5,Edl!U11="c",Edl!U11="cc"),Edl!U11<>""),1,"") | X11: =IF(AND(OR(Edl!V11<5,Edl!V11="c",Edl!V11="cc"),Edl!V11<>""),1,"") | Y11: =IF(AND(OR(Edl!W11<5,Edl!W11="c",Edl!W11="cc"),Edl!W11<>""),1,"") | Z11: =IF(AND(OR(Edl!X11<5,Edl!X11="c",Edl!X11="cc"),Edl!X11<>""),1,"") | ... AB11: =IF(AND(OR(Edl!Z11<5,Edl!Z11="c",Edl!Z11="cc"),Edl!Z11<>""),1,"") | AC11: =SUM(S11:AB11)/10*100 -> 0 | AD11: =IF(AND(OR(Edl!AA11<5,Edl!AA11="c",Edl!AA11="cc"),Edl!AA11<>""),1,"") | AE11: =IF(AND(OR(Edl!AB11<5,Edl!AB11="c",Edl!AB11="cc"),Edl!AB11<>""),1,"") | AF11: =IF(AND(OR(Edl!AC11<5,Edl!AC11="c",Edl!AC11="cc"),Edl!AC11<>""),1,"") | AG11: =IF(AND(OR(Edl!AD11<5,Edl!AD11="c",Edl!AD11="cc"),Edl!AD11<>""),1,"") | AH11: =IF(AND(OR(Edl!AE11<5,Edl!AE11="c",Edl!AE11="cc"),Edl!AE11<>""),1,"") | AI11: =IF(AND(OR(Edl!AF11<5,Edl!AF11="c",Edl!AF11="cc"),Edl!AF11<>""),1,"") | AJ11: =IF(AND(OR(Edl!AG11<5,Edl!AG11="c",Edl!AG11="cc"),Edl!AG11<>""),1,"") | AK11: =IF(AND(OR(Edl!AH11<5,Edl!AH11="c",Edl!AH11="cc"),Edl!AH11<>""),1,"") | AL11: =SUM(AD11:AK11)/8*100 -> 0 | AM11: =IF(AND(OR(Edl!AI11<5,Edl!AI11="c",Edl!AI11="cc"),Edl!AI11<>""),1,"") | AN11: =IF(AND(OR(Edl!AJ11<5,Edl!AJ11="c",Edl!AJ11="cc"),Edl!AJ11<>""),1,"") | AO11: =IF(AND(OR(Edl!AK11<5,Edl!AK11="c",Edl!AK11="cc"),Edl!AK11<>""),1,"") | AP11: =IF(AND(OR(Edl!AL11<5,Edl!AL11="c",Edl!AL11="cc"),Edl!AL11<>""),1,"") | AQ11: =IF(AND(OR(Edl!AM11<5,Edl!AM11="c",Edl!AM11="cc"),Edl!AM11<>""),1,"") | AR11: =SUM(AM11:AQ11)/5*100 -> 0 | AS11: =IF(AND(OR(Edl!AN11<5,Edl!AN11="c",Edl!AN11="cc"),Edl!AN11<>""),1,"") | AT11: =IF(AND(OR(Edl!AO11<5,Edl!AO11="c",Edl!AO11="cc"),Edl!AO11<>""),1,"") | AU11: =IF(AND(OR(Edl!AP11<5,Edl!AP11="c",Edl!AP11="cc"),Edl!AP11<>""),1,"") | AV11: =IF(AND(OR(Edl!AQ11<5,Edl!AQ11="c",Edl!AQ11="cc"),Edl!AQ11<>""),1,"") | AW11: =SUM(AS11:AV11)/4*100 -> 0 | AX11: =IF(AND(OR(Edl!AR11<5,Edl!AR11="c",Edl!AR11="cc"),Edl!AR11<>""),1,"") | AY11: =IF(AND(OR(Edl!AS11<5,Edl!AS11="c",Edl!AS11="cc"),Edl!AS11<>""),1,"") | AZ11: =IF(AND(OR(Edl!AT11<5,Edl!AT11="c",Edl!AT11="cc"),Edl!AT11<>""),1,"") | BA11: =IF(AND(OR(Edl!AU11<5,Edl!AU11="c",Edl!AU11="cc"),Edl!AU11<>""),1,"") | BB11: =IF(AND(OR(Edl!AV11<5,Edl!AV11="c",Edl!AV11="cc"),Edl!AV11<>""),1,"") | BC11: =SUM(AX11:BB11)/5*100 -> 0 | BD11: =IF(AND(OR(Edl!AW11<5,Edl!AW11="c",Edl!AW11="cc"),Edl!AW11<>""),1,"") | BE11: =IF(AND(OR(Edl!AX11<5,Edl!AX11="c",Edl!AX11="cc"),Edl!AX11<>""),1,"") | BF11: =IF(AND(OR(Edl!AY11<5,Edl!AY11="c",Edl!AY11="cc"),Edl!AY11<>""),1,"") | BG11: =IF(AND(OR(Edl!AZ11<5,Edl!AZ11="c",Edl!AZ11="cc"),Edl!AZ11<>""),1,"") | BH11: =SUM(BD11:BG11)/4*100 -> 0 | BI11: =IF(AND(OR(Edl!BA11<5,Edl!BA11="c",Edl!BA11="cc"),Edl!BA11<>""),1,"") | BJ11: =IF(AND(OR(Edl!BB11<5,Edl!BB11="c",Edl!BB11="cc"),Edl!BB11<>""),1,"") | BK11: =IF(AND(OR(Edl!BC11<5,Edl!BC11="c",Edl!BC11="cc"),Edl!BC11<>""),1,"") | BL11: =IF(AND(OR(Edl!BD11<5,Edl!BD11="c",Edl!BD11="cc"),Edl!BD11<>""),1,"") | BM11: =IF(AND(OR(Edl!BE11<5,Edl!BE11="c",Edl!BE11="cc"),Edl!BE11<>""),1,"") | BN11: =SUM(BI11:BM11)/5*100 -> 0 | BO11: =IF(AND(OR(Edl!BF11<5,Edl!BF11="c",Edl!BF11="cc"),Edl!BF11<>""),1,"") | BP11: =IF(AND(OR(Edl!BG11<5,Edl!BG11="c",Edl!BG11="cc"),Edl!BG11<>""),1,"") | BQ11: =IF(AND(OR(Edl!BH11<5,Edl!BH11="c",Edl!BH11="cc"),Edl!BH11<>""),1,"") | BR11: =IF(AND(OR(Edl!BI11<5,Edl!BI11="c",Edl!BI11="cc"),Edl!BI11<>""),1,"") | BS11: =IF(AND(OR(Edl!BJ11<5,Edl!BJ11="c",Edl!BJ11="cc"),Edl!BJ11<>""),1,"") | BT11: =IF(AND(OR(Edl!BK11<5,Edl!BK11="c",Edl!BK11="cc"),Edl!BK11<>""),1,"") | BU11: =IF(AND(OR(Edl!BL11<5,Edl!BL11="c",Edl!BL11="cc"),Edl!BL11<>""),1,"") | BV11: =SUM(BO11:BU11)/7*100 -> 0 | BW11: =IF(AND(OR(Edl!BM11<5,Edl!BM11="c",Edl!BM11="cc"),Edl!BM11<>""),1,"") | BX11: =IF(AND(OR(Edl!BN11<5,Edl!BN11="c",Edl!BN11="cc"),Edl!BN11<>""),1,"") | BY11: =IF(AND(OR(Edl!BO11<5,Edl!BO11="c",Edl!BO11="cc"),Edl!BO11<>""),1,"") | BZ11: =IF(AND(OR(Edl!BP11<5,Edl!BP11="c",Edl!BP11="cc"),Edl!BP11<>""),1,"") | CA11: =SUM(BW11:BZ11)/4*100 -> 0 | CB11: =IF(AND(OR(Edl!BQ11<5,Edl!BQ11="c",Edl!BQ11="cc"),Edl!BQ11<>""),1,"") | CC11: =IF(AND(OR(Edl!BR11<5,Edl!BR11="c",Edl!BR11="cc"),Edl!BR11<>""),1,"") | CD11: =IF(AND(OR(Edl!BS11<5,Edl!BS11="c",Edl!BS11="cc"),Edl!BS11<>""),1,"") | CE11: =IF(AND(OR(Edl!BT11<5,Edl!BT11="c",Edl!BT11="cc"),Edl!BT11<>""),1,"") | CF11: =IF(AND(OR(Edl!BU11<5,Edl!BU11="c",Edl!BU11="cc"),Edl!BU11<>""),1,"") | CG11: =IF(AND(OR(Edl!BV11<5,Edl!BV11="c",Edl!BV11="cc"),Edl!BV11<>""),1,"") | CH11: =IF(AND(OR(Edl!BW11<5,Edl!BW11="c",Edl!BW11="cc"),Edl!BW11<>""),1,"") | CI11: =IF(AND(OR(Edl!BX11<5,Edl!BX11="c",Edl!BX11="cc"),Edl!BX11<>""),1,"") | ... CL11: =IF(AND(OR(Edl!CA11<5,Edl!CA11="c",Edl!CA11="cc"),Edl!CA11<>""),1,"") | CM11: =SUM(CB11:CL11)/11*100 -> 0 | CN11: =IF(AND(OR(Edl!CB11<5,Edl!CB11="c",Edl!CB11="cc"),Edl!CB11<>""),1,"") | CO11: =IF(AND(OR(Edl!CC11<5,Edl!CC11="c",Edl!CC11="cc"),Edl!CC11<>""),1,"") | CP11: =IF(AND(OR(Edl!CD11<5,Edl!CD11="c",Edl!CD11="cc"),Edl!CD11<>""),1,"") | CQ11: =IF(AND(OR(Edl!CE11<5,Edl!CE11="c",Edl!CE11="cc"),Edl!CE11<>""),1,"") | CR11: =IF(AND(OR(Edl!CF11<5,Edl!CF11="c",Edl!CF11="cc"),Edl!CF11<>""),1,"") | CS11: =SUM(CN11:CR11)/5*100 -> 0 | CT11: =IF(AND(OR(Edl!CG11<5,Edl!CG11="c",Edl!CG11="cc"),Edl!CG11<>""),1,"") | CU11: =IF(AND(OR(Edl!CH11<5,Edl!CH11="c",Edl!CH11="cc"),Edl!CH11<>""),1,"") | CV11: =IF(AND(OR(Edl!CI11<5,Edl!CI11="c",Edl!CI11="cc"),Edl!CI11<>""),1,"") | CW11: =IF(AND(OR(Edl!CJ11<5,Edl!CJ11="c",Edl!CJ11="cc"),Edl!CJ11<>""),1,"") | CX11: =IF(AND(OR(Edl!CK11<5,Edl!CK11="c",Edl!CK11="cc"),Edl!CK11<>""),1,"") | CY11: =IF(AND(OR(Edl!CL11<5,Edl!CL11="c",Edl!CL11="cc"),Edl!CL11<>""),1,"") | CZ11: =SUM(CT11:CY11)/6*100 -> 0 | DA11: =IF(AND(OR(Edl!CM11<5,Edl!CM11="c",Edl!CM11="cc"),Edl!CM11<>""),1,"") | DB11: =IF(AND(OR(Edl!CN11<5,Edl!CN11="c",Edl!CN11="cc"),Edl!CN11<>""),1,"") | DC11: =IF(AND(OR(Edl!CO11<5,Edl!CO11="c",Edl!CO11="cc"),Edl!CO11<>""),1,"") | DD11: =IF(AND(OR(Edl!CP11<5,Edl!CP11="c",Edl!CP11="cc"),Edl!CP11<>""),1,"") | DE11: =IF(AND(OR(Edl!CQ11<5,Edl!CQ11="c",Edl!CQ11="cc"),Edl!CQ11<>""),1,"") | DF11: =SUM(DA11:DE11)/5*100 -> 0 | DG11: =IF(AND(OR(Edl!CR11<5,Edl!CR11="c",Edl!CR11="cc"),Edl!CR11<>""),1,"") | DH11: =IF(AND(OR(Edl!CS11<5,Edl!CS11="c",Edl!CS11="cc"),Edl!CS11<>""),1,"") | DI11: =IF(AND(OR(Edl!CT11<5,Edl!CT11="c",Edl!CT11="cc"),Edl!CT11<>""),1,"") | DJ11: =IF(AND(OR(Edl!CU11<5,Edl!CU11="c",Edl!CU11="cc"),Edl!CU11<>""),1,"") | DK11: =IF(AND(OR(Edl!CV11<5,Edl!CV11="c",Edl!CV11="cc"),Edl!CV11<>""),1,"") | DL11: =IF(AND(OR(Edl!CW11<5,Edl!CW11="c",Edl!CW11="cc"),Edl!CW11<>""),1,"") | DM11: =IF(AND(OR(Edl!CX11<5,Edl!CX11="c",Edl!CX11="cc"),Edl!CX11<>""),1,"") | DN11: =IF(AND(OR(Edl!CY11<5,Edl!CY11="c",Edl!CY11="cc"),Edl!CY11<>""),1,"") | ... DP11: =IF(AND(OR(Edl!DA11<5,Edl!DA11="c",Edl!DA11="cc"),Edl!DA11<>""),1,"") | DQ11: =SUM(DG11:DP12)/10*100 -> 0 | DR11: =IF(AND(OR(Edl!DB11<5,Edl!DB11="c",Edl!DB11="cc"),Edl!DB11<>""),1,"") | DS11: =IF(AND(OR(Edl!DC11<5,Edl!DC11="c",Edl!DC11="cc"),Edl!DC11<>""),1,"") | DT11: =IF(AND(OR(Edl!DD11<5,Edl!DD11="c",Edl!DD11="cc"),Edl!DD11<>""),1,"") | DU11: =IF(AND(OR(Edl!DE11<5,Edl!DE11="c",Edl!DE11="cc"),Edl!DE11<>""),1,"") | DV11: =IF(AND(OR(Edl!DF11<5,Edl!DF11="c",Edl!DF11="cc"),Edl!DF11<>""),1,"") | DW11: =IF(AND(OR(Edl!DG11<5,Edl!DG11="c",Edl!DG11="cc"),Edl!DG11<>""),1,"") | DX11: =IF(AND(OR(Edl!DH11<5,Edl!DH11="c",Edl!DH11="cc"),Edl!DH11<>""),1,"") | DY11: =IF(AND(OR(Edl!DI11<5,Edl!DI11="c",Edl!DI11="cc"),Edl!DI11<>""),1,"") | ... EC11: =IF(AND(OR(Edl!DM11<5,Edl!DM11="c",Edl!DM11="cc"),Edl!DM11<>""),1,"") | ED11: =SUM(DR11:EC11)/12*100 -> 0
A12: Camille | B12: =IF(AND(OR(Edl!B12<5,Edl!B12="c",Edl!B12="cc"),Edl!B12<>""),1,"") | C12: =IF(AND(OR(Edl!C12<5,Edl!C12="c",Edl!C12="cc"),Edl!C12<>""),1,"") | D12: =IF(AND(OR(Edl!D12<5,Edl!D12="c",Edl!D12="cc"),Edl!D12<>""),1,"") | E12: =IF(AND(OR(Edl!E12<5,Edl!E12="c",Edl!E12="cc"),Edl!E12<>""),1,"") | F12: =IF(AND(OR(Edl!F12<5,Edl!F12="c",Edl!F12="cc"),Edl!F12<>""),1,"") | G12: =IF(AND(OR(Edl!G12<5,Edl!G12="c",Edl!G12="cc"),Edl!G12<>""),1,"") | H12: =IF(AND(OR(Edl!H12<5,Edl!H12="c",Edl!H12="cc"),Edl!H12<>""),1,"") | I12: =IF(AND(OR(Edl!I12<5,Edl!I12="c",Edl!I12="cc"),Edl!I12<>""),1,"") | J12: =SUM(B12:I12)/8*100 -> 0 | K12: =IF(AND(OR(Edl!J12<5,Edl!J12="c",Edl!J12="cc"),Edl!J12<>""),1,"") | L12: =IF(AND(OR(Edl!K12<5,Edl!K12="c",Edl!K12="cc"),Edl!K12<>""),1,"") | M12: =IF(AND(OR(Edl!L12<5,Edl!L12="c",Edl!L12="cc"),Edl!L12<>""),1,"") | N12: =IF(AND(OR(Edl!M12<5,Edl!M12="c",Edl!M12="cc"),Edl!M12<>""),1,"") | O12: =IF(AND(OR(Edl!N12<5,Edl!N12="c",Edl!N12="cc"),Edl!N12<>""),1,"") | P12: =IF(AND(OR(Edl!O12<5,Edl!O12="c",Edl!O12="cc"),Edl!O12<>""),1,"") | Q12: =IF(AND(OR(Edl!P12<5,Edl!P12="c",Edl!P12="cc"),Edl!P12<>""),1,"") | R12: =SUM(K12:Q12)/7*100 -> 0 | S12: =IF(AND(OR(Edl!Q12<5,Edl!Q12="c",Edl!Q12="cc"),Edl!Q12<>""),1,"") | T12: =IF(AND(OR(Edl!R12<5,Edl!R12="c",Edl!R12="cc"),Edl!R12<>""),1,"") | U12: =IF(AND(OR(Edl!S12<5,Edl!S12="c",Edl!S12="cc"),Edl!S12<>""),1,"") | V12: =IF(AND(OR(Edl!T12<5,Edl!T12="c",Edl!T12="cc"),Edl!T12<>""),1,"") | W12: =IF(AND(OR(Edl!U12<5,Edl!U12="c",Edl!U12="cc"),Edl!U12<>""),1,"") | X12: =IF(AND(OR(Edl!V12<5,Edl!V12="c",Edl!V12="cc"),Edl!V12<>""),1,"") | Y12: =IF(AND(OR(Edl!W12<5,Edl!W12="c",Edl!W12="cc"),Edl!W12<>""),1,"") | Z12: =IF(AND(OR(Edl!X12<5,Edl!X12="c",Edl!X12="cc"),Edl!X12<>""),1,"") | ... AB12: =IF(AND(OR(Edl!Z12<5,Edl!Z12="c",Edl!Z12="cc"),Edl!Z12<>""),1,"") | AC12: =SUM(S12:AB12)/10*100 -> 0 | AD12: =IF(AND(OR(Edl!AA12<5,Edl!AA12="c",Edl!AA12="cc"),Edl!AA12<>""),1,"") | AE12: =IF(AND(OR(Edl!AB12<5,Edl!AB12="c",Edl!AB12="cc"),Edl!AB12<>""),1,"") | AF12: =IF(AND(OR(Edl!AC12<5,Edl!AC12="c",Edl!AC12="cc"),Edl!AC12<>""),1,"") | AG12: =IF(AND(OR(Edl!AD12<5,Edl!AD12="c",Edl!AD12="cc"),Edl!AD12<>""),1,"") | AH12: =IF(AND(OR(Edl!AE12<5,Edl!AE12="c",Edl!AE12="cc"),Edl!AE12<>""),1,"") | AI12: =IF(AND(OR(Edl!AF12<5,Edl!AF12="c",Edl!AF12="cc"),Edl!AF12<>""),1,"") | AJ12: =IF(AND(OR(Edl!AG12<5,Edl!AG12="c",Edl!AG12="cc"),Edl!AG12<>""),1,"") | AK12: =IF(AND(OR(Edl!AH12<5,Edl!AH12="c",Edl!AH12="cc"),Edl!AH12<>""),1,"") | AL12: =SUM(AD12:AK12)/8*100 -> 0 | AM12: =IF(AND(OR(Edl!AI12<5,Edl!AI12="c",Edl!AI12="cc"),Edl!AI12<>""),1,"") | AN12: =IF(AND(OR(Edl!AJ12<5,Edl!AJ12="c",Edl!AJ12="cc"),Edl!AJ12<>""),1,"") | AO12: =IF(AND(OR(Edl!AK12<5,Edl!AK12="c",Edl!AK12="cc"),Edl!AK12<>""),1,"") | AP12: =IF(AND(OR(Edl!AL12<5,Edl!AL12="c",Edl!AL12="cc"),Edl!AL12<>""),1,"") | AQ12: =IF(AND(OR(Edl!AM12<5,Edl!AM12="c",Edl!AM12="cc"),Edl!AM12<>""),1,"") | AR12: =SUM(AM12:AQ12)/5*100 -> 0 | AS12: =IF(AND(OR(Edl!AN12<5,Edl!AN12="c",Edl!AN12="cc"),Edl!AN12<>""),1,"") | AT12: =IF(AND(OR(Edl!AO12<5,Edl!AO12="c",Edl!AO12="cc"),Edl!AO12<>""),1,"") | AU12: =IF(AND(OR(Edl!AP12<5,Edl!AP12="c",Edl!AP12="cc"),Edl!AP12<>""),1,"") | AV12: =IF(AND(OR(Edl!AQ12<5,Edl!AQ12="c",Edl!AQ12="cc"),Edl!AQ12<>""),1,"") | AW12: =SUM(AS12:AV12)/4*100 -> 0 | AX12: =IF(AND(OR(Edl!AR12<5,Edl!AR12="c",Edl!AR12="cc"),Edl!AR12<>""),1,"") | AY12: =IF(AND(OR(Edl!AS12<5,Edl!AS12="c",Edl!AS12="cc"),Edl!AS12<>""),1,"") | AZ12: =IF(AND(OR(Edl!AT12<5,Edl!AT12="c",Edl!AT12="cc"),Edl!AT12<>""),1,"") | BA12: =IF(AND(OR(Edl!AU12<5,Edl!AU12="c",Edl!AU12="cc"),Edl!AU12<>""),1,"") | BB12: =IF(AND(OR(Edl!AV12<5,Edl!AV12="c",Edl!AV12="cc"),Edl!AV12<>""),1,"") | BC12: =SUM(AX12:BB12)/5*100 -> 0 | BD12: =IF(AND(OR(Edl!AW12<5,Edl!AW12="c",Edl!AW12="cc"),Edl!AW12<>""),1,"") | BE12: =IF(AND(OR(Edl!AX12<5,Edl!AX12="c",Edl!AX12="cc"),Edl!AX12<>""),1,"") | BF12: =IF(AND(OR(Edl!AY12<5,Edl!AY12="c",Edl!AY12="cc"),Edl!AY12<>""),1,"") | BG12: =IF(AND(OR(Edl!AZ12<5,Edl!AZ12="c",Edl!AZ12="cc"),Edl!AZ12<>""),1,"") | BH12: =SUM(BD12:BG12)/4*100 -> 0 | BI12: =IF(AND(OR(Edl!BA12<5,Edl!BA12="c",Edl!BA12="cc"),Edl!BA12<>""),1,"") | BJ12: =IF(AND(OR(Edl!BB12<5,Edl!BB12="c",Edl!BB12="cc"),Edl!BB12<>""),1,"") | BK12: =IF(AND(OR(Edl!BC12<5,Edl!BC12="c",Edl!BC12="cc"),Edl!BC12<>""),1,"") | BL12: =IF(AND(OR(Edl!BD12<5,Edl!BD12="c",Edl!BD12="cc"),Edl!BD12<>""),1,"") | BM12: =IF(AND(OR(Edl!BE12<5,Edl!BE12="c",Edl!BE12="cc"),Edl!BE12<>""),1,"") | BN12: =SUM(BI12:BM12)/5*100 -> 0 | BO12: =IF(AND(OR(Edl!BF12<5,Edl!BF12="c",Edl!BF12="cc"),Edl!BF12<>""),1,"") | BP12: =IF(AND(OR(Edl!BG12<5,Edl!BG12="c",Edl!BG12="cc"),Edl!BG12<>""),1,"") | BQ12: =IF(AND(OR(Edl!BH12<5,Edl!BH12="c",Edl!BH12="cc"),Edl!BH12<>""),1,"") | BR12: =IF(AND(OR(Edl!BI12<5,Edl!BI12="c",Edl!BI12="cc"),Edl!BI12<>""),1,"") | BS12: =IF(AND(OR(Edl!BJ12<5,Edl!BJ12="c",Edl!BJ12="cc"),Edl!BJ12<>""),1,"") | BT12: =IF(AND(OR(Edl!BK12<5,Edl!BK12="c",Edl!BK12="cc"),Edl!BK12<>""),1,"") | BU12: =IF(AND(OR(Edl!BL12<5,Edl!BL12="c",Edl!BL12="cc"),Edl!BL12<>""),1,"") | BV12: =SUM(BO12:BU12)/7*100 -> 0 | BW12: =IF(AND(OR(Edl!BM12<5,Edl!BM12="c",Edl!BM12="cc"),Edl!BM12<>""),1,"") | BX12: =IF(AND(OR(Edl!BN12<5,Edl!BN12="c",Edl!BN12="cc"),Edl!BN12<>""),1,"") | BY12: =IF(AND(OR(Edl!BO12<5,Edl!BO12="c",Edl!BO12="cc"),Edl!BO12<>""),1,"") | BZ12: =IF(AND(OR(Edl!BP12<5,Edl!BP12="c",Edl!BP12="cc"),Edl!BP12<>""),1,"") | CA12: =SUM(BW12:BZ12)/4*100 -> 0 | CB12: =IF(AND(OR(Edl!BQ12<5,Edl!BQ12="c",Edl!BQ12="cc"),Edl!BQ12<>""),1,"") | CC12: =IF(AND(OR(Edl!BR12<5,Edl!BR12="c",Edl!BR12="cc"),Edl!BR12<>""),1,"") | CD12: =IF(AND(OR(Edl!BS12<5,Edl!BS12="c",Edl!BS12="cc"),Edl!BS12<>""),1,"") | CE12: =IF(AND(OR(Edl!BT12<5,Edl!BT12="c",Edl!BT12="cc"),Edl!BT12<>""),1,"") | CF12: =IF(AND(OR(Edl!BU12<5,Edl!BU12="c",Edl!BU12="cc"),Edl!BU12<>""),1,"") | CG12: =IF(AND(OR(Edl!BV12<5,Edl!BV12="c",Edl!BV12="cc"),Edl!BV12<>""),1,"") | CH12: =IF(AND(OR(Edl!BW12<5,Edl!BW12="c",Edl!BW12="cc"),Edl!BW12<>""),1,"") | CI12: =IF(AND(OR(Edl!BX12<5,Edl!BX12="c",Edl!BX12="cc"),Edl!BX12<>""),1,"") | ... CL12: =IF(AND(OR(Edl!CA12<5,Edl!CA12="c",Edl!CA12="cc"),Edl!CA12<>""),1,"") | CM12: =SUM(CB12:CL12)/11*100 -> 0 | CN12: =IF(AND(OR(Edl!CB12<5,Edl!CB12="c",Edl!CB12="cc"),Edl!CB12<>""),1,"") | CO12: =IF(AND(OR(Edl!CC12<5,Edl!CC12="c",Edl!CC12="cc"),Edl!CC12<>""),1,"") | CP12: =IF(AND(OR(Edl!CD12<5,Edl!CD12="c",Edl!CD12="cc"),Edl!CD12<>""),1,"") | CQ12: =IF(AND(OR(Edl!CE12<5,Edl!CE12="c",Edl!CE12="cc"),Edl!CE12<>""),1,"") | CR12: =IF(AND(OR(Edl!CF12<5,Edl!CF12="c",Edl!CF12="cc"),Edl!CF12<>""),1,"") | CS12: =SUM(CN12:CR12)/5*100 -> 0 | CT12: =IF(AND(OR(Edl!CG12<5,Edl!CG12="c",Edl!CG12="cc"),Edl!CG12<>""),1,"") | CU12: =IF(AND(OR(Edl!CH12<5,Edl!CH12="c",Edl!CH12="cc"),Edl!CH12<>""),1,"") | CV12: =IF(AND(OR(Edl!CI12<5,Edl!CI12="c",Edl!CI12="cc"),Edl!CI12<>""),1,"") | CW12: =IF(AND(OR(Edl!CJ12<5,Edl!CJ12="c",Edl!CJ12="cc"),Edl!CJ12<>""),1,"") | CX12: =IF(AND(OR(Edl!CK12<5,Edl!CK12="c",Edl!CK12="cc"),Edl!CK12<>""),1,"") | CY12: =IF(AND(OR(Edl!CL12<5,Edl!CL12="c",Edl!CL12="cc"),Edl!CL12<>""),1,"") | CZ12: =SUM(CT12:CY12)/6*100 -> 0 | DA12: =IF(AND(OR(Edl!CM12<5,Edl!CM12="c",Edl!CM12="cc"),Edl!CM12<>""),1,"") | DB12: =IF(AND(OR(Edl!CN12<5,Edl!CN12="c",Edl!CN12="cc"),Edl!CN12<>""),1,"") | DC12: =IF(AND(OR(Edl!CO12<5,Edl!CO12="c",Edl!CO12="cc"),Edl!CO12<>""),1,"") | DD12: =IF(AND(OR(Edl!CP12<5,Edl!CP12="c",Edl!CP12="cc"),Edl!CP12<>""),1,"") | DE12: =IF(AND(OR(Edl!CQ12<5,Edl!CQ12="c",Edl!CQ12="cc"),Edl!CQ12<>""),1,"") | DF12: =SUM(DA12:DE12)/5*100 -> 0 | DG12: =IF(AND(OR(Edl!CR12<5,Edl!CR12="c",Edl!CR12="cc"),Edl!CR12<>""),1,"") | DH12: =IF(AND(OR(Edl!CS12<5,Edl!CS12="c",Edl!CS12="cc"),Edl!CS12<>""),1,"") | DI12: =IF(AND(OR(Edl!CT12<5,Edl!CT12="c",Edl!CT12="cc"),Edl!CT12<>""),1,"") | DJ12: =IF(AND(OR(Edl!CU12<5,Edl!CU12="c",Edl!CU12="cc"),Edl!CU12<>""),1,"") | DK12: =IF(AND(OR(Edl!CV12<5,Edl!CV12="c",Edl!CV12="cc"),Edl!CV12<>""),1,"") | DL12: =IF(AND(OR(Edl!CW12<5,Edl!CW12="c",Edl!CW12="cc"),Edl!CW12<>""),1,"") | DM12: =IF(AND(OR(Edl!CX12<5,Edl!CX12="c",Edl!CX12="cc"),Edl!CX12<>""),1,"") | DN12: =IF(AND(OR(Edl!CY12<5,Edl!CY12="c",Edl!CY12="cc"),Edl!CY12<>""),1,"") | ... DP12: =IF(AND(OR(Edl!DA12<5,Edl!DA12="c",Edl!DA12="cc"),Edl!DA12<>""),1,"") | DQ12: =SUM(DG12:DP13)/10*100 -> 0 | DR12: =IF(AND(OR(Edl!DB12<5,Edl!DB12="c",Edl!DB12="cc"),Edl!DB12<>""),1,"") | DS12: =IF(AND(OR(Edl!DC12<5,Edl!DC12="c",Edl!DC12="cc"),Edl!DC12<>""),1,"") | DT12: =IF(AND(OR(Edl!DD12<5,Edl!DD12="c",Edl!DD12="cc"),Edl!DD12<>""),1,"") | DU12: =IF(AND(OR(Edl!DE12<5,Edl!DE12="c",Edl!DE12="cc"),Edl!DE12<>""),1,"") | DV12: =IF(AND(OR(Edl!DF12<5,Edl!DF12="c",Edl!DF12="cc"),Edl!DF12<>""),1,"") | DW12: =IF(AND(OR(Edl!DG12<5,Edl!DG12="c",Edl!DG12="cc"),Edl!DG12<>""),1,"") | DX12: =IF(AND(OR(Edl!DH12<5,Edl!DH12="c",Edl!DH12="cc"),Edl!DH12<>""),1,"") | DY12: =IF(AND(OR(Edl!DI12<5,Edl!DI12="c",Edl!DI12="cc"),Edl!DI12<>""),1,"") | ... EC12: =IF(AND(OR(Edl!DM12<5,Edl!DM12="c",Edl!DM12="cc"),Edl!DM12<>""),1,"") | ED12: =SUM(DR12:EC12)/12*100 -> 0
A13: Maïna | B13: =IF(AND(OR(Edl!B13<5,Edl!B13="c",Edl!B13="cc"),Edl!B13<>""),1,"") | C13: =IF(AND(OR(Edl!C13<5,Edl!C13="c",Edl!C13="cc"),Edl!C13<>""),1,"") | D13: =IF(AND(OR(Edl!D13<5,Edl!D13="c",Edl!D13="cc"),Edl!D13<>""),1,"") | E13: =IF(AND(OR(Edl!E13<5,Edl!E13="c",Edl!E13="cc"),Edl!E13<>""),1,"") | F13: =IF(AND(OR(Edl!F13<5,Edl!F13="c",Edl!F13="cc"),Edl!F13<>""),1,"") | G13: =IF(AND(OR(Edl!G13<5,Edl!G13="c",Edl!G13="cc"),Edl!G13<>""),1,"") | H13: =IF(AND(OR(Edl!H13<5,Edl!H13="c",Edl!H13="cc"),Edl!H13<>""),1,"") | I13: =IF(AND(OR(Edl!I13<5,Edl!I13="c",Edl!I13="cc"),Edl!I13<>""),1,"") | J13: =SUM(B13:I13)/8*100 -> 0 | K13: =IF(AND(OR(Edl!J13<5,Edl!J13="c",Edl!J13="cc"),Edl!J13<>""),1,"") | L13: =IF(AND(OR(Edl!K13<5,Edl!K13="c",Edl!K13="cc"),Edl!K13<>""),1,"") | M13: =IF(AND(OR(Edl!L13<5,Edl!L13="c",Edl!L13="cc"),Edl!L13<>""),1,"") | N13: =IF(AND(OR(Edl!M13<5,Edl!M13="c",Edl!M13="cc"),Edl!M13<>""),1,"") | O13: =IF(AND(OR(Edl!N13<5,Edl!N13="c",Edl!N13="cc"),Edl!N13<>""),1,"") | P13: =IF(AND(OR(Edl!O13<5,Edl!O13="c",Edl!O13="cc"),Edl!O13<>""),1,"") | Q13: =IF(AND(OR(Edl!P13<5,Edl!P13="c",Edl!P13="cc"),Edl!P13<>""),1,"") | R13: =SUM(K13:Q13)/7*100 -> 0 | S13: =IF(AND(OR(Edl!Q13<5,Edl!Q13="c",Edl!Q13="cc"),Edl!Q13<>""),1,"") | T13: =IF(AND(OR(Edl!R13<5,Edl!R13="c",Edl!R13="cc"),Edl!R13<>""),1,"") | U13: =IF(AND(OR(Edl!S13<5,Edl!S13="c",Edl!S13="cc"),Edl!S13<>""),1,"") | V13: =IF(AND(OR(Edl!T13<5,Edl!T13="c",Edl!T13="cc"),Edl!T13<>""),1,"") | W13: =IF(AND(OR(Edl!U13<5,Edl!U13="c",Edl!U13="cc"),Edl!U13<>""),1,"") | X13: =IF(AND(OR(Edl!V13<5,Edl!V13="c",Edl!V13="cc"),Edl!V13<>""),1,"") | Y13: =IF(AND(OR(Edl!W13<5,Edl!W13="c",Edl!W13="cc"),Edl!W13<>""),1,"") | Z13: =IF(AND(OR(Edl!X13<5,Edl!X13="c",Edl!X13="cc"),Edl!X13<>""),1,"") | ... AB13: =IF(AND(OR(Edl!Z13<5,Edl!Z13="c",Edl!Z13="cc"),Edl!Z13<>""),1,"") | AC13: =SUM(S13:AB13)/10*100 -> 0 | AD13: =IF(AND(OR(Edl!AA13<5,Edl!AA13="c",Edl!AA13="cc"),Edl!AA13<>""),1,"") | AE13: =IF(AND(OR(Edl!AB13<5,Edl!AB13="c",Edl!AB13="cc"),Edl!AB13<>""),1,"") | AF13: =IF(AND(OR(Edl!AC13<5,Edl!AC13="c",Edl!AC13="cc"),Edl!AC13<>""),1,"") | AG13: =IF(AND(OR(Edl!AD13<5,Edl!AD13="c",Edl!AD13="cc"),Edl!AD13<>""),1,"") | AH13: =IF(AND(OR(Edl!AE13<5,Edl!AE13="c",Edl!AE13="cc"),Edl!AE13<>""),1,"") | AI13: =IF(AND(OR(Edl!AF13<5,Edl!AF13="c",Edl!AF13="cc"),Edl!AF13<>""),1,"") | AJ13: =IF(AND(OR(Edl!AG13<5,Edl!AG13="c",Edl!AG13="cc"),Edl!AG13<>""),1,"") | AK13: =IF(AND(OR(Edl!AH13<5,Edl!AH13="c",Edl!AH13="cc"),Edl!AH13<>""),1,"") | AL13: =SUM(AD13:AK13)/8*100 -> 0 | AM13: =IF(AND(OR(Edl!AI13<5,Edl!AI13="c",Edl!AI13="cc"),Edl!AI13<>""),1,"") | AN13: =IF(AND(OR(Edl!AJ13<5,Edl!AJ13="c",Edl!AJ13="cc"),Edl!AJ13<>""),1,"") | AO13: =IF(AND(OR(Edl!AK13<5,Edl!AK13="c",Edl!AK13="cc"),Edl!AK13<>""),1,"") | AP13: =IF(AND(OR(Edl!AL13<5,Edl!AL13="c",Edl!AL13="cc"),Edl!AL13<>""),1,"") | AQ13: =IF(AND(OR(Edl!AM13<5,Edl!AM13="c",Edl!AM13="cc"),Edl!AM13<>""),1,"") | AR13: =SUM(AM13:AQ13)/5*100 -> 0 | AS13: =IF(AND(OR(Edl!AN13<5,Edl!AN13="c",Edl!AN13="cc"),Edl!AN13<>""),1,"") | AT13: =IF(AND(OR(Edl!AO13<5,Edl!AO13="c",Edl!AO13="cc"),Edl!AO13<>""),1,"") | AU13: =IF(AND(OR(Edl!AP13<5,Edl!AP13="c",Edl!AP13="cc"),Edl!AP13<>""),1,"") | AV13: =IF(AND(OR(Edl!AQ13<5,Edl!AQ13="c",Edl!AQ13="cc"),Edl!AQ13<>""),1,"") | AW13: =SUM(AS13:AV13)/4*100 -> 0 | AX13: =IF(AND(OR(Edl!AR13<5,Edl!AR13="c",Edl!AR13="cc"),Edl!AR13<>""),1,"") | AY13: =IF(AND(OR(Edl!AS13<5,Edl!AS13="c",Edl!AS13="cc"),Edl!AS13<>""),1,"") | AZ13: =IF(AND(OR(Edl!AT13<5,Edl!AT13="c",Edl!AT13="cc"),Edl!AT13<>""),1,"") | BA13: =IF(AND(OR(Edl!AU13<5,Edl!AU13="c",Edl!AU13="cc"),Edl!AU13<>""),1,"") | BB13: =IF(AND(OR(Edl!AV13<5,Edl!AV13="c",Edl!AV13="cc"),Edl!AV13<>""),1,"") | BC13: =SUM(AX13:BB13)/5*100 -> 0 | BD13: =IF(AND(OR(Edl!AW13<5,Edl!AW13="c",Edl!AW13="cc"),Edl!AW13<>""),1,"") | BE13: =IF(AND(OR(Edl!AX13<5,Edl!AX13="c",Edl!AX13="cc"),Edl!AX13<>""),1,"") | BF13: =IF(AND(OR(Edl!AY13<5,Edl!AY13="c",Edl!AY13="cc"),Edl!AY13<>""),1,"") | BG13: =IF(AND(OR(Edl!AZ13<5,Edl!AZ13="c",Edl!AZ13="cc"),Edl!AZ13<>""),1,"") | BH13: =SUM(BD13:BG13)/4*100 -> 0 | BI13: =IF(AND(OR(Edl!BA13<5,Edl!BA13="c",Edl!BA13="cc"),Edl!BA13<>""),1,"") | BJ13: =IF(AND(OR(Edl!BB13<5,Edl!BB13="c",Edl!BB13="cc"),Edl!BB13<>""),1,"") | BK13: =IF(AND(OR(Edl!BC13<5,Edl!BC13="c",Edl!BC13="cc"),Edl!BC13<>""),1,"") | BL13: =IF(AND(OR(Edl!BD13<5,Edl!BD13="c",Edl!BD13="cc"),Edl!BD13<>""),1,"") | BM13: =IF(AND(OR(Edl!BE13<5,Edl!BE13="c",Edl!BE13="cc"),Edl!BE13<>""),1,"") | BN13: =SUM(BI13:BM13)/5*100 -> 0 | BO13: =IF(AND(OR(Edl!BF13<5,Edl!BF13="c",Edl!BF13="cc"),Edl!BF13<>""),1,"") | BP13: =IF(AND(OR(Edl!BG13<5,Edl!BG13="c",Edl!BG13="cc"),Edl!BG13<>""),1,"") | BQ13: =IF(AND(OR(Edl!BH13<5,Edl!BH13="c",Edl!BH13="cc"),Edl!BH13<>""),1,"") | BR13: =IF(AND(OR(Edl!BI13<5,Edl!BI13="c",Edl!BI13="cc"),Edl!BI13<>""),1,"") | BS13: =IF(AND(OR(Edl!BJ13<5,Edl!BJ13="c",Edl!BJ13="cc"),Edl!BJ13<>""),1,"") | BT13: =IF(AND(OR(Edl!BK13<5,Edl!BK13="c",Edl!BK13="cc"),Edl!BK13<>""),1,"") | BU13: =IF(AND(OR(Edl!BL13<5,Edl!BL13="c",Edl!BL13="cc"),Edl!BL13<>""),1,"") | BV13: =SUM(BO13:BU13)/7*100 -> 0 | BW13: =IF(AND(OR(Edl!BM13<5,Edl!BM13="c",Edl!BM13="cc"),Edl!BM13<>""),1,"") | BX13: =IF(AND(OR(Edl!BN13<5,Edl!BN13="c",Edl!BN13="cc"),Edl!BN13<>""),1,"") | BY13: =IF(AND(OR(Edl!BO13<5,Edl!BO13="c",Edl!BO13="cc"),Edl!BO13<>""),1,"") | BZ13: =IF(AND(OR(Edl!BP13<5,Edl!BP13="c",Edl!BP13="cc"),Edl!BP13<>""),1,"") | CA13: =SUM(BW13:BZ13)/4*100 -> 0 | CB13: =IF(AND(OR(Edl!BQ13<5,Edl!BQ13="c",Edl!BQ13="cc"),Edl!BQ13<>""),1,"") | CC13: =IF(AND(OR(Edl!BR13<5,Edl!BR13="c",Edl!BR13="cc"),Edl!BR13<>""),1,"") | CD13: =IF(AND(OR(Edl!BS13<5,Edl!BS13="c",Edl!BS13="cc"),Edl!BS13<>""),1,"") | CE13: =IF(AND(OR(Edl!BT13<5,Edl!BT13="c",Edl!BT13="cc"),Edl!BT13<>""),1,"") | CF13: =IF(AND(OR(Edl!BU13<5,Edl!BU13="c",Edl!BU13="cc"),Edl!BU13<>""),1,"") | CG13: =IF(AND(OR(Edl!BV13<5,Edl!BV13="c",Edl!BV13="cc"),Edl!BV13<>""),1,"") | CH13: =IF(AND(OR(Edl!BW13<5,Edl!BW13="c",Edl!BW13="cc"),Edl!BW13<>""),1,"") | CI13: =IF(AND(OR(Edl!BX13<5,Edl!BX13="c",Edl!BX13="cc"),Edl!BX13<>""),1,"") | ... CL13: =IF(AND(OR(Edl!CA13<5,Edl!CA13="c",Edl!CA13="cc"),Edl!CA13<>""),1,"") | CM13: =SUM(CB13:CL13)/11*100 -> 0 | CN13: =IF(AND(OR(Edl!CB13<5,Edl!CB13="c",Edl!CB13="cc"),Edl!CB13<>""),1,"") | CO13: =IF(AND(OR(Edl!CC13<5,Edl!CC13="c",Edl!CC13="cc"),Edl!CC13<>""),1,"") | CP13: =IF(AND(OR(Edl!CD13<5,Edl!CD13="c",Edl!CD13="cc"),Edl!CD13<>""),1,"") | CQ13: =IF(AND(OR(Edl!CE13<5,Edl!CE13="c",Edl!CE13="cc"),Edl!CE13<>""),1,"") | CR13: =IF(AND(OR(Edl!CF13<5,Edl!CF13="c",Edl!CF13="cc"),Edl!CF13<>""),1,"") | CS13: =SUM(CN13:CR13)/5*100 -> 0 | CT13: =IF(AND(OR(Edl!CG13<5,Edl!CG13="c",Edl!CG13="cc"),Edl!CG13<>""),1,"") | CU13: =IF(AND(OR(Edl!CH13<5,Edl!CH13="c",Edl!CH13="cc"),Edl!CH13<>""),1,"") | CV13: =IF(AND(OR(Edl!CI13<5,Edl!CI13="c",Edl!CI13="cc"),Edl!CI13<>""),1,"") | CW13: =IF(AND(OR(Edl!CJ13<5,Edl!CJ13="c",Edl!CJ13="cc"),Edl!CJ13<>""),1,"") | CX13: =IF(AND(OR(Edl!CK13<5,Edl!CK13="c",Edl!CK13="cc"),Edl!CK13<>""),1,"") | CY13: =IF(AND(OR(Edl!CL13<5,Edl!CL13="c",Edl!CL13="cc"),Edl!CL13<>""),1,"") | CZ13: =SUM(CT13:CY13)/6*100 -> 0 | DA13: =IF(AND(OR(Edl!CM13<5,Edl!CM13="c",Edl!CM13="cc"),Edl!CM13<>""),1,"") | DB13: =IF(AND(OR(Edl!CN13<5,Edl!CN13="c",Edl!CN13="cc"),Edl!CN13<>""),1,"") | DC13: =IF(AND(OR(Edl!CO13<5,Edl!CO13="c",Edl!CO13="cc"),Edl!CO13<>""),1,"") | DD13: =IF(AND(OR(Edl!CP13<5,Edl!CP13="c",Edl!CP13="cc"),Edl!CP13<>""),1,"") | DE13: =IF(AND(OR(Edl!CQ13<5,Edl!CQ13="c",Edl!CQ13="cc"),Edl!CQ13<>""),1,"") | DF13: =SUM(DA13:DE13)/5*100 -> 0 | DG13: =IF(AND(OR(Edl!CR13<5,Edl!CR13="c",Edl!CR13="cc"),Edl!CR13<>""),1,"") | DH13: =IF(AND(OR(Edl!CS13<5,Edl!CS13="c",Edl!CS13="cc"),Edl!CS13<>""),1,"") | DI13: =IF(AND(OR(Edl!CT13<5,Edl!CT13="c",Edl!CT13="cc"),Edl!CT13<>""),1,"") | DJ13: =IF(AND(OR(Edl!CU13<5,Edl!CU13="c",Edl!CU13="cc"),Edl!CU13<>""),1,"") | DK13: =IF(AND(OR(Edl!CV13<5,Edl!CV13="c",Edl!CV13="cc"),Edl!CV13<>""),1,"") | DL13: =IF(AND(OR(Edl!CW13<5,Edl!CW13="c",Edl!CW13="cc"),Edl!CW13<>""),1,"") | DM13: =IF(AND(OR(Edl!CX13<5,Edl!CX13="c",Edl!CX13="cc"),Edl!CX13<>""),1,"") | DN13: =IF(AND(OR(Edl!CY13<5,Edl!CY13="c",Edl!CY13="cc"),Edl!CY13<>""),1,"") | ... DP13: =IF(AND(OR(Edl!DA13<5,Edl!DA13="c",Edl!DA13="cc"),Edl!DA13<>""),1,"") | DQ13: =SUM(DG13:DP14)/10*100 -> 0 | DR13: =IF(AND(OR(Edl!DB13<5,Edl!DB13="c",Edl!DB13="cc"),Edl!DB13<>""),1,"") | DS13: =IF(AND(OR(Edl!DC13<5,Edl!DC13="c",Edl!DC13="cc"),Edl!DC13<>""),1,"") | DT13: =IF(AND(OR(Edl!DD13<5,Edl!DD13="c",Edl!DD13="cc"),Edl!DD13<>""),1,"") | DU13: =IF(AND(OR(Edl!DE13<5,Edl!DE13="c",Edl!DE13="cc"),Edl!DE13<>""),1,"") | DV13: =IF(AND(OR(Edl!DF13<5,Edl!DF13="c",Edl!DF13="cc"),Edl!DF13<>""),1,"") | DW13: =IF(AND(OR(Edl!DG13<5,Edl!DG13="c",Edl!DG13="cc"),Edl!DG13<>""),1,"") | DX13: =IF(AND(OR(Edl!DH13<5,Edl!DH13="c",Edl!DH13="cc"),Edl!DH13<>""),1,"") | DY13: =IF(AND(OR(Edl!DI13<5,Edl!DI13="c",Edl!DI13="cc"),Edl!DI13<>""),1,"") | ... EC13: =IF(AND(OR(Edl!DM13<5,Edl!DM13="c",Edl!DM13="cc"),Edl!DM13<>""),1,"") | ED13: =SUM(DR13:EC13)/12*100 -> 0
B14: =IF(AND(OR(Edl!B14<5,Edl!B14="c",Edl!B14="cc"),Edl!B14<>""),1,"") | C14: =IF(AND(OR(Edl!C14<5,Edl!C14="c",Edl!C14="cc"),Edl!C14<>""),1,"") | D14: =IF(AND(OR(Edl!D14<5,Edl!D14="c",Edl!D14="cc"),Edl!D14<>""),1,"") | E14: =IF(AND(OR(Edl!E14<5,Edl!E14="c",Edl!E14="cc"),Edl!E14<>""),1,"") | F14: =IF(AND(OR(Edl!F14<5,Edl!F14="c",Edl!F14="cc"),Edl!F14<>""),1,"") | G14: =IF(AND(OR(Edl!G14<5,Edl!G14="c",Edl!G14="cc"),Edl!G14<>""),1,"") | H14: =IF(AND(OR(Edl!H14<5,Edl!H14="c",Edl!H14="cc"),Edl!H14<>""),1,"") | I14: =IF(AND(OR(Edl!I14<5,Edl!I14="c",Edl!I14="cc"),Edl!I14<>""),1,"") | J14: =SUM(B14:I14)/8*100 -> 0 | K14: =IF(AND(OR(Edl!J14<5,Edl!J14="c",Edl!J14="cc"),Edl!J14<>""),1,"") | L14: =IF(AND(OR(Edl!K14<5,Edl!K14="c",Edl!K14="cc"),Edl!K14<>""),1,"") | M14: =IF(AND(OR(Edl!L14<5,Edl!L14="c",Edl!L14="cc"),Edl!L14<>""),1,"") | N14: =IF(AND(OR(Edl!M14<5,Edl!M14="c",Edl!M14="cc"),Edl!M14<>""),1,"") | O14: =IF(AND(OR(Edl!N14<5,Edl!N14="c",Edl!N14="cc"),Edl!N14<>""),1,"") | P14: =IF(AND(OR(Edl!O14<5,Edl!O14="c",Edl!O14="cc"),Edl!O14<>""),1,"") | Q14: =IF(AND(OR(Edl!P14<5,Edl!P14="c",Edl!P14="cc"),Edl!P14<>""),1,"") | R14: =SUM(K14:Q14)/7*100 -> 0 | S14: =IF(AND(OR(Edl!Q14<5,Edl!Q14="c",Edl!Q14="cc"),Edl!Q14<>""),1,"") | T14: =IF(AND(OR(Edl!R14<5,Edl!R14="c",Edl!R14="cc"),Edl!R14<>""),1,"") | U14: =IF(AND(OR(Edl!S14<5,Edl!S14="c",Edl!S14="cc"),Edl!S14<>""),1,"") | V14: =IF(AND(OR(Edl!T14<5,Edl!T14="c",Edl!T14="cc"),Edl!T14<>""),1,"") | W14: =IF(AND(OR(Edl!U14<5,Edl!U14="c",Edl!U14="cc"),Edl!U14<>""),1,"") | X14: =IF(AND(OR(Edl!V14<5,Edl!V14="c",Edl!V14="cc"),Edl!V14<>""),1,"") | Y14: =IF(AND(OR(Edl!W14<5,Edl!W14="c",Edl!W14="cc"),Edl!W14<>""),1,"") | Z14: =IF(AND(OR(Edl!X14<5,Edl!X14="c",Edl!X14="cc"),Edl!X14<>""),1,"") | ... AB14: =IF(AND(OR(Edl!Z14<5,Edl!Z14="c",Edl!Z14="cc"),Edl!Z14<>""),1,"") | AC14: =SUM(S14:AB14)/10*100 -> 0 | AD14: =IF(AND(OR(Edl!AA14<5,Edl!AA14="c",Edl!AA14="cc"),Edl!AA14<>""),1,"") | AE14: =IF(AND(OR(Edl!AB14<5,Edl!AB14="c",Edl!AB14="cc"),Edl!AB14<>""),1,"") | AF14: =IF(AND(OR(Edl!AC14<5,Edl!AC14="c",Edl!AC14="cc"),Edl!AC14<>""),1,"") | AG14: =IF(AND(OR(Edl!AD14<5,Edl!AD14="c",Edl!AD14="cc"),Edl!AD14<>""),1,"") | AH14: =IF(AND(OR(Edl!AE14<5,Edl!AE14="c",Edl!AE14="cc"),Edl!AE14<>""),1,"") | AI14: =IF(AND(OR(Edl!AF14<5,Edl!AF14="c",Edl!AF14="cc"),Edl!AF14<>""),1,"") | AJ14: =IF(AND(OR(Edl!AG14<5,Edl!AG14="c",Edl!AG14="cc"),Edl!AG14<>""),1,"") | AK14: =IF(AND(OR(Edl!AH14<5,Edl!AH14="c",Edl!AH14="cc"),Edl!AH14<>""),1,"") | AL14: =SUM(AD14:AK14)/8*100 -> 0 | AM14: =IF(AND(OR(Edl!AI14<5,Edl!AI14="c",Edl!AI14="cc"),Edl!AI14<>""),1,"") | AN14: =IF(AND(OR(Edl!AJ14<5,Edl!AJ14="c",Edl!AJ14="cc"),Edl!AJ14<>""),1,"") | AO14: =IF(AND(OR(Edl!AK14<5,Edl!AK14="c",Edl!AK14="cc"),Edl!AK14<>""),1,"") | AP14: =IF(AND(OR(Edl!AL14<5,Edl!AL14="c",Edl!AL14="cc"),Edl!AL14<>""),1,"") | AQ14: =IF(AND(OR(Edl!AM14<5,Edl!AM14="c",Edl!AM14="cc"),Edl!AM14<>""),1,"") | AR14: =SUM(AM14:AQ14)/5*100 -> 0 | AS14: =IF(AND(OR(Edl!AN14<5,Edl!AN14="c",Edl!AN14="cc"),Edl!AN14<>""),1,"") | AT14: =IF(AND(OR(Edl!AO14<5,Edl!AO14="c",Edl!AO14="cc"),Edl!AO14<>""),1,"") | AU14: =IF(AND(OR(Edl!AP14<5,Edl!AP14="c",Edl!AP14="cc"),Edl!AP14<>""),1,"") | AV14: =IF(AND(OR(Edl!AQ14<5,Edl!AQ14="c",Edl!AQ14="cc"),Edl!AQ14<>""),1,"") | AW14: =SUM(AS14:AV14)/4*100 -> 0 | AX14: =IF(AND(OR(Edl!AR14<5,Edl!AR14="c",Edl!AR14="cc"),Edl!AR14<>""),1,"") | AY14: =IF(AND(OR(Edl!AS14<5,Edl!AS14="c",Edl!AS14="cc"),Edl!AS14<>""),1,"") | AZ14: =IF(AND(OR(Edl!AT14<5,Edl!AT14="c",Edl!AT14="cc"),Edl!AT14<>""),1,"") | BA14: =IF(AND(OR(Edl!AU14<5,Edl!AU14="c",Edl!AU14="cc"),Edl!AU14<>""),1,"") | BB14: =IF(AND(OR(Edl!AV14<5,Edl!AV14="c",Edl!AV14="cc"),Edl!AV14<>""),1,"") | BC14: =SUM(AX14:BB14)/5*100 -> 0 | BD14: =IF(AND(OR(Edl!AW14<5,Edl!AW14="c",Edl!AW14="cc"),Edl!AW14<>""),1,"") | BE14: =IF(AND(OR(Edl!AX14<5,Edl!AX14="c",Edl!AX14="cc"),Edl!AX14<>""),1,"") | BF14: =IF(AND(OR(Edl!AY14<5,Edl!AY14="c",Edl!AY14="cc"),Edl!AY14<>""),1,"") | BG14: =IF(AND(OR(Edl!AZ14<5,Edl!AZ14="c",Edl!AZ14="cc"),Edl!AZ14<>""),1,"") | BH14: =SUM(BD14:BG14)/4*100 -> 0 | BI14: =IF(AND(OR(Edl!BA14<5,Edl!BA14="c",Edl!BA14="cc"),Edl!BA14<>""),1,"") | BJ14: =IF(AND(OR(Edl!BB14<5,Edl!BB14="c",Edl!BB14="cc"),Edl!BB14<>""),1,"") | BK14: =IF(AND(OR(Edl!BC14<5,Edl!BC14="c",Edl!BC14="cc"),Edl!BC14<>""),1,"") | BL14: =IF(AND(OR(Edl!BD14<5,Edl!BD14="c",Edl!BD14="cc"),Edl!BD14<>""),1,"") | BM14: =IF(AND(OR(Edl!BE14<5,Edl!BE14="c",Edl!BE14="cc"),Edl!BE14<>""),1,"") | BN14: =SUM(BI14:BM14)/5*100 -> 0 | BO14: =IF(AND(OR(Edl!BF14<5,Edl!BF14="c",Edl!BF14="cc"),Edl!BF14<>""),1,"") | BP14: =IF(AND(OR(Edl!BG14<5,Edl!BG14="c",Edl!BG14="cc"),Edl!BG14<>""),1,"") | BQ14: =IF(AND(OR(Edl!BH14<5,Edl!BH14="c",Edl!BH14="cc"),Edl!BH14<>""),1,"") | BR14: =IF(AND(OR(Edl!BI14<5,Edl!BI14="c",Edl!BI14="cc"),Edl!BI14<>""),1,"") | BS14: =IF(AND(OR(Edl!BJ14<5,Edl!BJ14="c",Edl!BJ14="cc"),Edl!BJ14<>""),1,"") | BT14: =IF(AND(OR(Edl!BK14<5,Edl!BK14="c",Edl!BK14="cc"),Edl!BK14<>""),1,"") | BU14: =IF(AND(OR(Edl!BL14<5,Edl!BL14="c",Edl!BL14="cc"),Edl!BL14<>""),1,"") | BV14: =SUM(BO14:BU14)/7*100 -> 0 | BW14: =IF(AND(OR(Edl!BM14<5,Edl!BM14="c",Edl!BM14="cc"),Edl!BM14<>""),1,"") | BX14: =IF(AND(OR(Edl!BN14<5,Edl!BN14="c",Edl!BN14="cc"),Edl!BN14<>""),1,"") | BY14: =IF(AND(OR(Edl!BO14<5,Edl!BO14="c",Edl!BO14="cc"),Edl!BO14<>""),1,"") | BZ14: =IF(AND(OR(Edl!BP14<5,Edl!BP14="c",Edl!BP14="cc"),Edl!BP14<>""),1,"") | CA14: =SUM(BW14:BZ14)/4*100 -> 0 | CB14: =IF(AND(OR(Edl!BQ14<5,Edl!BQ14="c",Edl!BQ14="cc"),Edl!BQ14<>""),1,"") | CC14: =IF(AND(OR(Edl!BR14<5,Edl!BR14="c",Edl!BR14="cc"),Edl!BR14<>""),1,"") | CD14: =IF(AND(OR(Edl!BS14<5,Edl!BS14="c",Edl!BS14="cc"),Edl!BS14<>""),1,"") | CE14: =IF(AND(OR(Edl!BT14<5,Edl!BT14="c",Edl!BT14="cc"),Edl!BT14<>""),1,"") | CF14: =IF(AND(OR(Edl!BU14<5,Edl!BU14="c",Edl!BU14="cc"),Edl!BU14<>""),1,"") | CG14: =IF(AND(OR(Edl!BV14<5,Edl!BV14="c",Edl!BV14="cc"),Edl!BV14<>""),1,"") | CH14: =IF(AND(OR(Edl!BW14<5,Edl!BW14="c",Edl!BW14="cc"),Edl!BW14<>""),1,"") | CI14: =IF(AND(OR(Edl!BX14<5,Edl!BX14="c",Edl!BX14="cc"),Edl!BX14<>""),1,"") | ... CL14: =IF(AND(OR(Edl!CA14<5,Edl!CA14="c",Edl!CA14="cc"),Edl!CA14<>""),1,"") | CM14: =SUM(CB14:CL14)/11*100 -> 0 | CN14: =IF(AND(OR(Edl!CB14<5,Edl!CB14="c",Edl!CB14="cc"),Edl!CB14<>""),1,"") | CO14: =IF(AND(OR(Edl!CC14<5,Edl!CC14="c",Edl!CC14="cc"),Edl!CC14<>""),1,"") | CP14: =IF(AND(OR(Edl!CD14<5,Edl!CD14="c",Edl!CD14="cc"),Edl!CD14<>""),1,"") | CQ14: =IF(AND(OR(Edl!CE14<5,Edl!CE14="c",Edl!CE14="cc"),Edl!CE14<>""),1,"") | CR14: =IF(AND(OR(Edl!CF14<5,Edl!CF14="c",Edl!CF14="cc"),Edl!CF14<>""),1,"") | CS14: =SUM(CN14:CR14)/5*100 -> 0 | CT14: =IF(AND(OR(Edl!CG14<5,Edl!CG14="c",Edl!CG14="cc"),Edl!CG14<>""),1,"") | CU14: =IF(AND(OR(Edl!CH14<5,Edl!CH14="c",Edl!CH14="cc"),Edl!CH14<>""),1,"") | CV14: =IF(AND(OR(Edl!CI14<5,Edl!CI14="c",Edl!CI14="cc"),Edl!CI14<>""),1,"") | CW14: =IF(AND(OR(Edl!CJ14<5,Edl!CJ14="c",Edl!CJ14="cc"),Edl!CJ14<>""),1,"") | CX14: =IF(AND(OR(Edl!CK14<5,Edl!CK14="c",Edl!CK14="cc"),Edl!CK14<>""),1,"") | CY14: =IF(AND(OR(Edl!CL14<5,Edl!CL14="c",Edl!CL14="cc"),Edl!CL14<>""),1,"") | CZ14: =SUM(CT14:CY14)/6*100 -> 0 | DA14: =IF(AND(OR(Edl!CM14<5,Edl!CM14="c",Edl!CM14="cc"),Edl!CM14<>""),1,"") | DB14: =IF(AND(OR(Edl!CN14<5,Edl!CN14="c",Edl!CN14="cc"),Edl!CN14<>""),1,"") | DC14: =IF(AND(OR(Edl!CO14<5,Edl!CO14="c",Edl!CO14="cc"),Edl!CO14<>""),1,"") | DD14: =IF(AND(OR(Edl!CP14<5,Edl!CP14="c",Edl!CP14="cc"),Edl!CP14<>""),1,"") | DE14: =IF(AND(OR(Edl!CQ14<5,Edl!CQ14="c",Edl!CQ14="cc"),Edl!CQ14<>""),1,"") | DF14: =SUM(DA14:DE14)/5*100 -> 0 | DG14: =IF(AND(OR(Edl!CR14<5,Edl!CR14="c",Edl!CR14="cc"),Edl!CR14<>""),1,"") | DH14: =IF(AND(OR(Edl!CS14<5,Edl!CS14="c",Edl!CS14="cc"),Edl!CS14<>""),1,"") | DI14: =IF(AND(OR(Edl!CT14<5,Edl!CT14="c",Edl!CT14="cc"),Edl!CT14<>""),1,"") | DJ14: =IF(AND(OR(Edl!CU14<5,Edl!CU14="c",Edl!CU14="cc"),Edl!CU14<>""),1,"") | DK14: =IF(AND(OR(Edl!CV14<5,Edl!CV14="c",Edl!CV14="cc"),Edl!CV14<>""),1,"") | DL14: =IF(AND(OR(Edl!CW14<5,Edl!CW14="c",Edl!CW14="cc"),Edl!CW14<>""),1,"") | DM14: =IF(AND(OR(Edl!CX14<5,Edl!CX14="c",Edl!CX14="cc"),Edl!CX14<>""),1,"") | DN14: =IF(AND(OR(Edl!CY14<5,Edl!CY14="c",Edl!CY14="cc"),Edl!CY14<>""),1,"") | ... DP14: =IF(AND(OR(Edl!DA14<5,Edl!DA14="c",Edl!DA14="cc"),Edl!DA14<>""),1,"") | DQ14: =SUM(DG14:DP15)/10*100 -> 0 | DR14: =IF(AND(OR(Edl!DB14<5,Edl!DB14="c",Edl!DB14="cc"),Edl!DB14<>""),1,"") | DS14: =IF(AND(OR(Edl!DC14<5,Edl!DC14="c",Edl!DC14="cc"),Edl!DC14<>""),1,"") | DT14: =IF(AND(OR(Edl!DD14<5,Edl!DD14="c",Edl!DD14="cc"),Edl!DD14<>""),1,"") | DU14: =IF(AND(OR(Edl!DE14<5,Edl!DE14="c",Edl!DE14="cc"),Edl!DE14<>""),1,"") | DV14: =IF(AND(OR(Edl!DF14<5,Edl!DF14="c",Edl!DF14="cc"),Edl!DF14<>""),1,"") | DW14: =IF(AND(OR(Edl!DG14<5,Edl!DG14="c",Edl!DG14="cc"),Edl!DG14<>""),1,"") | DX14: =IF(AND(OR(Edl!DH14<5,Edl!DH14="c",Edl!DH14="cc"),Edl!DH14<>""),1,"") | DY14: =IF(AND(OR(Edl!DI14<5,Edl!DI14="c",Edl!DI14="cc"),Edl!DI14<>""),1,"") | ... EC14: =IF(AND(OR(Edl!DM14<5,Edl!DM14="c",Edl!DM14="cc"),Edl!DM14<>""),1,"") | ED14: =SUM(DR14:EC14)/12*100 -> 0
B15: =IF(AND(OR(Edl!B15<5,Edl!B15="c",Edl!B15="cc"),Edl!B15<>""),1,"") | C15: =IF(AND(OR(Edl!C15<5,Edl!C15="c",Edl!C15="cc"),Edl!C15<>""),1,"") | D15: =IF(AND(OR(Edl!D15<5,Edl!D15="c",Edl!D15="cc"),Edl!D15<>""),1,"") | E15: =IF(AND(OR(Edl!E15<5,Edl!E15="c",Edl!E15="cc"),Edl!E15<>""),1,"") | F15: =IF(AND(OR(Edl!F15<5,Edl!F15="c",Edl!F15="cc"),Edl!F15<>""),1,"") | G15: =IF(AND(OR(Edl!G15<5,Edl!G15="c",Edl!G15="cc"),Edl!G15<>""),1,"") | H15: =IF(AND(OR(Edl!H15<5,Edl!H15="c",Edl!H15="cc"),Edl!H15<>""),1,"") | I15: =IF(AND(OR(Edl!I15<5,Edl!I15="c",Edl!I15="cc"),Edl!I15<>""),1,"") | J15: =SUM(B15:I15)/8*100 -> 0 | K15: =IF(AND(OR(Edl!J15<5,Edl!J15="c",Edl!J15="cc"),Edl!J15<>""),1,"") | L15: =IF(AND(OR(Edl!K15<5,Edl!K15="c",Edl!K15="cc"),Edl!K15<>""),1,"") | M15: =IF(AND(OR(Edl!L15<5,Edl!L15="c",Edl!L15="cc"),Edl!L15<>""),1,"") | N15: =IF(AND(OR(Edl!M15<5,Edl!M15="c",Edl!M15="cc"),Edl!M15<>""),1,"") | O15: =IF(AND(OR(Edl!N15<5,Edl!N15="c",Edl!N15="cc"),Edl!N15<>""),1,"") | P15: =IF(AND(OR(Edl!O15<5,Edl!O15="c",Edl!O15="cc"),Edl!O15<>""),1,"") | Q15: =IF(AND(OR(Edl!P15<5,Edl!P15="c",Edl!P15="cc"),Edl!P15<>""),1,"") | R15: =SUM(K15:Q15)/7*100 -> 0 | S15: =IF(AND(OR(Edl!Q15<5,Edl!Q15="c",Edl!Q15="cc"),Edl!Q15<>""),1,"") | T15: =IF(AND(OR(Edl!R15<5,Edl!R15="c",Edl!R15="cc"),Edl!R15<>""),1,"") | U15: =IF(AND(OR(Edl!S15<5,Edl!S15="c",Edl!S15="cc"),Edl!S15<>""),1,"") | V15: =IF(AND(OR(Edl!T15<5,Edl!T15="c",Edl!T15="cc"),Edl!T15<>""),1,"") | W15: =IF(AND(OR(Edl!U15<5,Edl!U15="c",Edl!U15="cc"),Edl!U15<>""),1,"") | X15: =IF(AND(OR(Edl!V15<5,Edl!V15="c",Edl!V15="cc"),Edl!V15<>""),1,"") | Y15: =IF(AND(OR(Edl!W15<5,Edl!W15="c",Edl!W15="cc"),Edl!W15<>""),1,"") | Z15: =IF(AND(OR(Edl!X15<5,Edl!X15="c",Edl!X15="cc"),Edl!X15<>""),1,"") | ... AB15: =IF(AND(OR(Edl!Z15<5,Edl!Z15="c",Edl!Z15="cc"),Edl!Z15<>""),1,"") | AC15: =SUM(S15:AB15)/10*100 -> 0 | AD15: =IF(AND(OR(Edl!AA15<5,Edl!AA15="c",Edl!AA15="cc"),Edl!AA15<>""),1,"") | AE15: =IF(AND(OR(Edl!AB15<5,Edl!AB15="c",Edl!AB15="cc"),Edl!AB15<>""),1,"") | AF15: =IF(AND(OR(Edl!AC15<5,Edl!AC15="c",Edl!AC15="cc"),Edl!AC15<>""),1,"") | AG15: =IF(AND(OR(Edl!AD15<5,Edl!AD15="c",Edl!AD15="cc"),Edl!AD15<>""),1,"") | AH15: =IF(AND(OR(Edl!AE15<5,Edl!AE15="c",Edl!AE15="cc"),Edl!AE15<>""),1,"") | AI15: =IF(AND(OR(Edl!AF15<5,Edl!AF15="c",Edl!AF15="cc"),Edl!AF15<>""),1,"") | AJ15: =IF(AND(OR(Edl!AG15<5,Edl!AG15="c",Edl!AG15="cc"),Edl!AG15<>""),1,"") | AK15: =IF(AND(OR(Edl!AH15<5,Edl!AH15="c",Edl!AH15="cc"),Edl!AH15<>""),1,"") | AL15: =SUM(AD15:AK15)/8*100 -> 0 | AM15: =IF(AND(OR(Edl!AI15<5,Edl!AI15="c",Edl!AI15="cc"),Edl!AI15<>""),1,"") | AN15: =IF(AND(OR(Edl!AJ15<5,Edl!AJ15="c",Edl!AJ15="cc"),Edl!AJ15<>""),1,"") | AO15: =IF(AND(OR(Edl!AK15<5,Edl!AK15="c",Edl!AK15="cc"),Edl!AK15<>""),1,"") | AP15: =IF(AND(OR(Edl!AL15<5,Edl!AL15="c",Edl!AL15="cc"),Edl!AL15<>""),1,"") | AQ15: =IF(AND(OR(Edl!AM15<5,Edl!AM15="c",Edl!AM15="cc"),Edl!AM15<>""),1,"") | AR15: =SUM(AM15:AQ15)/5*100 -> 0 | AS15: =IF(AND(OR(Edl!AN15<5,Edl!AN15="c",Edl!AN15="cc"),Edl!AN15<>""),1,"") | AT15: =IF(AND(OR(Edl!AO15<5,Edl!AO15="c",Edl!AO15="cc"),Edl!AO15<>""),1,"") | AU15: =IF(AND(OR(Edl!AP15<5,Edl!AP15="c",Edl!AP15="cc"),Edl!AP15<>""),1,"") | AV15: =IF(AND(OR(Edl!AQ15<5,Edl!AQ15="c",Edl!AQ15="cc"),Edl!AQ15<>""),1,"") | AW15: =SUM(AS15:AV15)/4*100 -> 0 | AX15: =IF(AND(OR(Edl!AR15<5,Edl!AR15="c",Edl!AR15="cc"),Edl!AR15<>""),1,"") | AY15: =IF(AND(OR(Edl!AS15<5,Edl!AS15="c",Edl!AS15="cc"),Edl!AS15<>""),1,"") | AZ15: =IF(AND(OR(Edl!AT15<5,Edl!AT15="c",Edl!AT15="cc"),Edl!AT15<>""),1,"") | BA15: =IF(AND(OR(Edl!AU15<5,Edl!AU15="c",Edl!AU15="cc"),Edl!AU15<>""),1,"") | BB15: =IF(AND(OR(Edl!AV15<5,Edl!AV15="c",Edl!AV15="cc"),Edl!AV15<>""),1,"") | BC15: =SUM(AX15:BB15)/5*100 -> 0 | BD15: =IF(AND(OR(Edl!AW15<5,Edl!AW15="c",Edl!AW15="cc"),Edl!AW15<>""),1,"") | BE15: =IF(AND(OR(Edl!AX15<5,Edl!AX15="c",Edl!AX15="cc"),Edl!AX15<>""),1,"") | BF15: =IF(AND(OR(Edl!AY15<5,Edl!AY15="c",Edl!AY15="cc"),Edl!AY15<>""),1,"") | BG15: =IF(AND(OR(Edl!AZ15<5,Edl!AZ15="c",Edl!AZ15="cc"),Edl!AZ15<>""),1,"") | BH15: =SUM(BD15:BG15)/4*100 -> 0 | BI15: =IF(AND(OR(Edl!BA15<5,Edl!BA15="c",Edl!BA15="cc"),Edl!BA15<>""),1,"") | BJ15: =IF(AND(OR(Edl!BB15<5,Edl!BB15="c",Edl!BB15="cc"),Edl!BB15<>""),1,"") | BK15: =IF(AND(OR(Edl!BC15<5,Edl!BC15="c",Edl!BC15="cc"),Edl!BC15<>""),1,"") | BL15: =IF(AND(OR(Edl!BD15<5,Edl!BD15="c",Edl!BD15="cc"),Edl!BD15<>""),1,"") | BM15: =IF(AND(OR(Edl!BE15<5,Edl!BE15="c",Edl!BE15="cc"),Edl!BE15<>""),1,"") | BN15: =SUM(BI15:BM15)/5*100 -> 0 | BO15: =IF(AND(OR(Edl!BF15<5,Edl!BF15="c",Edl!BF15="cc"),Edl!BF15<>""),1,"") | BP15: =IF(AND(OR(Edl!BG15<5,Edl!BG15="c",Edl!BG15="cc"),Edl!BG15<>""),1,"") | BQ15: =IF(AND(OR(Edl!BH15<5,Edl!BH15="c",Edl!BH15="cc"),Edl!BH15<>""),1,"") | BR15: =IF(AND(OR(Edl!BI15<5,Edl!BI15="c",Edl!BI15="cc"),Edl!BI15<>""),1,"") | BS15: =IF(AND(OR(Edl!BJ15<5,Edl!BJ15="c",Edl!BJ15="cc"),Edl!BJ15<>""),1,"") | BT15: =IF(AND(OR(Edl!BK15<5,Edl!BK15="c",Edl!BK15="cc"),Edl!BK15<>""),1,"") | BU15: =IF(AND(OR(Edl!BL15<5,Edl!BL15="c",Edl!BL15="cc"),Edl!BL15<>""),1,"") | BV15: =SUM(BO15:BU15)/7*100 -> 0 | BW15: =IF(AND(OR(Edl!BM15<5,Edl!BM15="c",Edl!BM15="cc"),Edl!BM15<>""),1,"") | BX15: =IF(AND(OR(Edl!BN15<5,Edl!BN15="c",Edl!BN15="cc"),Edl!BN15<>""),1,"") | BY15: =IF(AND(OR(Edl!BO15<5,Edl!BO15="c",Edl!BO15="cc"),Edl!BO15<>""),1,"") | BZ15: =IF(AND(OR(Edl!BP15<5,Edl!BP15="c",Edl!BP15="cc"),Edl!BP15<>""),1,"") | CA15: =SUM(BW15:BZ15)/4*100 -> 0 | CB15: =IF(AND(OR(Edl!BQ15<5,Edl!BQ15="c",Edl!BQ15="cc"),Edl!BQ15<>""),1,"") | CC15: =IF(AND(OR(Edl!BR15<5,Edl!BR15="c",Edl!BR15="cc"),Edl!BR15<>""),1,"") | CD15: =IF(AND(OR(Edl!BS15<5,Edl!BS15="c",Edl!BS15="cc"),Edl!BS15<>""),1,"") | CE15: =IF(AND(OR(Edl!BT15<5,Edl!BT15="c",Edl!BT15="cc"),Edl!BT15<>""),1,"") | CF15: =IF(AND(OR(Edl!BU15<5,Edl!BU15="c",Edl!BU15="cc"),Edl!BU15<>""),1,"") | CG15: =IF(AND(OR(Edl!BV15<5,Edl!BV15="c",Edl!BV15="cc"),Edl!BV15<>""),1,"") | CH15: =IF(AND(OR(Edl!BW15<5,Edl!BW15="c",Edl!BW15="cc"),Edl!BW15<>""),1,"") | CI15: =IF(AND(OR(Edl!BX15<5,Edl!BX15="c",Edl!BX15="cc"),Edl!BX15<>""),1,"") | ... CL15: =IF(AND(OR(Edl!CA15<5,Edl!CA15="c",Edl!CA15="cc"),Edl!CA15<>""),1,"") | CM15: =SUM(CB15:CL15)/11*100 -> 0 | CN15: =IF(AND(OR(Edl!CB15<5,Edl!CB15="c",Edl!CB15="cc"),Edl!CB15<>""),1,"") | CO15: =IF(AND(OR(Edl!CC15<5,Edl!CC15="c",Edl!CC15="cc"),Edl!CC15<>""),1,"") | CP15: =IF(AND(OR(Edl!CD15<5,Edl!CD15="c",Edl!CD15="cc"),Edl!CD15<>""),1,"") | CQ15: =IF(AND(OR(Edl!CE15<5,Edl!CE15="c",Edl!CE15="cc"),Edl!CE15<>""),1,"") | CR15: =IF(AND(OR(Edl!CF15<5,Edl!CF15="c",Edl!CF15="cc"),Edl!CF15<>""),1,"") | CS15: =SUM(CN15:CR15)/5*100 -> 0 | CT15: =IF(AND(OR(Edl!CG15<5,Edl!CG15="c",Edl!CG15="cc"),Edl!CG15<>""),1,"") | CU15: =IF(AND(OR(Edl!CH15<5,Edl!CH15="c",Edl!CH15="cc"),Edl!CH15<>""),1,"") | CV15: =IF(AND(OR(Edl!CI15<5,Edl!CI15="c",Edl!CI15="cc"),Edl!CI15<>""),1,"") | CW15: =IF(AND(OR(Edl!CJ15<5,Edl!CJ15="c",Edl!CJ15="cc"),Edl!CJ15<>""),1,"") | CX15: =IF(AND(OR(Edl!CK15<5,Edl!CK15="c",Edl!CK15="cc"),Edl!CK15<>""),1,"") | CY15: =IF(AND(OR(Edl!CL15<5,Edl!CL15="c",Edl!CL15="cc"),Edl!CL15<>""),1,"") | CZ15: =SUM(CT15:CY15)/6*100 -> 0 | DA15: =IF(AND(OR(Edl!CM15<5,Edl!CM15="c",Edl!CM15="cc"),Edl!CM15<>""),1,"") | DB15: =IF(AND(OR(Edl!CN15<5,Edl!CN15="c",Edl!CN15="cc"),Edl!CN15<>""),1,"") | DC15: =IF(AND(OR(Edl!CO15<5,Edl!CO15="c",Edl!CO15="cc"),Edl!CO15<>""),1,"") | DD15: =IF(AND(OR(Edl!CP15<5,Edl!CP15="c",Edl!CP15="cc"),Edl!CP15<>""),1,"") | DE15: =IF(AND(OR(Edl!CQ15<5,Edl!CQ15="c",Edl!CQ15="cc"),Edl!CQ15<>""),1,"") | DF15: =SUM(DA15:DE15)/5*100 -> 0 | DG15: =IF(AND(OR(Edl!CR15<5,Edl!CR15="c",Edl!CR15="cc"),Edl!CR15<>""),1,"") | DH15: =IF(AND(OR(Edl!CS15<5,Edl!CS15="c",Edl!CS15="cc"),Edl!CS15<>""),1,"") | DI15: =IF(AND(OR(Edl!CT15<5,Edl!CT15="c",Edl!CT15="cc"),Edl!CT15<>""),1,"") | DJ15: =IF(AND(OR(Edl!CU15<5,Edl!CU15="c",Edl!CU15="cc"),Edl!CU15<>""),1,"") | DK15: =IF(AND(OR(Edl!CV15<5,Edl!CV15="c",Edl!CV15="cc"),Edl!CV15<>""),1,"") | DL15: =IF(AND(OR(Edl!CW15<5,Edl!CW15="c",Edl!CW15="cc"),Edl!CW15<>""),1,"") | DM15: =IF(AND(OR(Edl!CX15<5,Edl!CX15="c",Edl!CX15="cc"),Edl!CX15<>""),1,"") | DN15: =IF(AND(OR(Edl!CY15<5,Edl!CY15="c",Edl!CY15="cc"),Edl!CY15<>""),1,"") | ... DP15: =IF(AND(OR(Edl!DA15<5,Edl!DA15="c",Edl!DA15="cc"),Edl!DA15<>""),1,"") | DQ15: =SUM(DG15:DP16)/10*100 -> 0 | DR15: =IF(AND(OR(Edl!DB15<5,Edl!DB15="c",Edl!DB15="cc"),Edl!DB15<>""),1,"") | DS15: =IF(AND(OR(Edl!DC15<5,Edl!DC15="c",Edl!DC15="cc"),Edl!DC15<>""),1,"") | DT15: =IF(AND(OR(Edl!DD15<5,Edl!DD15="c",Edl!DD15="cc"),Edl!DD15<>""),1,"") | DU15: =IF(AND(OR(Edl!DE15<5,Edl!DE15="c",Edl!DE15="cc"),Edl!DE15<>""),1,"") | DV15: =IF(AND(OR(Edl!DF15<5,Edl!DF15="c",Edl!DF15="cc"),Edl!DF15<>""),1,"") | DW15: =IF(AND(OR(Edl!DG15<5,Edl!DG15="c",Edl!DG15="cc"),Edl!DG15<>""),1,"") | DX15: =IF(AND(OR(Edl!DH15<5,Edl!DH15="c",Edl!DH15="cc"),Edl!DH15<>""),1,"") | DY15: =IF(AND(OR(Edl!DI15<5,Edl!DI15="c",Edl!DI15="cc"),Edl!DI15<>""),1,"") | ... EC15: =IF(AND(OR(Edl!DM15<5,Edl!DM15="c",Edl!DM15="cc"),Edl!DM15<>""),1,"") | ED15: =SUM(DR15:EC15)/12*100 -> 0
A16: Elliot | B16: =IF(AND(OR(Edl!B16<5,Edl!B16="c",Edl!B16="cc"),Edl!B16<>""),1,"") | C16: =IF(AND(OR(Edl!C16<5,Edl!C16="c",Edl!C16="cc"),Edl!C16<>""),1,"") | D16: =IF(AND(OR(Edl!D16<5,Edl!D16="c",Edl!D16="cc"),Edl!D16<>""),1,"") | E16: =IF(AND(OR(Edl!E16<5,Edl!E16="c",Edl!E16="cc"),Edl!E16<>""),1,"") | F16: =IF(AND(OR(Edl!F16<5,Edl!F16="c",Edl!F16="cc"),Edl!F16<>""),1,"") | G16: =IF(AND(OR(Edl!G16<5,Edl!G16="c",Edl!G16="cc"),Edl!G16<>""),1,"") | H16: =IF(AND(OR(Edl!H16<5,Edl!H16="c",Edl!H16="cc"),Edl!H16<>""),1,"") | I16: =IF(AND(OR(Edl!I16<5,Edl!I16="c",Edl!I16="cc"),Edl!I16<>""),1,"") | J16: =SUM(B16:I16)/8*100 -> 0 | K16: =IF(AND(OR(Edl!J16<5,Edl!J16="c",Edl!J16="cc"),Edl!J16<>""),1,"") | L16: =IF(AND(OR(Edl!K16<5,Edl!K16="c",Edl!K16="cc"),Edl!K16<>""),1,"") | M16: =IF(AND(OR(Edl!L16<5,Edl!L16="c",Edl!L16="cc"),Edl!L16<>""),1,"") | N16: =IF(AND(OR(Edl!M16<5,Edl!M16="c",Edl!M16="cc"),Edl!M16<>""),1,"") | O16: =IF(AND(OR(Edl!N16<5,Edl!N16="c",Edl!N16="cc"),Edl!N16<>""),1,"") | P16: =IF(AND(OR(Edl!O16<5,Edl!O16="c",Edl!O16="cc"),Edl!O16<>""),1,"") | Q16: =IF(AND(OR(Edl!P16<5,Edl!P16="c",Edl!P16="cc"),Edl!P16<>""),1,"") | R16: =SUM(K16:Q16)/7*100 -> 0 | S16: =IF(AND(OR(Edl!Q16<5,Edl!Q16="c",Edl!Q16="cc"),Edl!Q16<>""),1,"") | T16: =IF(AND(OR(Edl!R16<5,Edl!R16="c",Edl!R16="cc"),Edl!R16<>""),1,"") | U16: =IF(AND(OR(Edl!S16<5,Edl!S16="c",Edl!S16="cc"),Edl!S16<>""),1,"") | V16: =IF(AND(OR(Edl!T16<5,Edl!T16="c",Edl!T16="cc"),Edl!T16<>""),1,"") | W16: =IF(AND(OR(Edl!U16<5,Edl!U16="c",Edl!U16="cc"),Edl!U16<>""),1,"") | X16: =IF(AND(OR(Edl!V16<5,Edl!V16="c",Edl!V16="cc"),Edl!V16<>""),1,"") | Y16: =IF(AND(OR(Edl!W16<5,Edl!W16="c",Edl!W16="cc"),Edl!W16<>""),1,"") | Z16: =IF(AND(OR(Edl!X16<5,Edl!X16="c",Edl!X16="cc"),Edl!X16<>""),1,"") | ... AB16: =IF(AND(OR(Edl!Z16<5,Edl!Z16="c",Edl!Z16="cc"),Edl!Z16<>""),1,"") | AC16: =SUM(S16:AB16)/10*100 -> 0 | AD16: =IF(AND(OR(Edl!AA16<5,Edl!AA16="c",Edl!AA16="cc"),Edl!AA16<>""),1,"") | AE16: =IF(AND(OR(Edl!AB16<5,Edl!AB16="c",Edl!AB16="cc"),Edl!AB16<>""),1,"") | AF16: =IF(AND(OR(Edl!AC16<5,Edl!AC16="c",Edl!AC16="cc"),Edl!AC16<>""),1,"") | AG16: =IF(AND(OR(Edl!AD16<5,Edl!AD16="c",Edl!AD16="cc"),Edl!AD16<>""),1,"") | AH16: =IF(AND(OR(Edl!AE16<5,Edl!AE16="c",Edl!AE16="cc"),Edl!AE16<>""),1,"") | AI16: =IF(AND(OR(Edl!AF16<5,Edl!AF16="c",Edl!AF16="cc"),Edl!AF16<>""),1,"") | AJ16: =IF(AND(OR(Edl!AG16<5,Edl!AG16="c",Edl!AG16="cc"),Edl!AG16<>""),1,"") | AK16: =IF(AND(OR(Edl!AH16<5,Edl!AH16="c",Edl!AH16="cc"),Edl!AH16<>""),1,"") | AL16: =SUM(AD16:AK16)/8*100 -> 0 | AM16: =IF(AND(OR(Edl!AI16<5,Edl!AI16="c",Edl!AI16="cc"),Edl!AI16<>""),1,"") | AN16: =IF(AND(OR(Edl!AJ16<5,Edl!AJ16="c",Edl!AJ16="cc"),Edl!AJ16<>""),1,"") | AO16: =IF(AND(OR(Edl!AK16<5,Edl!AK16="c",Edl!AK16="cc"),Edl!AK16<>""),1,"") | AP16: =IF(AND(OR(Edl!AL16<5,Edl!AL16="c",Edl!AL16="cc"),Edl!AL16<>""),1,"") | AQ16: =IF(AND(OR(Edl!AM16<5,Edl!AM16="c",Edl!AM16="cc"),Edl!AM16<>""),1,"") | AR16: =SUM(AM16:AQ16)/5*100 -> 0 | AS16: =IF(AND(OR(Edl!AN16<5,Edl!AN16="c",Edl!AN16="cc"),Edl!AN16<>""),1,"") | AT16: =IF(AND(OR(Edl!AO16<5,Edl!AO16="c",Edl!AO16="cc"),Edl!AO16<>""),1,"") | AU16: =IF(AND(OR(Edl!AP16<5,Edl!AP16="c",Edl!AP16="cc"),Edl!AP16<>""),1,"") | AV16: =IF(AND(OR(Edl!AQ16<5,Edl!AQ16="c",Edl!AQ16="cc"),Edl!AQ16<>""),1,"") | AW16: =SUM(AS16:AV16)/4*100 -> 0 | AX16: =IF(AND(OR(Edl!AR16<5,Edl!AR16="c",Edl!AR16="cc"),Edl!AR16<>""),1,"") | AY16: =IF(AND(OR(Edl!AS16<5,Edl!AS16="c",Edl!AS16="cc"),Edl!AS16<>""),1,"") | AZ16: =IF(AND(OR(Edl!AT16<5,Edl!AT16="c",Edl!AT16="cc"),Edl!AT16<>""),1,"") | BA16: =IF(AND(OR(Edl!AU16<5,Edl!AU16="c",Edl!AU16="cc"),Edl!AU16<>""),1,"") | BB16: =IF(AND(OR(Edl!AV16<5,Edl!AV16="c",Edl!AV16="cc"),Edl!AV16<>""),1,"") | BC16: =SUM(AX16:BB16)/5*100 -> 0 | BD16: =IF(AND(OR(Edl!AW16<5,Edl!AW16="c",Edl!AW16="cc"),Edl!AW16<>""),1,"") | BE16: =IF(AND(OR(Edl!AX16<5,Edl!AX16="c",Edl!AX16="cc"),Edl!AX16<>""),1,"") | BF16: =IF(AND(OR(Edl!AY16<5,Edl!AY16="c",Edl!AY16="cc"),Edl!AY16<>""),1,"") | BG16: =IF(AND(OR(Edl!AZ16<5,Edl!AZ16="c",Edl!AZ16="cc"),Edl!AZ16<>""),1,"") | BH16: =SUM(BD16:BG16)/4*100 -> 0 | BI16: =IF(AND(OR(Edl!BA16<5,Edl!BA16="c",Edl!BA16="cc"),Edl!BA16<>""),1,"") | BJ16: =IF(AND(OR(Edl!BB16<5,Edl!BB16="c",Edl!BB16="cc"),Edl!BB16<>""),1,"") | BK16: =IF(AND(OR(Edl!BC16<5,Edl!BC16="c",Edl!BC16="cc"),Edl!BC16<>""),1,"") | BL16: =IF(AND(OR(Edl!BD16<5,Edl!BD16="c",Edl!BD16="cc"),Edl!BD16<>""),1,"") | BM16: =IF(AND(OR(Edl!BE16<5,Edl!BE16="c",Edl!BE16="cc"),Edl!BE16<>""),1,"") | BN16: =SUM(BI16:BM16)/5*100 -> 0 | BO16: =IF(AND(OR(Edl!BF16<5,Edl!BF16="c",Edl!BF16="cc"),Edl!BF16<>""),1,"") | BP16: =IF(AND(OR(Edl!BG16<5,Edl!BG16="c",Edl!BG16="cc"),Edl!BG16<>""),1,"") | BQ16: =IF(AND(OR(Edl!BH16<5,Edl!BH16="c",Edl!BH16="cc"),Edl!BH16<>""),1,"") | BR16: =IF(AND(OR(Edl!BI16<5,Edl!BI16="c",Edl!BI16="cc"),Edl!BI16<>""),1,"") | BS16: =IF(AND(OR(Edl!BJ16<5,Edl!BJ16="c",Edl!BJ16="cc"),Edl!BJ16<>""),1,"") | BT16: =IF(AND(OR(Edl!BK16<5,Edl!BK16="c",Edl!BK16="cc"),Edl!BK16<>""),1,"") | BU16: =IF(AND(OR(Edl!BL16<5,Edl!BL16="c",Edl!BL16="cc"),Edl!BL16<>""),1,"") | BV16: =SUM(BO16:BU16)/7*100 -> 0 | BW16: =IF(AND(OR(Edl!BM16<5,Edl!BM16="c",Edl!BM16="cc"),Edl!BM16<>""),1,"") | BX16: =IF(AND(OR(Edl!BN16<5,Edl!BN16="c",Edl!BN16="cc"),Edl!BN16<>""),1,"") | BY16: =IF(AND(OR(Edl!BO16<5,Edl!BO16="c",Edl!BO16="cc"),Edl!BO16<>""),1,"") | BZ16: =IF(AND(OR(Edl!BP16<5,Edl!BP16="c",Edl!BP16="cc"),Edl!BP16<>""),1,"") | CA16: =SUM(BW16:BZ16)/4*100 -> 0 | CB16: =IF(AND(OR(Edl!BQ16<5,Edl!BQ16="c",Edl!BQ16="cc"),Edl!BQ16<>""),1,"") | CC16: =IF(AND(OR(Edl!BR16<5,Edl!BR16="c",Edl!BR16="cc"),Edl!BR16<>""),1,"") | CD16: =IF(AND(OR(Edl!BS16<5,Edl!BS16="c",Edl!BS16="cc"),Edl!BS16<>""),1,"") | CE16: =IF(AND(OR(Edl!BT16<5,Edl!BT16="c",Edl!BT16="cc"),Edl!BT16<>""),1,"") | CF16: =IF(AND(OR(Edl!BU16<5,Edl!BU16="c",Edl!BU16="cc"),Edl!BU16<>""),1,"") | CG16: =IF(AND(OR(Edl!BV16<5,Edl!BV16="c",Edl!BV16="cc"),Edl!BV16<>""),1,"") | CH16: =IF(AND(OR(Edl!BW16<5,Edl!BW16="c",Edl!BW16="cc"),Edl!BW16<>""),1,"") | CI16: =IF(AND(OR(Edl!BX16<5,Edl!BX16="c",Edl!BX16="cc"),Edl!BX16<>""),1,"") | ... CL16: =IF(AND(OR(Edl!CA16<5,Edl!CA16="c",Edl!CA16="cc"),Edl!CA16<>""),1,"") | CM16: =SUM(CB16:CL16)/11*100 -> 0 | CN16: =IF(AND(OR(Edl!CB16<5,Edl!CB16="c",Edl!CB16="cc"),Edl!CB16<>""),1,"") | CO16: =IF(AND(OR(Edl!CC16<5,Edl!CC16="c",Edl!CC16="cc"),Edl!CC16<>""),1,"") | CP16: =IF(AND(OR(Edl!CD16<5,Edl!CD16="c",Edl!CD16="cc"),Edl!CD16<>""),1,"") | CQ16: =IF(AND(OR(Edl!CE16<5,Edl!CE16="c",Edl!CE16="cc"),Edl!CE16<>""),1,"") | CR16: =IF(AND(OR(Edl!CF16<5,Edl!CF16="c",Edl!CF16="cc"),Edl!CF16<>""),1,"") | CS16: =SUM(CN16:CR16)/5*100 -> 0 | CT16: =IF(AND(OR(Edl!CG16<5,Edl!CG16="c",Edl!CG16="cc"),Edl!CG16<>""),1,"") | CU16: =IF(AND(OR(Edl!CH16<5,Edl!CH16="c",Edl!CH16="cc"),Edl!CH16<>""),1,"") | CV16: =IF(AND(OR(Edl!CI16<5,Edl!CI16="c",Edl!CI16="cc"),Edl!CI16<>""),1,"") | CW16: =IF(AND(OR(Edl!CJ16<5,Edl!CJ16="c",Edl!CJ16="cc"),Edl!CJ16<>""),1,"") | CX16: =IF(AND(OR(Edl!CK16<5,Edl!CK16="c",Edl!CK16="cc"),Edl!CK16<>""),1,"") | CY16: =IF(AND(OR(Edl!CL16<5,Edl!CL16="c",Edl!CL16="cc"),Edl!CL16<>""),1,"") | CZ16: =SUM(CT16:CY16)/6*100 -> 0 | DA16: =IF(AND(OR(Edl!CM16<5,Edl!CM16="c",Edl!CM16="cc"),Edl!CM16<>""),1,"") | DB16: =IF(AND(OR(Edl!CN16<5,Edl!CN16="c",Edl!CN16="cc"),Edl!CN16<>""),1,"") | DC16: =IF(AND(OR(Edl!CO16<5,Edl!CO16="c",Edl!CO16="cc"),Edl!CO16<>""),1,"") | DD16: =IF(AND(OR(Edl!CP16<5,Edl!CP16="c",Edl!CP16="cc"),Edl!CP16<>""),1,"") | DE16: =IF(AND(OR(Edl!CQ16<5,Edl!CQ16="c",Edl!CQ16="cc"),Edl!CQ16<>""),1,"") | DF16: =SUM(DA16:DE16)/5*100 -> 0 | DG16: =IF(AND(OR(Edl!CR16<5,Edl!CR16="c",Edl!CR16="cc"),Edl!CR16<>""),1,"") | DH16: =IF(AND(OR(Edl!CS16<5,Edl!CS16="c",Edl!CS16="cc"),Edl!CS16<>""),1,"") | DI16: =IF(AND(OR(Edl!CT16<5,Edl!CT16="c",Edl!CT16="cc"),Edl!CT16<>""),1,"") | DJ16: =IF(AND(OR(Edl!CU16<5,Edl!CU16="c",Edl!CU16="cc"),Edl!CU16<>""),1,"") | DK16: =IF(AND(OR(Edl!CV16<5,Edl!CV16="c",Edl!CV16="cc"),Edl!CV16<>""),1,"") | DL16: =IF(AND(OR(Edl!CW16<5,Edl!CW16="c",Edl!CW16="cc"),Edl!CW16<>""),1,"") | DM16: =IF(AND(OR(Edl!CX16<5,Edl!CX16="c",Edl!CX16="cc"),Edl!CX16<>""),1,"") | DN16: =IF(AND(OR(Edl!CY16<5,Edl!CY16="c",Edl!CY16="cc"),Edl!CY16<>""),1,"") | ... DP16: =IF(AND(OR(Edl!DA16<5,Edl!DA16="c",Edl!DA16="cc"),Edl!DA16<>""),1,"") | DQ16: =SUM(DG16:DP17)/10*100 -> 0 | DR16: =IF(AND(OR(Edl!DB16<5,Edl!DB16="c",Edl!DB16="cc"),Edl!DB16<>""),1,"") | DS16: =IF(AND(OR(Edl!DC16<5,Edl!DC16="c",Edl!DC16="cc"),Edl!DC16<>""),1,"") | DT16: =IF(AND(OR(Edl!DD16<5,Edl!DD16="c",Edl!DD16="cc"),Edl!DD16<>""),1,"") | DU16: =IF(AND(OR(Edl!DE16<5,Edl!DE16="c",Edl!DE16="cc"),Edl!DE16<>""),1,"") | DV16: =IF(AND(OR(Edl!DF16<5,Edl!DF16="c",Edl!DF16="cc"),Edl!DF16<>""),1,"") | DW16: =IF(AND(OR(Edl!DG16<5,Edl!DG16="c",Edl!DG16="cc"),Edl!DG16<>""),1,"") | DX16: =IF(AND(OR(Edl!DH16<5,Edl!DH16="c",Edl!DH16="cc"),Edl!DH16<>""),1,"") | DY16: =IF(AND(OR(Edl!DI16<5,Edl!DI16="c",Edl!DI16="cc"),Edl!DI16<>""),1,"") | ... EC16: =IF(AND(OR(Edl!DM16<5,Edl!DM16="c",Edl!DM16="cc"),Edl!DM16<>""),1,"") | ED16: =SUM(DR16:EC16)/12*100 -> 0
A17: Lucas | B17: =IF(AND(OR(Edl!B17<5,Edl!B17="c",Edl!B17="cc"),Edl!B17<>""),1,"") | C17: =IF(AND(OR(Edl!C17<5,Edl!C17="c",Edl!C17="cc"),Edl!C17<>""),1,"") | D17: =IF(AND(OR(Edl!D17<5,Edl!D17="c",Edl!D17="cc"),Edl!D17<>""),1,"") | E17: =IF(AND(OR(Edl!E17<5,Edl!E17="c",Edl!E17="cc"),Edl!E17<>""),1,"") | F17: =IF(AND(OR(Edl!F17<5,Edl!F17="c",Edl!F17="cc"),Edl!F17<>""),1,"") | G17: =IF(AND(OR(Edl!G17<5,Edl!G17="c",Edl!G17="cc"),Edl!G17<>""),1,"") | H17: =IF(AND(OR(Edl!H17<5,Edl!H17="c",Edl!H17="cc"),Edl!H17<>""),1,"") | I17: =IF(AND(OR(Edl!I17<5,Edl!I17="c",Edl!I17="cc"),Edl!I17<>""),1,"") | J17: =SUM(B17:I17)/8*100 -> 0 | K17: =IF(AND(OR(Edl!J17<5,Edl!J17="c",Edl!J17="cc"),Edl!J17<>""),1,"") | L17: =IF(AND(OR(Edl!K17<5,Edl!K17="c",Edl!K17="cc"),Edl!K17<>""),1,"") | M17: =IF(AND(OR(Edl!L17<5,Edl!L17="c",Edl!L17="cc"),Edl!L17<>""),1,"") | N17: =IF(AND(OR(Edl!M17<5,Edl!M17="c",Edl!M17="cc"),Edl!M17<>""),1,"") | O17: =IF(AND(OR(Edl!N17<5,Edl!N17="c",Edl!N17="cc"),Edl!N17<>""),1,"") | P17: =IF(AND(OR(Edl!O17<5,Edl!O17="c",Edl!O17="cc"),Edl!O17<>""),1,"") | Q17: =IF(AND(OR(Edl!P17<5,Edl!P17="c",Edl!P17="cc"),Edl!P17<>""),1,"") | R17: =SUM(K17:Q17)/7*100 -> 0 | S17: =IF(AND(OR(Edl!Q17<5,Edl!Q17="c",Edl!Q17="cc"),Edl!Q17<>""),1,"") | T17: =IF(AND(OR(Edl!R17<5,Edl!R17="c",Edl!R17="cc"),Edl!R17<>""),1,"") | U17: =IF(AND(OR(Edl!S17<5,Edl!S17="c",Edl!S17="cc"),Edl!S17<>""),1,"") | V17: =IF(AND(OR(Edl!T17<5,Edl!T17="c",Edl!T17="cc"),Edl!T17<>""),1,"") | W17: =IF(AND(OR(Edl!U17<5,Edl!U17="c",Edl!U17="cc"),Edl!U17<>""),1,"") | X17: =IF(AND(OR(Edl!V17<5,Edl!V17="c",Edl!V17="cc"),Edl!V17<>""),1,"") | Y17: =IF(AND(OR(Edl!W17<5,Edl!W17="c",Edl!W17="cc"),Edl!W17<>""),1,"") | Z17: =IF(AND(OR(Edl!X17<5,Edl!X17="c",Edl!X17="cc"),Edl!X17<>""),1,"") | ... AB17: =IF(AND(OR(Edl!Z17<5,Edl!Z17="c",Edl!Z17="cc"),Edl!Z17<>""),1,"") | AC17: =SUM(S17:AB17)/10*100 -> 0 | AD17: =IF(AND(OR(Edl!AA17<5,Edl!AA17="c",Edl!AA17="cc"),Edl!AA17<>""),1,"") | AE17: =IF(AND(OR(Edl!AB17<5,Edl!AB17="c",Edl!AB17="cc"),Edl!AB17<>""),1,"") | AF17: =IF(AND(OR(Edl!AC17<5,Edl!AC17="c",Edl!AC17="cc"),Edl!AC17<>""),1,"") | AG17: =IF(AND(OR(Edl!AD17<5,Edl!AD17="c",Edl!AD17="cc"),Edl!AD17<>""),1,"") | AH17: =IF(AND(OR(Edl!AE17<5,Edl!AE17="c",Edl!AE17="cc"),Edl!AE17<>""),1,"") | AI17: =IF(AND(OR(Edl!AF17<5,Edl!AF17="c",Edl!AF17="cc"),Edl!AF17<>""),1,"") | AJ17: =IF(AND(OR(Edl!AG17<5,Edl!AG17="c",Edl!AG17="cc"),Edl!AG17<>""),1,"") | AK17: =IF(AND(OR(Edl!AH17<5,Edl!AH17="c",Edl!AH17="cc"),Edl!AH17<>""),1,"") | AL17: =SUM(AD17:AK17)/8*100 -> 0 | AM17: =IF(AND(OR(Edl!AI17<5,Edl!AI17="c",Edl!AI17="cc"),Edl!AI17<>""),1,"") | AN17: =IF(AND(OR(Edl!AJ17<5,Edl!AJ17="c",Edl!AJ17="cc"),Edl!AJ17<>""),1,"") | AO17: =IF(AND(OR(Edl!AK17<5,Edl!AK17="c",Edl!AK17="cc"),Edl!AK17<>""),1,"") | AP17: =IF(AND(OR(Edl!AL17<5,Edl!AL17="c",Edl!AL17="cc"),Edl!AL17<>""),1,"") | AQ17: =IF(AND(OR(Edl!AM17<5,Edl!AM17="c",Edl!AM17="cc"),Edl!AM17<>""),1,"") | AR17: =SUM(AM17:AQ17)/5*100 -> 0 | AS17: =IF(AND(OR(Edl!AN17<5,Edl!AN17="c",Edl!AN17="cc"),Edl!AN17<>""),1,"") | AT17: =IF(AND(OR(Edl!AO17<5,Edl!AO17="c",Edl!AO17="cc"),Edl!AO17<>""),1,"") | AU17: =IF(AND(OR(Edl!AP17<5,Edl!AP17="c",Edl!AP17="cc"),Edl!AP17<>""),1,"") | AV17: =IF(AND(OR(Edl!AQ17<5,Edl!AQ17="c",Edl!AQ17="cc"),Edl!AQ17<>""),1,"") | AW17: =SUM(AS17:AV17)/4*100 -> 0 | AX17: =IF(AND(OR(Edl!AR17<5,Edl!AR17="c",Edl!AR17="cc"),Edl!AR17<>""),1,"") | AY17: =IF(AND(OR(Edl!AS17<5,Edl!AS17="c",Edl!AS17="cc"),Edl!AS17<>""),1,"") | AZ17: =IF(AND(OR(Edl!AT17<5,Edl!AT17="c",Edl!AT17="cc"),Edl!AT17<>""),1,"") | BA17: =IF(AND(OR(Edl!AU17<5,Edl!AU17="c",Edl!AU17="cc"),Edl!AU17<>""),1,"") | BB17: =IF(AND(OR(Edl!AV17<5,Edl!AV17="c",Edl!AV17="cc"),Edl!AV17<>""),1,"") | BC17: =SUM(AX17:BB17)/5*100 -> 0 | BD17: =IF(AND(OR(Edl!AW17<5,Edl!AW17="c",Edl!AW17="cc"),Edl!AW17<>""),1,"") | BE17: =IF(AND(OR(Edl!AX17<5,Edl!AX17="c",Edl!AX17="cc"),Edl!AX17<>""),1,"") | BF17: =IF(AND(OR(Edl!AY17<5,Edl!AY17="c",Edl!AY17="cc"),Edl!AY17<>""),1,"") | BG17: =IF(AND(OR(Edl!AZ17<5,Edl!AZ17="c",Edl!AZ17="cc"),Edl!AZ17<>""),1,"") | BH17: =SUM(BD17:BG17)/4*100 -> 0 | BI17: =IF(AND(OR(Edl!BA17<5,Edl!BA17="c",Edl!BA17="cc"),Edl!BA17<>""),1,"") | BJ17: =IF(AND(OR(Edl!BB17<5,Edl!BB17="c",Edl!BB17="cc"),Edl!BB17<>""),1,"") | BK17: =IF(AND(OR(Edl!BC17<5,Edl!BC17="c",Edl!BC17="cc"),Edl!BC17<>""),1,"") | BL17: =IF(AND(OR(Edl!BD17<5,Edl!BD17="c",Edl!BD17="cc"),Edl!BD17<>""),1,"") | BM17: =IF(AND(OR(Edl!BE17<5,Edl!BE17="c",Edl!BE17="cc"),Edl!BE17<>""),1,"") | BN17: =SUM(BI17:BM17)/5*100 -> 0 | BO17: =IF(AND(OR(Edl!BF17<5,Edl!BF17="c",Edl!BF17="cc"),Edl!BF17<>""),1,"") | BP17: =IF(AND(OR(Edl!BG17<5,Edl!BG17="c",Edl!BG17="cc"),Edl!BG17<>""),1,"") | BQ17: =IF(AND(OR(Edl!BH17<5,Edl!BH17="c",Edl!BH17="cc"),Edl!BH17<>""),1,"") | BR17: =IF(AND(OR(Edl!BI17<5,Edl!BI17="c",Edl!BI17="cc"),Edl!BI17<>""),1,"") | BS17: =IF(AND(OR(Edl!BJ17<5,Edl!BJ17="c",Edl!BJ17="cc"),Edl!BJ17<>""),1,"") | BT17: =IF(AND(OR(Edl!BK17<5,Edl!BK17="c",Edl!BK17="cc"),Edl!BK17<>""),1,"") | BU17: =IF(AND(OR(Edl!BL17<5,Edl!BL17="c",Edl!BL17="cc"),Edl!BL17<>""),1,"") | BV17: =SUM(BO17:BU17)/7*100 -> 0 | BW17: =IF(AND(OR(Edl!BM17<5,Edl!BM17="c",Edl!BM17="cc"),Edl!BM17<>""),1,"") | BX17: =IF(AND(OR(Edl!BN17<5,Edl!BN17="c",Edl!BN17="cc"),Edl!BN17<>""),1,"") | BY17: =IF(AND(OR(Edl!BO17<5,Edl!BO17="c",Edl!BO17="cc"),Edl!BO17<>""),1,"") | BZ17: =IF(AND(OR(Edl!BP17<5,Edl!BP17="c",Edl!BP17="cc"),Edl!BP17<>""),1,"") | CA17: =SUM(BW17:BZ17)/4*100 -> 0 | CB17: =IF(AND(OR(Edl!BQ17<5,Edl!BQ17="c",Edl!BQ17="cc"),Edl!BQ17<>""),1,"") | CC17: =IF(AND(OR(Edl!BR17<5,Edl!BR17="c",Edl!BR17="cc"),Edl!BR17<>""),1,"") | CD17: =IF(AND(OR(Edl!BS17<5,Edl!BS17="c",Edl!BS17="cc"),Edl!BS17<>""),1,"") | CE17: =IF(AND(OR(Edl!BT17<5,Edl!BT17="c",Edl!BT17="cc"),Edl!BT17<>""),1,"") | CF17: =IF(AND(OR(Edl!BU17<5,Edl!BU17="c",Edl!BU17="cc"),Edl!BU17<>""),1,"") | CG17: =IF(AND(OR(Edl!BV17<5,Edl!BV17="c",Edl!BV17="cc"),Edl!BV17<>""),1,"") | CH17: =IF(AND(OR(Edl!BW17<5,Edl!BW17="c",Edl!BW17="cc"),Edl!BW17<>""),1,"") | CI17: =IF(AND(OR(Edl!BX17<5,Edl!BX17="c",Edl!BX17="cc"),Edl!BX17<>""),1,"") | ... CL17: =IF(AND(OR(Edl!CA17<5,Edl!CA17="c",Edl!CA17="cc"),Edl!CA17<>""),1,"") | CM17: =SUM(CB17:CL17)/11*100 -> 0 | CN17: =IF(AND(OR(Edl!CB17<5,Edl!CB17="c",Edl!CB17="cc"),Edl!CB17<>""),1,"") | CO17: =IF(AND(OR(Edl!CC17<5,Edl!CC17="c",Edl!CC17="cc"),Edl!CC17<>""),1,"") | CP17: =IF(AND(OR(Edl!CD17<5,Edl!CD17="c",Edl!CD17="cc"),Edl!CD17<>""),1,"") | CQ17: =IF(AND(OR(Edl!CE17<5,Edl!CE17="c",Edl!CE17="cc"),Edl!CE17<>""),1,"") | CR17: =IF(AND(OR(Edl!CF17<5,Edl!CF17="c",Edl!CF17="cc"),Edl!CF17<>""),1,"") | CS17: =SUM(CN17:CR17)/5*100 -> 0 | CT17: =IF(AND(OR(Edl!CG17<5,Edl!CG17="c",Edl!CG17="cc"),Edl!CG17<>""),1,"") | CU17: =IF(AND(OR(Edl!CH17<5,Edl!CH17="c",Edl!CH17="cc"),Edl!CH17<>""),1,"") | CV17: =IF(AND(OR(Edl!CI17<5,Edl!CI17="c",Edl!CI17="cc"),Edl!CI17<>""),1,"") | CW17: =IF(AND(OR(Edl!CJ17<5,Edl!CJ17="c",Edl!CJ17="cc"),Edl!CJ17<>""),1,"") | CX17: =IF(AND(OR(Edl!CK17<5,Edl!CK17="c",Edl!CK17="cc"),Edl!CK17<>""),1,"") | CY17: =IF(AND(OR(Edl!CL17<5,Edl!CL17="c",Edl!CL17="cc"),Edl!CL17<>""),1,"") | CZ17: =SUM(CT17:CY17)/6*100 -> 0 | DA17: =IF(AND(OR(Edl!CM17<5,Edl!CM17="c",Edl!CM17="cc"),Edl!CM17<>""),1,"") | DB17: =IF(AND(OR(Edl!CN17<5,Edl!CN17="c",Edl!CN17="cc"),Edl!CN17<>""),1,"") | DC17: =IF(AND(OR(Edl!CO17<5,Edl!CO17="c",Edl!CO17="cc"),Edl!CO17<>""),1,"") | DD17: =IF(AND(OR(Edl!CP17<5,Edl!CP17="c",Edl!CP17="cc"),Edl!CP17<>""),1,"") | DE17: =IF(AND(OR(Edl!CQ17<5,Edl!CQ17="c",Edl!CQ17="cc"),Edl!CQ17<>""),1,"") | DF17: =SUM(DA17:DE17)/5*100 -> 0 | DG17: =IF(AND(OR(Edl!CR17<5,Edl!CR17="c",Edl!CR17="cc"),Edl!CR17<>""),1,"") | DH17: =IF(AND(OR(Edl!CS17<5,Edl!CS17="c",Edl!CS17="cc"),Edl!CS17<>""),1,"") | DI17: =IF(AND(OR(Edl!CT17<5,Edl!CT17="c",Edl!CT17="cc"),Edl!CT17<>""),1,"") | DJ17: =IF(AND(OR(Edl!CU17<5,Edl!CU17="c",Edl!CU17="cc"),Edl!CU17<>""),1,"") | DK17: =IF(AND(OR(Edl!CV17<5,Edl!CV17="c",Edl!CV17="cc"),Edl!CV17<>""),1,"") | DL17: =IF(AND(OR(Edl!CW17<5,Edl!CW17="c",Edl!CW17="cc"),Edl!CW17<>""),1,"") | DM17: =IF(AND(OR(Edl!CX17<5,Edl!CX17="c",Edl!CX17="cc"),Edl!CX17<>""),1,"") | DN17: =IF(AND(OR(Edl!CY17<5,Edl!CY17="c",Edl!CY17="cc"),Edl!CY17<>""),1,"") | ... DP17: =IF(AND(OR(Edl!DA17<5,Edl!DA17="c",Edl!DA17="cc"),Edl!DA17<>""),1,"") | DQ17: =SUM(DG17:DP18)/10*100 -> 0 | DR17: =IF(AND(OR(Edl!DB17<5,Edl!DB17="c",Edl!DB17="cc"),Edl!DB17<>""),1,"") | DS17: =IF(AND(OR(Edl!DC17<5,Edl!DC17="c",Edl!DC17="cc"),Edl!DC17<>""),1,"") | DT17: =IF(AND(OR(Edl!DD17<5,Edl!DD17="c",Edl!DD17="cc"),Edl!DD17<>""),1,"") | DU17: =IF(AND(OR(Edl!DE17<5,Edl!DE17="c",Edl!DE17="cc"),Edl!DE17<>""),1,"") | DV17: =IF(AND(OR(Edl!DF17<5,Edl!DF17="c",Edl!DF17="cc"),Edl!DF17<>""),1,"") | DW17: =IF(AND(OR(Edl!DG17<5,Edl!DG17="c",Edl!DG17="cc"),Edl!DG17<>""),1,"") | DX17: =IF(AND(OR(Edl!DH17<5,Edl!DH17="c",Edl!DH17="cc"),Edl!DH17<>""),1,"") | DY17: =IF(AND(OR(Edl!DI17<5,Edl!DI17="c",Edl!DI17="cc"),Edl!DI17<>""),1,"") | ... EC17: =IF(AND(OR(Edl!DM17<5,Edl!DM17="c",Edl!DM17="cc"),Edl!DM17<>""),1,"") | ED17: =SUM(DR17:EC17)/12*100 -> 0
A18: Nathan C | B18: =IF(AND(OR(Edl!B18<5,Edl!B18="c",Edl!B18="cc"),Edl!B18<>""),1,"") | C18: =IF(AND(OR(Edl!C18<5,Edl!C18="c",Edl!C18="cc"),Edl!C18<>""),1,"") | D18: =IF(AND(OR(Edl!D18<5,Edl!D18="c",Edl!D18="cc"),Edl!D18<>""),1,"") | E18: =IF(AND(OR(Edl!E18<5,Edl!E18="c",Edl!E18="cc"),Edl!E18<>""),1,"") | F18: =IF(AND(OR(Edl!F18<5,Edl!F18="c",Edl!F18="cc"),Edl!F18<>""),1,"") | G18: =IF(AND(OR(Edl!G18<5,Edl!G18="c",Edl!G18="cc"),Edl!G18<>""),1,"") | H18: =IF(AND(OR(Edl!H18<5,Edl!H18="c",Edl!H18="cc"),Edl!H18<>""),1,"") | I18: =IF(AND(OR(Edl!I18<5,Edl!I18="c",Edl!I18="cc"),Edl!I18<>""),1,"") | J18: =SUM(B18:I18)/8*100 -> 0 | K18: =IF(AND(OR(Edl!J18<5,Edl!J18="c",Edl!J18="cc"),Edl!J18<>""),1,"") | L18: =IF(AND(OR(Edl!K18<5,Edl!K18="c",Edl!K18="cc"),Edl!K18<>""),1,"") | M18: =IF(AND(OR(Edl!L18<5,Edl!L18="c",Edl!L18="cc"),Edl!L18<>""),1,"") | N18: =IF(AND(OR(Edl!M18<5,Edl!M18="c",Edl!M18="cc"),Edl!M18<>""),1,"") | O18: =IF(AND(OR(Edl!N18<5,Edl!N18="c",Edl!N18="cc"),Edl!N18<>""),1,"") | P18: =IF(AND(OR(Edl!O18<5,Edl!O18="c",Edl!O18="cc"),Edl!O18<>""),1,"") | Q18: =IF(AND(OR(Edl!P18<5,Edl!P18="c",Edl!P18="cc"),Edl!P18<>""),1,"") | R18: =SUM(K18:Q18)/7*100 -> 0 | S18: =IF(AND(OR(Edl!Q18<5,Edl!Q18="c",Edl!Q18="cc"),Edl!Q18<>""),1,"") | T18: =IF(AND(OR(Edl!R18<5,Edl!R18="c",Edl!R18="cc"),Edl!R18<>""),1,"") | U18: =IF(AND(OR(Edl!S18<5,Edl!S18="c",Edl!S18="cc"),Edl!S18<>""),1,"") | V18: =IF(AND(OR(Edl!T18<5,Edl!T18="c",Edl!T18="cc"),Edl!T18<>""),1,"") | W18: =IF(AND(OR(Edl!U18<5,Edl!U18="c",Edl!U18="cc"),Edl!U18<>""),1,"") | X18: =IF(AND(OR(Edl!V18<5,Edl!V18="c",Edl!V18="cc"),Edl!V18<>""),1,"") | Y18: =IF(AND(OR(Edl!W18<5,Edl!W18="c",Edl!W18="cc"),Edl!W18<>""),1,"") | Z18: =IF(AND(OR(Edl!X18<5,Edl!X18="c",Edl!X18="cc"),Edl!X18<>""),1,"") | ... AB18: =IF(AND(OR(Edl!Z18<5,Edl!Z18="c",Edl!Z18="cc"),Edl!Z18<>""),1,"") | AC18: =SUM(S18:AB18)/10*100 -> 0 | AD18: =IF(AND(OR(Edl!AA18<5,Edl!AA18="c",Edl!AA18="cc"),Edl!AA18<>""),1,"") | AE18: =IF(AND(OR(Edl!AB18<5,Edl!AB18="c",Edl!AB18="cc"),Edl!AB18<>""),1,"") | AF18: =IF(AND(OR(Edl!AC18<5,Edl!AC18="c",Edl!AC18="cc"),Edl!AC18<>""),1,"") | AG18: =IF(AND(OR(Edl!AD18<5,Edl!AD18="c",Edl!AD18="cc"),Edl!AD18<>""),1,"") | AH18: =IF(AND(OR(Edl!AE18<5,Edl!AE18="c",Edl!AE18="cc"),Edl!AE18<>""),1,"") | AI18: =IF(AND(OR(Edl!AF18<5,Edl!AF18="c",Edl!AF18="cc"),Edl!AF18<>""),1,"") | AJ18: =IF(AND(OR(Edl!AG18<5,Edl!AG18="c",Edl!AG18="cc"),Edl!AG18<>""),1,"") | AK18: =IF(AND(OR(Edl!AH18<5,Edl!AH18="c",Edl!AH18="cc"),Edl!AH18<>""),1,"") | AL18: =SUM(AD18:AK18)/8*100 -> 0 | AM18: =IF(AND(OR(Edl!AI18<5,Edl!AI18="c",Edl!AI18="cc"),Edl!AI18<>""),1,"") | AN18: =IF(AND(OR(Edl!AJ18<5,Edl!AJ18="c",Edl!AJ18="cc"),Edl!AJ18<>""),1,"") | AO18: =IF(AND(OR(Edl!AK18<5,Edl!AK18="c",Edl!AK18="cc"),Edl!AK18<>""),1,"") | AP18: =IF(AND(OR(Edl!AL18<5,Edl!AL18="c",Edl!AL18="cc"),Edl!AL18<>""),1,"") | AQ18: =IF(AND(OR(Edl!AM18<5,Edl!AM18="c",Edl!AM18="cc"),Edl!AM18<>""),1,"") | AR18: =SUM(AM18:AQ18)/5*100 -> 0 | AS18: =IF(AND(OR(Edl!AN18<5,Edl!AN18="c",Edl!AN18="cc"),Edl!AN18<>""),1,"") | AT18: =IF(AND(OR(Edl!AO18<5,Edl!AO18="c",Edl!AO18="cc"),Edl!AO18<>""),1,"") | AU18: =IF(AND(OR(Edl!AP18<5,Edl!AP18="c",Edl!AP18="cc"),Edl!AP18<>""),1,"") | AV18: =IF(AND(OR(Edl!AQ18<5,Edl!AQ18="c",Edl!AQ18="cc"),Edl!AQ18<>""),1,"") | AW18: =SUM(AS18:AV18)/4*100 -> 0 | AX18: =IF(AND(OR(Edl!AR18<5,Edl!AR18="c",Edl!AR18="cc"),Edl!AR18<>""),1,"") | AY18: =IF(AND(OR(Edl!AS18<5,Edl!AS18="c",Edl!AS18="cc"),Edl!AS18<>""),1,"") | AZ18: =IF(AND(OR(Edl!AT18<5,Edl!AT18="c",Edl!AT18="cc"),Edl!AT18<>""),1,"") | BA18: =IF(AND(OR(Edl!AU18<5,Edl!AU18="c",Edl!AU18="cc"),Edl!AU18<>""),1,"") | BB18: =IF(AND(OR(Edl!AV18<5,Edl!AV18="c",Edl!AV18="cc"),Edl!AV18<>""),1,"") | BC18: =SUM(AX18:BB18)/5*100 -> 0 | BD18: =IF(AND(OR(Edl!AW18<5,Edl!AW18="c",Edl!AW18="cc"),Edl!AW18<>""),1,"") | BE18: =IF(AND(OR(Edl!AX18<5,Edl!AX18="c",Edl!AX18="cc"),Edl!AX18<>""),1,"") | BF18: =IF(AND(OR(Edl!AY18<5,Edl!AY18="c",Edl!AY18="cc"),Edl!AY18<>""),1,"") | BG18: =IF(AND(OR(Edl!AZ18<5,Edl!AZ18="c",Edl!AZ18="cc"),Edl!AZ18<>""),1,"") | BH18: =SUM(BD18:BG18)/4*100 -> 0 | BI18: =IF(AND(OR(Edl!BA18<5,Edl!BA18="c",Edl!BA18="cc"),Edl!BA18<>""),1,"") | BJ18: =IF(AND(OR(Edl!BB18<5,Edl!BB18="c",Edl!BB18="cc"),Edl!BB18<>""),1,"") | BK18: =IF(AND(OR(Edl!BC18<5,Edl!BC18="c",Edl!BC18="cc"),Edl!BC18<>""),1,"") | BL18: =IF(AND(OR(Edl!BD18<5,Edl!BD18="c",Edl!BD18="cc"),Edl!BD18<>""),1,"") | BM18: =IF(AND(OR(Edl!BE18<5,Edl!BE18="c",Edl!BE18="cc"),Edl!BE18<>""),1,"") | BN18: =SUM(BI18:BM18)/5*100 -> 0 | BO18: =IF(AND(OR(Edl!BF18<5,Edl!BF18="c",Edl!BF18="cc"),Edl!BF18<>""),1,"") | BP18: =IF(AND(OR(Edl!BG18<5,Edl!BG18="c",Edl!BG18="cc"),Edl!BG18<>""),1,"") | BQ18: =IF(AND(OR(Edl!BH18<5,Edl!BH18="c",Edl!BH18="cc"),Edl!BH18<>""),1,"") | BR18: =IF(AND(OR(Edl!BI18<5,Edl!BI18="c",Edl!BI18="cc"),Edl!BI18<>""),1,"") | BS18: =IF(AND(OR(Edl!BJ18<5,Edl!BJ18="c",Edl!BJ18="cc"),Edl!BJ18<>""),1,"") | BT18: =IF(AND(OR(Edl!BK18<5,Edl!BK18="c",Edl!BK18="cc"),Edl!BK18<>""),1,"") | BU18: =IF(AND(OR(Edl!BL18<5,Edl!BL18="c",Edl!BL18="cc"),Edl!BL18<>""),1,"") | BV18: =SUM(BO18:BU18)/7*100 -> 0 | BW18: =IF(AND(OR(Edl!BM18<5,Edl!BM18="c",Edl!BM18="cc"),Edl!BM18<>""),1,"") | BX18: =IF(AND(OR(Edl!BN18<5,Edl!BN18="c",Edl!BN18="cc"),Edl!BN18<>""),1,"") | BY18: =IF(AND(OR(Edl!BO18<5,Edl!BO18="c",Edl!BO18="cc"),Edl!BO18<>""),1,"") | BZ18: =IF(AND(OR(Edl!BP18<5,Edl!BP18="c",Edl!BP18="cc"),Edl!BP18<>""),1,"") | CA18: =SUM(BW18:BZ18)/4*100 -> 0 | CB18: =IF(AND(OR(Edl!BQ18<5,Edl!BQ18="c",Edl!BQ18="cc"),Edl!BQ18<>""),1,"") | CC18: =IF(AND(OR(Edl!BR18<5,Edl!BR18="c",Edl!BR18="cc"),Edl!BR18<>""),1,"") | CD18: =IF(AND(OR(Edl!BS18<5,Edl!BS18="c",Edl!BS18="cc"),Edl!BS18<>""),1,"") | CE18: =IF(AND(OR(Edl!BT18<5,Edl!BT18="c",Edl!BT18="cc"),Edl!BT18<>""),1,"") | CF18: =IF(AND(OR(Edl!BU18<5,Edl!BU18="c",Edl!BU18="cc"),Edl!BU18<>""),1,"") | CG18: =IF(AND(OR(Edl!BV18<5,Edl!BV18="c",Edl!BV18="cc"),Edl!BV18<>""),1,"") | CH18: =IF(AND(OR(Edl!BW18<5,Edl!BW18="c",Edl!BW18="cc"),Edl!BW18<>""),1,"") | CI18: =IF(AND(OR(Edl!BX18<5,Edl!BX18="c",Edl!BX18="cc"),Edl!BX18<>""),1,"") | ... CL18: =IF(AND(OR(Edl!CA18<5,Edl!CA18="c",Edl!CA18="cc"),Edl!CA18<>""),1,"") | CM18: =SUM(CB18:CL18)/11*100 -> 0 | CN18: =IF(AND(OR(Edl!CB18<5,Edl!CB18="c",Edl!CB18="cc"),Edl!CB18<>""),1,"") | CO18: =IF(AND(OR(Edl!CC18<5,Edl!CC18="c",Edl!CC18="cc"),Edl!CC18<>""),1,"") | CP18: =IF(AND(OR(Edl!CD18<5,Edl!CD18="c",Edl!CD18="cc"),Edl!CD18<>""),1,"") | CQ18: =IF(AND(OR(Edl!CE18<5,Edl!CE18="c",Edl!CE18="cc"),Edl!CE18<>""),1,"") | CR18: =IF(AND(OR(Edl!CF18<5,Edl!CF18="c",Edl!CF18="cc"),Edl!CF18<>""),1,"") | CS18: =SUM(CN18:CR18)/5*100 -> 0 | CT18: =IF(AND(OR(Edl!CG18<5,Edl!CG18="c",Edl!CG18="cc"),Edl!CG18<>""),1,"") | CU18: =IF(AND(OR(Edl!CH18<5,Edl!CH18="c",Edl!CH18="cc"),Edl!CH18<>""),1,"") | CV18: =IF(AND(OR(Edl!CI18<5,Edl!CI18="c",Edl!CI18="cc"),Edl!CI18<>""),1,"") | CW18: =IF(AND(OR(Edl!CJ18<5,Edl!CJ18="c",Edl!CJ18="cc"),Edl!CJ18<>""),1,"") | CX18: =IF(AND(OR(Edl!CK18<5,Edl!CK18="c",Edl!CK18="cc"),Edl!CK18<>""),1,"") | CY18: =IF(AND(OR(Edl!CL18<5,Edl!CL18="c",Edl!CL18="cc"),Edl!CL18<>""),1,"") | CZ18: =SUM(CT18:CY18)/6*100 -> 0 | DA18: =IF(AND(OR(Edl!CM18<5,Edl!CM18="c",Edl!CM18="cc"),Edl!CM18<>""),1,"") | DB18: =IF(AND(OR(Edl!CN18<5,Edl!CN18="c",Edl!CN18="cc"),Edl!CN18<>""),1,"") | DC18: =IF(AND(OR(Edl!CO18<5,Edl!CO18="c",Edl!CO18="cc"),Edl!CO18<>""),1,"") | DD18: =IF(AND(OR(Edl!CP18<5,Edl!CP18="c",Edl!CP18="cc"),Edl!CP18<>""),1,"") | DE18: =IF(AND(OR(Edl!CQ18<5,Edl!CQ18="c",Edl!CQ18="cc"),Edl!CQ18<>""),1,"") | DF18: =SUM(DA18:DE18)/5*100 -> 0 | DG18: =IF(AND(OR(Edl!CR18<5,Edl!CR18="c",Edl!CR18="cc"),Edl!CR18<>""),1,"") | DH18: =IF(AND(OR(Edl!CS18<5,Edl!CS18="c",Edl!CS18="cc"),Edl!CS18<>""),1,"") | DI18: =IF(AND(OR(Edl!CT18<5,Edl!CT18="c",Edl!CT18="cc"),Edl!CT18<>""),1,"") | DJ18: =IF(AND(OR(Edl!CU18<5,Edl!CU18="c",Edl!CU18="cc"),Edl!CU18<>""),1,"") | DK18: =IF(AND(OR(Edl!CV18<5,Edl!CV18="c",Edl!CV18="cc"),Edl!CV18<>""),1,"") | DL18: =IF(AND(OR(Edl!CW18<5,Edl!CW18="c",Edl!CW18="cc"),Edl!CW18<>""),1,"") | DM18: =IF(AND(OR(Edl!CX18<5,Edl!CX18="c",Edl!CX18="cc"),Edl!CX18<>""),1,"") | DN18: =IF(AND(OR(Edl!CY18<5,Edl!CY18="c",Edl!CY18="cc"),Edl!CY18<>""),1,"") | ... DP18: =IF(AND(OR(Edl!DA18<5,Edl!DA18="c",Edl!DA18="cc"),Edl!DA18<>""),1,"") | DQ18: =SUM(DG18:DP19)/10*100 -> 0 | DR18: =IF(AND(OR(Edl!DB18<5,Edl!DB18="c",Edl!DB18="cc"),Edl!DB18<>""),1,"") | DS18: =IF(AND(OR(Edl!DC18<5,Edl!DC18="c",Edl!DC18="cc"),Edl!DC18<>""),1,"") | DT18: =IF(AND(OR(Edl!DD18<5,Edl!DD18="c",Edl!DD18="cc"),Edl!DD18<>""),1,"") | DU18: =IF(AND(OR(Edl!DE18<5,Edl!DE18="c",Edl!DE18="cc"),Edl!DE18<>""),1,"") | DV18: =IF(AND(OR(Edl!DF18<5,Edl!DF18="c",Edl!DF18="cc"),Edl!DF18<>""),1,"") | DW18: =IF(AND(OR(Edl!DG18<5,Edl!DG18="c",Edl!DG18="cc"),Edl!DG18<>""),1,"") | DX18: =IF(AND(OR(Edl!DH18<5,Edl!DH18="c",Edl!DH18="cc"),Edl!DH18<>""),1,"") | DY18: =IF(AND(OR(Edl!DI18<5,Edl!DI18="c",Edl!DI18="cc"),Edl!DI18<>""),1,"") | ... EC18: =IF(AND(OR(Edl!DM18<5,Edl!DM18="c",Edl!DM18="cc"),Edl!DM18<>""),1,"") | ED18: =SUM(DR18:EC18)/12*100 -> 0
A19: Hannah | B19: =IF(AND(OR(Edl!B19<5,Edl!B19="c",Edl!B19="cc"),Edl!B19<>""),1,"") | C19: =IF(AND(OR(Edl!C19<5,Edl!C19="c",Edl!C19="cc"),Edl!C19<>""),1,"") | D19: =IF(AND(OR(Edl!D19<5,Edl!D19="c",Edl!D19="cc"),Edl!D19<>""),1,"") | E19: =IF(AND(OR(Edl!E19<5,Edl!E19="c",Edl!E19="cc"),Edl!E19<>""),1,"") | F19: =IF(AND(OR(Edl!F19<5,Edl!F19="c",Edl!F19="cc"),Edl!F19<>""),1,"") | G19: =IF(AND(OR(Edl!G19<5,Edl!G19="c",Edl!G19="cc"),Edl!G19<>""),1,"") | H19: =IF(AND(OR(Edl!H19<5,Edl!H19="c",Edl!H19="cc"),Edl!H19<>""),1,"") | I19: =IF(AND(OR(Edl!I19<5,Edl!I19="c",Edl!I19="cc"),Edl!I19<>""),1,"") | J19: =SUM(B19:I19)/8*100 -> 0 | K19: =IF(AND(OR(Edl!J19<5,Edl!J19="c",Edl!J19="cc"),Edl!J19<>""),1,"") | L19: =IF(AND(OR(Edl!K19<5,Edl!K19="c",Edl!K19="cc"),Edl!K19<>""),1,"") | M19: =IF(AND(OR(Edl!L19<5,Edl!L19="c",Edl!L19="cc"),Edl!L19<>""),1,"") | N19: =IF(AND(OR(Edl!M19<5,Edl!M19="c",Edl!M19="cc"),Edl!M19<>""),1,"") | O19: =IF(AND(OR(Edl!N19<5,Edl!N19="c",Edl!N19="cc"),Edl!N19<>""),1,"") | P19: =IF(AND(OR(Edl!O19<5,Edl!O19="c",Edl!O19="cc"),Edl!O19<>""),1,"") | Q19: =IF(AND(OR(Edl!P19<5,Edl!P19="c",Edl!P19="cc"),Edl!P19<>""),1,"") | R19: =SUM(K19:Q19)/7*100 -> 0 | S19: =IF(AND(OR(Edl!Q19<5,Edl!Q19="c",Edl!Q19="cc"),Edl!Q19<>""),1,"") | T19: =IF(AND(OR(Edl!R19<5,Edl!R19="c",Edl!R19="cc"),Edl!R19<>""),1,"") | U19: =IF(AND(OR(Edl!S19<5,Edl!S19="c",Edl!S19="cc"),Edl!S19<>""),1,"") | V19: =IF(AND(OR(Edl!T19<5,Edl!T19="c",Edl!T19="cc"),Edl!T19<>""),1,"") | W19: =IF(AND(OR(Edl!U19<5,Edl!U19="c",Edl!U19="cc"),Edl!U19<>""),1,"") | X19: =IF(AND(OR(Edl!V19<5,Edl!V19="c",Edl!V19="cc"),Edl!V19<>""),1,"") | Y19: =IF(AND(OR(Edl!W19<5,Edl!W19="c",Edl!W19="cc"),Edl!W19<>""),1,"") | Z19: =IF(AND(OR(Edl!X19<5,Edl!X19="c",Edl!X19="cc"),Edl!X19<>""),1,"") | ... AB19: =IF(AND(OR(Edl!Z19<5,Edl!Z19="c",Edl!Z19="cc"),Edl!Z19<>""),1,"") | AC19: =SUM(S19:AB19)/10*100 -> 0 | AD19: =IF(AND(OR(Edl!AA19<5,Edl!AA19="c",Edl!AA19="cc"),Edl!AA19<>""),1,"") | AE19: =IF(AND(OR(Edl!AB19<5,Edl!AB19="c",Edl!AB19="cc"),Edl!AB19<>""),1,"") | AF19: =IF(AND(OR(Edl!AC19<5,Edl!AC19="c",Edl!AC19="cc"),Edl!AC19<>""),1,"") | AG19: =IF(AND(OR(Edl!AD19<5,Edl!AD19="c",Edl!AD19="cc"),Edl!AD19<>""),1,"") | AH19: =IF(AND(OR(Edl!AE19<5,Edl!AE19="c",Edl!AE19="cc"),Edl!AE19<>""),1,"") | AI19: =IF(AND(OR(Edl!AF19<5,Edl!AF19="c",Edl!AF19="cc"),Edl!AF19<>""),1,"") | AJ19: =IF(AND(OR(Edl!AG19<5,Edl!AG19="c",Edl!AG19="cc"),Edl!AG19<>""),1,"") | AK19: =IF(AND(OR(Edl!AH19<5,Edl!AH19="c",Edl!AH19="cc"),Edl!AH19<>""),1,"") | AL19: =SUM(AD19:AK19)/8*100 -> 0 | AM19: =IF(AND(OR(Edl!AI19<5,Edl!AI19="c",Edl!AI19="cc"),Edl!AI19<>""),1,"") | AN19: =IF(AND(OR(Edl!AJ19<5,Edl!AJ19="c",Edl!AJ19="cc"),Edl!AJ19<>""),1,"") | AO19: =IF(AND(OR(Edl!AK19<5,Edl!AK19="c",Edl!AK19="cc"),Edl!AK19<>""),1,"") | AP19: =IF(AND(OR(Edl!AL19<5,Edl!AL19="c",Edl!AL19="cc"),Edl!AL19<>""),1,"") | AQ19: =IF(AND(OR(Edl!AM19<5,Edl!AM19="c",Edl!AM19="cc"),Edl!AM19<>""),1,"") | AR19: =SUM(AM19:AQ19)/5*100 -> 0 | AS19: =IF(AND(OR(Edl!AN19<5,Edl!AN19="c",Edl!AN19="cc"),Edl!AN19<>""),1,"") | AT19: =IF(AND(OR(Edl!AO19<5,Edl!AO19="c",Edl!AO19="cc"),Edl!AO19<>""),1,"") | AU19: =IF(AND(OR(Edl!AP19<5,Edl!AP19="c",Edl!AP19="cc"),Edl!AP19<>""),1,"") | AV19: =IF(AND(OR(Edl!AQ19<5,Edl!AQ19="c",Edl!AQ19="cc"),Edl!AQ19<>""),1,"") | AW19: =SUM(AS19:AV19)/4*100 -> 0 | AX19: =IF(AND(OR(Edl!AR19<5,Edl!AR19="c",Edl!AR19="cc"),Edl!AR19<>""),1,"") | AY19: =IF(AND(OR(Edl!AS19<5,Edl!AS19="c",Edl!AS19="cc"),Edl!AS19<>""),1,"") | AZ19: =IF(AND(OR(Edl!AT19<5,Edl!AT19="c",Edl!AT19="cc"),Edl!AT19<>""),1,"") | BA19: =IF(AND(OR(Edl!AU19<5,Edl!AU19="c",Edl!AU19="cc"),Edl!AU19<>""),1,"") | BB19: =IF(AND(OR(Edl!AV19<5,Edl!AV19="c",Edl!AV19="cc"),Edl!AV19<>""),1,"") | BC19: =SUM(AX19:BB19)/5*100 -> 0 | BD19: =IF(AND(OR(Edl!AW19<5,Edl!AW19="c",Edl!AW19="cc"),Edl!AW19<>""),1,"") | BE19: =IF(AND(OR(Edl!AX19<5,Edl!AX19="c",Edl!AX19="cc"),Edl!AX19<>""),1,"") | BF19: =IF(AND(OR(Edl!AY19<5,Edl!AY19="c",Edl!AY19="cc"),Edl!AY19<>""),1,"") | BG19: =IF(AND(OR(Edl!AZ19<5,Edl!AZ19="c",Edl!AZ19="cc"),Edl!AZ19<>""),1,"") | BH19: =SUM(BD19:BG19)/4*100 -> 0 | BI19: =IF(AND(OR(Edl!BA19<5,Edl!BA19="c",Edl!BA19="cc"),Edl!BA19<>""),1,"") | BJ19: =IF(AND(OR(Edl!BB19<5,Edl!BB19="c",Edl!BB19="cc"),Edl!BB19<>""),1,"") | BK19: =IF(AND(OR(Edl!BC19<5,Edl!BC19="c",Edl!BC19="cc"),Edl!BC19<>""),1,"") | BL19: =IF(AND(OR(Edl!BD19<5,Edl!BD19="c",Edl!BD19="cc"),Edl!BD19<>""),1,"") | BM19: =IF(AND(OR(Edl!BE19<5,Edl!BE19="c",Edl!BE19="cc"),Edl!BE19<>""),1,"") | BN19: =SUM(BI19:BM19)/5*100 -> 0 | BO19: =IF(AND(OR(Edl!BF19<5,Edl!BF19="c",Edl!BF19="cc"),Edl!BF19<>""),1,"") | BP19: =IF(AND(OR(Edl!BG19<5,Edl!BG19="c",Edl!BG19="cc"),Edl!BG19<>""),1,"") | BQ19: =IF(AND(OR(Edl!BH19<5,Edl!BH19="c",Edl!BH19="cc"),Edl!BH19<>""),1,"") | BR19: =IF(AND(OR(Edl!BI19<5,Edl!BI19="c",Edl!BI19="cc"),Edl!BI19<>""),1,"") | BS19: =IF(AND(OR(Edl!BJ19<5,Edl!BJ19="c",Edl!BJ19="cc"),Edl!BJ19<>""),1,"") | BT19: =IF(AND(OR(Edl!BK19<5,Edl!BK19="c",Edl!BK19="cc"),Edl!BK19<>""),1,"") | BU19: =IF(AND(OR(Edl!BL19<5,Edl!BL19="c",Edl!BL19="cc"),Edl!BL19<>""),1,"") | BV19: =SUM(BO19:BU19)/7*100 -> 0 | BW19: =IF(AND(OR(Edl!BM19<5,Edl!BM19="c",Edl!BM19="cc"),Edl!BM19<>""),1,"") | BX19: =IF(AND(OR(Edl!BN19<5,Edl!BN19="c",Edl!BN19="cc"),Edl!BN19<>""),1,"") | BY19: =IF(AND(OR(Edl!BO19<5,Edl!BO19="c",Edl!BO19="cc"),Edl!BO19<>""),1,"") | BZ19: =IF(AND(OR(Edl!BP19<5,Edl!BP19="c",Edl!BP19="cc"),Edl!BP19<>""),1,"") | CA19: =SUM(BW19:BZ19)/4*100 -> 0 | CB19: =IF(AND(OR(Edl!BQ19<5,Edl!BQ19="c",Edl!BQ19="cc"),Edl!BQ19<>""),1,"") | CC19: =IF(AND(OR(Edl!BR19<5,Edl!BR19="c",Edl!BR19="cc"),Edl!BR19<>""),1,"") | CD19: =IF(AND(OR(Edl!BS19<5,Edl!BS19="c",Edl!BS19="cc"),Edl!BS19<>""),1,"") | CE19: =IF(AND(OR(Edl!BT19<5,Edl!BT19="c",Edl!BT19="cc"),Edl!BT19<>""),1,"") | CF19: =IF(AND(OR(Edl!BU19<5,Edl!BU19="c",Edl!BU19="cc"),Edl!BU19<>""),1,"") | CG19: =IF(AND(OR(Edl!BV19<5,Edl!BV19="c",Edl!BV19="cc"),Edl!BV19<>""),1,"") | CH19: =IF(AND(OR(Edl!BW19<5,Edl!BW19="c",Edl!BW19="cc"),Edl!BW19<>""),1,"") | CI19: =IF(AND(OR(Edl!BX19<5,Edl!BX19="c",Edl!BX19="cc"),Edl!BX19<>""),1,"") | ... CL19: =IF(AND(OR(Edl!CA19<5,Edl!CA19="c",Edl!CA19="cc"),Edl!CA19<>""),1,"") | CM19: =SUM(CB19:CL19)/11*100 -> 0 | CN19: =IF(AND(OR(Edl!CB19<5,Edl!CB19="c",Edl!CB19="cc"),Edl!CB19<>""),1,"") | CO19: =IF(AND(OR(Edl!CC19<5,Edl!CC19="c",Edl!CC19="cc"),Edl!CC19<>""),1,"") | CP19: =IF(AND(OR(Edl!CD19<5,Edl!CD19="c",Edl!CD19="cc"),Edl!CD19<>""),1,"") | CQ19: =IF(AND(OR(Edl!CE19<5,Edl!CE19="c",Edl!CE19="cc"),Edl!CE19<>""),1,"") | CR19: =IF(AND(OR(Edl!CF19<5,Edl!CF19="c",Edl!CF19="cc"),Edl!CF19<>""),1,"") | CS19: =SUM(CN19:CR19)/5*100 -> 0 | CT19: =IF(AND(OR(Edl!CG19<5,Edl!CG19="c",Edl!CG19="cc"),Edl!CG19<>""),1,"") | CU19: =IF(AND(OR(Edl!CH19<5,Edl!CH19="c",Edl!CH19="cc"),Edl!CH19<>""),1,"") | CV19: =IF(AND(OR(Edl!CI19<5,Edl!CI19="c",Edl!CI19="cc"),Edl!CI19<>""),1,"") | CW19: =IF(AND(OR(Edl!CJ19<5,Edl!CJ19="c",Edl!CJ19="cc"),Edl!CJ19<>""),1,"") | CX19: =IF(AND(OR(Edl!CK19<5,Edl!CK19="c",Edl!CK19="cc"),Edl!CK19<>""),1,"") | CY19: =IF(AND(OR(Edl!CL19<5,Edl!CL19="c",Edl!CL19="cc"),Edl!CL19<>""),1,"") | CZ19: =SUM(CT19:CY19)/6*100 -> 0 | DA19: =IF(AND(OR(Edl!CM19<5,Edl!CM19="c",Edl!CM19="cc"),Edl!CM19<>""),1,"") | DB19: =IF(AND(OR(Edl!CN19<5,Edl!CN19="c",Edl!CN19="cc"),Edl!CN19<>""),1,"") | DC19: =IF(AND(OR(Edl!CO19<5,Edl!CO19="c",Edl!CO19="cc"),Edl!CO19<>""),1,"") | DD19: =IF(AND(OR(Edl!CP19<5,Edl!CP19="c",Edl!CP19="cc"),Edl!CP19<>""),1,"") | DE19: =IF(AND(OR(Edl!CQ19<5,Edl!CQ19="c",Edl!CQ19="cc"),Edl!CQ19<>""),1,"") | DF19: =SUM(DA19:DE19)/5*100 -> 0 | DG19: =IF(AND(OR(Edl!CR19<5,Edl!CR19="c",Edl!CR19="cc"),Edl!CR19<>""),1,"") | DH19: =IF(AND(OR(Edl!CS19<5,Edl!CS19="c",Edl!CS19="cc"),Edl!CS19<>""),1,"") | DI19: =IF(AND(OR(Edl!CT19<5,Edl!CT19="c",Edl!CT19="cc"),Edl!CT19<>""),1,"") | DJ19: =IF(AND(OR(Edl!CU19<5,Edl!CU19="c",Edl!CU19="cc"),Edl!CU19<>""),1,"") | DK19: =IF(AND(OR(Edl!CV19<5,Edl!CV19="c",Edl!CV19="cc"),Edl!CV19<>""),1,"") | DL19: =IF(AND(OR(Edl!CW19<5,Edl!CW19="c",Edl!CW19="cc"),Edl!CW19<>""),1,"") | DM19: =IF(AND(OR(Edl!CX19<5,Edl!CX19="c",Edl!CX19="cc"),Edl!CX19<>""),1,"") | DN19: =IF(AND(OR(Edl!CY19<5,Edl!CY19="c",Edl!CY19="cc"),Edl!CY19<>""),1,"") | ... DP19: =IF(AND(OR(Edl!DA19<5,Edl!DA19="c",Edl!DA19="cc"),Edl!DA19<>""),1,"") | DQ19: =SUM(DG19:DP20)/10*100 -> 0 | DR19: =IF(AND(OR(Edl!DB19<5,Edl!DB19="c",Edl!DB19="cc"),Edl!DB19<>""),1,"") | DS19: =IF(AND(OR(Edl!DC19<5,Edl!DC19="c",Edl!DC19="cc"),Edl!DC19<>""),1,"") | DT19: =IF(AND(OR(Edl!DD19<5,Edl!DD19="c",Edl!DD19="cc"),Edl!DD19<>""),1,"") | DU19: =IF(AND(OR(Edl!DE19<5,Edl!DE19="c",Edl!DE19="cc"),Edl!DE19<>""),1,"") | DV19: =IF(AND(OR(Edl!DF19<5,Edl!DF19="c",Edl!DF19="cc"),Edl!DF19<>""),1,"") | DW19: =IF(AND(OR(Edl!DG19<5,Edl!DG19="c",Edl!DG19="cc"),Edl!DG19<>""),1,"") | DX19: =IF(AND(OR(Edl!DH19<5,Edl!DH19="c",Edl!DH19="cc"),Edl!DH19<>""),1,"") | DY19: =IF(AND(OR(Edl!DI19<5,Edl!DI19="c",Edl!DI19="cc"),Edl!DI19<>""),1,"") | ... EC19: =IF(AND(OR(Edl!DM19<5,Edl!DM19="c",Edl!DM19="cc"),Edl!DM19<>""),1,"") | ED19: =SUM(DR19:EC19)/12*100 -> 0
A20: Léa | B20: =IF(AND(OR(Edl!B20<5,Edl!B20="c",Edl!B20="cc"),Edl!B20<>""),1,"") | C20: =IF(AND(OR(Edl!C20<5,Edl!C20="c",Edl!C20="cc"),Edl!C20<>""),1,"") | D20: =IF(AND(OR(Edl!D20<5,Edl!D20="c",Edl!D20="cc"),Edl!D20<>""),1,"") | E20: =IF(AND(OR(Edl!E20<5,Edl!E20="c",Edl!E20="cc"),Edl!E20<>""),1,"") | F20: =IF(AND(OR(Edl!F20<5,Edl!F20="c",Edl!F20="cc"),Edl!F20<>""),1,"") | G20: =IF(AND(OR(Edl!G20<5,Edl!G20="c",Edl!G20="cc"),Edl!G20<>""),1,"") | H20: =IF(AND(OR(Edl!H20<5,Edl!H20="c",Edl!H20="cc"),Edl!H20<>""),1,"") | I20: =IF(AND(OR(Edl!I20<5,Edl!I20="c",Edl!I20="cc"),Edl!I20<>""),1,"") | J20: =SUM(B20:I20)/8*100 -> 0 | K20: =IF(AND(OR(Edl!J20<5,Edl!J20="c",Edl!J20="cc"),Edl!J20<>""),1,"") | L20: =IF(AND(OR(Edl!K20<5,Edl!K20="c",Edl!K20="cc"),Edl!K20<>""),1,"") | M20: =IF(AND(OR(Edl!L20<5,Edl!L20="c",Edl!L20="cc"),Edl!L20<>""),1,"") | N20: =IF(AND(OR(Edl!M20<5,Edl!M20="c",Edl!M20="cc"),Edl!M20<>""),1,"") | O20: =IF(AND(OR(Edl!N20<5,Edl!N20="c",Edl!N20="cc"),Edl!N20<>""),1,"") | P20: =IF(AND(OR(Edl!O20<5,Edl!O20="c",Edl!O20="cc"),Edl!O20<>""),1,"") | Q20: =IF(AND(OR(Edl!P20<5,Edl!P20="c",Edl!P20="cc"),Edl!P20<>""),1,"") | R20: =SUM(K20:Q20)/7*100 -> 0 | S20: =IF(AND(OR(Edl!Q20<5,Edl!Q20="c",Edl!Q20="cc"),Edl!Q20<>""),1,"") | T20: =IF(AND(OR(Edl!R20<5,Edl!R20="c",Edl!R20="cc"),Edl!R20<>""),1,"") | U20: =IF(AND(OR(Edl!S20<5,Edl!S20="c",Edl!S20="cc"),Edl!S20<>""),1,"") | V20: =IF(AND(OR(Edl!T20<5,Edl!T20="c",Edl!T20="cc"),Edl!T20<>""),1,"") | W20: =IF(AND(OR(Edl!U20<5,Edl!U20="c",Edl!U20="cc"),Edl!U20<>""),1,"") | X20: =IF(AND(OR(Edl!V20<5,Edl!V20="c",Edl!V20="cc"),Edl!V20<>""),1,"") | Y20: =IF(AND(OR(Edl!W20<5,Edl!W20="c",Edl!W20="cc"),Edl!W20<>""),1,"") | Z20: =IF(AND(OR(Edl!X20<5,Edl!X20="c",Edl!X20="cc"),Edl!X20<>""),1,"") | ... AB20: =IF(AND(OR(Edl!Z20<5,Edl!Z20="c",Edl!Z20="cc"),Edl!Z20<>""),1,"") | AC20: =SUM(S20:AB20)/10*100 -> 0 | AD20: =IF(AND(OR(Edl!AA20<5,Edl!AA20="c",Edl!AA20="cc"),Edl!AA20<>""),1,"") | AE20: =IF(AND(OR(Edl!AB20<5,Edl!AB20="c",Edl!AB20="cc"),Edl!AB20<>""),1,"") | AF20: =IF(AND(OR(Edl!AC20<5,Edl!AC20="c",Edl!AC20="cc"),Edl!AC20<>""),1,"") | AG20: =IF(AND(OR(Edl!AD20<5,Edl!AD20="c",Edl!AD20="cc"),Edl!AD20<>""),1,"") | AH20: =IF(AND(OR(Edl!AE20<5,Edl!AE20="c",Edl!AE20="cc"),Edl!AE20<>""),1,"") | AI20: =IF(AND(OR(Edl!AF20<5,Edl!AF20="c",Edl!AF20="cc"),Edl!AF20<>""),1,"") | AJ20: =IF(AND(OR(Edl!AG20<5,Edl!AG20="c",Edl!AG20="cc"),Edl!AG20<>""),1,"") | AK20: =IF(AND(OR(Edl!AH20<5,Edl!AH20="c",Edl!AH20="cc"),Edl!AH20<>""),1,"") | AL20: =SUM(AD20:AK20)/8*100 -> 0 | AM20: =IF(AND(OR(Edl!AI20<5,Edl!AI20="c",Edl!AI20="cc"),Edl!AI20<>""),1,"") | AN20: =IF(AND(OR(Edl!AJ20<5,Edl!AJ20="c",Edl!AJ20="cc"),Edl!AJ20<>""),1,"") | AO20: =IF(AND(OR(Edl!AK20<5,Edl!AK20="c",Edl!AK20="cc"),Edl!AK20<>""),1,"") | AP20: =IF(AND(OR(Edl!AL20<5,Edl!AL20="c",Edl!AL20="cc"),Edl!AL20<>""),1,"") | AQ20: =IF(AND(OR(Edl!AM20<5,Edl!AM20="c",Edl!AM20="cc"),Edl!AM20<>""),1,"") | AR20: =SUM(AM20:AQ20)/5*100 -> 0 | AS20: =IF(AND(OR(Edl!AN20<5,Edl!AN20="c",Edl!AN20="cc"),Edl!AN20<>""),1,"") | AT20: =IF(AND(OR(Edl!AO20<5,Edl!AO20="c",Edl!AO20="cc"),Edl!AO20<>""),1,"") | AU20: =IF(AND(OR(Edl!AP20<5,Edl!AP20="c",Edl!AP20="cc"),Edl!AP20<>""),1,"") | AV20: =IF(AND(OR(Edl!AQ20<5,Edl!AQ20="c",Edl!AQ20="cc"),Edl!AQ20<>""),1,"") | AW20: =SUM(AS20:AV20)/4*100 -> 0 | AX20: =IF(AND(OR(Edl!AR20<5,Edl!AR20="c",Edl!AR20="cc"),Edl!AR20<>""),1,"") | AY20: =IF(AND(OR(Edl!AS20<5,Edl!AS20="c",Edl!AS20="cc"),Edl!AS20<>""),1,"") | AZ20: =IF(AND(OR(Edl!AT20<5,Edl!AT20="c",Edl!AT20="cc"),Edl!AT20<>""),1,"") | BA20: =IF(AND(OR(Edl!AU20<5,Edl!AU20="c",Edl!AU20="cc"),Edl!AU20<>""),1,"") | BB20: =IF(AND(OR(Edl!AV20<5,Edl!AV20="c",Edl!AV20="cc"),Edl!AV20<>""),1,"") | BC20: =SUM(AX20:BB20)/5*100 -> 0 | BD20: =IF(AND(OR(Edl!AW20<5,Edl!AW20="c",Edl!AW20="cc"),Edl!AW20<>""),1,"") | BE20: =IF(AND(OR(Edl!AX20<5,Edl!AX20="c",Edl!AX20="cc"),Edl!AX20<>""),1,"") | BF20: =IF(AND(OR(Edl!AY20<5,Edl!AY20="c",Edl!AY20="cc"),Edl!AY20<>""),1,"") | BG20: =IF(AND(OR(Edl!AZ20<5,Edl!AZ20="c",Edl!AZ20="cc"),Edl!AZ20<>""),1,"") | BH20: =SUM(BD20:BG20)/4*100 -> 0 | BI20: =IF(AND(OR(Edl!BA20<5,Edl!BA20="c",Edl!BA20="cc"),Edl!BA20<>""),1,"") | BJ20: =IF(AND(OR(Edl!BB20<5,Edl!BB20="c",Edl!BB20="cc"),Edl!BB20<>""),1,"") | BK20: =IF(AND(OR(Edl!BC20<5,Edl!BC20="c",Edl!BC20="cc"),Edl!BC20<>""),1,"") | BL20: =IF(AND(OR(Edl!BD20<5,Edl!BD20="c",Edl!BD20="cc"),Edl!BD20<>""),1,"") | BM20: =IF(AND(OR(Edl!BE20<5,Edl!BE20="c",Edl!BE20="cc"),Edl!BE20<>""),1,"") | BN20: =SUM(BI20:BM20)/5*100 -> 0 | BO20: =IF(AND(OR(Edl!BF20<5,Edl!BF20="c",Edl!BF20="cc"),Edl!BF20<>""),1,"") | BP20: =IF(AND(OR(Edl!BG20<5,Edl!BG20="c",Edl!BG20="cc"),Edl!BG20<>""),1,"") | BQ20: =IF(AND(OR(Edl!BH20<5,Edl!BH20="c",Edl!BH20="cc"),Edl!BH20<>""),1,"") | BR20: =IF(AND(OR(Edl!BI20<5,Edl!BI20="c",Edl!BI20="cc"),Edl!BI20<>""),1,"") | BS20: =IF(AND(OR(Edl!BJ20<5,Edl!BJ20="c",Edl!BJ20="cc"),Edl!BJ20<>""),1,"") | BT20: =IF(AND(OR(Edl!BK20<5,Edl!BK20="c",Edl!BK20="cc"),Edl!BK20<>""),1,"") | BU20: =IF(AND(OR(Edl!BL20<5,Edl!BL20="c",Edl!BL20="cc"),Edl!BL20<>""),1,"") | BV20: =SUM(BO20:BU20)/7*100 -> 0 | BW20: =IF(AND(OR(Edl!BM20<5,Edl!BM20="c",Edl!BM20="cc"),Edl!BM20<>""),1,"") | BX20: =IF(AND(OR(Edl!BN20<5,Edl!BN20="c",Edl!BN20="cc"),Edl!BN20<>""),1,"") | BY20: =IF(AND(OR(Edl!BO20<5,Edl!BO20="c",Edl!BO20="cc"),Edl!BO20<>""),1,"") | BZ20: =IF(AND(OR(Edl!BP20<5,Edl!BP20="c",Edl!BP20="cc"),Edl!BP20<>""),1,"") | CA20: =SUM(BW20:BZ20)/4*100 -> 0 | CB20: =IF(AND(OR(Edl!BQ20<5,Edl!BQ20="c",Edl!BQ20="cc"),Edl!BQ20<>""),1,"") | CC20: =IF(AND(OR(Edl!BR20<5,Edl!BR20="c",Edl!BR20="cc"),Edl!BR20<>""),1,"") | CD20: =IF(AND(OR(Edl!BS20<5,Edl!BS20="c",Edl!BS20="cc"),Edl!BS20<>""),1,"") | CE20: =IF(AND(OR(Edl!BT20<5,Edl!BT20="c",Edl!BT20="cc"),Edl!BT20<>""),1,"") | CF20: =IF(AND(OR(Edl!BU20<5,Edl!BU20="c",Edl!BU20="cc"),Edl!BU20<>""),1,"") | CG20: =IF(AND(OR(Edl!BV20<5,Edl!BV20="c",Edl!BV20="cc"),Edl!BV20<>""),1,"") | CH20: =IF(AND(OR(Edl!BW20<5,Edl!BW20="c",Edl!BW20="cc"),Edl!BW20<>""),1,"") | CI20: =IF(AND(OR(Edl!BX20<5,Edl!BX20="c",Edl!BX20="cc"),Edl!BX20<>""),1,"") | ... CL20: =IF(AND(OR(Edl!CA20<5,Edl!CA20="c",Edl!CA20="cc"),Edl!CA20<>""),1,"") | CM20: =SUM(CB20:CL20)/11*100 -> 0 | CN20: =IF(AND(OR(Edl!CB20<5,Edl!CB20="c",Edl!CB20="cc"),Edl!CB20<>""),1,"") | CO20: =IF(AND(OR(Edl!CC20<5,Edl!CC20="c",Edl!CC20="cc"),Edl!CC20<>""),1,"") | CP20: =IF(AND(OR(Edl!CD20<5,Edl!CD20="c",Edl!CD20="cc"),Edl!CD20<>""),1,"") | CQ20: =IF(AND(OR(Edl!CE20<5,Edl!CE20="c",Edl!CE20="cc"),Edl!CE20<>""),1,"") | CR20: =IF(AND(OR(Edl!CF20<5,Edl!CF20="c",Edl!CF20="cc"),Edl!CF20<>""),1,"") | CS20: =SUM(CN20:CR20)/5*100 -> 0 | CT20: =IF(AND(OR(Edl!CG20<5,Edl!CG20="c",Edl!CG20="cc"),Edl!CG20<>""),1,"") | CU20: =IF(AND(OR(Edl!CH20<5,Edl!CH20="c",Edl!CH20="cc"),Edl!CH20<>""),1,"") | CV20: =IF(AND(OR(Edl!CI20<5,Edl!CI20="c",Edl!CI20="cc"),Edl!CI20<>""),1,"") | CW20: =IF(AND(OR(Edl!CJ20<5,Edl!CJ20="c",Edl!CJ20="cc"),Edl!CJ20<>""),1,"") | CX20: =IF(AND(OR(Edl!CK20<5,Edl!CK20="c",Edl!CK20="cc"),Edl!CK20<>""),1,"") | CY20: =IF(AND(OR(Edl!CL20<5,Edl!CL20="c",Edl!CL20="cc"),Edl!CL20<>""),1,"") | CZ20: =SUM(CT20:CY20)/6*100 -> 0 | DA20: =IF(AND(OR(Edl!CM20<5,Edl!CM20="c",Edl!CM20="cc"),Edl!CM20<>""),1,"") | DB20: =IF(AND(OR(Edl!CN20<5,Edl!CN20="c",Edl!CN20="cc"),Edl!CN20<>""),1,"") | DC20: =IF(AND(OR(Edl!CO20<5,Edl!CO20="c",Edl!CO20="cc"),Edl!CO20<>""),1,"") | DD20: =IF(AND(OR(Edl!CP20<5,Edl!CP20="c",Edl!CP20="cc"),Edl!CP20<>""),1,"") | DE20: =IF(AND(OR(Edl!CQ20<5,Edl!CQ20="c",Edl!CQ20="cc"),Edl!CQ20<>""),1,"") | DF20: =SUM(DA20:DE20)/5*100 -> 0 | DG20: =IF(AND(OR(Edl!CR20<5,Edl!CR20="c",Edl!CR20="cc"),Edl!CR20<>""),1,"") | DH20: =IF(AND(OR(Edl!CS20<5,Edl!CS20="c",Edl!CS20="cc"),Edl!CS20<>""),1,"") | DI20: =IF(AND(OR(Edl!CT20<5,Edl!CT20="c",Edl!CT20="cc"),Edl!CT20<>""),1,"") | DJ20: =IF(AND(OR(Edl!CU20<5,Edl!CU20="c",Edl!CU20="cc"),Edl!CU20<>""),1,"") | DK20: =IF(AND(OR(Edl!CV20<5,Edl!CV20="c",Edl!CV20="cc"),Edl!CV20<>""),1,"") | DL20: =IF(AND(OR(Edl!CW20<5,Edl!CW20="c",Edl!CW20="cc"),Edl!CW20<>""),1,"") | DM20: =IF(AND(OR(Edl!CX20<5,Edl!CX20="c",Edl!CX20="cc"),Edl!CX20<>""),1,"") | DN20: =IF(AND(OR(Edl!CY20<5,Edl!CY20="c",Edl!CY20="cc"),Edl!CY20<>""),1,"") | ... DP20: =IF(AND(OR(Edl!DA20<5,Edl!DA20="c",Edl!DA20="cc"),Edl!DA20<>""),1,"") | DQ20: =SUM(DG20:DP21)/10*100 -> 0 | DR20: =IF(AND(OR(Edl!DB20<5,Edl!DB20="c",Edl!DB20="cc"),Edl!DB20<>""),1,"") | DS20: =IF(AND(OR(Edl!DC20<5,Edl!DC20="c",Edl!DC20="cc"),Edl!DC20<>""),1,"") | DT20: =IF(AND(OR(Edl!DD20<5,Edl!DD20="c",Edl!DD20="cc"),Edl!DD20<>""),1,"") | DU20: =IF(AND(OR(Edl!DE20<5,Edl!DE20="c",Edl!DE20="cc"),Edl!DE20<>""),1,"") | DV20: =IF(AND(OR(Edl!DF20<5,Edl!DF20="c",Edl!DF20="cc"),Edl!DF20<>""),1,"") | DW20: =IF(AND(OR(Edl!DG20<5,Edl!DG20="c",Edl!DG20="cc"),Edl!DG20<>""),1,"") | DX20: =IF(AND(OR(Edl!DH20<5,Edl!DH20="c",Edl!DH20="cc"),Edl!DH20<>""),1,"") | DY20: =IF(AND(OR(Edl!DI20<5,Edl!DI20="c",Edl!DI20="cc"),Edl!DI20<>""),1,"") | ... EC20: =IF(AND(OR(Edl!DM20<5,Edl!DM20="c",Edl!DM20="cc"),Edl!DM20<>""),1,"") | ED20: =SUM(DR20:EC20)/12*100 -> 0
A21: Nathan G | B21: =IF(AND(OR(Edl!B21<5,Edl!B21="c",Edl!B21="cc"),Edl!B21<>""),1,"") | C21: =IF(AND(OR(Edl!C21<5,Edl!C21="c",Edl!C21="cc"),Edl!C21<>""),1,"") | D21: =IF(AND(OR(Edl!D21<5,Edl!D21="c",Edl!D21="cc"),Edl!D21<>""),1,"") | E21: =IF(AND(OR(Edl!E21<5,Edl!E21="c",Edl!E21="cc"),Edl!E21<>""),1,"") | F21: =IF(AND(OR(Edl!F21<5,Edl!F21="c",Edl!F21="cc"),Edl!F21<>""),1,"") | G21: =IF(AND(OR(Edl!G21<5,Edl!G21="c",Edl!G21="cc"),Edl!G21<>""),1,"") | H21: =IF(AND(OR(Edl!H21<5,Edl!H21="c",Edl!H21="cc"),Edl!H21<>""),1,"") | I21: =IF(AND(OR(Edl!I21<5,Edl!I21="c",Edl!I21="cc"),Edl!I21<>""),1,"") | J21: =SUM(B21:I21)/8*100 -> 0 | K21: =IF(AND(OR(Edl!J21<5,Edl!J21="c",Edl!J21="cc"),Edl!J21<>""),1,"") | L21: =IF(AND(OR(Edl!K21<5,Edl!K21="c",Edl!K21="cc"),Edl!K21<>""),1,"") | M21: =IF(AND(OR(Edl!L21<5,Edl!L21="c",Edl!L21="cc"),Edl!L21<>""),1,"") | N21: =IF(AND(OR(Edl!M21<5,Edl!M21="c",Edl!M21="cc"),Edl!M21<>""),1,"") | O21: =IF(AND(OR(Edl!N21<5,Edl!N21="c",Edl!N21="cc"),Edl!N21<>""),1,"") | P21: =IF(AND(OR(Edl!O21<5,Edl!O21="c",Edl!O21="cc"),Edl!O21<>""),1,"") | Q21: =IF(AND(OR(Edl!P21<5,Edl!P21="c",Edl!P21="cc"),Edl!P21<>""),1,"") | R21: =SUM(K21:Q21)/7*100 -> 0 | S21: =IF(AND(OR(Edl!Q21<5,Edl!Q21="c",Edl!Q21="cc"),Edl!Q21<>""),1,"") | T21: =IF(AND(OR(Edl!R21<5,Edl!R21="c",Edl!R21="cc"),Edl!R21<>""),1,"") | U21: =IF(AND(OR(Edl!S21<5,Edl!S21="c",Edl!S21="cc"),Edl!S21<>""),1,"") | V21: =IF(AND(OR(Edl!T21<5,Edl!T21="c",Edl!T21="cc"),Edl!T21<>""),1,"") | W21: =IF(AND(OR(Edl!U21<5,Edl!U21="c",Edl!U21="cc"),Edl!U21<>""),1,"") | X21: =IF(AND(OR(Edl!V21<5,Edl!V21="c",Edl!V21="cc"),Edl!V21<>""),1,"") | Y21: =IF(AND(OR(Edl!W21<5,Edl!W21="c",Edl!W21="cc"),Edl!W21<>""),1,"") | Z21: =IF(AND(OR(Edl!X21<5,Edl!X21="c",Edl!X21="cc"),Edl!X21<>""),1,"") | ... AB21: =IF(AND(OR(Edl!Z21<5,Edl!Z21="c",Edl!Z21="cc"),Edl!Z21<>""),1,"") | AC21: =SUM(S21:AB21)/10*100 -> 0 | AD21: =IF(AND(OR(Edl!AA21<5,Edl!AA21="c",Edl!AA21="cc"),Edl!AA21<>""),1,"") | AE21: =IF(AND(OR(Edl!AB21<5,Edl!AB21="c",Edl!AB21="cc"),Edl!AB21<>""),1,"") | AF21: =IF(AND(OR(Edl!AC21<5,Edl!AC21="c",Edl!AC21="cc"),Edl!AC21<>""),1,"") | AG21: =IF(AND(OR(Edl!AD21<5,Edl!AD21="c",Edl!AD21="cc"),Edl!AD21<>""),1,"") | AH21: =IF(AND(OR(Edl!AE21<5,Edl!AE21="c",Edl!AE21="cc"),Edl!AE21<>""),1,"") | AI21: =IF(AND(OR(Edl!AF21<5,Edl!AF21="c",Edl!AF21="cc"),Edl!AF21<>""),1,"") | AJ21: =IF(AND(OR(Edl!AG21<5,Edl!AG21="c",Edl!AG21="cc"),Edl!AG21<>""),1,"") | AK21: =IF(AND(OR(Edl!AH21<5,Edl!AH21="c",Edl!AH21="cc"),Edl!AH21<>""),1,"") | AL21: =SUM(AD21:AK21)/8*100 -> 0 | AM21: =IF(AND(OR(Edl!AI21<5,Edl!AI21="c",Edl!AI21="cc"),Edl!AI21<>""),1,"") | AN21: =IF(AND(OR(Edl!AJ21<5,Edl!AJ21="c",Edl!AJ21="cc"),Edl!AJ21<>""),1,"") | AO21: =IF(AND(OR(Edl!AK21<5,Edl!AK21="c",Edl!AK21="cc"),Edl!AK21<>""),1,"") | AP21: =IF(AND(OR(Edl!AL21<5,Edl!AL21="c",Edl!AL21="cc"),Edl!AL21<>""),1,"") | AQ21: =IF(AND(OR(Edl!AM21<5,Edl!AM21="c",Edl!AM21="cc"),Edl!AM21<>""),1,"") | AR21: =SUM(AM21:AQ21)/5*100 -> 0 | AS21: =IF(AND(OR(Edl!AN21<5,Edl!AN21="c",Edl!AN21="cc"),Edl!AN21<>""),1,"") | AT21: =IF(AND(OR(Edl!AO21<5,Edl!AO21="c",Edl!AO21="cc"),Edl!AO21<>""),1,"") | AU21: =IF(AND(OR(Edl!AP21<5,Edl!AP21="c",Edl!AP21="cc"),Edl!AP21<>""),1,"") | AV21: =IF(AND(OR(Edl!AQ21<5,Edl!AQ21="c",Edl!AQ21="cc"),Edl!AQ21<>""),1,"") | AW21: =SUM(AS21:AV21)/4*100 -> 0 | AX21: =IF(AND(OR(Edl!AR21<5,Edl!AR21="c",Edl!AR21="cc"),Edl!AR21<>""),1,"") | AY21: =IF(AND(OR(Edl!AS21<5,Edl!AS21="c",Edl!AS21="cc"),Edl!AS21<>""),1,"") | AZ21: =IF(AND(OR(Edl!AT21<5,Edl!AT21="c",Edl!AT21="cc"),Edl!AT21<>""),1,"") | BA21: =IF(AND(OR(Edl!AU21<5,Edl!AU21="c",Edl!AU21="cc"),Edl!AU21<>""),1,"") | BB21: =IF(AND(OR(Edl!AV21<5,Edl!AV21="c",Edl!AV21="cc"),Edl!AV21<>""),1,"") | BC21: =SUM(AX21:BB21)/5*100 -> 0 | BD21: =IF(AND(OR(Edl!AW21<5,Edl!AW21="c",Edl!AW21="cc"),Edl!AW21<>""),1,"") | BE21: =IF(AND(OR(Edl!AX21<5,Edl!AX21="c",Edl!AX21="cc"),Edl!AX21<>""),1,"") | BF21: =IF(AND(OR(Edl!AY21<5,Edl!AY21="c",Edl!AY21="cc"),Edl!AY21<>""),1,"") | BG21: =IF(AND(OR(Edl!AZ21<5,Edl!AZ21="c",Edl!AZ21="cc"),Edl!AZ21<>""),1,"") | BH21: =SUM(BD21:BG21)/4*100 -> 0 | BI21: =IF(AND(OR(Edl!BA21<5,Edl!BA21="c",Edl!BA21="cc"),Edl!BA21<>""),1,"") | BJ21: =IF(AND(OR(Edl!BB21<5,Edl!BB21="c",Edl!BB21="cc"),Edl!BB21<>""),1,"") | BK21: =IF(AND(OR(Edl!BC21<5,Edl!BC21="c",Edl!BC21="cc"),Edl!BC21<>""),1,"") | BL21: =IF(AND(OR(Edl!BD21<5,Edl!BD21="c",Edl!BD21="cc"),Edl!BD21<>""),1,"") | BM21: =IF(AND(OR(Edl!BE21<5,Edl!BE21="c",Edl!BE21="cc"),Edl!BE21<>""),1,"") | BN21: =SUM(BI21:BM21)/5*100 -> 0 | BO21: =IF(AND(OR(Edl!BF21<5,Edl!BF21="c",Edl!BF21="cc"),Edl!BF21<>""),1,"") | BP21: =IF(AND(OR(Edl!BG21<5,Edl!BG21="c",Edl!BG21="cc"),Edl!BG21<>""),1,"") | BQ21: =IF(AND(OR(Edl!BH21<5,Edl!BH21="c",Edl!BH21="cc"),Edl!BH21<>""),1,"") | BR21: =IF(AND(OR(Edl!BI21<5,Edl!BI21="c",Edl!BI21="cc"),Edl!BI21<>""),1,"") | BS21: =IF(AND(OR(Edl!BJ21<5,Edl!BJ21="c",Edl!BJ21="cc"),Edl!BJ21<>""),1,"") | BT21: =IF(AND(OR(Edl!BK21<5,Edl!BK21="c",Edl!BK21="cc"),Edl!BK21<>""),1,"") | BU21: =IF(AND(OR(Edl!BL21<5,Edl!BL21="c",Edl!BL21="cc"),Edl!BL21<>""),1,"") | BV21: =SUM(BO21:BU21)/7*100 -> 0 | BW21: =IF(AND(OR(Edl!BM21<5,Edl!BM21="c",Edl!BM21="cc"),Edl!BM21<>""),1,"") | BX21: =IF(AND(OR(Edl!BN21<5,Edl!BN21="c",Edl!BN21="cc"),Edl!BN21<>""),1,"") | BY21: =IF(AND(OR(Edl!BO21<5,Edl!BO21="c",Edl!BO21="cc"),Edl!BO21<>""),1,"") | BZ21: =IF(AND(OR(Edl!BP21<5,Edl!BP21="c",Edl!BP21="cc"),Edl!BP21<>""),1,"") | CA21: =SUM(BW21:BZ21)/4*100 -> 0 | CB21: =IF(AND(OR(Edl!BQ21<5,Edl!BQ21="c",Edl!BQ21="cc"),Edl!BQ21<>""),1,"") | CC21: =IF(AND(OR(Edl!BR21<5,Edl!BR21="c",Edl!BR21="cc"),Edl!BR21<>""),1,"") | CD21: =IF(AND(OR(Edl!BS21<5,Edl!BS21="c",Edl!BS21="cc"),Edl!BS21<>""),1,"") | CE21: =IF(AND(OR(Edl!BT21<5,Edl!BT21="c",Edl!BT21="cc"),Edl!BT21<>""),1,"") | CF21: =IF(AND(OR(Edl!BU21<5,Edl!BU21="c",Edl!BU21="cc"),Edl!BU21<>""),1,"") | CG21: =IF(AND(OR(Edl!BV21<5,Edl!BV21="c",Edl!BV21="cc"),Edl!BV21<>""),1,"") | CH21: =IF(AND(OR(Edl!BW21<5,Edl!BW21="c",Edl!BW21="cc"),Edl!BW21<>""),1,"") | CI21: =IF(AND(OR(Edl!BX21<5,Edl!BX21="c",Edl!BX21="cc"),Edl!BX21<>""),1,"") | ... CL21: =IF(AND(OR(Edl!CA21<5,Edl!CA21="c",Edl!CA21="cc"),Edl!CA21<>""),1,"") | CM21: =SUM(CB21:CL21)/11*100 -> 0 | CN21: =IF(AND(OR(Edl!CB21<5,Edl!CB21="c",Edl!CB21="cc"),Edl!CB21<>""),1,"") | CO21: =IF(AND(OR(Edl!CC21<5,Edl!CC21="c",Edl!CC21="cc"),Edl!CC21<>""),1,"") | CP21: =IF(AND(OR(Edl!CD21<5,Edl!CD21="c",Edl!CD21="cc"),Edl!CD21<>""),1,"") | CQ21: =IF(AND(OR(Edl!CE21<5,Edl!CE21="c",Edl!CE21="cc"),Edl!CE21<>""),1,"") | CR21: =IF(AND(OR(Edl!CF21<5,Edl!CF21="c",Edl!CF21="cc"),Edl!CF21<>""),1,"") | CS21: =SUM(CN21:CR21)/5*100 -> 0 | CT21: =IF(AND(OR(Edl!CG21<5,Edl!CG21="c",Edl!CG21="cc"),Edl!CG21<>""),1,"") | CU21: =IF(AND(OR(Edl!CH21<5,Edl!CH21="c",Edl!CH21="cc"),Edl!CH21<>""),1,"") | CV21: =IF(AND(OR(Edl!CI21<5,Edl!CI21="c",Edl!CI21="cc"),Edl!CI21<>""),1,"") | CW21: =IF(AND(OR(Edl!CJ21<5,Edl!CJ21="c",Edl!CJ21="cc"),Edl!CJ21<>""),1,"") | CX21: =IF(AND(OR(Edl!CK21<5,Edl!CK21="c",Edl!CK21="cc"),Edl!CK21<>""),1,"") | CY21: =IF(AND(OR(Edl!CL21<5,Edl!CL21="c",Edl!CL21="cc"),Edl!CL21<>""),1,"") | CZ21: =SUM(CT21:CY21)/6*100 -> 0 | DA21: =IF(AND(OR(Edl!CM21<5,Edl!CM21="c",Edl!CM21="cc"),Edl!CM21<>""),1,"") | DB21: =IF(AND(OR(Edl!CN21<5,Edl!CN21="c",Edl!CN21="cc"),Edl!CN21<>""),1,"") | DC21: =IF(AND(OR(Edl!CO21<5,Edl!CO21="c",Edl!CO21="cc"),Edl!CO21<>""),1,"") | DD21: =IF(AND(OR(Edl!CP21<5,Edl!CP21="c",Edl!CP21="cc"),Edl!CP21<>""),1,"") | DE21: =IF(AND(OR(Edl!CQ21<5,Edl!CQ21="c",Edl!CQ21="cc"),Edl!CQ21<>""),1,"") | DF21: =SUM(DA21:DE21)/5*100 -> 0 | DG21: =IF(AND(OR(Edl!CR21<5,Edl!CR21="c",Edl!CR21="cc"),Edl!CR21<>""),1,"") | DH21: =IF(AND(OR(Edl!CS21<5,Edl!CS21="c",Edl!CS21="cc"),Edl!CS21<>""),1,"") | DI21: =IF(AND(OR(Edl!CT21<5,Edl!CT21="c",Edl!CT21="cc"),Edl!CT21<>""),1,"") | DJ21: =IF(AND(OR(Edl!CU21<5,Edl!CU21="c",Edl!CU21="cc"),Edl!CU21<>""),1,"") | DK21: =IF(AND(OR(Edl!CV21<5,Edl!CV21="c",Edl!CV21="cc"),Edl!CV21<>""),1,"") | DL21: =IF(AND(OR(Edl!CW21<5,Edl!CW21="c",Edl!CW21="cc"),Edl!CW21<>""),1,"") | DM21: =IF(AND(OR(Edl!CX21<5,Edl!CX21="c",Edl!CX21="cc"),Edl!CX21<>""),1,"") | DN21: =IF(AND(OR(Edl!CY21<5,Edl!CY21="c",Edl!CY21="cc"),Edl!CY21<>""),1,"") | ... DP21: =IF(AND(OR(Edl!DA21<5,Edl!DA21="c",Edl!DA21="cc"),Edl!DA21<>""),1,"") | DQ21: =SUM(DG21:DP22)/10*100 -> 0 | DR21: =IF(AND(OR(Edl!DB21<5,Edl!DB21="c",Edl!DB21="cc"),Edl!DB21<>""),1,"") | DS21: =IF(AND(OR(Edl!DC21<5,Edl!DC21="c",Edl!DC21="cc"),Edl!DC21<>""),1,"") | DT21: =IF(AND(OR(Edl!DD21<5,Edl!DD21="c",Edl!DD21="cc"),Edl!DD21<>""),1,"") | DU21: =IF(AND(OR(Edl!DE21<5,Edl!DE21="c",Edl!DE21="cc"),Edl!DE21<>""),1,"") | DV21: =IF(AND(OR(Edl!DF21<5,Edl!DF21="c",Edl!DF21="cc"),Edl!DF21<>""),1,"") | DW21: =IF(AND(OR(Edl!DG21<5,Edl!DG21="c",Edl!DG21="cc"),Edl!DG21<>""),1,"") | DX21: =IF(AND(OR(Edl!DH21<5,Edl!DH21="c",Edl!DH21="cc"),Edl!DH21<>""),1,"") | DY21: =IF(AND(OR(Edl!DI21<5,Edl!DI21="c",Edl!DI21="cc"),Edl!DI21<>""),1,"") | ... EC21: =IF(AND(OR(Edl!DM21<5,Edl!DM21="c",Edl!DM21="cc"),Edl!DM21<>""),1,"") | ED21: =SUM(DR21:EC21)/12*100 -> 0
A22: Noémie | B22: =IF(AND(OR(Edl!B22<5,Edl!B22="c",Edl!B22="cc"),Edl!B22<>""),1,"") | C22: =IF(AND(OR(Edl!C22<5,Edl!C22="c",Edl!C22="cc"),Edl!C22<>""),1,"") | D22: =IF(AND(OR(Edl!D22<5,Edl!D22="c",Edl!D22="cc"),Edl!D22<>""),1,"") | E22: =IF(AND(OR(Edl!E22<5,Edl!E22="c",Edl!E22="cc"),Edl!E22<>""),1,"") | F22: =IF(AND(OR(Edl!F22<5,Edl!F22="c",Edl!F22="cc"),Edl!F22<>""),1,"") | G22: =IF(AND(OR(Edl!G22<5,Edl!G22="c",Edl!G22="cc"),Edl!G22<>""),1,"") | H22: =IF(AND(OR(Edl!H22<5,Edl!H22="c",Edl!H22="cc"),Edl!H22<>""),1,"") | I22: =IF(AND(OR(Edl!I22<5,Edl!I22="c",Edl!I22="cc"),Edl!I22<>""),1,"") | J22: =SUM(B22:I22)/8*100 -> 0 | K22: =IF(AND(OR(Edl!J22<5,Edl!J22="c",Edl!J22="cc"),Edl!J22<>""),1,"") | L22: =IF(AND(OR(Edl!K22<5,Edl!K22="c",Edl!K22="cc"),Edl!K22<>""),1,"") | M22: =IF(AND(OR(Edl!L22<5,Edl!L22="c",Edl!L22="cc"),Edl!L22<>""),1,"") | N22: =IF(AND(OR(Edl!M22<5,Edl!M22="c",Edl!M22="cc"),Edl!M22<>""),1,"") | O22: =IF(AND(OR(Edl!N22<5,Edl!N22="c",Edl!N22="cc"),Edl!N22<>""),1,"") | P22: =IF(AND(OR(Edl!O22<5,Edl!O22="c",Edl!O22="cc"),Edl!O22<>""),1,"") | Q22: =IF(AND(OR(Edl!P22<5,Edl!P22="c",Edl!P22="cc"),Edl!P22<>""),1,"") | R22: =SUM(K22:Q22)/7*100 -> 0 | S22: =IF(AND(OR(Edl!Q22<5,Edl!Q22="c",Edl!Q22="cc"),Edl!Q22<>""),1,"") | T22: =IF(AND(OR(Edl!R22<5,Edl!R22="c",Edl!R22="cc"),Edl!R22<>""),1,"") | U22: =IF(AND(OR(Edl!S22<5,Edl!S22="c",Edl!S22="cc"),Edl!S22<>""),1,"") | V22: =IF(AND(OR(Edl!T22<5,Edl!T22="c",Edl!T22="cc"),Edl!T22<>""),1,"") | W22: =IF(AND(OR(Edl!U22<5,Edl!U22="c",Edl!U22="cc"),Edl!U22<>""),1,"") | X22: =IF(AND(OR(Edl!V22<5,Edl!V22="c",Edl!V22="cc"),Edl!V22<>""),1,"") | Y22: =IF(AND(OR(Edl!W22<5,Edl!W22="c",Edl!W22="cc"),Edl!W22<>""),1,"") | Z22: =IF(AND(OR(Edl!X22<5,Edl!X22="c",Edl!X22="cc"),Edl!X22<>""),1,"") | ... AB22: =IF(AND(OR(Edl!Z22<5,Edl!Z22="c",Edl!Z22="cc"),Edl!Z22<>""),1,"") | AC22: =SUM(S22:AB22)/10*100 -> 0 | AD22: =IF(AND(OR(Edl!AA22<5,Edl!AA22="c",Edl!AA22="cc"),Edl!AA22<>""),1,"") | AE22: =IF(AND(OR(Edl!AB22<5,Edl!AB22="c",Edl!AB22="cc"),Edl!AB22<>""),1,"") | AF22: =IF(AND(OR(Edl!AC22<5,Edl!AC22="c",Edl!AC22="cc"),Edl!AC22<>""),1,"") | AG22: =IF(AND(OR(Edl!AD22<5,Edl!AD22="c",Edl!AD22="cc"),Edl!AD22<>""),1,"") | AH22: =IF(AND(OR(Edl!AE22<5,Edl!AE22="c",Edl!AE22="cc"),Edl!AE22<>""),1,"") | AI22: =IF(AND(OR(Edl!AF22<5,Edl!AF22="c",Edl!AF22="cc"),Edl!AF22<>""),1,"") | AJ22: =IF(AND(OR(Edl!AG22<5,Edl!AG22="c",Edl!AG22="cc"),Edl!AG22<>""),1,"") | AK22: =IF(AND(OR(Edl!AH22<5,Edl!AH22="c",Edl!AH22="cc"),Edl!AH22<>""),1,"") | AL22: =SUM(AD22:AK22)/8*100 -> 0 | AM22: =IF(AND(OR(Edl!AI22<5,Edl!AI22="c",Edl!AI22="cc"),Edl!AI22<>""),1,"") | AN22: =IF(AND(OR(Edl!AJ22<5,Edl!AJ22="c",Edl!AJ22="cc"),Edl!AJ22<>""),1,"") | AO22: =IF(AND(OR(Edl!AK22<5,Edl!AK22="c",Edl!AK22="cc"),Edl!AK22<>""),1,"") | AP22: =IF(AND(OR(Edl!AL22<5,Edl!AL22="c",Edl!AL22="cc"),Edl!AL22<>""),1,"") | AQ22: =IF(AND(OR(Edl!AM22<5,Edl!AM22="c",Edl!AM22="cc"),Edl!AM22<>""),1,"") | AR22: =SUM(AM22:AQ22)/5*100 -> 0 | AS22: =IF(AND(OR(Edl!AN22<5,Edl!AN22="c",Edl!AN22="cc"),Edl!AN22<>""),1,"") | AT22: =IF(AND(OR(Edl!AO22<5,Edl!AO22="c",Edl!AO22="cc"),Edl!AO22<>""),1,"") | AU22: =IF(AND(OR(Edl!AP22<5,Edl!AP22="c",Edl!AP22="cc"),Edl!AP22<>""),1,"") | AV22: =IF(AND(OR(Edl!AQ22<5,Edl!AQ22="c",Edl!AQ22="cc"),Edl!AQ22<>""),1,"") | AW22: =SUM(AS22:AV22)/4*100 -> 0 | AX22: =IF(AND(OR(Edl!AR22<5,Edl!AR22="c",Edl!AR22="cc"),Edl!AR22<>""),1,"") | AY22: =IF(AND(OR(Edl!AS22<5,Edl!AS22="c",Edl!AS22="cc"),Edl!AS22<>""),1,"") | AZ22: =IF(AND(OR(Edl!AT22<5,Edl!AT22="c",Edl!AT22="cc"),Edl!AT22<>""),1,"") | BA22: =IF(AND(OR(Edl!AU22<5,Edl!AU22="c",Edl!AU22="cc"),Edl!AU22<>""),1,"") | BB22: =IF(AND(OR(Edl!AV22<5,Edl!AV22="c",Edl!AV22="cc"),Edl!AV22<>""),1,"") | BC22: =SUM(AX22:BB22)/5*100 -> 0 | BD22: =IF(AND(OR(Edl!AW22<5,Edl!AW22="c",Edl!AW22="cc"),Edl!AW22<>""),1,"") | BE22: =IF(AND(OR(Edl!AX22<5,Edl!AX22="c",Edl!AX22="cc"),Edl!AX22<>""),1,"") | BF22: =IF(AND(OR(Edl!AY22<5,Edl!AY22="c",Edl!AY22="cc"),Edl!AY22<>""),1,"") | BG22: =IF(AND(OR(Edl!AZ22<5,Edl!AZ22="c",Edl!AZ22="cc"),Edl!AZ22<>""),1,"") | BH22: =SUM(BD22:BG22)/4*100 -> 0 | BI22: =IF(AND(OR(Edl!BA22<5,Edl!BA22="c",Edl!BA22="cc"),Edl!BA22<>""),1,"") | BJ22: =IF(AND(OR(Edl!BB22<5,Edl!BB22="c",Edl!BB22="cc"),Edl!BB22<>""),1,"") | BK22: =IF(AND(OR(Edl!BC22<5,Edl!BC22="c",Edl!BC22="cc"),Edl!BC22<>""),1,"") | BL22: =IF(AND(OR(Edl!BD22<5,Edl!BD22="c",Edl!BD22="cc"),Edl!BD22<>""),1,"") | BM22: =IF(AND(OR(Edl!BE22<5,Edl!BE22="c",Edl!BE22="cc"),Edl!BE22<>""),1,"") | BN22: =SUM(BI22:BM22)/5*100 -> 0 | BO22: =IF(AND(OR(Edl!BF22<5,Edl!BF22="c",Edl!BF22="cc"),Edl!BF22<>""),1,"") | BP22: =IF(AND(OR(Edl!BG22<5,Edl!BG22="c",Edl!BG22="cc"),Edl!BG22<>""),1,"") | BQ22: =IF(AND(OR(Edl!BH22<5,Edl!BH22="c",Edl!BH22="cc"),Edl!BH22<>""),1,"") | BR22: =IF(AND(OR(Edl!BI22<5,Edl!BI22="c",Edl!BI22="cc"),Edl!BI22<>""),1,"") | BS22: =IF(AND(OR(Edl!BJ22<5,Edl!BJ22="c",Edl!BJ22="cc"),Edl!BJ22<>""),1,"") | BT22: =IF(AND(OR(Edl!BK22<5,Edl!BK22="c",Edl!BK22="cc"),Edl!BK22<>""),1,"") | BU22: =IF(AND(OR(Edl!BL22<5,Edl!BL22="c",Edl!BL22="cc"),Edl!BL22<>""),1,"") | BV22: =SUM(BO22:BU22)/7*100 -> 0 | BW22: =IF(AND(OR(Edl!BM22<5,Edl!BM22="c",Edl!BM22="cc"),Edl!BM22<>""),1,"") | BX22: =IF(AND(OR(Edl!BN22<5,Edl!BN22="c",Edl!BN22="cc"),Edl!BN22<>""),1,"") | BY22: =IF(AND(OR(Edl!BO22<5,Edl!BO22="c",Edl!BO22="cc"),Edl!BO22<>""),1,"") | BZ22: =IF(AND(OR(Edl!BP22<5,Edl!BP22="c",Edl!BP22="cc"),Edl!BP22<>""),1,"") | CA22: =SUM(BW22:BZ22)/4*100 -> 0 | CB22: =IF(AND(OR(Edl!BQ22<5,Edl!BQ22="c",Edl!BQ22="cc"),Edl!BQ22<>""),1,"") | CC22: =IF(AND(OR(Edl!BR22<5,Edl!BR22="c",Edl!BR22="cc"),Edl!BR22<>""),1,"") | CD22: =IF(AND(OR(Edl!BS22<5,Edl!BS22="c",Edl!BS22="cc"),Edl!BS22<>""),1,"") | CE22: =IF(AND(OR(Edl!BT22<5,Edl!BT22="c",Edl!BT22="cc"),Edl!BT22<>""),1,"") | CF22: =IF(AND(OR(Edl!BU22<5,Edl!BU22="c",Edl!BU22="cc"),Edl!BU22<>""),1,"") | CG22: =IF(AND(OR(Edl!BV22<5,Edl!BV22="c",Edl!BV22="cc"),Edl!BV22<>""),1,"") | CH22: =IF(AND(OR(Edl!BW22<5,Edl!BW22="c",Edl!BW22="cc"),Edl!BW22<>""),1,"") | CI22: =IF(AND(OR(Edl!BX22<5,Edl!BX22="c",Edl!BX22="cc"),Edl!BX22<>""),1,"") | ... CL22: =IF(AND(OR(Edl!CA22<5,Edl!CA22="c",Edl!CA22="cc"),Edl!CA22<>""),1,"") | CM22: =SUM(CB22:CL22)/11*100 -> 0 | CN22: =IF(AND(OR(Edl!CB22<5,Edl!CB22="c",Edl!CB22="cc"),Edl!CB22<>""),1,"") | CO22: =IF(AND(OR(Edl!CC22<5,Edl!CC22="c",Edl!CC22="cc"),Edl!CC22<>""),1,"") | CP22: =IF(AND(OR(Edl!CD22<5,Edl!CD22="c",Edl!CD22="cc"),Edl!CD22<>""),1,"") | CQ22: =IF(AND(OR(Edl!CE22<5,Edl!CE22="c",Edl!CE22="cc"),Edl!CE22<>""),1,"") | CR22: =IF(AND(OR(Edl!CF22<5,Edl!CF22="c",Edl!CF22="cc"),Edl!CF22<>""),1,"") | CS22: =SUM(CN22:CR22)/5*100 -> 0 | CT22: =IF(AND(OR(Edl!CG22<5,Edl!CG22="c",Edl!CG22="cc"),Edl!CG22<>""),1,"") | CU22: =IF(AND(OR(Edl!CH22<5,Edl!CH22="c",Edl!CH22="cc"),Edl!CH22<>""),1,"") | CV22: =IF(AND(OR(Edl!CI22<5,Edl!CI22="c",Edl!CI22="cc"),Edl!CI22<>""),1,"") | CW22: =IF(AND(OR(Edl!CJ22<5,Edl!CJ22="c",Edl!CJ22="cc"),Edl!CJ22<>""),1,"") | CX22: =IF(AND(OR(Edl!CK22<5,Edl!CK22="c",Edl!CK22="cc"),Edl!CK22<>""),1,"") | CY22: =IF(AND(OR(Edl!CL22<5,Edl!CL22="c",Edl!CL22="cc"),Edl!CL22<>""),1,"") | CZ22: =SUM(CT22:CY22)/6*100 -> 0 | DA22: =IF(AND(OR(Edl!CM22<5,Edl!CM22="c",Edl!CM22="cc"),Edl!CM22<>""),1,"") | DB22: =IF(AND(OR(Edl!CN22<5,Edl!CN22="c",Edl!CN22="cc"),Edl!CN22<>""),1,"") | DC22: =IF(AND(OR(Edl!CO22<5,Edl!CO22="c",Edl!CO22="cc"),Edl!CO22<>""),1,"") | DD22: =IF(AND(OR(Edl!CP22<5,Edl!CP22="c",Edl!CP22="cc"),Edl!CP22<>""),1,"") | DE22: =IF(AND(OR(Edl!CQ22<5,Edl!CQ22="c",Edl!CQ22="cc"),Edl!CQ22<>""),1,"") | DF22: =SUM(DA22:DE22)/5*100 -> 0 | DG22: =IF(AND(OR(Edl!CR22<5,Edl!CR22="c",Edl!CR22="cc"),Edl!CR22<>""),1,"") | DH22: =IF(AND(OR(Edl!CS22<5,Edl!CS22="c",Edl!CS22="cc"),Edl!CS22<>""),1,"") | DI22: =IF(AND(OR(Edl!CT22<5,Edl!CT22="c",Edl!CT22="cc"),Edl!CT22<>""),1,"") | DJ22: =IF(AND(OR(Edl!CU22<5,Edl!CU22="c",Edl!CU22="cc"),Edl!CU22<>""),1,"") | DK22: =IF(AND(OR(Edl!CV22<5,Edl!CV22="c",Edl!CV22="cc"),Edl!CV22<>""),1,"") | DL22: =IF(AND(OR(Edl!CW22<5,Edl!CW22="c",Edl!CW22="cc"),Edl!CW22<>""),1,"") | DM22: =IF(AND(OR(Edl!CX22<5,Edl!CX22="c",Edl!CX22="cc"),Edl!CX22<>""),1,"") | DN22: =IF(AND(OR(Edl!CY22<5,Edl!CY22="c",Edl!CY22="cc"),Edl!CY22<>""),1,"") | ... DP22: =IF(AND(OR(Edl!DA22<5,Edl!DA22="c",Edl!DA22="cc"),Edl!DA22<>""),1,"") | DQ22: =SUM(DG22:DP23)/10*100 -> 0 | DR22: =IF(AND(OR(Edl!DB22<5,Edl!DB22="c",Edl!DB22="cc"),Edl!DB22<>""),1,"") | DS22: =IF(AND(OR(Edl!DC22<5,Edl!DC22="c",Edl!DC22="cc"),Edl!DC22<>""),1,"") | DT22: =IF(AND(OR(Edl!DD22<5,Edl!DD22="c",Edl!DD22="cc"),Edl!DD22<>""),1,"") | DU22: =IF(AND(OR(Edl!DE22<5,Edl!DE22="c",Edl!DE22="cc"),Edl!DE22<>""),1,"") | DV22: =IF(AND(OR(Edl!DF22<5,Edl!DF22="c",Edl!DF22="cc"),Edl!DF22<>""),1,"") | DW22: =IF(AND(OR(Edl!DG22<5,Edl!DG22="c",Edl!DG22="cc"),Edl!DG22<>""),1,"") | DX22: =IF(AND(OR(Edl!DH22<5,Edl!DH22="c",Edl!DH22="cc"),Edl!DH22<>""),1,"") | DY22: =IF(AND(OR(Edl!DI22<5,Edl!DI22="c",Edl!DI22="cc"),Edl!DI22<>""),1,"") | ... EC22: =IF(AND(OR(Edl!DM22<5,Edl!DM22="c",Edl!DM22="cc"),Edl!DM22<>""),1,"") | ED22: =SUM(DR22:EC22)/12*100 -> 0
A23: Ewan | B23: =IF(AND(OR(Edl!B23<5,Edl!B23="c",Edl!B23="cc"),Edl!B23<>""),1,"") | C23: =IF(AND(OR(Edl!C23<5,Edl!C23="c",Edl!C23="cc"),Edl!C23<>""),1,"") | D23: =IF(AND(OR(Edl!D23<5,Edl!D23="c",Edl!D23="cc"),Edl!D23<>""),1,"") | E23: =IF(AND(OR(Edl!E23<5,Edl!E23="c",Edl!E23="cc"),Edl!E23<>""),1,"") | F23: =IF(AND(OR(Edl!F23<5,Edl!F23="c",Edl!F23="cc"),Edl!F23<>""),1,"") | G23: =IF(AND(OR(Edl!G23<5,Edl!G23="c",Edl!G23="cc"),Edl!G23<>""),1,"") | H23: =IF(AND(OR(Edl!H23<5,Edl!H23="c",Edl!H23="cc"),Edl!H23<>""),1,"") | I23: =IF(AND(OR(Edl!I23<5,Edl!I23="c",Edl!I23="cc"),Edl!I23<>""),1,"") | J23: =SUM(B23:I23)/8*100 -> 0 | K23: =IF(AND(OR(Edl!J23<5,Edl!J23="c",Edl!J23="cc"),Edl!J23<>""),1,"") | L23: =IF(AND(OR(Edl!K23<5,Edl!K23="c",Edl!K23="cc"),Edl!K23<>""),1,"") | M23: =IF(AND(OR(Edl!L23<5,Edl!L23="c",Edl!L23="cc"),Edl!L23<>""),1,"") | N23: =IF(AND(OR(Edl!M23<5,Edl!M23="c",Edl!M23="cc"),Edl!M23<>""),1,"") | O23: =IF(AND(OR(Edl!N23<5,Edl!N23="c",Edl!N23="cc"),Edl!N23<>""),1,"") | P23: =IF(AND(OR(Edl!O23<5,Edl!O23="c",Edl!O23="cc"),Edl!O23<>""),1,"") | Q23: =IF(AND(OR(Edl!P23<5,Edl!P23="c",Edl!P23="cc"),Edl!P23<>""),1,"") | R23: =SUM(K23:Q23)/7*100 -> 0 | S23: =IF(AND(OR(Edl!Q23<5,Edl!Q23="c",Edl!Q23="cc"),Edl!Q23<>""),1,"") | T23: =IF(AND(OR(Edl!R23<5,Edl!R23="c",Edl!R23="cc"),Edl!R23<>""),1,"") | U23: =IF(AND(OR(Edl!S23<5,Edl!S23="c",Edl!S23="cc"),Edl!S23<>""),1,"") | V23: =IF(AND(OR(Edl!T23<5,Edl!T23="c",Edl!T23="cc"),Edl!T23<>""),1,"") | W23: =IF(AND(OR(Edl!U23<5,Edl!U23="c",Edl!U23="cc"),Edl!U23<>""),1,"") | X23: =IF(AND(OR(Edl!V23<5,Edl!V23="c",Edl!V23="cc"),Edl!V23<>""),1,"") | Y23: =IF(AND(OR(Edl!W23<5,Edl!W23="c",Edl!W23="cc"),Edl!W23<>""),1,"") | Z23: =IF(AND(OR(Edl!X23<5,Edl!X23="c",Edl!X23="cc"),Edl!X23<>""),1,"") | ... AB23: =IF(AND(OR(Edl!Z23<5,Edl!Z23="c",Edl!Z23="cc"),Edl!Z23<>""),1,"") | AC23: =SUM(S23:AB23)/10*100 -> 0 | AD23: =IF(AND(OR(Edl!AA23<5,Edl!AA23="c",Edl!AA23="cc"),Edl!AA23<>""),1,"") | AE23: =IF(AND(OR(Edl!AB23<5,Edl!AB23="c",Edl!AB23="cc"),Edl!AB23<>""),1,"") | AF23: =IF(AND(OR(Edl!AC23<5,Edl!AC23="c",Edl!AC23="cc"),Edl!AC23<>""),1,"") | AG23: =IF(AND(OR(Edl!AD23<5,Edl!AD23="c",Edl!AD23="cc"),Edl!AD23<>""),1,"") | AH23: =IF(AND(OR(Edl!AE23<5,Edl!AE23="c",Edl!AE23="cc"),Edl!AE23<>""),1,"") | AI23: =IF(AND(OR(Edl!AF23<5,Edl!AF23="c",Edl!AF23="cc"),Edl!AF23<>""),1,"") | AJ23: =IF(AND(OR(Edl!AG23<5,Edl!AG23="c",Edl!AG23="cc"),Edl!AG23<>""),1,"") | AK23: =IF(AND(OR(Edl!AH23<5,Edl!AH23="c",Edl!AH23="cc"),Edl!AH23<>""),1,"") | AL23: =SUM(AD23:AK23)/8*100 -> 0 | AM23: =IF(AND(OR(Edl!AI23<5,Edl!AI23="c",Edl!AI23="cc"),Edl!AI23<>""),1,"") | AN23: =IF(AND(OR(Edl!AJ23<5,Edl!AJ23="c",Edl!AJ23="cc"),Edl!AJ23<>""),1,"") | AO23: =IF(AND(OR(Edl!AK23<5,Edl!AK23="c",Edl!AK23="cc"),Edl!AK23<>""),1,"") | AP23: =IF(AND(OR(Edl!AL23<5,Edl!AL23="c",Edl!AL23="cc"),Edl!AL23<>""),1,"") | AQ23: =IF(AND(OR(Edl!AM23<5,Edl!AM23="c",Edl!AM23="cc"),Edl!AM23<>""),1,"") | AR23: =SUM(AM23:AQ23)/5*100 -> 0 | AS23: =IF(AND(OR(Edl!AN23<5,Edl!AN23="c",Edl!AN23="cc"),Edl!AN23<>""),1,"") | AT23: =IF(AND(OR(Edl!AO23<5,Edl!AO23="c",Edl!AO23="cc"),Edl!AO23<>""),1,"") | AU23: =IF(AND(OR(Edl!AP23<5,Edl!AP23="c",Edl!AP23="cc"),Edl!AP23<>""),1,"") | AV23: =IF(AND(OR(Edl!AQ23<5,Edl!AQ23="c",Edl!AQ23="cc"),Edl!AQ23<>""),1,"") | AW23: =SUM(AS23:AV23)/4*100 -> 0 | AX23: =IF(AND(OR(Edl!AR23<5,Edl!AR23="c",Edl!AR23="cc"),Edl!AR23<>""),1,"") | AY23: =IF(AND(OR(Edl!AS23<5,Edl!AS23="c",Edl!AS23="cc"),Edl!AS23<>""),1,"") | AZ23: =IF(AND(OR(Edl!AT23<5,Edl!AT23="c",Edl!AT23="cc"),Edl!AT23<>""),1,"") | BA23: =IF(AND(OR(Edl!AU23<5,Edl!AU23="c",Edl!AU23="cc"),Edl!AU23<>""),1,"") | BB23: =IF(AND(OR(Edl!AV23<5,Edl!AV23="c",Edl!AV23="cc"),Edl!AV23<>""),1,"") | BC23: =SUM(AX23:BB23)/5*100 -> 0 | BD23: =IF(AND(OR(Edl!AW23<5,Edl!AW23="c",Edl!AW23="cc"),Edl!AW23<>""),1,"") | BE23: =IF(AND(OR(Edl!AX23<5,Edl!AX23="c",Edl!AX23="cc"),Edl!AX23<>""),1,"") | BF23: =IF(AND(OR(Edl!AY23<5,Edl!AY23="c",Edl!AY23="cc"),Edl!AY23<>""),1,"") | BG23: =IF(AND(OR(Edl!AZ23<5,Edl!AZ23="c",Edl!AZ23="cc"),Edl!AZ23<>""),1,"") | BH23: =SUM(BD23:BG23)/4*100 -> 0 | BI23: =IF(AND(OR(Edl!BA23<5,Edl!BA23="c",Edl!BA23="cc"),Edl!BA23<>""),1,"") | BJ23: =IF(AND(OR(Edl!BB23<5,Edl!BB23="c",Edl!BB23="cc"),Edl!BB23<>""),1,"") | BK23: =IF(AND(OR(Edl!BC23<5,Edl!BC23="c",Edl!BC23="cc"),Edl!BC23<>""),1,"") | BL23: =IF(AND(OR(Edl!BD23<5,Edl!BD23="c",Edl!BD23="cc"),Edl!BD23<>""),1,"") | BM23: =IF(AND(OR(Edl!BE23<5,Edl!BE23="c",Edl!BE23="cc"),Edl!BE23<>""),1,"") | BN23: =SUM(BI23:BM23)/5*100 -> 0 | BO23: =IF(AND(OR(Edl!BF23<5,Edl!BF23="c",Edl!BF23="cc"),Edl!BF23<>""),1,"") | BP23: =IF(AND(OR(Edl!BG23<5,Edl!BG23="c",Edl!BG23="cc"),Edl!BG23<>""),1,"") | BQ23: =IF(AND(OR(Edl!BH23<5,Edl!BH23="c",Edl!BH23="cc"),Edl!BH23<>""),1,"") | BR23: =IF(AND(OR(Edl!BI23<5,Edl!BI23="c",Edl!BI23="cc"),Edl!BI23<>""),1,"") | BS23: =IF(AND(OR(Edl!BJ23<5,Edl!BJ23="c",Edl!BJ23="cc"),Edl!BJ23<>""),1,"") | BT23: =IF(AND(OR(Edl!BK23<5,Edl!BK23="c",Edl!BK23="cc"),Edl!BK23<>""),1,"") | BU23: =IF(AND(OR(Edl!BL23<5,Edl!BL23="c",Edl!BL23="cc"),Edl!BL23<>""),1,"") | BV23: =SUM(BO23:BU23)/7*100 -> 0 | BW23: =IF(AND(OR(Edl!BM23<5,Edl!BM23="c",Edl!BM23="cc"),Edl!BM23<>""),1,"") | BX23: =IF(AND(OR(Edl!BN23<5,Edl!BN23="c",Edl!BN23="cc"),Edl!BN23<>""),1,"") | BY23: =IF(AND(OR(Edl!BO23<5,Edl!BO23="c",Edl!BO23="cc"),Edl!BO23<>""),1,"") | BZ23: =IF(AND(OR(Edl!BP23<5,Edl!BP23="c",Edl!BP23="cc"),Edl!BP23<>""),1,"") | CA23: =SUM(BW23:BZ23)/4*100 -> 0 | CB23: =IF(AND(OR(Edl!BQ23<5,Edl!BQ23="c",Edl!BQ23="cc"),Edl!BQ23<>""),1,"") | CC23: =IF(AND(OR(Edl!BR23<5,Edl!BR23="c",Edl!BR23="cc"),Edl!BR23<>""),1,"") | CD23: =IF(AND(OR(Edl!BS23<5,Edl!BS23="c",Edl!BS23="cc"),Edl!BS23<>""),1,"") | CE23: =IF(AND(OR(Edl!BT23<5,Edl!BT23="c",Edl!BT23="cc"),Edl!BT23<>""),1,"") | CF23: =IF(AND(OR(Edl!BU23<5,Edl!BU23="c",Edl!BU23="cc"),Edl!BU23<>""),1,"") | CG23: =IF(AND(OR(Edl!BV23<5,Edl!BV23="c",Edl!BV23="cc"),Edl!BV23<>""),1,"") | CH23: =IF(AND(OR(Edl!BW23<5,Edl!BW23="c",Edl!BW23="cc"),Edl!BW23<>""),1,"") | CI23: =IF(AND(OR(Edl!BX23<5,Edl!BX23="c",Edl!BX23="cc"),Edl!BX23<>""),1,"") | ... CL23: =IF(AND(OR(Edl!CA23<5,Edl!CA23="c",Edl!CA23="cc"),Edl!CA23<>""),1,"") | CM23: =SUM(CB23:CL23)/11*100 -> 0 | CN23: =IF(AND(OR(Edl!CB23<5,Edl!CB23="c",Edl!CB23="cc"),Edl!CB23<>""),1,"") | CO23: =IF(AND(OR(Edl!CC23<5,Edl!CC23="c",Edl!CC23="cc"),Edl!CC23<>""),1,"") | CP23: =IF(AND(OR(Edl!CD23<5,Edl!CD23="c",Edl!CD23="cc"),Edl!CD23<>""),1,"") | CQ23: =IF(AND(OR(Edl!CE23<5,Edl!CE23="c",Edl!CE23="cc"),Edl!CE23<>""),1,"") | CR23: =IF(AND(OR(Edl!CF23<5,Edl!CF23="c",Edl!CF23="cc"),Edl!CF23<>""),1,"") | CS23: =SUM(CN23:CR23)/5*100 -> 0 | CT23: =IF(AND(OR(Edl!CG23<5,Edl!CG23="c",Edl!CG23="cc"),Edl!CG23<>""),1,"") | CU23: =IF(AND(OR(Edl!CH23<5,Edl!CH23="c",Edl!CH23="cc"),Edl!CH23<>""),1,"") | CV23: =IF(AND(OR(Edl!CI23<5,Edl!CI23="c",Edl!CI23="cc"),Edl!CI23<>""),1,"") | CW23: =IF(AND(OR(Edl!CJ23<5,Edl!CJ23="c",Edl!CJ23="cc"),Edl!CJ23<>""),1,"") | CX23: =IF(AND(OR(Edl!CK23<5,Edl!CK23="c",Edl!CK23="cc"),Edl!CK23<>""),1,"") | CY23: =IF(AND(OR(Edl!CL23<5,Edl!CL23="c",Edl!CL23="cc"),Edl!CL23<>""),1,"") | CZ23: =SUM(CT23:CY23)/6*100 -> 0 | DA23: =IF(AND(OR(Edl!CM23<5,Edl!CM23="c",Edl!CM23="cc"),Edl!CM23<>""),1,"") | DB23: =IF(AND(OR(Edl!CN23<5,Edl!CN23="c",Edl!CN23="cc"),Edl!CN23<>""),1,"") | DC23: =IF(AND(OR(Edl!CO23<5,Edl!CO23="c",Edl!CO23="cc"),Edl!CO23<>""),1,"") | DD23: =IF(AND(OR(Edl!CP23<5,Edl!CP23="c",Edl!CP23="cc"),Edl!CP23<>""),1,"") | DE23: =IF(AND(OR(Edl!CQ23<5,Edl!CQ23="c",Edl!CQ23="cc"),Edl!CQ23<>""),1,"") | DF23: =SUM(DA23:DE23)/5*100 -> 0 | DG23: =IF(AND(OR(Edl!CR23<5,Edl!CR23="c",Edl!CR23="cc"),Edl!CR23<>""),1,"") | DH23: =IF(AND(OR(Edl!CS23<5,Edl!CS23="c",Edl!CS23="cc"),Edl!CS23<>""),1,"") | DI23: =IF(AND(OR(Edl!CT23<5,Edl!CT23="c",Edl!CT23="cc"),Edl!CT23<>""),1,"") | DJ23: =IF(AND(OR(Edl!CU23<5,Edl!CU23="c",Edl!CU23="cc"),Edl!CU23<>""),1,"") | DK23: =IF(AND(OR(Edl!CV23<5,Edl!CV23="c",Edl!CV23="cc"),Edl!CV23<>""),1,"") | DL23: =IF(AND(OR(Edl!CW23<5,Edl!CW23="c",Edl!CW23="cc"),Edl!CW23<>""),1,"") | DM23: =IF(AND(OR(Edl!CX23<5,Edl!CX23="c",Edl!CX23="cc"),Edl!CX23<>""),1,"") | DN23: =IF(AND(OR(Edl!CY23<5,Edl!CY23="c",Edl!CY23="cc"),Edl!CY23<>""),1,"") | ... DP23: =IF(AND(OR(Edl!DA23<5,Edl!DA23="c",Edl!DA23="cc"),Edl!DA23<>""),1,"") | DQ23: =SUM(DG23:DP24)/10*100 -> 0 | DR23: =IF(AND(OR(Edl!DB23<5,Edl!DB23="c",Edl!DB23="cc"),Edl!DB23<>""),1,"") | DS23: =IF(AND(OR(Edl!DC23<5,Edl!DC23="c",Edl!DC23="cc"),Edl!DC23<>""),1,"") | DT23: =IF(AND(OR(Edl!DD23<5,Edl!DD23="c",Edl!DD23="cc"),Edl!DD23<>""),1,"") | DU23: =IF(AND(OR(Edl!DE23<5,Edl!DE23="c",Edl!DE23="cc"),Edl!DE23<>""),1,"") | DV23: =IF(AND(OR(Edl!DF23<5,Edl!DF23="c",Edl!DF23="cc"),Edl!DF23<>""),1,"") | DW23: =IF(AND(OR(Edl!DG23<5,Edl!DG23="c",Edl!DG23="cc"),Edl!DG23<>""),1,"") | DX23: =IF(AND(OR(Edl!DH23<5,Edl!DH23="c",Edl!DH23="cc"),Edl!DH23<>""),1,"") | DY23: =IF(AND(OR(Edl!DI23<5,Edl!DI23="c",Edl!DI23="cc"),Edl!DI23<>""),1,"") | ... EC23: =IF(AND(OR(Edl!DM23<5,Edl!DM23="c",Edl!DM23="cc"),Edl!DM23<>""),1,"") | ED23: =SUM(DR23:EC23)/12*100 -> 0
A24: Arthur | B24: =IF(AND(OR(Edl!B24<5,Edl!B24="c",Edl!B24="cc"),Edl!B24<>""),1,"") | C24: =IF(AND(OR(Edl!C24<5,Edl!C24="c",Edl!C24="cc"),Edl!C24<>""),1,"") | D24: =IF(AND(OR(Edl!D24<5,Edl!D24="c",Edl!D24="cc"),Edl!D24<>""),1,"") | E24: =IF(AND(OR(Edl!E24<5,Edl!E24="c",Edl!E24="cc"),Edl!E24<>""),1,"") | F24: =IF(AND(OR(Edl!F24<5,Edl!F24="c",Edl!F24="cc"),Edl!F24<>""),1,"") | G24: =IF(AND(OR(Edl!G24<5,Edl!G24="c",Edl!G24="cc"),Edl!G24<>""),1,"") | H24: =IF(AND(OR(Edl!H24<5,Edl!H24="c",Edl!H24="cc"),Edl!H24<>""),1,"") | I24: =IF(AND(OR(Edl!I24<5,Edl!I24="c",Edl!I24="cc"),Edl!I24<>""),1,"") | J24: =SUM(B24:I24)/8*100 -> 0 | K24: =IF(AND(OR(Edl!J24<5,Edl!J24="c",Edl!J24="cc"),Edl!J24<>""),1,"") | L24: =IF(AND(OR(Edl!K24<5,Edl!K24="c",Edl!K24="cc"),Edl!K24<>""),1,"") | M24: =IF(AND(OR(Edl!L24<5,Edl!L24="c",Edl!L24="cc"),Edl!L24<>""),1,"") | N24: =IF(AND(OR(Edl!M24<5,Edl!M24="c",Edl!M24="cc"),Edl!M24<>""),1,"") | O24: =IF(AND(OR(Edl!N24<5,Edl!N24="c",Edl!N24="cc"),Edl!N24<>""),1,"") | P24: =IF(AND(OR(Edl!O24<5,Edl!O24="c",Edl!O24="cc"),Edl!O24<>""),1,"") | Q24: =IF(AND(OR(Edl!P24<5,Edl!P24="c",Edl!P24="cc"),Edl!P24<>""),1,"") | R24: =SUM(K24:Q24)/7*100 -> 0 | S24: =IF(AND(OR(Edl!Q24<5,Edl!Q24="c",Edl!Q24="cc"),Edl!Q24<>""),1,"") | T24: =IF(AND(OR(Edl!R24<5,Edl!R24="c",Edl!R24="cc"),Edl!R24<>""),1,"") | U24: =IF(AND(OR(Edl!S24<5,Edl!S24="c",Edl!S24="cc"),Edl!S24<>""),1,"") | V24: =IF(AND(OR(Edl!T24<5,Edl!T24="c",Edl!T24="cc"),Edl!T24<>""),1,"") | W24: =IF(AND(OR(Edl!U24<5,Edl!U24="c",Edl!U24="cc"),Edl!U24<>""),1,"") | X24: =IF(AND(OR(Edl!V24<5,Edl!V24="c",Edl!V24="cc"),Edl!V24<>""),1,"") | Y24: =IF(AND(OR(Edl!W24<5,Edl!W24="c",Edl!W24="cc"),Edl!W24<>""),1,"") | Z24: =IF(AND(OR(Edl!X24<5,Edl!X24="c",Edl!X24="cc"),Edl!X24<>""),1,"") | ... AB24: =IF(AND(OR(Edl!Z24<5,Edl!Z24="c",Edl!Z24="cc"),Edl!Z24<>""),1,"") | AC24: =SUM(S24:AB24)/10*100 -> 0 | AD24: =IF(AND(OR(Edl!AA24<5,Edl!AA24="c",Edl!AA24="cc"),Edl!AA24<>""),1,"") | AE24: =IF(AND(OR(Edl!AB24<5,Edl!AB24="c",Edl!AB24="cc"),Edl!AB24<>""),1,"") | AF24: =IF(AND(OR(Edl!AC24<5,Edl!AC24="c",Edl!AC24="cc"),Edl!AC24<>""),1,"") | AG24: =IF(AND(OR(Edl!AD24<5,Edl!AD24="c",Edl!AD24="cc"),Edl!AD24<>""),1,"") | AH24: =IF(AND(OR(Edl!AE24<5,Edl!AE24="c",Edl!AE24="cc"),Edl!AE24<>""),1,"") | AI24: =IF(AND(OR(Edl!AF24<5,Edl!AF24="c",Edl!AF24="cc"),Edl!AF24<>""),1,"") | AJ24: =IF(AND(OR(Edl!AG24<5,Edl!AG24="c",Edl!AG24="cc"),Edl!AG24<>""),1,"") | AK24: =IF(AND(OR(Edl!AH24<5,Edl!AH24="c",Edl!AH24="cc"),Edl!AH24<>""),1,"") | AL24: =SUM(AD24:AK24)/8*100 -> 0 | AM24: =IF(AND(OR(Edl!AI24<5,Edl!AI24="c",Edl!AI24="cc"),Edl!AI24<>""),1,"") | AN24: =IF(AND(OR(Edl!AJ24<5,Edl!AJ24="c",Edl!AJ24="cc"),Edl!AJ24<>""),1,"") | AO24: =IF(AND(OR(Edl!AK24<5,Edl!AK24="c",Edl!AK24="cc"),Edl!AK24<>""),1,"") | AP24: =IF(AND(OR(Edl!AL24<5,Edl!AL24="c",Edl!AL24="cc"),Edl!AL24<>""),1,"") | AQ24: =IF(AND(OR(Edl!AM24<5,Edl!AM24="c",Edl!AM24="cc"),Edl!AM24<>""),1,"") | AR24: =SUM(AM24:AQ24)/5*100 -> 0 | AS24: =IF(AND(OR(Edl!AN24<5,Edl!AN24="c",Edl!AN24="cc"),Edl!AN24<>""),1,"") | AT24: =IF(AND(OR(Edl!AO24<5,Edl!AO24="c",Edl!AO24="cc"),Edl!AO24<>""),1,"") | AU24: =IF(AND(OR(Edl!AP24<5,Edl!AP24="c",Edl!AP24="cc"),Edl!AP24<>""),1,"") | AV24: =IF(AND(OR(Edl!AQ24<5,Edl!AQ24="c",Edl!AQ24="cc"),Edl!AQ24<>""),1,"") | AW24: =SUM(AS24:AV24)/4*100 -> 0 | AX24: =IF(AND(OR(Edl!AR24<5,Edl!AR24="c",Edl!AR24="cc"),Edl!AR24<>""),1,"") | AY24: =IF(AND(OR(Edl!AS24<5,Edl!AS24="c",Edl!AS24="cc"),Edl!AS24<>""),1,"") | AZ24: =IF(AND(OR(Edl!AT24<5,Edl!AT24="c",Edl!AT24="cc"),Edl!AT24<>""),1,"") | BA24: =IF(AND(OR(Edl!AU24<5,Edl!AU24="c",Edl!AU24="cc"),Edl!AU24<>""),1,"") | BB24: =IF(AND(OR(Edl!AV24<5,Edl!AV24="c",Edl!AV24="cc"),Edl!AV24<>""),1,"") | BC24: =SUM(AX24:BB24)/5*100 -> 0 | BD24: =IF(AND(OR(Edl!AW24<5,Edl!AW24="c",Edl!AW24="cc"),Edl!AW24<>""),1,"") | BE24: =IF(AND(OR(Edl!AX24<5,Edl!AX24="c",Edl!AX24="cc"),Edl!AX24<>""),1,"") | BF24: =IF(AND(OR(Edl!AY24<5,Edl!AY24="c",Edl!AY24="cc"),Edl!AY24<>""),1,"") | BG24: =IF(AND(OR(Edl!AZ24<5,Edl!AZ24="c",Edl!AZ24="cc"),Edl!AZ24<>""),1,"") | BH24: =SUM(BD24:BG24)/4*100 -> 0 | BI24: =IF(AND(OR(Edl!BA24<5,Edl!BA24="c",Edl!BA24="cc"),Edl!BA24<>""),1,"") | BJ24: =IF(AND(OR(Edl!BB24<5,Edl!BB24="c",Edl!BB24="cc"),Edl!BB24<>""),1,"") | BK24: =IF(AND(OR(Edl!BC24<5,Edl!BC24="c",Edl!BC24="cc"),Edl!BC24<>""),1,"") | BL24: =IF(AND(OR(Edl!BD24<5,Edl!BD24="c",Edl!BD24="cc"),Edl!BD24<>""),1,"") | BM24: =IF(AND(OR(Edl!BE24<5,Edl!BE24="c",Edl!BE24="cc"),Edl!BE24<>""),1,"") | BN24: =SUM(BI24:BM24)/5*100 -> 0 | BO24: =IF(AND(OR(Edl!BF24<5,Edl!BF24="c",Edl!BF24="cc"),Edl!BF24<>""),1,"") | BP24: =IF(AND(OR(Edl!BG24<5,Edl!BG24="c",Edl!BG24="cc"),Edl!BG24<>""),1,"") | BQ24: =IF(AND(OR(Edl!BH24<5,Edl!BH24="c",Edl!BH24="cc"),Edl!BH24<>""),1,"") | BR24: =IF(AND(OR(Edl!BI24<5,Edl!BI24="c",Edl!BI24="cc"),Edl!BI24<>""),1,"") | BS24: =IF(AND(OR(Edl!BJ24<5,Edl!BJ24="c",Edl!BJ24="cc"),Edl!BJ24<>""),1,"") | BT24: =IF(AND(OR(Edl!BK24<5,Edl!BK24="c",Edl!BK24="cc"),Edl!BK24<>""),1,"") | BU24: =IF(AND(OR(Edl!BL24<5,Edl!BL24="c",Edl!BL24="cc"),Edl!BL24<>""),1,"") | BV24: =SUM(BO24:BU24)/7*100 -> 0 | BW24: =IF(AND(OR(Edl!BM24<5,Edl!BM24="c",Edl!BM24="cc"),Edl!BM24<>""),1,"") | BX24: =IF(AND(OR(Edl!BN24<5,Edl!BN24="c",Edl!BN24="cc"),Edl!BN24<>""),1,"") | BY24: =IF(AND(OR(Edl!BO24<5,Edl!BO24="c",Edl!BO24="cc"),Edl!BO24<>""),1,"") | BZ24: =IF(AND(OR(Edl!BP24<5,Edl!BP24="c",Edl!BP24="cc"),Edl!BP24<>""),1,"") | CA24: =SUM(BW24:BZ24)/4*100 -> 0 | CB24: =IF(AND(OR(Edl!BQ24<5,Edl!BQ24="c",Edl!BQ24="cc"),Edl!BQ24<>""),1,"") | CC24: =IF(AND(OR(Edl!BR24<5,Edl!BR24="c",Edl!BR24="cc"),Edl!BR24<>""),1,"") | CD24: =IF(AND(OR(Edl!BS24<5,Edl!BS24="c",Edl!BS24="cc"),Edl!BS24<>""),1,"") | CE24: =IF(AND(OR(Edl!BT24<5,Edl!BT24="c",Edl!BT24="cc"),Edl!BT24<>""),1,"") | CF24: =IF(AND(OR(Edl!BU24<5,Edl!BU24="c",Edl!BU24="cc"),Edl!BU24<>""),1,"") | CG24: =IF(AND(OR(Edl!BV24<5,Edl!BV24="c",Edl!BV24="cc"),Edl!BV24<>""),1,"") | CH24: =IF(AND(OR(Edl!BW24<5,Edl!BW24="c",Edl!BW24="cc"),Edl!BW24<>""),1,"") | CI24: =IF(AND(OR(Edl!BX24<5,Edl!BX24="c",Edl!BX24="cc"),Edl!BX24<>""),1,"") | ... CL24: =IF(AND(OR(Edl!CA24<5,Edl!CA24="c",Edl!CA24="cc"),Edl!CA24<>""),1,"") | CM24: =SUM(CB24:CL24)/11*100 -> 0 | CN24: =IF(AND(OR(Edl!CB24<5,Edl!CB24="c",Edl!CB24="cc"),Edl!CB24<>""),1,"") | CO24: =IF(AND(OR(Edl!CC24<5,Edl!CC24="c",Edl!CC24="cc"),Edl!CC24<>""),1,"") | CP24: =IF(AND(OR(Edl!CD24<5,Edl!CD24="c",Edl!CD24="cc"),Edl!CD24<>""),1,"") | CQ24: =IF(AND(OR(Edl!CE24<5,Edl!CE24="c",Edl!CE24="cc"),Edl!CE24<>""),1,"") | CR24: =IF(AND(OR(Edl!CF24<5,Edl!CF24="c",Edl!CF24="cc"),Edl!CF24<>""),1,"") | CS24: =SUM(CN24:CR24)/5*100 -> 0 | CT24: =IF(AND(OR(Edl!CG24<5,Edl!CG24="c",Edl!CG24="cc"),Edl!CG24<>""),1,"") | CU24: =IF(AND(OR(Edl!CH24<5,Edl!CH24="c",Edl!CH24="cc"),Edl!CH24<>""),1,"") | CV24: =IF(AND(OR(Edl!CI24<5,Edl!CI24="c",Edl!CI24="cc"),Edl!CI24<>""),1,"") | CW24: =IF(AND(OR(Edl!CJ24<5,Edl!CJ24="c",Edl!CJ24="cc"),Edl!CJ24<>""),1,"") | CX24: =IF(AND(OR(Edl!CK24<5,Edl!CK24="c",Edl!CK24="cc"),Edl!CK24<>""),1,"") | CY24: =IF(AND(OR(Edl!CL24<5,Edl!CL24="c",Edl!CL24="cc"),Edl!CL24<>""),1,"") | CZ24: =SUM(CT24:CY24)/6*100 -> 0 | DA24: =IF(AND(OR(Edl!CM24<5,Edl!CM24="c",Edl!CM24="cc"),Edl!CM24<>""),1,"") | DB24: =IF(AND(OR(Edl!CN24<5,Edl!CN24="c",Edl!CN24="cc"),Edl!CN24<>""),1,"") | DC24: =IF(AND(OR(Edl!CO24<5,Edl!CO24="c",Edl!CO24="cc"),Edl!CO24<>""),1,"") | DD24: =IF(AND(OR(Edl!CP24<5,Edl!CP24="c",Edl!CP24="cc"),Edl!CP24<>""),1,"") | DE24: =IF(AND(OR(Edl!CQ24<5,Edl!CQ24="c",Edl!CQ24="cc"),Edl!CQ24<>""),1,"") | DF24: =SUM(DA24:DE24)/5*100 -> 0 | DG24: =IF(AND(OR(Edl!CR24<5,Edl!CR24="c",Edl!CR24="cc"),Edl!CR24<>""),1,"") | DH24: =IF(AND(OR(Edl!CS24<5,Edl!CS24="c",Edl!CS24="cc"),Edl!CS24<>""),1,"") | DI24: =IF(AND(OR(Edl!CT24<5,Edl!CT24="c",Edl!CT24="cc"),Edl!CT24<>""),1,"") | DJ24: =IF(AND(OR(Edl!CU24<5,Edl!CU24="c",Edl!CU24="cc"),Edl!CU24<>""),1,"") | DK24: =IF(AND(OR(Edl!CV24<5,Edl!CV24="c",Edl!CV24="cc"),Edl!CV24<>""),1,"") | DL24: =IF(AND(OR(Edl!CW24<5,Edl!CW24="c",Edl!CW24="cc"),Edl!CW24<>""),1,"") | DM24: =IF(AND(OR(Edl!CX24<5,Edl!CX24="c",Edl!CX24="cc"),Edl!CX24<>""),1,"") | DN24: =IF(AND(OR(Edl!CY24<5,Edl!CY24="c",Edl!CY24="cc"),Edl!CY24<>""),1,"") | ... DP24: =IF(AND(OR(Edl!DA24<5,Edl!DA24="c",Edl!DA24="cc"),Edl!DA24<>""),1,"") | DQ24: =SUM(DG24:DP25)/10*100 -> 0 | DR24: =IF(AND(OR(Edl!DB24<5,Edl!DB24="c",Edl!DB24="cc"),Edl!DB24<>""),1,"") | DS24: =IF(AND(OR(Edl!DC24<5,Edl!DC24="c",Edl!DC24="cc"),Edl!DC24<>""),1,"") | DT24: =IF(AND(OR(Edl!DD24<5,Edl!DD24="c",Edl!DD24="cc"),Edl!DD24<>""),1,"") | DU24: =IF(AND(OR(Edl!DE24<5,Edl!DE24="c",Edl!DE24="cc"),Edl!DE24<>""),1,"") | DV24: =IF(AND(OR(Edl!DF24<5,Edl!DF24="c",Edl!DF24="cc"),Edl!DF24<>""),1,"") | DW24: =IF(AND(OR(Edl!DG24<5,Edl!DG24="c",Edl!DG24="cc"),Edl!DG24<>""),1,"") | DX24: =IF(AND(OR(Edl!DH24<5,Edl!DH24="c",Edl!DH24="cc"),Edl!DH24<>""),1,"") | DY24: =IF(AND(OR(Edl!DI24<5,Edl!DI24="c",Edl!DI24="cc"),Edl!DI24<>""),1,"") | ... EC24: =IF(AND(OR(Edl!DM24<5,Edl!DM24="c",Edl!DM24="cc"),Edl!DM24<>""),1,"") | ED24: =SUM(DR24:EC24)/12*100 -> 0
