Workbook
Name Numeration01: Maths!$B$3:$B$35
Name Numeration02: Maths!$C$3:$C$35

Sheet Notice d'utilisation
A4: Une fois les élèves rentrés dans la première colonne, vous pouvez :
A5: * noter C lorsque l'élève a fait un exercice sur le cahier
A6: * noter CC lorsque l'élève a fait 2 exercices sur le cahier
A7: * noter 1, 2, 3 ou 4 lorsque la compétence a été évaluée
A9: Les cases se colorent alors automatiquement pour faciliter visuellement la lecture du tableau

Sheet Edl
B1: 1ère boîte | J1: 2ème boîte | Q1: 3ème boîte | AA1: 4ème boîte | AI1: 5ème boîte | AN1: 6ème boîte | AR1: 7ème boîte | AW1: 1er tiroir | BA1: 2ème tiroir | BF1: 3ème tiroir | BM1: Et aussi … | BQ1: La Phrase | CB1: 1er palier | CG1: 2ème palier | CM1: 3ème palier | CR1: Orthographe Lexicale | DB1: Conjugaison
B2: Gr01 | C2: Gr02 | D2: Gr03 | E2: Gr04 | F2: Or01 | G2: Or02 | H2: Or03 | I2: Or04 | J2: Gr05 | K2: Gr06 | L2: Gr07 | M2: Gr08 | N2: Or05 | O2: Or06 | P2: Or07 | Q2: Gr09 | R2: Gr10 | S2: Gr11 | T2: Gr12 | U2: Gr13 | V2: GR14 | W2: GR15 | X2: Or08 | Y2: Or09 | Z2: Or10 | AA2: Gr16 | AB2: Gr17 | AC2: Gr18 | AD2: GR19 | AE2: GR20 | AF2: OR11 | AG2: OR12 | AH2: Or13 | AI2: Gr21 | AJ2: Gr22 | AK2: Gr23 | AL2: GR24 | AM2: Or14 | AN2: Gr25 | AO2: GR26 | AP2: GR27 | AQ2: Or15 | AR2: Gr28 | AS2: GR29 | AT2: GR30 | AU2: Gr31 | AV2: Or16 | AW2: Gr32 | AX2: GR33 | AY2: Gr34 | AZ2: Or17 | BA2: Gr35 | BB2: Gr36 | BC2: GR37 | BD2: GR38 | BE2: Gr39 | BF2: Gr40 | BG2: Gr41 | BH2: GR42 | BI2: GR43 | BJ2: Gr44 | BK2: GR45 | BL2: Gr46 | BM2: Gr47 | BN2: Gr48 | BO2: Gr49 | BP2: Or18 | BQ2: Gr50 | BR2: Gr51 | BS2: Gr52 | BT2: Gr53 | BU2: Gr54 | BV2: Gr55 | BW2: Gr56 | BX2: Gr57 | BY2: Gr58 | BZ2: Gr59 | CA2: Gr60 | CB2: Or19 | CC2: Or20 | CD2: Or21 | CE2: Or22 | CF2: Or32 | CG2: Or23 | CH2: Or24 | CI2: Or25 | CJ2: Or26 | CK2: Or27 | CL2: Or28 | CM2: Or29 | CN2: Or30 | CO2: Or31 | CP2: Or33 | CQ2: Or34 | CR2: Or35 | CS2: Or36 | CT2: Or37 | CU2: Or38 | CV2: Or39 | CW2: Or40 | CX2: Or41 | CY2: Or42 | CZ2: Or43 | DA2: Or44 | DB2: GV01 | DC2: GV02 | DD2: GV03 | DE2: GV04 | DF2: GV05 | DG2: GV06 | DH2: GV07 | DI2: GV08 | DJ2: GV09 | DK2: GV10 | DL2: GV11 | DM2: GV12
A3: Jules
A4: Emma
A5: Chloé
A6: Océane
A7: Elise
A8: Audran
A9: Coraline
A10: Gabriel
A11: Axel
A12: Camille
A13: Maïna
A16: Elliot
... A28: Kenza

Sheet Edl_Graphique
B1: 1ère boîte | K1: 2ème boîte | S1: 3ème boîte | AD1: 4ème boîte | AM1: 5ème boîte | AS1: 6ème boîte | AX1: 7ème boîte | BD1: 1er tiroir | BI1: 2ème tiroir | BO1: 3ème tiroir | BW1: Et aussi … | CB1: La Phrase | CN1: 1er palier | CT1: 2ème palier | DA1: 3ème palier | DG1: Orthographe Lexicale | DR1: Conjugaison
B2: Gr01 | C2: Gr02 | D2: Gr03 | E2: Gr04 | F2: Or01 | G2: Or02 | H2: Or03 | I2: Or04 | J2: % | K2: Gr05 | L2: Gr06 | M2: Gr07 | N2: Gr08 | O2: Or05 | P2: Or06 | Q2: Or07 | R2: % | S2: Gr09 | T2: Gr10 | U2: Gr11 | V2: Gr12 | W2: Gr13 | X2: GR14 | Y2: GR15 | Z2: Or08 | AA2: Or09 | AB2: Or10 | AC2: % | AD2: Gr16 | AE2: Gr17 | AF2: Gr18 | AG2: GR19 | AH2: GR20 | AI2: OR11 | AJ2: OR12 | AK2: Or13 | AL2: % | AM2: Gr21 | AN2: Gr22 | AO2: Gr23 | AP2: GR24 | AQ2: Or14 | AR2: % | AS2: Gr25 | AT2: GR26 | AU2: GR27 | AV2: Or15 | AW2: % | AX2: Gr28 | AY2: GR29 | AZ2: GR30 | BA2: Gr31 | BB2: Or16 | BC2: % | BD2: Gr32 | BE2: GR33 | BF2: Gr34 | BG2: Or17 | BH2: % | BI2: Gr35 | BJ2: Gr36 | BK2: GR37 | BL2: GR38 | BM2: Gr39 | BN2: % | BO2: Gr40 | BP2: Gr41 | BQ2: GR42 | BR2: GR43 | BS2: Gr44 | BT2: GR45 | BU2: Gr46 | BV2: % | BW2: Gr47 | BX2: Gr48 | BY2: Gr49 | BZ2: Or18 | CA2: % | CB2: Gr50 | CC2: Gr51 | CD2: Gr52 | CE2: Gr53 | CF2: Gr54 | CG2: Gr55 | CH2: Gr56 | CI2: Gr57 | CJ2: Gr58 | CK2: Gr59 | CL2: Gr60 | CM2: % | CN2: Or19 | CO2: Or20 | CP2: Or21 | CQ2: Or22 | CR2: Or32 | CS2: % | CT2: Or23 | CU2: Or24 | CV2: Or25 | CW2: Or26 | CX2: Or27 | CY2: Or28 | CZ2: % | DA2: Or29 | DB2: Or30 | DC2: Or31 | DD2: Or33 | DE2: Or34 | DF2: % | DG2: Or35 | DH2: Or36 | DI2: Or37 | DJ2: Or38 | DK2: Or39 | DL2: Or40 | DM2: Or41 | DN2: Or42 | DO2: Or43 | DP2: Or44 | DQ2: % | DR2: GV01 | DS2: GV02 | DT2: GV03 | DU2: GV04 | DV2: GV05 | DW2: GV06 | DX2: GV07 | DY2: GV08 | DZ2: GV09 | EA2: GV10 | EB2: GV11 | EC2: GV12 | ED2: %
A3: Jules | B3: =IF(AND(OR(Edl!B3<5,Edl!B3="c",Edl!B3="cc"),Edl!B3<>""),1,"") | C3: =IF(AND(OR(Edl!C3<5,Edl!C3="c",Edl!C3="cc"),Edl!C3<>""),1,"") | D3: =IF(AND(OR(Edl!D3<5,Edl!D3="c",Edl!D3="cc"),Edl!D3<>""),1,"") | E3: =IF(AND(OR(Edl!E3<5,Edl!E3="c",Edl!E3="cc"),Edl!E3<>""),1,"") | F3: =IF(AND(OR(Edl!F3<5,Edl!F3="c",Edl!F3="cc"),Edl!F3<>""),1,"") | G3: =IF(AND(OR(Edl!G3<5,Edl!G3="c",Edl!G3="cc"),Edl!G3<>""),1,"") | H3: =IF(AND(OR(Edl!H3<5,Edl!H3="c",Edl!H3="cc"),Edl!H3<>""),1,"") | I3: =IF(AND(OR(Edl!I3<5,Edl!I3="c",Edl!I3="cc"),Edl!I3<>""),1,"") | J3: =SUM(B3:I3)/8*100 -> 0 | K3: =IF(AND(OR(Edl!J3<5,Edl!J3="c",Edl!J3="cc"),Edl!J3<>""),1,"") | L3: =IF(AND(OR(Edl!K3<5,Edl!K3="c",Edl!K3="cc"),Edl!K3<>""),1,"") | M3: =IF(AND(OR(Edl!L3<5,Edl!L3="c",Edl!L3="cc"),Edl!L3<>""),1,"") | N3: =IF(AND(OR(Edl!M3<5,Edl!M3="c",Edl!M3="cc"),Edl!M3<>""),1,"") | O3: =IF(AND(OR(Edl!N3<5,Edl!N3="c",Edl!N3="cc"),Edl!N3<>""),1,"") | P3: =IF(AND(OR(Edl!O3<5,Edl!O3="c",Edl!O3="cc"),Edl!O3<>""),1,"") | Q3: =IF(AND(OR(Edl!P3<5,Edl!P3="c",Edl!P3="cc"),Edl!P3<>""),1,"") | R3: =SUM(K3:Q3)/7*100 -> 0 | S3: =IF(AND(OR(Edl!Q3<5,Edl!Q3="c",Edl!Q3="cc"),Edl!Q3<>""),1,"") | T3: =IF(AND(OR(Edl!R3<5,Edl!R3="c",Edl!R3="cc"),Edl!R3<>""),1,"") | U3: =IF(AND(OR(Edl!S3<5,Edl!S3="c",Edl!S3="cc"),Edl!S3<>""),1,"") | V3: =IF(AND(OR(Edl!T3<5,Edl!T3="c",Edl!T3="cc"),Edl!T3<>""),1,"") | W3: =IF(AND(OR(Edl!U3<5,Edl!U3="c",Edl!U3="cc"),Edl!U3<>""),1,"") | X3: =IF(AND(OR(Edl!V3<5,Edl!V3="c",Edl!V3="cc"),Edl!V3<>""),1,"") | Y3: =IF(AND(OR(Edl!W3<5,Edl!W3="c",Edl!W3="cc"),Edl!W3<>""),1,"") | Z3: =IF(AND(OR(Edl!X3<5,Edl!X3="c",Edl!X3="cc"),Edl!X3<>""),1,"") | ... AB3: =IF(AND(OR(Edl!Z3<5,Edl!Z3="c",Edl!Z3="cc"),Edl!Z3<>""),1,"") | AC3: =SUM(S3:AB3)/10*100 -> 0 | AD3: =IF(AND(OR(Edl!AA3<5,Edl!AA3="c",Edl!AA3="cc"),Edl!AA3<>""),1,"") | AE3: =IF(AND(OR(Edl!AB3<5,Edl!AB3="c",Edl!AB3="cc"),Edl!AB3<>""),1,"") | AF3: =IF(AND(OR(Edl!AC3<5,Edl!AC3="c",Edl!AC3="cc"),Edl!AC3<>""),1,"") | AG3: =IF(AND(OR(Edl!AD3<5,Edl!AD3="c",Edl!AD3="cc"),Edl!AD3<>""),1,"") | AH3: =IF(AND(OR(Edl!AE3<5,Edl!AE3="c",Edl!AE3="cc"),Edl!AE3<>""),1,"") | AI3: =IF(AND(OR(Edl!AF3<5,Edl!AF3="c",Edl!AF3="cc"),Edl!AF3<>""),1,"") | AJ3: =IF(AND(OR(Edl!AG3<5,Edl!AG3="c",Edl!AG3="cc"),Edl!AG3<>""),1,"") | AK3: =IF(AND(OR(Edl!AH3<5,Edl!AH3="c",Edl!AH3="cc"),Edl!AH3<>""),1,"") | AL3: =SUM(AD3:AK3)/8*100 -> 0 | AM3: =IF(AND(OR(Edl!AI3<5,Edl!AI3="c",Edl!AI3="cc"),Edl!AI3<>""),1,"") | AN3: =IF(AND(OR(Edl!AJ3<5,Edl!AJ3="c",Edl!AJ3="cc"),Edl!AJ3<>""),1,"") | AO3: =IF(AND(OR(Edl!AK3<5,Edl!AK3="c",Edl!AK3="cc"),Edl!AK3<>""),1,"") | AP3: =IF(AND(OR(Edl!AL3<5,Edl!AL3="c",Edl!AL3="cc"),Edl!AL3<>""),1,"") | AQ3: =IF(AND(OR(Edl!AM3<5,Edl!AM3="c",Edl!AM3="cc"),Edl!AM3<>""),1,"") | AR3: =SUM(AM3:AQ3)/5*100 -> 0 | AS3: =IF(AND(OR(Edl!AN3<5,Edl!AN3="c",Edl!AN3="cc"),Edl!AN3<>""),1,"") | AT3: =IF(AND(OR(Edl!AO3<5,Edl!AO3="c",Edl!AO3="cc"),Edl!AO3<>""),1,"") | AU3: =IF(AND(OR(Edl!AP3<5,Edl!AP3="c",Edl!AP3="cc"),Edl!AP3<>""),1,"") | AV3: =IF(AND(OR(Edl!AQ3<5,Edl!AQ3="c",Edl!AQ3="cc"),Edl!AQ3<>""),1,"") | AW3: =SUM(AS3:AV3)/4*100 -> 0 | AX3: =IF(AND(OR(Edl!AR3<5,Edl!AR3="c",Edl!AR3="cc"),Edl!AR3<>""),1,"") | AY3: =IF(AND(OR(Edl!AS3<5,Edl!AS3="c",Edl!AS3="cc"),Edl!AS3<>""),1,"") | AZ3: =IF(AND(OR(Edl!AT3<5,Edl!AT3="c",Edl!AT3="cc"),Edl!AT3<>""),1,"") | BA3: =IF(AND(OR(Edl!AU3<5,Edl!AU3="c",Edl!AU3="cc"),Edl!AU3<>""),1,"") | BB3: =IF(AND(OR(Edl!AV3<5,Edl!AV3="c",Edl!AV3="cc"),Edl!AV3<>""),1,"") | BC3: =SUM(AX3:BB3)/5*100 -> 0 | BD3: =IF(AND(OR(Edl!AW3<5,Edl!AW3="c",Edl!AW3="cc"),Edl!AW3<>""),1,"") | BE3: =IF(AND(OR(Edl!AX3<5,Edl!AX3="c",Edl!AX3="cc"),Edl!AX3<>""),1,"") | BF3: =IF(AND(OR(Edl!AY3<5,Edl!AY3="c",Edl!AY3="cc"),Edl!AY3<>""),1,"") | BG3: =IF(AND(OR(Edl!AZ3<5,Edl!AZ3="c",Edl!AZ3="cc"),Edl!AZ3<>""),1,"") | BH3: =SUM(BD3:BG3)/4*100 -> 0 | BI3: =IF(AND(OR(Edl!BA3<5,Edl!BA3="c",Edl!BA3="cc"),Edl!BA3<>""),1,"") | BJ3: =IF(AND(OR(Edl!BB3<5,Edl!BB3="c",Edl!BB3="cc"),Edl!BB3<>""),1,"") | BK3: =IF(AND(OR(Edl!BC3<5,Edl!BC3="c",Edl!BC3="cc"),Edl!BC3<>""),1,"") | BL3: =IF(AND(OR(Edl!BD3<5,Edl!BD3="c",Edl!BD3="cc"),Edl!BD3<>""),1,"") | BM3: =IF(AND(OR(Edl!BE3<5,Edl!BE3="c",Edl!BE3="cc"),Edl!BE3<>""),1,"") | BN3: =SUM(BI3:BM3)/5*100 -> 0 | BO3: =IF(AND(OR(Edl!BF3<5,Edl!BF3="c",Edl!BF3="cc"),Edl!BF3<>""),1,"") | BP3: =IF(AND(OR(Edl!BG3<5,Edl!BG3="c",Edl!BG3="cc"),Edl!BG3<>""),1,"") | BQ3: =IF(AND(OR(Edl!BH3<5,Edl!BH3="c",Edl!BH3="cc"),Edl!BH3<>""),1,"") | BR3: =IF(AND(OR(Edl!BI3<5,Edl!BI3="c",Edl!BI3="cc"),Edl!BI3<>""),1,"") | BS3: =IF(AND(OR(Edl!BJ3<5,Edl!BJ3="c",Edl!BJ3="cc"),Edl!BJ3<>""),1,"") | BT3: =IF(AND(OR(Edl!BK3<5,Edl!BK3="c",Edl!BK3="cc"),Edl!BK3<>""),1,"") | BU3: =IF(AND(OR(Edl!BL3<5,Edl!BL3="c",Edl!BL3="cc"),Edl!BL3<>""),1,"") | BV3: =SUM(BO3:BU3)/7*100 -> 0 | BW3: =IF(AND(OR(Edl!BM3<5,Edl!BM3="c",Edl!BM3="cc"),Edl!BM3<>""),1,"") | BX3: =IF(AND(OR(Edl!BN3<5,Edl!BN3="c",Edl!BN3="cc"),Edl!BN3<>""),1,"") | BY3: =IF(AND(OR(Edl!BO3<5,Edl!BO3="c",Edl!BO3="cc"),Edl!BO3<>""),1,"") | BZ3: =IF(AND(OR(Edl!BP3<5,Edl!BP3="c",Edl!BP3="cc"),Edl!BP3<>""),1,"") | CA3: =SUM(BW3:BZ3)/4*100 -> 0 | CB3: =IF(AND(OR(Edl!BQ3<5,Edl!BQ3="c",Edl!BQ3="cc"),Edl!BQ3<>""),1,"") | CC3: =IF(AND(OR(Edl!BR3<5,Edl!BR3="c",Edl!BR3="cc"),Edl!BR3<>""),1,"") | CD3: =IF(AND(OR(Edl!BS3<5,Edl!BS3="c",Edl!BS3="cc"),Edl!BS3<>""),1,"") | CE3: =IF(AND(OR(Edl!BT3<5,Edl!BT3="c",Edl!BT3="cc"),Edl!BT3<>""),1,"") | CF3: =IF(AND(OR(Edl!BU3<5,Edl!BU3="c",Edl!BU3="cc"),Edl!BU3<>""),1,"") | CG3: =IF(AND(OR(Edl!BV3<5,Edl!BV3="c",Edl!BV3="cc"),Edl!BV3<>""),1,"") | CH3: =IF(AND(OR(Edl!BW3<5,Edl!BW3="c",Edl!BW3="cc"),Edl!BW3<>""),1,"") | CI3: =IF(AND(OR(Edl!BX3<5,Edl!BX3="c",Edl!BX3="cc"),Edl!BX3<>""),1,"") | ... CL3: =IF(AND(OR(Edl!CA3<5,Edl!CA3="c",Edl!CA3="cc"),Edl!CA3<>""),1,"") | CM3: =SUM(CB3:CL3)/11*100 -> 0 | CN3: =IF(AND(OR(Edl!CB3<5,Edl!CB3="c",Edl!CB3="cc"),Edl!CB3<>""),1,"") | CO3: =IF(AND(OR(Edl!CC3<5,Edl!CC3="c",Edl!CC3="cc"),Edl!CC3<>""),1,"") | CP3: =IF(AND(OR(Edl!CD3<5,Edl!CD3="c",Edl!CD3="cc"),Edl!CD3<>""),1,"") | CQ3: =IF(AND(OR(Edl!CE3<5,Edl!CE3="c",Edl!CE3="cc"),Edl!CE3<>""),1,"") | CR3: =IF(AND(OR(Edl!CF3<5,Edl!CF3="c",Edl!CF3="cc"),Edl!CF3<>""),1,"") | CS3: =SUM(CN3:CR3)/5*100 -> 0 | CT3: =IF(AND(OR(Edl!CG3<5,Edl!CG3="c",Edl!CG3="cc"),Edl!CG3<>""),1,"") | CU3: =IF(AND(OR(Edl!CH3<5,Edl!CH3="c",Edl!CH3="cc"),Edl!CH3<>""),1,"") | CV3: =IF(AND(OR(Edl!CI3<5,Edl!CI3="c",Edl!CI3="cc"),Edl!CI3<>""),1,"") | CW3: =IF(AND(OR(Edl!CJ3<5,Edl!CJ3="c",Edl!CJ3="cc"),Edl!CJ3<>""),1,"") | CX3: =IF(AND(OR(Edl!CK3<5,Edl!CK3="c",Edl!CK3="cc"),Edl!CK3<>""),1,"") | CY3: =IF(AND(OR(Edl!CL3<5,Edl!CL3="c",Edl!CL3="cc"),Edl!CL3<>""),1,"") | CZ3: =SUM(CT3:CY3)/6*100 -> 0 | DA3: =IF(AND(OR(Edl!CM3<5,Edl!CM3="c",Edl!CM3="cc"),Edl!CM3<>""),1,"") | DB3: =IF(AND(OR(Edl!CN3<5,Edl!CN3="c",Edl!CN3="cc"),Edl!CN3<>""),1,"") | DC3: =IF(AND(OR(Edl!CO3<5,Edl!CO3="c",Edl!CO3="cc"),Edl!CO3<>""),1,"") | DD3: =IF(AND(OR(Edl!CP3<5,Edl!CP3="c",Edl!CP3="cc"),Edl!CP3<>""),1,"") | DE3: =IF(AND(OR(Edl!CQ3<5,Edl!CQ3="c",Edl!CQ3="cc"),Edl!CQ3<>""),1,"") | DF3: =SUM(DA3:DE3)/5*100 -> 0 | DG3: =IF(AND(OR(Edl!CR3<5,Edl!CR3="c",Edl!CR3="cc"),Edl!CR3<>""),1,"") | DH3: =IF(AND(OR(Edl!CS3<5,Edl!CS3="c",Edl!CS3="cc"),Edl!CS3<>""),1,"") | DI3: =IF(AND(OR(Edl!CT3<5,Edl!CT3="c",Edl!CT3="cc"),Edl!CT3<>""),1,"") | DJ3: =IF(AND(OR(Edl!CU3<5,Edl!CU3="c",Edl!CU3="cc"),Edl!CU3<>""),1,"") | DK3: =IF(AND(OR(Edl!CV3<5,Edl!CV3="c",Edl!CV3="cc"),Edl!CV3<>""),1,"") | DL3: =IF(AND(OR(Edl!CW3<5,Edl!CW3="c",Edl!CW3="cc"),Edl!CW3<>""),1,"") | DM3: =IF(AND(OR(Edl!CX3<5,Edl!CX3="c",Edl!CX3="cc"),Edl!CX3<>""),1,"") | DN3: =IF(AND(OR(Edl!CY3<5,Edl!CY3="c",Edl!CY3="cc"),Edl!CY3<>""),1,"") | ... DP3: =IF(AND(OR(Edl!DA3<5,Edl!DA3="c",Edl!DA3="cc"),Edl!DA3<>""),1,"") | DQ3: =SUM(DG3:DP4)/10*100 -> 0 | DR3: =IF(AND(OR(Edl!DB3<5,Edl!DB3="c",Edl!DB3="cc"),Edl!DB3<>""),1,"") | DS3: =IF(AND(OR(Edl!DC3<5,Edl!DC3="c",Edl!DC3="cc"),Edl!DC3<>""),1,"") | DT3: =IF(AND(OR(Edl!DD3<5,Edl!DD3="c",Edl!DD3="cc"),Edl!DD3<>""),1,"") | DU3: =IF(AND(OR(Edl!DE3<5,Edl!DE3="c",Edl!DE3="cc"),Edl!DE3<>""),1,"") | DV3: =IF(AND(OR(Edl!DF3<5,Edl!DF3="c",Edl!DF3="cc"),Edl!DF3<>""),1,"") | DW3: =IF(AND(OR(Edl!DG3<5,Edl!DG3="c",Edl!DG3="cc"),Edl!DG3<>""),1,"") | DX3: =IF(AND(OR(Edl!DH3<5,Edl!DH3="c",Edl!DH3="cc"),Edl!DH3<>""),1,"") | DY3: =IF(AND(OR(Edl!DI3<5,Edl!DI3="c",Edl!DI3="cc"),Edl!DI3<>""),1,"") | ... EC3: =IF(AND(OR(Edl!DM3<5,Edl!DM3="c",Edl!DM3="cc"),Edl!DM3<>""),1,"") | ED3: =SUM(DR3:EC3)/12*100 -> 0
A4: Emma | B4: =IF(AND(OR(Edl!B4<5,Edl!B4="c",Edl!B4="cc"),Edl!B4<>""),1,"") | C4: =IF(AND(OR(Edl!C4<5,Edl!C4="c",Edl!C4="cc"),Edl!C4<>""),1,"") | D4: =IF(AND(OR(Edl!D4<5,Edl!D4="c",Edl!D4="cc"),Edl!D4<>""),1,"") | E4: =IF(AND(OR(Edl!E4<5,Edl!E4="c",Edl!E4="cc"),Edl!E4<>""),1,"") | F4: =IF(AND(OR(Edl!F4<5,Edl!F4="c",Edl!F4="cc"),Edl!F4<>""),1,"") | G4: =IF(AND(OR(Edl!G4<5,Edl!G4="c",Edl!G4="cc"),Edl!G4<>""),1,"") | H4: =IF(AND(OR(Edl!H4<5,Edl!H4="c",Edl!H4="cc"),Edl!H4<>""),1,"") | I4: =IF(AND(OR(Edl!I4<5,Edl!I4="c",Edl!I4="cc"),Edl!I4<>""),1,"") | J4: =SUM(B4:I4)/8*100 -> 0 | K4: =IF(AND(OR(Edl!J4<5,Edl!J4="c",Edl!J4="cc"),Edl!J4<>""),1,"") | L4: =IF(AND(OR(Edl!K4<5,Edl!K4="c",Edl!K4="cc"),Edl!K4<>""),1,"") | M4: =IF(AND(OR(Edl!L4<5,Edl!L4="c",Edl!L4="cc"),Edl!L4<>""),1,"") | N4: =IF(AND(OR(Edl!M4<5,Edl!M4="c",Edl!M4="cc"),Edl!M4<>""),1,"") | O4: =IF(AND(OR(Edl!N4<5,Edl!N4="c",Edl!N4="cc"),Edl!N4<>""),1,"") | P4: =IF(AND(OR(Edl!O4<5,Edl!O4="c",Edl!O4="cc"),Edl!O4<>""),1,"") | Q4: =IF(AND(OR(Edl!P4<5,Edl!P4="c",Edl!P4="cc"),Edl!P4<>""),1,"") | R4: =SUM(K4:Q4)/7*100 -> 0 | S4: =IF(AND(OR(Edl!Q4<5,Edl!Q4="c",Edl!Q4="cc"),Edl!Q4<>""),1,"") | T4: =IF(AND(OR(Edl!R4<5,Edl!R4="c",Edl!R4="cc"),Edl!R4<>""),1,"") | U4: =IF(AND(OR(Edl!S4<5,Edl!S4="c",Edl!S4="cc"),Edl!S4<>""),1,"") | V4: =IF(AND(OR(Edl!T4<5,Edl!T4="c",Edl!T4="cc"),Edl!T4<>""),1,"") | W4: =IF(AND(OR(Edl!U4<5,Edl!U4="c",Edl!U4="cc"),Edl!U4<>""),1,"") | X4: =IF(AND(OR(Edl!V4<5,Edl!V4="c",Edl!V4="cc"),Edl!V4<>""),1,"") | Y4: =IF(AND(OR(Edl!W4<5,Edl!W4="c",Edl!W4="cc"),Edl!W4<>""),1,"") | Z4: =IF(AND(OR(Edl!X4<5,Edl!X4="c",Edl!X4="cc"),Edl!X4<>""),1,"") | ... AB4: =IF(AND(OR(Edl!Z4<5,Edl!Z4="c",Edl!Z4="cc"),Edl!Z4<>""),1,"") | AC4: =SUM(S4:AB4)/10*100 -> 0 | AD4: =IF(AND(OR(Edl!AA4<5,Edl!AA4="c",Edl!AA4="cc"),Edl!AA4<>""),1,"") | AE4: =IF(AND(OR(Edl!AB4<5,Edl!AB4="c",Edl!AB4="cc"),Edl!AB4<>""),1,"") | AF4: =IF(AND(OR(Edl!AC4<5,Edl!AC4="c",Edl!AC4="cc"),Edl!AC4<>""),1,"") | AG4: =IF(AND(OR(Edl!AD4<5,Edl!AD4="c",Edl!AD4="cc"),Edl!AD4<>""),1,"") | AH4: =IF(AND(OR(Edl!AE4<5,Edl!AE4="c",Edl!AE4="cc"),Edl!AE4<>""),1,"") | AI4: =IF(AND(OR(Edl!AF4<5,Edl!AF4="c",Edl!AF4="cc"),Edl!AF4<>""),1,"") | AJ4: =IF(AND(OR(Edl!AG4<5,Edl!AG4="c",Edl!AG4="cc"),Edl!AG4<>""),1,"") | AK4: =IF(AND(OR(Edl!AH4<5,Edl!AH4="c",Edl!AH4="cc"),Edl!AH4<>""),1,"") | AL4: =SUM(AD4:AK4)/8*100 -> 0 | AM4: =IF(AND(OR(Edl!AI4<5,Edl!AI4="c",Edl!AI4="cc"),Edl!AI4<>""),1,"") | AN4: =IF(AND(OR(Edl!AJ4<5,Edl!AJ4="c",Edl!AJ4="cc"),Edl!AJ4<>""),1,"") | AO4: =IF(AND(OR(Edl!AK4<5,Edl!AK4="c",Edl!AK4="cc"),Edl!AK4<>""),1,"") | AP4: =IF(AND(OR(Edl!AL4<5,Edl!AL4="c",Edl!AL4="cc"),Edl!AL4<>""),1,"") | AQ4: =IF(AND(OR(Edl!AM4<5,Edl!AM4="c",Edl!AM4="cc"),Edl!AM4<>""),1,"") | AR4: =SUM(AM4:AQ4)/5*100 -> 0 | AS4: =IF(AND(OR(Edl!AN4<5,Edl!AN4="c",Edl!AN4="cc"),Edl!AN4<>""),1,"") | AT4: =IF(AND(OR(Edl!AO4<5,Edl!AO4="c",Edl!AO4="cc"),Edl!AO4<>""),1,"") | AU4: =IF(AND(OR(Edl!AP4<5,Edl!AP4="c",Edl!AP4="cc"),Edl!AP4<>""),1,"") | AV4: =IF(AND(OR(Edl!AQ4<5,Edl!AQ4="c",Edl!AQ4="cc"),Edl!AQ4<>""),1,"") | AW4: =SUM(AS4:AV4)/4*100 -> 0 | AX4: =IF(AND(OR(Edl!AR4<5,Edl!AR4="c",Edl!AR4="cc"),Edl!AR4<>""),1,"") | AY4: =IF(AND(OR(Edl!AS4<5,Edl!AS4="c",Edl!AS4="cc"),Edl!AS4<>""),1,"") | AZ4: =IF(AND(OR(Edl!AT4<5,Edl!AT4="c",Edl!AT4="cc"),Edl!AT4<>""),1,"") | BA4: =IF(AND(OR(Edl!AU4<5,Edl!AU4="c",Edl!AU4="cc"),Edl!AU4<>""),1,"") | BB4: =IF(AND(OR(Edl!AV4<5,Edl!AV4="c",Edl!AV4="cc"),Edl!AV4<>""),1,"") | BC4: =SUM(AX4:BB4)/5*100 -> 0 | BD4: =IF(AND(OR(Edl!AW4<5,Edl!AW4="c",Edl!AW4="cc"),Edl!AW4<>""),1,"") | BE4: =IF(AND(OR(Edl!AX4<5,Edl!AX4="c",Edl!AX4="cc"),Edl!AX4<>""),1,"") | BF4: =IF(AND(OR(Edl!AY4<5,Edl!AY4="c",Edl!AY4="cc"),Edl!AY4<>""),1,"") | BG4: =IF(AND(OR(Edl!AZ4<5,Edl!AZ4="c",Edl!AZ4="cc"),Edl!AZ4<>""),1,"") | BH4: =SUM(BD4:BG4)/4*100 -> 0 | BI4: =IF(AND(OR(Edl!BA4<5,Edl!BA4="c",Edl!BA4="cc"),Edl!BA4<>""),1,"") | BJ4: =IF(AND(OR(Edl!BB4<5,Edl!BB4="c",Edl!BB4="cc"),Edl!BB4<>""),1,"") | BK4: =IF(AND(OR(Edl!BC4<5,Edl!BC4="c",Edl!BC4="cc"),Edl!BC4<>""),1,"") | BL4: =IF(AND(OR(Edl!BD4<5,Edl!BD4="c",Edl!BD4="cc"),Edl!BD4<>""),1,"") | BM4: =IF(AND(OR(Edl!BE4<5,Edl!BE4="c",Edl!BE4="cc"),Edl!BE4<>""),1,"") | BN4: =SUM(BI4:BM4)/5*100 -> 0 | BO4: =IF(AND(OR(Edl!BF4<5,Edl!BF4="c",Edl!BF4="cc"),Edl!BF4<>""),1,"") | BP4: =IF(AND(OR(Edl!BG4<5,Edl!BG4="c",Edl!BG4="cc"),Edl!BG4<>""),1,"") | BQ4: =IF(AND(OR(Edl!BH4<5,Edl!BH4="c",Edl!BH4="cc"),Edl!BH4<>""),1,"") | BR4: =IF(AND(OR(Edl!BI4<5,Edl!BI4="c",Edl!BI4="cc"),Edl!BI4<>""),1,"") | BS4: =IF(AND(OR(Edl!BJ4<5,Edl!BJ4="c",Edl!BJ4="cc"),Edl!BJ4<>""),1,"") | BT4: =IF(AND(OR(Edl!BK4<5,Edl!BK4="c",Edl!BK4="cc"),Edl!BK4<>""),1,"") | BU4: =IF(AND(OR(Edl!BL4<5,Edl!BL4="c",Edl!BL4="cc"),Edl!BL4<>""),1,"") | BV4: =SUM(BO4:BU4)/7*100 -> 0 | BW4: =IF(AND(OR(Edl!BM4<5,Edl!BM4="c",Edl!BM4="cc"),Edl!BM4<>""),1,"") | BX4: =IF(AND(OR(Edl!BN4<5,Edl!BN4="c",Edl!BN4="cc"),Edl!BN4<>""),1,"") | BY4: =IF(AND(OR(Edl!BO4<5,Edl!BO4="c",Edl!BO4="cc"),Edl!BO4<>""),1,"") | BZ4: =IF(AND(OR(Edl!BP4<5,Edl!BP4="c",Edl!BP4="cc"),Edl!BP4<>""),1,"") | CA4: =SUM(BW4:BZ4)/4*100 -> 0 | CB4: =IF(AND(OR(Edl!BQ4<5,Edl!BQ4="c",Edl!BQ4="cc"),Edl!BQ4<>""),1,"") | CC4: =IF(AND(OR(Edl!BR4<5,Edl!BR4="c",Edl!BR4="cc"),Edl!BR4<>""),1,"") | CD4: =IF(AND(OR(Edl!BS4<5,Edl!BS4="c",Edl!BS4="cc"),Edl!BS4<>""),1,"") | CE4: =IF(AND(OR(Edl!BT4<5,Edl!BT4="c",Edl!BT4="cc"),Edl!BT4<>""),1,"") | CF4: =IF(AND(OR(Edl!BU4<5,Edl!BU4="c",Edl!BU4="cc"),Edl!BU4<>""),1,"") | CG4: =IF(AND(OR(Edl!BV4<5,Edl!BV4="c",Edl!BV4="cc"),Edl!BV4<>""),1,"") | CH4: =IF(AND(OR(Edl!BW4<5,Edl!BW4="c",Edl!BW4="cc"),Edl!BW4<>""),1,"") | CI4: =IF(AND(OR(Edl!BX4<5,Edl!BX4="c",Edl!BX4="cc"),Edl!BX4<>""),1,"") | ... CL4: =IF(AND(OR(Edl!CA4<5,Edl!CA4="c",Edl!CA4="cc"),Edl!CA4<>""),1,"") | CM4: =SUM(CB4:CL4)/11*100 -> 0 | CN4: =IF(AND(OR(Edl!CB4<5,Edl!CB4="c",Edl!CB4="cc"),Edl!CB4<>""),1,"") | CO4: =IF(AND(OR(Edl!CC4<5,Edl!CC4="c",Edl!CC4="cc"),Edl!CC4<>""),1,"") | CP4: =IF(AND(OR(Edl!CD4<5,Edl!CD4="c",Edl!CD4="cc"),Edl!CD4<>""),1,"") | CQ4: =IF(AND(OR(Edl!CE4<5,Edl!CE4="c",Edl!CE4="cc"),Edl!CE4<>""),1,"") | CR4: =IF(AND(OR(Edl!CF4<5,Edl!CF4="c",Edl!CF4="cc"),Edl!CF4<>""),1,"") | CS4: =SUM(CN4:CR4)/5*100 -> 0 | CT4: =IF(AND(OR(Edl!CG4<5,Edl!CG4="c",Edl!CG4="cc"),Edl!CG4<>""),1,"") | CU4: =IF(AND(OR(Edl!CH4<5,Edl!CH4="c",Edl!CH4="cc"),Edl!CH4<>""),1,"") | CV4: =IF(AND(OR(Edl!CI4<5,Edl!CI4="c",Edl!CI4="cc"),Edl!CI4<>""),1,"") | CW4: =IF(AND(OR(Edl!CJ4<5,Edl!CJ4="c",Edl!CJ4="cc"),Edl!CJ4<>""),1,"") | CX4: =IF(AND(OR(Edl!CK4<5,Edl!CK4="c",Edl!CK4="cc"),Edl!CK4<>""),1,"") | CY4: =IF(AND(OR(Edl!CL4<5,Edl!CL4="c",Edl!CL4="cc"),Edl!CL4<>""),1,"") | CZ4: =SUM(CT4:CY4)/6*100 -> 0 | DA4: =IF(AND(OR(Edl!CM4<5,Edl!CM4="c",Edl!CM4="cc"),Edl!CM4<>""),1,"") | DB4: =IF(AND(OR(Edl!CN4<5,Edl!CN4="c",Edl!CN4="cc"),Edl!CN4<>""),1,"") | DC4: =IF(AND(OR(Edl!CO4<5,Edl!CO4="c",Edl!CO4="cc"),Edl!CO4<>""),1,"") | DD4: =IF(AND(OR(Edl!CP4<5,Edl!CP4="c",Edl!CP4="cc"),Edl!CP4<>""),1,"") | DE4: =IF(AND(OR(Edl!CQ4<5,Edl!CQ4="c",Edl!CQ4="cc"),Edl!CQ4<>""),1,"") | DF4: =SUM(DA4:DE4)/5*100 -> 0 | DG4: =IF(AND(OR(Edl!CR4<5,Edl!CR4="c",Edl!CR4="cc"),Edl!CR4<>""),1,"") | DH4: =IF(AND(OR(Edl!CS4<5,Edl!CS4="c",Edl!CS4="cc"),Edl!CS4<>""),1,"") | DI4: =IF(AND(OR(Edl!CT4<5,Edl!CT4="c",Edl!CT4="cc"),Edl!CT4<>""),1,"") | DJ4: =IF(AND(OR(Edl!CU4<5,Edl!CU4="c",Edl!CU4="cc"),Edl!CU4<>""),1,"") | DK4: =IF(AND(OR(Edl!CV4<5,Edl!CV4="c",Edl!CV4="cc"),Edl!CV4<>""),1,"") | DL4: =IF(AND(OR(Edl!CW4<5,Edl!CW4="c",Edl!CW4="cc"),Edl!CW4<>""),1,"") | DM4: =IF(AND(OR(Edl!CX4<5,Edl!CX4="c",Edl!CX4="cc"),Edl!CX4<>""),1,"") | DN4: =IF(AND(OR(Edl!CY4<5,Edl!CY4="c",Edl!CY4="cc"),Edl!CY4<>""),1,"") | ... DP4: =IF(AND(OR(Edl!DA4<5,Edl!DA4="c",Edl!DA4="cc"),Edl!DA4<>""),1,"") | DQ4: =SUM(DG4:DP5)/10*100 -> 0 | DR4: =IF(AND(OR(Edl!DB4<5,Edl!DB4="c",Edl!DB4="cc"),Edl!DB4<>""),1,"") | DS4: =IF(AND(OR(Edl!DC4<5,Edl!DC4="c",Edl!DC4="cc"),Edl!DC4<>""),1,"") | DT4: =IF(AND(OR(Edl!DD4<5,Edl!DD4="c",Edl!DD4="cc"),Edl!DD4<>""),1,"") | DU4: =IF(AND(OR(Edl!DE4<5,Edl!DE4="c",Edl!DE4="cc"),Edl!DE4<>""),1,"") | DV4: =IF(AND(OR(Edl!DF4<5,Edl!DF4="c",Edl!DF4="cc"),Edl!DF4<>""),1,"") | DW4: =IF(AND(OR(Edl!DG4<5,Edl!DG4="c",Edl!DG4="cc"),Edl!DG4<>""),1,"") | DX4: =IF(AND(OR(Edl!DH4<5,Edl!DH4="c",Edl!DH4="cc"),Edl!DH4<>""),1,"") | DY4: =IF(AND(OR(Edl!DI4<5,Edl!DI4="c",Edl!DI4="cc"),Edl!DI4<>""),1,"") | ... EC4: =IF(AND(OR(Edl!DM4<5,Edl!DM4="c",Edl!DM4="cc"),Edl!DM4<>""),1,"") | ED4: =SUM(DR4:EC4)/12*100 -> 0
A5: Chloé | B5: =IF(AND(OR(Edl!B5<5,Edl!B5="c",Edl!B5="cc"),Edl!B5<>""),1,"") | C5: =IF(AND(OR(Edl!C5<5,Edl!C5="c",Edl!C5="cc"),Edl!C5<>""),1,"") | D5: =IF(AND(OR(Edl!D5<5,Edl!D5="c",Edl!D5="cc"),Edl!D5<>""),1,"") | E5: =IF(AND(OR(Edl!E5<5,Edl!E5="c",Edl!E5="cc"),Edl!E5<>""),1,"") | F5: =IF(AND(OR(Edl!F5<5,Edl!F5="c",Edl!F5="cc"),Edl!F5<>""),1,"") | G5: =IF(AND(OR(Edl!G5<5,Edl!G5="c",Edl!G5="cc"),Edl!G5<>""),1,"") | H5: =IF(AND(OR(Edl!H5<5,Edl!H5="c",Edl!H5="cc"),Edl!H5<>""),1,"") | I5: =IF(AND(OR(Edl!I5<5,Edl!I5="c",Edl!I5="cc"),Edl!I5<>""),1,"") | J5: =SUM(B5:I5)/8*100 -> 0 | K5: =IF(AND(OR(Edl!J5<5,Edl!J5="c",Edl!J5="cc"),Edl!J5<>""),1,"") | L5: =IF(AND(OR(Edl!K5<5,Edl!K5="c",Edl!K5="cc"),Edl!K5<>""),1,"") | M5: =IF(AND(OR(Edl!L5<5,Edl!L5="c",Edl!L5="cc"),Edl!L5<>""),1,"") | N5: =IF(AND(OR(Edl!M5<5,Edl!M5="c",Edl!M5="cc"),Edl!M5<>""),1,"") | O5: =IF(AND(OR(Edl!N5<5,Edl!N5="c",Edl!N5="cc"),Edl!N5<>""),1,"") | P5: =IF(AND(OR(Edl!O5<5,Edl!O5="c",Edl!O5="cc"),Edl!O5<>""),1,"") | Q5: =IF(AND(OR(Edl!P5<5,Edl!P5="c",Edl!P5="cc"),Edl!P5<>""),1,"") | R5: =SUM(K5:Q5)/7*100 -> 0 | S5: =IF(AND(OR(Edl!Q5<5,Edl!Q5="c",Edl!Q5="cc"),Edl!Q5<>""),1,"") | T5: =IF(AND(OR(Edl!R5<5,Edl!R5="c",Edl!R5="cc"),Edl!R5<>""),1,"") | U5: =IF(AND(OR(Edl!S5<5,Edl!S5="c",Edl!S5="cc"),Edl!S5<>""),1,"") | V5: =IF(AND(OR(Edl!T5<5,Edl!T5="c",Edl!T5="cc"),Edl!T5<>""),1,"") | W5: =IF(AND(OR(Edl!U5<5,Edl!U5="c",Edl!U5="cc"),Edl!U5<>""),1,"") | X5: =IF(AND(OR(Edl!V5<5,Edl!V5="c",Edl!V5="cc"),Edl!V5<>""),1,"") | Y5: =IF(AND(OR(Edl!W5<5,Edl!W5="c",Edl!W5="cc"),Edl!W5<>""),1,"") | Z5: =IF(AND(OR(Edl!X5<5,Edl!X5="c",Edl!X5="cc"),Edl!X5<>""),1,"") | ... AB5: =IF(AND(OR(Edl!Z5<5,Edl!Z5="c",Edl!Z5="cc"),Edl!Z5<>""),1,"") | AC5: =SUM(S5:AB5)/10*100 -> 0 | AD5: =IF(AND(OR(Edl!AA5<5,Edl!AA5="c",Edl!AA5="cc"),Edl!AA5<>""),1,"") | AE5: =IF(AND(OR(Edl!AB5<5,Edl!AB5="c",Edl!AB5="cc"),Edl!AB5<>""),1,"") | AF5: =IF(AND(OR(Edl!AC5<5,Edl!AC5="c",Edl!AC5="cc"),Edl!AC5<>""),1,"") | AG5: =IF(AND(OR(Edl!AD5<5,Edl!AD5="c",Edl!AD5="cc"),Edl!AD5<>""),1,"") | AH5: =IF(AND(OR(Edl!AE5<5,Edl!AE5="c",Edl!AE5="cc"),Edl!AE5<>""),1,"") | AI5: =IF(AND(OR(Edl!AF5<5,Edl!AF5="c",Edl!AF5="cc"),Edl!AF5<>""),1,"") | AJ5: =IF(AND(OR(Edl!AG5<5,Edl!AG5="c",Edl!AG5="cc"),Edl!AG5<>""),1,"") | AK5: =IF(AND(OR(Edl!AH5<5,Edl!AH5="c",Edl!AH5="cc"),Edl!AH5<>""),1,"") | AL5: =SUM(AD5:AK5)/8*100 -> 0 | AM5: =IF(AND(OR(Edl!AI5<5,Edl!AI5="c",Edl!AI5="cc"),Edl!AI5<>""),1,"") | AN5: =IF(AND(OR(Edl!AJ5<5,Edl!AJ5="c",Edl!AJ5="cc"),Edl!AJ5<>""),1,"") | AO5: =IF(AND(OR(Edl!AK5<5,Edl!AK5="c",Edl!AK5="cc"),Edl!AK5<>""),1,"") | AP5: =IF(AND(OR(Edl!AL5<5,Edl!AL5="c",Edl!AL5="cc"),Edl!AL5<>""),1,"") | AQ5: =IF(AND(OR(Edl!AM5<5,Edl!AM5="c",Edl!AM5="cc"),Edl!AM5<>""),1,"") | AR5: =SUM(AM5:AQ5)/5*100 -> 0 | AS5: =IF(AND(OR(Edl!AN5<5,Edl!AN5="c",Edl!AN5="cc"),Edl!AN5<>""),1,"") | AT5: =IF(AND(OR(Edl!AO5<5,Edl!AO5="c",Edl!AO5="cc"),Edl!AO5<>""),1,"") | AU5: =IF(AND(OR(Edl!AP5<5,Edl!AP5="c",Edl!AP5="cc"),Edl!AP5<>""),1,"") | AV5: =IF(AND(OR(Edl!AQ5<5,Edl!AQ5="c",Edl!AQ5="cc"),Edl!AQ5<>""),1,"") | AW5: =SUM(AS5:AV5)/4*100 -> 0 | AX5: =IF(AND(OR(Edl!AR5<5,Edl!AR5="c",Edl!AR5="cc"),Edl!AR5<>""),1,"") | AY5: =IF(AND(OR(Edl!AS5<5,Edl!AS5="c",Edl!AS5="cc"),Edl!AS5<>""),1,"") | AZ5: =IF(AND(OR(Edl!AT5<5,Edl!AT5="c",Edl!AT5="cc"),Edl!AT5<>""),1,"") | BA5: =IF(AND(OR(Edl!AU5<5,Edl!AU5="c",Edl!AU5="cc"),Edl!AU5<>""),1,"") | BB5: =IF(AND(OR(Edl!AV5<5,Edl!AV5="c",Edl!AV5="cc"),Edl!AV5<>""),1,"") | BC5: =SUM(AX5:BB5)/5*100 -> 0 | BD5: =IF(AND(OR(Edl!AW5<5,Edl!AW5="c",Edl!AW5="cc"),Edl!AW5<>""),1,"") | BE5: =IF(AND(OR(Edl!AX5<5,Edl!AX5="c",Edl!AX5="cc"),Edl!AX5<>""),1,"") | BF5: =IF(AND(OR(Edl!AY5<5,Edl!AY5="c",Edl!AY5="cc"),Edl!AY5<>""),1,"") | BG5: =IF(AND(OR(Edl!AZ5<5,Edl!AZ5="c",Edl!AZ5="cc"),Edl!AZ5<>""),1,"") | BH5: =SUM(BD5:BG5)/4*100 -> 0 | BI5: =IF(AND(OR(Edl!BA5<5,Edl!BA5="c",Edl!BA5="cc"),Edl!BA5<>""),1,"") | BJ5: =IF(AND(OR(Edl!BB5<5,Edl!BB5="c",Edl!BB5="cc"),Edl!BB5<>""),1,"") | BK5: =IF(AND(OR(Edl!BC5<5,Edl!BC5="c",Edl!BC5="cc"),Edl!BC5<>""),1,"") | BL5: =IF(AND(OR(Edl!BD5<5,Edl!BD5="c",Edl!BD5="cc"),Edl!BD5<>""),1,"") | BM5: =IF(AND(OR(Edl!BE5<5,Edl!BE5="c",Edl!BE5="cc"),Edl!BE5<>""),1,"") | BN5: =SUM(BI5:BM5)/5*100 -> 0 | BO5: =IF(AND(OR(Edl!BF5<5,Edl!BF5="c",Edl!BF5="cc"),Edl!BF5<>""),1,"") | BP5: =IF(AND(OR(Edl!BG5<5,Edl!BG5="c",Edl!BG5="cc"),Edl!BG5<>""),1,"") | BQ5: =IF(AND(OR(Edl!BH5<5,Edl!BH5="c",Edl!BH5="cc"),Edl!BH5<>""),1,"") | BR5: =IF(AND(OR(Edl!BI5<5,Edl!BI5="c",Edl!BI5="cc"),Edl!BI5<>""),1,"") | BS5: =IF(AND(OR(Edl!BJ5<5,Edl!BJ5="c",Edl!BJ5="cc"),Edl!BJ5<>""),1,"") | BT5: =IF(AND(OR(Edl!BK5<5,Edl!BK5="c",Edl!BK5="cc"),Edl!BK5<>""),1,"") | BU5: =IF(AND(OR(Edl!BL5<5,Edl!BL5="c",Edl!BL5="cc"),Edl!BL5<>""),1,"") | BV5: =SUM(BO5:BU5)/7*100 -> 0 | BW5: =IF(AND(OR(Edl!BM5<5,Edl!BM5="c",Edl!BM5="cc"),Edl!BM5<>""),1,"") | BX5: =IF(AND(OR(Edl!BN5<5,Edl!BN5="c",Edl!BN5="cc"),Edl!BN5<>""),1,"") | BY5: =IF(AND(OR(Edl!BO5<5,Edl!BO5="c",Edl!BO5="cc"),Edl!BO5<>""),1,"") | BZ5: =IF(AND(OR(Edl!BP5<5,Edl!BP5="c",Edl!BP5="cc"),Edl!BP5<>""),1,"") | CA5: =SUM(BW5:BZ5)/4*100 -> 0 | CB5: =IF(AND(OR(Edl!BQ5<5,Edl!BQ5="c",Edl!BQ5="cc"),Edl!BQ5<>""),1,"") | CC5: =IF(AND(OR(Edl!BR5<5,Edl!BR5="c",Edl!BR5="cc"),Edl!BR5<>""),1,"") | CD5: =IF(AND(OR(Edl!BS5<5,Edl!BS5="c",Edl!BS5="cc"),Edl!BS5<>""),1,"") | CE5: =IF(AND(OR(Edl!BT5<5,Edl!BT5="c",Edl!BT5="cc"),Edl!BT5<>""),1,"") | CF5: =IF(AND(OR(Edl!BU5<5,Edl!BU5="c",Edl!BU5="cc"),Edl!BU5<>""),1,"") | CG5: =IF(AND(OR(Edl!BV5<5,Edl!BV5="c",Edl!BV5="cc"),Edl!BV5<>""),1,"") | CH5: =IF(AND(OR(Edl!BW5<5,Edl!BW5="c",Edl!BW5="cc"),Edl!BW5<>""),1,"") | CI5: =IF(AND(OR(Edl!BX5<5,Edl!BX5="c",Edl!BX5="cc"),Edl!BX5<>""),1,"") | ... CL5: =IF(AND(OR(Edl!CA5<5,Edl!CA5="c",Edl!CA5="cc"),Edl!CA5<>""),1,"") | CM5: =SUM(CB5:CL5)/11*100 -> 0 | CN5: =IF(AND(OR(Edl!CB5<5,Edl!CB5="c",Edl!CB5="cc"),Edl!CB5<>""),1,"") | CO5: =IF(AND(OR(Edl!CC5<5,Edl!CC5="c",Edl!CC5="cc"),Edl!CC5<>""),1,"") | CP5: =IF(AND(OR(Edl!CD5<5,Edl!CD5="c",Edl!CD5="cc"),Edl!CD5<>""),1,"") | CQ5: =IF(AND(OR(Edl!CE5<5,Edl!CE5="c",Edl!CE5="cc"),Edl!CE5<>""),1,"") | CR5: =IF(AND(OR(Edl!CF5<5,Edl!CF5="c",Edl!CF5="cc"),Edl!CF5<>""),1,"") | CS5: =SUM(CN5:CR5)/5*100 -> 0 | CT5: =IF(AND(OR(Edl!CG5<5,Edl!CG5="c",Edl!CG5="cc"),Edl!CG5<>""),1,"") | CU5: =IF(AND(OR(Edl!CH5<5,Edl!CH5="c",Edl!CH5="cc"),Edl!CH5<>""),1,"") | CV5: =IF(AND(OR(Edl!CI5<5,Edl!CI5="c",Edl!CI5="cc"),Edl!CI5<>""),1,"") | CW5: =IF(AND(OR(Edl!CJ5<5,Edl!CJ5="c",Edl!CJ5="cc"),Edl!CJ5<>""),1,"") | CX5: =IF(AND(OR(Edl!CK5<5,Edl!CK5="c",Edl!CK5="cc"),Edl!CK5<>""),1,"") | CY5: =IF(AND(OR(Edl!CL5<5,Edl!CL5="c",Edl!CL5="cc"),Edl!CL5<>""),1,"") | CZ5: =SUM(CT5:CY5)/6*100 -> 0 | DA5: =IF(AND(OR(Edl!CM5<5,Edl!CM5="c",Edl!CM5="cc"),Edl!CM5<>""),1,"") | DB5: =IF(AND(OR(Edl!CN5<5,Edl!CN5="c",Edl!CN5="cc"),Edl!CN5<>""),1,"") | DC5: =IF(AND(OR(Edl!CO5<5,Edl!CO5="c",Edl!CO5="cc"),Edl!CO5<>""),1,"") | DD5: =IF(AND(OR(Edl!CP5<5,Edl!CP5="c",Edl!CP5="cc"),Edl!CP5<>""),1,"") | DE5: =IF(AND(OR(Edl!CQ5<5,Edl!CQ5="c",Edl!CQ5="cc"),Edl!CQ5<>""),1,"") | DF5: =SUM(DA5:DE5)/5*100 -> 0 | DG5: =IF(AND(OR(Edl!CR5<5,Edl!CR5="c",Edl!CR5="cc"),Edl!CR5<>""),1,"") | DH5: =IF(AND(OR(Edl!CS5<5,Edl!CS5="c",Edl!CS5="cc"),Edl!CS5<>""),1,"") | DI5: =IF(AND(OR(Edl!CT5<5,Edl!CT5="c",Edl!CT5="cc"),Edl!CT5<>""),1,"") | DJ5: =IF(AND(OR(Edl!CU5<5,Edl!CU5="c",Edl!CU5="cc"),Edl!CU5<>""),1,"") | DK5: =IF(AND(OR(Edl!CV5<5,Edl!CV5="c",Edl!CV5="cc"),Edl!CV5<>""),1,"") | DL5: =IF(AND(OR(Edl!CW5<5,Edl!CW5="c",Edl!CW5="cc"),Edl!CW5<>""),1,"") | DM5: =IF(AND(OR(Edl!CX5<5,Edl!CX5="c",Edl!CX5="cc"),Edl!CX5<>""),1,"") | DN5: =IF(AND(OR(Edl!CY5<5,Edl!CY5="c",Edl!CY5="cc"),Edl!CY5<>""),1,"") | ... DP5: =IF(AND(OR(Edl!DA5<5,Edl!DA5="c",Edl!DA5="cc"),Edl!DA5<>""),1,"") | DQ5: =SUM(DG5:DP6)/10*100 -> 0 | DR5: =IF(AND(OR(Edl!DB5<5,Edl!DB5="c",Edl!DB5="cc"),Edl!DB5<>""),1,"") | DS5: =IF(AND(OR(Edl!DC5<5,Edl!DC5="c",Edl!DC5="cc"),Edl!DC5<>""),1,"") | DT5: =IF(AND(OR(Edl!DD5<5,Edl!DD5="c",Edl!DD5="cc"),Edl!DD5<>""),1,"") | DU5: =IF(AND(OR(Edl!DE5<5,Edl!DE5="c",Edl!DE5="cc"),Edl!DE5<>""),1,"") | DV5: =IF(AND(OR(Edl!DF5<5,Edl!DF5="c",Edl!DF5="cc"),Edl!DF5<>""),1,"") | DW5: =IF(AND(OR(Edl!DG5<5,Edl!DG5="c",Edl!DG5="cc"),Edl!DG5<>""),1,"") | DX5: =IF(AND(OR(Edl!DH5<5,Edl!DH5="c",Edl!DH5="cc"),Edl!DH5<>""),1,"") | DY5: =IF(AND(OR(Edl!DI5<5,Edl!DI5="c",Edl!DI5="cc"),Edl!DI5<>""),1,"") | ... EC5: =IF(AND(OR(Edl!DM5<5,Edl!DM5="c",Edl!DM5="cc"),Edl!DM5<>""),1,"") | ED5: =SUM(DR5:EC5)/12*100 -> 0
A6: Océane | B6: =IF(AND(OR(Edl!B6<5,Edl!B6="c",Edl!B6="cc"),Edl!B6<>""),1,"") | C6: =IF(AND(OR(Edl!C6<5,Edl!C6="c",Edl!C6="cc"),Edl!C6<>""),1,"") | D6: =IF(AND(OR(Edl!D6<5,Edl!D6="c",Edl!D6="cc"),Edl!D6<>""),1,"") | E6: =IF(AND(OR(Edl!E6<5,Edl!E6="c",Edl!E6="cc"),Edl!E6<>""),1,"") | F6: =IF(AND(OR(Edl!F6<5,Edl!F6="c",Edl!F6="cc"),Edl!F6<>""),1,"") | G6: =IF(AND(OR(Edl!G6<5,Edl!G6="c",Edl!G6="cc"),Edl!G6<>""),1,"") | H6: =IF(AND(OR(Edl!H6<5,Edl!H6="c",Edl!H6="cc"),Edl!H6<>""),1,"") | I6: =IF(AND(OR(Edl!I6<5,Edl!I6="c",Edl!I6="cc"),Edl!I6<>""),1,"") | J6: =SUM(B6:I6)/8*100 -> 0 | K6: =IF(AND(OR(Edl!J6<5,Edl!J6="c",Edl!J6="cc"),Edl!J6<>""),1,"") | L6: =IF(AND(OR(Edl!K6<5,Edl!K6="c",Edl!K6="cc"),Edl!K6<>""),1,"") | M6: =IF(AND(OR(Edl!L6<5,Edl!L6="c",Edl!L6="cc"),Edl!L6<>""),1,"") | N6: =IF(AND(OR(Edl!M6<5,Edl!M6="c",Edl!M6="cc"),Edl!M6<>""),1,"") | O6: =IF(AND(OR(Edl!N6<5,Edl!N6="c",Edl!N6="cc"),Edl!N6<>""),1,"") | P6: =IF(AND(OR(Edl!O6<5,Edl!O6="c",Edl!O6="cc"),Edl!O6<>""),1,"") | Q6: =IF(AND(OR(Edl!P6<5,Edl!P6="c",Edl!P6="cc"),Edl!P6<>""),1,"") | R6: =SUM(K6:Q6)/7*100 -> 0 | S6: =IF(AND(OR(Edl!Q6<5,Edl!Q6="c",Edl!Q6="cc"),Edl!Q6<>""),1,"") | T6: =IF(AND(OR(Edl!R6<5,Edl!R6="c",Edl!R6="cc"),Edl!R6<>""),1,"") | U6: =IF(AND(OR(Edl!S6<5,Edl!S6="c",Edl!S6="cc"),Edl!S6<>""),1,"") | V6: =IF(AND(OR(Edl!T6<5,Edl!T6="c",Edl!T6="cc"),Edl!T6<>""),1,"") | W6: =IF(AND(OR(Edl!U6<5,Edl!U6="c",Edl!U6="cc"),Edl!U6<>""),1,"") | X6: =IF(AND(OR(Edl!V6<5,Edl!V6="c",Edl!V6="cc"),Edl!V6<>""),1,"") | Y6: =IF(AND(OR(Edl!W6<5,Edl!W6="c",Edl!W6="cc"),Edl!W6<>""),1,"") | Z6: =IF(AND(OR(Edl!X6<5,Edl!X6="c",Edl!X6="cc"),Edl!X6<>""),1,"") | ... AB6: =IF(AND(OR(Edl!Z6<5,Edl!Z6="c",Edl!Z6="cc"),Edl!Z6<>""),1,"") | AC6: =SUM(S6:AB6)/10*100 -> 0 | AD6: =IF(AND(OR(Edl!AA6<5,Edl!AA6="c",Edl!AA6="cc"),Edl!AA6<>""),1,"") | AE6: =IF(AND(OR(Edl!AB6<5,Edl!AB6="c",Edl!AB6="cc"),Edl!AB6<>""),1,"") | AF6: =IF(AND(OR(Edl!AC6<5,Edl!AC6="c",Edl!AC6="cc"),Edl!AC6<>""),1,"") | AG6: =IF(AND(OR(Edl!AD6<5,Edl!AD6="c",Edl!AD6="cc"),Edl!AD6<>""),1,"") | AH6: =IF(AND(OR(Edl!AE6<5,Edl!AE6="c",Edl!AE6="cc"),Edl!AE6<>""),1,"") | AI6: =IF(AND(OR(Edl!AF6<5,Edl!AF6="c",Edl!AF6="cc"),Edl!AF6<>""),1,"") | AJ6: =IF(AND(OR(Edl!AG6<5,Edl!AG6="c",Edl!AG6="cc"),Edl!AG6<>""),1,"") | AK6: =IF(AND(OR(Edl!AH6<5,Edl!AH6="c",Edl!AH6="cc"),Edl!AH6<>""),1,"") | AL6: =SUM(AD6:AK6)/8*100 -> 0 | AM6: =IF(AND(OR(Edl!AI6<5,Edl!AI6="c",Edl!AI6="cc"),Edl!AI6<>""),1,"") | AN6: =IF(AND(OR(Edl!AJ6<5,Edl!AJ6="c",Edl!AJ6="cc"),Edl!AJ6<>""),1,"") | AO6: =IF(AND(OR(Edl!AK6<5,Edl!AK6="c",Edl!AK6="cc"),Edl!AK6<>""),1,"") | AP6: =IF(AND(OR(Edl!AL6<5,Edl!AL6="c",Edl!AL6="cc"),Edl!AL6<>""),1,"") | AQ6: =IF(AND(OR(Edl!AM6<5,Edl!AM6="c",Edl!AM6="cc"),Edl!AM6<>""),1,"") | AR6: =SUM(AM6:AQ6)/5*100 -> 0 | AS6: =IF(AND(OR(Edl!AN6<5,Edl!AN6="c",Edl!AN6="cc"),Edl!AN6<>""),1,"") | AT6: =IF(AND(OR(Edl!AO6<5,Edl!AO6="c",Edl!AO6="cc"),Edl!AO6<>""),1,"") | AU6: =IF(AND(OR(Edl!AP6<5,Edl!AP6="c",Edl!AP6="cc"),Edl!AP6<>""),1,"") | AV6: =IF(AND(OR(Edl!AQ6<5,Edl!AQ6="c",Edl!AQ6="cc"),Edl!AQ6<>""),1,"") | AW6: =SUM(AS6:AV6)/4*100 -> 0 | AX6: =IF(AND(OR(Edl!AR6<5,Edl!AR6="c",Edl!AR6="cc"),Edl!AR6<>""),1,"") | AY6: =IF(AND(OR(Edl!AS6<5,Edl!AS6="c",Edl!AS6="cc"),Edl!AS6<>""),1,"") | AZ6: =IF(AND(OR(Edl!AT6<5,Edl!AT6="c",Edl!AT6="cc"),Edl!AT6<>""),1,"") | BA6: =IF(AND(OR(Edl!AU6<5,Edl!AU6="c",Edl!AU6="cc"),Edl!AU6<>""),1,"") | BB6: =IF(AND(OR(Edl!AV6<5,Edl!AV6="c",Edl!AV6="cc"),Edl!AV6<>""),1,"") | BC6: =SUM(AX6:BB6)/5*100 -> 0 | BD6: =IF(AND(OR(Edl!AW6<5,Edl!AW6="c",Edl!AW6="cc"),Edl!AW6<>""),1,"") | BE6: =IF(AND(OR(Edl!AX6<5,Edl!AX6="c",Edl!AX6="cc"),Edl!AX6<>""),1,"") | BF6: =IF(AND(OR(Edl!AY6<5,Edl!AY6="c",Edl!AY6="cc"),Edl!AY6<>""),1,"") | BG6: =IF(AND(OR(Edl!AZ6<5,Edl!AZ6="c",Edl!AZ6="cc"),Edl!AZ6<>""),1,"") | BH6: =SUM(BD6:BG6)/4*100 -> 0 | BI6: =IF(AND(OR(Edl!BA6<5,Edl!BA6="c",Edl!BA6="cc"),Edl!BA6<>""),1,"") | BJ6: =IF(AND(OR(Edl!BB6<5,Edl!BB6="c",Edl!BB6="cc"),Edl!BB6<>""),1,"") | BK6: =IF(AND(OR(Edl!BC6<5,Edl!BC6="c",Edl!BC6="cc"),Edl!BC6<>""),1,"") | BL6: =IF(AND(OR(Edl!BD6<5,Edl!BD6="c",Edl!BD6="cc"),Edl!BD6<>""),1,"") | BM6: =IF(AND(OR(Edl!BE6<5,Edl!BE6="c",Edl!BE6="cc"),Edl!BE6<>""),1,"") | BN6: =SUM(BI6:BM6)/5*100 -> 0 | BO6: =IF(AND(OR(Edl!BF6<5,Edl!BF6="c",Edl!BF6="cc"),Edl!BF6<>""),1,"") | BP6: =IF(AND(OR(Edl!BG6<5,Edl!BG6="c",Edl!BG6="cc"),Edl!BG6<>""),1,"") | BQ6: =IF(AND(OR(Edl!BH6<5,Edl!BH6="c",Edl!BH6="cc"),Edl!BH6<>""),1,"") | BR6: =IF(AND(OR(Edl!BI6<5,Edl!BI6="c",Edl!BI6="cc"),Edl!BI6<>""),1,"") | BS6: =IF(AND(OR(Edl!BJ6<5,Edl!BJ6="c",Edl!BJ6="cc"),Edl!BJ6<>""),1,"") | BT6: =IF(AND(OR(Edl!BK6<5,Edl!BK6="c",Edl!BK6="cc"),Edl!BK6<>""),1,"") | BU6: =IF(AND(OR(Edl!BL6<5,Edl!BL6="c",Edl!BL6="cc"),Edl!BL6<>""),1,"") | BV6: =SUM(BO6:BU6)/7*100 -> 0 | BW6: =IF(AND(OR(Edl!BM6<5,Edl!BM6="c",Edl!BM6="cc"),Edl!BM6<>""),1,"") | BX6: =IF(AND(OR(Edl!BN6<5,Edl!BN6="c",Edl!BN6="cc"),Edl!BN6<>""),1,"") | BY6: =IF(AND(OR(Edl!BO6<5,Edl!BO6="c",Edl!BO6="cc"),Edl!BO6<>""),1,"") | BZ6: =IF(AND(OR(Edl!BP6<5,Edl!BP6="c",Edl!BP6="cc"),Edl!BP6<>""),1,"") | CA6: =SUM(BW6:BZ6)/4*100 -> 0 | CB6: =IF(AND(OR(Edl!BQ6<5,Edl!BQ6="c",Edl!BQ6="cc"),Edl!BQ6<>""),1,"") | CC6: =IF(AND(OR(Edl!BR6<5,Edl!BR6="c",Edl!BR6="cc"),Edl!BR6<>""),1,"") | CD6: =IF(AND(OR(Edl!BS6<5,Edl!BS6="c",Edl!BS6="cc"),Edl!BS6<>""),1,"") | CE6: =IF(AND(OR(Edl!BT6<5,Edl!BT6="c",Edl!BT6="cc"),Edl!BT6<>""),1,"") | CF6: =IF(AND(OR(Edl!BU6<5,Edl!BU6="c",Edl!BU6="cc"),Edl!BU6<>""),1,"") | CG6: =IF(AND(OR(Edl!BV6<5,Edl!BV6="c",Edl!BV6="cc"),Edl!BV6<>""),1,"") | CH6: =IF(AND(OR(Edl!BW6<5,Edl!BW6="c",Edl!BW6="cc"),Edl!BW6<>""),1,"") | CI6: =IF(AND(OR(Edl!BX6<5,Edl!BX6="c",Edl!BX6="cc"),Edl!BX6<>""),1,"") | ... CL6: =IF(AND(OR(Edl!CA6<5,Edl!CA6="c",Edl!CA6="cc"),Edl!CA6<>""),1,"") | CM6: =SUM(CB6:CL6)/11*100 -> 0 | CN6: =IF(AND(OR(Edl!CB6<5,Edl!CB6="c",Edl!CB6="cc"),Edl!CB6<>""),1,"") | CO6: =IF(AND(OR(Edl!CC6<5,Edl!CC6="c",Edl!CC6="cc"),Edl!CC6<>""),1,"") | CP6: =IF(AND(OR(Edl!CD6<5,Edl!CD6="c",Edl!CD6="cc"),Edl!CD6<>""),1,"") | CQ6: =IF(AND(OR(Edl!CE6<5,Edl!CE6="c",Edl!CE6="cc"),Edl!CE6<>""),1,"") | CR6: =IF(AND(OR(Edl!CF6<5,Edl!CF6="c",Edl!CF6="cc"),Edl!CF6<>""),1,"") | CS6: =SUM(CN6:CR6)/5*100 -> 0 | CT6: =IF(AND(OR(Edl!CG6<5,Edl!CG6="c",Edl!CG6="cc"),Edl!CG6<>""),1,"") | CU6: =IF(AND(OR(Edl!CH6<5,Edl!CH6="c",Edl!CH6="cc"),Edl!CH6<>""),1,"") | CV6: =IF(AND(OR(Edl!CI6<5,Edl!CI6="c",Edl!CI6="cc"),Edl!CI6<>""),1,"") | CW6: =IF(AND(OR(Edl!CJ6<5,Edl!CJ6="c",Edl!CJ6="cc"),Edl!CJ6<>""),1,"") | CX6: =IF(AND(OR(Edl!CK6<5,Edl!CK6="c",Edl!CK6="cc"),Edl!CK6<>""),1,"") | CY6: =IF(AND(OR(Edl!CL6<5,Edl!CL6="c",Edl!CL6="cc"),Edl!CL6<>""),1,"") | CZ6: =SUM(CT6:CY6)/6*100 -> 0 | DA6: =IF(AND(OR(Edl!CM6<5,Edl!CM6="c",Edl!CM6="cc"),Edl!CM6<>""),1,"") | DB6: =IF(AND(OR(Edl!CN6<5,Edl!CN6="c",Edl!CN6="cc"),Edl!CN6<>""),1,"") | DC6: =IF(AND(OR(Edl!CO6<5,Edl!CO6="c",Edl!CO6="cc"),Edl!CO6<>""),1,"") | DD6: =IF(AND(OR(Edl!CP6<5,Edl!CP6="c",Edl!CP6="cc"),Edl!CP6<>""),1,"") | DE6: =IF(AND(OR(Edl!CQ6<5,Edl!CQ6="c",Edl!CQ6="cc"),Edl!CQ6<>""),1,"") | DF6: =SUM(DA6:DE6)/5*100 -> 0 | DG6: =IF(AND(OR(Edl!CR6<5,Edl!CR6="c",Edl!CR6="cc"),Edl!CR6<>""),1,"") | DH6: =IF(AND(OR(Edl!CS6<5,Edl!CS6="c",Edl!CS6="cc"),Edl!CS6<>""),1,"") | DI6: =IF(AND(OR(Edl!CT6<5,Edl!CT6="c",Edl!CT6="cc"),Edl!CT6<>""),1,"") | DJ6: =IF(AND(OR(Edl!CU6<5,Edl!CU6="c",Edl!CU6="cc"),Edl!CU6<>""),1,"") | DK6: =IF(AND(OR(Edl!CV6<5,Edl!CV6="c",Edl!CV6="cc"),Edl!CV6<>""),1,"") | DL6: =IF(AND(OR(Edl!CW6<5,Edl!CW6="c",Edl!CW6="cc"),Edl!CW6<>""),1,"") | DM6: =IF(AND(OR(Edl!CX6<5,Edl!CX6="c",Edl!CX6="cc"),Edl!CX6<>""),1,"") | DN6: =IF(AND(OR(Edl!CY6<5,Edl!CY6="c",Edl!CY6="cc"),Edl!CY6<>""),1,"") | ... DP6: =IF(AND(OR(Edl!DA6<5,Edl!DA6="c",Edl!DA6="cc"),Edl!DA6<>""),1,"") | DQ6: =SUM(DG6:DP7)/10*100 -> 0 | DR6: =IF(AND(OR(Edl!DB6<5,Edl!DB6="c",Edl!DB6="cc"),Edl!DB6<>""),1,"") | DS6: =IF(AND(OR(Edl!DC6<5,Edl!DC6="c",Edl!DC6="cc"),Edl!DC6<>""),1,"") | DT6: =IF(AND(OR(Edl!DD6<5,Edl!DD6="c",Edl!DD6="cc"),Edl!DD6<>""),1,"") | DU6: =IF(AND(OR(Edl!DE6<5,Edl!DE6="c",Edl!DE6="cc"),Edl!DE6<>""),1,"") | DV6: =IF(AND(OR(Edl!DF6<5,Edl!DF6="c",Edl!DF6="cc"),Edl!DF6<>""),1,"") | DW6: =IF(AND(OR(Edl!DG6<5,Edl!DG6="c",Edl!DG6="cc"),Edl!DG6<>""),1,"") | DX6: =IF(AND(OR(Edl!DH6<5,Edl!DH6="c",Edl!DH6="cc"),Edl!DH6<>""),1,"") | DY6: =IF(AND(OR(Edl!DI6<5,Edl!DI6="c",Edl!DI6="cc"),Edl!DI6<>""),1,"") | ... EC6: =IF(AND(OR(Edl!DM6<5,Edl!DM6="c",Edl!DM6="cc"),Edl!DM6<>""),1,"") | ED6: =SUM(DR6:EC6)/12*100 -> 0
A7: Elise | B7: =IF(AND(OR(Edl!B7<5,Edl!B7="c",Edl!B7="cc"),Edl!B7<>""),1,"") | C7: =IF(AND(OR(Edl!C7<5,Edl!C7="c",Edl!C7="cc"),Edl!C7<>""),1,"") | D7: =IF(AND(OR(Edl!D7<5,Edl!D7="c",Edl!D7="cc"),Edl!D7<>""),1,"") | E7: =IF(AND(OR(Edl!E7<5,Edl!E7="c",Edl!E7="cc"),Edl!E7<>""),1,"") | F7: =IF(AND(OR(Edl!F7<5,Edl!F7="c",Edl!F7="cc"),Edl!F7<>""),1,"") | G7: =IF(AND(OR(Edl!G7<5,Edl!G7="c",Edl!G7="cc"),Edl!G7<>""),1,"") | H7: =IF(AND(OR(Edl!H7<5,Edl!H7="c",Edl!H7="cc"),Edl!H7<>""),1,"") | I7: =IF(AND(OR(Edl!I7<5,Edl!I7="c",Edl!I7="cc"),Edl!I7<>""),1,"") | J7: =SUM(B7:I7)/8*100 -> 0 | K7: =IF(AND(OR(Edl!J7<5,Edl!J7="c",Edl!J7="cc"),Edl!J7<>""),1,"") | L7: =IF(AND(OR(Edl!K7<5,Edl!K7="c",Edl!K7="cc"),Edl!K7<>""),1,"") | M7: =IF(AND(OR(Edl!L7<5,Edl!L7="c",Edl!L7="cc"),Edl!L7<>""),1,"") | N7: =IF(AND(OR(Edl!M7<5,Edl!M7="c",Edl!M7="cc"),Edl!M7<>""),1,"") | O7: =IF(AND(OR(Edl!N7<5,Edl!N7="c",Edl!N7="cc"),Edl!N7<>""),1,"") | P7: =IF(AND(OR(Edl!O7<5,Edl!O7="c",Edl!O7="cc"),Edl!O7<>""),1,"") | Q7: =IF(AND(OR(Edl!P7<5,Edl!P7="c",Edl!P7="cc"),Edl!P7<>""),1,"") | R7: =SUM(K7:Q7)/7*100 -> 0 | S7: =IF(AND(OR(Edl!Q7<5,Edl!Q7="c",Edl!Q7="cc"),Edl!Q7<>""),1,"") | T7: =IF(AND(OR(Edl!R7<5,Edl!R7="c",Edl!R7="cc"),Edl!R7<>""),1,"") | U7: =IF(AND(OR(Edl!S7<5,Edl!S7="c",Edl!S7="cc"),Edl!S7<>""),1,"") | V7: =IF(AND(OR(Edl!T7<5,Edl!T7="c",Edl!T7="cc"),Edl!T7<>""),1,"") | W7: =IF(AND(OR(Edl!U7<5,Edl!U7="c",Edl!U7="cc"),Edl!U7<>""),1,"") | X7: =IF(AND(OR(Edl!V7<5,Edl!V7="c",Edl!V7="cc"),Edl!V7<>""),1,"") | Y7: =IF(AND(OR(Edl!W7<5,Edl!W7="c",Edl!W7="cc"),Edl!W7<>""),1,"") | Z7: =IF(AND(OR(Edl!X7<5,Edl!X7="c",Edl!X7="cc"),Edl!X7<>""),1,"") | ... AB7: =IF(AND(OR(Edl!Z7<5,Edl!Z7="c",Edl!Z7="cc"),Edl!Z7<>""),1,"") | AC7: =SUM(S7:AB7)/10*100 -> 0 | AD7: =IF(AND(OR(Edl!AA7<5,Edl!AA7="c",Edl!AA7="cc"),Edl!AA7<>""),1,"") | AE7: =IF(AND(OR(Edl!AB7<5,Edl!AB7="c",Edl!AB7="cc"),Edl!AB7<>""),1,"") | AF7: =IF(AND(OR(Edl!AC7<5,Edl!AC7="c",Edl!AC7="cc"),Edl!AC7<>""),1,"") | AG7: =IF(AND(OR(Edl!AD7<5,Edl!AD7="c",Edl!AD7="cc"),Edl!AD7<>""),1,"") | AH7: =IF(AND(OR(Edl!AE7<5,Edl!AE7="c",Edl!AE7="cc"),Edl!AE7<>""),1,"") | AI7: =IF(AND(OR(Edl!AF7<5,Edl!AF7="c",Edl!AF7="cc"),Edl!AF7<>""),1,"") | AJ7: =IF(AND(OR(Edl!AG7<5,Edl!AG7="c",Edl!AG7="cc"),Edl!AG7<>""),1,"") | AK7: =IF(AND(OR(Edl!AH7<5,Edl!AH7="c",Edl!AH7="cc"),Edl!AH7<>""),1,"") | AL7: =SUM(AD7:AK7)/8*100 -> 0 | AM7: =IF(AND(OR(Edl!AI7<5,Edl!AI7="c",Edl!AI7="cc"),Edl!AI7<>""),1,"") | AN7: =IF(AND(OR(Edl!AJ7<5,Edl!AJ7="c",Edl!AJ7="cc"),Edl!AJ7<>""),1,"") | AO7: =IF(AND(OR(Edl!AK7<5,Edl!AK7="c",Edl!AK7="cc"),Edl!AK7<>""),1,"") | AP7: =IF(AND(OR(Edl!AL7<5,Edl!AL7="c",Edl!AL7="cc"),Edl!AL7<>""),1,"") | AQ7: =IF(AND(OR(Edl!AM7<5,Edl!AM7="c",Edl!AM7="cc"),Edl!AM7<>""),1,"") | AR7: =SUM(AM7:AQ7)/5*100 -> 0 | AS7: =IF(AND(OR(Edl!AN7<5,Edl!AN7="c",Edl!AN7="cc"),Edl!AN7<>""),1,"") | AT7: =IF(AND(OR(Edl!AO7<5,Edl!AO7="c",Edl!AO7="cc"),Edl!AO7<>""),1,"") | AU7: =IF(AND(OR(Edl!AP7<5,Edl!AP7="c",Edl!AP7="cc"),Edl!AP7<>""),1,"") | AV7: =IF(AND(OR(Edl!AQ7<5,Edl!AQ7="c",Edl!AQ7="cc"),Edl!AQ7<>""),1,"") | AW7: =SUM(AS7:AV7)/4*100 -> 0 | AX7: =IF(AND(OR(Edl!AR7<5,Edl!AR7="c",Edl!AR7="cc"),Edl!AR7<>""),1,"") | AY7: =IF(AND(OR(Edl!AS7<5,Edl!AS7="c",Edl!AS7="cc"),Edl!AS7<>""),1,"") | AZ7: =IF(AND(OR(Edl!AT7<5,Edl!AT7="c",Edl!AT7="cc"),Edl!AT7<>""),1,"") | BA7: =IF(AND(OR(Edl!AU7<5,Edl!AU7="c",Edl!AU7="cc"),Edl!AU7<>""),1,"") | BB7: =IF(AND(OR(Edl!AV7<5,Edl!AV7="c",Edl!AV7="cc"),Edl!AV7<>""),1,"") | BC7: =SUM(AX7:BB7)/5*100 -> 0 | BD7: =IF(AND(OR(Edl!AW7<5,Edl!AW7="c",Edl!AW7="cc"),Edl!AW7<>""),1,"") | BE7: =IF(AND(OR(Edl!AX7<5,Edl!AX7="c",Edl!AX7="cc"),Edl!AX7<>""),1,"") | BF7: =IF(AND(OR(Edl!AY7<5,Edl!AY7="c",Edl!AY7="cc"),Edl!AY7<>""),1,"") | BG7: =IF(AND(OR(Edl!AZ7<5,Edl!AZ7="c",Edl!AZ7="cc"),Edl!AZ7<>""),1,"") | BH7: =SUM(BD7:BG7)/4*100 -> 0 | BI7: =IF(AND(OR(Edl!BA7<5,Edl!BA7="c",Edl!BA7="cc"),Edl!BA7<>""),1,"") | BJ7: =IF(AND(OR(Edl!BB7<5,Edl!BB7="c",Edl!BB7="cc"),Edl!BB7<>""),1,"") | BK7: =IF(AND(OR(Edl!BC7<5,Edl!BC7="c",Edl!BC7="cc"),Edl!BC7<>""),1,"") | BL7: =IF(AND(OR(Edl!BD7<5,Edl!BD7="c",Edl!BD7="cc"),Edl!BD7<>""),1,"") | BM7: =IF(AND(OR(Edl!BE7<5,Edl!BE7="c",Edl!BE7="cc"),Edl!BE7<>""),1,"") | BN7: =SUM(BI7:BM7)/5*100 -> 0 | BO7: =IF(AND(OR(Edl!BF7<5,Edl!BF7="c",Edl!BF7="cc"),Edl!BF7<>""),1,"") | BP7: =IF(AND(OR(Edl!BG7<5,Edl!BG7="c",Edl!BG7="cc"),Edl!BG7<>""),1,"") | BQ7: =IF(AND(OR(Edl!BH7<5,Edl!BH7="c",Edl!BH7="cc"),Edl!BH7<>""),1,"") | BR7: =IF(AND(OR(Edl!BI7<5,Edl!BI7="c",Edl!BI7="cc"),Edl!BI7<>""),1,"") | BS7: =IF(AND(OR(Edl!BJ7<5,Edl!BJ7="c",Edl!BJ7="cc"),Edl!BJ7<>""),1,"") | BT7: =IF(AND(OR(Edl!BK7<5,Edl!BK7="c",Edl!BK7="cc"),Edl!BK7<>""),1,"") | BU7: =IF(AND(OR(Edl!BL7<5,Edl!BL7="c",Edl!BL7="cc"),Edl!BL7<>""),1,"") | BV7: =SUM(BO7:BU7)/7*100 -> 0 | BW7: =IF(AND(OR(Edl!BM7<5,Edl!BM7="c",Edl!BM7="cc"),Edl!BM7<>""),1,"") | BX7: =IF(AND(OR(Edl!BN7<5,Edl!BN7="c",Edl!BN7="cc"),Edl!BN7<>""),1,"") | BY7: =IF(AND(OR(Edl!BO7<5,Edl!BO7="c",Edl!BO7="cc"),Edl!BO7<>""),1,"") | BZ7: =IF(AND(OR(Edl!BP7<5,Edl!BP7="c",Edl!BP7="cc"),Edl!BP7<>""),1,"") | CA7: =SUM(BW7:BZ7)/4*100 -> 0 | CB7: =IF(AND(OR(Edl!BQ7<5,Edl!BQ7="c",Edl!BQ7="cc"),Edl!BQ7<>""),1,"") | CC7: =IF(AND(OR(Edl!BR7<5,Edl!BR7="c",Edl!BR7="cc"),Edl!BR7<>""),1,"") | CD7: =IF(AND(OR(Edl!BS7<5,Edl!BS7="c",Edl!BS7="cc"),Edl!BS7<>""),1,"") | CE7: =IF(AND(OR(Edl!BT7<5,Edl!BT7="c",Edl!BT7="cc"),Edl!BT7<>""),1,"") | CF7: =IF(AND(OR(Edl!BU7<5,Edl!BU7="c",Edl!BU7="cc"),Edl!BU7<>""),1,"") | CG7: =IF(AND(OR(Edl!BV7<5,Edl!BV7="c",Edl!BV7="cc"),Edl!BV7<>""),1,"") | CH7: =IF(AND(OR(Edl!BW7<5,Edl!BW7="c",Edl!BW7="cc"),Edl!BW7<>""),1,"") | CI7: =IF(AND(OR(Edl!BX7<5,Edl!BX7="c",Edl!BX7="cc"),Edl!BX7<>""),1,"") | ... CL7: =IF(AND(OR(Edl!CA7<5,Edl!CA7="c",Edl!CA7="cc"),Edl!CA7<>""),1,"") | CM7: =SUM(CB7:CL7)/11*100 -> 0 | CN7: =IF(AND(OR(Edl!CB7<5,Edl!CB7="c",Edl!CB7="cc"),Edl!CB7<>""),1,"") | CO7: =IF(AND(OR(Edl!CC7<5,Edl!CC7="c",Edl!CC7="cc"),Edl!CC7<>""),1,"") | CP7: =IF(AND(OR(Edl!CD7<5,Edl!CD7="c",Edl!CD7="cc"),Edl!CD7<>""),1,"") | CQ7: =IF(AND(OR(Edl!CE7<5,Edl!CE7="c",Edl!CE7="cc"),Edl!CE7<>""),1,"") | CR7: =IF(AND(OR(Edl!CF7<5,Edl!CF7="c",Edl!CF7="cc"),Edl!CF7<>""),1,"") | CS7: =SUM(CN7:CR7)/5*100 -> 0 | CT7: =IF(AND(OR(Edl!CG7<5,Edl!CG7="c",Edl!CG7="cc"),Edl!CG7<>""),1,"") | CU7: =IF(AND(OR(Edl!CH7<5,Edl!CH7="c",Edl!CH7="cc"),Edl!CH7<>""),1,"") | CV7: =IF(AND(OR(Edl!CI7<5,Edl!CI7="c",Edl!CI7="cc"),Edl!CI7<>""),1,"") | CW7: =IF(AND(OR(Edl!CJ7<5,Edl!CJ7="c",Edl!CJ7="cc"),Edl!CJ7<>""),1,"") | CX7: =IF(AND(OR(Edl!CK7<5,Edl!CK7="c",Edl!CK7="cc"),Edl!CK7<>""),1,"") | CY7: =IF(AND(OR(Edl!CL7<5,Edl!CL7="c",Edl!CL7="cc"),Edl!CL7<>""),1,"") | CZ7: =SUM(CT7:CY7)/6*100 -> 0 | DA7: =IF(AND(OR(Edl!CM7<5,Edl!CM7="c",Edl!CM7="cc"),Edl!CM7<>""),1,"") | DB7: =IF(AND(OR(Edl!CN7<5,Edl!CN7="c",Edl!CN7="cc"),Edl!CN7<>""),1,"") | DC7: =IF(AND(OR(Edl!CO7<5,Edl!CO7="c",Edl!CO7="cc"),Edl!CO7<>""),1,"") | DD7: =IF(AND(OR(Edl!CP7<5,Edl!CP7="c",Edl!CP7="cc"),Edl!CP7<>""),1,"") | DE7: =IF(AND(OR(Edl!CQ7<5,Edl!CQ7="c",Edl!CQ7="cc"),Edl!CQ7<>""),1,"") | DF7: =SUM(DA7:DE7)/5*100 -> 0 | DG7: =IF(AND(OR(Edl!CR7<5,Edl!CR7="c",Edl!CR7="cc"),Edl!CR7<>""),1,"") | DH7: =IF(AND(OR(Edl!CS7<5,Edl!CS7="c",Edl!CS7="cc"),Edl!CS7<>""),1,"") | DI7: =IF(AND(OR(Edl!CT7<5,Edl!CT7="c",Edl!CT7="cc"),Edl!CT7<>""),1,"") | DJ7: =IF(AND(OR(Edl!CU7<5,Edl!CU7="c",Edl!CU7="cc"),Edl!CU7<>""),1,"") | DK7: =IF(AND(OR(Edl!CV7<5,Edl!CV7="c",Edl!CV7="cc"),Edl!CV7<>""),1,"") | DL7: =IF(AND(OR(Edl!CW7<5,Edl!CW7="c",Edl!CW7="cc"),Edl!CW7<>""),1,"") | DM7: =IF(AND(OR(Edl!CX7<5,Edl!CX7="c",Edl!CX7="cc"),Edl!CX7<>""),1,"") | DN7: =IF(AND(OR(Edl!CY7<5,Edl!CY7="c",Edl!CY7="cc"),Edl!CY7<>""),1,"") | ... DP7: =IF(AND(OR(Edl!DA7<5,Edl!DA7="c",Edl!DA7="cc"),Edl!DA7<>""),1,"") | DQ7: =SUM(DG7:DP8)/10*100 -> 0 | DR7: =IF(AND(OR(Edl!DB7<5,Edl!DB7="c",Edl!DB7="cc"),Edl!DB7<>""),1,"") | DS7: =IF(AND(OR(Edl!DC7<5,Edl!DC7="c",Edl!DC7="cc"),Edl!DC7<>""),1,"") | DT7: =IF(AND(OR(Edl!DD7<5,Edl!DD7="c",Edl!DD7="cc"),Edl!DD7<>""),1,"") | DU7: =IF(AND(OR(Edl!DE7<5,Edl!DE7="c",Edl!DE7="cc"),Edl!DE7<>""),1,"") | DV7: =IF(AND(OR(Edl!DF7<5,Edl!DF7="c",Edl!DF7="cc"),Edl!DF7<>""),1,"") | DW7: =IF(AND(OR(Edl!DG7<5,Edl!DG7="c",Edl!DG7="cc"),Edl!DG7<>""),1,"") | DX7: =IF(AND(OR(Edl!DH7<5,Edl!DH7="c",Edl!DH7="cc"),Edl!DH7<>""),1,"") | DY7: =IF(AND(OR(Edl!DI7<5,Edl!DI7="c",Edl!DI7="cc"),Edl!DI7<>""),1,"") | ... EC7: =IF(AND(OR(Edl!DM7<5,Edl!DM7="c",Edl!DM7="cc"),Edl!DM7<>""),1,"") | ED7: =SUM(DR7:EC7)/12*100 -> 0
A8: Audran | B8: =IF(AND(OR(Edl!B8<5,Edl!B8="c",Edl!B8="cc"),Edl!B8<>""),1,"") | C8: =IF(AND(OR(Edl!C8<5,Edl!C8="c",Edl!C8="cc"),Edl!C8<>""),1,"") | D8: =IF(AND(OR(Edl!D8<5,Edl!D8="c",Edl!D8="cc"),Edl!D8<>""),1,"") | E8: =IF(AND(OR(Edl!E8<5,Edl!E8="c",Edl!E8="cc"),Edl!E8<>""),1,"") | F8: =IF(AND(OR(Edl!F8<5,Edl!F8="c",Edl!F8="cc"),Edl!F8<>""),1,"") | G8: =IF(AND(OR(Edl!G8<5,Edl!G8="c",Edl!G8="cc"),Edl!G8<>""),1,"") | H8: =IF(AND(OR(Edl!H8<5,Edl!H8="c",Edl!H8="cc"),Edl!H8<>""),1,"") | I8: =IF(AND(OR(Edl!I8<5,Edl!I8="c",Edl!I8="cc"),Edl!I8<>""),1,"") | J8: =SUM(B8:I8)/8*100 -> 0 | K8: =IF(AND(OR(Edl!J8<5,Edl!J8="c",Edl!J8="cc"),Edl!J8<>""),1,"") | L8: =IF(AND(OR(Edl!K8<5,Edl!K8="c",Edl!K8="cc"),Edl!K8<>""),1,"") | M8: =IF(AND(OR(Edl!L8<5,Edl!L8="c",Edl!L8="cc"),Edl!L8<>""),1,"") | N8: =IF(AND(OR(Edl!M8<5,Edl!M8="c",Edl!M8="cc"),Edl!M8<>""),1,"") | O8: =IF(AND(OR(Edl!N8<5,Edl!N8="c",Edl!N8="cc"),Edl!N8<>""),1,"") | P8: =IF(AND(OR(Edl!O8<5,Edl!O8="c",Edl!O8="cc"),Edl!O8<>""),1,"") | Q8: =IF(AND(OR(Edl!P8<5,Edl!P8="c",Edl!P8="cc"),Edl!P8<>""),1,"") | R8: =SUM(K8:Q8)/7*100 -> 0 | S8: =IF(AND(OR(Edl!Q8<5,Edl!Q8="c",Edl!Q8="cc"),Edl!Q8<>""),1,"") | T8: =IF(AND(OR(Edl!R8<5,Edl!R8="c",Edl!R8="cc"),Edl!R8<>""),1,"") | U8: =IF(AND(OR(Edl!S8<5,Edl!S8="c",Edl!S8="cc"),Edl!S8<>""),1,"") | V8: =IF(AND(OR(Edl!T8<5,Edl!T8="c",Edl!T8="cc"),Edl!T8<>""),1,"") | W8: =IF(AND(OR(Edl!U8<5,Edl!U8="c",Edl!U8="cc"),Edl!U8<>""),1,"") | X8: =IF(AND(OR(Edl!V8<5,Edl!V8="c",Edl!V8="cc"),Edl!V8<>""),1,"") | Y8: =IF(AND(OR(Edl!W8<5,Edl!W8="c",Edl!W8="cc"),Edl!W8<>""),1,"") | Z8: =IF(AND(OR(Edl!X8<5,Edl!X8="c",Edl!X8="cc"),Edl!X8<>""),1,"") | ... AB8: =IF(AND(OR(Edl!Z8<5,Edl!Z8="c",Edl!Z8="cc"),Edl!Z8<>""),1,"") | AC8: =SUM(S8:AB8)/10*100 -> 0 | AD8: =IF(AND(OR(Edl!AA8<5,Edl!AA8="c",Edl!AA8="cc"),Edl!AA8<>""),1,"") | AE8: =IF(AND(OR(Edl!AB8<5,Edl!AB8="c",Edl!AB8="cc"),Edl!AB8<>""),1,"") | AF8: =IF(AND(OR(Edl!AC8<5,Edl!AC8="c",Edl!AC8="cc"),Edl!AC8<>""),1,"") | AG8: =IF(AND(OR(Edl!AD8<5,Edl!AD8="c",Edl!AD8="cc"),Edl!AD8<>""),1,"") | AH8: =IF(AND(OR(Edl!AE8<5,Edl!AE8="c",Edl!AE8="cc"),Edl!AE8<>""),1,"") | AI8: =IF(AND(OR(Edl!AF8<5,Edl!AF8="c",Edl!AF8="cc"),Edl!AF8<>""),1,"") | AJ8: =IF(AND(OR(Edl!AG8<5,Edl!AG8="c",Edl!AG8="cc"),Edl!AG8<>""),1,"") | AK8: =IF(AND(OR(Edl!AH8<5,Edl!AH8="c",Edl!AH8="cc"),Edl!AH8<>""),1,"") | AL8: =SUM(AD8:AK8)/8*100 -> 0 | AM8: =IF(AND(OR(Edl!AI8<5,Edl!AI8="c",Edl!AI8="cc"),Edl!AI8<>""),1,"") | AN8: =IF(AND(OR(Edl!AJ8<5,Edl!AJ8="c",Edl!AJ8="cc"),Edl!AJ8<>""),1,"") | AO8: =IF(AND(OR(Edl!AK8<5,Edl!AK8="c",Edl!AK8="cc"),Edl!AK8<>""),1,"") | AP8: =IF(AND(OR(Edl!AL8<5,Edl!AL8="c",Edl!AL8="cc"),Edl!AL8<>""),1,"") | AQ8: =IF(AND(OR(Edl!AM8<5,Edl!AM8="c",Edl!AM8="cc"),Edl!AM8<>""),1,"") | AR8: =SUM(AM8:AQ8)/5*100 -> 0 | AS8: =IF(AND(OR(Edl!AN8<5,Edl!AN8="c",Edl!AN8="cc"),Edl!AN8<>""),1,"") | AT8: =IF(AND(OR(Edl!AO8<5,Edl!AO8="c",Edl!AO8="cc"),Edl!AO8<>""),1,"") | AU8: =IF(AND(OR(Edl!AP8<5,Edl!AP8="c",Edl!AP8="cc"),Edl!AP8<>""),1,"") | AV8: =IF(AND(OR(Edl!AQ8<5,Edl!AQ8="c",Edl!AQ8="cc"),Edl!AQ8<>""),1,"") | AW8: =SUM(AS8:AV8)/4*100 -> 0 | AX8: =IF(AND(OR(Edl!AR8<5,Edl!AR8="c",Edl!AR8="cc"),Edl!AR8<>""),1,"") | AY8: =IF(AND(OR(Edl!AS8<5,Edl!AS8="c",Edl!AS8="cc"),Edl!AS8<>""),1,"") | AZ8: =IF(AND(OR(Edl!AT8<5,Edl!AT8="c",Edl!AT8="cc"),Edl!AT8<>""),1,"") | BA8: =IF(AND(OR(Edl!AU8<5,Edl!AU8="c",Edl!AU8="cc"),Edl!AU8<>""),1,"") | BB8: =IF(AND(OR(Edl!AV8<5,Edl!AV8="c",Edl!AV8="cc"),Edl!AV8<>""),1,"") | BC8: =SUM(AX8:BB8)/5*100 -> 0 | BD8: =IF(AND(OR(Edl!AW8<5,Edl!AW8="c",Edl!AW8="cc"),Edl!AW8<>""),1,"") | BE8: =IF(AND(OR(Edl!AX8<5,Edl!AX8="c",Edl!AX8="cc"),Edl!AX8<>""),1,"") | BF8: =IF(AND(OR(Edl!AY8<5,Edl!AY8="c",Edl!AY8="cc"),Edl!AY8<>""),1,"") | BG8: =IF(AND(OR(Edl!AZ8<5,Edl!AZ8="c",Edl!AZ8="cc"),Edl!AZ8<>""),1,"") | BH8: =SUM(BD8:BG8)/4*100 -> 0 | BI8: =IF(AND(OR(Edl!BA8<5,Edl!BA8="c",Edl!BA8="cc"),Edl!BA8<>""),1,"") | BJ8: =IF(AND(OR(Edl!BB8<5,Edl!BB8="c",Edl!BB8="cc"),Edl!BB8<>""),1,"") | BK8: =IF(AND(OR(Edl!BC8<5,Edl!BC8="c",Edl!BC8="cc"),Edl!BC8<>""),1,"") | BL8: =IF(AND(OR(Edl!BD8<5,Edl!BD8="c",Edl!BD8="cc"),Edl!BD8<>""),1,"") | BM8: =IF(AND(OR(Edl!BE8<5,Edl!BE8="c",Edl!BE8="cc"),Edl!BE8<>""),1,"") | BN8: =SUM(BI8:BM8)/5*100 -> 0 | BO8: =IF(AND(OR(Edl!BF8<5,Edl!BF8="c",Edl!BF8="cc"),Edl!BF8<>""),1,"") | BP8: =IF(AND(OR(Edl!BG8<5,Edl!BG8="c",Edl!BG8="cc"),Edl!BG8<>""),1,"") | BQ8: =IF(AND(OR(Edl!BH8<5,Edl!BH8="c",Edl!BH8="cc"),Edl!BH8<>""),1,"") | BR8: =IF(AND(OR(Edl!BI8<5,Edl!BI8="c",Edl!BI8="cc"),Edl!BI8<>""),1,"") | BS8: =IF(AND(OR(Edl!BJ8<5,Edl!BJ8="c",Edl!BJ8="cc"),Edl!BJ8<>""),1,"") | BT8: =IF(AND(OR(Edl!BK8<5,Edl!BK8="c",Edl!BK8="cc"),Edl!BK8<>""),1,"") | BU8: =IF(AND(OR(Edl!BL8<5,Edl!BL8="c",Edl!BL8="cc"),Edl!BL8<>""),1,"") | BV8: =SUM(BO8:BU8)/7*100 -> 0 | BW8: =IF(AND(OR(Edl!BM8<5,Edl!BM8="c",Edl!BM8="cc"),Edl!BM8<>""),1,"") | BX8: =IF(AND(OR(Edl!BN8<5,Edl!BN8="c",Edl!BN8="cc"),Edl!BN8<>""),1,"") | BY8: =IF(AND(OR(Edl!BO8<5,Edl!BO8="c",Edl!BO8="cc"),Edl!BO8<>""),1,"") | BZ8: =IF(AND(OR(Edl!BP8<5,Edl!BP8="c",Edl!BP8="cc"),Edl!BP8<>""),1,"") | CA8: =SUM(BW8:BZ8)/4*100 -> 0 | CB8: =IF(AND(OR(Edl!BQ8<5,Edl!BQ8="c",Edl!BQ8="cc"),Edl!BQ8<>""),1,"") | CC8: =IF(AND(OR(Edl!BR8<5,Edl!BR8="c",Edl!BR8="cc"),Edl!BR8<>""),1,"") | CD8: =IF(AND(OR(Edl!BS8<5,Edl!BS8="c",Edl!BS8="cc"),Edl!BS8<>""),1,"") | CE8: =IF(AND(OR(Edl!BT8<5,Edl!BT8="c",Edl!BT8="cc"),Edl!BT8<>""),1,"") | CF8: =IF(AND(OR(Edl!BU8<5,Edl!BU8="c",Edl!BU8="cc"),Edl!BU8<>""),1,"") | CG8: =IF(AND(OR(Edl!BV8<5,Edl!BV8="c",Edl!BV8="cc"),Edl!BV8<>""),1,"") | CH8: =IF(AND(OR(Edl!BW8<5,Edl!BW8="c",Edl!BW8="cc"),Edl!BW8<>""),1,"") | CI8: =IF(AND(OR(Edl!BX8<5,Edl!BX8="c",Edl!BX8="cc"),Edl!BX8<>""),1,"") | ... CL8: =IF(AND(OR(Edl!CA8<5,Edl!CA8="c",Edl!CA8="cc"),Edl!CA8<>""),1,"") | CM8: =SUM(CB8:CL8)/11*100 -> 0 | CN8: =IF(AND(OR(Edl!CB8<5,Edl!CB8="c",Edl!CB8="cc"),Edl!CB8<>""),1,"") | CO8: =IF(AND(OR(Edl!CC8<5,Edl!CC8="c",Edl!CC8="cc"),Edl!CC8<>""),1,"") | CP8: =IF(AND(OR(Edl!CD8<5,Edl!CD8="c",Edl!CD8="cc"),Edl!CD8<>""),1,"") | CQ8: =IF(AND(OR(Edl!CE8<5,Edl!CE8="c",Edl!CE8="cc"),Edl!CE8<>""),1,"") | CR8: =IF(AND(OR(Edl!CF8<5,Edl!CF8="c",Edl!CF8="cc"),Edl!CF8<>""),1,"") | CS8: =SUM(CN8:CR8)/5*100 -> 0 | CT8: =IF(AND(OR(Edl!CG8<5,Edl!CG8="c",Edl!CG8="cc"),Edl!CG8<>""),1,"") | CU8: =IF(AND(OR(Edl!CH8<5,Edl!CH8="c",Edl!CH8="cc"),Edl!CH8<>""),1,"") | CV8: =IF(AND(OR(Edl!CI8<5,Edl!CI8="c",Edl!CI8="cc"),Edl!CI8<>""),1,"") | CW8: =IF(AND(OR(Edl!CJ8<5,Edl!CJ8="c",Edl!CJ8="cc"),Edl!CJ8<>""),1,"") | CX8: =IF(AND(OR(Edl!CK8<5,Edl!CK8="c",Edl!CK8="cc"),Edl!CK8<>""),1,"") | CY8: =IF(AND(OR(Edl!CL8<5,Edl!CL8="c",Edl!CL8="cc"),Edl!CL8<>""),1,"") | CZ8: =SUM(CT8:CY8)/6*100 -> 0 | DA8: =IF(AND(OR(Edl!CM8<5,Edl!CM8="c",Edl!CM8="cc"),Edl!CM8<>""),1,"") | DB8: =IF(AND(OR(Edl!CN8<5,Edl!CN8="c",Edl!CN8="cc"),Edl!CN8<>""),1,"") | DC8: =IF(AND(OR(Edl!CO8<5,Edl!CO8="c",Edl!CO8="cc"),Edl!CO8<>""),1,"") | DD8: =IF(AND(OR(Edl!CP8<5,Edl!CP8="c",Edl!CP8="cc"),Edl!CP8<>""),1,"") | DE8: =IF(AND(OR(Edl!CQ8<5,Edl!CQ8="c",Edl!CQ8="cc"),Edl!CQ8<>""),1,"") | DF8: =SUM(DA8:DE8)/5*100 -> 0 | DG8: =IF(AND(OR(Edl!CR8<5,Edl!CR8="c",Edl!CR8="cc"),Edl!CR8<>""),1,"") | DH8: =IF(AND(OR(Edl!CS8<5,Edl!CS8="c",Edl!CS8="cc"),Edl!CS8<>""),1,"") | DI8: =IF(AND(OR(Edl!CT8<5,Edl!CT8="c",Edl!CT8="cc"),Edl!CT8<>""),1,"") | DJ8: =IF(AND(OR(Edl!CU8<5,Edl!CU8="c",Edl!CU8="cc"),Edl!CU8<>""),1,"") | DK8: =IF(AND(OR(Edl!CV8<5,Edl!CV8="c",Edl!CV8="cc"),Edl!CV8<>""),1,"") | DL8: =IF(AND(OR(Edl!CW8<5,Edl!CW8="c",Edl!CW8="cc"),Edl!CW8<>""),1,"") | DM8: =IF(AND(OR(Edl!CX8<5,Edl!CX8="c",Edl!CX8="cc"),Edl!CX8<>""),1,"") | DN8: =IF(AND(OR(Edl!CY8<5,Edl!CY8="c",Edl!CY8="cc"),Edl!CY8<>""),1,"") | ... DP8: =IF(AND(OR(Edl!DA8<5,Edl!DA8="c",Edl!DA8="cc"),Edl!DA8<>""),1,"") | DQ8: =SUM(DG8:DP9)/10*100 -> 0 | DR8: =IF(AND(OR(Edl!DB8<5,Edl!DB8="c",Edl!DB8="cc"),Edl!DB8<>""),1,"") | DS8: =IF(AND(OR(Edl!DC8<5,Edl!DC8="c",Edl!DC8="cc"),Edl!DC8<>""),1,"") | DT8: =IF(AND(OR(Edl!DD8<5,Edl!DD8="c",Edl!DD8="cc"),Edl!DD8<>""),1,"") | DU8: =IF(AND(OR(Edl!DE8<5,Edl!DE8="c",Edl!DE8="cc"),Edl!DE8<>""),1,"") | DV8: =IF(AND(OR(Edl!DF8<5,Edl!DF8="c",Edl!DF8="cc"),Edl!DF8<>""),1,"") | DW8: =IF(AND(OR(Edl!DG8<5,Edl!DG8="c",Edl!DG8="cc"),Edl!DG8<>""),1,"") | DX8: =IF(AND(OR(Edl!DH8<5,Edl!DH8="c",Edl!DH8="cc"),Edl!DH8<>""),1,"") | DY8: =IF(AND(OR(Edl!DI8<5,Edl!DI8="c",Edl!DI8="cc"),Edl!DI8<>""),1,"") | ... EC8: =IF(AND(OR(Edl!DM8<5,Edl!DM8="c",Edl!DM8="cc"),Edl!DM8<>""),1,"") | ED8: =SUM(DR8:EC8)/12*100 -> 0
