Workbook

Sheet Suivi des engagements
A1: Listes des opérations sous convention
C2: EN COURS 2017
A3: JOURNEE F CDY | B3: 8 | C3: =COUNTIF('2017 calendrier opérations'!B3:AV33,"JOURNEE F CDY") -> 0
A4: VACANCES F CDY | B4: 4 | C4: =COUNTIF('2017 calendrier opérations'!B3:AV33,"VACANCES F CDY") -> 1
A5: JOURNEE DES ENFANTS | B5: 1 | C5: =COUNTIF('2017 calendrier opérations'!B3:AV33,"JOURNEE DES ENFANTS") -> 0
A6: OPE CARITATIVE CDY | B6: 2 | C6: =COUNTIF('2017 calendrier opérations'!B3:AV33,"OPE CARITATIVE CDY") -> 0
A7: TOURNOI HAND CDY | B7: 1 | C7: =COUNTIF('2017 calendrier opérations'!B3:AV33,"TOURNOI HAND CDY") -> 1
A8: TOURNOI FILLES CDY | B8: 1 | C8: =COUNTIF('2017 calendrier opérations'!B4:AV34,"TOURNOI FILLES CDY") -> 1
A9: JOURNEE F MDP | B9: 10 | C9: =COUNTIF('2017 calendrier opérations'!B3:AV33,"JOURNEE F MDP") -> 4
A10: VACANCES F MDP | B10: 3 | C10: =COUNTIF('2017 calendrier opérations'!B3:AV33,"VACANCES F MDP") -> 0
A11: ALLEZ LES FILLES MDP | B11: 15 | C11: =COUNTIF('2017 calendrier opérations'!B4:AV34,"ALLEZ LES FILLES MDP") -> 16
A12: VACANCES ALF MDP | B12: 1 | C12: =COUNTIF('2017 calendrier opérations'!B3:AV33,"VACANCES ALF MDP") -> 1
A13: AM F MDP | B13: 8 | C13: =COUNTIF('2017 calendrier opérations'!B3:AV33,"AM F") -> 0
A14: CONTRAT APPRENTISSAGE | B14: 5
A15: DOTATION CLUBS FILLEULS | B15: 17
A16: OPE CARITATIVE MDP | B16: 2 | C16: =COUNTIF('2017 calendrier opérations'!B3:AV33,"OPE CARITATIVE MDP") -> 1
A17: JOURNEE DES ENFANTS | B17: 1 | C17: =COUNTIF('2017 calendrier opérations'!B3:AV33,"JOURNEE DES ENFANTS") -> 0
A18: BILLETS MATCHS FILLES ET HAND
C19: =COUNTIF('2017 calendrier opérations'!B3:AV33,"VACANCES F CDY") -> 1
A20: VACANCES F OCIRP | C20: =COUNTIF('2017 calendrier opérations'!B3:AV33,"VACANCES OCIRP") -> 0
A22: ALLEZ LES FILLES LAGARDERE | C22: =COUNTIF('2017 calendrier opérations'!B3:AV33,"ALLEZ LES FILLES LAGARDERE") -> 0
A24: Tournoi reverdy | C24: =COUNTIF('2017 calendrier opérations'!B3:AV33,"Tournoi reverdy") -> 12
A25: Pauleta | C25: =COUNTIF('2017 calendrier opérations'!B3:AV33,"Pauleta ") -> 1
A26: Soirée Rêve | C26: =COUNTIF('2017 calendrier opérations'!B3:AV33,"Soirée Rêve") -> 0
A27: Invitations Match | C27: =COUNTIF('2017 calendrier opérations'!B3:AV33,"Invitations Match") -> 0

Sheet 2017 calendrier opérations
A1: 2017
A2: Janvier | F2: Février | J2: Mars | N2: Avril | R2: Mai | V2: Juin | Z2: Juillet | AD2: Août | AH2: Septembre | AL2: Octobre | AP2: Novembre | AT2: Décembre
A3: =(DATE($A$1,COLUMN(),1)) -> 42736 | F3: =A33+1 -> 42767 | G3: Opération Remise de Cadeaux | J3: =F30+1 -> 42795 | K3: Tournoi reverdy | L3: AM F MDP | M3: Mission locale | N3: =J33+1 -> 42826 | R3: =N32+1 -> 42856 | V3: =R33+1 -> 42887 | Z3: =V32+1 -> 42917 | AD3: =Z33+1 -> 42948 | AH3: =AD33+1 -> 42979 | AL3: =AH32+1 -> 43009 | AP3: =AL33+1 -> 43040 | AT3: =AP32+1 -> 43070
A4: =A3+1 -> 42737 | F4: =F3+1 -> 42768 | J4: =J3+1 -> 42796 | K4: Séjour Darna | N4: =N3+1 -> 42827 | R4: =R3+1 -> 42857 | V4: =V3+1 -> 42888 | Z4: =Z3+1 -> 42918 | AD4: =AD3+1 -> 42949 | AH4: =AH3+1 -> 42980 | AL4: =AL3+1 -> 43010 | AP4: =AP3+1 -> 43041 | AT4: =AT3+1 -> 43071
A5: =A4+1 -> 42738 | F5: =F4+1 -> 42769 | J5: =J4+1 -> 42797 | K5: Séjour Darna | N5: =N4+1 -> 42828 | R5: =R4+1 -> 42858 | S5: ALLEZ LES FILLES MDP | U5: mission locale | V5: =V4+1 -> 42889 | Z5: =Z4+1 -> 42919 | AD5: =AD4+1 -> 42950 | AH5: =AH4+1 -> 42981 | AL5: =AL4+1 -> 43011 | AP5: =AP4+1 -> 43042 | AT5: =AT4+1 -> 43072
A6: =A5+1 -> 42739 | B6: ALLEZ LES FILLES MDP | C6: Tournoi reverdy | E6: =25+50 -> 75 | F6: =F5+1 -> 42770 | J6: =J5+1 -> 42798 | K6: Séjour Darna | N6: =N5+1 -> 42829 | O6: JOURNEE F MDP | R6: =R5+1 -> 42859 | V6: =V5+1 -> 42890 | Z6: =Z5+1 -> 42920 | AD6: =AD5+1 -> 42951 | AH6: =AH5+1 -> 42982 | AL6: =AL5+1 -> 43012 | AP6: =AP5+1 -> 43043 | AT6: =AT5+1 -> 43073
A7: =A6+1 -> 42740 | B7: Winter Tour Tunisie | E7: =50 -> 50 | F7: =F6+1 -> 42771 | J7: =J6+1 -> 42799 | K7: Séjour Darna | N7: =N6+1 -> 42830 | O7: JOURNEE F MDP | R7: =R6+1 -> 42860 | V7: =V6+1 -> 42891 | Z7: =Z6+1 -> 42921 | AD7: =AD6+1 -> 42952 | AH7: =AH6+1 -> 42983 | AL7: =AL6+1 -> 43013 | AP7: =AP6+1 -> 43044 | AT7: =AT6+1 -> 43074
A8: =A7+1 -> 42741 | F8: =F7+1 -> 42772 | J8: =J7+1 -> 42800 | N8: =N7+1 -> 42831 | O8: JOURNEE F MDP | R8: =R7+1 -> 42861 | V8: =V7+1 -> 42892 | Z8: =Z7+1 -> 42922 | AD8: =AD7+1 -> 42953 | AH8: =AH7+1 -> 42984 | AL8: =AL7+1 -> 43014 | AP8: =AP7+1 -> 43045 | AT8: =AT7+1 -> 43075
A9: =A8+1 -> 42742 | F9: =F8+1 -> 42773 | J9: =J8+1 -> 42801 | N9: =N8+1 -> 42832 | O9: Pauleta | R9: =R8+1 -> 42862 | V9: =V8+1 -> 42893 | W9: ALLEZ LES FILLES MDP | Z9: =Z8+1 -> 42923 | AD9: =AD8+1 -> 42954 | AH9: =AH8+1 -> 42985 | AL9: =AL8+1 -> 43015 | AP9: =AP8+1 -> 43046 | AT9: =AT8+1 -> 43076
A10: =A9+1 -> 42743 | F10: =F9+1 -> 42774 | G10: Tournoi reverdy | H10: Opé bougival Groupe | J10: =J9+1 -> 42802 | K10: ALLEZ LES FILLES MDP | N10: =N9+1 -> 42833 | R10: =R9+1 -> 42863 | V10: =V9+1 -> 42894 | Z10: =Z9+1 -> 42924 | AD10: =AD9+1 -> 42955 | AH10: =AH9+1 -> 42986 | AL10: =AL9+1 -> 43016 | AP10: =AP9+1 -> 43047 | AT10: =AT9+1 -> 43077
A11: =A10+1 -> 42744 | F11: =F10+1 -> 42775 | J11: =J10+1 -> 42803 | N11: =N10+1 -> 42834 | R11: =R10+1 -> 42864 | V11: =V10+1 -> 42895 | Z11: =Z10+1 -> 42925 | AD11: =AD10+1 -> 42956 | AH11: =AH10+1 -> 42987 | AL11: =AL10+1 -> 43017 | AP11: =AP10+1 -> 43048 | AT11: =AT10+1 -> 43078
A12: =A11+1 -> 42745 | F12: =F11+1 -> 42776 | J12: =J11+1 -> 42804 | N12: =N11+1 -> 42835 | P12: VACANCES ALF MDP | Q12: VACANCES F OCIRP | R12: =R11+1 -> 42865 | S12: ALLEZ LES FILLES MDP | U12: Tournoi reverdy | V12: =V11+1 -> 42896 | Z12: =Z11+1 -> 42926 | AD12: =AD11+1 -> 42957 | AH12: =AH11+1 -> 42988 | AL12: =AL11+1 -> 43018 | AP12: =AP11+1 -> 43049 | AT12: =AT11+1 -> 43079
A13: =A12+1 -> 42746 | B13: ALLEZ LES FILLES MDP | E13: =25 -> 25 | F13: =F12+1 -> 42777 | J13: =J12+1 -> 42805 | N13: =N12+1 -> 42836 | R13: =R12+1 -> 42866 | V13: =V12+1 -> 42897 | Z13: =Z12+1 -> 42927 | AD13: =AD12+1 -> 42958 | AH13: =AH12+1 -> 42989 | AL13: =AL12+1 -> 43019 | AP13: =AP12+1 -> 43050 | AT13: =AT12+1 -> 43080
A14: =A13+1 -> 42747 | F14: =F13+1 -> 42778 | J14: =J13+1 -> 42806 | N14: =N13+1 -> 42837 | R14: =R13+1 -> 42867 | V14: =V13+1 -> 42898 | Z14: =Z13+1 -> 42928 | AD14: =AD13+1 -> 42959 | AH14: =AH13+1 -> 42990 | AL14: =AL13+1 -> 43020 | AP14: =AP13+1 -> 43051 | AT14: =AT13+1 -> 43081
A15: =A14+1 -> 42748 | F15: =F14+1 -> 42779 | G15: VACANCES F CDY | J15: =J14+1 -> 42807 | N15: =N14+1 -> 42838 | R15: =R14+1 -> 42868 | S15: JOURNEE F MDP | V15: =V14+1 -> 42899 | Z15: =Z14+1 -> 42929 | AD15: =AD14+1 -> 42960 | AH15: =AH14+1 -> 42991 | AL15: =AL14+1 -> 43021 | AP15: =AP14+1 -> 43052 | AT15: =AT14+1 -> 43082
A16: =A15+1 -> 42749 | F16: =F15+1 -> 42780 | J16: =J15+1 -> 42808 | N16: =N15+1 -> 42839 | R16: =R15+1 -> 42869 | V16: =V15+1 -> 42900 | W16: Tournoi reverdy | Z16: =Z15+1 -> 42930 | AD16: =AD15+1 -> 42961 | AH16: =AH15+1 -> 42992 | AL16: =AL15+1 -> 43022 | AP16: =AP15+1 -> 43053 | AT16: =AT15+1 -> 43083
A17: =A16+1 -> 42750 | F17: =F16+1 -> 42781 | H17: Tournoi reverdy | J17: =J16+1 -> 42809 | K17: OPE CARITATIVE MDP | N17: =N16+1 -> 42840 | R17: =R16+1 -> 42870 | V17: =V16+1 -> 42901 | Z17: =Z16+1 -> 42931 | AD17: =AD16+1 -> 42962 | AH17: =AH16+1 -> 42993 | AL17: =AL16+1 -> 43023 | AP17: =AP16+1 -> 43054 | AT17: =AT16+1 -> 43084
A18: =A17+1 -> 42751 | F18: =F17+1 -> 42782 | J18: =J17+1 -> 42810 | N18: =N17+1 -> 42841 | R18: =R17+1 -> 42871 | S18: DINER DE GALA | V18: =V17+1 -> 42902 | Z18: =Z17+1 -> 42932 | AD18: =AD17+1 -> 42963 | AH18: =AH17+1 -> 42994 | AL18: =AL17+1 -> 43024 | AP18: =AP17+1 -> 43055 | AT18: =AT17+1 -> 43085
A19: =A18+1 -> 42752 | F19: =F18+1 -> 42783 | J19: =J18+1 -> 42811 | N19: =N18+1 -> 42842 | R19: =R18+1 -> 42872 | S19: ALLEZ LES FILLES MDP | T19: Tournoi reverdy | V19: =V18+1 -> 42903 | W19: TOURNOI FILLES CDY | Z19: =Z18+1 -> 42933 | AD19: =AD18+1 -> 42964 | AH19: =AH18+1 -> 42995 | AL19: =AL18+1 -> 43025 | AP19: =AP18+1 -> 43056 | AT19: =AT18+1 -> 43086
A20: =A19+1 -> 42753 | B20: ALLEZ LES FILLES MDP | C20: Tournoi reverdy | E20: =50+25 -> 75 | F20: =F19+1 -> 42784 | J20: =J19+1 -> 42812 | N20: =N19+1 -> 42843 | R20: =R19+1 -> 42873 | V20: =V19+1 -> 42904 | W20: TOURNOI HAND CDY | Z20: =Z19+1 -> 42934 | AD20: =AD19+1 -> 42965 | AH20: =AH19+1 -> 42996 | AL20: =AL19+1 -> 43026 | AP20: =AP19+1 -> 43057 | AT20: =AT19+1 -> 43087
A21: =A20+1 -> 42754 | F21: =F20+1 -> 42785 | J21: =J20+1 -> 42813 | N21: =N20+1 -> 42844 | O21: ALLEZ LES FILLES MDP | R21: =R20+1 -> 42874 | U21: OP. SECOURS POUPULAIRE | V21: =V20+1 -> 42905 | Z21: =Z20+1 -> 42935 | AD21: =AD20+1 -> 42966 | AH21: =AH20+1 -> 42997 | AL21: =AL20+1 -> 43027 | AP21: =AP20+1 -> 43058 | AT21: =AT20+1 -> 43088
A22: =A21+1 -> 42755 | F22: =F21+1 -> 42786 | J22: =J21+1 -> 42814 | N22: =N21+1 -> 42845 | R22: =R21+1 -> 42875 | S22: J. DISTRICT | V22: =V21+1 -> 42906 | Z22: =Z21+1 -> 42936 | AD22: =AD21+1 -> 42967 | AH22: =AH21+1 -> 42998 | AL22: =AL21+1 -> 43028 | AP22: =AP21+1 -> 43059 | AT22: =AT21+1 -> 43089
A23: =A22+1 -> 42756 | F23: =F22+1 -> 42787 | J23: =J22+1 -> 42815 | N23: =N22+1 -> 42846 | R23: =R22+1 -> 42876 | V23: =V22+1 -> 42907 | W23: Tournoi reverdy | Z23: =Z22+1 -> 42937 | AD23: =AD22+1 -> 42968 | AH23: =AH22+1 -> 42999 | AL23: =AL22+1 -> 43029 | AP23: =AP22+1 -> 43060 | AT23: =AT22+1 -> 43090
A24: =A23+1 -> 42757 | F24: =F23+1 -> 42788 | G24: ALLEZ LES FILLES MDP | H24: Tournoi reverdy | J24: =J23+1 -> 42816 | K24: ALLEZ LES FILLES MDP | N24: =N23+1 -> 42847 | R24: =R23+1 -> 42877 | V24: =V23+1 -> 42908 | Z24: =Z23+1 -> 42938 | AD24: =AD23+1 -> 42969 | AH24: =AH23+1 -> 43000 | AL24: =AL23+1 -> 43030 | AP24: =AP23+1 -> 43061 | AT24: =AT23+1 -> 43091
A25: =A24+1 -> 42758 | F25: =F24+1 -> 42789 | J25: =J24+1 -> 42817 | N25: =N24+1 -> 42848 | R25: =R24+1 -> 42878 | V25: =V24+1 -> 42909 | Z25: =Z24+1 -> 42939 | AD25: =AD24+1 -> 42970 | AH25: =AH24+1 -> 43001 | AL25: =AL24+1 -> 43031 | AP25: =AP24+1 -> 43062 | AT25: =AT24+1 -> 43092
A26: =A25+1 -> 42759 | F26: =F25+1 -> 42790 | J26: =J25+1 -> 42818 | N26: =N25+1 -> 42849 | R26: =R25+1 -> 42879 | S26: AM F MDP | T26: ALLEZ LES FILLES MDP | V26: =V25+1 -> 42910 | Z26: =Z25+1 -> 42940 | AD26: =AD25+1 -> 42971 | AH26: =AH25+1 -> 43002 | AL26: =AL25+1 -> 43032 | AP26: =AP25+1 -> 43063 | AT26: =AT25+1 -> 43093
A27: =A26+1 -> 42760 | B27: ALLEZ LES FILLES MDP | C27: Tournoi reverdy | E27: =50+25 -> 75 | F27: =F26+1 -> 42791 | J27: =J26+1 -> 42819 | N27: =N26+1 -> 42850 | R27: =R26+1 -> 42880 | V27: =V26+1 -> 42911 | Z27: =Z26+1 -> 42941 | AD27: =AD26+1 -> 42972 | AH27: =AH26+1 -> 43003 | AL27: =AL26+1 -> 43033 | AP27: =AP26+1 -> 43064 | AT27: =AT26+1 -> 43094
A28: =A27+1 -> 42761 | F28: =F27+1 -> 42792 | J28: =J27+1 -> 42820 | N28: =N27+1 -> 42851 | O28: ALLEZ LES FILLES MDP | R28: =R27+1 -> 42881 | V28: =V27+1 -> 42912 | Z28: =Z27+1 -> 42942 | AD28: =AD27+1 -> 42973 | AH28: =AH27+1 -> 43004 | AL28: =AL27+1 -> 43034 | AP28: =AP27+1 -> 43065 | AT28: =AT27+1 -> 43095
A29: =A28+1 -> 42762 | F29: =F28+1 -> 42793 | J29: =J28+1 -> 42821 | N29: =N28+1 -> 42852 | R29: =R28+1 -> 42882 | V29: =V28+1 -> 42913 | Z29: =Z28+1 -> 42943 | AD29: =AD28+1 -> 42974 | AH29: =AH28+1 -> 43005 | AL29: =AL28+1 -> 43035 | AP29: =AP28+1 -> 43066 | AT29: =AT28+1 -> 43096
A30: =A29+1 -> 42763 | F30: =F29+1 -> 42794 | G30: Séjour Darna | J30: =J29+1 -> 42822 | N30: =N29+1 -> 42853 | R30: =R29+1 -> 42883 | V30: =V29+1 -> 42914 | W30: AM F MDP | Z30: =Z29+1 -> 42944 | AD30: =AD29+1 -> 42975 | AH30: =AH29+1 -> 43006 | AL30: =AL29+1 -> 43036 | AP30: =AP29+1 -> 43067 | AT30: =AT29+1 -> 43097
A31: =A30+1 -> 42764 | J31: =J30+1 -> 42823 | K31: ALLEZ LES FILLES MDP | N31: =N30+1 -> 42854 | O31: ALLEZ LES FILLES MDP | R31: =R30+1 -> 42884 | V31: =V30+1 -> 42915 | Z31: =Z30+1 -> 42945 | AD31: =AD30+1 -> 42976 | AH31: =AH30+1 -> 43007 | AL31: =AL30+1 -> 43037 | AP31: =AP30+1 -> 43068 | AT31: =AT30+1 -> 43098
A32: =A31+1 -> 42765 | J32: =J31+1 -> 42824 | N32: =N31+1 -> 42855 | R32: =R31+1 -> 42885 | V32: =V31+1 -> 42916 | Z32: =Z31+1 -> 42946 | AD32: =AD31+1 -> 42977 | AH32: =AH31+1 -> 43008 | AL32: =AL31+1 -> 43038 | AP32: =AP31+1 -> 43069 | AT32: =AT31+1 -> 43099
A33: =A32+1 -> 42766 | J33: =J32+1 -> 42825 | R33: =R32+1 -> 42886 | S33: Tournoi reverdy | Z33: =Z32+1 -> 42947 | AD33: =AD32+1 -> 42978 | AL33: =AL32+1 -> 43039 | AT33: =AT32+1 -> 43100

Sheet CHIFFRES CLES
C4: =SUMIF('2017 calendrier opérations'!B6:D7,"Tournoi reverdy",'2017 calendrier opérations'!B6:E7) -> 0
C5: =SUMIF('2017 calendrier opérations'!B3:D33,"Tournoi reverdy",'2017 calendrier opérations'!E3:E33) -> 128345
C6: =COUNTIF('2017 calendrier opérations'!B3:D33,"Tournoi reverdy") -> 3

Sheet essai
A1: 2017
A2: Janvier | B2: Février | C2: Mars | D2: Avril | E2: Mai | F2: Juin | G2: Juillet | H2: Août | I2: Septembre | J2: Octobre | K2: Novembre | L2: Décembre
A3: =DATE($A$1,COLUMN(),ROW(1:31)) -> 42736 | B3: =DATE($A$1,COLUMN(),ROW(1:31)) -> 42767 | C3: =DATE($A$1,COLUMN(),ROW(1:31)) -> 42795 | D3: =DATE($A$1,COLUMN(),ROW(1:31)) -> 42826 | E3: =DATE($A$1,COLUMN(),ROW(1:31)) -> 42856 | F3: =DATE($A$1,COLUMN(),ROW(1:31)) -> 42887 | G3: =DATE($A$1,COLUMN(),ROW(1:31)) -> 42917 | H3: =DATE($A$1,COLUMN(),ROW(1:31)) -> 42948 | I3: =DATE($A$1,COLUMN(),ROW(1:31)) -> 42979 | J3: =DATE($A$1,COLUMN(1:12),ROW(1:31)) -> 42736 | K3: =DATE($A$1,COLUMN(1:12),ROW(1:31)) -> 42736 | L3: =DATE($A$1,COLUMN(1:12),ROW(1:31)) -> 42736
A4: =DATE($A$1,COLUMN(2:13),ROW(2:32)) -> 42737 | B4: =DATE($A$1,COLUMN(),ROW(2:32)) -> 42768 | C4: =DATE($A$1,COLUMN(2:13),ROW(2:32)) -> 42737 | D4: =DATE($A$1,COLUMN(2:13),ROW(2:32)) -> 42737 | E4: =DATE($A$1,COLUMN(2:13),ROW(2:32)) -> 42737 | F4: =DATE($A$1,COLUMN(2:13),ROW(2:32)) -> 42737 | G4: =DATE($A$1,COLUMN(2:13),ROW(2:32)) -> 42737 | H4: =DATE($A$1,COLUMN(2:13),ROW(2:32)) -> 42737 | I4: =DATE($A$1,COLUMN(),ROW(2:32)) -> 42980 | J4: =DATE($A$1,COLUMN(2:13),ROW(2:32)) -> 42737 | K4: =DATE($A$1,COLUMN(2:13),ROW(2:32)) -> 42737 | L4: =DATE($A$1,COLUMN(2:13),ROW(2:32)) -> 42737
A5: =DATE($A$1,COLUMN(3:14),ROW(3:33)) -> 42738 | B5: =DATE($A$1,COLUMN(),ROW(3:33)) -> 42769 | C5: =DATE($A$1,COLUMN(3:14),ROW(3:33)) -> 42738 | D5: =DATE($A$1,COLUMN(3:14),ROW(3:33)) -> 42738 | E5: =DATE($A$1,COLUMN(3:14),ROW(3:33)) -> 42738 | F5: =DATE($A$1,COLUMN(3:14),ROW(3:33)) -> 42738 | G5: =DATE($A$1,COLUMN(3:14),ROW(3:33)) -> 42738 | H5: =DATE($A$1,COLUMN(3:14),ROW(3:33)) -> 42738 | I5: =DATE($A$1,COLUMN(),ROW(3:33)) -> 42981 | J5: =DATE($A$1,COLUMN(3:14),ROW(3:33)) -> 42738 | K5: =DATE($A$1,COLUMN(3:14),ROW(3:33)) -> 42738 | L5: =DATE($A$1,COLUMN(3:14),ROW(3:33)) -> 42738
A6: =DATE($A$1,COLUMN(4:15),ROW(4:34)) -> 42739 | B6: =DATE($A$1,COLUMN(),ROW(4:34)) -> 42770 | C6: =DATE($A$1,COLUMN(4:15),ROW(4:34)) -> 42739 | D6: =DATE($A$1,COLUMN(4:15),ROW(4:34)) -> 42739 | E6: =DATE($A$1,COLUMN(4:15),ROW(4:34)) -> 42739 | F6: =DATE($A$1,COLUMN(4:15),ROW(4:34)) -> 42739 | G6: =DATE($A$1,COLUMN(4:15),ROW(4:34)) -> 42739 | H6: =DATE($A$1,COLUMN(4:15),ROW(4:34)) -> 42739 | I6: =DATE($A$1,COLUMN(),ROW(4:34)) -> 42982 | J6: =DATE($A$1,COLUMN(4:15),ROW(4:34)) -> 42739 | K6: =DATE($A$1,COLUMN(4:15),ROW(4:34)) -> 42739 | L6: =DATE($A$1,COLUMN(4:15),ROW(4:34)) -> 42739
A7: =DATE($A$1,COLUMN(5:16),ROW(5:35)) -> 42740 | B7: =DATE($A$1,COLUMN(),ROW(5:35)) -> 42771 | C7: =DATE($A$1,COLUMN(5:16),ROW(5:35)) -> 42740 | D7: =DATE($A$1,COLUMN(5:16),ROW(5:35)) -> 42740 | E7: =DATE($A$1,COLUMN(5:16),ROW(5:35)) -> 42740 | F7: =DATE($A$1,COLUMN(5:16),ROW(5:35)) -> 42740 | G7: =DATE($A$1,COLUMN(5:16),ROW(5:35)) -> 42740 | H7: =DATE($A$1,COLUMN(5:16),ROW(5:35)) -> 42740 | I7: =DATE($A$1,COLUMN(),ROW(5:35)) -> 42983 | J7: =DATE($A$1,COLUMN(5:16),ROW(5:35)) -> 42740 | K7: =DATE($A$1,COLUMN(5:16),ROW(5:35)) -> 42740 | L7: =DATE($A$1,COLUMN(5:16),ROW(5:35)) -> 42740
A8: =DATE($A$1,COLUMN(6:17),ROW(6:36)) -> 42741 | B8: =DATE($A$1,COLUMN(),ROW(6:36)) -> 42772 | C8: =DATE($A$1,COLUMN(6:17),ROW(6:36)) -> 42741 | D8: =DATE($A$1,COLUMN(6:17),ROW(6:36)) -> 42741 | E8: =DATE($A$1,COLUMN(6:17),ROW(6:36)) -> 42741 | F8: =DATE($A$1,COLUMN(6:17),ROW(6:36)) -> 42741 | G8: =DATE($A$1,COLUMN(6:17),ROW(6:36)) -> 42741 | H8: =DATE($A$1,COLUMN(6:17),ROW(6:36)) -> 42741 | I8: =DATE($A$1,COLUMN(),ROW(6:36)) -> 42984 | J8: =DATE($A$1,COLUMN(6:17),ROW(6:36)) -> 42741 | K8: =DATE($A$1,COLUMN(6:17),ROW(6:36)) -> 42741 | L8: =DATE($A$1,COLUMN(6:17),ROW(6:36)) -> 42741
A9: =DATE($A$1,COLUMN(7:18),ROW(7:37)) -> 42742 | B9: =DATE($A$1,COLUMN(),ROW(7:37)) -> 42773 | C9: =DATE($A$1,COLUMN(7:18),ROW(7:37)) -> 42742 | D9: =DATE($A$1,COLUMN(7:18),ROW(7:37)) -> 42742 | E9: =DATE($A$1,COLUMN(7:18),ROW(7:37)) -> 42742 | F9: =DATE($A$1,COLUMN(7:18),ROW(7:37)) -> 42742 | G9: =DATE($A$1,COLUMN(7:18),ROW(7:37)) -> 42742 | H9: =DATE($A$1,COLUMN(7:18),ROW(7:37)) -> 42742 | I9: =DATE($A$1,COLUMN(),ROW(7:37)) -> 42985 | J9: =DATE($A$1,COLUMN(7:18),ROW(7:37)) -> 42742 | K9: =DATE($A$1,COLUMN(7:18),ROW(7:37)) -> 42742 | L9: =DATE($A$1,COLUMN(7:18),ROW(7:37)) -> 42742
A10: =DATE($A$1,COLUMN(8:19),ROW(8:38)) -> 42743 | B10: =DATE($A$1,COLUMN(),ROW(8:38)) -> 42774 | C10: =DATE($A$1,COLUMN(8:19),ROW(8:38)) -> 42743 | D10: =DATE($A$1,COLUMN(8:19),ROW(8:38)) -> 42743 | E10: =DATE($A$1,COLUMN(8:19),ROW(8:38)) -> 42743 | F10: =DATE($A$1,COLUMN(8:19),ROW(8:38)) -> 42743 | G10: =DATE($A$1,COLUMN(8:19),ROW(8:38)) -> 42743 | H10: =DATE($A$1,COLUMN(8:19),ROW(8:38)) -> 42743 | I10: =DATE($A$1,COLUMN(),ROW(8:38)) -> 42986 | J10: =DATE($A$1,COLUMN(8:19),ROW(8:38)) -> 42743 | K10: =DATE($A$1,COLUMN(8:19),ROW(8:38)) -> 42743 | L10: =DATE($A$1,COLUMN(8:19),ROW(8:38)) -> 42743
A11: =DATE($A$1,COLUMN(9:20),ROW(9:39)) -> 42744 | B11: =DATE($A$1,COLUMN(),ROW(9:39)) -> 42775 | C11: =DATE($A$1,COLUMN(9:20),ROW(9:39)) -> 42744 | D11: =DATE($A$1,COLUMN(9:20),ROW(9:39)) -> 42744 | E11: =DATE($A$1,COLUMN(9:20),ROW(9:39)) -> 42744 | F11: =DATE($A$1,COLUMN(9:20),ROW(9:39)) -> 42744 | G11: =DATE($A$1,COLUMN(9:20),ROW(9:39)) -> 42744 | H11: =DATE($A$1,COLUMN(9:20),ROW(9:39)) -> 42744 | I11: =DATE($A$1,COLUMN(),ROW(9:39)) -> 42987 | J11: =DATE($A$1,COLUMN(9:20),ROW(9:39)) -> 42744 | K11: =DATE($A$1,COLUMN(9:20),ROW(9:39)) -> 42744 | L11: =DATE($A$1,COLUMN(9:20),ROW(9:39)) -> 42744
A12: =DATE($A$1,COLUMN(10:21),ROW(10:40)) -> 42745 | B12: =DATE($A$1,COLUMN(),ROW(10:40)) -> 42776 | C12: =DATE($A$1,COLUMN(10:21),ROW(10:40)) -> 42745 | D12: =DATE($A$1,COLUMN(10:21),ROW(10:40)) -> 42745 | E12: =DATE($A$1,COLUMN(10:21),ROW(10:40)) -> 42745 | F12: =DATE($A$1,COLUMN(10:21),ROW(10:40)) -> 42745 | G12: =DATE($A$1,COLUMN(10:21),ROW(10:40)) -> 42745 | H12: =DATE($A$1,COLUMN(10:21),ROW(10:40)) -> 42745 | I12: =DATE($A$1,COLUMN(),ROW(10:40)) -> 42988 | J12: =DATE($A$1,COLUMN(10:21),ROW(10:40)) -> 42745 | K12: =DATE($A$1,COLUMN(10:21),ROW(10:40)) -> 42745 | L12: =DATE($A$1,COLUMN(10:21),ROW(10:40)) -> 42745
A13: =DATE($A$1,COLUMN(11:22),ROW(11:41)) -> 42746 | B13: =DATE($A$1,COLUMN(),ROW(11:41)) -> 42777 | C13: =DATE($A$1,COLUMN(11:22),ROW(11:41)) -> 42746 | D13: =DATE($A$1,COLUMN(11:22),ROW(11:41)) -> 42746 | E13: =DATE($A$1,COLUMN(11:22),ROW(11:41)) -> 42746 | F13: =DATE($A$1,COLUMN(11:22),ROW(11:41)) -> 42746 | G13: =DATE($A$1,COLUMN(11:22),ROW(11:41)) -> 42746 | H13: =DATE($A$1,COLUMN(11:22),ROW(11:41)) -> 42746 | I13: =DATE($A$1,COLUMN(),ROW(11:41)) -> 42989 | J13: =DATE($A$1,COLUMN(11:22),ROW(11:41)) -> 42746 | K13: =DATE($A$1,COLUMN(11:22),ROW(11:41)) -> 42746 | L13: =DATE($A$1,COLUMN(11:22),ROW(11:41)) -> 42746
A14: =DATE($A$1,COLUMN(12:23),ROW(12:42)) -> 42747 | B14: =DATE($A$1,COLUMN(),ROW(12:42)) -> 42778 | C14: =DATE($A$1,COLUMN(12:23),ROW(12:42)) -> 42747 | D14: =DATE($A$1,COLUMN(12:23),ROW(12:42)) -> 42747 | E14: =DATE($A$1,COLUMN(12:23),ROW(12:42)) -> 42747 | F14: =DATE($A$1,COLUMN(12:23),ROW(12:42)) -> 42747 | G14: =DATE($A$1,COLUMN(12:23),ROW(12:42)) -> 42747 | H14: =DATE($A$1,COLUMN(12:23),ROW(12:42)) -> 42747 | I14: =DATE($A$1,COLUMN(),ROW(12:42)) -> 42990 | J14: =DATE($A$1,COLUMN(12:23),ROW(12:42)) -> 42747 | K14: =DATE($A$1,COLUMN(12:23),ROW(12:42)) -> 42747 | L14: =DATE($A$1,COLUMN(12:23),ROW(12:42)) -> 42747
A15: =DATE($A$1,COLUMN(13:24),ROW(13:43)) -> 42748 | B15: =DATE($A$1,COLUMN(),ROW(13:43)) -> 42779 | C15: =DATE($A$1,COLUMN(13:24),ROW(13:43)) -> 42748 | D15: =DATE($A$1,COLUMN(13:24),ROW(13:43)) -> 42748 | E15: =DATE($A$1,COLUMN(13:24),ROW(13:43)) -> 42748 | F15: =DATE($A$1,COLUMN(13:24),ROW(13:43)) -> 42748 | G15: =DATE($A$1,COLUMN(13:24),ROW(13:43)) -> 42748 | H15: =DATE($A$1,COLUMN(13:24),ROW(13:43)) -> 42748 | I15: =DATE($A$1,COLUMN(),ROW(13:43)) -> 42991 | J15: =DATE($A$1,COLUMN(13:24),ROW(13:43)) -> 42748 | K15: =DATE($A$1,COLUMN(13:24),ROW(13:43)) -> 42748 | L15: =DATE($A$1,COLUMN(13:24),ROW(13:43)) -> 42748
A16: =DATE($A$1,COLUMN(14:25),ROW(14:44)) -> 42749 | B16: =DATE($A$1,COLUMN(),ROW(14:44)) -> 42780 | C16: =DATE($A$1,COLUMN(14:25),ROW(14:44)) -> 42749 | D16: =DATE($A$1,COLUMN(14:25),ROW(14:44)) -> 42749 | E16: =DATE($A$1,COLUMN(14:25),ROW(14:44)) -> 42749 | F16: =DATE($A$1,COLUMN(14:25),ROW(14:44)) -> 42749 | G16: =DATE($A$1,COLUMN(14:25),ROW(14:44)) -> 42749 | H16: =DATE($A$1,COLUMN(14:25),ROW(14:44)) -> 42749 | I16: =DATE($A$1,COLUMN(),ROW(14:44)) -> 42992 | J16: =DATE($A$1,COLUMN(14:25),ROW(14:44)) -> 42749 | K16: =DATE($A$1,COLUMN(14:25),ROW(14:44)) -> 42749 | L16: =DATE($A$1,COLUMN(14:25),ROW(14:44)) -> 42749
A17: =DATE($A$1,COLUMN(15:26),ROW(15:45)) -> 42750 | B17: =DATE($A$1,COLUMN(),ROW(15:45)) -> 42781 | C17: =DATE($A$1,COLUMN(15:26),ROW(15:45)) -> 42750 | D17: =DATE($A$1,COLUMN(15:26),ROW(15:45)) -> 42750 | E17: =DATE($A$1,COLUMN(15:26),ROW(15:45)) -> 42750 | F17: =DATE($A$1,COLUMN(15:26),ROW(15:45)) -> 42750 | G17: =DATE($A$1,COLUMN(15:26),ROW(15:45)) -> 42750 | H17: =DATE($A$1,COLUMN(15:26),ROW(15:45)) -> 42750 | I17: =DATE($A$1,COLUMN(),ROW(15:45)) -> 42993 | J17: =DATE($A$1,COLUMN(15:26),ROW(15:45)) -> 42750 | K17: =DATE($A$1,COLUMN(15:26),ROW(15:45)) -> 42750 | L17: =DATE($A$1,COLUMN(15:26),ROW(15:45)) -> 42750
A18: =DATE($A$1,COLUMN(16:27),ROW(16:46)) -> 42751 | B18: =DATE($A$1,COLUMN(),ROW(16:46)) -> 42782 | C18: =DATE($A$1,COLUMN(16:27),ROW(16:46)) -> 42751 | D18: =DATE($A$1,COLUMN(16:27),ROW(16:46)) -> 42751 | E18: =DATE($A$1,COLUMN(16:27),ROW(16:46)) -> 42751 | F18: =DATE($A$1,COLUMN(16:27),ROW(16:46)) -> 42751 | G18: =DATE($A$1,COLUMN(16:27),ROW(16:46)) -> 42751 | H18: =DATE($A$1,COLUMN(16:27),ROW(16:46)) -> 42751 | I18: =DATE($A$1,COLUMN(),ROW(16:46)) -> 42994 | J18: =DATE($A$1,COLUMN(16:27),ROW(16:46)) -> 42751 | K18: =DATE($A$1,COLUMN(16:27),ROW(16:46)) -> 42751 | L18: =DATE($A$1,COLUMN(16:27),ROW(16:46)) -> 42751
A19: =DATE($A$1,COLUMN(17:28),ROW(17:47)) -> 42752 | B19: =DATE($A$1,COLUMN(),ROW(17:47)) -> 42783 | C19: =DATE($A$1,COLUMN(17:28),ROW(17:47)) -> 42752 | D19: =DATE($A$1,COLUMN(17:28),ROW(17:47)) -> 42752 | E19: =DATE($A$1,COLUMN(17:28),ROW(17:47)) -> 42752 | F19: =DATE($A$1,COLUMN(17:28),ROW(17:47)) -> 42752 | G19: =DATE($A$1,COLUMN(17:28),ROW(17:47)) -> 42752 | H19: =DATE($A$1,COLUMN(17:28),ROW(17:47)) -> 42752 | I19: =DATE($A$1,COLUMN(),ROW(17:47)) -> 42995 | J19: =DATE($A$1,COLUMN(17:28),ROW(17:47)) -> 42752 | K19: =DATE($A$1,COLUMN(17:28),ROW(17:47)) -> 42752 | L19: =DATE($A$1,COLUMN(17:28),ROW(17:47)) -> 42752
A20: =DATE($A$1,COLUMN(18:29),ROW(18:48)) -> 42753 | B20: =DATE($A$1,COLUMN(),ROW(18:48)) -> 42784 | C20: =DATE($A$1,COLUMN(18:29),ROW(18:48)) -> 42753 | D20: =DATE($A$1,COLUMN(18:29),ROW(18:48)) -> 42753 | E20: =DATE($A$1,COLUMN(18:29),ROW(18:48)) -> 42753 | F20: =DATE($A$1,COLUMN(18:29),ROW(18:48)) -> 42753 | G20: =DATE($A$1,COLUMN(18:29),ROW(18:48)) -> 42753 | H20: =DATE($A$1,COLUMN(18:29),ROW(18:48)) -> 42753 | I20: =DATE($A$1,COLUMN(),ROW(18:48)) -> 42996 | J20: =DATE($A$1,COLUMN(18:29),ROW(18:48)) -> 42753 | K20: =DATE($A$1,COLUMN(18:29),ROW(18:48)) -> 42753 | L20: =DATE($A$1,COLUMN(18:29),ROW(18:48)) -> 42753
A21: =DATE($A$1,COLUMN(19:30),ROW(19:49)) -> 42754 | B21: =DATE($A$1,COLUMN(),ROW(19:49)) -> 42785 | C21: =DATE($A$1,COLUMN(19:30),ROW(19:49)) -> 42754 | D21: =DATE($A$1,COLUMN(19:30),ROW(19:49)) -> 42754 | E21: =DATE($A$1,COLUMN(19:30),ROW(19:49)) -> 42754 | F21: =DATE($A$1,COLUMN(19:30),ROW(19:49)) -> 42754 | G21: =DATE($A$1,COLUMN(19:30),ROW(19:49)) -> 42754 | H21: =DATE($A$1,COLUMN(19:30),ROW(19:49)) -> 42754 | I21: =DATE($A$1,COLUMN(),ROW(19:49)) -> 42997 | J21: =DATE($A$1,COLUMN(19:30),ROW(19:49)) -> 42754 | K21: =DATE($A$1,COLUMN(19:30),ROW(19:49)) -> 42754 | L21: =DATE($A$1,COLUMN(19:30),ROW(19:49)) -> 42754
A22: =DATE($A$1,COLUMN(20:31),ROW(20:50)) -> 42755 | B22: =DATE($A$1,COLUMN(),ROW(20:50)) -> 42786 | C22: =DATE($A$1,COLUMN(20:31),ROW(20:50)) -> 42755 | D22: =DATE($A$1,COLUMN(20:31),ROW(20:50)) -> 42755 | E22: =DATE($A$1,COLUMN(20:31),ROW(20:50)) -> 42755 | F22: =DATE($A$1,COLUMN(20:31),ROW(20:50)) -> 42755 | G22: =DATE($A$1,COLUMN(20:31),ROW(20:50)) -> 42755 | H22: =DATE($A$1,COLUMN(20:31),ROW(20:50)) -> 42755 | I22: =DATE($A$1,COLUMN(),ROW(20:50)) -> 42998 | J22: =DATE($A$1,COLUMN(20:31),ROW(20:50)) -> 42755 | K22: =DATE($A$1,COLUMN(20:31),ROW(20:50)) -> 42755 | L22: =DATE($A$1,COLUMN(20:31),ROW(20:50)) -> 42755
A23: =DATE($A$1,COLUMN(21:32),ROW(21:51)) -> 42756 | B23: =DATE($A$1,COLUMN(),ROW(21:51)) -> 42787 | C23: =DATE($A$1,COLUMN(21:32),ROW(21:51)) -> 42756 | D23: =DATE($A$1,COLUMN(21:32),ROW(21:51)) -> 42756 | E23: =DATE($A$1,COLUMN(21:32),ROW(21:51)) -> 42756 | F23: =DATE($A$1,COLUMN(21:32),ROW(21:51)) -> 42756 | G23: =DATE($A$1,COLUMN(21:32),ROW(21:51)) -> 42756 | H23: =DATE($A$1,COLUMN(21:32),ROW(21:51)) -> 42756 | I23: =DATE($A$1,COLUMN(),ROW(21:51)) -> 42999 | J23: =DATE($A$1,COLUMN(21:32),ROW(21:51)) -> 42756 | K23: =DATE($A$1,COLUMN(21:32),ROW(21:51)) -> 42756 | L23: =DATE($A$1,COLUMN(21:32),ROW(21:51)) -> 42756
A24: =DATE($A$1,COLUMN(22:33),ROW(22:52)) -> 42757 | B24: =DATE($A$1,COLUMN(),ROW(22:52)) -> 42788 | C24: =DATE($A$1,COLUMN(22:33),ROW(22:52)) -> 42757 | D24: =DATE($A$1,COLUMN(22:33),ROW(22:52)) -> 42757 | E24: =DATE($A$1,COLUMN(22:33),ROW(22:52)) -> 42757 | F24: =DATE($A$1,COLUMN(22:33),ROW(22:52)) -> 42757 | G24: =DATE($A$1,COLUMN(22:33),ROW(22:52)) -> 42757 | H24: =DATE($A$1,COLUMN(22:33),ROW(22:52)) -> 42757 | I24: =DATE($A$1,COLUMN(),ROW(22:52)) -> 43000 | J24: =DATE($A$1,COLUMN(22:33),ROW(22:52)) -> 42757 | K24: =DATE($A$1,COLUMN(22:33),ROW(22:52)) -> 42757 | L24: =DATE($A$1,COLUMN(22:33),ROW(22:52)) -> 42757
A25: =DATE($A$1,COLUMN(23:34),ROW(23:53)) -> 42758 | B25: =DATE($A$1,COLUMN(),ROW(23:53)) -> 42789 | C25: =DATE($A$1,COLUMN(23:34),ROW(23:53)) -> 42758 | D25: =DATE($A$1,COLUMN(23:34),ROW(23:53)) -> 42758 | E25: =DATE($A$1,COLUMN(23:34),ROW(23:53)) -> 42758 | F25: =DATE($A$1,COLUMN(23:34),ROW(23:53)) -> 42758 | G25: =DATE($A$1,COLUMN(23:34),ROW(23:53)) -> 42758 | H25: =DATE($A$1,COLUMN(23:34),ROW(23:53)) -> 42758 | I25: =DATE($A$1,COLUMN(),ROW(23:53)) -> 43001 | J25: =DATE($A$1,COLUMN(23:34),ROW(23:53)) -> 42758 | K25: =DATE($A$1,COLUMN(23:34),ROW(23:53)) -> 42758 | L25: =DATE($A$1,COLUMN(23:34),ROW(23:53)) -> 42758
A26: =DATE($A$1,COLUMN(24:35),ROW(24:54)) -> 42759 | B26: =DATE($A$1,COLUMN(),ROW(24:54)) -> 42790 | C26: =DATE($A$1,COLUMN(24:35),ROW(24:54)) -> 42759 | D26: =DATE($A$1,COLUMN(24:35),ROW(24:54)) -> 42759 | E26: =DATE($A$1,COLUMN(24:35),ROW(24:54)) -> 42759 | F26: =DATE($A$1,COLUMN(24:35),ROW(24:54)) -> 42759 | G26: =DATE($A$1,COLUMN(24:35),ROW(24:54)) -> 42759 | H26: =DATE($A$1,COLUMN(24:35),ROW(24:54)) -> 42759 | I26: =DATE($A$1,COLUMN(),ROW(24:54)) -> 43002 | J26: =DATE($A$1,COLUMN(24:35),ROW(24:54)) -> 42759 | K26: =DATE($A$1,COLUMN(24:35),ROW(24:54)) -> 42759 | L26: =DATE($A$1,COLUMN(24:35),ROW(24:54)) -> 42759
A27: =DATE($A$1,COLUMN(25:36),ROW(25:55)) -> 42760 | B27: =DATE($A$1,COLUMN(),ROW(25:55)) -> 42791 | C27: =DATE($A$1,COLUMN(25:36),ROW(25:55)) -> 42760 | D27: =DATE($A$1,COLUMN(25:36),ROW(25:55)) -> 42760 | E27: =DATE($A$1,COLUMN(25:36),ROW(25:55)) -> 42760 | F27: =DATE($A$1,COLUMN(25:36),ROW(25:55)) -> 42760 | G27: =DATE($A$1,COLUMN(25:36),ROW(25:55)) -> 42760 | H27: =DATE($A$1,COLUMN(25:36),ROW(25:55)) -> 42760 | I27: =DATE($A$1,COLUMN(),ROW(25:55)) -> 43003 | J27: =DATE($A$1,COLUMN(25:36),ROW(25:55)) -> 42760 | K27: =DATE($A$1,COLUMN(25:36),ROW(25:55)) -> 42760 | L27: =DATE($A$1,COLUMN(25:36),ROW(25:55)) -> 42760
A28: =DATE($A$1,COLUMN(26:37),ROW(26:56)) -> 42761 | B28: =DATE($A$1,COLUMN(),ROW(26:56)) -> 42792 | C28: =DATE($A$1,COLUMN(26:37),ROW(26:56)) -> 42761 | D28: =DATE($A$1,COLUMN(26:37),ROW(26:56)) -> 42761 | E28: =DATE($A$1,COLUMN(26:37),ROW(26:56)) -> 42761 | F28: =DATE($A$1,COLUMN(26:37),ROW(26:56)) -> 42761 | G28: =DATE($A$1,COLUMN(26:37),ROW(26:56)) -> 42761 | H28: =DATE($A$1,COLUMN(26:37),ROW(26:56)) -> 42761 | I28: =DATE($A$1,COLUMN(),ROW(26:56)) -> 43004 | J28: =DATE($A$1,COLUMN(26:37),ROW(26:56)) -> 42761 | K28: =DATE($A$1,COLUMN(26:37),ROW(26:56)) -> 42761 | L28: =DATE($A$1,COLUMN(26:37),ROW(26:56)) -> 42761
A29: =DATE($A$1,COLUMN(27:38),ROW(27:57)) -> 42762 | B29: =DATE($A$1,COLUMN(),ROW(27:57)) -> 42793 | C29: =DATE($A$1,COLUMN(27:38),ROW(27:57)) -> 42762 | D29: =DATE($A$1,COLUMN(27:38),ROW(27:57)) -> 42762 | E29: =DATE($A$1,COLUMN(27:38),ROW(27:57)) -> 42762 | F29: =DATE($A$1,COLUMN(27:38),ROW(27:57)) -> 42762 | G29: =DATE($A$1,COLUMN(27:38),ROW(27:57)) -> 42762 | H29: =DATE($A$1,COLUMN(27:38),ROW(27:57)) -> 42762 | I29: =DATE($A$1,COLUMN(),ROW(27:57)) -> 43005 | J29: =DATE($A$1,COLUMN(27:38),ROW(27:57)) -> 42762 | K29: =DATE($A$1,COLUMN(27:38),ROW(27:57)) -> 42762 | L29: =DATE($A$1,COLUMN(27:38),ROW(27:57)) -> 42762
A30: =DATE($A$1,COLUMN(28:39),ROW(28:58)) -> 42763 | B30: =DATE($A$1,COLUMN(),ROW(28:58)) -> 42794 | C30: =DATE($A$1,COLUMN(28:39),ROW(28:58)) -> 42763 | D30: =DATE($A$1,COLUMN(28:39),ROW(28:58)) -> 42763 | E30: =DATE($A$1,COLUMN(28:39),ROW(28:58)) -> 42763 | F30: =DATE($A$1,COLUMN(28:39),ROW(28:58)) -> 42763 | G30: =DATE($A$1,COLUMN(28:39),ROW(28:58)) -> 42763 | H30: =DATE($A$1,COLUMN(28:39),ROW(28:58)) -> 42763 | I30: =DATE($A$1,COLUMN(),ROW(28:58)) -> 43006 | J30: =DATE($A$1,COLUMN(28:39),ROW(28:58)) -> 42763 | K30: =DATE($A$1,COLUMN(28:39),ROW(28:58)) -> 42763 | L30: =DATE($A$1,COLUMN(28:39),ROW(28:58)) -> 42763
A31: =DATE($A$1,COLUMN(29:40),ROW(29:59)) -> 42764 | B31: =DATE($A$1,COLUMN(),ROW(29:59)) -> 42795 | C31: =DATE($A$1,COLUMN(29:40),ROW(29:59)) -> 42764 | D31: =DATE($A$1,COLUMN(29:40),ROW(29:59)) -> 42764 | E31: =DATE($A$1,COLUMN(29:40),ROW(29:59)) -> 42764 | F31: =DATE($A$1,COLUMN(29:40),ROW(29:59)) -> 42764 | G31: =DATE($A$1,COLUMN(29:40),ROW(29:59)) -> 42764 | H31: =DATE($A$1,COLUMN(29:40),ROW(29:59)) -> 42764 | I31: =DATE($A$1,COLUMN(),ROW(29:59)) -> 43007 | J31: =DATE($A$1,COLUMN(29:40),ROW(29:59)) -> 42764 | K31: =DATE($A$1,COLUMN(29:40),ROW(29:59)) -> 42764 | L31: =DATE($A$1,COLUMN(29:40),ROW(29:59)) -> 42764
A32: =DATE($A$1,COLUMN(30:41),ROW(30:60)) -> 42765 | B32: =DATE($A$1,COLUMN(),ROW(30:60)) -> 42796 | C32: =DATE($A$1,COLUMN(30:41),ROW(30:60)) -> 42765 | D32: =DATE($A$1,COLUMN(30:41),ROW(30:60)) -> 42765 | E32: =DATE($A$1,COLUMN(30:41),ROW(30:60)) -> 42765 | F32: =DATE($A$1,COLUMN(30:41),ROW(30:60)) -> 42765 | G32: =DATE($A$1,COLUMN(30:41),ROW(30:60)) -> 42765 | H32: =DATE($A$1,COLUMN(30:41),ROW(30:60)) -> 42765 | I32: =DATE($A$1,COLUMN(),ROW(30:60)) -> 43008 | J32: =DATE($A$1,COLUMN(30:41),ROW(30:60)) -> 42765 | K32: =DATE($A$1,COLUMN(30:41),ROW(30:60)) -> 42765 | L32: =DATE($A$1,COLUMN(30:41),ROW(30:60)) -> 42765
A33: =DATE($A$1,COLUMN(31:42),ROW(31:61)) -> 42766 | B33: =DATE($A$1,COLUMN(),ROW(31:61)) -> 42797 | C33: =DATE($A$1,COLUMN(31:42),ROW(31:61)) -> 42766 | D33: =DATE($A$1,COLUMN(31:42),ROW(31:61)) -> 42766 | E33: =DATE($A$1,COLUMN(31:42),ROW(31:61)) -> 42766 | F33: =DATE($A$1,COLUMN(31:42),ROW(31:61)) -> 42766 | G33: =DATE($A$1,COLUMN(31:42),ROW(31:61)) -> 42766 | H33: =DATE($A$1,COLUMN(31:42),ROW(31:61)) -> 42766 | I33: =DATE($A$1,COLUMN(),ROW(31:61)) -> 43009 | J33: =DATE($A$1,COLUMN(31:42),ROW(31:61)) -> 42766 | K33: =DATE($A$1,COLUMN(31:42),ROW(31:61)) -> 42766 | L33: =DATE($A$1,COLUMN(31:42),ROW(31:61)) -> 42766
