Workbook

Sheet Feuil2
A1: N°D | B1: Département | C1: N° S/P | D1: S/Préfecture | E1: N° V | F1: Village | H1: Département | I1: Index | J1: Village 1 | K1: Village 2 | L1: Village 3 | M1: Village 4 | N1: Village 5 | O1: Village 6 | P1: Village 7 | Q1: VERIF
A2: 1 | B2: Abdi | C2: 1 | D2: Abdi rural | E2: 1 | F2: angatoura | H2: =IFERROR(INDEX($B$2:$B$1504,Feuil2!$I2),"") -> Abdi | I2: =IFERROR(-1+SMALL(IF(MATCH($B$2:$B$1504,$B$2:$B$1504,0)=ROW($B$2:$B$1504)-1,ROW($B$2:$B$1504)),ROWS($1:1)),"") -> 1
A3: =IF(B3=B2,A2,A2+1) -> 1 | B3: Abdi | C3: =IF(D3=D2,C2,C2+1) -> 1 | D3: Abdi rural | E3: 2 | F3: barakala | H3: =IFERROR(INDEX($B$2:$B$1504,Feuil2!$I3),"") | I3: =IFERROR(-1+SMALL(IF(MATCH($B$2:$B$1504,$B$2:$B$1504,0)=ROW($B$2:$B$1504)-1,ROW($B$2:$B$1504)),ROWS($1:2)),"")
A4: =IF(B4=B3,A3,A3+1) -> 1 | B4: Abdi | C4: =IF(D4=D3,C3,C3+1) -> 1 | D4: Abdi rural | E4: 3 | F4: doukouman | H4: =IFERROR(INDEX($B$2:$B$1504,Feuil2!$I4),"") | I4: =IFERROR(-1+SMALL(IF(MATCH($B$2:$B$1504,$B$2:$B$1504,0)=ROW($B$2:$B$1504)-1,ROW($B$2:$B$1504)),ROWS($1:3)),"")
A5: =IF(B5=B4,A4,A4+1) -> 1 | B5: Abdi | C5: =IF(D5=D4,C4,C4+1) -> 1 | D5: Abdi rural | E5: 4 | F5: hidjer-labane | H5: =IFERROR(INDEX($B$2:$B$1504,Feuil2!$I5),"") | I5: =IFERROR(-1+SMALL(IF(MATCH($B$2:$B$1504,$B$2:$B$1504,0)=ROW($B$2:$B$1504)-1,ROW($B$2:$B$1504)),ROWS($1:4)),"")
A6: =IF(B6=B5,A5,A5+1) -> 1 | B6: Abdi | C6: =IF(D6=D5,C5,C5+1) -> 1 | D6: Abdi rural | E6: 5 | F6: hille-talhdjar | H6: =IFERROR(INDEX($B$2:$B$1504,Feuil2!$I6),"") | I6: =IFERROR(-1+SMALL(IF(MATCH($B$2:$B$1504,$B$2:$B$1504,0)=ROW($B$2:$B$1504)-1,ROW($B$2:$B$1504)),ROWS($1:5)),"")
A7: =IF(B7=B6,A6,A6+1) -> 1 | B7: Abdi | C7: =IF(D7=D6,C6,C6+1) -> 1 | D7: Abdi rural | E7: 6 | F7: komoske | H7: =IFERROR(INDEX($B$2:$B$1504,Feuil2!$I7),"") | I7: =IFERROR(-1+SMALL(IF(MATCH($B$2:$B$1504,$B$2:$B$1504,0)=ROW($B$2:$B$1504)-1,ROW($B$2:$B$1504)),ROWS($1:6)),"")
A8: =IF(B8=B7,A7,A7+1) -> 1 | B8: Abdi | C8: =IF(D8=D7,C7,C7+1) -> 1 | D8: Abdi rural | E8: 7 | F8: Kongor | H8: =IFERROR(INDEX($B$2:$B$1504,Feuil2!$I8),"") | I8: =IFERROR(-1+SMALL(IF(MATCH($B$2:$B$1504,$B$2:$B$1504,0)=ROW($B$2:$B$1504)-1,ROW($B$2:$B$1504)),ROWS($1:7)),"")
A9: =IF(B9=B8,A8,A8+1) -> 1 | B9: Abdi | C9: =IF(D9=D8,C8,C8+1) -> 1 | D9: Abdi rural | E9: 8 | F9: sormon | H9: =IFERROR(INDEX($B$2:$B$1504,Feuil2!$I9),"") | I9: =IFERROR(-1+SMALL(IF(MATCH($B$2:$B$1504,$B$2:$B$1504,0)=ROW($B$2:$B$1504)-1,ROW($B$2:$B$1504)),ROWS($1:8)),"")
A10: =IF(B10=B9,A9,A9+1) -> 1 | B10: Abdi | C10: =IF(D10=D9,C9,C9+1) -> 1 | D10: Abdi rural | E10: 9 | F10: Tandjak | H10: =IFERROR(INDEX($B$2:$B$1504,Feuil2!$I10),"") | I10: =IFERROR(-1+SMALL(IF(MATCH($B$2:$B$1504,$B$2:$B$1504,0)=ROW($B$2:$B$1504)-1,ROW($B$2:$B$1504)),ROWS($1:9)),"")
A11: =IF(B11=B10,A10,A10+1) -> 1 | B11: Abdi | C11: =IF(D11=D10,C10,C10+1) -> 1 | D11: Abdi rural | E11: 10 | F11: tradona | H11: =IFERROR(INDEX($B$2:$B$1504,Feuil2!$I11),"") | I11: =IFERROR(-1+SMALL(IF(MATCH($B$2:$B$1504,$B$2:$B$1504,0)=ROW($B$2:$B$1504)-1,ROW($B$2:$B$1504)),ROWS($1:10)),"")
A12: =IF(B12=B11,A11,A11+1) -> 1 | B12: Abdi | C12: =IF(D12=D11,C11,C11+1) -> 1 | D12: Abdi rural | E12: 11 | F12: zabalat | H12: =IFERROR(INDEX($B$2:$B$1504,Feuil2!$I12),"") | I12: =IFERROR(-1+SMALL(IF(MATCH($B$2:$B$1504,$B$2:$B$1504,0)=ROW($B$2:$B$1504)-1,ROW($B$2:$B$1504)),ROWS($1:11)),"")
A13: =IF(B13=B12,A12,A12+1) -> 1 | B13: Abdi | C13: =IF(D13=D12,C12,C12+1) -> 1 | D13: Abdi rural | E13: 12 | F13: Zafaye | H13: =IFERROR(INDEX($B$2:$B$1504,Feuil2!$I13),"") | I13: =IFERROR(-1+SMALL(IF(MATCH($B$2:$B$1504,$B$2:$B$1504,0)=ROW($B$2:$B$1504)-1,ROW($B$2:$B$1504)),ROWS($1:12)),"")
A14: =IF(B14=B13,A13,A13+1) -> 1 | B14: Abdi | C14: =IF(D14=D13,C13,C13+1) -> 2 | D14: Abkar | E14: 24 | F14: Abkar atrack | H14: =IFERROR(INDEX($B$2:$B$1504,Feuil2!$I14),"") | I14: =IFERROR(-1+SMALL(IF(MATCH($B$2:$B$1504,$B$2:$B$1504,0)=ROW($B$2:$B$1504)-1,ROW($B$2:$B$1504)),ROWS($1:13)),"")
A15: =IF(B15=B14,A14,A14+1) -> 1 | B15: Abdi | C15: =IF(D15=D14,C14,C14+1) -> 2 | D15: Abkar | E15: 25 | F15: andila | H15: =IFERROR(INDEX($B$2:$B$1504,Feuil2!$I15),"") | I15: =IFERROR(-1+SMALL(IF(MATCH($B$2:$B$1504,$B$2:$B$1504,0)=ROW($B$2:$B$1504)-1,ROW($B$2:$B$1504)),ROWS($1:14)),"")
A16: =IF(B16=B15,A15,A15+1) -> 1 | B16: Abdi | C16: =IF(D16=D15,C15,C15+1) -> 2 | D16: Abkar | E16: 26 | F16: gourngale | H16: =IFERROR(INDEX($B$2:$B$1504,Feuil2!$I16),"") | I16: =IFERROR(-1+SMALL(IF(MATCH($B$2:$B$1504,$B$2:$B$1504,0)=ROW($B$2:$B$1504)-1,ROW($B$2:$B$1504)),ROWS($1:15)),"")
A17: =IF(B17=B16,A16,A16+1) -> 1 | B17: Abdi | C17: =IF(D17=D16,C16,C16+1) -> 2 | D17: Abkar | E17: 27 | F17: merinde | H17: =IFERROR(INDEX($B$2:$B$1504,Feuil2!$I17),"") | I17: =IFERROR(-1+SMALL(IF(MATCH($B$2:$B$1504,$B$2:$B$1504,0)=ROW($B$2:$B$1504)-1,ROW($B$2:$B$1504)),ROWS($1:16)),"")
A18: =IF(B18=B17,A17,A17+1) -> 1 | B18: Abdi | C18: =IF(D18=D17,C17,C17+1) -> 2 | D18: Abkar | E18: 28 | F18: Moustakide | I18: =IFERROR(-1+SMALL(IF(MATCH($B$2:$B$1504,$B$2:$B$1504,0)=ROW($B$2:$B$1504)-1,ROW($B$2:$B$1504)),ROWS($1:17)),"")
A19: =IF(B19=B18,A18,A18+1) -> 1 | B19: Abdi | C19: =IF(D19=D18,C18,C18+1) -> 2 | D19: Abkar | E19: 29 | F19: ngamougnan | I19: =IFERROR(-1+SMALL(IF(MATCH(B19:B1521,B19:B1521,0)=ROW(B19:B1521)-1,ROW(B19:B1521)),ROWS($1:18)),"")
A20: =IF(B20=B19,A19,A19+1) -> 1 | B20: Abdi | C20: =IF(D20=D19,C19,C19+1) -> 2 | D20: Abkar | E20: 30 | F20: rogrogo | I20: =IFERROR(-1+SMALL(IF(MATCH(B20:B1522,B20:B1522,0)=ROW(B20:B1522)-1,ROW(B20:B1522)),ROWS($1:19)),"")
A21: =IF(B21=B20,A20,A20+1) -> 1 | B21: Abdi | C21: =IF(D21=D20,C20,C20+1) -> 2 | D21: Abkar | E21: 31 | F21: talibene | I21: =IFERROR(-1+SMALL(IF(MATCH(B21:B1523,B21:B1523,0)=ROW(B21:B1523)-1,ROW(B21:B1523)),ROWS($1:20)),"")
A22: =IF(B22=B21,A21,A21+1) -> 2 | B22: Abtouyour | C22: =IF(D22=D21,C21,C21+1) -> 3 | D22: Bang-bang | E22: 1259 | F22: Bagoua | I22: =IFERROR(-1+SMALL(IF(MATCH(B22:B1524,B22:B1524,0)=ROW(B22:B1524)-1,ROW(B22:B1524)),ROWS($1:21)),"")
A23: =IF(B23=B22,A22,A22+1) -> 2 | B23: Abtouyour | C23: =IF(D23=D22,C22,C22+1) -> 3 | D23: Bang-bang | E23: 1253 | F23: Bara | I23: =IFERROR(-1+SMALL(IF(MATCH(B23:B1525,B23:B1525,0)=ROW(B23:B1525)-1,ROW(B23:B1525)),ROWS($1:22)),"")
A24: =IF(B24=B23,A23,A23+1) -> 2 | B24: Abtouyour | C24: =IF(D24=D23,C23,C23+1) -> 3 | D24: Bang-bang | E24: 1256 | F24: Boukaré | I24: =IFERROR(-1+SMALL(IF(MATCH(B24:B1526,B24:B1526,0)=ROW(B24:B1526)-1,ROW(B24:B1526)),ROWS($1:23)),"")
A25: =IF(B25=B24,A24,A24+1) -> 2 | B25: Abtouyour | C25: =IF(D25=D24,C24,C24+1) -> 3 | D25: Bang-bang | E25: 1261 | F25: Korbo Bet | I25: =IFERROR(-1+SMALL(IF(MATCH(B25:B1527,B25:B1527,0)=ROW(B25:B1527)-1,ROW(B25:B1527)),ROWS($1:24)),"")
A26: =IF(B26=B25,A25,A25+1) -> 2 | B26: Abtouyour | C26: =IF(D26=D25,C25,C25+1) -> 3 | D26: Bang-bang | E26: 1254 | F26: Korlongo | I26: =IFERROR(-1+SMALL(IF(MATCH(B26:B1528,B26:B1528,0)=ROW(B26:B1528)-1,ROW(B26:B1528)),ROWS($1:25)),"")
A27: =IF(B27=B26,A26,A26+1) -> 2 | B27: Abtouyour | C27: =IF(D27=D26,C26,C26+1) -> 3 | D27: Bang-bang | E27: 1258 | F27: Koubo Adougoul | I27: =IFERROR(-1+SMALL(IF(MATCH(B27:B1529,B27:B1529,0)=ROW(B27:B1529)-1,ROW(B27:B1529)),ROWS($1:26)),"")
A28: =IF(B28=B27,A27,A27+1) -> 2 | B28: Abtouyour | C28: =IF(D28=D27,C27,C27+1) -> 3 | D28: Bang-bang | E28: 1257 | F28: Koukné | I28: =IFERROR(-1+SMALL(IF(MATCH(B28:B1530,B28:B1530,0)=ROW(B28:B1530)-1,ROW(B28:B1530)),ROWS($1:27)),"")
A29: =IF(B29=B28,A28,A28+1) -> 2 | B29: Abtouyour | C29: =IF(D29=D28,C28,C28+1) -> 3 | D29: Bang-bang | E29: 1262 | F29: Mancossine | I29: =IFERROR(-1+SMALL(IF(MATCH(B29:B1531,B29:B1531,0)=ROW(B29:B1531)-1,ROW(B29:B1531)),ROWS($1:28)),"")
A30: =IF(B30=B29,A29,A29+1) -> 2 | B30: Abtouyour | C30: =IF(D30=D29,C29,C29+1) -> 3 | D30: Bang-bang | E30: 1260 | F30: Tchalo Ideba | I30: =IFERROR(-1+SMALL(IF(MATCH(B30:B1532,B30:B1532,0)=ROW(B30:B1532)-1,ROW(B30:B1532)),ROWS($1:29)),"")
A31: =IF(B31=B30,A30,A30+1) -> 2 | B31: Abtouyour | C31: =IF(D31=D30,C30,C30+1) -> 3 | D31: Bang-bang | E31: 1252 | F31: Tchalo Zoudou | I31: =IFERROR(-1+SMALL(IF(MATCH(B31:B1533,B31:B1533,0)=ROW(B31:B1533)-1,ROW(B31:B1533)),ROWS($1:30)),"")
A32: =IF(B32=B31,A31,A31+1) -> 2 | B32: Abtouyour | C32: =IF(D32=D31,C31,C31+1) -> 3 | D32: Bang-bang | E32: 1255 | F32: Tcharo | I32: =IFERROR(-1+SMALL(IF(MATCH(B32:B1534,B32:B1534,0)=ROW(B32:B1534)-1,ROW(B32:B1534)),ROWS($1:31)),"")
A33: =IF(B33=B32,A32,A32+1) -> 2 | B33: Abtouyour | C33: =IF(D33=D32,C32,C32+1) -> 4 | D33: Bitkine | E33: 1263 | F33: Abtouyour | I33: =IFERROR(-1+SMALL(IF(MATCH(B33:B1535,B33:B1535,0)=ROW(B33:B1535)-1,ROW(B33:B1535)),ROWS($1:32)),"")
A34: =IF(B34=B33,A33,A33+1) -> 2 | B34: Abtouyour | C34: =IF(D34=D33,C33,C33+1) -> 4 | D34: Bitkine | E34: 1296 | F34: Ambazira | I34: =IFERROR(-1+SMALL(IF(MATCH(B34:B1536,B34:B1536,0)=ROW(B34:B1536)-1,ROW(B34:B1536)),ROWS($1:33)),"")
A35: =IF(B35=B34,A34,A34+1) -> 2 | B35: Abtouyour | C35: =IF(D35=D34,C34,C34+1) -> 4 | D35: Bitkine | E35: 1289 | F35: Banala | I35: =IFERROR(-1+SMALL(IF(MATCH(B35:B1537,B35:B1537,0)=ROW(B35:B1537)-1,ROW(B35:B1537)),ROWS($1:34)),"")
A36: =IF(B36=B35,A35,A35+1) -> 2 | B36: Abtouyour | C36: =IF(D36=D35,C35,C35+1) -> 4 | D36: Bitkine | E36: 1278 | F36: Banama | I36: =IFERROR(-1+SMALL(IF(MATCH(B36:B1538,B36:B1538,0)=ROW(B36:B1538)-1,ROW(B36:B1538)),ROWS($1:35)),"")
A37: =IF(B37=B36,A36,A36+1) -> 2 | B37: Abtouyour | C37: =IF(D37=D36,C36,C36+1) -> 4 | D37: Bitkine | E37: 1275 | F37: Barama | I37: =IFERROR(-1+SMALL(IF(MATCH(B37:B1539,B37:B1539,0)=ROW(B37:B1539)-1,ROW(B37:B1539)),ROWS($1:36)),"")
A38: =IF(B38=B37,A37,A37+1) -> 2 | B38: Abtouyour | C38: =IF(D38=D37,C37,C37+1) -> 4 | D38: Bitkine | E38: 1277 | F38: Bereté | I38: =IFERROR(-1+SMALL(IF(MATCH(B38:B1540,B38:B1540,0)=ROW(B38:B1540)-1,ROW(B38:B1540)),ROWS($1:37)),"")
A39: =IF(B39=B38,A38,A38+1) -> 2 | B39: Abtouyour | C39: =IF(D39=D38,C38,C38+1) -> 4 | D39: Bitkine | E39: 1292 | F39: Bidjir | I39: =IFERROR(-1+SMALL(IF(MATCH(B39:B1541,B39:B1541,0)=ROW(B39:B1541)-1,ROW(B39:B1541)),ROWS($1:38)),"")
A40: =IF(B40=B39,A39,A39+1) -> 2 | B40: Abtouyour | C40: =IF(D40=D39,C39,C39+1) -> 4 | D40: Bitkine | E40: 1290 | F40: Bokyo | I40: =IFERROR(-1+SMALL(IF(MATCH(B40:B1542,B40:B1542,0)=ROW(B40:B1542)-1,ROW(B40:B1542)),ROWS($1:39)),"")
...
