Workbook

Sheet Feuil2
A1: N°D | B1: Département | C1: N° S/P | D1: S/Préfecture | E1: N° V | F1: Village | H1: Département | I1: Index | J1: Village 1 | K1: Village 2 | L1: Village 3 | M1: Village 4 | N1: Village 5 | O1: Village 6 | P1: Village 7 | Q1: VERIF
A2: 1 | B2: Abdi | C2: 1 | D2: Abdi rural | E2: 1 | F2: angatoura | H2: =IFERROR(INDEX($B$2:$B$1504,Feuil2!$I2),"") -> Abdi | I2: =IFERROR(-1+SMALL(IF(MATCH($B$2:$B$1504,$B$2:$B$1504,0)=ROW($B$2:$B$1504)-1,ROW($B$2:$B$1504)),ROWS($1:1)),"") -> 1
A3: =IF(B3=B2,A2,A2+1) -> 1 | B3: Abdi | C3: =IF(D3=D2,C2,C2+1) -> 1 | D3: Abdi rural | E3: 2 | F3: barakala | H3: =IFERROR(INDEX($B$2:$B$1504,Feuil2!$I3),"") | I3: =IFERROR(-1+SMALL(IF(MATCH($B$2:$B$1504,$B$2:$B$1504,0)=ROW($B$2:$B$1504)-1,ROW($B$2:$B$1504)),ROWS($1:2)),"")
A4: =IF(B4=B3,A3,A3+1) -> 1 | B4: Abdi | C4: =IF(D4=D3,C3,C3+1) -> 1 | D4: Abdi rural | E4: 3 | F4: doukouman | H4: =IFERROR(INDEX($B$2:$B$1504,Feuil2!$I4),"") | I4: =IFERROR(-1+SMALL(IF(MATCH($B$2:$B$1504,$B$2:$B$1504,0)=ROW($B$2:$B$1504)-1,ROW($B$2:$B$1504)),ROWS($1:3)),"")
A5: =IF(B5=B4,A4,A4+1) -> 1 | B5: Abdi | C5: =IF(D5=D4,C4,C4+1) -> 1 | D5: Abdi rural | E5: 4 | F5: hidjer-labane | H5: =IFERROR(INDEX($B$2:$B$1504,Feuil2!$I5),"") | I5: =IFERROR(-1+SMALL(IF(MATCH($B$2:$B$1504,$B$2:$B$1504,0)=ROW($B$2:$B$1504)-1,ROW($B$2:$B$1504)),ROWS($1:4)),"")
A6: =IF(B6=B5,A5,A5+1) -> 1 | B6: Abdi | C6: =IF(D6=D5,C5,C5+1) -> 1 | D6: Abdi rural | E6: 5 | F6: hille-talhdjar | H6: =IFERROR(INDEX($B$2:$B$1504,Feuil2!$I6),"") | I6: =IFERROR(-1+SMALL(IF(MATCH($B$2:$B$1504,$B$2:$B$1504,0)=ROW($B$2:$B$1504)-1,ROW($B$2:$B$1504)),ROWS($1:5)),"")
A7: =IF(B7=B6,A6,A6+1) -> 1 | B7: Abdi | C7: =IF(D7=D6,C6,C6+1) -> 1 | D7: Abdi rural | E7: 6 | F7: komoske | H7: =IFERROR(INDEX($B$2:$B$1504,Feuil2!$I7),"") | I7: =IFERROR(-1+SMALL(IF(MATCH($B$2:$B$1504,$B$2:$B$1504,0)=ROW($B$2:$B$1504)-1,ROW($B$2:$B$1504)),ROWS($1:6)),"")
A8: =IF(B8=B7,A7,A7+1) -> 1 | B8: Abdi | C8: =IF(D8=D7,C7,C7+1) -> 1 | D8: Abdi rural | E8: 7 | F8: Kongor | H8: =IFERROR(INDEX($B$2:$B$1504,Feuil2!$I8),"") | I8: =IFERROR(-1+SMALL(IF(MATCH($B$2:$B$1504,$B$2:$B$1504,0)=ROW($B$2:$B$1504)-1,ROW($B$2:$B$1504)),ROWS($1:7)),"")
A9: =IF(B9=B8,A8,A8+1) -> 1 | B9: Abdi | C9: =IF(D9=D8,C8,C8+1) -> 1 | D9: Abdi rural | E9: 8 | F9: sormon | H9: =IFERROR(INDEX($B$2:$B$1504,Feuil2!$I9),"") | I9: =IFERROR(-1+SMALL(IF(MATCH($B$2:$B$1504,$B$2:$B$1504,0)=ROW($B$2:$B$1504)-1,ROW($B$2:$B$1504)),ROWS($1:8)),"")
A10: =IF(B10=B9,A9,A9+1) -> 1 | B10: Abdi | C10: =IF(D10=D9,C9,C9+1) -> 1 | D10: Abdi rural | E10: 9 | F10: Tandjak | H10: =IFERROR(INDEX($B$2:$B$1504,Feuil2!$I10),"") | I10: =IFERROR(-1+SMALL(IF(MATCH($B$2:$B$1504,$B$2:$B$1504,0)=ROW($B$2:$B$1504)-1,ROW($B$2:$B$1504)),ROWS($1:9)),"")
A11: =IF(B11=B10,A10,A10+1) -> 1 | B11: Abdi | C11: =IF(D11=D10,C10,C10+1) -> 1 | D11: Abdi rural | E11: 10 | F11: tradona | H11: =IFERROR(INDEX($B$2:$B$1504,Feuil2!$I11),"") | I11: =IFERROR(-1+SMALL(IF(MATCH($B$2:$B$1504,$B$2:$B$1504,0)=ROW($B$2:$B$1504)-1,ROW($B$2:$B$1504)),ROWS($1:10)),"")
A12: =IF(B12=B11,A11,A11+1) -> 1 | B12: Abdi | C12: =IF(D12=D11,C11,C11+1) -> 1 | D12: Abdi rural | E12: 11 | F12: zabalat | H12: =IFERROR(INDEX($B$2:$B$1504,Feuil2!$I12),"") | I12: =IFERROR(-1+SMALL(IF(MATCH($B$2:$B$1504,$B$2:$B$1504,0)=ROW($B$2:$B$1504)-1,ROW($B$2:$B$1504)),ROWS($1:11)),"")
A13: =IF(B13=B12,A12,A12+1) -> 1 | B13: Abdi | C13: =IF(D13=D12,C12,C12+1) -> 1 | D13: Abdi rural | E13: 12 | F13: Zafaye | H13: =IFERROR(INDEX($B$2:$B$1504,Feuil2!$I13),"") | I13: =IFERROR(-1+SMALL(IF(MATCH($B$2:$B$1504,$B$2:$B$1504,0)=ROW($B$2:$B$1504)-1,ROW($B$2:$B$1504)),ROWS($1:12)),"")
A14: =IF(B14=B13,A13,A13+1) -> 1 | B14: Abdi | C14: =IF(D14=D13,C13,C13+1) -> 2 | D14: Abkar | E14: 24 | F14: Abkar atrack | H14: =IFERROR(INDEX($B$2:$B$1504,Feuil2!$I14),"") | I14: =IFERROR(-1+SMALL(IF(MATCH($B$2:$B$1504,$B$2:$B$1504,0)=ROW($B$2:$B$1504)-1,ROW($B$2:$B$1504)),ROWS($1:13)),"")
A15: =IF(B15=B14,A14,A14+1) -> 1 | B15: Abdi | C15: =IF(D15=D14,C14,C14+1) -> 2 | D15: Abkar | E15: 25 | F15: andila | H15: =IFERROR(INDEX($B$2:$B$1504,Feuil2!$I15),"") | I15: =IFERROR(-1+SMALL(IF(MATCH($B$2:$B$1504,$B$2:$B$1504,0)=ROW($B$2:$B$1504)-1,ROW($B$2:$B$1504)),ROWS($1:14)),"")
A16: =IF(B16=B15,A15,A15+1) -> 1 | B16: Abdi | C16: =IF(D16=D15,C15,C15+1) -> 2 | D16: Abkar | E16: 26 | F16: gourngale | H16: =IFERROR(INDEX($B$2:$B$1504,Feuil2!$I16),"") | I16: =IFERROR(-1+SMALL(IF(MATCH($B$2:$B$1504,$B$2:$B$1504,0)=ROW($B$2:$B$1504)-1,ROW($B$2:$B$1504)),ROWS($1:15)),"")
A17: =IF(B17=B16,A16,A16+1) -> 1 | B17: Abdi | C17: =IF(D17=D16,C16,C16+1) -> 2 | D17: Abkar | E17: 27 | F17: merinde | H17: =IFERROR(INDEX($B$2:$B$1504,Feuil2!$I17),"") | I17: =IFERROR(-1+SMALL(IF(MATCH($B$2:$B$1504,$B$2:$B$1504,0)=ROW($B$2:$B$1504)-1,ROW($B$2:$B$1504)),ROWS($1:16)),"")
A18: =IF(B18=B17,A17,A17+1) -> 1 | B18: Abdi | C18: =IF(D18=D17,C17,C17+1) -> 2 | D18: Abkar | E18: 28 | F18: Moustakide | I18: =IFERROR(-1+SMALL(IF(MATCH($B$2:$B$1504,$B$2:$B$1504,0)=ROW($B$2:$B$1504)-1,ROW($B$2:$B$1504)),ROWS($1:17)),"")
A19: =IF(B19=B18,A18,A18+1) -> 1 | B19: Abdi | C19: =IF(D19=D18,C18,C18+1) -> 2 | D19: Abkar | E19: 29 | F19: ngamougnan | I19: =IFERROR(-1+SMALL(IF(MATCH(B19:B1521,B19:B1521,0)=ROW(B19:B1521)-1,ROW(B19:B1521)),ROWS($1:18)),"")
A20: =IF(B20=B19,A19,A19+1) -> 1 | B20: Abdi | C20: =IF(D20=D19,C19,C19+1) -> 2 | D20: Abkar | E20: 30 | F20: rogrogo | I20: =IFERROR(-1+SMALL(IF(MATCH(B20:B1522,B20:B1522,0)=ROW(B20:B1522)-1,ROW(B20:B1522)),ROWS($1:19)),"")
A21: =IF(B21=B20,A20,A20+1) -> 1 | B21: Abdi | C21: =IF(D21=D20,C20,C20+1) -> 2 | D21: Abkar | E21: 31 | F21: talibene | I21: =IFERROR(-1+SMALL(IF(MATCH(B21:B1523,B21:B1523,0)=ROW(B21:B1523)-1,ROW(B21:B1523)),ROWS($1:20)),"")
A22: =IF(B22=B21,A21,A21+1) -> 2 | B22: Abtouyour | C22: =IF(D22=D21,C21,C21+1) -> 3 | D22: Bang-bang | E22: 1259 | F22: Bagoua | I22: =IFERROR(-1+SMALL(IF(MATCH(B22:B1524,B22:B1524,0)=ROW(B22:B1524)-1,ROW(B22:B1524)),ROWS($1:21)),"")
A23: =IF(B23=B22,A22,A22+1) -> 2 | B23: Abtouyour | C23: =IF(D23=D22,C22,C22+1) -> 3 | D23: Bang-bang | E23: 1253 | F23: Bara | I23: =IFERROR(-1+SMALL(IF(MATCH(B23:B1525,B23:B1525,0)=ROW(B23:B1525)-1,ROW(B23:B1525)),ROWS($1:22)),"")
A24: =IF(B24=B23,A23,A23+1) -> 2 | B24: Abtouyour | C24: =IF(D24=D23,C23,C23+1) -> 3 | D24: Bang-bang | E24: 1256 | F24: Boukaré | I24: =IFERROR(-1+SMALL(IF(MATCH(B24:B1526,B24:B1526,0)=ROW(B24:B1526)-1,ROW(B24:B1526)),ROWS($1:23)),"")
A25: =IF(B25=B24,A24,A24+1) -> 2 | B25: Abtouyour | C25: =IF(D25=D24,C24,C24+1) -> 3 | D25: Bang-bang | E25: 1261 | F25: Korbo Bet | I25: =IFERROR(-1+SMALL(IF(MATCH(B25:B1527,B25:B1527,0)=ROW(B25:B1527)-1,ROW(B25:B1527)),ROWS($1:24)),"")
A26: =IF(B26=B25,A25,A25+1) -> 2 | B26: Abtouyour | C26: =IF(D26=D25,C25,C25+1) -> 3 | D26: Bang-bang | E26: 1254 | F26: Korlongo | I26: =IFERROR(-1+SMALL(IF(MATCH(B26:B1528,B26:B1528,0)=ROW(B26:B1528)-1,ROW(B26:B1528)),ROWS($1:25)),"")
A27: =IF(B27=B26,A26,A26+1) -> 2 | B27: Abtouyour | C27: =IF(D27=D26,C26,C26+1) -> 3 | D27: Bang-bang | E27: 1258 | F27: Koubo Adougoul | I27: =IFERROR(-1+SMALL(IF(MATCH(B27:B1529,B27:B1529,0)=ROW(B27:B1529)-1,ROW(B27:B1529)),ROWS($1:26)),"")
A28: =IF(B28=B27,A27,A27+1) -> 2 | B28: Abtouyour | C28: =IF(D28=D27,C27,C27+1) -> 3 | D28: Bang-bang | E28: 1257 | F28: Koukné | I28: =IFERROR(-1+SMALL(IF(MATCH(B28:B1530,B28:B1530,0)=ROW(B28:B1530)-1,ROW(B28:B1530)),ROWS($1:27)),"")
A29: =IF(B29=B28,A28,A28+1) -> 2 | B29: Abtouyour | C29: =IF(D29=D28,C28,C28+1) -> 3 | D29: Bang-bang | E29: 1262 | F29: Mancossine | I29: =IFERROR(-1+SMALL(IF(MATCH(B29:B1531,B29:B1531,0)=ROW(B29:B1531)-1,ROW(B29:B1531)),ROWS($1:28)),"")
A30: =IF(B30=B29,A29,A29+1) -> 2 | B30: Abtouyour | C30: =IF(D30=D29,C29,C29+1) -> 3 | D30: Bang-bang | E30: 1260 | F30: Tchalo Ideba | I30: =IFERROR(-1+SMALL(IF(MATCH(B30:B1532,B30:B1532,0)=ROW(B30:B1532)-1,ROW(B30:B1532)),ROWS($1:29)),"")
A31: =IF(B31=B30,A30,A30+1) -> 2 | B31: Abtouyour | C31: =IF(D31=D30,C30,C30+1) -> 3 | D31: Bang-bang | E31: 1252 | F31: Tchalo Zoudou | I31: =IFERROR(-1+SMALL(IF(MATCH(B31:B1533,B31:B1533,0)=ROW(B31:B1533)-1,ROW(B31:B1533)),ROWS($1:30)),"")
A32: =IF(B32=B31,A31,A31+1) -> 2 | B32: Abtouyour | C32: =IF(D32=D31,C31,C31+1) -> 3 | D32: Bang-bang | E32: 1255 | F32: Tcharo | I32: =IFERROR(-1+SMALL(IF(MATCH(B32:B1534,B32:B1534,0)=ROW(B32:B1534)-1,ROW(B32:B1534)),ROWS($1:31)),"")
A33: =IF(B33=B32,A32,A32+1) -> 2 | B33: Abtouyour | C33: =IF(D33=D32,C32,C32+1) -> 4 | D33: Bitkine | E33: 1263 | F33: Abtouyour | I33: =IFERROR(-1+SMALL(IF(MATCH(B33:B1535,B33:B1535,0)=ROW(B33:B1535)-1,ROW(B33:B1535)),ROWS($1:32)),"")
A34: =IF(B34=B33,A33,A33+1) -> 2 | B34: Abtouyour | C34: =IF(D34=D33,C33,C33+1) -> 4 | D34: Bitkine | E34: 1296 | F34: Ambazira | I34: =IFERROR(-1+SMALL(IF(MATCH(B34:B1536,B34:B1536,0)=ROW(B34:B1536)-1,ROW(B34:B1536)),ROWS($1:33)),"")
A35: =IF(B35=B34,A34,A34+1) -> 2 | B35: Abtouyour | C35: =IF(D35=D34,C34,C34+1) -> 4 | D35: Bitkine | E35: 1289 | F35: Banala | I35: =IFERROR(-1+SMALL(IF(MATCH(B35:B1537,B35:B1537,0)=ROW(B35:B1537)-1,ROW(B35:B1537)),ROWS($1:34)),"")
A36: =IF(B36=B35,A35,A35+1) -> 2 | B36: Abtouyour | C36: =IF(D36=D35,C35,C35+1) -> 4 | D36: Bitkine | E36: 1278 | F36: Banama | I36: =IFERROR(-1+SMALL(IF(MATCH(B36:B1538,B36:B1538,0)=ROW(B36:B1538)-1,ROW(B36:B1538)),ROWS($1:35)),"")
A37: =IF(B37=B36,A36,A36+1) -> 2 | B37: Abtouyour | C37: =IF(D37=D36,C36,C36+1) -> 4 | D37: Bitkine | E37: 1275 | F37: Barama | I37: =IFERROR(-1+SMALL(IF(MATCH(B37:B1539,B37:B1539,0)=ROW(B37:B1539)-1,ROW(B37:B1539)),ROWS($1:36)),"")
A38: =IF(B38=B37,A37,A37+1) -> 2 | B38: Abtouyour | C38: =IF(D38=D37,C37,C37+1) -> 4 | D38: Bitkine | E38: 1277 | F38: Bereté | I38: =IFERROR(-1+SMALL(IF(MATCH(B38:B1540,B38:B1540,0)=ROW(B38:B1540)-1,ROW(B38:B1540)),ROWS($1:37)),"")
A39: =IF(B39=B38,A38,A38+1) -> 2 | B39: Abtouyour | C39: =IF(D39=D38,C38,C38+1) -> 4 | D39: Bitkine | E39: 1292 | F39: Bidjir | I39: =IFERROR(-1+SMALL(IF(MATCH(B39:B1541,B39:B1541,0)=ROW(B39:B1541)-1,ROW(B39:B1541)),ROWS($1:38)),"")
A40: =IF(B40=B39,A39,A39+1) -> 2 | B40: Abtouyour | C40: =IF(D40=D39,C39,C39+1) -> 4 | D40: Bitkine | E40: 1290 | F40: Bokyo | I40: =IFERROR(-1+SMALL(IF(MATCH(B40:B1542,B40:B1542,0)=ROW(B40:B1542)-1,ROW(B40:B1542)),ROWS($1:39)),"")
A41: =IF(B41=B40,A40,A40+1) -> 2 | B41: Abtouyour | C41: =IF(D41=D40,C40,C40+1) -> 4 | D41: Bitkine | E41: 1300 | F41: Bolong | I41: =IFERROR(-1+SMALL(IF(MATCH(B41:B1543,B41:B1543,0)=ROW(B41:B1543)-1,ROW(B41:B1543)),ROWS($1:40)),"")
A42: =IF(B42=B41,A41,A41+1) -> 2 | B42: Abtouyour | C42: =IF(D42=D41,C41,C41+1) -> 4 | D42: Bitkine | E42: 1295 | F42: Borlo 1 et 2 | I42: =IFERROR(-1+SMALL(IF(MATCH(B42:B1544,B42:B1544,0)=ROW(B42:B1544)-1,ROW(B42:B1544)),ROWS($1:41)),"")
A43: =IF(B43=B42,A42,A42+1) -> 2 | B43: Abtouyour | C43: =IF(D43=D42,C42,C42+1) -> 4 | D43: Bitkine | E43: 1269 | F43: Boubou | I43: =IFERROR(-1+SMALL(IF(MATCH(B43:B1545,B43:B1545,0)=ROW(B43:B1545)-1,ROW(B43:B1545)),ROWS($1:42)),"")
A44: =IF(B44=B43,A43,A43+1) -> 2 | B44: Abtouyour | C44: =IF(D44=D43,C43,C43+1) -> 4 | D44: Bitkine | E44: 1302 | F44: Dandoro | I44: =IFERROR(-1+SMALL(IF(MATCH(B44:B1546,B44:B1546,0)=ROW(B44:B1546)-1,ROW(B44:B1546)),ROWS($1:43)),"")
A45: =IF(B45=B44,A44,A44+1) -> 2 | B45: Abtouyour | C45: =IF(D45=D44,C44,C44+1) -> 4 | D45: Bitkine | E45: 1294 | F45: Djaya | I45: =IFERROR(-1+SMALL(IF(MATCH(B45:B1547,B45:B1547,0)=ROW(B45:B1547)-1,ROW(B45:B1547)),ROWS($1:44)),"")
A46: =IF(B46=B45,A45,A45+1) -> 2 | B46: Abtouyour | C46: =IF(D46=D45,C45,C45+1) -> 4 | D46: Bitkine | E46: 1280 | F46: Djebr | I46: =IFERROR(-1+SMALL(IF(MATCH(B46:B1548,B46:B1548,0)=ROW(B46:B1548)-1,ROW(B46:B1548)),ROWS($1:45)),"")
A47: =IF(B47=B46,A46,A46+1) -> 2 | B47: Abtouyour | C47: =IF(D47=D46,C46,C46+1) -> 4 | D47: Bitkine | E47: 1272 | F47: Djegueré | I47: =IFERROR(-1+SMALL(IF(MATCH(B47:B1549,B47:B1549,0)=ROW(B47:B1549)-1,ROW(B47:B1549)),ROWS($1:46)),"")
A48: =IF(B48=B47,A47,A47+1) -> 2 | B48: Abtouyour | C48: =IF(D48=D47,C47,C47+1) -> 4 | D48: Bitkine | E48: 1268 | F48: Djerkatché | I48: =IFERROR(-1+SMALL(IF(MATCH(B48:B1550,B48:B1550,0)=ROW(B48:B1550)-1,ROW(B48:B1550)),ROWS($1:47)),"")
A49: =IF(B49=B48,A48,A48+1) -> 2 | B49: Abtouyour | C49: =IF(D49=D48,C48,C48+1) -> 4 | D49: Bitkine | E49: 1281 | F49: Djilmi | I49: =IFERROR(-1+SMALL(IF(MATCH(B49:B1551,B49:B1551,0)=ROW(B49:B1551)-1,ROW(B49:B1551)),ROWS($1:48)),"")
A50: =IF(B50=B49,A49,A49+1) -> 2 | B50: Abtouyour | C50: =IF(D50=D49,C49,C49+1) -> 4 | D50: Bitkine | E50: 1266 | F50: Doli | I50: =IFERROR(-1+SMALL(IF(MATCH(B50:B1552,B50:B1552,0)=ROW(B50:B1552)-1,ROW(B50:B1552)),ROWS($1:49)),"")
A51: =IF(B51=B50,A50,A50+1) -> 2 | B51: Abtouyour | C51: =IF(D51=D50,C50,C50+1) -> 4 | D51: Bitkine | E51: 1274 | F51: Doyé | I51: =IFERROR(-1+SMALL(IF(MATCH(B51:B1553,B51:B1553,0)=ROW(B51:B1553)-1,ROW(B51:B1553)),ROWS($1:50)),"")
A52: =IF(B52=B51,A51,A51+1) -> 2 | B52: Abtouyour | C52: =IF(D52=D51,C51,C51+1) -> 4 | D52: Bitkine | E52: 1291 | F52: Fadjala | I52: =IFERROR(-1+SMALL(IF(MATCH(B52:B1554,B52:B1554,0)=ROW(B52:B1554)-1,ROW(B52:B1554)),ROWS($1:51)),"")
A53: =IF(B53=B52,A52,A52+1) -> 2 | B53: Abtouyour | C53: =IF(D53=D52,C52,C52+1) -> 4 | D53: Bitkine | E53: 1285 | F53: Foyo | I53: =IFERROR(-1+SMALL(IF(MATCH(B53:B1555,B53:B1555,0)=ROW(B53:B1555)-1,ROW(B53:B1555)),ROWS($1:52)),"")
A54: =IF(B54=B53,A53,A53+1) -> 2 | B54: Abtouyour | C54: =IF(D54=D53,C53,C53+1) -> 4 | D54: Bitkine | E54: 1293 | F54: Gala bone | I54: =IFERROR(-1+SMALL(IF(MATCH(B54:B1556,B54:B1556,0)=ROW(B54:B1556)-1,ROW(B54:B1556)),ROWS($1:53)),"")
A55: =IF(B55=B54,A54,A54+1) -> 2 | B55: Abtouyour | C55: =IF(D55=D54,C54,C54+1) -> 4 | D55: Bitkine | E55: 1283 | F55: Gassara | I55: =IFERROR(-1+SMALL(IF(MATCH(B55:B1557,B55:B1557,0)=ROW(B55:B1557)-1,ROW(B55:B1557)),ROWS($1:54)),"")
A56: =IF(B56=B55,A55,A55+1) -> 2 | B56: Abtouyour | C56: =IF(D56=D55,C55,C55+1) -> 4 | D56: Bitkine | E56: 1297 | F56: Koubo Amdane | I56: =IFERROR(-1+SMALL(IF(MATCH(B56:B1558,B56:B1558,0)=ROW(B56:B1558)-1,ROW(B56:B1558)),ROWS($1:55)),"")
A57: =IF(B57=B56,A56,A56+1) -> 2 | B57: Abtouyour | C57: =IF(D57=D56,C56,C56+1) -> 4 | D57: Bitkine | E57: 1299 | F57: Kourkoutoun | I57: =IFERROR(-1+SMALL(IF(MATCH(B57:B1559,B57:B1559,0)=ROW(B57:B1559)-1,ROW(B57:B1559)),ROWS($1:56)),"")
A58: =IF(B58=B57,A57,A57+1) -> 2 | B58: Abtouyour | C58: =IF(D58=D57,C57,C57+1) -> 4 | D58: Bitkine | E58: 1298 | F58: Leté | I58: =IFERROR(-1+SMALL(IF(MATCH(B58:B1560,B58:B1560,0)=ROW(B58:B1560)-1,ROW(B58:B1560)),ROWS($1:57)),"")
A59: =IF(B59=B58,A58,A58+1) -> 2 | B59: Abtouyour | C59: =IF(D59=D58,C58,C58+1) -> 4 | D59: Bitkine | E59: 1273 | F59: Macossin | I59: =IFERROR(-1+SMALL(IF(MATCH(B59:B1561,B59:B1561,0)=ROW(B59:B1561)-1,ROW(B59:B1561)),ROWS($1:58)),"")
A60: =IF(B60=B59,A59,A59+1) -> 2 | B60: Abtouyour | C60: =IF(D60=D59,C59,C59+1) -> 4 | D60: Bitkine | E60: 1270 | F60: Madogoro | I60: =IFERROR(-1+SMALL(IF(MATCH(B60:B1562,B60:B1562,0)=ROW(B60:B1562)-1,ROW(B60:B1562)),ROWS($1:59)),"")
A61: =IF(B61=B60,A60,A60+1) -> 2 | B61: Abtouyour | C61: =IF(D61=D60,C60,C60+1) -> 4 | D61: Bitkine | E61: 1287 | F61: Maligué | I61: =IFERROR(-1+SMALL(IF(MATCH(B61:B1563,B61:B1563,0)=ROW(B61:B1563)-1,ROW(B61:B1563)),ROWS($1:60)),"")
A62: =IF(B62=B61,A61,A61+1) -> 2 | B62: Abtouyour | C62: =IF(D62=D61,C61,C61+1) -> 4 | D62: Bitkine | E62: 1288 | F62: Maligué Bara | I62: =IFERROR(-1+SMALL(IF(MATCH(B62:B1564,B62:B1564,0)=ROW(B62:B1564)-1,ROW(B62:B1564)),ROWS($1:61)),"")
A63: =IF(B63=B62,A62,A62+1) -> 2 | B63: Abtouyour | C63: =IF(D63=D62,C62,C62+1) -> 4 | D63: Bitkine | E63: 1264 | F63: Mataya | I63: =IFERROR(-1+SMALL(IF(MATCH(B63:B1565,B63:B1565,0)=ROW(B63:B1565)-1,ROW(B63:B1565)),ROWS($1:62)),"")
A64: =IF(B64=B63,A63,A63+1) -> 2 | B64: Abtouyour | C64: =IF(D64=D63,C63,C63+1) -> 4 | D64: Bitkine | E64: 1284 | F64: Mawa | I64: =IFERROR(-1+SMALL(IF(MATCH(B64:B1566,B64:B1566,0)=ROW(B64:B1566)-1,ROW(B64:B1566)),ROWS($1:63)),"")
A65: =IF(B65=B64,A64,A64+1) -> 2 | B65: Abtouyour | C65: =IF(D65=D64,C64,C64+1) -> 4 | D65: Bitkine | E65: 1267 | F65: Morgué | I65: =IFERROR(-1+SMALL(IF(MATCH(B65:B1567,B65:B1567,0)=ROW(B65:B1567)-1,ROW(B65:B1567)),ROWS($1:64)),"")
A66: =IF(B66=B65,A65,A65+1) -> 2 | B66: Abtouyour | C66: =IF(D66=D65,C65,C65+1) -> 4 | D66: Bitkine | E66: 1301 | F66: Morom | I66: =IFERROR(-1+SMALL(IF(MATCH(B66:B1568,B66:B1568,0)=ROW(B66:B1568)-1,ROW(B66:B1568)),ROWS($1:65)),"")
A67: =IF(B67=B66,A66,A66+1) -> 2 | B67: Abtouyour | C67: =IF(D67=D66,C66,C66+1) -> 4 | D67: Bitkine | E67: 1271 | F67: Moukoulou 1-4 | I67: =IFERROR(-1+SMALL(IF(MATCH(B67:B1569,B67:B1569,0)=ROW(B67:B1569)-1,ROW(B67:B1569)),ROWS($1:66)),"")
A68: =IF(B68=B67,A67,A67+1) -> 2 | B68: Abtouyour | C68: =IF(D68=D67,C67,C67+1) -> 4 | D68: Bitkine | E68: 1303 | F68: Safaye | I68: =IFERROR(-1+SMALL(IF(MATCH(B68:B1570,B68:B1570,0)=ROW(B68:B1570)-1,ROW(B68:B1570)),ROWS($1:67)),"")
A69: =IF(B69=B68,A68,A68+1) -> 2 | B69: Abtouyour | C69: =IF(D69=D68,C68,C68+1) -> 4 | D69: Bitkine | E69: 1276 | F69: Sara kenga | I69: =IFERROR(-1+SMALL(IF(MATCH(B69:B1571,B69:B1571,0)=ROW(B69:B1571)-1,ROW(B69:B1571)),ROWS($1:68)),"")
A70: =IF(B70=B69,A69,A69+1) -> 2 | B70: Abtouyour | C70: =IF(D70=D69,C69,C69+1) -> 4 | D70: Bitkine | E70: 1286 | F70: Seguine | I70: =IFERROR(-1+SMALL(IF(MATCH(B70:B1572,B70:B1572,0)=ROW(B70:B1572)-1,ROW(B70:B1572)),ROWS($1:69)),"")
A71: =IF(B71=B70,A70,A70+1) -> 2 | B71: Abtouyour | C71: =IF(D71=D70,C70,C70+1) -> 4 | D71: Bitkine | E71: 1304 | F71: Tatrime | I71: =IFERROR(-1+SMALL(IF(MATCH(B71:B1573,B71:B1573,0)=ROW(B71:B1573)-1,ROW(B71:B1573)),ROWS($1:70)),"")
A72: =IF(B72=B71,A71,A71+1) -> 2 | B72: Abtouyour | C72: =IF(D72=D71,C71,C71+1) -> 4 | D72: Bitkine | E72: 1265 | F72: Tchelmé | I72: =IFERROR(-1+SMALL(IF(MATCH(B72:B1574,B72:B1574,0)=ROW(B72:B1574)-1,ROW(B72:B1574)),ROWS($1:71)),"")
A73: =IF(B73=B72,A72,A72+1) -> 2 | B73: Abtouyour | C73: =IF(D73=D72,C72,C72+1) -> 4 | D73: Bitkine | E73: 1279 | F73: Tong | I73: =IFERROR(-1+SMALL(IF(MATCH(B73:B1575,B73:B1575,0)=ROW(B73:B1575)-1,ROW(B73:B1575)),ROWS($1:72)),"")
A74: =IF(B74=B73,A73,A73+1) -> 2 | B74: Abtouyour | C74: =IF(D74=D73,C73,C73+1) -> 4 | D74: Bitkine | E74: 1305 | F74: Torogue | I74: =IFERROR(-1+SMALL(IF(MATCH(B74:B1576,B74:B1576,0)=ROW(B74:B1576)-1,ROW(B74:B1576)),ROWS($1:73)),"")
A75: =IF(B75=B74,A74,A74+1) -> 2 | B75: Abtouyour | C75: =IF(D75=D74,C74,C74+1) -> 4 | D75: Bitkine | E75: 1282 | F75: Walia | I75: =IFERROR(-1+SMALL(IF(MATCH(B75:B1577,B75:B1577,0)=ROW(B75:B1577)-1,ROW(B75:B1577)),ROWS($1:74)),"")
A76: =IF(B76=B75,A75,A75+1) -> 3 | B76: Bahr Azoum | C76: =IF(D76=D75,C75,C75+1) -> 5 | D76: Amtiman | E76: 1220 | F76: Affouss | I76: =IFERROR(-1+SMALL(IF(MATCH(B76:B1578,B76:B1578,0)=ROW(B76:B1578)-1,ROW(B76:B1578)),ROWS($1:75)),"")
A77: =IF(B77=B76,A76,A76+1) -> 3 | B77: Bahr Azoum | C77: =IF(D77=D76,C76,C76+1) -> 5 | D77: Amtiman | E77: 1222 | F77: Alhouwaye | I77: =IFERROR(-1+SMALL(IF(MATCH(B77:B1579,B77:B1579,0)=ROW(B77:B1579)-1,ROW(B77:B1579)),ROWS($1:76)),"")
A78: =IF(B78=B77,A77,A77+1) -> 3 | B78: Bahr Azoum | C78: =IF(D78=D77,C77,C77+1) -> 5 | D78: Amtiman | E78: 1214 | F78: almaité 1 et 2 | I78: =IFERROR(-1+SMALL(IF(MATCH(B78:B1580,B78:B1580,0)=ROW(B78:B1580)-1,ROW(B78:B1580)),ROWS($1:77)),"")
A79: =IF(B79=B78,A78,A78+1) -> 3 | B79: Bahr Azoum | C79: =IF(D79=D78,C78,C78+1) -> 5 | D79: Amtiman | E79: 1219 | F79: Amanassis 1 et 2 | I79: =IFERROR(-1+SMALL(IF(MATCH(B79:B1581,B79:B1581,0)=ROW(B79:B1581)-1,ROW(B79:B1581)),ROWS($1:78)),"")
A80: =IF(B80=B79,A79,A79+1) -> 3 | B80: Bahr Azoum | C80: =IF(D80=D79,C79,C79+1) -> 5 | D80: Amtiman | E80: 1215 | F80: Amfraw | I80: =IFERROR(-1+SMALL(IF(MATCH(B80:B1582,B80:B1582,0)=ROW(B80:B1582)-1,ROW(B80:B1582)),ROWS($1:79)),"")
A81: =IF(B81=B80,A80,A80+1) -> 3 | B81: Bahr Azoum | C81: =IF(D81=D80,C80,C80+1) -> 5 | D81: Amtiman | E81: 1223 | F81: Angourassa | I81: =IFERROR(-1+SMALL(IF(MATCH(B81:B1583,B81:B1583,0)=ROW(B81:B1583)-1,ROW(B81:B1583)),ROWS($1:80)),"")
A82: =IF(B82=B81,A81,A81+1) -> 3 | B82: Bahr Azoum | C82: =IF(D82=D81,C81,C81+1) -> 5 | D82: Amtiman | E82: 1227 | F82: Atheiba | I82: =IFERROR(-1+SMALL(IF(MATCH(B82:B1584,B82:B1584,0)=ROW(B82:B1584)-1,ROW(B82:B1584)),ROWS($1:81)),"")
A83: =IF(B83=B82,A82,A82+1) -> 3 | B83: Bahr Azoum | C83: =IF(D83=D82,C82,C82+1) -> 5 | D83: Amtiman | E83: 1217 | F83: attoua 1 et 2 | I83: =IFERROR(-1+SMALL(IF(MATCH(B83:B1585,B83:B1585,0)=ROW(B83:B1585)-1,ROW(B83:B1585)),ROWS($1:82)),"")
A84: =IF(B84=B83,A83,A83+1) -> 3 | B84: Bahr Azoum | C84: =IF(D84=D83,C83,C83+1) -> 5 | D84: Amtiman | E84: 1213 | F84: Darwal | I84: =IFERROR(-1+SMALL(IF(MATCH(B84:B1586,B84:B1586,0)=ROW(B84:B1586)-1,ROW(B84:B1586)),ROWS($1:83)),"")
A85: =IF(B85=B84,A84,A84+1) -> 3 | B85: Bahr Azoum | C85: =IF(D85=D84,C84,C84+1) -> 5 | D85: Amtiman | E85: 1225 | F85: Diffir | I85: =IFERROR(-1+SMALL(IF(MATCH(B85:B1587,B85:B1587,0)=ROW(B85:B1587)-1,ROW(B85:B1587)),ROWS($1:84)),"")
A86: =IF(B86=B85,A85,A85+1) -> 3 | B86: Bahr Azoum | C86: =IF(D86=D85,C85,C85+1) -> 5 | D86: Amtiman | E86: 1228 | F86: Djiekiine | I86: =IFERROR(-1+SMALL(IF(MATCH(B86:B1588,B86:B1588,0)=ROW(B86:B1588)-1,ROW(B86:B1588)),ROWS($1:85)),"")
A87: =IF(B87=B86,A86,A86+1) -> 3 | B87: Bahr Azoum | C87: =IF(D87=D86,C86,C86+1) -> 5 | D87: Amtiman | E87: 1224 | F87: Djouakine 1 et 2 | I87: =IFERROR(-1+SMALL(IF(MATCH(B87:B1589,B87:B1589,0)=ROW(B87:B1589)-1,ROW(B87:B1589)),ROWS($1:86)),"")
A88: =IF(B88=B87,A87,A87+1) -> 3 | B88: Bahr Azoum | C88: =IF(D88=D87,C87,C87+1) -> 5 | D88: Amtiman | E88: 1216 | F88: gozmabilé 1 et 2 | I88: =IFERROR(-1+SMALL(IF(MATCH(B88:B1590,B88:B1590,0)=ROW(B88:B1590)-1,ROW(B88:B1590)),ROWS($1:87)),"")
A89: =IF(B89=B88,A88,A88+1) -> 3 | B89: Bahr Azoum | C89: =IF(D89=D88,C88,C88+1) -> 5 | D89: Amtiman | E89: 1212 | F89: Goztamadja | I89: =IFERROR(-1+SMALL(IF(MATCH(B89:B1591,B89:B1591,0)=ROW(B89:B1591)-1,ROW(B89:B1591)),ROWS($1:88)),"")
A90: =IF(B90=B89,A89,A89+1) -> 3 | B90: Bahr Azoum | C90: =IF(D90=D89,C89,C89+1) -> 5 | D90: Amtiman | E90: 1221 | F90: Koubo-abrassas | I90: =IFERROR(-1+SMALL(IF(MATCH(B90:B1592,B90:B1592,0)=ROW(B90:B1592)-1,ROW(B90:B1592)),ROWS($1:89)),"")
A91: =IF(B91=B90,A90,A90+1) -> 3 | B91: Bahr Azoum | C91: =IF(D91=D90,C90,C90+1) -> 5 | D91: Amtiman | E91: 1218 | F91: Seheba 1 et 2 | I91: =IFERROR(-1+SMALL(IF(MATCH(B91:B1593,B91:B1593,0)=ROW(B91:B1593)-1,ROW(B91:B1593)),ROWS($1:90)),"")
A92: =IF(B92=B91,A91,A91+1) -> 3 | B92: Bahr Azoum | C92: =IF(D92=D91,C91,C91+1) -> 5 | D92: Amtiman | E92: 1226 | F92: Tororé | I92: =IFERROR(-1+SMALL(IF(MATCH(B92:B1594,B92:B1594,0)=ROW(B92:B1594)-1,ROW(B92:B1594)),ROWS($1:91)),"")
A93: =IF(B93=B92,A92,A92+1) -> 3 | B93: Bahr Azoum | C93: =IF(D93=D92,C92,C92+1) -> 6 | D93: Djouna | E93: 1248 | F93: Almachrou | I93: =IFERROR(-1+SMALL(IF(MATCH(B93:B1595,B93:B1595,0)=ROW(B93:B1595)-1,ROW(B93:B1595)),ROWS($1:92)),"")
A94: =IF(B94=B93,A93,A93+1) -> 3 | B94: Bahr Azoum | C94: =IF(D94=D93,C93,C93+1) -> 6 | D94: Djouna | E94: 1250 | F94: Amchoka | I94: =IFERROR(-1+SMALL(IF(MATCH(B94:B1596,B94:B1596,0)=ROW(B94:B1596)-1,ROW(B94:B1596)),ROWS($1:93)),"")
A95: =IF(B95=B94,A94,A94+1) -> 3 | B95: Bahr Azoum | C95: =IF(D95=D94,C94,C94+1) -> 6 | D95: Djouna | E95: 1245 | F95: Amdjalat | I95: =IFERROR(-1+SMALL(IF(MATCH(B95:B1597,B95:B1597,0)=ROW(B95:B1597)-1,ROW(B95:B1597)),ROWS($1:94)),"")
A96: =IF(B96=B95,A95,A95+1) -> 3 | B96: Bahr Azoum | C96: =IF(D96=D95,C95,C95+1) -> 6 | D96: Djouna | E96: 1251 | F96: Goz arachidié 1 et 2 | I96: =IFERROR(-1+SMALL(IF(MATCH(B96:B1598,B96:B1598,0)=ROW(B96:B1598)-1,ROW(B96:B1598)),ROWS($1:95)),"")
A97: =IF(B97=B96,A96,A96+1) -> 3 | B97: Bahr Azoum | C97: =IF(D97=D96,C96,C96+1) -> 6 | D97: Djouna | E97: 1249 | F97: Goz djarat | I97: =IFERROR(-1+SMALL(IF(MATCH(B97:B1599,B97:B1599,0)=ROW(B97:B1599)-1,ROW(B97:B1599)),ROWS($1:96)),"")
A98: =IF(B98=B97,A97,A97+1) -> 3 | B98: Bahr Azoum | C98: =IF(D98=D97,C97,C97+1) -> 6 | D98: Djouna | E98: 1246 | F98: Kach-kacha | I98: =IFERROR(-1+SMALL(IF(MATCH(B98:B1600,B98:B1600,0)=ROW(B98:B1600)-1,ROW(B98:B1600)),ROWS($1:97)),"")
A99: =IF(B99=B98,A98,A98+1) -> 3 | B99: Bahr Azoum | C99: =IF(D99=D98,C98,C98+1) -> 6 | D99: Djouna | E99: 1247 | F99: Midodil 1 et 2 | I99: =IFERROR(-1+SMALL(IF(MATCH(B99:B1601,B99:B1601,0)=ROW(B99:B1601)-1,ROW(B99:B1601)),ROWS($1:98)),"")
A100: =IF(B100=B99,A99,A99+1) -> 3 | B100: Bahr Azoum | C100: =IF(D100=D99,C99,C99+1) -> 7 | D100: Mouraye | E100: 1238 | F100: Adara | I100: =IFERROR(-1+SMALL(IF(MATCH(B100:B1602,B100:B1602,0)=ROW(B100:B1602)-1,ROW(B100:B1602)),ROWS($1:99)),"")
...
