Workbook

Sheet MAILS
A1: Siret | B1: Adresse mail
A2: 39405041300027 | B2: abadiealuminium@orange.fr
A3: 75269419000014 | B3: severine.abbal@bonhomme-groupe.com
A4: 42157509300040 | B4: andre.abbo@secaa.fr
A5: 40993619200049 | B5: keloudja@destinationjeux.fr
A6: 38521080200034 | B6: nathalie.abello@stifrance.com
A7: 50496014700016 | B7: jeanabergel.renaultcolonie@orange.fr
A8: 40174856100032 | B8: n.ablefonlin@aure-expert.fr
A9: 77877042000033 | B9: assistance.paie67@gmail.com
A10: 42507137000034 | B10: ousou@club-internet.fr
A11: 79869401400019 | B11: farid03@hotmail.fr
A12: 32951694200029 | B12: acher.bernard@gmail.com
A13: 40217897400018 | B13: marie-france@boutique-image.com
... A111: 81259364800015 | B111: franck.badedikisa@bora-it.fr
B112: contact@innovaquaculture.com
A113: 7735035300098 | B113: baes.ltdm@orange.fr
A114: 34319044300071 | B114: michele.baglione@wanadoo.fr
A115: 41909904900035 | B115: v.baillet@epfd.fr
A116: 80497344400016 | B116: contact@legrand-fermetures.com
A117: 81269993200024 | B117: info@savoie-distribution.fr
A118: 51074389100028 | B118: contact@emep.fr
A119: 80872273000013 | B119: supprettemoscou@gmail.com
A120: 34051505500028 | B120: comptabilite.san-ornello@wanadoo.fr
A121: 352042345 | B121: rh-contact@harvest.fr
A122: 41031487600187 | B122: fbameull@reydel.com
A123: 49295421900043 | B123: rh@groupecible.com
A124: 30692635300021 | B124: marine.bappel@flightsafety.com
... A437: 31526939900020 | B437: contact@cava49.org
B438: harry.cazeres@eeas.europa.eu
A439: 38082274200017 | B439: poudenxcervantes@orange.fr
A440: 33997438800029 | B440: yves.fred.cesbron@sfr.fr
A441: 42900132400038 | B441: jonathan.orliac@hotmail.fr
A442: 75034375800017 | B442: celine@serviceadministratif.fr
A443: 79862820200011 | B443: guillaumechadaillac@gmail.com
A444: 32849450500030 | B444: xavier.chadal@orange.fr
A445: 50755545600049 | B445: contact@cegefos.fr
A446: 79928534100019 | B446: laurent@chadelconsultant.com
A447: 32859104500021 | B447: abc49-gestion@wanadoo.fr
A448: 83072257500016 | B448: jchanabe@moma-group.net
A449: 54204733700028 | B449: m.chanclud@bdmachines.com
A450: 39282416500014 | B450: mchangea@club-internet.fr
... A484: 51300268300037 | B484: alainchoubana@j3p.biz
A485: null | B485: alanchoupeau@icloud.com
A486: 40194257800048 | B486: anne.choy@choy-avocatconseil.fr
A487: 43395433600031 | B487: celine.chrisment@cedia-industrie.fr
A488: 80443193000010 | B488: cabinet.erc@gmail.com
A489: 52387227300025 | B489: jpchristie@twindeal.fr
A490: 44059825800018 | B490: ifontaine@gayantexpo.com
A491: 78880468000031 | B491: reem@reem.fr
A492: 81747128700018 | B492: mister.poppie@hotmail.fr
A493: 82898314800010 | B493: flavie.cime@gmail.com
A494: 43401609300024 | B494: comptabilite@opsomai.com
A495: 52572118900013 | B495: ric@saverglass.com
A496: 52572118900047 | B496: ric@saverglass.com
A497: 35020738700027 | B497: marine.clerget@lafargeholcim.com
... A702: 43366842300026 | B702: suncicad@hotmail.com
B703: olivierdinhut@hotmail.fr
A704: 798145694 | B704: netnettoyage@orange.fr
A705: 80821740000015 | B705: laurent.diot@iadfrance.fr
A706: 400839163 | B706: jj.djan@orange.fr
A707: 81287328900027 | B707: djedra.helene@amg-groupe.com
A708: 42944863200050 | B708: djedra.helene@amg-groupe.com
A709: 49966523000011 | B709: youssef.djezzez@aqualabo.fr
A710: 42164083000020 | B710: doan.truongvu@yahoo.fr
A711: 44857350100039 | B711: contact@pro-entreprendre.com
A712: 33893910101244 | B712: sandrine.donati@convivio.fr
A713: 79366919300013 | B713: sandrine.donati@convivio.fr
A714: 42287321600010 | B714: sandrine.donati@convivio.fr
A715: 819455536 | B715: mbdonzel@wanadoo.fr
... A998: 82107674200013 | B998: dominiqueguerdon@hotmail.com
A999: null | B999: quentin.guerin.chirdent@gmail.com
A1000: 30447533802184 | B1000: aude.guernigou@aexp.com
A1001: 39021253800024 | B1001: manuelle.guerrier@gmail.com
A1002: 34152168000023 | B1002: oguerrier@agence.oguerrier.fr
A1003: 42888515600011 | B1003: rguichard2@wanadoo.fr
A1004: 53959412700026 | B1004: compta@ecoprofrance.com
A1005: 40096317900025 | B1005: francois.guidet@sequendi.fr
A1006: 78467018400026 | B1006: bguidoux@wanadoo.fr
A1007: 80992737900010 | B1007: adpfermetures@outlook.fr
A1008: 50224152400011 | B1008: corentin.guignard@secal.fr
A1009: 44160040000010 | B1009: lebountyland@sfr.fr
A1010: 80382486100014 | B1010: danguilbert@orange.fr
A1011: 47950410200035 | B1011: gilles.guilgaut@itvtek.fr
... A1119: 33023024400015 | B1119: miquel.jarno@sfr.fr
A1120: null | B1120: pspsarl@mls.nc
A1121: 35098137900026 | B1121: ajasmin2005@yahoo.fr
A1122: 45389206900015 | B1122: jaumot@2ac.fr
A1123: 79349460000018 | B1123: jaumot@2ac.fr
A1124: 31403622900016 | B1124: jaumot@2ac.fr
A1125: 48047426100025 | B1125: jaumot@2ac.fr
A1126: 50194743600017 | B1126: jaumot@2ac.fr
A1127: 80948985900011 | B1127: jaumot@2ac.fr
A1128: 78950530200032 | B1128: jaumot@2ac.fr
A1129: 34111853700016 | B1129: aic.jaunet@gmail.com
A1130: 52718013700020 | B1130: service.comptabilite@atlanticmarquages.fr
A1131: 75015262100017 | B1131: abella@free.fr
A1132: 39434770200026 | B1132: bjean@eloise-sarl.fr
... A2294: 82477165300014 | B2294: info-vic@vic-fezensac.com
A2295: null | B2295: mdegreslan@hotmail.fr
A2296: 801360835 | B2296: ylannw@gmail.com
...

Sheet ENVOI
A1: IDENTIFIANT_ETAB | B1: MAIL | C1: NO_ADH
A2: 40948466400027 | B2: =IFERROR(VLOOKUP(A2*1,MAILS!A2:B111,2,0),"") | C2: 10170242800020
A3: 78843812500015 | B3: =IFERROR(VLOOKUP(A3*1,MAILS!A3:B112,2,0),"") | C3: 14479594980000
A4: 75251713600020 | B4: =IFERROR(VLOOKUP(A4*1,MAILS!A4:B113,2,0),"") | C4: 14479557330000
A5: 75127796300011 | B5: =IFERROR(VLOOKUP(A5*1,MAILS!A5:B114,2,0),"") | C5: 14479495390000
A6: 53975174300011 | B6: =IFERROR(VLOOKUP(A6*1,MAILS!A6:B115,2,0),"") | C6: 14479445580000
A7: 53902714400010 | B7: =IFERROR(VLOOKUP(A7*1,MAILS!A7:B116,2,0),"") | C7: 14479428540000
A8: 53966875600015 | B8: =IFERROR(VLOOKUP(A8*1,MAILS!A8:B117,2,0),"") | C8: 14479411170000
A9: 53383243200017 | B9: =IFERROR(VLOOKUP(A9*1,MAILS!A9:B118,2,0),"") | C9: 14479283390000
A10: 49174360500017 | B10: =IFERROR(VLOOKUP(A10*1,MAILS!A10:B119,2,0),"") | C10: 14479270270000
A11: 53286615900017 | B11: =IFERROR(VLOOKUP(A11*1,MAILS!A11:B120,2,0),"") | C11: 14479242080000
A12: 53279151400013 | B12: =IFERROR(VLOOKUP(A12*1,MAILS!A12:B121,2,0),"") | C12: 14479241540000
A13: 53188159700011 | B13: =IFERROR(VLOOKUP(A13*1,MAILS!A13:B122,2,0),"") | C13: 14479216090000
... A101: 47986777200028 | B101: =IFERROR(VLOOKUP(A101*1,MAILS!A101:B210,2,0),"") | C101: 14477366510000
A102: 30552366400137 | B102: =IFERROR(VLOOKUP(A102*1,MAILS!A103:B212,2,0),"") | C102: 10361014130020
A103: 41204979300034 | B103: =IFERROR(VLOOKUP(A103*1,MAILS!A104:B213,2,0),"") | C103: 10020838260020
A104: 38193738200038 | B104: =IFERROR(VLOOKUP(A104*1,MAILS!A105:B214,2,0),"") | C104: 10020117540020
A105: 30361391300076 | B105: =IFERROR(VLOOKUP(A105*1,MAILS!A106:B215,2,0),"") | C105: 10020086960020
A106: 49845432100015 | B106: =IFERROR(VLOOKUP(A106*1,MAILS!A107:B216,2,0),"") | C106: 00000002387911
A107: 38314813700011 | B107: =IFERROR(VLOOKUP(A107*1,MAILS!A108:B217,2,0),"") | C107: 00000002373697
A108: 49833008300029 | B108: =IFERROR(VLOOKUP(A108*1,MAILS!A109:B218,2,0),"") | C108: 00000000630111
A109: 44474164900040 | B109: =IFERROR(VLOOKUP(A109*1,MAILS!A110:B219,2,0),"") | C109: 00000000943909
A110: 51497182900023 | B110: =IFERROR(VLOOKUP(A110*1,MAILS!A111:B220,2,0),"") | C110: 00000000980617
A111: 51862871400025 | B111: =IFERROR(VLOOKUP(A111*1,MAILS!A112:B221,2,0),"") | C111: 00000000990954
A112: 51805584300032 | B112: =IFERROR(VLOOKUP(A112*1,MAILS!A113:B222,2,0),"") | C112: 00000000991304
A113: 52291583400017 | B113: =IFERROR(VLOOKUP(A113*1,MAILS!A114:B223,2,0),"") | C113: 00000000996869
... A132: 78363350600325 | B132: =IFERROR(VLOOKUP(A132*1,MAILS!A133:B242,2,0),"") | C132: 14479616500000
A133: 79127535700014 | B133: =VLOOKUP(Tableau1[[#This Row],[IDENTIFIANT_ETAB]],MAILS!A134:B243,2,FALSE) -> #N/A | C133: 00000000014134
A135: 40948466400027 | B135: =IFERROR(VLOOKUP(A135*1,MAILS!A135:B244,2,0),"") | C135: 10170242800020
A136: 78843812500015 | B136: =IFERROR(VLOOKUP(A136*1,MAILS!A136:B245,2,0),"") | C136: 14479594980000
A137: 75251713600020 | B137: =IFERROR(VLOOKUP(A137*1,MAILS!A137:B246,2,0),"") | C137: 14479557330000
A138: 75127796300011 | B138: =IFERROR(VLOOKUP(A138*1,MAILS!A138:B247,2,0),"") | C138: 14479495390000
A139: 53975174300011 | B139: =IFERROR(VLOOKUP(A139*1,MAILS!A139:B248,2,0),"") | C139: 14479445580000
A140: 53902714400010 | B140: =IFERROR(VLOOKUP(A140*1,MAILS!A140:B249,2,0),"") | C140: 14479428540000
A141: 53966875600015 | B141: =IFERROR(VLOOKUP(A141*1,MAILS!A141:B250,2,0),"") | C141: 14479411170000
A142: 53383243200017 | B142: =IFERROR(VLOOKUP(A142*1,MAILS!A142:B251,2,0),"") | C142: 14479283390000
A143: 49174360500017 | B143: =IFERROR(VLOOKUP(A143*1,MAILS!A143:B252,2,0),"") | C143: 14479270270000
A144: 53286615900017 | B144: =IFERROR(VLOOKUP(A144*1,MAILS!A144:B253,2,0),"") | C144: 14479242080000
A145: 53279151400013 | B145: =IFERROR(VLOOKUP(A145*1,MAILS!A145:B254,2,0),"") | C145: 14479241540000
A146: 53188159700011 | B146: =IFERROR(VLOOKUP(A146*1,MAILS!A146:B255,2,0),"") | C146: 14479216090000
... A417: 52369392700015 | B417: =IFERROR(VLOOKUP(A417*1,MAILS!A417:B526,2,0),"") | C417: H0912339820000
A418: 40217897400018 | B418: =IFERROR(VLOOKUP(A418*1,MAILS!A418:B527,2,0),"") | C418: H0912339820000
