Workbook

Sheet IDCC
A1: SIRET (ou ridet, pseudo siret, Insee) | B1: ETAT | C1: N°IDCC
A2: 38521863100351 | B2: OK traité | C2: 0016
A3: 38521863100450 | B3: OK traité | C3: 0016
A4: 38521863100534 | B4: OK traité | C4: 0016
A5: 38521863100427 | B5: OK traité | C5: 0016
A6: 38521863100500 | B6: OK traité | C6: 0016
A7: 40853692800075 | B7: OK traité | C7: 2198
A8: 40853692800059 | B8: OK traité | C8: 2198
A9: 41944603400136 | B9: OK traité | C9: 2120
A10: 47558043700212 | B10: OK traité | C10: 0675
A11: 47558043700261 | B11: OK traité | C11: 0675
A12: 47558043700410 | B12: OK traité | C12: 0675
A13: 52919230400101 | B13: OK traité | C13: 0016
A14: 73207531200163 | B14: OK traité | C14: 1486
A15: 73207531200171 | B15: OK traité | C15: 1486
A16: 73207531200189 | B16: OK traité | C16: 1486
A17: 44508805700051 | B17: OK traité | C17: 1486
A18: 42046204600129 | B18: OK traité | C18: 1979
A19: 42046204600152 | B19: OK traité | C19: 1979
A20: 42046204600160 | B20: OK traité | C20: 1979
A21: 42046204600228 | B21: OK traité | C21: 1979
A22: 42046204600269 | B22: OK traité | C22: 1979
A23: 42046204600327 | B23: OK traité | C23: 1979
A24: 42046204600376 | B24: OK traité | C24: 1979
A25: 42046204600418 | B25: OK traité | C25: 1979
... A28: 40326772701711 | B28: OK traité | C28: 1979

Sheet recherche
A1: info | B1: CDD IDCC
A2: 38521863100401 | B2: =VLOOKUP(A2,IDCC!A1:C28,3,FALSE) -> #N/A
A3: 38521863100419 | B3: =VLOOKUP(A3,IDCC!A2:C29,3,FALSE) -> #N/A
A4: 38521863100377 | B4: =VLOOKUP(A4,IDCC!A3:C30,3,FALSE) -> #N/A
A5: 38521863100013 | B5: =VLOOKUP(A5,IDCC!A4:C31,3,FALSE) -> #N/A
A6: 38521863100039 | B6: =VLOOKUP(A6,IDCC!A5:C32,3,FALSE) -> #N/A
A7: 38521863100047 | B7: =VLOOKUP(A7,IDCC!A6:C33,3,FALSE) -> #N/A
A8: 38521863100054 | B8: =VLOOKUP(A8,IDCC!A7:C34,3,FALSE) -> #N/A
A9: 38521863100161 | B9: =VLOOKUP(A9,IDCC!A8:C35,3,FALSE) -> #N/A
A10: 38521863100294 | B10: =VLOOKUP(A10,IDCC!A9:C36,3,FALSE) -> #N/A
A11: 38521863100351 | B11: =VLOOKUP(A11,IDCC!A10:C37,3,FALSE) -> #N/A
A12: 38521863100450 | B12: =VLOOKUP(A12,IDCC!A11:C38,3,FALSE) -> #N/A
A13: 38521863100534 | B13: =VLOOKUP(A13,IDCC!A12:C39,3,FALSE) -> #N/A
... A38: 47558043700014 | B38: =VLOOKUP(A38,IDCC!A37:C64,3,FALSE) -> #N/A
