Workbook

Sheet Tableau de bord
A1: Tableau de bord du SMQ
A3: Mise à jour le : 17/08/2017 | C3: Version : 4 | E3: Légende couleur de statut de résultats
E4: VERT : Objectif atteint et plus | H4: ORANGE : Objectif non atteint à 10% | K4: ROUGE : Objectif non atteint + 10%
A5: Processus | C5: Indicateurs | H5: Année n-1 | I5: Année n | J5: Tendance / année n-1 | K5: Objectifs fixés année n | L5: Atteinte objectifs | M5: Remarques
A7: PM1 DIRIGER LE SERVICE PPS | C7: Existence d'axes stratégiques et d'une programmation d'actions pour le service PPS | I7: ='Indicateurs coordination'!H3 -> 0 | J7: =I7-H7 -> 0 | K7: 100 | L7: =K7-I7 -> 100
C8: Taux d'atteinte des objectifs spécifiques et opérationnels de chacune des actions | I8: =SUM(Adeline!B6+Adeline!C6+Adeline!D6+Adeline!E6+Anthony!B6+Caroline!B6+Caroline!C6+Caroline!D6+Carine!B6+Carine!C6+Carine!D6+Carine!E6+Cédric!B6+Cédric!C6+Clémence!B6+Clémence!C6+Clémence!D6+Camille!B6+Camille!C6+Camille!D6+Emmie!B6+Emmie!C6+Emmie!D6+Emmie!E6+'Hélène A'!B6+'Hélène A'!C6+'Hélène A'!D6+'Hélène P'!B6+'Hélène P'!C6+Sonia!B6+Sonia!C6)/31 -> 0 | J8: =I8-H8 -> 0 | K8: 80 | L8: =K8-I8 -> 80
C9: Taux de réalisation des points mensuels coordination/chargés de prévention | I9: ='Indicateurs coordination'!H4 -> 0 | J9: =I9-H9 -> 0 | K9: 80 | L9: =K9-I9 -> 80
C10: Taux de satisfaction des donneurs d'ordre | I10: ='Indicateurs coordination'!H5 -> 0 | J10: =I10-H10 -> 0 | K10: 80 | L10: =K10-I10 -> 80
C11: Taux de respect de la planification du SMQ | I11: ='Indicateurs qualité'!H3 -> 0 | J11: =I11-H11 -> 0 | K11: 80 | L11: =K11-I11 -> 80
C12: Taux de retours positifs sur les demandes de financements extérieurs déposées | I12: ='Indicateurs coordination'!H6 -> 0 | J12: =I12-H12 -> 0 | K12: 50 | L12: =K12-I12 -> 50
C13: Nombre de sollicitations de la part des mutuelles en matière de prévention | I13: ='Indicateurs coordination'!H7 -> 0 | J13: =I13-H13 -> 0 | L13: =K13-I13 -> 0
C14: Taux de réalisation des actions pour les adhérents (hors FNP) sur les sollicitations acceptées | I14: ='Indicateurs coordination'!H8 -> 0 | J14: =I14-H14 -> 0 | L14: =K14-I14 -> 0
C15: Nombre de mutuelles sollicitées participant à une action du service prévention | I15: ='Indicateurs coordination'!H9 -> 0 | J15: =I15-H15 -> 0 | L15: =K15-I15 -> 0
C16: Nombre de valorisations des retombées presse en interne du mouvement mutualiste | I16: ='Indicateurs coordination'!H10 -> 0 | J16: =I16-H16 -> 0 | L16: =K16-I16 -> 0
C17: Taux d'outils de communication/promotion de l'activité prévention diffusés dans les temps | I17: ='Indicateurs coordination'!H11 -> 0 | J17: =I17-H17 -> 0 | K17: 90 | L17: =K17-I17 -> 90
A18: PR1 CONCEVOIR LES ACTIONS | C18: Taux d'action conçue aboutie | I18: =SUM(Adeline!B70+Adeline!C70+Adeline!D70+Adeline!E70+Anthony!B70+Caroline!B70+Caroline!C70+Caroline!D70+Carine!B70+Carine!C70+Carine!D70+Carine!E70+Cédric!B70+Cédric!C70+Clémence!B70+Clémence!C70+Clémence!D70+Camille!B70+Camille!C70+Camille!D70+Emmie!B70+Emmie!C70+Emmie!D70+Emmie!E70+'Hélène A'!B70+'Hélène A'!C70+'Hélène A'!D70+'Hélène P'!B70+'Hélène P'!C70+Sonia!B70+Sonia!C70)/31 -> 0 | J18: =I18-H18 -> 0 | K18: 80 | L18: =K18-I18 -> 80
C19: Taux de respect du calendrier des jalons | I19: =SUM(Adeline!B10+Adeline!C10+Adeline!D10+Adeline!E10+Anthony!B10+Caroline!B10+Caroline!C10+Caroline!D10+Carine!B10+Carine!C10+Carine!D10+Carine!E10+Cédric!B10+Cédric!C10+Clémence!B10+Clémence!C10+Clémence!D10+Camille!B10+Camille!C10+Camille!D10+Emmie!B10+Emmie!C10+Emmie!D10+Emmie!E10+'Hélène A'!B10+'Hélène A'!C10+'Hélène A'!D10+'Hélène P'!B10+'Hélène P'!C10+Sonia!B10+Sonia!C10)/31 -> 0 | J19: =I19-H19 -> 0 | K19: 80 | L19: =K19-I19 -> 80
A20: PR2 PILOTER LES ACTIONS ET LES INTERVENTIONS | C20: Taux de devis, conventions, contrats validés des parties avant l'intervention | I20: =SUM(Adeline!B81+Anthony!B81+Caroline!B81+Carine!B81+Cédric!B81+Clémence!B81+Camille!B81+Emmie!B81+'Hélène A'!B81+'Hélène P'!B81+Sonia!B81)/11 -> 0 | J20: =I20-H20 -> 0 | K20: 100 | L20: =K20-I20 -> 100
C21: Taux de respect du budget prévisionnel de l'action | I21: =SUM(Adeline!B14+Adeline!C14+Adeline!D14+Adeline!E14+Anthony!B14+Caroline!B14+Caroline!C14+Caroline!D14+Carine!B14+Carine!C14+Carine!D14+Carine!E14+Cédric!B14+Cédric!C14+Clémence!B14+Clémence!C14+Clémence!D14+Camille!B14+Camille!C14+Camille!D14+Emmie!B14+Emmie!C14+Emmie!D14+Emmie!E14+'Hélène A'!B14+'Hélène A'!C14+'Hélène A'!D14+'Hélène P'!B14+'Hélène P'!C14+Sonia!B14+Sonia!C14)/31 -> 0 | J21: =I21-H21 -> 0 | K21: 100 | L21: =I21-K21 -> -100
C22: Taux de prestataires/partenaires qui se sont vus confirmer leur intervention | I22: =SUM(Adeline!B84+Anthony!B84+Caroline!B84+Carine!B84+Cédric!B84+Clémence!B84+Camille!B84+Emmie!B84+'Hélène A'!B84+'Hélène P'!B84+Sonia!B84)/11 -> 0 | J22: =I22-H22 -> 0 | K22: 100 | L22: =K22-I22 -> 100
C23: Taux d'outils de communication diffusés | I23: =SUM(Adeline!B74+Adeline!C74+Adeline!D74+Adeline!E74+Anthony!B74+Caroline!B74+Caroline!C74+Caroline!D74+Carine!B74+Carine!C74+Carine!D74+Carine!E74+Cédric!B74+Cédric!C74+Clémence!B74+Clémence!C74+Clémence!D74+Camille!B74+Camille!C74+Camille!D74+Emmie!B74+Emmie!C74+Emmie!D74+Emmie!E74+'Hélène A'!B74+'Hélène A'!C74+'Hélène A'!D74+'Hélène P'!B74+'Hélène P'!C74+Sonia!B74+Sonia!C74)/31 -> 0 | J23: =I23-H23 -> 0 | K23: 80 | L23: =K23-I23 -> 80
C24: Taux d'outils d'évaluation créés | I24: =SUM(Adeline!B78+Adeline!C78+Adeline!D78+Adeline!E78+Anthony!B78+Caroline!B78+Caroline!C78+Caroline!D78+Carine!B78+Carine!C78+Carine!D78+Carine!E78+Cédric!B78+Cédric!C78+Clémence!B78+Clémence!C78+Clémence!D78+Camille!B78+Camille!C78+Camille!D78+Emmie!B78+Emmie!C78+Emmie!D78+Emmie!E78+'Hélène A'!B78+'Hélène A'!C78+'Hélène A'!D78+'Hélène P'!B78+'Hélène P'!C78+Sonia!B78+Sonia!C78)/31 -> 0 | J24: =I24-H24 -> 0 | K24: 100 | L24: =K24-I24 -> 100
A25: PR3 PREPARER ET ANIMER LES INTERVENTIONS | C25: Taux de respect des délais de préparation | I25: =SUM(Adeline!B18+Adeline!C18+Adeline!D18+Adeline!E18+Anthony!B18+Caroline!B18+Caroline!C18+Caroline!D18+Carine!B18+Carine!C18+Carine!D18+Carine!E18+Cédric!B18+Cédric!C18+Clémence!B18+Clémence!C18+Clémence!D18+Camille!B18+Camille!C18+Camille!D18+Emmie!B18+Emmie!C18+Emmie!D18+Emmie!E18+'Hélène A'!B18+'Hélène A'!C18+'Hélène A'!D18+'Hélène P'!B18+'Hélène P'!C18+Sonia!B18+Sonia!C18)/31 -> 0 | J25: =I25-H25 -> 0 | K25: 80 | L25: =K25-I25 -> 80
C26: Taux de respect des délais d'animation des interventions | I26: =SUM(Adeline!B22+Adeline!C22+Adeline!D22+Adeline!E22+Anthony!B22+Caroline!B22+Caroline!C22+Caroline!D22+Carine!B22+Carine!C22+Carine!D22+Carine!E22+Cédric!B22+Cédric!C22+Clémence!B22+Clémence!C22+Clémence!D22+Camille!B22+Camille!C22+Camille!D22+Emmie!B22+Emmie!C22+Emmie!D22+Emmie!E22+'Hélène A'!B22+'Hélène A'!C22+'Hélène A'!D22+'Hélène P'!B22+'Hélène P'!C22+Sonia!B22+Sonia!C22)/31 -> 0 | J26: =I26-H26 -> 0 | K26: 80 | L26: =K26-I26 -> 80
C27: Taux de réalisation des interventions prévues | I27: =SUM(Adeline!B26+Adeline!C26+Adeline!D26+Adeline!E26+Anthony!B26+Caroline!B26+Caroline!C26+Caroline!D26+Carine!B26+Carine!C26+Carine!D26+Carine!E26+Cédric!B26+Cédric!C26+Clémence!B26+Clémence!C26+Clémence!D26+Camille!B26+Camille!C26+Camille!D26+Emmie!B26+Emmie!C26+Emmie!D26+Emmie!E26+'Hélène A'!B26+'Hélène A'!C26+'Hélène A'!D26+'Hélène P'!B26+'Hélène P'!C26+Sonia!B26+Sonia!C26)/31 -> 0 | J27: =I27-H27 -> 0 | K27: 80 | L27: =K27-I27 -> 80
C28: Taux de présence des personnes prévues | I28: =SUM(Adeline!B30+Adeline!C30+Adeline!D30+Adeline!E30+Anthony!B30+Caroline!B30+Caroline!C30+Caroline!D30+Carine!B30+Carine!C30+Carine!D30+Carine!E30+Cédric!B30+Cédric!C30+Clémence!B30+Clémence!C30+Clémence!D30+Camille!B30+Camille!C30+Camille!D30+Emmie!B30+Emmie!C30+Emmie!D30+Emmie!E30+'Hélène A'!B30+'Hélène A'!C30+'Hélène A'!D30+'Hélène P'!B30+'Hélène P'!C30+Sonia!B30+Sonia!C30)/31 -> 0 | J28: =I28-H28 -> 0 | K28: 50 | L28: =K28-I28 -> 50
C29: Taux de personnes visées au sein du public présent | I29: =SUM(Adeline!B34+Adeline!C34+Adeline!D34+Adeline!E34+Anthony!B34+Caroline!B34+Caroline!C34+Caroline!D34+Carine!B34+Carine!C34+Carine!D34+Carine!E34+Cédric!B34+Cédric!C34+Clémence!B34+Clémence!C34+Clémence!D34+Camille!B34+Camille!C34+Camille!D34+Emmie!B34+Emmie!C34+Emmie!D34+Emmie!E34+'Hélène A'!B34+'Hélène A'!C34+'Hélène A'!D34+'Hélène P'!B34+'Hélène P'!C34+Sonia!B34+Sonia!C34)/31 -> 0 | J29: =I29-H29 -> 0 | K29: 50 | L29: =K29-I29 -> 50
A30: Tableau de bord du SMQ
A32: Mise à jour le : 17/08/2017 | C32: Version : 4 | E32: Légende couleur de statut de résultats
E33: VERT : Objectif atteint et plus | H33: ORANGE : Objectif non atteint à 10% | K33: ROUGE : Objectif non atteint + 10%
A34: Processus | C34: Indicateurs | H34: Année n-1 | I34: Année n | J34: Tendance / année n-1 | K34: Objectifs fixés année n | L34: Atteinte objectifs | M34: Remarques
A36: PR4 EVALUER LES ACTIONS | C36: Existence d'au moins un indicateur pour chaque objectif | I36: =SUM(Adeline!B38+Adeline!C38+Adeline!D38+Adeline!E38+Anthony!B38+Caroline!B38+Caroline!C38+Caroline!D38+Carine!B38+Carine!C38+Carine!D38+Carine!E38+Cédric!B38+Cédric!C38+Clémence!B38+Clémence!C38+Clémence!D38+Camille!B38+Camille!C38+Camille!D38+Emmie!B38+Emmie!C38+Emmie!D38+Emmie!E38+'Hélène A'!B38+'Hélène A'!C38+'Hélène A'!D38+'Hélène P'!B38+'Hélène P'!C38+Sonia!B38+Sonia!C38)/31 -> 0 | J36: =I36-H36 -> 0 | K36: 100 | L36: =K36-I36 -> 100
C37: Taux de respect du FO17 indicateurs d'évaluation | I37: =SUM(Adeline!B42+Adeline!C42+Adeline!D42+Adeline!E42+Anthony!B42+Caroline!B42+Caroline!C42+Caroline!D42+Carine!B42+Carine!C42+Carine!D42+Carine!E42+Cédric!B42+Cédric!C42+Clémence!B42+Clémence!C42+Clémence!D42+Camille!B42+Camille!C42+Camille!D42+Emmie!B42+Emmie!C42+Emmie!D42+Emmie!E42+'Hélène A'!B42+'Hélène A'!C42+'Hélène A'!D42+'Hélène P'!B42+'Hélène P'!C42+Sonia!B42+Sonia!C42)/31 -> 0 | J37: =I37-H37 -> 0 | K37: 80 | L37: =K37-I37 -> 80
C38: Taux de retour des supports d'évaluation par rapport aux personnes sensibilisées | I38: =SUM(Adeline!B46+Adeline!C46+Adeline!D46+Adeline!E46+Anthony!B46+Caroline!B46+Caroline!C46+Caroline!D46+Carine!B46+Carine!C46+Carine!D46+Carine!E46+Cédric!B46+Cédric!C46+Clémence!B46+Clémence!C46+Clémence!D46+Camille!B46+Camille!C46+Camille!D46+Emmie!B46+Emmie!C46+Emmie!D46+Emmie!E46+'Hélène A'!B46+'Hélène A'!C46+'Hélène A'!D46+'Hélène P'!B46+'Hélène P'!C46+Sonia!B46+Sonia!C46)/31 -> 0 | J38: =I38-H38 -> 0 | K38: 50 | L38: =K38-I38 -> 50
C39: Taux de supports d'évaluation exploitables | I39: =SUM(Adeline!B50+Adeline!C50+Adeline!D50+Adeline!E50+Anthony!B50+Caroline!B50+Caroline!C50+Caroline!D50+Carine!B50+Carine!C50+Carine!D50+Carine!E50+Cédric!B50+Cédric!C50+Clémence!B50+Clémence!C50+Clémence!D50+Camille!B50+Camille!C50+Camille!D50+Emmie!B50+Emmie!C50+Emmie!D50+Emmie!E50+'Hélène A'!B50+'Hélène A'!C50+'Hélène A'!D50+'Hélène P'!B50+'Hélène P'!C50+Sonia!B50+Sonia!C50)/31 -> 0 | J39: =I39-H39 -> 0 | K39: 80 | L39: =K39-I39 -> 80
A40: PS1 ACHETER FOURNITURES ET PRESTATIONS | C40: Taux d'achats matériels conformes | I40: =SUM(Adeline!B87+Anthony!B87+Caroline!B87+Carine!B87+Cédric!B87+Clémence!B87+Camille!B87+Emmie!B87+'Hélène A'!B87+'Hélène P'!B87+Sonia!B87)/7 -> 0 | J40: =I40-H40 -> 0 | K40: 90 | L40: =K40-I40 -> 90
C41: Taux d'achats prestations conformes | I41: =SUM(Adeline!B90+Anthony!B90+Caroline!B90+Carine!B90+Cédric!B90+Clémence!B90+Camille!B90+Emmie!B90+'Hélène A'!B90+'Hélène P'!B90+Sonia!B90)/7 -> 0 | J41: =I41-H41 -> 0 | K41: 90 | L41: =K41-I41 -> 90
C42: Taux de retour client traité | I42: ='Indicateurs qualité'!H4 -> 0 | J42: =I42-H42 -> 0 | K42: 100 | L42: =K42-I42 -> 100
A43: PS2 GERER LES RESSOURCES HUMAINES | C43: Taux de turn over | I43: ='Indicateurs coordination'!H12 -> 0 | J43: =I43-H43 -> 0 | K43: 24 | L43: =K43-I43 -> 24
C44: Autonomie ressentie | I44: =SUM(Adeline!B93+Anthony!B93+Caroline!B93+Carine!B93+Cédric!B93+Clémence!B93+Camille!B93+Emmie!B93+'Hélène A'!B93+'Hélène P'!B93+Sonia!B93)/7 -> 0 | J44: =I44-H44 -> 0 | K44: 7 | L44: =K44-I44 -> 7
C45: Taux d'absentéisme | I45: ='Indicateurs coordination'!H13 -> 0 | J45: =I45-H45 -> 0 | K45: 1 | L45: =K45-I45 -> 1
A46: PS3 GERER LES MOYENS MATERIELS | C46: Taux fonctionnel de matériels prévus pour chaque action au démarrage de l'animation | I46: =SUM(Adeline!B54+Adeline!C54+Adeline!D54+Adeline!E54+Anthony!B54+Caroline!B54+Caroline!C54+Caroline!D54+Carine!B54+Carine!C54+Carine!D54+Carine!E54+Cédric!B54+Cédric!C54+Clémence!B54+Clémence!C54+Clémence!D54+Camille!B54+Camille!C54+Camille!D54+Emmie!B54+Emmie!C54+Emmie!D54+Emmie!E54+'Hélène A'!B54+'Hélène A'!C54+'Hélène A'!D54+'Hélène P'!B54+'Hélène P'!C54+Sonia!B54+Sonia!C54)/31 -> 0 | J46: =I46-H46 -> 0 | K46: 100 | L46: =K46-I46 -> 100
C47: Taux de contrats matériels, logiciels et infrastructures à jour | I47: ='Indicateurs qualité'!H5 -> 0 | J47: =I47-H47 -> 0 | K47: 100 | L47: =K47-I47 -> 100
A48: PS4 PROMOUVOIR LES ACTIONS ET INTERVENTIONS | C48: Taux de respect de présence des plans de communication | I48: =SUM(Adeline!B58+Adeline!C58+Adeline!D58+Adeline!E58+Anthony!B58+Caroline!B58+Caroline!C58+Caroline!D58+Carine!B58+Carine!C58+Carine!D58+Carine!E58+Cédric!B58+Cédric!C58+Clémence!B58+Clémence!C58+Clémence!D58+Camille!B58+Camille!C58+Camille!D58+Emmie!B58+Emmie!C58+Emmie!D58+Emmie!E58+'Hélène A'!B58+'Hélène A'!C58+'Hélène A'!D58+'Hélène P'!B58+'Hélène P'!C58+Sonia!B58+Sonia!C58)/31 -> 0 | J48: =I48-H48 -> 0 | K48: 100 | L48: =K48-I48 -> 100
C49: Taux de respect des plans de communication | I49: =SUM(Adeline!B62+Adeline!C62+Adeline!D62+Adeline!E62+Anthony!B62+Caroline!B62+Caroline!C62+Caroline!D62+Carine!B62+Carine!C62+Carine!D62+Carine!E62+Cédric!B62+Cédric!C62+Clémence!B62+Clémence!C62+Clémence!D62+Camille!B62+Camille!C62+Camille!D62+Emmie!B62+Emmie!C62+Emmie!D62+Emmie!E62+'Hélène A'!B62+'Hélène A'!C62+'Hélène A'!D62+'Hélène P'!B62+'Hélène P'!C62+Sonia!B62+Sonia!C62)/31 -> 0 | J49: =I49-H49 -> 0 | K49: 80 | L49: =K49-I49 -> 80
C50: Taux de moyens de communication sélectionnés dans les questionnaires d'évaluation par rapport aux moyens de communication mis en place | I50: =SUM(Adeline!B66+Adeline!C66+Adeline!D66+Adeline!E66+Anthony!B66+Caroline!B66+Caroline!C66+Caroline!D66+Carine!B66+Carine!C66+Carine!D66+Carine!E66+Cédric!B66+Cédric!C66+Clémence!B66+Clémence!C66+Clémence!D66+Camille!B66+Camille!C66+Camille!D66+Emmie!B66+Emmie!C66+Emmie!D66+Emmie!E66+'Hélène A'!B66+'Hélène A'!C66+'Hélène A'!D66+'Hélène P'!B66+'Hélène P'!C66+Sonia!B66+Sonia!C66)/31 -> 0 | J50: =I50-H50 -> 0 | K50: 70 | L50: =K50-I50 -> 70

Sheet Indicateurs coordination
A1: Indicateurs | F1: Objectifs fixés année n | H1: Année n
A3: Existence d'axes stratégiques et d'une programmation d'actions pour le service PPS | F3: ='Tableau de bord'!K7 -> 100
A4: Taux de réalisation des points mensuels coordination/chargés de prévention | F4: ='Tableau de bord'!K9 -> 80
A5: Taux de satisfaction des donneurs d'ordre | F5: ='Tableau de bord'!K10 -> 80
A6: Taux de retours positifs sur les demandes de financements extérieurs déposées | F6: ='Tableau de bord'!K12 -> 50
A7: Nombre de sollicitations de la part des mutuelles en matière de prévention | F7: ='Tableau de bord'!K13 -> 0
A8: Taux de réalisation des actions pour les adhérents (hors FNP) sur les sollicitations acceptées | F8: ='Tableau de bord'!K14 -> 0
A9: Nombre de mutuelles sollicitées participant à une action du service prévention | F9: ='Tableau de bord'!K15 -> 0
A10: Nombre de valorisations des retombées presse en interne du mouvement mutualiste | F10: ='Tableau de bord'!K16 -> 0
A11: Taux d'outils de communication/promotion de l'activité prévention diffusés dans les temps | F11: ='Tableau de bord'!K17 -> 90
A12: Taux de turn over | F12: ='Tableau de bord'!K43 -> 24
A13: Taux d'absentéisme | F13: ='Tableau de bord'!K45 -> 1

Sheet Indicateurs qualité
A1: Indicateurs | F1: Objectifs fixés année n | H1: Année n
A3: Taux de respect de la planification du SMQ | F3: ='Tableau de bord'!K11 -> 80
A4: Taux de retour client traité | F4: 100
A5: Taux de contrats matériels, logiciels et infrastructures à jour | F5: 100

Sheet Adeline
B1: Indicateurs | G1: Objectifs fixés année n
B3: Taux d'atteinte des objectifs spécifiques et opérationnels de chacune des actions | G3: ='Tableau de bord'!K8 -> 80
A5: Action(s) | B5: 123 MBG | C5: SdA M1 | D5: SdA M2 | E5: SdA M3
A6: Année n
B7: Taux de respect du calendrier des jalons | G7: ='Tableau de bord'!K19 -> 80
A9: Action(s) | B9: 123 MBG | C9: SdA M1 | D9: SdA M2 | E9: SdA M3
A10: Année n
B11: Taux de respect du budget prévisionnel de l'action | G11: ='Tableau de bord'!K21 -> 100
A13: Action(s) | B13: 123 MBG | C13: SdA M1 | D13: SdA M2 | E13: SdA M3
A14: Année n
B15: Taux de respect des délais de préparation | G15: ='Tableau de bord'!K25 -> 80
A17: Action(s) | B17: 123 MBG | C17: SdA M1 | D17: SdA M2 | E17: SdA M3
A18: Année n
B19: Taux de respect des délais d'animation des interventions | G19: ='Tableau de bord'!K26 -> 80
A21: Action(s) | B21: 123 MBG | C21: SdA M1 | D21: SdA M2 | E21: SdA M3
A22: Année n
B23: Taux de réalisation des interventions prévues | G23: ='Tableau de bord'!K27 -> 80
A25: Action(s) | B25: 123 MBG | C25: SdA M1 | D25: SdA M2 | E25: SdA M3
A26: Année n
B27: Taux de présence des personnes prévues | G27: ='Tableau de bord'!K27 -> 80
A29: Action(s) | B29: 123 MBG | C29: SdA M1 | D29: SdA M2 | E29: SdA M3
A30: Année n
B31: Taux de personnes visées au sein du public présent | G31: ='Tableau de bord'!K29 -> 50
A33: Action(s) | B33: 123 MBG | C33: SdA M1 | D33: SdA M2 | E33: SdA M3
A34: Année n
B35: Existence d'au moins un indicateur pour chaque objectif | G35: ='Tableau de bord'!K36 -> 100
A37: Action(s) | B37: 123 MBG | C37: SdA M1 | D37: SdA M2 | E37: SdA M3
A38: Année n
B39: Taux de respect du FO17 indicateurs d'évaluation | G39: ='Tableau de bord'!K37 -> 80
A41: Action(s) | B41: 123 MBG | C41: SdA M1 | D41: SdA M2 | E41: SdA M3
A42: Année n
B43: Taux de retour des supports d'évaluation par rapport aux personnes sensibilisées | G43: ='Tableau de bord'!K38 -> 50
A45: Action(s) | B45: 123 MBG | C45: SdA M1 | D45: SdA M2 | E45: SdA M3
A46: Année n
B47: Taux de supports d'évaluation exploitables | G47: ='Tableau de bord'!K39 -> 80
A49: Action(s) | B49: 123 MBG | C49: SdA M1 | D49: SdA M2 | E49: SdA M3
A50: Année n
B51: Taux fonctionnel de matériels prévus pour chaque action au démarrage de l'animation | G51: ='Tableau de bord'!K46 -> 100
A53: Action(s) | B53: 123 MBG | C53: SdA M1 | D53: SdA M2 | E53: SdA M3
A54: Année n
B55: Taux de respect de présence des plans de communication | G55: ='Tableau de bord'!K48 -> 100
A57: Action(s) | B57: 123 MBG | C57: SdA M1 | D57: SdA M2 | E57: SdA M3
A58: Année n
B59: Taux de respect des plans de communication | G59: ='Tableau de bord'!K49 -> 80
A61: Action(s) | B61: 123 MBG | C61: SdA M1 | D61: SdA M2 | E61: SdA M3
A62: Année n
B63: Taux de moyens de communication sélectionnés dans les questionnaires d'évaluation par rapport aux moyens de communication mis en place | G63: ='Tableau de bord'!K50 -> 70
A65: Action(s) | B65: 123 MBG | C65: SdA M1 | D65: SdA M2 | E65: SdA M3
A66: Année n
B67: Taux d'action conçue aboutie | G67: ='Tableau de bord'!K18 -> 80
A69: Action(s) | B69: 123 MBG | C69: SdA M1 | D69: SdA M2 | E69: SdA M3
A70: Année n
B71: Taux d'outils de communication diffusés | G71: ='Tableau de bord'!K23 -> 80
A73: Action(s) | B73: 123 MBG | C73: SdA M1 | D73: SdA M2 | E73: SdA M3
A74: Année n
B75: Taux d'outils d'évaluation créés | G75: ='Tableau de bord'!K24 -> 100
A77: Action(s) | B77: 123 MBG | C77: SdA M1 | D77: SdA M2 | E77: SdA M3
A78: Année n
B79: Taux de devis, conventions, contrats validés des parties avant l'intervention | G79: ='Tableau de bord'!K20 -> 100
A81: Année
B82: Taux de prestataires/partenaires qui se sont vus confirmer leur intervention | G82: ='Tableau de bord'!K22 -> 100
A84: Année
B85: Taux d'achats matériels conformes | G85: ='Tableau de bord'!K40 -> 90
A87: Année
B88: Taux d'achats prestations conformes | G88: ='Tableau de bord'!K41 -> 90
A90: Année
B91: Autonomie ressentie | G91: ='Tableau de bord'!K44 -> 7
A93: Année

Sheet Anthony
B1: Indicateurs | G1: Objectifs fixés année n
B3: Taux d'atteinte des objectifs spécifiques et opérationnels de chacune des actions | G3: ='Tableau de bord'!K8 -> 80
A5: Action(s) | B5: BPS
A6: Année n
B7: Taux de respect du calendrier des jalons | G7: ='Tableau de bord'!K19 -> 80
A9: Action(s) | B9: BPS
A10: Année n
B11: Taux de respect du budget prévisionnel de l'action | G11: ='Tableau de bord'!K21 -> 100
A13: Action(s) | B13: BPS
A14: Année n
B15: Taux de respect des délais de préparation | G15: ='Tableau de bord'!K25 -> 80
A17: Action(s) | B17: BPS
A18: Année n
B19: Taux de respect des délais d'animation des interventions | G19: ='Tableau de bord'!K26 -> 80
A21: Action(s) | B21: BPS
A22: Année n
B23: Taux de réalisation des interventions prévues | G23: ='Tableau de bord'!K27 -> 80
A25: Action(s) | B25: BPS
A26: Année n
B27: Taux de présence des personnes prévues | G27: ='Tableau de bord'!K27 -> 80
A29: Action(s) | B29: BPS
A30: Année n
B31: Taux de personnes visées au sein du public présent | G31: ='Tableau de bord'!K29 -> 50
A33: Action(s) | B33: BPS
A34: Année n
B35: Existence d'au moins un indicateur pour chaque objectif | G35: ='Tableau de bord'!K36 -> 100
A37: Action(s) | B37: BPS
A38: Année n
B39: Taux de respect du FO17 indicateurs d'évaluation | G39: ='Tableau de bord'!K37 -> 80
A41: Action(s) | B41: BPS
A42: Année n
B43: Taux de retour des supports d'évaluation par rapport aux personnes sensibilisées | G43: ='Tableau de bord'!K38 -> 50
A45: Action(s) | B45: BPS
A46: Année n
B47: Taux de supports d'évaluation exploitables | G47: ='Tableau de bord'!K39 -> 80
A49: Action(s) | B49: BPS
A50: Année n
B51: Taux fonctionnel de matériels prévus pour chaque action au démarrage de l'animation | G51: ='Tableau de bord'!K46 -> 100
A53: Action(s) | B53: BPS
A54: Année n
B55: Taux de respect de présence des plans de communication | G55: ='Tableau de bord'!K48 -> 100
A57: Action(s) | B57: BPS
A58: Année n
B59: Taux de respect des plans de communication | G59: ='Tableau de bord'!K49 -> 80
A61: Action(s) | B61: BPS
A62: Année n
B63: Taux de moyens de communication sélectionnés dans les questionnaires d'évaluation par rapport aux moyens de communication mis en place | G63: ='Tableau de bord'!K50 -> 70
A65: Action(s) | B65: BPS
A66: Année n
B67: Taux d'action conçue aboutie | G67: ='Tableau de bord'!K18 -> 80
A69: Action(s) | B69: BPS
A70: Année n
B71: Taux d'outils de communication diffusés | G71: ='Tableau de bord'!K23 -> 80
A73: Action(s) | B73: BPS
A74: Année n
B75: Taux d'outils d'évaluation créés | G75: ='Tableau de bord'!K24 -> 100
A77: Action(s) | B77: BPS
A78: Année n
B79: Taux de devis, conventions, contrats validés des parties avant l'intervention | G79: ='Tableau de bord'!K20 -> 100
A81: Année
B82: Taux de prestataires/partenaires qui se sont vus confirmer leur intervention | G82: ='Tableau de bord'!K22 -> 100
A84: Année
B85: Taux d'achats matériels conformes | G85: ='Tableau de bord'!K40 -> 90
A87: Année
B88: Taux d'achats prestations conformes | G88: ='Tableau de bord'!K41 -> 90
A90: Année
B91: Autonomie ressentie | G91: ='Tableau de bord'!K44 -> 7
A93: Année

Sheet Caroline
B1: Indicateurs | G1: Objectifs fixés année n
B3: Taux d'atteinte des objectifs spécifiques et opérationnels de chacune des actions | G3: ='Tableau de bord'!K8 -> 80
A5: Action(s) | B5: CC | C5: CS | D5: COS
A6: Année n
B7: Taux de respect du calendrier des jalons | G7: ='Tableau de bord'!K19 -> 80
A9: Action(s) | B9: CC | C9: CS | D9: COS
A10: Année n
B11: Taux de respect du budget prévisionnel de l'action | G11: ='Tableau de bord'!K21 -> 100
A13: Action(s) | B13: CC | C13: CS | D13: COS
A14: Année n
B15: Taux de respect des délais de préparation | G15: ='Tableau de bord'!K25 -> 80
A17: Action(s) | B17: CC | C17: CS | D17: COS
A18: Année n
B19: Taux de respect des délais d'animation des interventions | G19: ='Tableau de bord'!K26 -> 80
A21: Action(s) | B21: CC | C21: CS | D21: COS
A22: Année n
B23: Taux de réalisation des interventions prévues | G23: ='Tableau de bord'!K27 -> 80
A25: Action(s) | B25: CC | C25: CS | D25: COS
A26: Année n
B27: Taux de présence des personnes prévues | G27: ='Tableau de bord'!K27 -> 80
A29: Action(s) | B29: CC | C29: CS | D29: COS
A30: Année n
B31: Taux de personnes visées au sein du public présent | G31: ='Tableau de bord'!K29 -> 50
A33: Action(s) | B33: CC | C33: CS | D33: COS
A34: Année n
B35: Existence d'au moins un indicateur pour chaque objectif | G35: ='Tableau de bord'!K36 -> 100
A37: Action(s) | B37: CC | C37: CS | D37: COS
A38: Année n
B39: Taux de respect du FO17 indicateurs d'évaluation | G39: ='Tableau de bord'!K37 -> 80
A41: Action(s) | B41: CC | C41: CS | D41: COS
A42: Année n
B43: Taux de retour des supports d'évaluation par rapport aux personnes sensibilisées | G43: ='Tableau de bord'!K38 -> 50
A45: Action(s) | B45: CC | C45: CS | D45: COS
A46: Année n
B47: Taux de supports d'évaluation exploitables | G47: ='Tableau de bord'!K39 -> 80
A49: Action(s) | B49: CC | C49: CS | D49: COS
A50: Année n
B51: Taux fonctionnel de matériels prévus pour chaque action au démarrage de l'animation | G51: ='Tableau de bord'!K46 -> 100
A53: Action(s) | B53: CC | C53: CS | D53: COS
A54: Année n
B55: Taux de respect de présence des plans de communication | G55: ='Tableau de bord'!K48 -> 100
A57: Action(s) | B57: CC | C57: CS | D57: COS
A58: Année n
B59: Taux de respect des plans de communication | G59: ='Tableau de bord'!K49 -> 80
A61: Action(s) | B61: CC | C61: CS | D61: COS
A62: Année n
B63: Taux de moyens de communication sélectionnés dans les questionnaires d'évaluation par rapport aux moyens de communication mis en place | G63: ='Tableau de bord'!K50 -> 70
A65: Action(s) | B65: CC | C65: CS | D65: COS
A66: Année n
B67: Taux d'action conçue aboutie | G67: ='Tableau de bord'!K18 -> 80
A69: Action(s) | B69: CC | C69: CS | D69: COS
A70: Année n
B71: Taux d'outils de communication diffusés | G71: ='Tableau de bord'!K23 -> 80
A73: Action(s) | B73: CC | C73: CS | D73: COS
A74: Année n
B75: Taux d'outils d'évaluation créés | G75: ='Tableau de bord'!K24 -> 100
A77: Action(s) | B77: CC | C77: CS | D77: COS
A78: Année n
B79: Taux de devis, conventions, contrats validés des parties avant l'intervention | G79: ='Tableau de bord'!K20 -> 100
A81: Année
B82: Taux de prestataires/partenaires qui se sont vus confirmer leur intervention | G82: ='Tableau de bord'!K22 -> 100
A84: Année
B85: Taux d'achats matériels conformes | G85: ='Tableau de bord'!K40 -> 90
A87: Année
B88: Taux d'achats prestations conformes | G88: ='Tableau de bord'!K41 -> 90
A90: Année
B91: Autonomie ressentie | G91: ='Tableau de bord'!K44 -> 7
A93: Année

Sheet Carine
B1: Indicateurs | G1: Objectifs fixés année n
B3: Taux d'atteinte des objectifs spécifiques et opérationnels de chacune des actions | G3: ='Tableau de bord'!K8 -> 80
A5: Action(s) | B5: GP | C5: SAPE | D5: JIS | E5: TSRL
A6: Année n
B7: Taux de respect du calendrier des jalons | G7: ='Tableau de bord'!K19 -> 80
A9: Action(s) | B9: GP | C9: SAPE | D9: JIS | E9: TSRL
A10: Année n
B11: Taux de respect du budget prévisionnel de l'action | G11: ='Tableau de bord'!K21 -> 100
A13: Action(s) | B13: GP | C13: SAPE | D13: JIS | E13: TSRL
A14: Année n
B15: Taux de respect des délais de préparation | G15: ='Tableau de bord'!K25 -> 80
A17: Action(s) | B17: GP | C17: SAPE | D17: JIS | E17: TSRL
A18: Année n
B19: Taux de respect des délais d'animation des interventions | G19: ='Tableau de bord'!K26 -> 80
A21: Action(s) | B21: GP | C21: SAPE | D21: JIS | E21: TSRL
A22: Année n
B23: Taux de réalisation des interventions prévues | G23: ='Tableau de bord'!K27 -> 80
A25: Action(s) | B25: GP | C25: SAPE | D25: JIS | E25: TSRL
A26: Année n
B27: Taux de présence des personnes prévues | G27: ='Tableau de bord'!K27 -> 80
A29: Action(s) | B29: GP | C29: SAPE | D29: JIS | E29: TSRL
A30: Année n
B31: Taux de personnes visées au sein du public présent | G31: ='Tableau de bord'!K29 -> 50
A33: Action(s) | B33: GP | C33: SAPE | D33: JIS | E33: TSRL
A34: Année n
B35: Existence d'au moins un indicateur pour chaque objectif | G35: ='Tableau de bord'!K36 -> 100
A37: Action(s) | B37: GP | C37: SAPE | D37: JIS | E37: TSRL
A38: Année n
B39: Taux de respect du FO17 indicateurs d'évaluation | G39: ='Tableau de bord'!K37 -> 80
A41: Action(s) | B41: GP | C41: SAPE | D41: JIS | E41: TSRL
A42: Année n
B43: Taux de retour des supports d'évaluation par rapport aux personnes sensibilisées | G43: ='Tableau de bord'!K38 -> 50
A45: Action(s) | B45: GP | C45: SAPE | D45: JIS | E45: TSRL
A46: Année n
B47: Taux de supports d'évaluation exploitables | G47: ='Tableau de bord'!K39 -> 80
A49: Action(s) | B49: GP | C49: SAPE | D49: JIS | E49: TSRL
A50: Année n
B51: Taux fonctionnel de matériels prévus pour chaque action au démarrage de l'animation | G51: ='Tableau de bord'!K46 -> 100
A53: Action(s) | B53: GP | C53: SAPE | D53: JIS | E53: TSRL
A54: Année n
B55: Taux de respect de présence des plans de communication | G55: ='Tableau de bord'!K48 -> 100
A57: Action(s) | B57: GP | C57: SAPE | D57: JIS | E57: TSRL
A58: Année n
B59: Taux de respect des plans de communication | G59: ='Tableau de bord'!K49 -> 80
A61: Action(s) | B61: GP | C61: SAPE | D61: JIS | E61: TSRL
A62: Année n
B63: Taux de moyens de communication sélectionnés dans les questionnaires d'évaluation par rapport aux moyens de communication mis en place | G63: ='Tableau de bord'!K50 -> 70
A65: Action(s) | B65: GP | C65: SAPE | D65: JIS | E65: TSRL
A66: Année n
B67: Taux d'action conçue aboutie | G67: ='Tableau de bord'!K18 -> 80
A69: Action(s) | B69: GP | C69: SAPE | D69: JIS | E69: TSRL
A70: Année n
B71: Taux d'outils de communication diffusés | G71: ='Tableau de bord'!K23 -> 80
A73: Action(s) | B73: GP | C73: SAPE | D73: JIS | E73: TSRL
A74: Année n
B75: Taux d'outils d'évaluation créés | G75: ='Tableau de bord'!K24 -> 100
A77: Action(s) | B77: GP | C77: SAPE | D77: JIS | E77: TSRL
A78: Année n
B79: Taux de devis, conventions, contrats validés des parties avant l'intervention | G79: ='Tableau de bord'!K20 -> 100
A81: Année
B82: Taux de prestataires/partenaires qui se sont vus confirmer leur intervention | G82: ='Tableau de bord'!K22 -> 100
A84: Année
B85: Taux d'achats matériels conformes | G85: ='Tableau de bord'!K40 -> 90
A87: Année
B88: Taux d'achats prestations conformes | G88: ='Tableau de bord'!K41 -> 90
A90: Année
B91: Autonomie ressentie | G91: ='Tableau de bord'!K44 -> 7
A93: Année

Sheet Cédric
B1: Indicateurs | G1: Objectifs fixés année n
B3: Taux d'atteinte des objectifs spécifiques et opérationnels de chacune des actions | G3: ='Tableau de bord'!K8 -> 80
A5: Action(s) | B5: APPAP | C5: UNIV
A6: Année n
B7: Taux de respect du calendrier des jalons | G7: ='Tableau de bord'!K19 -> 80
A9: Action(s) | B9: APPAP | C9: UNIV
A10: Année n
B11: Taux de respect du budget prévisionnel de l'action | G11: ='Tableau de bord'!K21 -> 100
A13: Action(s) | B13: APPAP | C13: UNIV
A14: Année n
B15: Taux de respect des délais de préparation | G15: ='Tableau de bord'!K25 -> 80
A17: Action(s) | B17: APPAP | C17: UNIV
A18: Année n
B19: Taux de respect des délais d'animation des interventions | G19: ='Tableau de bord'!K26 -> 80
A21: Action(s) | B21: APPAP | C21: UNIV
A22: Année n
B23: Taux de réalisation des interventions prévues | G23: ='Tableau de bord'!K27 -> 80
A25: Action(s) | B25: APPAP | C25: UNIV
A26: Année n
B27: Taux de présence des personnes prévues | G27: ='Tableau de bord'!K27 -> 80
A29: Action(s) | B29: APPAP | C29: UNIV
A30: Année n
B31: Taux de personnes visées au sein du public présent | G31: ='Tableau de bord'!K29 -> 50
A33: Action(s) | B33: APPAP | C33: UNIV
A34: Année n
B35: Existence d'au moins un indicateur pour chaque objectif | G35: ='Tableau de bord'!K36 -> 100
A37: Action(s) | B37: APPAP | C37: UNIV
A38: Année n
B39: Taux de respect du FO17 indicateurs d'évaluation | G39: ='Tableau de bord'!K37 -> 80
A41: Action(s) | B41: APPAP | C41: UNIV
A42: Année n
B43: Taux de retour des supports d'évaluation par rapport aux personnes sensibilisées | G43: ='Tableau de bord'!K38 -> 50
A45: Action(s) | B45: APPAP | C45: UNIV
A46: Année n
B47: Taux de supports d'évaluation exploitables | G47: ='Tableau de bord'!K39 -> 80
A49: Action(s) | B49: APPAP | C49: UNIV
A50: Année n
B51: Taux fonctionnel de matériels prévus pour chaque action au démarrage de l'animation | G51: ='Tableau de bord'!K46 -> 100
A53: Action(s) | B53: APPAP | C53: UNIV
A54: Année n
B55: Taux de respect de présence des plans de communication | G55: ='Tableau de bord'!K48 -> 100
A57: Action(s) | B57: APPAP | C57: UNIV
A58: Année n
B59: Taux de respect des plans de communication | G59: ='Tableau de bord'!K49 -> 80
A61: Action(s) | B61: APPAP | C61: UNIV
A62: Année n
B63: Taux de moyens de communication sélectionnés dans les questionnaires d'évaluation par rapport aux moyens de communication mis en place | G63: ='Tableau de bord'!K50 -> 70
A65: Action(s) | B65: APPAP | C65: UNIV
A66: Année n
B67: Taux d'action conçue aboutie | G67: ='Tableau de bord'!K18 -> 80
A69: Action(s) | B69: APPAP | C69: UNIV
A70: Année n
B71: Taux d'outils de communication diffusés | G71: ='Tableau de bord'!K23 -> 80
A73: Action(s) | B73: APPAP | C73: UNIV
A74: Année n
B75: Taux d'outils d'évaluation créés | G75: ='Tableau de bord'!K24 -> 100
A77: Action(s) | B77: APPAP | C77: UNIV
A78: Année n
B79: Taux de devis, conventions, contrats validés des parties avant l'intervention | G79: ='Tableau de bord'!K20 -> 100
A81: Année
B82: Taux de prestataires/partenaires qui se sont vus confirmer leur intervention | G82: ='Tableau de bord'!K22 -> 100
A84: Année
B85: Taux d'achats matériels conformes | G85: ='Tableau de bord'!K40 -> 90
A87: Année
B88: Taux d'achats prestations conformes | G88: ='Tableau de bord'!K41 -> 90
A90: Année
B91: Autonomie ressentie | G91: ='Tableau de bord'!K44 -> 7
A93: Année

Sheet Clémence
B1: Indicateurs | G1: Objectifs fixés année n
B3: Taux d'atteinte des objectifs spécifiques et opérationnels de chacune des actions | G3: ='Tableau de bord'!K8 -> 80
A5: Action(s) | B5: SEM | C5: GPMSA | D5: MBA
A6: Année n
B7: Taux de respect du calendrier des jalons | G7: ='Tableau de bord'!K19 -> 80
A9: Action(s) | B9: SEM | C9: GPMSA | D9: MBA
A10: Année n
B11: Taux de respect du budget prévisionnel de l'action | G11: ='Tableau de bord'!K21 -> 100
A13: Action(s) | B13: SEM | C13: GPMSA | D13: MBA
A14: Année n
B15: Taux de respect des délais de préparation | G15: ='Tableau de bord'!K25 -> 80
A17: Action(s) | B17: SEM | C17: GPMSA | D17: MBA
A18: Année n
B19: Taux de respect des délais d'animation des interventions | G19: ='Tableau de bord'!K26 -> 80
A21: Action(s) | B21: SEM | C21: GPMSA | D21: MBA
A22: Année n
B23: Taux de réalisation des interventions prévues | G23: ='Tableau de bord'!K27 -> 80
A25: Action(s) | B25: SEM | C25: GPMSA | D25: MBA
A26: Année n
B27: Taux de présence des personnes prévues | G27: ='Tableau de bord'!K27 -> 80
A29: Action(s) | B29: SEM | C29: GPMSA | D29: MBA
A30: Année n
B31: Taux de personnes visées au sein du public présent | G31: ='Tableau de bord'!K29 -> 50
A33: Action(s) | B33: SEM | C33: GPMSA | D33: MBA
A34: Année n
B35: Existence d'au moins un indicateur pour chaque objectif | G35: ='Tableau de bord'!K36 -> 100
A37: Action(s) | B37: SEM | C37: GPMSA | D37: MBA
A38: Année n
B39: Taux de respect du FO17 indicateurs d'évaluation | G39: ='Tableau de bord'!K37 -> 80
A41: Action(s) | B41: SEM | C41: GPMSA | D41: MBA
A42: Année n
B43: Taux de retour des supports d'évaluation par rapport aux personnes sensibilisées | G43: ='Tableau de bord'!K38 -> 50
A45: Action(s) | B45: SEM | C45: GPMSA | D45: MBA
A46: Année n
B47: Taux de supports d'évaluation exploitables | G47: ='Tableau de bord'!K39 -> 80
A49: Action(s) | B49: SEM | C49: GPMSA | D49: MBA
A50: Année n
B51: Taux fonctionnel de matériels prévus pour chaque action au démarrage de l'animation | G51: ='Tableau de bord'!K46 -> 100
A53: Action(s) | B53: SEM | C53: GPMSA | D53: MBA
A54: Année n
B55: Taux de respect de présence des plans de communication | G55: ='Tableau de bord'!K48 -> 100
A57: Action(s) | B57: SEM | C57: GPMSA | D57: MBA
A58: Année n
B59: Taux de respect des plans de communication | G59: ='Tableau de bord'!K49 -> 80
A61: Action(s) | B61: SEM | C61: GPMSA | D61: MBA
A62: Année n
B63: Taux de moyens de communication sélectionnés dans les questionnaires d'évaluation par rapport aux moyens de communication mis en place | G63: ='Tableau de bord'!K50 -> 70
A65: Action(s) | B65: SEM | C65: GPMSA | D65: MBA
A66: Année n
B67: Taux d'action conçue aboutie | G67: ='Tableau de bord'!K18 -> 80
A69: Action(s) | B69: SEM | C69: GPMSA | D69: MBA
A70: Année n
B71: Taux d'outils de communication diffusés | G71: ='Tableau de bord'!K23 -> 80
A73: Action(s) | B73: SEM | C73: GPMSA | D73: MBA
A74: Année n
B75: Taux d'outils d'évaluation créés | G75: ='Tableau de bord'!K24 -> 100
A77: Action(s) | B77: SEM | C77: GPMSA | D77: MBA
A78: Année n
B79: Taux de devis, conventions, contrats validés des parties avant l'intervention | G79: ='Tableau de bord'!K20 -> 100
A81: Année
B82: Taux de prestataires/partenaires qui se sont vus confirmer leur intervention | G82: ='Tableau de bord'!K22 -> 100
A84: Année
B85: Taux d'achats matériels conformes | G85: ='Tableau de bord'!K40 -> 90
A87: Année
B88: Taux d'achats prestations conformes | G88: ='Tableau de bord'!K41 -> 90
A90: Année
B91: Autonomie ressentie | G91: ='Tableau de bord'!K44 -> 7
A93: Année

Sheet Camille
B1: Indicateurs | G1: Objectifs fixés année n
B3: Taux d'atteinte des objectifs spécifiques et opérationnels de chacune des actions | G3: ='Tableau de bord'!K8 -> 80
A5: Action(s) | B5: FEES | C5: BA | D5: GPMSE
A6: Année n
B7: Taux de respect du calendrier des jalons | G7: ='Tableau de bord'!K19 -> 80
A9: Action(s) | B9: FEES | C9: BA | D9: GPMSE
A10: Année n
B11: Taux de respect du budget prévisionnel de l'action | G11: ='Tableau de bord'!K21 -> 100
A13: Action(s) | B13: FEES | C13: BA | D13: GPMSE
A14: Année n
B15: Taux de respect des délais de préparation | G15: ='Tableau de bord'!K25 -> 80
A17: Action(s) | B17: FEES | C17: BA | D17: GPMSE
A18: Année n
B19: Taux de respect des délais d'animation des interventions | G19: ='Tableau de bord'!K26 -> 80
A21: Action(s) | B21: FEES | C21: BA | D21: GPMSE
A22: Année n
B23: Taux de réalisation des interventions prévues | G23: ='Tableau de bord'!K27 -> 80
A25: Action(s) | B25: FEES | C25: BA | D25: GPMSE
A26: Année n
B27: Taux de présence des personnes prévues | G27: ='Tableau de bord'!K27 -> 80
A29: Action(s) | B29: FEES | C29: BA | D29: GPMSE
A30: Année n
B31: Taux de personnes visées au sein du public présent | G31: ='Tableau de bord'!K29 -> 50
A33: Action(s) | B33: FEES | C33: BA | D33: GPMSE
A34: Année n
B35: Existence d'au moins un indicateur pour chaque objectif | G35: ='Tableau de bord'!K36 -> 100
A37: Action(s) | B37: FEES | C37: BA | D37: GPMSE
A38: Année n
B39: Taux de respect du FO17 indicateurs d'évaluation | G39: ='Tableau de bord'!K37 -> 80
A41: Action(s) | B41: FEES | C41: BA | D41: GPMSE
A42: Année n
B43: Taux de retour des supports d'évaluation par rapport aux personnes sensibilisées | G43: ='Tableau de bord'!K38 -> 50
A45: Action(s) | B45: FEES | C45: BA | D45: GPMSE
A46: Année n
B47: Taux de supports d'évaluation exploitables | G47: ='Tableau de bord'!K39 -> 80
A49: Action(s) | B49: FEES | C49: BA | D49: GPMSE
A50: Année n
B51: Taux fonctionnel de matériels prévus pour chaque action au démarrage de l'animation | G51: ='Tableau de bord'!K46 -> 100
A53: Action(s) | B53: FEES | C53: BA | D53: GPMSE
A54: Année n
B55: Taux de respect de présence des plans de communication | G55: ='Tableau de bord'!K48 -> 100
A57: Action(s) | B57: FEES | C57: BA | D57: GPMSE
A58: Année n
B59: Taux de respect des plans de communication | G59: ='Tableau de bord'!K49 -> 80
A61: Action(s) | B61: FEES | C61: BA | D61: GPMSE
A62: Année n
B63: Taux de moyens de communication sélectionnés dans les questionnaires d'évaluation par rapport aux moyens de communication mis en place | G63: ='Tableau de bord'!K50 -> 70
A65: Action(s) | B65: FEES | C65: BA | D65: GPMSE
A66: Année n
B67: Taux d'action conçue aboutie | G67: ='Tableau de bord'!K18 -> 80
A69: Action(s) | B69: FEES | C69: BA | D69: GPMSE
A70: Année n
B71: Taux d'outils de communication diffusés | G71: ='Tableau de bord'!K23 -> 80
A73: Action(s) | B73: FEES | C73: BA | D73: GPMSE
A74: Année n
B75: Taux d'outils d'évaluation créés | G75: ='Tableau de bord'!K24 -> 100
A77: Action(s) | B77: FEES | C77: BA | D77: GPMSE
A78: Année n
B79: Taux de devis, conventions, contrats validés des parties avant l'intervention | G79: ='Tableau de bord'!K20 -> 100
A81: Année
B82: Taux de prestataires/partenaires qui se sont vus confirmer leur intervention | G82: ='Tableau de bord'!K22 -> 100
A84: Année
B85: Taux d'achats matériels conformes | G85: ='Tableau de bord'!K40 -> 90
A87: Année
B88: Taux d'achats prestations conformes | G88: ='Tableau de bord'!K41 -> 90
A90: Année
B91: Autonomie ressentie | G91: ='Tableau de bord'!K44 -> 7
A93: Année

Sheet Emmie
B1: Indicateurs | G1: Objectifs fixés année n
B3: Taux d'atteinte des objectifs spécifiques et opérationnels de chacune des actions | G3: ='Tableau de bord'!K8 -> 80
A5: Action(s) | B5: NAD | C5: POWER | D5: DEP | E5: VPDL
A6: Année n
B7: Taux de respect du calendrier des jalons | G7: ='Tableau de bord'!K19 -> 80
A9: Action(s) | B9: NAD | C9: POWER | D9: DEP | E9: VPDL
A10: Année n
B11: Taux de respect du budget prévisionnel de l'action | G11: ='Tableau de bord'!K21 -> 100
A13: Action(s) | B13: NAD | C13: POWER | D13: DEP | E13: VPDL
A14: Année n
B15: Taux de respect des délais de préparation | G15: ='Tableau de bord'!K25 -> 80
A17: Action(s) | B17: NAD | C17: POWER | D17: DEP | E17: VPDL
A18: Année n
B19: Taux de respect des délais d'animation des interventions | G19: ='Tableau de bord'!K26 -> 80
A21: Action(s) | B21: NAD | C21: POWER | D21: DEP | E21: VPDL
A22: Année n
B23: Taux de réalisation des interventions prévues | G23: ='Tableau de bord'!K27 -> 80
A25: Action(s) | B25: NAD | C25: POWER | D25: DEP | E25: VPDL
A26: Année n
B27: Taux de présence des personnes prévues | G27: ='Tableau de bord'!K27 -> 80
A29: Action(s) | B29: NAD | C29: POWER | D29: DEP | E29: VPDL
A30: Année n
B31: Taux de personnes visées au sein du public présent | G31: ='Tableau de bord'!K29 -> 50
A33: Action(s) | B33: NAD | C33: POWER | D33: DEP | E33: VPDL
A34: Année n
B35: Existence d'au moins un indicateur pour chaque objectif | G35: ='Tableau de bord'!K36 -> 100
A37: Action(s) | B37: NAD | C37: POWER | D37: DEP | E37: VPDL
A38: Année n
B39: Taux de respect du FO17 indicateurs d'évaluation | G39: ='Tableau de bord'!K37 -> 80
A41: Action(s) | B41: NAD | C41: POWER | D41: DEP | E41: VPDL
A42: Année n
B43: Taux de retour des supports d'évaluation par rapport aux personnes sensibilisées | G43: ='Tableau de bord'!K38 -> 50
A45: Action(s) | B45: NAD | C45: POWER | D45: DEP | E45: VPDL
A46: Année n
B47: Taux de supports d'évaluation exploitables | G47: ='Tableau de bord'!K39 -> 80
A49: Action(s) | B49: NAD | C49: POWER | D49: DEP | E49: VPDL
A50: Année n
B51: Taux fonctionnel de matériels prévus pour chaque action au démarrage de l'animation | G51: ='Tableau de bord'!K46 -> 100
A53: Action(s) | B53: NAD | C53: POWER | D53: DEP | E53: VPDL
A54: Année n
B55: Taux de respect de présence des plans de communication | G55: ='Tableau de bord'!K48 -> 100
A57: Action(s) | B57: NAD | C57: POWER | D57: DEP | E57: VPDL
A58: Année n
B59: Taux de respect des plans de communication | G59: ='Tableau de bord'!K49 -> 80
A61: Action(s) | B61: NAD | C61: POWER | D61: DEP | E61: VPDL
A62: Année n
B63: Taux de moyens de communication sélectionnés dans les questionnaires d'évaluation par rapport aux moyens de communication mis en place | G63: ='Tableau de bord'!K50 -> 70
A65: Action(s) | B65: NAD | C65: POWER | D65: DEP | E65: VPDL
A66: Année n
B67: Taux d'action conçue aboutie | G67: ='Tableau de bord'!K18 -> 80
A69: Action(s) | B69: NAD | C69: POWER | D69: DEP | E69: VPDL
A70: Année n
B71: Taux d'outils de communication diffusés | G71: ='Tableau de bord'!K23 -> 80
A73: Action(s) | B73: NAD | C73: POWER | D73: DEP | E73: VPDL
A74: Année n
B75: Taux d'outils d'évaluation créés | G75: ='Tableau de bord'!K24 -> 100
A77: Action(s) | B77: NAD | C77: POWER | D77: DEP | E77: VPDL
A78: Année n
B79: Taux de devis, conventions, contrats validés des parties avant l'intervention | G79: ='Tableau de bord'!K20 -> 100
A81: Année
B82: Taux de prestataires/partenaires qui se sont vus confirmer leur intervention | G82: ='Tableau de bord'!K22 -> 100
A84: Année
B85: Taux d'achats matériels conformes | G85: ='Tableau de bord'!K40 -> 90
A87: Année
B88: Taux d'achats prestations conformes | G88: ='Tableau de bord'!K41 -> 90
A90: Année
B91: Autonomie ressentie | G91: ='Tableau de bord'!K44 -> 7
A93: Année

Sheet Hélène A
B1: Indicateurs | G1: Objectifs fixés année n
B3: Taux d'atteinte des objectifs spécifiques et opérationnels de chacune des actions | G3: ='Tableau de bord'!K8 -> 80
A5: Action(s) | B5: 1001D | C5: CA | D5: JR
A6: Année n
B7: Taux de respect du calendrier des jalons | G7: ='Tableau de bord'!K19 -> 80
A9: Action(s) | B9: 1001D | C9: CA | D9: JR
A10: Année n
B11: Taux de respect du budget prévisionnel de l'action | G11: ='Tableau de bord'!K21 -> 100
A13: Action(s) | B13: 1001D | C13: CA | D13: JR
A14: Année n
B15: Taux de respect des délais de préparation | G15: ='Tableau de bord'!K25 -> 80
A17: Action(s) | B17: 1001D | C17: CA | D17: JR
A18: Année n
B19: Taux de respect des délais d'animation des interventions | G19: ='Tableau de bord'!K26 -> 80
A21: Action(s) | B21: 1001D | C21: CA | D21: JR
A22: Année n
B23: Taux de réalisation des interventions prévues | G23: ='Tableau de bord'!K27 -> 80
A25: Action(s) | B25: 1001D | C25: CA | D25: JR
A26: Année n
B27: Taux de présence des personnes prévues | G27: ='Tableau de bord'!K27 -> 80
A29: Action(s) | B29: 1001D | C29: CA | D29: JR
A30: Année n
B31: Taux de personnes visées au sein du public présent | G31: ='Tableau de bord'!K29 -> 50
A33: Action(s) | B33: 1001D | C33: CA | D33: JR
A34: Année n
B35: Existence d'au moins un indicateur pour chaque objectif | G35: ='Tableau de bord'!K36 -> 100
A37: Action(s) | B37: 1001D | C37: CA | D37: JR
A38: Année n
B39: Taux de respect du FO17 indicateurs d'évaluation | G39: ='Tableau de bord'!K37 -> 80
A41: Action(s) | B41: 1001D | C41: CA | D41: JR
A42: Année n
B43: Taux de retour des supports d'évaluation par rapport aux personnes sensibilisées | G43: ='Tableau de bord'!K38 -> 50
A45: Action(s) | B45: 1001D | C45: CA | D45: JR
A46: Année n
B47: Taux de supports d'évaluation exploitables | G47: ='Tableau de bord'!K39 -> 80
A49: Action(s) | B49: 1001D | C49: CA | D49: JR
A50: Année n
B51: Taux fonctionnel de matériels prévus pour chaque action au démarrage de l'animation | G51: ='Tableau de bord'!K46 -> 100
A53: Action(s) | B53: 1001D | C53: CA | D53: JR
A54: Année n
B55: Taux de respect de présence des plans de communication | G55: ='Tableau de bord'!K48 -> 100
A57: Action(s) | B57: 1001D | C57: CA | D57: JR
A58: Année n
B59: Taux de respect des plans de communication | G59: ='Tableau de bord'!K49 -> 80
A61: Action(s) | B61: 1001D | C61: CA | D61: JR
A62: Année n
B63: Taux de moyens de communication sélectionnés dans les questionnaires d'évaluation par rapport aux moyens de communication mis en place | G63: ='Tableau de bord'!K50 -> 70
A65: Action(s) | B65: 1001D | C65: CA | D65: JR
A66: Année n
B67: Taux d'action conçue aboutie | G67: ='Tableau de bord'!K18 -> 80
A69: Action(s) | B69: 1001D | C69: CA | D69: JR
A70: Année n
B71: Taux d'outils de communication diffusés | G71: ='Tableau de bord'!K23 -> 80
A73: Action(s) | B73: 1001D | C73: CA | D73: JR
A74: Année n
B75: Taux d'outils d'évaluation créés | G75: ='Tableau de bord'!K24 -> 100
A77: Action(s) | B77: 1001D | C77: CA | D77: JR
A78: Année n
B79: Taux de devis, conventions, contrats validés des parties avant l'intervention | G79: ='Tableau de bord'!K20 -> 100
A81: Année
B82: Taux de prestataires/partenaires qui se sont vus confirmer leur intervention | G82: ='Tableau de bord'!K22 -> 100
A84: Année
B85: Taux d'achats matériels conformes | G85: ='Tableau de bord'!K40 -> 90
A87: Année
B88: Taux d'achats prestations conformes | G88: ='Tableau de bord'!K41 -> 90
A90: Année
B91: Autonomie ressentie | G91: ='Tableau de bord'!K44 -> 7
A93: Année

Sheet Hélène P
B1: Indicateurs | G1: Objectifs fixés année n
B3: Taux d'atteinte des objectifs spécifiques et opérationnels de chacune des actions | G3: ='Tableau de bord'!K8 -> 80
A5: Action(s) | B5: SST | C5: CB
A6: Année n
B7: Taux de respect du calendrier des jalons | G7: ='Tableau de bord'!K19 -> 80
A9: Action(s) | B9: SST | C9: CB
A10: Année n
B11: Taux de respect du budget prévisionnel de l'action | G11: ='Tableau de bord'!K21 -> 100
A13: Action(s) | B13: SST | C13: CB
A14: Année n
B15: Taux de respect des délais de préparation | G15: ='Tableau de bord'!K25 -> 80
A17: Action(s) | B17: SST | C17: CB
A18: Année n
B19: Taux de respect des délais d'animation des interventions | G19: ='Tableau de bord'!K26 -> 80
A21: Action(s) | B21: SST | C21: CB
A22: Année n
B23: Taux de réalisation des interventions prévues | G23: ='Tableau de bord'!K27 -> 80
A25: Action(s) | B25: SST | C25: CB
A26: Année n
B27: Taux de présence des personnes prévues | G27: ='Tableau de bord'!K27 -> 80
A29: Action(s) | B29: SST | C29: CB
A30: Année n
B31: Taux de personnes visées au sein du public présent | G31: ='Tableau de bord'!K29 -> 50
A33: Action(s) | B33: SST | C33: CB
A34: Année n
B35: Existence d'au moins un indicateur pour chaque objectif | G35: ='Tableau de bord'!K36 -> 100
A37: Action(s) | B37: SST | C37: CB
A38: Année n
B39: Taux de respect du FO17 indicateurs d'évaluation | G39: ='Tableau de bord'!K37 -> 80
A41: Action(s) | B41: SST | C41: CB
A42: Année n
B43: Taux de retour des supports d'évaluation par rapport aux personnes sensibilisées | G43: ='Tableau de bord'!K38 -> 50
A45: Action(s) | B45: SST | C45: CB
A46: Année n
B47: Taux de supports d'évaluation exploitables | G47: ='Tableau de bord'!K39 -> 80
A49: Action(s) | B49: SST | C49: CB
A50: Année n
B51: Taux fonctionnel de matériels prévus pour chaque action au démarrage de l'animation | G51: ='Tableau de bord'!K46 -> 100
A53: Action(s) | B53: SST | C53: CB
A54: Année n
B55: Taux de respect de présence des plans de communication | G55: ='Tableau de bord'!K48 -> 100
A57: Action(s) | B57: SST | C57: CB
A58: Année n
B59: Taux de respect des plans de communication | G59: ='Tableau de bord'!K49 -> 80
A61: Action(s) | B61: SST | C61: CB
A62: Année n
B63: Taux de moyens de communication sélectionnés dans les questionnaires d'évaluation par rapport aux moyens de communication mis en place | G63: ='Tableau de bord'!K50 -> 70
A65: Action(s) | B65: SST | C65: CB
A66: Année n
B67: Taux d'action conçue aboutie | G67: ='Tableau de bord'!K18 -> 80
A69: Action(s) | B69: SST | C69: CB
A70: Année n
B71: Taux d'outils de communication diffusés | G71: ='Tableau de bord'!K23 -> 80
A73: Action(s) | B73: SST | C73: CB
A74: Année n
B75: Taux d'outils d'évaluation créés | G75: ='Tableau de bord'!K24 -> 100
A77: Action(s) | B77: SST | C77: CB
A78: Année n
B79: Taux de devis, conventions, contrats validés des parties avant l'intervention | G79: ='Tableau de bord'!K20 -> 100
A81: Année
B82: Taux de prestataires/partenaires qui se sont vus confirmer leur intervention | G82: ='Tableau de bord'!K22 -> 100
A84: Année
B85: Taux d'achats matériels conformes | G85: ='Tableau de bord'!K40 -> 90
A87: Année
B88: Taux d'achats prestations conformes | G88: ='Tableau de bord'!K41 -> 90
A90: Année
B91: Autonomie ressentie | G91: ='Tableau de bord'!K44 -> 7
A93: Année

Sheet Sonia
B1: Indicateurs | G1: Objectifs fixés année n
B3: Taux d'atteinte des objectifs spécifiques et opérationnels de chacune des actions | G3: ='Tableau de bord'!K8 -> 80
A5: Action(s) | B5: DMS | C5: MBF
A6: Année n
B7: Taux de respect du calendrier des jalons | G7: ='Tableau de bord'!K19 -> 80
A9: Action(s) | B9: DMS | C9: MBF
A10: Année n
B11: Taux de respect du budget prévisionnel de l'action | G11: ='Tableau de bord'!K21 -> 100
A13: Action(s) | B13: DMS | C13: MBF
A14: Année n
B15: Taux de respect des délais de préparation | G15: ='Tableau de bord'!K25 -> 80
A17: Action(s) | B17: DMS | C17: MBF
A18: Année n
B19: Taux de respect des délais d'animation des interventions | G19: ='Tableau de bord'!K26 -> 80
A21: Action(s) | B21: DMS | C21: MBF
A22: Année n
B23: Taux de réalisation des interventions prévues | G23: ='Tableau de bord'!K27 -> 80
A25: Action(s) | B25: DMS | C25: MBF
A26: Année n
B27: Taux de présence des personnes prévues | G27: ='Tableau de bord'!K27 -> 80
A29: Action(s) | B29: DMS | C29: MBF
A30: Année n
B31: Taux de personnes visées au sein du public présent | G31: ='Tableau de bord'!K29 -> 50
A33: Action(s) | B33: DMS | C33: MBF
A34: Année n
B35: Existence d'au moins un indicateur pour chaque objectif | G35: ='Tableau de bord'!K36 -> 100
A37: Action(s) | B37: DMS | C37: MBF
A38: Année n
B39: Taux de respect du FO17 indicateurs d'évaluation | G39: ='Tableau de bord'!K37 -> 80
A41: Action(s) | B41: DMS | C41: MBF
A42: Année n
B43: Taux de retour des supports d'évaluation par rapport aux personnes sensibilisées | G43: ='Tableau de bord'!K38 -> 50
A45: Action(s) | B45: DMS | C45: MBF
A46: Année n
B47: Taux de supports d'évaluation exploitables | G47: ='Tableau de bord'!K39 -> 80
A49: Action(s) | B49: DMS | C49: MBF
A50: Année n
B51: Taux fonctionnel de matériels prévus pour chaque action au démarrage de l'animation | G51: ='Tableau de bord'!K46 -> 100
A53: Action(s) | B53: DMS | C53: MBF
A54: Année n
B55: Taux de respect de présence des plans de communication | G55: ='Tableau de bord'!K48 -> 100
A57: Action(s) | B57: DMS | C57: MBF
A58: Année n
B59: Taux de respect des plans de communication | G59: ='Tableau de bord'!K49 -> 80
A61: Action(s) | B61: DMS | C61: MBF
A62: Année n
B63: Taux de moyens de communication sélectionnés dans les questionnaires d'évaluation par rapport aux moyens de communication mis en place | G63: ='Tableau de bord'!K50 -> 70
A65: Action(s) | B65: DMS | C65: MBF
A66: Année n
B67: Taux d'action conçue aboutie | G67: ='Tableau de bord'!K18 -> 80
A69: Action(s) | B69: DMS | C69: MBF
A70: Année n
B71: Taux d'outils de communication diffusés | G71: ='Tableau de bord'!K23 -> 80
A73: Action(s) | B73: DMS | C73: MBF
A74: Année n
B75: Taux d'outils d'évaluation créés | G75: ='Tableau de bord'!K24 -> 100
A77: Action(s) | B77: DMS | C77: MBF
A78: Année n
B79: Taux de devis, conventions, contrats validés des parties avant l'intervention | G79: ='Tableau de bord'!K20 -> 100
A81: Année
B82: Taux de prestataires/partenaires qui se sont vus confirmer leur intervention | G82: ='Tableau de bord'!K22 -> 100
A84: Année
B85: Taux d'achats matériels conformes | G85: ='Tableau de bord'!K40 -> 90
A87: Année
B88: Taux d'achats prestations conformes | G88: ='Tableau de bord'!K41 -> 90
A90: Année
B91: Autonomie ressentie | G91: ='Tableau de bord'!K44 -> 7
A93: Année
