Workbook

Sheet Feuil1
A1: Personnage | B1: Engagement | C1: Date | D1: test
A2: MAAN WINNIAMM | B2: 8 | C2: 03/01/17 18:23:45 | D2: =SUMPRODUCT((ISNUMBER(SEARCH(Feuil2!$A$2:$A$61,Feuil1!A2)))*1) -> 1
A3: TIYGNAM W. JIYMA | B3: 6 | C3: 03/01/17 13:46:31 | D3: =SUMPRODUCT((ISNUMBER(SEARCH(Feuil2!$A$2:$A$61,Feuil1!A3)))*1) -> 1 | F3: ici une fois la formule de la colonne D mise sur la totalité des lignes
A4: MITNAY FIIN, MAAN WINNIAMM | B4: 0 | C4: 26/01/17 21:27:34 | D4: =SUMPRODUCT((ISNUMBER(SEARCH(Feuil2!$A$2:$A$61,Feuil1!A4)))*1) -> 1 | F4: il suffit de filtrer sur 0 et ensuite on sélectionne toutes les lignes filtrées et supprimée
A5: NIAN RANTAWIFJ | B5: 3 | C5: 06/01/17 21:01:51 | D5: =SUMPRODUCT((ISNUMBER(SEARCH(Feuil2!$A$2:$A$61,Feuil1!A5)))*1) -> 1 | F5: il ne restera que les ligne qui on au moins une valeur commune avec les noms de la feuille 2
A6: MAAN WINNIAMM | B6: 38 | C6: 28/01/17 02:43:55 | D6: =SUMPRODUCT((ISNUMBER(SEARCH(Feuil2!$A$2:$A$61,Feuil1!A6)))*1) -> 1
A7: ANNIMIN GATNIN | B7: 29 | C7: 06/01/17 21:02:57 | D7: =SUMPRODUCT((ISNUMBER(SEARCH(Feuil2!$A$2:$A$61,Feuil1!A7)))*1) -> 1
A8: MPANFAR IMVIRNA | B8: 46 | C8: 27/01/17 23:40:08 | D8: =SUMPRODUCT((ISNUMBER(SEARCH(Feuil2!$A$2:$A$61,Feuil1!A8)))*1) -> 1
A9: ANNIMIN GATNIN | B9: 1 | C9: 25/01/17 18:20:29 | D9: =SUMPRODUCT((ISNUMBER(SEARCH(Feuil2!$A$2:$A$61,Feuil1!A9)))*1) -> 1
A10: FIRY RANAYAR | B10: 14 | C10: 09/01/17 14:59:56 | D10: =SUMPRODUCT((ISNUMBER(SEARCH(Feuil2!$A$2:$A$61,Feuil1!A10)))*1) -> 1
A11: MITNAY FIIN, GAIRGA VYTWANN | B11: 0 | C11: 10/01/17 21:28:18 | D11: =SUMPRODUCT((ISNUMBER(SEARCH(Feuil2!$A$2:$A$61,Feuil1!A11)))*1) -> 0
A12: TIYGNAM W. JIYMA | B12: 7 | C12: 09/02/17 13:50:32 | D12: =SUMPRODUCT((ISNUMBER(SEARCH(Feuil2!$A$2:$A$61,Feuil1!A12)))*1) -> 1
A13: FIRY RANAYAR | B13: 7 | C13: 27/02/17 23:18:25 | D13: =SUMPRODUCT((ISNUMBER(SEARCH(Feuil2!$A$2:$A$61,Feuil1!A13)))*1) -> 1
A14: TITT FAMPVANN | B14: 0 | C14: 03/02/17 19:12:27 | D14: =SUMPRODUCT((ISNUMBER(SEARCH(Feuil2!$A$2:$A$61,Feuil1!A14)))*1) -> 1
A15: NIKJIN MYVVA, VRANTAN PIARMIN, VINN VARKRIT, RAYTARM | B15: 38 | C15: 06/01/17 17:17:08 | D15: =SUMPRODUCT((ISNUMBER(SEARCH(Feuil2!$A$2:$A$61,Feuil1!A15)))*1) -> 2
A16: MITNAY FIIN, VRIAN IRANNI | B16: 0 | C16: 25/02/17 17:55:28 | D16: =SUMPRODUCT((ISNUMBER(SEARCH(Feuil2!$A$2:$A$61,Feuil1!A16)))*1) -> 1
A17: ANNIMIN GATNIN | B17: 10 | C17: 08/02/17 23:21:37 | D17: =SUMPRODUCT((ISNUMBER(SEARCH(Feuil2!$A$2:$A$61,Feuil1!A17)))*1) -> 1
... A2513: KAITJ MPAIGJTM | B2513: 24 | C2513: 28/06/17 22:30:41 | D2513: =SUMPRODUCT((ISNUMBER(SEARCH(Feuil2!$A$2:$A$61,Feuil1!A2513)))*1) -> 1

Sheet Feuil2
A1: Personnage | B1: Total | C1: Total engagement | D1: Average engagement
A2: ANNIMIN GATNIN | B2: 50 | C2: 997 | D2: 19.94 | F2: =A2="MAAN WINNIAMM" -> FALSE
A3: ANTINII JIMÃ‰ VIANMA | B3: 12 | C3: 270 | D3: 22.5 | F3: =A3="MAAN WINNIAMM" -> FALSE
A4: ANYA GAIRGA TJARAKAN | B4: 14 | C4: 212 | D4: 15.142857 | F4: =A4="MAAN WINNIAMM" -> FALSE
A5: VAN JIRMFJNAR | B5: 173 | C5: 2677 | D5: 15.473988 | F5: =A5="MAAN WINNIAMM" -> FALSE
A6: VINN VARKRIT | B6: 116 | C6: 4100 | D6: 35.344828 | F6: =A6="MAAN WINNIAMM" -> FALSE
A7: VRANTAN PIARMIN | B7: 51 | C7: 1862 | D7: 36.509804 | F7: =A7="MAAN WINNIAMM" -> FALSE
A8: VRAT JANMAN | B8: 16 | C8: 891 | D8: 55.6875 | F8: =A8="MAAN WINNIAMM" -> FALSE
A9: VRIAN FARINTI | B9: 43 | C9: 760 | D9: 17.674419 | F9: =A9="MAAN WINNIAMM" -> FALSE
A10: VRIAN FNIIT | B10: 10 | C10: 1181 | D10: 118.1 | F10: =A10="MAAN WINNIAMM" -> FALSE
A11: VRIAN IRANNI | B11: 28 | C11: 359 | D11: 12.821429 | F11: =A11="MAAN WINNIAMM" -> FALSE
A12: FARININA JYMAR | B12: 20 | C12: 215 | D12: 10.75 | F12: =A12="MAAN WINNIAMM" -> FALSE
A13: FJRIMTINA FARR | B13: 14 | C13: 5530 | D13: 395 | F13: =A13="MAAN WINNIAMM" -> FALSE
... A61: TITT FAMPVANN | B61: 54 | C61: 986 | D61: 18.259259 | F61: =A61="MAAN WINNIAMM" -> FALSE
