Workbook

Sheet TABLE COMMANDE
A1: order_number | B1: delivery_company | C1: delivery_name | D1: Address2 | E1: delivery_street_address | F1: delivery_postcode | G1: delivery_city | H1: delivery_country | I1: gtin | J1: products_name | K1: number_of_units | L1: Tracking Number | M1: Material | N1: EN Material Description | O1: UN EAN/UPC | P1: UN Gross Weight | Q1: Net Weight | R1: Comm./imp. code no. | S1: Country of origin | T1: Moving price | U1: UN Number | V1: CN Description
A2: LXB1C0000001 | C2: Client 1 | E2: HOCHBÜHLWEG 1 | F2: 3018 | G2: Bern | H2: CH | I2: 3205970880010 | J2: Produit 1 | K2: 1 | L2: 1Z2AW6506840458830 | M2: =IFERROR(VLOOKUP($I2,'MASTER DATA SAP'!$C:$K,8,FALSE),"-") -> S1783500 | N2: =IFERROR(VLOOKUP($I2,'MASTER DATA SAP'!$C:$K,9,FALSE),"-") -> Produit 1 | O2: =IFERROR(VLOOKUP($I2,'MASTER DATA SAP'!$C:$K,1,FALSE),"-") -> 3205970880010 | P2: =IFERROR(VLOOKUP($I2,'MASTER DATA SAP'!$C:$K,2,FALSE),"-") -> 15.592 | Q2: =IFERROR(VLOOKUP($I2,'MASTER DATA SAP'!$C:$K,3,FALSE),"-") -> 15.592 | R2: =IFERROR(VLOOKUP($I2,'MASTER DATA SAP'!$C:$K,4,FALSE),"-") -> 39269092 | S2: =IFERROR(VLOOKUP($I2,'MASTER DATA SAP'!$C:$K,5,FALSE),"-") -> CN | T2: =IFERROR(VLOOKUP($I2,'MASTER DATA SAP'!$C:$K,6,FALSE),"-") -> 8.99 | U2: =IFERROR(VLOOKUP($I2,'MASTER DATA SAP'!$C:$K,7,FALSE),"-") | V2: =IFERROR(VLOOKUP(VALUE(R2),#REF!,2,FALSE),"-") -> -
A3: LXB1C0000001 | C3: Client 1 | E3: HOCHBÜHLWEG 1 | F3: 3018 | G3: Bern | H3: CH | I3: 3205970880011 | J3: Produit 2 | K3: 1 | L3: 1Z2AW6506840458830 | M3: =IFERROR(VLOOKUP($I3,'MASTER DATA SAP'!$C:$K,8,FALSE),"-") -> S4119900 | N3: =IFERROR(VLOOKUP($I3,'MASTER DATA SAP'!$C:$K,9,FALSE),"-") -> Produit 2 | O3: =IFERROR(VLOOKUP($I3,'MASTER DATA SAP'!$C:$K,1,FALSE),"-") -> 3205970880011 | P3: =IFERROR(VLOOKUP($I3,'MASTER DATA SAP'!$C:$K,2,FALSE),"-") -> 197.596 | Q3: =IFERROR(VLOOKUP($I3,'MASTER DATA SAP'!$C:$K,3,FALSE),"-") -> 1 | R3: =IFERROR(VLOOKUP($I3,'MASTER DATA SAP'!$C:$K,4,FALSE),"-") -> 48172000 | S3: =IFERROR(VLOOKUP($I3,'MASTER DATA SAP'!$C:$K,5,FALSE),"-") -> US | T3: =IFERROR(VLOOKUP($I3,'MASTER DATA SAP'!$C:$K,6,FALSE),"-") -> 3.09 | U3: =IFERROR(VLOOKUP($I3,'MASTER DATA SAP'!$C:$K,7,FALSE),"-") | V3: =IFERROR(VLOOKUP(VALUE(R3),#REF!,2,FALSE),"-") -> -
A4: LXB1C0000001 | C4: Client 1 | E4: HOCHBÜHLWEG 1 | F4: 3018 | G4: Bern | H4: CH | I4: 3205970880012 | J4: Produit 3 | K4: 1 | L4: 1Z2AW6506840458830 | M4: =IFERROR(VLOOKUP($I4,'MASTER DATA SAP'!$C:$K,8,FALSE),"-") -> S1791700 | N4: =IFERROR(VLOOKUP($I4,'MASTER DATA SAP'!$C:$K,9,FALSE),"-") -> Produit 3 | O4: =IFERROR(VLOOKUP($I4,'MASTER DATA SAP'!$C:$K,1,FALSE),"-") -> 3205970880012 | P4: =IFERROR(VLOOKUP($I4,'MASTER DATA SAP'!$C:$K,2,FALSE),"-") -> 19 | Q4: =IFERROR(VLOOKUP($I4,'MASTER DATA SAP'!$C:$K,3,FALSE),"-") -> 18.427 | R4: =IFERROR(VLOOKUP($I4,'MASTER DATA SAP'!$C:$K,4,FALSE),"-") -> 33042000 | S4: =IFERROR(VLOOKUP($I4,'MASTER DATA SAP'!$C:$K,5,FALSE),"-") -> CA | T4: =IFERROR(VLOOKUP($I4,'MASTER DATA SAP'!$C:$K,6,FALSE),"-") -> 6.18 | U4: =IFERROR(VLOOKUP($I4,'MASTER DATA SAP'!$C:$K,7,FALSE),"-") | V4: =IFERROR(VLOOKUP(VALUE(R4),#REF!,2,FALSE),"-") -> -
A5: LXB1C0000001 | C5: Client 1 | E5: HOCHBÜHLWEG 1 | F5: 3018 | G5: Bern | H5: CH | I5: 3205970880013 | J5: Produit 4 | K5: 2 | L5: 1Z2AW6506840458830 | M5: =IFERROR(VLOOKUP($I5,'MASTER DATA SAP'!$C:$K,8,FALSE),"-") -> S1791800 | N5: =IFERROR(VLOOKUP($I5,'MASTER DATA SAP'!$C:$K,9,FALSE),"-") -> Produit 4 | O5: =IFERROR(VLOOKUP($I5,'MASTER DATA SAP'!$C:$K,1,FALSE),"-") -> 3205970880013 | P5: =IFERROR(VLOOKUP($I5,'MASTER DATA SAP'!$C:$K,2,FALSE),"-") -> 19 | Q5: =IFERROR(VLOOKUP($I5,'MASTER DATA SAP'!$C:$K,3,FALSE),"-") -> 18.427 | R5: =IFERROR(VLOOKUP($I5,'MASTER DATA SAP'!$C:$K,4,FALSE),"-") -> 33042000 | S5: =IFERROR(VLOOKUP($I5,'MASTER DATA SAP'!$C:$K,5,FALSE),"-") -> CA | T5: =IFERROR(VLOOKUP($I5,'MASTER DATA SAP'!$C:$K,6,FALSE),"-") -> 5.54 | U5: =IFERROR(VLOOKUP($I5,'MASTER DATA SAP'!$C:$K,7,FALSE),"-") | V5: =IFERROR(VLOOKUP(VALUE(R5),#REF!,2,FALSE),"-") -> -
A6: LXB1C0000008 | C6: Client 2 | E6: IN DER SCHAPPE 4 | F6: 4144 | G6: Arlesheim | H6: CH | I6: 3205970880014 | J6: Produit 5 | K6: 1Z2AW6506840079760 | L6: 1Z2AW6506840079760 | M6: =IFERROR(VLOOKUP($I6,'MASTER DATA SAP'!$C:$K,8,FALSE),"-") -> S1791900 | N6: =IFERROR(VLOOKUP($I6,'MASTER DATA SAP'!$C:$K,9,FALSE),"-") -> Produit 5 | O6: =IFERROR(VLOOKUP($I6,'MASTER DATA SAP'!$C:$K,1,FALSE),"-") -> 3205970880014 | P6: =IFERROR(VLOOKUP($I6,'MASTER DATA SAP'!$C:$K,2,FALSE),"-") -> 19 | Q6: =IFERROR(VLOOKUP($I6,'MASTER DATA SAP'!$C:$K,3,FALSE),"-") -> 1.5 | R6: =IFERROR(VLOOKUP($I6,'MASTER DATA SAP'!$C:$K,4,FALSE),"-") -> 33042000 | S6: =IFERROR(VLOOKUP($I6,'MASTER DATA SAP'!$C:$K,5,FALSE),"-") -> CA | T6: =IFERROR(VLOOKUP($I6,'MASTER DATA SAP'!$C:$K,6,FALSE),"-") -> 4.6 | U6: =IFERROR(VLOOKUP($I6,'MASTER DATA SAP'!$C:$K,7,FALSE),"-") | V6: =IFERROR(VLOOKUP(VALUE(R6),#REF!,2,FALSE),"-") -> -
A7: LXB1C0000008 | C7: Client 2 | E7: IN DER SCHAPPE 4 | F7: 4144 | G7: Arlesheim | H7: CH | I7: 3205970880015 | J7: Produit 6 | K7: 1Z2AW6506840079760 | L7: 1Z2AW6506840079760 | M7: =IFERROR(VLOOKUP($I7,'MASTER DATA SAP'!$C:$K,8,FALSE),"-") -> S1792000 | N7: =IFERROR(VLOOKUP($I7,'MASTER DATA SAP'!$C:$K,9,FALSE),"-") -> Produit 6 | O7: =IFERROR(VLOOKUP($I7,'MASTER DATA SAP'!$C:$K,1,FALSE),"-") -> 3205970880015 | P7: =IFERROR(VLOOKUP($I7,'MASTER DATA SAP'!$C:$K,2,FALSE),"-") -> 19 | Q7: =IFERROR(VLOOKUP($I7,'MASTER DATA SAP'!$C:$K,3,FALSE),"-") -> 1.5 | R7: =IFERROR(VLOOKUP($I7,'MASTER DATA SAP'!$C:$K,4,FALSE),"-") -> 33042000 | S7: =IFERROR(VLOOKUP($I7,'MASTER DATA SAP'!$C:$K,5,FALSE),"-") -> CA | T7: =IFERROR(VLOOKUP($I7,'MASTER DATA SAP'!$C:$K,6,FALSE),"-") -> 4.39 | U7: =IFERROR(VLOOKUP($I7,'MASTER DATA SAP'!$C:$K,7,FALSE),"-") | V7: =IFERROR(VLOOKUP(VALUE(R7),#REF!,2,FALSE),"-") -> -
A8: LXB1C0000008 | C8: Client 2 | E8: IN DER SCHAPPE 4 | F8: 4144 | G8: Arlesheim | H8: CH | I8: 3205970880016 | J8: Produit 7 | K8: 1Z2AW6506840079760 | L8: 1Z2AW6506840079760 | M8: =IFERROR(VLOOKUP($I8,'MASTER DATA SAP'!$C:$K,8,FALSE),"-") -> S1792500 | N8: =IFERROR(VLOOKUP($I8,'MASTER DATA SAP'!$C:$K,9,FALSE),"-") -> Produit 7 | O8: =IFERROR(VLOOKUP($I8,'MASTER DATA SAP'!$C:$K,1,FALSE),"-") -> 3205970880016 | P8: =IFERROR(VLOOKUP($I8,'MASTER DATA SAP'!$C:$K,2,FALSE),"-") -> 108.4 | Q8: =IFERROR(VLOOKUP($I8,'MASTER DATA SAP'!$C:$K,3,FALSE),"-") -> 109.146 | R8: =IFERROR(VLOOKUP($I8,'MASTER DATA SAP'!$C:$K,4,FALSE),"-") -> 33042000 | S8: =IFERROR(VLOOKUP($I8,'MASTER DATA SAP'!$C:$K,5,FALSE),"-") -> US | T8: =IFERROR(VLOOKUP($I8,'MASTER DATA SAP'!$C:$K,6,FALSE),"-") -> 3.76 | U8: =IFERROR(VLOOKUP($I8,'MASTER DATA SAP'!$C:$K,7,FALSE),"-") | V8: =IFERROR(VLOOKUP(VALUE(R8),#REF!,2,FALSE),"-") -> -
A9: LXB1C0000008 | C9: Client 2 | E9: IN DER SCHAPPE 4 | F9: 4144 | G9: Arlesheim | H9: CH | I9: 3205970880017 | J9: Produit 8 | K9: 1Z2AW6506840079760 | L9: 1Z2AW6506840079760 | M9: =IFERROR(VLOOKUP($I9,'MASTER DATA SAP'!$C:$K,8,FALSE),"-") -> S1797600 | N9: =IFERROR(VLOOKUP($I9,'MASTER DATA SAP'!$C:$K,9,FALSE),"-") -> Produit 8 | O9: =IFERROR(VLOOKUP($I9,'MASTER DATA SAP'!$C:$K,1,FALSE),"-") -> 3205970880017 | P9: =IFERROR(VLOOKUP($I9,'MASTER DATA SAP'!$C:$K,2,FALSE),"-") -> 16 | Q9: =IFERROR(VLOOKUP($I9,'MASTER DATA SAP'!$C:$K,3,FALSE),"-") -> 5 | R9: =IFERROR(VLOOKUP($I9,'MASTER DATA SAP'!$C:$K,4,FALSE),"-") -> 33042000 | S9: =IFERROR(VLOOKUP($I9,'MASTER DATA SAP'!$C:$K,5,FALSE),"-") -> IT | T9: =IFERROR(VLOOKUP($I9,'MASTER DATA SAP'!$C:$K,6,FALSE),"-") -> 2.17 | U9: =IFERROR(VLOOKUP($I9,'MASTER DATA SAP'!$C:$K,7,FALSE),"-") | V9: =IFERROR(VLOOKUP(VALUE(R9),#REF!,2,FALSE),"-") -> -
A10: LXB1C0000008 | C10: Client 2 | E10: IN DER SCHAPPE 4 | F10: 4144 | G10: Arlesheim | H10: CH | I10: 3205970880018 | J10: Produit 9 | K10: 1Z2AW6506840079760 | L10: 1Z2AW6506840079760 | M10: =IFERROR(VLOOKUP($I10,'MASTER DATA SAP'!$C:$K,8,FALSE),"-") -> S1817900 | N10: =IFERROR(VLOOKUP($I10,'MASTER DATA SAP'!$C:$K,9,FALSE),"-") -> Produit 9 | O10: =IFERROR(VLOOKUP($I10,'MASTER DATA SAP'!$C:$K,1,FALSE),"-") -> 3205970880018 | P10: =IFERROR(VLOOKUP($I10,'MASTER DATA SAP'!$C:$K,2,FALSE),"-") -> 94 | Q10: =IFERROR(VLOOKUP($I10,'MASTER DATA SAP'!$C:$K,3,FALSE),"-") -> 9 | R10: =IFERROR(VLOOKUP($I10,'MASTER DATA SAP'!$C:$K,4,FALSE),"-") -> 33049100 | S10: =IFERROR(VLOOKUP($I10,'MASTER DATA SAP'!$C:$K,5,FALSE),"-") -> IT | T10: =IFERROR(VLOOKUP($I10,'MASTER DATA SAP'!$C:$K,6,FALSE),"-") -> 7.18 | U10: =IFERROR(VLOOKUP($I10,'MASTER DATA SAP'!$C:$K,7,FALSE),"-") | V10: =IFERROR(VLOOKUP(VALUE(R10),#REF!,2,FALSE),"-") -> -
A11: LXB1C0000032 | C11: Client 3 | E11: KEHRGASSE 31 | F11: 5734 | G11: Reinach | H11: CH | I11: 3205970880019 | J11: Produit 10 | K11: 1 | L11: 1Z2AW6506842327870 | M11: =IFERROR(VLOOKUP($I11,'MASTER DATA SAP'!$C:$K,8,FALSE),"-") -> S1818000 | N11: =IFERROR(VLOOKUP($I11,'MASTER DATA SAP'!$C:$K,9,FALSE),"-") -> Produit 10 | O11: =IFERROR(VLOOKUP($I11,'MASTER DATA SAP'!$C:$K,1,FALSE),"-") -> 3205970880019 | P11: =IFERROR(VLOOKUP($I11,'MASTER DATA SAP'!$C:$K,2,FALSE),"-") -> 93 | Q11: =IFERROR(VLOOKUP($I11,'MASTER DATA SAP'!$C:$K,3,FALSE),"-") -> 93.553 | R11: =IFERROR(VLOOKUP($I11,'MASTER DATA SAP'!$C:$K,4,FALSE),"-") -> 33049100 | S11: =IFERROR(VLOOKUP($I11,'MASTER DATA SAP'!$C:$K,5,FALSE),"-") -> IT | T11: =IFERROR(VLOOKUP($I11,'MASTER DATA SAP'!$C:$K,6,FALSE),"-") -> 7.03 | U11: =IFERROR(VLOOKUP($I11,'MASTER DATA SAP'!$C:$K,7,FALSE),"-") | V11: =IFERROR(VLOOKUP(VALUE(R11),#REF!,2,FALSE),"-") -> -
A12: LXB1C0000032 | C12: Client 3 | E12: KEHRGASSE 31 | F12: 5734 | G12: Reinach | H12: CH | I12: 3205970880020 | J12: Produit 11 | K12: 1 | L12: 1Z2AW6506842327870 | M12: =IFERROR(VLOOKUP($I12,'MASTER DATA SAP'!$C:$K,8,FALSE),"-") -> S1818100 | N12: =IFERROR(VLOOKUP($I12,'MASTER DATA SAP'!$C:$K,9,FALSE),"-") -> Produit 11 | O12: =IFERROR(VLOOKUP($I12,'MASTER DATA SAP'!$C:$K,1,FALSE),"-") -> 3205970880020 | P12: =IFERROR(VLOOKUP($I12,'MASTER DATA SAP'!$C:$K,2,FALSE),"-") -> 93 | Q12: =IFERROR(VLOOKUP($I12,'MASTER DATA SAP'!$C:$K,3,FALSE),"-") -> 1 | R12: =IFERROR(VLOOKUP($I12,'MASTER DATA SAP'!$C:$K,4,FALSE),"-") -> 33049100 | S12: =IFERROR(VLOOKUP($I12,'MASTER DATA SAP'!$C:$K,5,FALSE),"-") -> IT | T12: =IFERROR(VLOOKUP($I12,'MASTER DATA SAP'!$C:$K,6,FALSE),"-") -> 7.32 | U12: =IFERROR(VLOOKUP($I12,'MASTER DATA SAP'!$C:$K,7,FALSE),"-") | V12: =IFERROR(VLOOKUP(VALUE(R12),#REF!,2,FALSE),"-") -> -
A13: LXB1C0000032 | C13: Client 3 | E13: KEHRGASSE 31 | F13: 5734 | G13: Reinach | H13: CH | I13: 3205970880021 | J13: Produit 12 | K13: 1 | L13: 1Z2AW6506842327870 | M13: =IFERROR(VLOOKUP($I13,'MASTER DATA SAP'!$C:$K,8,FALSE),"-") -> S1818200 | N13: =IFERROR(VLOOKUP($I13,'MASTER DATA SAP'!$C:$K,9,FALSE),"-") -> Produit 12 | O13: =IFERROR(VLOOKUP($I13,'MASTER DATA SAP'!$C:$K,1,FALSE),"-") -> 3205970880021 | P13: =IFERROR(VLOOKUP($I13,'MASTER DATA SAP'!$C:$K,2,FALSE),"-") -> 94 | Q13: =IFERROR(VLOOKUP($I13,'MASTER DATA SAP'!$C:$K,3,FALSE),"-") -> 1 | R13: =IFERROR(VLOOKUP($I13,'MASTER DATA SAP'!$C:$K,4,FALSE),"-") -> 33049100 | S13: =IFERROR(VLOOKUP($I13,'MASTER DATA SAP'!$C:$K,5,FALSE),"-") -> IT | T13: =IFERROR(VLOOKUP($I13,'MASTER DATA SAP'!$C:$K,6,FALSE),"-") -> 7.48 | U13: =IFERROR(VLOOKUP($I13,'MASTER DATA SAP'!$C:$K,7,FALSE),"-") | V13: =IFERROR(VLOOKUP(VALUE(R13),#REF!,2,FALSE),"-") -> -
A14: LXB1C0000032 | C14: Client 3 | E14: KEHRGASSE 31 | F14: 5734 | G14: Reinach | H14: CH | I14: 3205970880022 | J14: Produit 13 | K14: 1 | L14: 1Z2AW6506842327870 | M14: =IFERROR(VLOOKUP($I14,'MASTER DATA SAP'!$C:$K,8,FALSE),"-") -> S1818300 | N14: =IFERROR(VLOOKUP($I14,'MASTER DATA SAP'!$C:$K,9,FALSE),"-") -> Produit 13 | O14: =IFERROR(VLOOKUP($I14,'MASTER DATA SAP'!$C:$K,1,FALSE),"-") -> 3205970880022 | P14: =IFERROR(VLOOKUP($I14,'MASTER DATA SAP'!$C:$K,2,FALSE),"-") -> 94 | Q14: =IFERROR(VLOOKUP($I14,'MASTER DATA SAP'!$C:$K,3,FALSE),"-") -> 9 | R14: =IFERROR(VLOOKUP($I14,'MASTER DATA SAP'!$C:$K,4,FALSE),"-") -> 33049100 | S14: =IFERROR(VLOOKUP($I14,'MASTER DATA SAP'!$C:$K,5,FALSE),"-") -> IT | T14: =IFERROR(VLOOKUP($I14,'MASTER DATA SAP'!$C:$K,6,FALSE),"-") -> 7.08 | U14: =IFERROR(VLOOKUP($I14,'MASTER DATA SAP'!$C:$K,7,FALSE),"-") | V14: =IFERROR(VLOOKUP(VALUE(R14),#REF!,2,FALSE),"-") -> -
A15: LXB1C0000032 | C15: Client 3 | E15: KEHRGASSE 31 | F15: 5734 | G15: Reinach | H15: CH | I15: 3205970880023 | J15: Produit 14 | K15: 1 | L15: 1Z2AW6506842327870 | M15: =IFERROR(VLOOKUP($I15,'MASTER DATA SAP'!$C:$K,8,FALSE),"-") -> S1818400 | N15: =IFERROR(VLOOKUP($I15,'MASTER DATA SAP'!$C:$K,9,FALSE),"-") -> Produit 14 | O15: =IFERROR(VLOOKUP($I15,'MASTER DATA SAP'!$C:$K,1,FALSE),"-") -> 3205970880023 | P15: =IFERROR(VLOOKUP($I15,'MASTER DATA SAP'!$C:$K,2,FALSE),"-") -> 92 | Q15: =IFERROR(VLOOKUP($I15,'MASTER DATA SAP'!$C:$K,3,FALSE),"-") -> 9 | R15: =IFERROR(VLOOKUP($I15,'MASTER DATA SAP'!$C:$K,4,FALSE),"-") -> 33049100 | S15: =IFERROR(VLOOKUP($I15,'MASTER DATA SAP'!$C:$K,5,FALSE),"-") -> IT | T15: =IFERROR(VLOOKUP($I15,'MASTER DATA SAP'!$C:$K,6,FALSE),"-") -> 7.11 | U15: =IFERROR(VLOOKUP($I15,'MASTER DATA SAP'!$C:$K,7,FALSE),"-") | V15: =IFERROR(VLOOKUP(VALUE(R15),#REF!,2,FALSE),"-") -> -
A16: LXB1C0000032 | C16: Client 3 | E16: KEHRGASSE 31 | F16: 5734 | G16: Reinach | H16: CH | I16: 3205970880024 | J16: Produit 15 | K16: 1 | L16: 1Z2AW6506842327870 | M16: =IFERROR(VLOOKUP($I16,'MASTER DATA SAP'!$C:$K,8,FALSE),"-") -> S1818500 | N16: =IFERROR(VLOOKUP($I16,'MASTER DATA SAP'!$C:$K,9,FALSE),"-") -> Produit 15 | O16: =IFERROR(VLOOKUP($I16,'MASTER DATA SAP'!$C:$K,1,FALSE),"-") -> 3205970880024 | P16: =IFERROR(VLOOKUP($I16,'MASTER DATA SAP'!$C:$K,2,FALSE),"-") -> 92 | Q16: =IFERROR(VLOOKUP($I16,'MASTER DATA SAP'!$C:$K,3,FALSE),"-") -> 9 | R16: =IFERROR(VLOOKUP($I16,'MASTER DATA SAP'!$C:$K,4,FALSE),"-") -> 33049100 | S16: =IFERROR(VLOOKUP($I16,'MASTER DATA SAP'!$C:$K,5,FALSE),"-") -> IT | T16: =IFERROR(VLOOKUP($I16,'MASTER DATA SAP'!$C:$K,6,FALSE),"-") -> 7.24 | U16: =IFERROR(VLOOKUP($I16,'MASTER DATA SAP'!$C:$K,7,FALSE),"-") | V16: =IFERROR(VLOOKUP(VALUE(R16),#REF!,2,FALSE),"-") -> -
A17: LXB1C0000032 | C17: Client 3 | E17: KEHRGASSE 31 | F17: 5734 | G17: Reinach | H17: CH | I17: 3205970880025 | J17: Produit 16 | K17: 1 | L17: 1Z2AW6506842327870 | M17: =IFERROR(VLOOKUP($I17,'MASTER DATA SAP'!$C:$K,8,FALSE),"-") -> S1818600 | N17: =IFERROR(VLOOKUP($I17,'MASTER DATA SAP'!$C:$K,9,FALSE),"-") -> Produit 16 | O17: =IFERROR(VLOOKUP($I17,'MASTER DATA SAP'!$C:$K,1,FALSE),"-") -> 3205970880025 | P17: =IFERROR(VLOOKUP($I17,'MASTER DATA SAP'!$C:$K,2,FALSE),"-") -> 93 | Q17: =IFERROR(VLOOKUP($I17,'MASTER DATA SAP'!$C:$K,3,FALSE),"-") -> 93.553 | R17: =IFERROR(VLOOKUP($I17,'MASTER DATA SAP'!$C:$K,4,FALSE),"-") -> 33049100 | S17: =IFERROR(VLOOKUP($I17,'MASTER DATA SAP'!$C:$K,5,FALSE),"-") -> IT | T17: =IFERROR(VLOOKUP($I17,'MASTER DATA SAP'!$C:$K,6,FALSE),"-") -> 7.14 | U17: =IFERROR(VLOOKUP($I17,'MASTER DATA SAP'!$C:$K,7,FALSE),"-") | V17: =IFERROR(VLOOKUP(VALUE(R17),#REF!,2,FALSE),"-") -> -
A18: LXB1C0000032 | C18: Client 3 | E18: KEHRGASSE 31 | F18: 5734 | G18: Reinach | H18: CH | I18: 3205970880026 | J18: Produit 17 | K18: 1 | L18: 1Z2AW6506842327870 | M18: =IFERROR(VLOOKUP($I18,'MASTER DATA SAP'!$C:$K,8,FALSE),"-") -> S1818700 | N18: =IFERROR(VLOOKUP($I18,'MASTER DATA SAP'!$C:$K,9,FALSE),"-") -> Produit 17 | O18: =IFERROR(VLOOKUP($I18,'MASTER DATA SAP'!$C:$K,1,FALSE),"-") -> 3205970880026 | P18: =IFERROR(VLOOKUP($I18,'MASTER DATA SAP'!$C:$K,2,FALSE),"-") -> 92 | Q18: =IFERROR(VLOOKUP($I18,'MASTER DATA SAP'!$C:$K,3,FALSE),"-") -> 93.553 | R18: =IFERROR(VLOOKUP($I18,'MASTER DATA SAP'!$C:$K,4,FALSE),"-") -> 33049100 | S18: =IFERROR(VLOOKUP($I18,'MASTER DATA SAP'!$C:$K,5,FALSE),"-") -> IT | T18: =IFERROR(VLOOKUP($I18,'MASTER DATA SAP'!$C:$K,6,FALSE),"-") -> 6.86 | U18: =IFERROR(VLOOKUP($I18,'MASTER DATA SAP'!$C:$K,7,FALSE),"-") | V18: =IFERROR(VLOOKUP(VALUE(R18),#REF!,2,FALSE),"-") -> -
A19: LXB1C0000033 | C19: Client 4 | E19: KEHRGASSE 32 | F19: 5735 | G19: Reinach | H19: CH | I19: 3205970880027 | J19: Produit 18 | K19: 2 | L19: 1Z2AW6506842327870 | M19: =IFERROR(VLOOKUP($I19,'MASTER DATA SAP'!$C:$K,8,FALSE),"-") -> S1818800 | N19: =IFERROR(VLOOKUP($I19,'MASTER DATA SAP'!$C:$K,9,FALSE),"-") -> Produit 18 | O19: =IFERROR(VLOOKUP($I19,'MASTER DATA SAP'!$C:$K,1,FALSE),"-") -> 3205970880027 | P19: =IFERROR(VLOOKUP($I19,'MASTER DATA SAP'!$C:$K,2,FALSE),"-") -> 93 | Q19: =IFERROR(VLOOKUP($I19,'MASTER DATA SAP'!$C:$K,3,FALSE),"-") -> 9 | R19: =IFERROR(VLOOKUP($I19,'MASTER DATA SAP'!$C:$K,4,FALSE),"-") -> 33049100 | S19: =IFERROR(VLOOKUP($I19,'MASTER DATA SAP'!$C:$K,5,FALSE),"-") -> IT | T19: =IFERROR(VLOOKUP($I19,'MASTER DATA SAP'!$C:$K,6,FALSE),"-") -> 6.76 | U19: =IFERROR(VLOOKUP($I19,'MASTER DATA SAP'!$C:$K,7,FALSE),"-") | V19: =IFERROR(VLOOKUP(VALUE(R19),#REF!,2,FALSE),"-") -> -
A20: LXB1C0000034 | C20: Client 5 | E20: KEHRGASSE 33 | F20: 5736 | G20: Reinach | H20: CH | I20: 3205970880028 | J20: Produit 19 | K20: 3 | L20: 1Z2AW6506842327870 | M20: =IFERROR(VLOOKUP($I20,'MASTER DATA SAP'!$C:$K,8,FALSE),"-") -> S1818900 | N20: =IFERROR(VLOOKUP($I20,'MASTER DATA SAP'!$C:$K,9,FALSE),"-") -> Produit 19 | O20: =IFERROR(VLOOKUP($I20,'MASTER DATA SAP'!$C:$K,1,FALSE),"-") -> 3205970880028 | P20: =IFERROR(VLOOKUP($I20,'MASTER DATA SAP'!$C:$K,2,FALSE),"-") -> 93 | Q20: =IFERROR(VLOOKUP($I20,'MASTER DATA SAP'!$C:$K,3,FALSE),"-") -> 9 | R20: =IFERROR(VLOOKUP($I20,'MASTER DATA SAP'!$C:$K,4,FALSE),"-") -> 33049100 | S20: =IFERROR(VLOOKUP($I20,'MASTER DATA SAP'!$C:$K,5,FALSE),"-") -> IT | T20: =IFERROR(VLOOKUP($I20,'MASTER DATA SAP'!$C:$K,6,FALSE),"-") -> 6.82 | U20: =IFERROR(VLOOKUP($I20,'MASTER DATA SAP'!$C:$K,7,FALSE),"-") | V20: =IFERROR(VLOOKUP(VALUE(R20),#REF!,2,FALSE),"-") -> -
A21: LXB1C0000035 | C21: Client 6 | E21: KEHRGASSE 34 | F21: 5737 | G21: Reinach | H21: CH | I21: 3205970880029 | J21: Produit 20 | K21: 4 | L21: 1Z2AW6506842327870 | M21: =IFERROR(VLOOKUP($I21,'MASTER DATA SAP'!$C:$K,8,FALSE),"-") -> S1819000 | N21: =IFERROR(VLOOKUP($I21,'MASTER DATA SAP'!$C:$K,9,FALSE),"-") -> Produit 20 | O21: =IFERROR(VLOOKUP($I21,'MASTER DATA SAP'!$C:$K,1,FALSE),"-") -> 3205970880029 | P21: =IFERROR(VLOOKUP($I21,'MASTER DATA SAP'!$C:$K,2,FALSE),"-") -> 93.553 | Q21: =IFERROR(VLOOKUP($I21,'MASTER DATA SAP'!$C:$K,3,FALSE),"-") -> 9 | R21: =IFERROR(VLOOKUP($I21,'MASTER DATA SAP'!$C:$K,4,FALSE),"-") -> 33049100 | S21: =IFERROR(VLOOKUP($I21,'MASTER DATA SAP'!$C:$K,5,FALSE),"-") -> IT | T21: =IFERROR(VLOOKUP($I21,'MASTER DATA SAP'!$C:$K,6,FALSE),"-") -> 6.66 | U21: =IFERROR(VLOOKUP($I21,'MASTER DATA SAP'!$C:$K,7,FALSE),"-") | V21: =IFERROR(VLOOKUP(VALUE(R21),#REF!,2,FALSE),"-") -> -
A22: LXB1C0000036 | C22: Client 7 | E22: KEHRGASSE 35 | F22: 5738 | G22: Reinach | H22: CH | I22: 3205970880030 | J22: Produit 21 | K22: 5 | L22: 1Z2AW6506842327870 | M22: =IFERROR(VLOOKUP($I22,'MASTER DATA SAP'!$C:$K,8,FALSE),"-") -> S1819100 | N22: =IFERROR(VLOOKUP($I22,'MASTER DATA SAP'!$C:$K,9,FALSE),"-") -> Produit 21 | O22: =IFERROR(VLOOKUP($I22,'MASTER DATA SAP'!$C:$K,1,FALSE),"-") -> 3205970880030 | P22: =IFERROR(VLOOKUP($I22,'MASTER DATA SAP'!$C:$K,2,FALSE),"-") -> 92 | Q22: =IFERROR(VLOOKUP($I22,'MASTER DATA SAP'!$C:$K,3,FALSE),"-") -> 93.553 | R22: =IFERROR(VLOOKUP($I22,'MASTER DATA SAP'!$C:$K,4,FALSE),"-") -> 33049100 | S22: =IFERROR(VLOOKUP($I22,'MASTER DATA SAP'!$C:$K,5,FALSE),"-") -> IT | T22: =IFERROR(VLOOKUP($I22,'MASTER DATA SAP'!$C:$K,6,FALSE),"-") -> 6.73 | U22: =IFERROR(VLOOKUP($I22,'MASTER DATA SAP'!$C:$K,7,FALSE),"-") | V22: =IFERROR(VLOOKUP(VALUE(R22),#REF!,2,FALSE),"-") -> -
... A153: LXB1C0000167 | C153: Client 138 | E153: KEHRGASSE 166 | F153: 5869 | G153: Reinach | H153: CH | I153: 3205970880161 | J153: Produit 152 | K153: 136 | L153: 1Z2AW6506842327870 | M153: =IFERROR(VLOOKUP($I153,'MASTER DATA SAP'!$C:$K,8,FALSE),"-") -> S2004800 | N153: =IFERROR(VLOOKUP($I153,'MASTER DATA SAP'!$C:$K,9,FALSE),"-") -> Produit 152 | O153: =IFERROR(VLOOKUP($I153,'MASTER DATA SAP'!$C:$K,1,FALSE),"-") -> 3205970880161 | P153: =IFERROR(VLOOKUP($I153,'MASTER DATA SAP'!$C:$K,2,FALSE),"-") -> 11 | Q153: =IFERROR(VLOOKUP($I153,'MASTER DATA SAP'!$C:$K,3,FALSE),"-") -> 2.2 | R153: =IFERROR(VLOOKUP($I153,'MASTER DATA SAP'!$C:$K,4,FALSE),"-") -> 33042000 | S153: =IFERROR(VLOOKUP($I153,'MASTER DATA SAP'!$C:$K,5,FALSE),"-") -> DE | T153: =IFERROR(VLOOKUP($I153,'MASTER DATA SAP'!$C:$K,6,FALSE),"-") -> 1.93 | U153: =IFERROR(VLOOKUP($I153,'MASTER DATA SAP'!$C:$K,7,FALSE),"-") | V153: =IFERROR(VLOOKUP(VALUE(R153),#REF!,2,FALSE),"-") -> -
M154: =IFERROR(VLOOKUP($I154,'MASTER DATA SAP'!$C:$K,8,FALSE),"-") -> - | N154: =IFERROR(VLOOKUP($I154,'MASTER DATA SAP'!$C:$K,9,FALSE),"-") -> - | O154: =IFERROR(VLOOKUP($I154,'MASTER DATA SAP'!$C:$K,1,FALSE),"-") -> - | P154: =IFERROR(VLOOKUP($I154,'MASTER DATA SAP'!$C:$K,2,FALSE),"-") -> - | Q154: =IFERROR(VLOOKUP($I154,'MASTER DATA SAP'!$C:$K,3,FALSE),"-") -> - | R154: =IFERROR(VLOOKUP($I154,'MASTER DATA SAP'!$C:$K,4,FALSE),"-") -> - | S154: =IFERROR(VLOOKUP($I154,'MASTER DATA SAP'!$C:$K,5,FALSE),"-") -> - | T154: =IFERROR(VLOOKUP($I154,'MASTER DATA SAP'!$C:$K,6,FALSE),"-") -> - | U154: =IFERROR(VLOOKUP($I154,'MASTER DATA SAP'!$C:$K,7,FALSE),"-") -> - | V154: =IFERROR(VLOOKUP(VALUE(R154),#REF!,2,FALSE),"-") -> -
M155: =IFERROR(VLOOKUP($I155,'MASTER DATA SAP'!$C:$K,8,FALSE),"-") -> - | N155: =IFERROR(VLOOKUP($I155,'MASTER DATA SAP'!$C:$K,9,FALSE),"-") -> - | O155: =IFERROR(VLOOKUP($I155,'MASTER DATA SAP'!$C:$K,1,FALSE),"-") -> - | P155: =IFERROR(VLOOKUP($I155,'MASTER DATA SAP'!$C:$K,2,FALSE),"-") -> - | Q155: =IFERROR(VLOOKUP($I155,'MASTER DATA SAP'!$C:$K,3,FALSE),"-") -> - | R155: =IFERROR(VLOOKUP($I155,'MASTER DATA SAP'!$C:$K,4,FALSE),"-") -> - | S155: =IFERROR(VLOOKUP($I155,'MASTER DATA SAP'!$C:$K,5,FALSE),"-") -> - | T155: =IFERROR(VLOOKUP($I155,'MASTER DATA SAP'!$C:$K,6,FALSE),"-") -> - | U155: =IFERROR(VLOOKUP($I155,'MASTER DATA SAP'!$C:$K,7,FALSE),"-") -> - | V155: =IFERROR(VLOOKUP(VALUE(R155),#REF!,2,FALSE),"-") -> -
M156: =IFERROR(VLOOKUP($I156,'MASTER DATA SAP'!$C:$K,8,FALSE),"-") -> - | N156: =IFERROR(VLOOKUP($I156,'MASTER DATA SAP'!$C:$K,9,FALSE),"-") -> - | O156: =IFERROR(VLOOKUP($I156,'MASTER DATA SAP'!$C:$K,1,FALSE),"-") -> - | P156: =IFERROR(VLOOKUP($I156,'MASTER DATA SAP'!$C:$K,2,FALSE),"-") -> - | Q156: =IFERROR(VLOOKUP($I156,'MASTER DATA SAP'!$C:$K,3,FALSE),"-") -> - | R156: =IFERROR(VLOOKUP($I156,'MASTER DATA SAP'!$C:$K,4,FALSE),"-") -> - | S156: =IFERROR(VLOOKUP($I156,'MASTER DATA SAP'!$C:$K,5,FALSE),"-") -> - | T156: =IFERROR(VLOOKUP($I156,'MASTER DATA SAP'!$C:$K,6,FALSE),"-") -> - | U156: =IFERROR(VLOOKUP($I156,'MASTER DATA SAP'!$C:$K,7,FALSE),"-") -> - | V156: =IFERROR(VLOOKUP(VALUE(R156),#REF!,2,FALSE),"-") -> -
M157: =IFERROR(VLOOKUP($I157,'MASTER DATA SAP'!$C:$K,8,FALSE),"-") -> - | N157: =IFERROR(VLOOKUP($I157,'MASTER DATA SAP'!$C:$K,9,FALSE),"-") -> - | O157: =IFERROR(VLOOKUP($I157,'MASTER DATA SAP'!$C:$K,1,FALSE),"-") -> - | P157: =IFERROR(VLOOKUP($I157,'MASTER DATA SAP'!$C:$K,2,FALSE),"-") -> - | Q157: =IFERROR(VLOOKUP($I157,'MASTER DATA SAP'!$C:$K,3,FALSE),"-") -> - | R157: =IFERROR(VLOOKUP($I157,'MASTER DATA SAP'!$C:$K,4,FALSE),"-") -> - | S157: =IFERROR(VLOOKUP($I157,'MASTER DATA SAP'!$C:$K,5,FALSE),"-") -> - | T157: =IFERROR(VLOOKUP($I157,'MASTER DATA SAP'!$C:$K,6,FALSE),"-") -> - | U157: =IFERROR(VLOOKUP($I157,'MASTER DATA SAP'!$C:$K,7,FALSE),"-") -> - | V157: =IFERROR(VLOOKUP(VALUE(R157),#REF!,2,FALSE),"-") -> -
M158: =IFERROR(VLOOKUP($I158,'MASTER DATA SAP'!$C:$K,8,FALSE),"-") -> - | N158: =IFERROR(VLOOKUP($I158,'MASTER DATA SAP'!$C:$K,9,FALSE),"-") -> - | O158: =IFERROR(VLOOKUP($I158,'MASTER DATA SAP'!$C:$K,1,FALSE),"-") -> - | P158: =IFERROR(VLOOKUP($I158,'MASTER DATA SAP'!$C:$K,2,FALSE),"-") -> - | Q158: =IFERROR(VLOOKUP($I158,'MASTER DATA SAP'!$C:$K,3,FALSE),"-") -> - | R158: =IFERROR(VLOOKUP($I158,'MASTER DATA SAP'!$C:$K,4,FALSE),"-") -> - | S158: =IFERROR(VLOOKUP($I158,'MASTER DATA SAP'!$C:$K,5,FALSE),"-") -> - | T158: =IFERROR(VLOOKUP($I158,'MASTER DATA SAP'!$C:$K,6,FALSE),"-") -> - | U158: =IFERROR(VLOOKUP($I158,'MASTER DATA SAP'!$C:$K,7,FALSE),"-") -> - | V158: =IFERROR(VLOOKUP(VALUE(R158),#REF!,2,FALSE),"-") -> -
M159: =IFERROR(VLOOKUP($I159,'MASTER DATA SAP'!$C:$K,8,FALSE),"-") -> - | N159: =IFERROR(VLOOKUP($I159,'MASTER DATA SAP'!$C:$K,9,FALSE),"-") -> - | O159: =IFERROR(VLOOKUP($I159,'MASTER DATA SAP'!$C:$K,1,FALSE),"-") -> - | P159: =IFERROR(VLOOKUP($I159,'MASTER DATA SAP'!$C:$K,2,FALSE),"-") -> - | Q159: =IFERROR(VLOOKUP($I159,'MASTER DATA SAP'!$C:$K,3,FALSE),"-") -> - | R159: =IFERROR(VLOOKUP($I159,'MASTER DATA SAP'!$C:$K,4,FALSE),"-") -> - | S159: =IFERROR(VLOOKUP($I159,'MASTER DATA SAP'!$C:$K,5,FALSE),"-") -> - | T159: =IFERROR(VLOOKUP($I159,'MASTER DATA SAP'!$C:$K,6,FALSE),"-") -> - | U159: =IFERROR(VLOOKUP($I159,'MASTER DATA SAP'!$C:$K,7,FALSE),"-") -> - | V159: =IFERROR(VLOOKUP(VALUE(R159),#REF!,2,FALSE),"-") -> -
M160: =IFERROR(VLOOKUP($I160,'MASTER DATA SAP'!$C:$K,8,FALSE),"-") -> - | N160: =IFERROR(VLOOKUP($I160,'MASTER DATA SAP'!$C:$K,9,FALSE),"-") -> - | O160: =IFERROR(VLOOKUP($I160,'MASTER DATA SAP'!$C:$K,1,FALSE),"-") -> - | P160: =IFERROR(VLOOKUP($I160,'MASTER DATA SAP'!$C:$K,2,FALSE),"-") -> - | Q160: =IFERROR(VLOOKUP($I160,'MASTER DATA SAP'!$C:$K,3,FALSE),"-") -> - | R160: =IFERROR(VLOOKUP($I160,'MASTER DATA SAP'!$C:$K,4,FALSE),"-") -> - | S160: =IFERROR(VLOOKUP($I160,'MASTER DATA SAP'!$C:$K,5,FALSE),"-") -> - | T160: =IFERROR(VLOOKUP($I160,'MASTER DATA SAP'!$C:$K,6,FALSE),"-") -> - | U160: =IFERROR(VLOOKUP($I160,'MASTER DATA SAP'!$C:$K,7,FALSE),"-") -> - | V160: =IFERROR(VLOOKUP(VALUE(R160),#REF!,2,FALSE),"-") -> -
M161: =IFERROR(VLOOKUP($I161,'MASTER DATA SAP'!$C:$K,8,FALSE),"-") -> - | N161: =IFERROR(VLOOKUP($I161,'MASTER DATA SAP'!$C:$K,9,FALSE),"-") -> - | O161: =IFERROR(VLOOKUP($I161,'MASTER DATA SAP'!$C:$K,1,FALSE),"-") -> - | P161: =IFERROR(VLOOKUP($I161,'MASTER DATA SAP'!$C:$K,2,FALSE),"-") -> - | Q161: =IFERROR(VLOOKUP($I161,'MASTER DATA SAP'!$C:$K,3,FALSE),"-") -> - | R161: =IFERROR(VLOOKUP($I161,'MASTER DATA SAP'!$C:$K,4,FALSE),"-") -> - | S161: =IFERROR(VLOOKUP($I161,'MASTER DATA SAP'!$C:$K,5,FALSE),"-") -> - | T161: =IFERROR(VLOOKUP($I161,'MASTER DATA SAP'!$C:$K,6,FALSE),"-") -> - | U161: =IFERROR(VLOOKUP($I161,'MASTER DATA SAP'!$C:$K,7,FALSE),"-") -> - | V161: =IFERROR(VLOOKUP(VALUE(R161),#REF!,2,FALSE),"-") -> -
M162: =IFERROR(VLOOKUP($I162,'MASTER DATA SAP'!$C:$K,8,FALSE),"-") -> - | N162: =IFERROR(VLOOKUP($I162,'MASTER DATA SAP'!$C:$K,9,FALSE),"-") -> - | O162: =IFERROR(VLOOKUP($I162,'MASTER DATA SAP'!$C:$K,1,FALSE),"-") -> - | P162: =IFERROR(VLOOKUP($I162,'MASTER DATA SAP'!$C:$K,2,FALSE),"-") -> - | Q162: =IFERROR(VLOOKUP($I162,'MASTER DATA SAP'!$C:$K,3,FALSE),"-") -> - | R162: =IFERROR(VLOOKUP($I162,'MASTER DATA SAP'!$C:$K,4,FALSE),"-") -> - | S162: =IFERROR(VLOOKUP($I162,'MASTER DATA SAP'!$C:$K,5,FALSE),"-") -> - | T162: =IFERROR(VLOOKUP($I162,'MASTER DATA SAP'!$C:$K,6,FALSE),"-") -> - | U162: =IFERROR(VLOOKUP($I162,'MASTER DATA SAP'!$C:$K,7,FALSE),"-") -> - | V162: =IFERROR(VLOOKUP(VALUE(R162),#REF!,2,FALSE),"-") -> -
M163: =IFERROR(VLOOKUP($I163,'MASTER DATA SAP'!$C:$K,8,FALSE),"-") -> - | N163: =IFERROR(VLOOKUP($I163,'MASTER DATA SAP'!$C:$K,9,FALSE),"-") -> - | O163: =IFERROR(VLOOKUP($I163,'MASTER DATA SAP'!$C:$K,1,FALSE),"-") -> - | P163: =IFERROR(VLOOKUP($I163,'MASTER DATA SAP'!$C:$K,2,FALSE),"-") -> - | Q163: =IFERROR(VLOOKUP($I163,'MASTER DATA SAP'!$C:$K,3,FALSE),"-") -> - | R163: =IFERROR(VLOOKUP($I163,'MASTER DATA SAP'!$C:$K,4,FALSE),"-") -> - | S163: =IFERROR(VLOOKUP($I163,'MASTER DATA SAP'!$C:$K,5,FALSE),"-") -> - | T163: =IFERROR(VLOOKUP($I163,'MASTER DATA SAP'!$C:$K,6,FALSE),"-") -> - | U163: =IFERROR(VLOOKUP($I163,'MASTER DATA SAP'!$C:$K,7,FALSE),"-") -> - | V163: =IFERROR(VLOOKUP(VALUE(R163),#REF!,2,FALSE),"-") -> -
M164: =IFERROR(VLOOKUP($I164,'MASTER DATA SAP'!$C:$K,8,FALSE),"-") -> - | N164: =IFERROR(VLOOKUP($I164,'MASTER DATA SAP'!$C:$K,9,FALSE),"-") -> - | O164: =IFERROR(VLOOKUP($I164,'MASTER DATA SAP'!$C:$K,1,FALSE),"-") -> - | P164: =IFERROR(VLOOKUP($I164,'MASTER DATA SAP'!$C:$K,2,FALSE),"-") -> - | Q164: =IFERROR(VLOOKUP($I164,'MASTER DATA SAP'!$C:$K,3,FALSE),"-") -> - | R164: =IFERROR(VLOOKUP($I164,'MASTER DATA SAP'!$C:$K,4,FALSE),"-") -> - | S164: =IFERROR(VLOOKUP($I164,'MASTER DATA SAP'!$C:$K,5,FALSE),"-") -> - | T164: =IFERROR(VLOOKUP($I164,'MASTER DATA SAP'!$C:$K,6,FALSE),"-") -> - | U164: =IFERROR(VLOOKUP($I164,'MASTER DATA SAP'!$C:$K,7,FALSE),"-") -> - | V164: =IFERROR(VLOOKUP(VALUE(R164),#REF!,2,FALSE),"-") -> -
M165: =IFERROR(VLOOKUP($I165,'MASTER DATA SAP'!$C:$K,8,FALSE),"-") -> - | N165: =IFERROR(VLOOKUP($I165,'MASTER DATA SAP'!$C:$K,9,FALSE),"-") -> - | O165: =IFERROR(VLOOKUP($I165,'MASTER DATA SAP'!$C:$K,1,FALSE),"-") -> - | P165: =IFERROR(VLOOKUP($I165,'MASTER DATA SAP'!$C:$K,2,FALSE),"-") -> - | Q165: =IFERROR(VLOOKUP($I165,'MASTER DATA SAP'!$C:$K,3,FALSE),"-") -> - | R165: =IFERROR(VLOOKUP($I165,'MASTER DATA SAP'!$C:$K,4,FALSE),"-") -> - | S165: =IFERROR(VLOOKUP($I165,'MASTER DATA SAP'!$C:$K,5,FALSE),"-") -> - | T165: =IFERROR(VLOOKUP($I165,'MASTER DATA SAP'!$C:$K,6,FALSE),"-") -> - | U165: =IFERROR(VLOOKUP($I165,'MASTER DATA SAP'!$C:$K,7,FALSE),"-") -> - | V165: =IFERROR(VLOOKUP(VALUE(R165),#REF!,2,FALSE),"-") -> -
M166: =IFERROR(VLOOKUP($I166,'MASTER DATA SAP'!$C:$K,8,FALSE),"-") -> - | N166: =IFERROR(VLOOKUP($I166,'MASTER DATA SAP'!$C:$K,9,FALSE),"-") -> - | O166: =IFERROR(VLOOKUP($I166,'MASTER DATA SAP'!$C:$K,1,FALSE),"-") -> - | P166: =IFERROR(VLOOKUP($I166,'MASTER DATA SAP'!$C:$K,2,FALSE),"-") -> - | Q166: =IFERROR(VLOOKUP($I166,'MASTER DATA SAP'!$C:$K,3,FALSE),"-") -> - | R166: =IFERROR(VLOOKUP($I166,'MASTER DATA SAP'!$C:$K,4,FALSE),"-") -> - | S166: =IFERROR(VLOOKUP($I166,'MASTER DATA SAP'!$C:$K,5,FALSE),"-") -> - | T166: =IFERROR(VLOOKUP($I166,'MASTER DATA SAP'!$C:$K,6,FALSE),"-") -> - | U166: =IFERROR(VLOOKUP($I166,'MASTER DATA SAP'!$C:$K,7,FALSE),"-") -> - | V166: =IFERROR(VLOOKUP(VALUE(R166),#REF!,2,FALSE),"-") -> -

Sheet MASTER DATA SAP
A1: Material | B1: EN Material Description | C1: UN EAN/UPC | D1: UN Gross Weight | E1: Net Weight | F1: Comm./imp. code no. | G1: Country of origin | H1: Moving price | I1: UN Number | J1: Material | K1: EN Material Description
A2: S1783500 | B2: Produit 1 | C2: 3205970880010 | D2: 15.592 | E2: 15.592 | F2: 39269092 | G2: CN | H2: 8.99 | J2: =A2 -> S1783500 | K2: =B2 -> Produit 1
A3: S4119900 | B3: Produit 2 | C3: 3205970880011 | D3: 197.596 | E3: 1 | F3: 48172000 | G3: US | H3: 3.09 | J3: =A3 -> S4119900 | K3: =B3 -> Produit 2
A4: S1791700 | B4: Produit 3 | C4: 3205970880012 | D4: 19 | E4: 18.427 | F4: 33042000 | G4: CA | H4: 6.18 | J4: =A4 -> S1791700 | K4: =B4 -> Produit 3
A5: S1791800 | B5: Produit 4 | C5: 3205970880013 | D5: 19 | E5: 18.427 | F5: 33042000 | G5: CA | H5: 5.54 | J5: =A5 -> S1791800 | K5: =B5 -> Produit 4
A6: S1791900 | B6: Produit 5 | C6: 3205970880014 | D6: 19 | E6: 1.5 | F6: 33042000 | G6: CA | H6: 4.6 | J6: =A6 -> S1791900 | K6: =B6 -> Produit 5
A7: S1792000 | B7: Produit 6 | C7: 3205970880015 | D7: 19 | E7: 1.5 | F7: 33042000 | G7: CA | H7: 4.39 | J7: =A7 -> S1792000 | K7: =B7 -> Produit 6
A8: S1792500 | B8: Produit 7 | C8: 3205970880016 | D8: 108.4 | E8: 109.146 | F8: 33042000 | G8: US | H8: 3.76 | J8: =A8 -> S1792500 | K8: =B8 -> Produit 7
A9: S1797600 | B9: Produit 8 | C9: 3205970880017 | D9: 16 | E9: 5 | F9: 33042000 | G9: IT | H9: 2.17 | J9: =A9 -> S1797600 | K9: =B9 -> Produit 8
A10: S1817900 | B10: Produit 9 | C10: 3205970880018 | D10: 94 | E10: 9 | F10: 33049100 | G10: IT | H10: 7.18 | J10: =A10 -> S1817900 | K10: =B10 -> Produit 9
A11: S1818000 | B11: Produit 10 | C11: 3205970880019 | D11: 93 | E11: 93.553 | F11: 33049100 | G11: IT | H11: 7.03 | J11: =A11 -> S1818000 | K11: =B11 -> Produit 10
A12: S1818100 | B12: Produit 11 | C12: 3205970880020 | D12: 93 | E12: 1 | F12: 33049100 | G12: IT | H12: 7.32 | J12: =A12 -> S1818100 | K12: =B12 -> Produit 11
A13: S1818200 | B13: Produit 12 | C13: 3205970880021 | D13: 94 | E13: 1 | F13: 33049100 | G13: IT | H13: 7.48 | J13: =A13 -> S1818200 | K13: =B13 -> Produit 12
... A34: S1848100 | B34: Produit 33 | C34: 3205970880042 | D34: 18.994 | E34: 18.994 | F34: 33042000 | G34: DE | H34: 0.75 | J34: =A34 -> S1848100 | K34: =B34 -> Produit 33
A35: S1848200 | B35: Produit 34 | C35: 3205970880043 | D35: 44.792 | E35: 44.792 | F35: 33049900 | G35: US | H35: 0 | I35: UN1266 | J35: =A35 -> S1848200 | K35: =B35 -> Produit 34
A36: S1848300 | B36: Produit 35 | C36: 3205970880044 | D36: 15.592 | E36: 18.002 | F36: 33042000 | G36: US | H36: 0 | I36: UN1266 | J36: =A36 -> S1848300 | K36: =B36 -> Produit 35
A37: S1848400 | B37: Produit 36 | C37: 3205970880045 | D37: 20.071 | E37: 20.071 | F37: 33041000 | G37: US | H37: 0.78 | J37: =A37 -> S1848400 | K37: =B37 -> Produit 36
A38: S1848500 | B38: Produit 37 | C38: 3205970880046 | D38: 9.922 | E38: 9.922 | F38: 33041000 | G38: US | H38: 0.55 | J38: =A38 -> S1848500 | K38: =B38 -> Produit 37
A39: S1848600 | B39: Produit 38 | C39: 3205970880047 | D39: 20.185 | E39: 19.845 | F39: 33041000 | G39: US | H39: 1.86 | J39: =A39 -> S1848600 | K39: =B39 -> Produit 38
A40: S1848800 | B40: Produit 39 | C40: 3205970880048 | D40: 14.175 | E40: 21.007 | F40: 33042000 | G40: US | H40: 1.27 | I40: UN1266 | J40: =A40 -> S1848800 | K40: =B40 -> Produit 39
A41: S1848900 | B41: Produit 40 | C41: 3205970880049 | D41: 22.68 | E41: 22.68 | F41: 33042000 | G41: US | H41: 0 | I41: UN1266 | J41: =A41 -> S1848900 | K41: =B41 -> Produit 40
A42: S1850800 | B42: Produit 41 | C42: 3205970880050 | D42: 19 | E42: 19.845 | F42: 33049900 | G42: US | H42: 1.24 | J42: =A42 -> S1850800 | K42: =B42 -> Produit 41
A43: S1850900 | B43: Produit 42 | C43: 3205970880051 | D43: 18.994 | E43: 18.994 | F43: 33042000 | G43: US | H43: 0 | I43: UN1266 | J43: =A43 -> S1850900 | K43: =B43 -> Produit 42
A44: S1858700 | B44: Produit 43 | C44: 3205970880052 | D44: 20 | E44: 20 | F44: 48194000 | G44: US | H44: 0 | J44: =A44 -> S1858700 | K44: =B44 -> Produit 43
A45: S1859500 | B45: Produit 44 | C45: 3205970880053 | D45: 32.602 | E45: 32.602 | F45: 33041000 | G45: US | H45: 3.03 | J45: =A45 -> S1859500 | K45: =B45 -> Produit 44
A46: S1859600 | B46: Produit 45 | C46: 3205970880054 | D46: 32.602 | E46: 32.602 | F46: 33041000 | G46: US | H46: 3.02 | J46: =A46 -> S1859600 | K46: =B46 -> Produit 45
A47: S1859700 | B47: Produit 46 | C47: 3205970880055 | D47: 32.602 | E47: 32.602 | F47: 33041000 | G47: US | H47: 3.04 | J47: =A47 -> S1859700 | K47: =B47 -> Produit 46
A48: S1859800 | B48: Produit 47 | C48: 3205970880056 | D48: 32.602 | E48: 32.602 | F48: 33041000 | G48: US | H48: 3.05 | J48: =A48 -> S1859800 | K48: =B48 -> Produit 47
A49: S1859900 | B49: Produit 48 | C49: 3205970880057 | D49: 32.602 | E49: 33 | F49: 33041000 | G49: US | H49: 3.62 | J49: =A49 -> S1859900 | K49: =B49 -> Produit 48
A50: S1860000 | B50: Produit 49 | C50: 3205970880058 | D50: 32.602 | E50: 32.602 | F50: 33041000 | G50: US | H50: 3.05 | J50: =A50 -> S1860000 | K50: =B50 -> Produit 49
A51: S1860200 | B51: Produit 50 | C51: 3205970880059 | D51: 32.602 | E51: 32.602 | F51: 33041000 | G51: US | H51: 3.03 | J51: =A51 -> S1860200 | K51: =B51 -> Produit 50
A52: S1860300 | B52: Produit 51 | C52: 3205970880060 | D52: 32.602 | E52: 32.602 | F52: 33041000 | G52: US | H52: 3.05 | J52: =A52 -> S1860300 | K52: =B52 -> Produit 51
A53: S1860400 | B53: Produit 52 | C53: 3205970880061 | D53: 32.602 | E53: 33 | F53: 33041000 | G53: US | H53: 3.57 | J53: =A53 -> S1860400 | K53: =B53 -> Produit 52
A54: S1860500 | B54: Produit 53 | C54: 3205970880062 | D54: 32.602 | E54: 32.602 | F54: 33041000 | G54: US | H54: 3.05 | J54: =A54 -> S1860500 | K54: =B54 -> Produit 53
A55: S1860600 | B55: Produit 54 | C55: 3205970880063 | D55: 24.097 | E55: 24.097 | F55: 33042000 | G55: CA | H55: 3.39 | I55: UN1266 | J55: =A55 -> S1860600 | K55: =B55 -> Produit 54
A56: S1860700 | B56: Produit 55 | C56: 3205970880064 | D56: 23.7 | E56: 10 | F56: 33042000 | G56: US | H56: 3.43 | I56: UN1266 | J56: =A56 -> S1860700 | K56: =B56 -> Produit 55
A57: S1860800 | B57: Produit 56 | C57: 3205970880065 | D57: 19 | E57: 1.5 | F57: 33042000 | G57: US | H57: 2.23 | J57: =A57 -> S1860800 | K57: =B57 -> Produit 56
A58: S1860900 | B58: Produit 57 | C58: 3205970880066 | D58: 20 | E58: 1.5 | F58: 33042000 | G58: US | H58: 2.24 | J58: =A58 -> S1860900 | K58: =B58 -> Produit 57
A59: S1861000 | B59: Produit 58 | C59: 3205970880067 | D59: 19 | E59: 1.5 | F59: 33042000 | G59: US | H59: 2.54 | J59: =A59 -> S1861000 | K59: =B59 -> Produit 58
A60: S1861100 | B60: Produit 59 | C60: 3205970880068 | D60: 19 | E60: 1.5 | F60: 33042000 | G60: US | H60: 2.91 | J60: =A60 -> S1861100 | K60: =B60 -> Produit 59
...

Sheet DETAIL VIEW OF GOODS (2)
E1: SENDER
E2: Entreprise Export
E3: Nom complet
E4: Rue de la Hampe
E5: Tours City Beach
A6: RECIPIENTS: | E6: Handelsregister:
A7: Nom Entreprise Importatrice | E7: Truc legal
A8: Chemin de Blanche Neige 13, Case postale 800, 1024 Verner | E8: Autre truc légal
A9: N° TVA CHUISSE-931.002.111
F10: INVOICE
F11: Date | G11: =TODAY() -> 42957
F12: Invoice No. | G12: 0000000000334
F13: Incoterms | G13: FCA
A14: Delivery address | F14: EORI | G14: DE6hzeuiofzeio
A15: Name | B15: =+VLOOKUP(B21,'TABLE COMMANDE'!A:F,3,0) -> Client 1
A16: Street | B16: =+VLOOKUP(B21,'TABLE COMMANDE'!A:F,5,0) -> HOCHBÜHLWEG 1
A17: Post code | B17: =+VLOOKUP(B21,'TABLE COMMANDE'!A:F,6,0) -> 3018
A18: City Name | B18: =VLOOKUP(B21,'TABLE COMMANDE'!A:G,7,0) -> Bern
A19: Tracking Nb. | B19: =+VLOOKUP(B21,'TABLE COMMANDE'!A:L,12,0) -> 1Z2AW6506840458830
A21: order_number | B21: LXB1C0000001
F23: Valeurs
A24: Material | B24: EN Material Description | C24: Comm./imp. code no. | D24: Country of origin | E24: Net Weight | F24: Total Un | G24: Total Net.Value (€) | H24: Total Net Weight
A25: S1783500 | B25: Produit 1 | C25: 39269092 | D25: CN | E25: 15.592 | F25: 1 | G25: 8.99 | H25: 15.592
A26: S4119900 | B26: Produit 2 | C26: 48172000 | D26: US | E26: 1 | F26: 1 | G26: 3.09 | H26: 1
A27: S1791700 | B27: Produit 3 | C27: 33042000 | D27: CA | E27: 18.427 | F27: 1 | G27: 6.18 | H27: 18.427
A28: S1791800 | B28: Produit 4 | C28: 33042000 | D28: CA | E28: 18.427 | F28: 1 | G28: 5.54 | H28: 18.427
A29: Total | F29: 4 | G29: 23.8 | H29: 53.446
