Workbook

Sheet Atelier 1
A1: IDENTITE | B1: DATE: | C1: Atelier 1: | D1: Niveau | E1: série | F1: ex complémentaire: | G1: Charge1 | H1: Cadence 1 | I1: IMT1 | J1: IDF1 | K1: série2 | L1: ex complémentaire2 | M1: Charge2 | N1: Cadence 2 | O1: IMT2 | P1: IDF2 | Q1: série3 | R1: ex complémentaire3 | S1: Charge3 | T1: Cadence 3 | U1: IMT3 | V1: IDF3 | W1: série4 | X1: ex complémentaire4 | Y1: Charge4 | Z1: Cadence 4 | AA1: IMT4 | AB1: IDF4 | AC1: IMT MAX | AD1: charge pour la meilleure réalisation | AE1: Favori 1
A2: 0419905c-0e5c-4d3f-a16b-de5977799c36 | C2: Oiseau | D2: 1:Maîtrise | E2: 1 | G2: 45 | I2: 10 | K2: 2 | M2: 33 | O2: 1 | Q2: 3 | S2: 33 | U2: 10 | W2: 4 | Y2: 33 | AA2: 100 | AC2: =MAX(AA2,U2,O2,G2) -> 100 | AD2: =_xlfn.MAXIFS('Feuille 11'!D3:D6,'Feuille 11'!E3:E6,MAX('Feuille 11'!E3:E6)) -> 33 | AE2: TRUE

Sheet Feuille 11
D1: ATELIER 1
A2: identité | C2: Série | D2: Charge | E2: IMT
A3: ='Atelier 1'!A2 -> 0419905c-0e5c-4d3f-a16b-de5977799c36 | B3: 1 | C3: 1 | D3: ='Atelier 1'!G2 -> 45 | E3: =OFFSET('Atelier 1'!G2,0,2) -> 10
A4: ='Atelier 1'!A2 -> 0419905c-0e5c-4d3f-a16b-de5977799c36 | C4: 2 | D4: =OFFSET('Atelier 1'!G2,0,12) -> 33 | E4: =OFFSET('Atelier 1'!G2,0,8) -> 1
A5: ='Atelier 1'!A2 -> 0419905c-0e5c-4d3f-a16b-de5977799c36 | C5: 3 | D5: =OFFSET('Atelier 1'!G2,0,12) -> 33 | E5: =OFFSET('Atelier 1'!G2,0,14) -> 10
A6: ='Atelier 1'!A2 -> 0419905c-0e5c-4d3f-a16b-de5977799c36 | C6: 4 | D6: =OFFSET('Atelier 1'!G2,0,18) -> 33 | E6: =OFFSET('Atelier 1'!G2,0,20) -> 100
B7: 2 | C7: 1 | D7: ='Atelier 1'!G3 -> 0 | E7: =OFFSET('Atelier 1'!G3,0,2) -> 0
C8: 2 | D8: =OFFSET('Atelier 1'!G3,0,12) -> 0 | E8: =OFFSET('Atelier 1'!G3,0,8) -> 0
C9: 3 | D9: =OFFSET('Atelier 1'!G3,0,12) -> 0 | E9: =OFFSET('Atelier 1'!G3,0,14) -> 0
C10: 4 | D10: =OFFSET('Atelier 1'!G3,0,18) -> 0 | E10: =OFFSET('Atelier 1'!G3,0,20) -> 0
B11: 3 | C11: 1
C12: 2
C13: 3
C14: 4
B15: 4 | C15: 1
C16: 2
C17: 3
C18: 4
B19: 5 | C19: 1
C20: 2
C21: 3
C22: 4
B23: 6 | C23: 1
C24: 2
C25: 3
C26: 4
B27: 7 | C27: 1
C28: 2
C29: 3
C30: 4
B31: 8 | C31: 1
C32: 2
C33: 3
C34: 4
B35: 9 | C35: 1
C36: 2
C37: 3
C38: 4
B39: 10 | C39: 1
C40: 2
C41: 3
C42: 4
B43: 11 | C43: 1
C44: 2
C45: 3
C46: 4
B47: 12 | C47: 1
C48: 2
C49: 3
C50: 4
B51: 13
B55: 14
B59: 14
B63: 15
B67: 15
B71: 16
B75: 16
B79: 17
B83: 17
B87: 18
B91: 18
B95: 19
... B203: 32

Sheet App Metadata
A1: Last Automatic Refresh Initiated | B1: Last Manual Refresh Requested
B2: 43967.317
