Workbook

Sheet Indemnités Kilométriques
A1: Indemnités Kilométriques
A3: Puissance | B3: Jusqu'à 5000 kms | C3: De 5001 kms à 20 000 kms | D3: Au-delà de 20 000 kms
A4: 3 CV et moins | B4: d x 0,405 | C4: (d x 0,242) + 818 | D4: d x 0,283
A5: 4 CV | B5: d x 0,487 | C5: (d x 0,274) + 1063 | D5: d x 0,327
A6: 5 CV | B6: d x 0,536 | C6: (d x 0,3) + 1180 | D6: d x 0,359
A7: 6 CV | B7: d x 0,561 | C7: (d x 0,316) + 1223 | D7: d x 0,377
A8: 7 CV et plus | B8: d x 0,587 | C8: (d x 0,332) + 1278 | D8: d x 0,396

Sheet Note de frais
B1: Note de frais
B3: NORMANDIE FINANCEMENT, 13 Bd Jean Moulin, 14000 CAEN
B5: N° NDF : | C5: 1 | H5: PÉRIODE : | I5: Du | J5: 42359 | K5: Au | L5: 42370
B7: INFORMATIONS SUR L'EMPLOYÉ :
B8: Nom | C8: BLAIS Eric | H8: Fonction | J8: Gérant
B10: Date | C10: Description | F10: Hôtel | G10: Transport | H10: Frais kilométriques | J10: Repas | K10: Divers | L10: Dont TVA | M10: Total
D11: 13 bd Jean moulin, CAEN | H11: Km | I11: Montant
B12: 42726 | C12: ACOMAT | D12: 13 bd Jean moulin, CAEN | E12: CAEN | F12: 0 | H12: 10 | I12: =H12*F39 -> 4.01 | J12: 0 | M12: =SUM(F12:K12)-H12 -> 4.01
B13: 42726 | C13: Caisse d'Epargne | D13: 13 bd Jean moulin, CAEN | E13: CAEN | H13: 10 | I13: =H13*F39 -> 4.01 | M13: =SUM(F13:K13)-H13 -> 4.01
B14: 42726 | C14: SCHNEIDER V | D14: 13 bd Jean moulin, CAEN | E14: Mondeville | H14: 19 | I14: =H14*F39 -> 7.619 | M14: =SUM(F14:K14)-H14 -> 7.619
B15: 42735 | C15: VALDENAIRE | D15: 13 bd Jean moulin, CAEN | E15: CAEN | H15: 10 | I15: =H15*F39 -> 4.01 | M15: =SUM(F15:K15)-H15 -> 4.01
D16: 13 bd Jean moulin, CAEN | I16: =H16*F39 -> 0 | M16: =SUM(F16:K16)-H16 -> 0
D17: 13 bd Jean moulin, CAEN | I17: =H17*F39 -> 0 | M17: =SUM(F17:K17)-H17 -> 0
D18: 13 bd Jean moulin, CAEN | I18: =H18*F39 -> 0 | M18: =SUM(F18:K18)-H18 -> 0
D19: 13 bd Jean moulin, CAEN | I19: =H19*F39 -> 0 | M19: =SUM(F19:K19)-H19 -> 0
D20: 13 bd Jean moulin, CAEN | I20: =H20*F39 -> 0 | M20: =SUM(F20:K20)-H20 -> 0
D21: 13 bd Jean moulin, CAEN | I21: =H21*F39 -> 0 | M21: =SUM(F21:K21)-H21 -> 0
D22: 13 bd Jean moulin, CAEN | I22: =H22*F39 -> 0 | M22: =SUM(F22:K22)-H22 -> 0
D23: 13 bd Jean moulin, CAEN | I23: =H23*F39 -> 0 | M23: =SUM(F23:K23)-H23 -> 0
D24: 13 bd Jean moulin, CAEN | I24: =H24*F39 -> 0 | M24: =SUM(F24:K24)-H24 -> 0
D25: 13 bd Jean moulin, CAEN | I25: =H25*F39 -> 0 | M25: =SUM(F25:K25)-H25 -> 0
D26: 13 bd Jean moulin, CAEN | I26: =H26*F39 -> 0 | M26: =SUM(F26:K26)-H26 -> 0
D27: 13 bd Jean moulin, CAEN | I27: =H27*F39 -> 0 | M27: =SUM(F27:K27)-H27 -> 0
D28: 13 bd Jean moulin, CAEN | I28: =H28*F39 -> 0 | M28: =SUM(F28:K28)-H28 -> 0
D29: 13 bd Jean moulin, CAEN | I29: =H29*F39 -> 0 | M29: =SUM(F29:K29)-H29 -> 0
D30: 13 bd Jean moulin, CAEN | I30: =H30*F39 -> 0 | M30: =SUM(F30:K30)-H30 -> 0
D31: 13 bd Jean moulin, CAEN | I31: =H31*F39 -> 0 | M31: =SUM(F31:K31)-H31 -> 0
D32: 13 bd Jean moulin, CAEN | I32: =H32*F39 -> 0
D33: 13 bd Jean moulin, CAEN | I33: =H33*F39 -> 0 | M33: =SUM(F33:K33)-H33 -> 0
D34: 13 bd Jean moulin, CAEN | I34: =H34*F39 -> 0
D35: 13 bd Jean moulin, CAEN | I35: =H35*F39 -> 0 | M35: =SUM(F35:K35)-H35 -> 0
F36: =SUM(F12:F35) -> 0 | G36: =SUM(G12:G35) -> 0 | H36: =SUM(H15:H35) -> 10 | J36: =SUM(J12:J35) -> 0 | K36: =SUM(K12:K35) -> 0
L37: Sous-total TTC | M37: =SUM(M12:M35) -> 19.649
C38: Puissance véhicule | F38: 7 CV et plus | L38: TVA | M38: =SUM(L12:L35) -> 0
C39: Idemnité kilométrique | F39: 0.401 | G39: /km | L39: Sous-total HT | M39: =M37-M38 -> 19.649
B41: APPROUVÉ : | H41: REMARQUES : | L41: Avances
L42: Total à rembourser | M42: =(M37-M41) -> 19.649

Sheet Décembre 2015
A1: Note de frais
A3: NORMANDIE FINANCEMENT, 13 Bd Jean Moulin, 14000 CAEN
D4: Période : | E4: Du | F4: Au
A5: N° NDF : | B5: 1 | E5: 42339 | F5: 42369
A7: INFORMATIONS SUR L'EMPLOYÉ : | E7: Fonction : | F7: Gérant
A8: Nom | B8: BLAIS Eric
A10: Date | B10: Description | E10: Frais kilométriques
C11: 13 bd Jean moulin, CAEN | E11: Km | F11: Montant
A12: 42360 | B12: ACOMAT | C12: 13 bd Jean moulin, CAEN | D12: CAEN | E12: 10 | F12: =E12*E22 -> 4.01
A13: 42360 | B13: Caisse d'Epargne | C13: 13 bd Jean moulin, CAEN | D13: CAEN | E13: 10 | F13: =E13*E22 -> 4.01
A14: 42360 | B14: SCHNEIDER V | C14: 13 bd Jean moulin, CAEN | D14: Mondeville | E14: 19 | F14: =E14*E22 -> 7.619
A15: 42361 | B15: Tournée, prospection Manche | C15: 13 bd Jean moulin, CAEN | D15: Manche | E15: 300 | F15: =E15*E22 -> 120.3
A16: 42369 | B16: VALDENAIRE | C16: 13 bd Jean moulin, CAEN | D16: CAEN | E16: 10 | F16: =E16*E22 -> 4.01
E18: TOTAL KMS | F18: TOTAL IK
E19: =SUM(E12:E17) -> 349 | F19: =SUM(F11:F16) -> 139.949
B21: Puissance véhicule | C21: 7 CV et plus | E21: 7 CV et plus
B22: Idemnité kilométrique | E22: 0.401
A24: APPROUVÉ :

Sheet Janvier
A1: Note de frais
D4: Période : | F4: Du | G4: Au
A5: N° NDF : | F5: 43101 | G5: 43131
A7: INFORMATIONS SUR L'EMPLOYÉ : | F7: Fonction : | G7: Gérant
A8: Nom
F9: EN KMS | G9: EN €
B10: Puissance | C10: Indemnité km | D10: TOT.CUMULE | F10: =SUM(F11) -> #VALUE! | G10: =SUM(G13:G68) -> #VALUE!
B11: 7 CV et plus | C11: 0.401 | D11: TOTAL MOIS | F11: =SUM(F14:F62) -> #VALUE! | G11: =SUM(G14:G79) -> #VALUE!
A12: Date | B12: OBJET DU TRAJET | C12: DEPART | D12: ARRIVEE | F12: Frais kilométriques
F13: Km | G13: Montant
C14: caen | D14: paris | E14: =_xlfn.WEBSERVICE("https://maps.googleapis.com/maps/api/distancematrix/xml?origins="&$C$14&"&destinations="&D14&"&mode=driving") -> <?xml version="1.0" encoding="UTF-8"?> <DistanceMatrixResponse> <status>OVER_QUERY_LIMIT</status> <error_message>Keyless access to Google Maps Platform is deprecated. Please use an API key with all your API calls to avoid service interruption. For further details please refer to http://g.co/dev/maps-no-account</error_message> </DistanceMatrixResponse> | F14: =ROUND(_xlfn.FILTERXML(E14,"/DistanceMatrixResponse/row/element/distance/value")/1000,1)*2 -> #VALUE! | G14: =F14*$C$11 -> #VALUE!
E15: =_xlfn.WEBSERVICE("https://maps.googleapis.com/maps/api/distancematrix/xml?origins="&$C$14&"&destinations="&D15&"&mode=driving") -> <?xml version="1.0" encoding="UTF-8"?> <DistanceMatrixResponse> <status>OVER_QUERY_LIMIT</status> <error_message>Keyless access to Google Maps Platform is deprecated. Please use an API key with all your API calls to avoid service interruption. For further details please refer to http://g.co/dev/maps-no-account</error_message> </DistanceMatrixResponse> | F15: =ROUND(_xlfn.FILTERXML(E15,"/DistanceMatrixResponse/row/element/distance/value")/1000,1)*2 -> #VALUE! | G15: =F15*$C$11 -> #VALUE!
E16: =_xlfn.WEBSERVICE("https://maps.googleapis.com/maps/api/distancematrix/xml?origins="&$C$14&"&destinations="&D16&"&mode=driving") -> <?xml version="1.0" encoding="UTF-8"?> <DistanceMatrixResponse> <status>OVER_QUERY_LIMIT</status> <error_message>Keyless access to Google Maps Platform is deprecated. Please use an API key with all your API calls to avoid service interruption. For further details please refer to http://g.co/dev/maps-no-account</error_message> </DistanceMatrixResponse> | F16: =ROUND(_xlfn.FILTERXML(E16,"/DistanceMatrixResponse/row/element/distance/value")/1000,1)*2 -> #VALUE! | G16: =F16*$C$11 -> #VALUE!
E17: =_xlfn.WEBSERVICE("https://maps.googleapis.com/maps/api/distancematrix/xml?origins="&$C$14&"&destinations="&D17&"&mode=driving") -> <?xml version="1.0" encoding="UTF-8"?> <DistanceMatrixResponse> <status>OVER_QUERY_LIMIT</status> <error_message>Keyless access to Google Maps Platform is deprecated. Please use an API key with all your API calls to avoid service interruption. For further details please refer to http://g.co/dev/maps-no-account</error_message> </DistanceMatrixResponse> | F17: =ROUND(_xlfn.FILTERXML(E17,"/DistanceMatrixResponse/row/element/distance/value")/1000,1)*2 -> #VALUE! | G17: =F17*$C$11 -> #VALUE!
E18: =_xlfn.WEBSERVICE("https://maps.googleapis.com/maps/api/distancematrix/xml?origins="&$C$14&"&destinations="&D18&"&mode=driving") -> <?xml version="1.0" encoding="UTF-8"?> <DistanceMatrixResponse> <status>OVER_QUERY_LIMIT</status> <error_message>Keyless access to Google Maps Platform is deprecated. Please use an API key with all your API calls to avoid service interruption. For further details please refer to http://g.co/dev/maps-no-account</error_message> </DistanceMatrixResponse> | F18: =ROUND(_xlfn.FILTERXML(E18,"/DistanceMatrixResponse/row/element/distance/value")/1000,1)*2 -> #VALUE! | G18: =F18*$C$11 -> #VALUE!
E19: =_xlfn.WEBSERVICE("https://maps.googleapis.com/maps/api/distancematrix/xml?origins="&$C$14&"&destinations="&D19&"&mode=driving") -> <?xml version="1.0" encoding="UTF-8"?> <DistanceMatrixResponse> <status>OVER_QUERY_LIMIT</status> <error_message>Keyless access to Google Maps Platform is deprecated. Please use an API key with all your API calls to avoid service interruption. For further details please refer to http://g.co/dev/maps-no-account</error_message> </DistanceMatrixResponse> | F19: =ROUND(_xlfn.FILTERXML(E19,"/DistanceMatrixResponse/row/element/distance/value")/1000,1)*2 -> #VALUE! | G19: =F19*$C$11 -> #VALUE!
E20: =_xlfn.WEBSERVICE("https://maps.googleapis.com/maps/api/distancematrix/xml?origins="&$C$14&"&destinations="&D20&"&mode=driving") -> <?xml version="1.0" encoding="UTF-8"?> <DistanceMatrixResponse> <status>OVER_QUERY_LIMIT</status> <error_message>Keyless access to Google Maps Platform is deprecated. Please use an API key with all your API calls to avoid service interruption. For further details please refer to http://g.co/dev/maps-no-account</error_message> </DistanceMatrixResponse> | F20: =ROUND(_xlfn.FILTERXML(E20,"/DistanceMatrixResponse/row/element/distance/value")/1000,1)*2 -> #VALUE! | G20: =F20*$C$11 -> #VALUE!
E21: =_xlfn.WEBSERVICE("https://maps.googleapis.com/maps/api/distancematrix/xml?origins="&$C$14&"&destinations="&D21&"&mode=driving") -> <?xml version="1.0" encoding="UTF-8"?> <DistanceMatrixResponse> <status>OVER_QUERY_LIMIT</status> <error_message>Keyless access to Google Maps Platform is deprecated. Please use an API key with all your API calls to avoid service interruption. For further details please refer to http://g.co/dev/maps-no-account</error_message> </DistanceMatrixResponse> | F21: =ROUND(_xlfn.FILTERXML(E21,"/DistanceMatrixResponse/row/element/distance/value")/1000,1)*2 -> #VALUE! | G21: =F21*$C$11 -> #VALUE!
E22: =_xlfn.WEBSERVICE("https://maps.googleapis.com/maps/api/distancematrix/xml?origins="&$C$14&"&destinations="&D22&"&mode=driving") -> <?xml version="1.0" encoding="UTF-8"?> <DistanceMatrixResponse> <status>OVER_QUERY_LIMIT</status> <error_message>Keyless access to Google Maps Platform is deprecated. Please use an API key with all your API calls to avoid service interruption. For further details please refer to http://g.co/dev/maps-no-account</error_message> </DistanceMatrixResponse> | F22: =ROUND(_xlfn.FILTERXML(E22,"/DistanceMatrixResponse/row/element/distance/value")/1000,1)*2 -> #VALUE! | G22: =F22*$C$11 -> #VALUE!
E23: =_xlfn.WEBSERVICE("https://maps.googleapis.com/maps/api/distancematrix/xml?origins="&$C$14&"&destinations="&D23&"&mode=driving") -> <?xml version="1.0" encoding="UTF-8"?> <DistanceMatrixResponse> <status>OVER_QUERY_LIMIT</status> <error_message>Keyless access to Google Maps Platform is deprecated. Please use an API key with all your API calls to avoid service interruption. For further details please refer to http://g.co/dev/maps-no-account</error_message> </DistanceMatrixResponse> | F23: =ROUND(_xlfn.FILTERXML(E23,"/DistanceMatrixResponse/row/element/distance/value")/1000,1)*2 -> #VALUE! | G23: =F23*$C$11 -> #VALUE!
E24: =_xlfn.WEBSERVICE("https://maps.googleapis.com/maps/api/distancematrix/xml?origins="&$C$14&"&destinations="&D24&"&mode=driving") -> <?xml version="1.0" encoding="UTF-8"?> <DistanceMatrixResponse> <status>OVER_QUERY_LIMIT</status> <error_message>Keyless access to Google Maps Platform is deprecated. Please use an API key with all your API calls to avoid service interruption. For further details please refer to http://g.co/dev/maps-no-account</error_message> </DistanceMatrixResponse> | F24: =ROUND(_xlfn.FILTERXML(E24,"/DistanceMatrixResponse/row/element/distance/value")/1000,1)*2 -> #VALUE! | G24: =F24*$C$11 -> #VALUE!
E25: =_xlfn.WEBSERVICE("https://maps.googleapis.com/maps/api/distancematrix/xml?origins="&$C$14&"&destinations="&D25&"&mode=driving") -> <?xml version="1.0" encoding="UTF-8"?> <DistanceMatrixResponse> <status>OVER_QUERY_LIMIT</status> <error_message>Keyless access to Google Maps Platform is deprecated. Please use an API key with all your API calls to avoid service interruption. For further details please refer to http://g.co/dev/maps-no-account</error_message> </DistanceMatrixResponse> | F25: =ROUND(_xlfn.FILTERXML(E25,"/DistanceMatrixResponse/row/element/distance/value")/1000,1)*2 -> #VALUE! | G25: =F25*$C$11 -> #VALUE!
E26: =_xlfn.WEBSERVICE("https://maps.googleapis.com/maps/api/distancematrix/xml?origins="&$C$14&"&destinations="&D26&"&mode=driving") -> <?xml version="1.0" encoding="UTF-8"?> <DistanceMatrixResponse> <status>OVER_QUERY_LIMIT</status> <error_message>Keyless access to Google Maps Platform is deprecated. Please use an API key with all your API calls to avoid service interruption. For further details please refer to http://g.co/dev/maps-no-account</error_message> </DistanceMatrixResponse> | F26: =ROUND(_xlfn.FILTERXML(E26,"/DistanceMatrixResponse/row/element/distance/value")/1000,1)*2 -> #VALUE! | G26: =F26*$C$11 -> #VALUE!
... E57: =_xlfn.WEBSERVICE("https://maps.googleapis.com/maps/api/distancematrix/xml?origins="&$C$14&"&destinations="&D57&"&mode=driving") -> <?xml version="1.0" encoding="UTF-8"?> <DistanceMatrixResponse> <status>OVER_QUERY_LIMIT</status> <error_message>Keyless access to Google Maps Platform is deprecated. Please use an API key with all your API calls to avoid service interruption. For further details please refer to http://g.co/dev/maps-no-account</error_message> </DistanceMatrixResponse> | F57: =ROUND(_xlfn.FILTERXML(E57,"/DistanceMatrixResponse/row/element/distance/value")/1000,1)*2 -> #VALUE! | G57: =F57*$C$11 -> #VALUE!
A70: APPROUVÉ :

Sheet Février
A1: Note de frais
D4: Période : | F4: Du | G4: Au
A5: N° NDF : | F5: 42767 | G5: 42794
A7: INFORMATIONS SUR L'EMPLOYÉ : | F7: Fonction : | G7: Gérant
A8: Nom
F9: EN KMS | G9: EN €
B10: Puissance | C10: Indemnité km | D10: TOT.CUMULE | F10: =SUM(F11+Janvier!F10) -> #VALUE! | G10: =SUM(G11+Janvier!G10) -> #VALUE!
B11: 7 CV et plus | C11: 0.401 | D11: TOTAL MOIS | F11: =SUM(F14:F48) -> #VALUE! | G11: =SUM(G14:G52) -> #VALUE!
A12: Date | B12: OBJET DU TRAJET | C12: DEPART | D12: ARRIVEE | F12: Frais kilométriques
F13: Km | G13: Montant
E14: =_xlfn.WEBSERVICE("https://maps.googleapis.com/maps/api/distancematrix/xml?origins="&$C$14&"&destinations="&D14&"&mode=driving") -> <?xml version="1.0" encoding="UTF-8"?> <DistanceMatrixResponse> <status>OVER_QUERY_LIMIT</status> <error_message>Keyless access to Google Maps Platform is deprecated. Please use an API key with all your API calls to avoid service interruption. For further details please refer to http://g.co/dev/maps-no-account</error_message> </DistanceMatrixResponse> | F14: =ROUND(_xlfn.FILTERXML(E14,"/DistanceMatrixResponse/row/element/distance/value")/1000,1)*2 -> #VALUE! | G14: =F14*$C$11 -> #VALUE!
E15: =_xlfn.WEBSERVICE("https://maps.googleapis.com/maps/api/distancematrix/xml?origins="&$C$14&"&destinations="&D15&"&mode=driving") -> <?xml version="1.0" encoding="UTF-8"?> <DistanceMatrixResponse> <status>OVER_QUERY_LIMIT</status> <error_message>Keyless access to Google Maps Platform is deprecated. Please use an API key with all your API calls to avoid service interruption. For further details please refer to http://g.co/dev/maps-no-account</error_message> </DistanceMatrixResponse> | F15: =ROUND(_xlfn.FILTERXML(E15,"/DistanceMatrixResponse/row/element/distance/value")/1000,1)*2 -> #VALUE! | G15: =F15*$C$11 -> #VALUE!
E16: =_xlfn.WEBSERVICE("https://maps.googleapis.com/maps/api/distancematrix/xml?origins="&$C$14&"&destinations="&D16&"&mode=driving") -> <?xml version="1.0" encoding="UTF-8"?> <DistanceMatrixResponse> <status>OVER_QUERY_LIMIT</status> <error_message>Keyless access to Google Maps Platform is deprecated. Please use an API key with all your API calls to avoid service interruption. For further details please refer to http://g.co/dev/maps-no-account</error_message> </DistanceMatrixResponse> | F16: =ROUND(_xlfn.FILTERXML(E16,"/DistanceMatrixResponse/row/element/distance/value")/1000,1)*2 -> #VALUE! | G16: =F16*$C$11 -> #VALUE!
E17: =_xlfn.WEBSERVICE("https://maps.googleapis.com/maps/api/distancematrix/xml?origins="&$C$14&"&destinations="&D17&"&mode=driving") -> <?xml version="1.0" encoding="UTF-8"?> <DistanceMatrixResponse> <status>OVER_QUERY_LIMIT</status> <error_message>Keyless access to Google Maps Platform is deprecated. Please use an API key with all your API calls to avoid service interruption. For further details please refer to http://g.co/dev/maps-no-account</error_message> </DistanceMatrixResponse> | F17: =ROUND(_xlfn.FILTERXML(E17,"/DistanceMatrixResponse/row/element/distance/value")/1000,1)*2 -> #VALUE! | G17: =F17*$C$11 -> #VALUE!
E18: =_xlfn.WEBSERVICE("https://maps.googleapis.com/maps/api/distancematrix/xml?origins="&$C$14&"&destinations="&D18&"&mode=driving") -> <?xml version="1.0" encoding="UTF-8"?> <DistanceMatrixResponse> <status>OVER_QUERY_LIMIT</status> <error_message>Keyless access to Google Maps Platform is deprecated. Please use an API key with all your API calls to avoid service interruption. For further details please refer to http://g.co/dev/maps-no-account</error_message> </DistanceMatrixResponse> | F18: =ROUND(_xlfn.FILTERXML(E18,"/DistanceMatrixResponse/row/element/distance/value")/1000,1)*2 -> #VALUE! | G18: =F18*$C$11 -> #VALUE!
E19: =_xlfn.WEBSERVICE("https://maps.googleapis.com/maps/api/distancematrix/xml?origins="&$C$14&"&destinations="&D19&"&mode=driving") -> <?xml version="1.0" encoding="UTF-8"?> <DistanceMatrixResponse> <status>OVER_QUERY_LIMIT</status> <error_message>Keyless access to Google Maps Platform is deprecated. Please use an API key with all your API calls to avoid service interruption. For further details please refer to http://g.co/dev/maps-no-account</error_message> </DistanceMatrixResponse> | F19: =ROUND(_xlfn.FILTERXML(E19,"/DistanceMatrixResponse/row/element/distance/value")/1000,1)*2 -> #VALUE! | G19: =F19*$C$11 -> #VALUE!
E20: =_xlfn.WEBSERVICE("https://maps.googleapis.com/maps/api/distancematrix/xml?origins="&$C$14&"&destinations="&D20&"&mode=driving") -> <?xml version="1.0" encoding="UTF-8"?> <DistanceMatrixResponse> <status>OVER_QUERY_LIMIT</status> <error_message>Keyless access to Google Maps Platform is deprecated. Please use an API key with all your API calls to avoid service interruption. For further details please refer to http://g.co/dev/maps-no-account</error_message> </DistanceMatrixResponse> | F20: =ROUND(_xlfn.FILTERXML(E20,"/DistanceMatrixResponse/row/element/distance/value")/1000,1)*2 -> #VALUE! | G20: =F20*$C$11 -> #VALUE!
E21: =_xlfn.WEBSERVICE("https://maps.googleapis.com/maps/api/distancematrix/xml?origins="&$C$14&"&destinations="&D21&"&mode=driving") -> <?xml version="1.0" encoding="UTF-8"?> <DistanceMatrixResponse> <status>OVER_QUERY_LIMIT</status> <error_message>Keyless access to Google Maps Platform is deprecated. Please use an API key with all your API calls to avoid service interruption. For further details please refer to http://g.co/dev/maps-no-account</error_message> </DistanceMatrixResponse> | F21: =ROUND(_xlfn.FILTERXML(E21,"/DistanceMatrixResponse/row/element/distance/value")/1000,1)*2 -> #VALUE! | G21: =F21*$C$11 -> #VALUE!
E22: =_xlfn.WEBSERVICE("https://maps.googleapis.com/maps/api/distancematrix/xml?origins="&$C$14&"&destinations="&D22&"&mode=driving") -> <?xml version="1.0" encoding="UTF-8"?> <DistanceMatrixResponse> <status>OVER_QUERY_LIMIT</status> <error_message>Keyless access to Google Maps Platform is deprecated. Please use an API key with all your API calls to avoid service interruption. For further details please refer to http://g.co/dev/maps-no-account</error_message> </DistanceMatrixResponse> | F22: =ROUND(_xlfn.FILTERXML(E22,"/DistanceMatrixResponse/row/element/distance/value")/1000,1)*2 -> #VALUE! | G22: =F22*$C$11 -> #VALUE!
E23: =_xlfn.WEBSERVICE("https://maps.googleapis.com/maps/api/distancematrix/xml?origins="&$C$14&"&destinations="&D23&"&mode=driving") -> <?xml version="1.0" encoding="UTF-8"?> <DistanceMatrixResponse> <status>OVER_QUERY_LIMIT</status> <error_message>Keyless access to Google Maps Platform is deprecated. Please use an API key with all your API calls to avoid service interruption. For further details please refer to http://g.co/dev/maps-no-account</error_message> </DistanceMatrixResponse> | F23: =ROUND(_xlfn.FILTERXML(E23,"/DistanceMatrixResponse/row/element/distance/value")/1000,1)*2 -> #VALUE! | G23: =F23*$C$11 -> #VALUE!
E24: =_xlfn.WEBSERVICE("https://maps.googleapis.com/maps/api/distancematrix/xml?origins="&$C$14&"&destinations="&D24&"&mode=driving") -> <?xml version="1.0" encoding="UTF-8"?> <DistanceMatrixResponse> <status>OVER_QUERY_LIMIT</status> <error_message>Keyless access to Google Maps Platform is deprecated. Please use an API key with all your API calls to avoid service interruption. For further details please refer to http://g.co/dev/maps-no-account</error_message> </DistanceMatrixResponse> | F24: =ROUND(_xlfn.FILTERXML(E24,"/DistanceMatrixResponse/row/element/distance/value")/1000,1)*2 -> #VALUE! | G24: =F24*$C$11 -> #VALUE!
E25: =_xlfn.WEBSERVICE("https://maps.googleapis.com/maps/api/distancematrix/xml?origins="&$C$14&"&destinations="&D25&"&mode=driving") -> <?xml version="1.0" encoding="UTF-8"?> <DistanceMatrixResponse> <status>OVER_QUERY_LIMIT</status> <error_message>Keyless access to Google Maps Platform is deprecated. Please use an API key with all your API calls to avoid service interruption. For further details please refer to http://g.co/dev/maps-no-account</error_message> </DistanceMatrixResponse> | F25: =ROUND(_xlfn.FILTERXML(E25,"/DistanceMatrixResponse/row/element/distance/value")/1000,1)*2 -> #VALUE! | G25: =F25*$C$11 -> #VALUE!
... E45: =_xlfn.WEBSERVICE("https://maps.googleapis.com/maps/api/distancematrix/xml?origins="&$C$14&"&destinations="&D45&"&mode=driving") -> <?xml version="1.0" encoding="UTF-8"?> <DistanceMatrixResponse> <status>OVER_QUERY_LIMIT</status> <error_message>Keyless access to Google Maps Platform is deprecated. Please use an API key with all your API calls to avoid service interruption. For further details please refer to http://g.co/dev/maps-no-account</error_message> </DistanceMatrixResponse> | F45: =ROUND(_xlfn.FILTERXML(E45,"/DistanceMatrixResponse/row/element/distance/value")/1000,1)*2 -> #VALUE! | G45: =F45*$C$11 -> #VALUE!

Sheet Mars
A1: Note de frais
D4: Période : | F4: Du | G4: Au
A5: N° NDF : | F5: 42795 | G5: 42825
A7: INFORMATIONS SUR L'EMPLOYÉ : | F7: Fonction : | G7: Gérant
A8: Nom
F9: EN KMS | G9: EN €
B10: Puissance | C10: Indemnité km | D10: TOT.CUMULE | F10: =SUM(F11+Février!F10) -> #VALUE! | G10: =SUM(G11+Février!G10) -> #VALUE!
B11: 7 CV et plus | C11: 0.401 | D11: TOTAL MOIS | F11: =SUM(F18:F33) -> #VALUE! | G11: =SUM(G18:G51) -> #VALUE!
A12: Date | B12: OBJET DU TRAJET | C12: DEPART | D12: ARRIVEE | F12: Frais kilométriques
F13: Km | G13: Montant
E14: =_xlfn.WEBSERVICE("https://maps.googleapis.com/maps/api/distancematrix/xml?origins="&$C$18&"&destinations="&D14&"&mode=driving") -> <?xml version="1.0" encoding="UTF-8"?> <DistanceMatrixResponse> <status>OVER_QUERY_LIMIT</status> <error_message>Keyless access to Google Maps Platform is deprecated. Please use an API key with all your API calls to avoid service interruption. For further details please refer to http://g.co/dev/maps-no-account</error_message> </DistanceMatrixResponse> | F14: =ROUND(_xlfn.FILTERXML(E14,"/DistanceMatrixResponse/row/element/distance/value")/1000,1)*2 -> #VALUE! | G14: =F14*$C$11 -> #VALUE!
E15: =_xlfn.WEBSERVICE("https://maps.googleapis.com/maps/api/distancematrix/xml?origins="&$C$18&"&destinations="&D15&"&mode=driving") -> <?xml version="1.0" encoding="UTF-8"?> <DistanceMatrixResponse> <status>OVER_QUERY_LIMIT</status> <error_message>Keyless access to Google Maps Platform is deprecated. Please use an API key with all your API calls to avoid service interruption. For further details please refer to http://g.co/dev/maps-no-account</error_message> </DistanceMatrixResponse> | F15: =ROUND(_xlfn.FILTERXML(E15,"/DistanceMatrixResponse/row/element/distance/value")/1000,1)*2 -> #VALUE! | G15: =F15*$C$11 -> #VALUE!
E16: =_xlfn.WEBSERVICE("https://maps.googleapis.com/maps/api/distancematrix/xml?origins="&$C$18&"&destinations="&D16&"&mode=driving") -> <?xml version="1.0" encoding="UTF-8"?> <DistanceMatrixResponse> <status>OVER_QUERY_LIMIT</status> <error_message>Keyless access to Google Maps Platform is deprecated. Please use an API key with all your API calls to avoid service interruption. For further details please refer to http://g.co/dev/maps-no-account</error_message> </DistanceMatrixResponse> | F16: =ROUND(_xlfn.FILTERXML(E16,"/DistanceMatrixResponse/row/element/distance/value")/1000,1)*2 -> #VALUE! | G16: =F16*$C$11 -> #VALUE!
E17: =_xlfn.WEBSERVICE("https://maps.googleapis.com/maps/api/distancematrix/xml?origins="&$C$18&"&destinations="&D17&"&mode=driving") -> <?xml version="1.0" encoding="UTF-8"?> <DistanceMatrixResponse> <status>OVER_QUERY_LIMIT</status> <error_message>Keyless access to Google Maps Platform is deprecated. Please use an API key with all your API calls to avoid service interruption. For further details please refer to http://g.co/dev/maps-no-account</error_message> </DistanceMatrixResponse> | F17: =ROUND(_xlfn.FILTERXML(E17,"/DistanceMatrixResponse/row/element/distance/value")/1000,1)*2 -> #VALUE! | G17: =F17*$C$11 -> #VALUE!
E18: =_xlfn.WEBSERVICE("https://maps.googleapis.com/maps/api/distancematrix/xml?origins="&$C$18&"&destinations="&D18&"&mode=driving") -> <?xml version="1.0" encoding="UTF-8"?> <DistanceMatrixResponse> <status>OVER_QUERY_LIMIT</status> <error_message>Keyless access to Google Maps Platform is deprecated. Please use an API key with all your API calls to avoid service interruption. For further details please refer to http://g.co/dev/maps-no-account</error_message> </DistanceMatrixResponse> | F18: =ROUND(_xlfn.FILTERXML(E18,"/DistanceMatrixResponse/row/element/distance/value")/1000,1)*2 -> #VALUE! | G18: =F18*$C$11 -> #VALUE!
E19: =_xlfn.WEBSERVICE("https://maps.googleapis.com/maps/api/distancematrix/xml?origins="&$C$18&"&destinations="&D19&"&mode=driving") -> <?xml version="1.0" encoding="UTF-8"?> <DistanceMatrixResponse> <status>OVER_QUERY_LIMIT</status> <error_message>Keyless access to Google Maps Platform is deprecated. Please use an API key with all your API calls to avoid service interruption. For further details please refer to http://g.co/dev/maps-no-account</error_message> </DistanceMatrixResponse> | F19: =ROUND(_xlfn.FILTERXML(E19,"/DistanceMatrixResponse/row/element/distance/value")/1000,1)*2 -> #VALUE! | G19: =F19*$C$11 -> #VALUE!
E20: =_xlfn.WEBSERVICE("https://maps.googleapis.com/maps/api/distancematrix/xml?origins="&$C$18&"&destinations="&D20&"&mode=driving") -> <?xml version="1.0" encoding="UTF-8"?> <DistanceMatrixResponse> <status>OVER_QUERY_LIMIT</status> <error_message>Keyless access to Google Maps Platform is deprecated. Please use an API key with all your API calls to avoid service interruption. For further details please refer to http://g.co/dev/maps-no-account</error_message> </DistanceMatrixResponse> | F20: =ROUND(_xlfn.FILTERXML(E20,"/DistanceMatrixResponse/row/element/distance/value")/1000,1)*2 -> #VALUE! | G20: =F20*$C$11 -> #VALUE!
E21: =_xlfn.WEBSERVICE("https://maps.googleapis.com/maps/api/distancematrix/xml?origins="&$C$18&"&destinations="&D21&"&mode=driving") -> <?xml version="1.0" encoding="UTF-8"?> <DistanceMatrixResponse> <status>OVER_QUERY_LIMIT</status> <error_message>Keyless access to Google Maps Platform is deprecated. Please use an API key with all your API calls to avoid service interruption. For further details please refer to http://g.co/dev/maps-no-account</error_message> </DistanceMatrixResponse> | F21: =ROUND(_xlfn.FILTERXML(E21,"/DistanceMatrixResponse/row/element/distance/value")/1000,1)*2 -> #VALUE! | G21: =F21*$C$11 -> #VALUE!
E22: =_xlfn.WEBSERVICE("https://maps.googleapis.com/maps/api/distancematrix/xml?origins="&$C$18&"&destinations="&D22&"&mode=driving") -> <?xml version="1.0" encoding="UTF-8"?> <DistanceMatrixResponse> <status>OVER_QUERY_LIMIT</status> <error_message>Keyless access to Google Maps Platform is deprecated. Please use an API key with all your API calls to avoid service interruption. For further details please refer to http://g.co/dev/maps-no-account</error_message> </DistanceMatrixResponse> | F22: =ROUND(_xlfn.FILTERXML(E22,"/DistanceMatrixResponse/row/element/distance/value")/1000,1)*2 -> #VALUE! | G22: =F22*$C$11 -> #VALUE!
E23: =_xlfn.WEBSERVICE("https://maps.googleapis.com/maps/api/distancematrix/xml?origins="&$C$18&"&destinations="&D23&"&mode=driving") -> <?xml version="1.0" encoding="UTF-8"?> <DistanceMatrixResponse> <status>OVER_QUERY_LIMIT</status> <error_message>Keyless access to Google Maps Platform is deprecated. Please use an API key with all your API calls to avoid service interruption. For further details please refer to http://g.co/dev/maps-no-account</error_message> </DistanceMatrixResponse> | F23: =ROUND(_xlfn.FILTERXML(E23,"/DistanceMatrixResponse/row/element/distance/value")/1000,1)*2 -> #VALUE! | G23: =F23*$C$11 -> #VALUE!
E24: =_xlfn.WEBSERVICE("https://maps.googleapis.com/maps/api/distancematrix/xml?origins="&$C$18&"&destinations="&D24&"&mode=driving") -> <?xml version="1.0" encoding="UTF-8"?> <DistanceMatrixResponse> <status>OVER_QUERY_LIMIT</status> <error_message>Keyless access to Google Maps Platform is deprecated. Please use an API key with all your API calls to avoid service interruption. For further details please refer to http://g.co/dev/maps-no-account</error_message> </DistanceMatrixResponse> | F24: =ROUND(_xlfn.FILTERXML(E24,"/DistanceMatrixResponse/row/element/distance/value")/1000,1)*2 -> #VALUE! | G24: =F24*$C$11 -> #VALUE!
E25: =_xlfn.WEBSERVICE("https://maps.googleapis.com/maps/api/distancematrix/xml?origins="&$C$18&"&destinations="&D25&"&mode=driving") -> <?xml version="1.0" encoding="UTF-8"?> <DistanceMatrixResponse> <status>OVER_QUERY_LIMIT</status> <error_message>Keyless access to Google Maps Platform is deprecated. Please use an API key with all your API calls to avoid service interruption. For further details please refer to http://g.co/dev/maps-no-account</error_message> </DistanceMatrixResponse> | F25: =ROUND(_xlfn.FILTERXML(E25,"/DistanceMatrixResponse/row/element/distance/value")/1000,1)*2 -> #VALUE! | G25: =F25*$C$11 -> #VALUE!
E26: =_xlfn.WEBSERVICE("https://maps.googleapis.com/maps/api/distancematrix/xml?origins="&$C$26&"&destinations="&D26&"&mode=driving") -> <?xml version="1.0" encoding="UTF-8"?> <DistanceMatrixResponse> <status>OVER_QUERY_LIMIT</status> <error_message>Keyless access to Google Maps Platform is deprecated. Please use an API key with all your API calls to avoid service interruption. For further details please refer to http://g.co/dev/maps-no-account</error_message> </DistanceMatrixResponse> | F26: =ROUND(_xlfn.FILTERXML(E26,"/DistanceMatrixResponse/row/element/distance/value")/1000,1)*2 -> #VALUE! | G26: =F26*$C$11 -> #VALUE!
E27: =_xlfn.WEBSERVICE("https://maps.googleapis.com/maps/api/distancematrix/xml?origins="&$C$27&"&destinations="&D27&"&mode=driving") -> <?xml version="1.0" encoding="UTF-8"?> <DistanceMatrixResponse> <status>OVER_QUERY_LIMIT</status> <error_message>Keyless access to Google Maps Platform is deprecated. Please use an API key with all your API calls to avoid service interruption. For further details please refer to http://g.co/dev/maps-no-account</error_message> </DistanceMatrixResponse> | F27: =ROUND(_xlfn.FILTERXML(E27,"/DistanceMatrixResponse/row/element/distance/value")/1000,1)*2 -> #VALUE! | G27: =F27*$C$11 -> #VALUE!
E28: =_xlfn.WEBSERVICE("https://maps.googleapis.com/maps/api/distancematrix/xml?origins="&$C$28&"&destinations="&D28&"&mode=driving") -> <?xml version="1.0" encoding="UTF-8"?> <DistanceMatrixResponse> <status>OVER_QUERY_LIMIT</status> <error_message>Keyless access to Google Maps Platform is deprecated. Please use an API key with all your API calls to avoid service interruption. For further details please refer to http://g.co/dev/maps-no-account</error_message> </DistanceMatrixResponse> | F28: =ROUND(_xlfn.FILTERXML(E28,"/DistanceMatrixResponse/row/element/distance/value")/1000,1)*2 -> #VALUE! | G28: =F28*$C$11 -> #VALUE!
E29: =_xlfn.WEBSERVICE("https://maps.googleapis.com/maps/api/distancematrix/xml?origins="&$C$29&"&destinations="&D29&"&mode=driving") -> <?xml version="1.0" encoding="UTF-8"?> <DistanceMatrixResponse> <status>OVER_QUERY_LIMIT</status> <error_message>Keyless access to Google Maps Platform is deprecated. Please use an API key with all your API calls to avoid service interruption. For further details please refer to http://g.co/dev/maps-no-account</error_message> </DistanceMatrixResponse> | F29: =ROUND(_xlfn.FILTERXML(E29,"/DistanceMatrixResponse/row/element/distance/value")/1000,1)*2 -> #VALUE! | G29: =F29*$C$11 -> #VALUE!
E30: =_xlfn.WEBSERVICE("https://maps.googleapis.com/maps/api/distancematrix/xml?origins="&$C$30&"&destinations="&D30&"&mode=driving") -> <?xml version="1.0" encoding="UTF-8"?> <DistanceMatrixResponse> <status>OVER_QUERY_LIMIT</status> <error_message>Keyless access to Google Maps Platform is deprecated. Please use an API key with all your API calls to avoid service interruption. For further details please refer to http://g.co/dev/maps-no-account</error_message> </DistanceMatrixResponse> | F30: =ROUND(_xlfn.FILTERXML(E30,"/DistanceMatrixResponse/row/element/distance/value")/1000,1)*2 -> #VALUE! | G30: =F30*$C$11 -> #VALUE!
E31: =_xlfn.WEBSERVICE("https://maps.googleapis.com/maps/api/distancematrix/xml?origins="&$C$31&"&destinations="&D31&"&mode=driving") -> <?xml version="1.0" encoding="UTF-8"?> <DistanceMatrixResponse> <status>OVER_QUERY_LIMIT</status> <error_message>Keyless access to Google Maps Platform is deprecated. Please use an API key with all your API calls to avoid service interruption. For further details please refer to http://g.co/dev/maps-no-account</error_message> </DistanceMatrixResponse> | F31: =ROUND(_xlfn.FILTERXML(E31,"/DistanceMatrixResponse/row/element/distance/value")/1000,1)*2 -> #VALUE! | G31: =F31*$C$11 -> #VALUE!
E32: =_xlfn.WEBSERVICE("https://maps.googleapis.com/maps/api/distancematrix/xml?origins="&$C$32&"&destinations="&D32&"&mode=driving") -> <?xml version="1.0" encoding="UTF-8"?> <DistanceMatrixResponse> <status>OVER_QUERY_LIMIT</status> <error_message>Keyless access to Google Maps Platform is deprecated. Please use an API key with all your API calls to avoid service interruption. For further details please refer to http://g.co/dev/maps-no-account</error_message> </DistanceMatrixResponse> | F32: =ROUND(_xlfn.FILTERXML(E32,"/DistanceMatrixResponse/row/element/distance/value")/1000,1)*2 -> #VALUE! | G32: =F32*$C$11 -> #VALUE!
E33: =_xlfn.WEBSERVICE("https://maps.googleapis.com/maps/api/distancematrix/xml?origins="&$C$32&"&destinations="&D33&"&mode=driving") -> <?xml version="1.0" encoding="UTF-8"?> <DistanceMatrixResponse> <status>OVER_QUERY_LIMIT</status> <error_message>Keyless access to Google Maps Platform is deprecated. Please use an API key with all your API calls to avoid service interruption. For further details please refer to http://g.co/dev/maps-no-account</error_message> </DistanceMatrixResponse> | F33: =ROUND(_xlfn.FILTERXML(E33,"/DistanceMatrixResponse/row/element/distance/value")/1000,1)*2 -> #VALUE! | G33: =F33*$C$11 -> #VALUE!
A52: APPROUVÉ :

Sheet Avril
A1: Note de frais
D4: Période : | F4: Du | G4: Au
A5: N° NDF : | F5: 42826
A7: INFORMATIONS SUR L'EMPLOYÉ : | F7: Fonction : | G7: Gérant
A8: Nom
F9: EN KMS | G9: EN €
B10: Puissance | C10: Indemnité km | D10: TOT.CUMULE | F10: =SUM(F11+Mars!F10) -> #VALUE! | G10: =SUM(G11+Mars!G10) -> #VALUE!
B11: 7 CV et plus | C11: 0.401 | D11: TOTAL MOIS | F11: =SUM(F17:F37) -> #VALUE! | G11: =SUM(G17:G47) -> #VALUE!
A12: Date | B12: OBJET DU TRAJET | C12: DEPART | D12: ARRIVEE | F12: Frais kilométriques
F13: Km | G13: Montant
E14: =_xlfn.WEBSERVICE("https://maps.googleapis.com/maps/api/distancematrix/xml?origins="&$C$17&"&destinations="&D14&"&mode=driving") -> <?xml version="1.0" encoding="UTF-8"?> <DistanceMatrixResponse> <status>OVER_QUERY_LIMIT</status> <error_message>Keyless access to Google Maps Platform is deprecated. Please use an API key with all your API calls to avoid service interruption. For further details please refer to http://g.co/dev/maps-no-account</error_message> </DistanceMatrixResponse> | F14: =ROUND(_xlfn.FILTERXML(E14,"/DistanceMatrixResponse/row/element/distance/value")/1000,1)*2 -> #VALUE! | G14: =F14*$C$11 -> #VALUE!
E15: =_xlfn.WEBSERVICE("https://maps.googleapis.com/maps/api/distancematrix/xml?origins="&$C$17&"&destinations="&D15&"&mode=driving") -> <?xml version="1.0" encoding="UTF-8"?> <DistanceMatrixResponse> <status>OVER_QUERY_LIMIT</status> <error_message>Keyless access to Google Maps Platform is deprecated. Please use an API key with all your API calls to avoid service interruption. For further details please refer to http://g.co/dev/maps-no-account</error_message> </DistanceMatrixResponse> | F15: =ROUND(_xlfn.FILTERXML(E15,"/DistanceMatrixResponse/row/element/distance/value")/1000,1)*2 -> #VALUE! | G15: =F15*$C$11 -> #VALUE!
E16: =_xlfn.WEBSERVICE("https://maps.googleapis.com/maps/api/distancematrix/xml?origins="&$C$17&"&destinations="&D16&"&mode=driving") -> <?xml version="1.0" encoding="UTF-8"?> <DistanceMatrixResponse> <status>OVER_QUERY_LIMIT</status> <error_message>Keyless access to Google Maps Platform is deprecated. Please use an API key with all your API calls to avoid service interruption. For further details please refer to http://g.co/dev/maps-no-account</error_message> </DistanceMatrixResponse> | F16: =ROUND(_xlfn.FILTERXML(E16,"/DistanceMatrixResponse/row/element/distance/value")/1000,1)*2 -> #VALUE! | G16: =F16*$C$11 -> #VALUE!
E17: =_xlfn.WEBSERVICE("https://maps.googleapis.com/maps/api/distancematrix/xml?origins="&$C$17&"&destinations="&D17&"&mode=driving") -> <?xml version="1.0" encoding="UTF-8"?> <DistanceMatrixResponse> <status>OVER_QUERY_LIMIT</status> <error_message>Keyless access to Google Maps Platform is deprecated. Please use an API key with all your API calls to avoid service interruption. For further details please refer to http://g.co/dev/maps-no-account</error_message> </DistanceMatrixResponse> | F17: =ROUND(_xlfn.FILTERXML(E17,"/DistanceMatrixResponse/row/element/distance/value")/1000,1)*2 -> #VALUE! | G17: =F17*$C$11 -> #VALUE!
E18: =_xlfn.WEBSERVICE("https://maps.googleapis.com/maps/api/distancematrix/xml?origins="&$C$18&"&destinations="&D18&"&mode=driving") -> <?xml version="1.0" encoding="UTF-8"?> <DistanceMatrixResponse> <status>OVER_QUERY_LIMIT</status> <error_message>Keyless access to Google Maps Platform is deprecated. Please use an API key with all your API calls to avoid service interruption. For further details please refer to http://g.co/dev/maps-no-account</error_message> </DistanceMatrixResponse> | F18: =ROUND(_xlfn.FILTERXML(E18,"/DistanceMatrixResponse/row/element/distance/value")/1000,1)*2 -> #VALUE! | G18: =F18*$C$11 -> #VALUE!
E19: =_xlfn.WEBSERVICE("https://maps.googleapis.com/maps/api/distancematrix/xml?origins="&$C$19&"&destinations="&D19&"&mode=driving") -> <?xml version="1.0" encoding="UTF-8"?> <DistanceMatrixResponse> <status>OVER_QUERY_LIMIT</status> <error_message>Keyless access to Google Maps Platform is deprecated. Please use an API key with all your API calls to avoid service interruption. For further details please refer to http://g.co/dev/maps-no-account</error_message> </DistanceMatrixResponse> | F19: =ROUND(_xlfn.FILTERXML(E19,"/DistanceMatrixResponse/row/element/distance/value")/1000,1)*2 -> #VALUE! | G19: =F19*$C$11 -> #VALUE!
E20: =_xlfn.WEBSERVICE("https://maps.googleapis.com/maps/api/distancematrix/xml?origins="&$C$20&"&destinations="&D20&"&mode=driving") -> <?xml version="1.0" encoding="UTF-8"?> <DistanceMatrixResponse> <status>OVER_QUERY_LIMIT</status> <error_message>Keyless access to Google Maps Platform is deprecated. Please use an API key with all your API calls to avoid service interruption. For further details please refer to http://g.co/dev/maps-no-account</error_message> </DistanceMatrixResponse> | F20: =ROUND(_xlfn.FILTERXML(E20,"/DistanceMatrixResponse/row/element/distance/value")/1000,1)*2 -> #VALUE! | G20: =F20*$C$11 -> #VALUE!
E21: =_xlfn.WEBSERVICE("https://maps.googleapis.com/maps/api/distancematrix/xml?origins="&$C$20&"&destinations="&D21&"&mode=driving") -> <?xml version="1.0" encoding="UTF-8"?> <DistanceMatrixResponse> <status>OVER_QUERY_LIMIT</status> <error_message>Keyless access to Google Maps Platform is deprecated. Please use an API key with all your API calls to avoid service interruption. For further details please refer to http://g.co/dev/maps-no-account</error_message> </DistanceMatrixResponse> | F21: =ROUND(_xlfn.FILTERXML(E21,"/DistanceMatrixResponse/row/element/distance/value")/1000,1)*2 -> #VALUE! | G21: =F21*$C$11 -> #VALUE!
E22: =_xlfn.WEBSERVICE("https://maps.googleapis.com/maps/api/distancematrix/xml?origins="&$C$20&"&destinations="&D22&"&mode=driving") -> <?xml version="1.0" encoding="UTF-8"?> <DistanceMatrixResponse> <status>OVER_QUERY_LIMIT</status> <error_message>Keyless access to Google Maps Platform is deprecated. Please use an API key with all your API calls to avoid service interruption. For further details please refer to http://g.co/dev/maps-no-account</error_message> </DistanceMatrixResponse> | F22: =ROUND(_xlfn.FILTERXML(E22,"/DistanceMatrixResponse/row/element/distance/value")/1000,1)*2 -> #VALUE! | G22: =F22*$C$11 -> #VALUE!
E23: =_xlfn.WEBSERVICE("https://maps.googleapis.com/maps/api/distancematrix/xml?origins="&$C$20&"&destinations="&D23&"&mode=driving") -> <?xml version="1.0" encoding="UTF-8"?> <DistanceMatrixResponse> <status>OVER_QUERY_LIMIT</status> <error_message>Keyless access to Google Maps Platform is deprecated. Please use an API key with all your API calls to avoid service interruption. For further details please refer to http://g.co/dev/maps-no-account</error_message> </DistanceMatrixResponse> | F23: =ROUND(_xlfn.FILTERXML(E23,"/DistanceMatrixResponse/row/element/distance/value")/1000,1)*2 -> #VALUE! | G23: =F23*$C$11 -> #VALUE!
E24: =_xlfn.WEBSERVICE("https://maps.googleapis.com/maps/api/distancematrix/xml?origins="&$C$20&"&destinations="&D24&"&mode=driving") -> <?xml version="1.0" encoding="UTF-8"?> <DistanceMatrixResponse> <status>OVER_QUERY_LIMIT</status> <error_message>Keyless access to Google Maps Platform is deprecated. Please use an API key with all your API calls to avoid service interruption. For further details please refer to http://g.co/dev/maps-no-account</error_message> </DistanceMatrixResponse> | F24: =ROUND(_xlfn.FILTERXML(E24,"/DistanceMatrixResponse/row/element/distance/value")/1000,1)*2 -> #VALUE! | G24: =F24*$C$11 -> #VALUE!
E25: =_xlfn.WEBSERVICE("https://maps.googleapis.com/maps/api/distancematrix/xml?origins="&$C$25&"&destinations="&D25&"&mode=driving") -> <?xml version="1.0" encoding="UTF-8"?> <DistanceMatrixResponse> <status>OVER_QUERY_LIMIT</status> <error_message>Keyless access to Google Maps Platform is deprecated. Please use an API key with all your API calls to avoid service interruption. For further details please refer to http://g.co/dev/maps-no-account</error_message> </DistanceMatrixResponse> | F25: =ROUND(_xlfn.FILTERXML(E25,"/DistanceMatrixResponse/row/element/distance/value")/1000,1)*2 -> #VALUE! | G25: =F25*$C$11 -> #VALUE!
E26: =_xlfn.WEBSERVICE("https://maps.googleapis.com/maps/api/distancematrix/xml?origins="&$C$26&"&destinations="&D26&"&mode=driving") -> <?xml version="1.0" encoding="UTF-8"?> <DistanceMatrixResponse> <status>OVER_QUERY_LIMIT</status> <error_message>Keyless access to Google Maps Platform is deprecated. Please use an API key with all your API calls to avoid service interruption. For further details please refer to http://g.co/dev/maps-no-account</error_message> </DistanceMatrixResponse> | F26: =ROUND(_xlfn.FILTERXML(E26,"/DistanceMatrixResponse/row/element/distance/value")/1000,1)*2 -> #VALUE! | G26: =F26*$C$11 -> #VALUE!
E27: =_xlfn.WEBSERVICE("https://maps.googleapis.com/maps/api/distancematrix/xml?origins="&$C$27&"&destinations="&D27&"&mode=driving") -> <?xml version="1.0" encoding="UTF-8"?> <DistanceMatrixResponse> <status>OVER_QUERY_LIMIT</status> <error_message>Keyless access to Google Maps Platform is deprecated. Please use an API key with all your API calls to avoid service interruption. For further details please refer to http://g.co/dev/maps-no-account</error_message> </DistanceMatrixResponse> | F27: =ROUND(_xlfn.FILTERXML(E27,"/DistanceMatrixResponse/row/element/distance/value")/1000,1)*2 -> #VALUE! | G27: =F27*$C$11 -> #VALUE!
E28: =_xlfn.WEBSERVICE("https://maps.googleapis.com/maps/api/distancematrix/xml?origins="&$C$17&"&destinations="&D28&"&mode=driving") -> <?xml version="1.0" encoding="UTF-8"?> <DistanceMatrixResponse> <status>OVER_QUERY_LIMIT</status> <error_message>Keyless access to Google Maps Platform is deprecated. Please use an API key with all your API calls to avoid service interruption. For further details please refer to http://g.co/dev/maps-no-account</error_message> </DistanceMatrixResponse> | F28: =ROUND(_xlfn.FILTERXML(E28,"/DistanceMatrixResponse/row/element/distance/value")/1000,1)*2 -> #VALUE! | G28: =F28*$C$11 -> #VALUE!
E29: =_xlfn.WEBSERVICE("https://maps.googleapis.com/maps/api/distancematrix/xml?origins="&$C$17&"&destinations="&D29&"&mode=driving") -> <?xml version="1.0" encoding="UTF-8"?> <DistanceMatrixResponse> <status>OVER_QUERY_LIMIT</status> <error_message>Keyless access to Google Maps Platform is deprecated. Please use an API key with all your API calls to avoid service interruption. For further details please refer to http://g.co/dev/maps-no-account</error_message> </DistanceMatrixResponse> | F29: =ROUND(_xlfn.FILTERXML(E29,"/DistanceMatrixResponse/row/element/distance/value")/1000,1)*2 -> #VALUE! | G29: =F29*$C$11 -> #VALUE!
E30: =_xlfn.WEBSERVICE("https://maps.googleapis.com/maps/api/distancematrix/xml?origins="&$C$17&"&destinations="&D30&"&mode=driving") -> <?xml version="1.0" encoding="UTF-8"?> <DistanceMatrixResponse> <status>OVER_QUERY_LIMIT</status> <error_message>Keyless access to Google Maps Platform is deprecated. Please use an API key with all your API calls to avoid service interruption. For further details please refer to http://g.co/dev/maps-no-account</error_message> </DistanceMatrixResponse> | F30: =ROUND(_xlfn.FILTERXML(E30,"/DistanceMatrixResponse/row/element/distance/value")/1000,1)*2 -> #VALUE! | G30: =F30*$C$11 -> #VALUE!
E31: =_xlfn.WEBSERVICE("https://maps.googleapis.com/maps/api/distancematrix/xml?origins="&$C$17&"&destinations="&D31&"&mode=driving") -> <?xml version="1.0" encoding="UTF-8"?> <DistanceMatrixResponse> <status>OVER_QUERY_LIMIT</status> <error_message>Keyless access to Google Maps Platform is deprecated. Please use an API key with all your API calls to avoid service interruption. For further details please refer to http://g.co/dev/maps-no-account</error_message> </DistanceMatrixResponse> | F31: =ROUND(_xlfn.FILTERXML(E31,"/DistanceMatrixResponse/row/element/distance/value")/1000,1)*2 -> #VALUE! | G31: =F31*$C$11 -> #VALUE!
E32: =_xlfn.WEBSERVICE("https://maps.googleapis.com/maps/api/distancematrix/xml?origins="&$C$17&"&destinations="&D32&"&mode=driving") -> <?xml version="1.0" encoding="UTF-8"?> <DistanceMatrixResponse> <status>OVER_QUERY_LIMIT</status> <error_message>Keyless access to Google Maps Platform is deprecated. Please use an API key with all your API calls to avoid service interruption. For further details please refer to http://g.co/dev/maps-no-account</error_message> </DistanceMatrixResponse> | F32: =ROUND(_xlfn.FILTERXML(E32,"/DistanceMatrixResponse/row/element/distance/value")/1000,1)*2 -> #VALUE! | G32: =F32*$C$11 -> #VALUE!
E33: =_xlfn.WEBSERVICE("https://maps.googleapis.com/maps/api/distancematrix/xml?origins="&$C$17&"&destinations="&D33&"&mode=driving") -> <?xml version="1.0" encoding="UTF-8"?> <DistanceMatrixResponse> <status>OVER_QUERY_LIMIT</status> <error_message>Keyless access to Google Maps Platform is deprecated. Please use an API key with all your API calls to avoid service interruption. For further details please refer to http://g.co/dev/maps-no-account</error_message> </DistanceMatrixResponse> | F33: =ROUND(_xlfn.FILTERXML(E33,"/DistanceMatrixResponse/row/element/distance/value")/1000,1)*2 -> #VALUE! | G33: =F33*$C$11 -> #VALUE!
E34: =_xlfn.WEBSERVICE("https://maps.googleapis.com/maps/api/distancematrix/xml?origins="&$C$17&"&destinations="&D34&"&mode=driving") -> <?xml version="1.0" encoding="UTF-8"?> <DistanceMatrixResponse> <status>OVER_QUERY_LIMIT</status> <error_message>Keyless access to Google Maps Platform is deprecated. Please use an API key with all your API calls to avoid service interruption. For further details please refer to http://g.co/dev/maps-no-account</error_message> </DistanceMatrixResponse> | F34: =ROUND(_xlfn.FILTERXML(E34,"/DistanceMatrixResponse/row/element/distance/value")/1000,1)*2 -> #VALUE! | G34: =F34*$C$11 -> #VALUE!
E35: =_xlfn.WEBSERVICE("https://maps.googleapis.com/maps/api/distancematrix/xml?origins="&$C$17&"&destinations="&D35&"&mode=driving") -> <?xml version="1.0" encoding="UTF-8"?> <DistanceMatrixResponse> <status>OVER_QUERY_LIMIT</status> <error_message>Keyless access to Google Maps Platform is deprecated. Please use an API key with all your API calls to avoid service interruption. For further details please refer to http://g.co/dev/maps-no-account</error_message> </DistanceMatrixResponse> | F35: =ROUND(_xlfn.FILTERXML(E35,"/DistanceMatrixResponse/row/element/distance/value")/1000,1)*2 -> #VALUE! | G35: =F35*$C$11 -> #VALUE!
E36: =_xlfn.WEBSERVICE("https://maps.googleapis.com/maps/api/distancematrix/xml?origins="&$C$17&"&destinations="&D36&"&mode=driving") -> <?xml version="1.0" encoding="UTF-8"?> <DistanceMatrixResponse> <status>OVER_QUERY_LIMIT</status> <error_message>Keyless access to Google Maps Platform is deprecated. Please use an API key with all your API calls to avoid service interruption. For further details please refer to http://g.co/dev/maps-no-account</error_message> </DistanceMatrixResponse> | F36: =ROUND(_xlfn.FILTERXML(E36,"/DistanceMatrixResponse/row/element/distance/value")/1000,1)*2 -> #VALUE! | G36: =F36*$C$11 -> #VALUE!
E37: =_xlfn.WEBSERVICE("https://maps.googleapis.com/maps/api/distancematrix/xml?origins="&$C$17&"&destinations="&D37&"&mode=driving") -> <?xml version="1.0" encoding="UTF-8"?> <DistanceMatrixResponse> <status>OVER_QUERY_LIMIT</status> <error_message>Keyless access to Google Maps Platform is deprecated. Please use an API key with all your API calls to avoid service interruption. For further details please refer to http://g.co/dev/maps-no-account</error_message> </DistanceMatrixResponse> | F37: =ROUND(_xlfn.FILTERXML(E37,"/DistanceMatrixResponse/row/element/distance/value")/1000,1)*2 -> #VALUE! | G37: =F37*$C$11 -> #VALUE!
E38: =_xlfn.WEBSERVICE("https://maps.googleapis.com/maps/api/distancematrix/xml?origins="&$C$17&"&destinations="&D38&"&mode=driving") -> <?xml version="1.0" encoding="UTF-8"?> <DistanceMatrixResponse> <status>OVER_QUERY_LIMIT</status> <error_message>Keyless access to Google Maps Platform is deprecated. Please use an API key with all your API calls to avoid service interruption. For further details please refer to http://g.co/dev/maps-no-account</error_message> </DistanceMatrixResponse> | F38: =ROUND(_xlfn.FILTERXML(E38,"/DistanceMatrixResponse/row/element/distance/value")/1000,1)*2 -> #VALUE! | G38: =F38*$C$11 -> #VALUE!
E39: =_xlfn.WEBSERVICE("https://maps.googleapis.com/maps/api/distancematrix/xml?origins="&$C$17&"&destinations="&D39&"&mode=driving") -> <?xml version="1.0" encoding="UTF-8"?> <DistanceMatrixResponse> <status>OVER_QUERY_LIMIT</status> <error_message>Keyless access to Google Maps Platform is deprecated. Please use an API key with all your API calls to avoid service interruption. For further details please refer to http://g.co/dev/maps-no-account</error_message> </DistanceMatrixResponse> | F39: =ROUND(_xlfn.FILTERXML(E39,"/DistanceMatrixResponse/row/element/distance/value")/1000,1)*2 -> #VALUE! | G39: =F39*$C$11 -> #VALUE!
... E41: =_xlfn.WEBSERVICE("https://maps.googleapis.com/maps/api/distancematrix/xml?origins="&$C$17&"&destinations="&D41&"&mode=driving") -> <?xml version="1.0" encoding="UTF-8"?> <DistanceMatrixResponse> <status>OVER_QUERY_LIMIT</status> <error_message>Keyless access to Google Maps Platform is deprecated. Please use an API key with all your API calls to avoid service interruption. For further details please refer to http://g.co/dev/maps-no-account</error_message> </DistanceMatrixResponse> | F41: =ROUND(_xlfn.FILTERXML(E41,"/DistanceMatrixResponse/row/element/distance/value")/1000,1)*2 -> #VALUE! | G41: =F41*$C$11 -> #VALUE!
A48: APPROUVÉ :

Sheet Mai
A1: Note de frais
D4: Période : | F4: Du | G4: Au
A5: N° NDF : | F5: 42856 | G5: 42886
A7: INFORMATIONS SUR L'EMPLOYÉ : | F7: Fonction : | G7: Gérant
A8: Nom
F9: EN KMS | G9: EN €
B10: Puissance | C10: Indemnité km | D10: TOT.CUMULE | F10: =SUM(F11+Avril!F10) -> #VALUE! | G10: =SUM(G11+Avril!G10) -> #VALUE!
B11: 7 CV et plus | C11: 0.401 | D11: TOTAL MOIS | F11: =SUM(F15:F28) -> #VALUE! | G11: =SUM(G15:G28) -> #VALUE!
A12: Date | B12: OBJET DU TRAJET | C12: DEPART | D12: ARRIVEE | F12: Frais kilométriques
F13: Km | G13: Montant
E14: =_xlfn.WEBSERVICE("https://maps.googleapis.com/maps/api/distancematrix/xml?origins="&$C$17&"&destinations="&D14&"&mode=driving") -> <?xml version="1.0" encoding="UTF-8"?> <DistanceMatrixResponse> <status>OVER_QUERY_LIMIT</status> <error_message>Keyless access to Google Maps Platform is deprecated. Please use an API key with all your API calls to avoid service interruption. For further details please refer to http://g.co/dev/maps-no-account</error_message> </DistanceMatrixResponse> | F14: =ROUND(_xlfn.FILTERXML(E14,"/DistanceMatrixResponse/row/element/distance/value")/1000,1)*2 -> #VALUE! | G14: =F14*$C$11 -> #VALUE!
E15: =_xlfn.WEBSERVICE("https://maps.googleapis.com/maps/api/distancematrix/xml?origins="&$C$17&"&destinations="&D15&"&mode=driving") -> <?xml version="1.0" encoding="UTF-8"?> <DistanceMatrixResponse> <status>OVER_QUERY_LIMIT</status> <error_message>Keyless access to Google Maps Platform is deprecated. Please use an API key with all your API calls to avoid service interruption. For further details please refer to http://g.co/dev/maps-no-account</error_message> </DistanceMatrixResponse> | F15: =ROUND(_xlfn.FILTERXML(E15,"/DistanceMatrixResponse/row/element/distance/value")/1000,1)*2 -> #VALUE! | G15: =F15*$C$11 -> #VALUE!
E16: =_xlfn.WEBSERVICE("https://maps.googleapis.com/maps/api/distancematrix/xml?origins="&$C$17&"&destinations="&D16&"&mode=driving") -> <?xml version="1.0" encoding="UTF-8"?> <DistanceMatrixResponse> <status>OVER_QUERY_LIMIT</status> <error_message>Keyless access to Google Maps Platform is deprecated. Please use an API key with all your API calls to avoid service interruption. For further details please refer to http://g.co/dev/maps-no-account</error_message> </DistanceMatrixResponse> | F16: =ROUND(_xlfn.FILTERXML(E16,"/DistanceMatrixResponse/row/element/distance/value")/1000,1)*2 -> #VALUE! | G16: =F16*$C$11 -> #VALUE!
E17: =_xlfn.WEBSERVICE("https://maps.googleapis.com/maps/api/distancematrix/xml?origins="&$C$17&"&destinations="&D17&"&mode=driving") -> <?xml version="1.0" encoding="UTF-8"?> <DistanceMatrixResponse> <status>OVER_QUERY_LIMIT</status> <error_message>Keyless access to Google Maps Platform is deprecated. Please use an API key with all your API calls to avoid service interruption. For further details please refer to http://g.co/dev/maps-no-account</error_message> </DistanceMatrixResponse> | F17: =ROUND(_xlfn.FILTERXML(E17,"/DistanceMatrixResponse/row/element/distance/value")/1000,1)*2 -> #VALUE! | G17: =F17*$C$11 -> #VALUE!
E18: =_xlfn.WEBSERVICE("https://maps.googleapis.com/maps/api/distancematrix/xml?origins="&$C$17&"&destinations="&D18&"&mode=driving") -> <?xml version="1.0" encoding="UTF-8"?> <DistanceMatrixResponse> <status>OVER_QUERY_LIMIT</status> <error_message>Keyless access to Google Maps Platform is deprecated. Please use an API key with all your API calls to avoid service interruption. For further details please refer to http://g.co/dev/maps-no-account</error_message> </DistanceMatrixResponse> | F18: =ROUND(_xlfn.FILTERXML(E18,"/DistanceMatrixResponse/row/element/distance/value")/1000,1)*2 -> #VALUE! | G18: =F18*$C$11 -> #VALUE!
E19: =_xlfn.WEBSERVICE("https://maps.googleapis.com/maps/api/distancematrix/xml?origins="&$C$17&"&destinations="&D19&"&mode=driving") -> <?xml version="1.0" encoding="UTF-8"?> <DistanceMatrixResponse> <status>OVER_QUERY_LIMIT</status> <error_message>Keyless access to Google Maps Platform is deprecated. Please use an API key with all your API calls to avoid service interruption. For further details please refer to http://g.co/dev/maps-no-account</error_message> </DistanceMatrixResponse> | F19: =ROUND(_xlfn.FILTERXML(E19,"/DistanceMatrixResponse/row/element/distance/value")/1000,1)*2 -> #VALUE! | G19: =F19*$C$11 -> #VALUE!
E20: =_xlfn.WEBSERVICE("https://maps.googleapis.com/maps/api/distancematrix/xml?origins="&$C$17&"&destinations="&D20&"&mode=driving") -> <?xml version="1.0" encoding="UTF-8"?> <DistanceMatrixResponse> <status>OVER_QUERY_LIMIT</status> <error_message>Keyless access to Google Maps Platform is deprecated. Please use an API key with all your API calls to avoid service interruption. For further details please refer to http://g.co/dev/maps-no-account</error_message> </DistanceMatrixResponse> | F20: =ROUND(_xlfn.FILTERXML(E20,"/DistanceMatrixResponse/row/element/distance/value")/1000,1)*2 -> #VALUE! | G20: =F20*$C$11 -> #VALUE!
E21: =_xlfn.WEBSERVICE("https://maps.googleapis.com/maps/api/distancematrix/xml?origins="&$C$17&"&destinations="&D21&"&mode=driving") -> <?xml version="1.0" encoding="UTF-8"?> <DistanceMatrixResponse> <status>OVER_QUERY_LIMIT</status> <error_message>Keyless access to Google Maps Platform is deprecated. Please use an API key with all your API calls to avoid service interruption. For further details please refer to http://g.co/dev/maps-no-account</error_message> </DistanceMatrixResponse> | F21: =ROUND(_xlfn.FILTERXML(E21,"/DistanceMatrixResponse/row/element/distance/value")/1000,1)*2 -> #VALUE! | G21: =F21*$C$11 -> #VALUE!
E22: =_xlfn.WEBSERVICE("https://maps.googleapis.com/maps/api/distancematrix/xml?origins="&$C$17&"&destinations="&D22&"&mode=driving") -> <?xml version="1.0" encoding="UTF-8"?> <DistanceMatrixResponse> <status>OVER_QUERY_LIMIT</status> <error_message>Keyless access to Google Maps Platform is deprecated. Please use an API key with all your API calls to avoid service interruption. For further details please refer to http://g.co/dev/maps-no-account</error_message> </DistanceMatrixResponse> | F22: =ROUND(_xlfn.FILTERXML(E22,"/DistanceMatrixResponse/row/element/distance/value")/1000,1)*2 -> #VALUE! | G22: =F22*$C$11 -> #VALUE!
