Workbook

Sheet Info One Page
A8: Produits | B8: Description | C8: Qté | D8: Client | E8: # client | F8: Fournisseur | G8: Période
A9: =Feuil7!A9 -> B-2013 | B9: =Feuil7!B9 -> Produits 8 | C9: =Feuil7!C9 -> 35 | D9: =Feuil7!D9 -> Client: Client 1 | E9: =Feuil7!E9 -> Numéro Client : 701 | F9: =Feuil7!F9 -> Fournisseur: (Fictif 1) | G9: =Feuil7!G9 -> 2017-01-01 au 2017-10-30

Sheet Feuil7
A1: Compagnie X
A2: 2017-01-01 au 2017-10-30
A3: Fournisseur: (Fictif 1)
A4: Client: Client 1
A5: Numéro Client : 701
A7: Fournisseur: (Fictif 1)
A8: Produits | B8: Description | C8: Qté | D8: Client | E8: # client | F8: Fournisseur | G8: Période
A9: B-2013 | B9: Produits 8 | C9: 35 | D9: =$A$4 -> Client: Client 1 | E9: =$A$5 -> Numéro Client : 701 | F9: =$A$3 -> Fournisseur: (Fictif 1) | G9: =$A$2 -> 2017-01-01 au 2017-10-30
A10: B-2014 | B10: Produits 2 | C10: 54 | D10: =$A$4 -> Client: Client 1 | E10: =$A$5 -> Numéro Client : 701 | F10: =$A$3 -> Fournisseur: (Fictif 1) | G10: =$A$2 -> 2017-01-01 au 2017-10-30
D11: =$A$4 -> Client: Client 1 | E11: =$A$5 -> Numéro Client : 701 | F11: =$A$3 -> Fournisseur: (Fictif 1) | G11: =$A$2 -> 2017-01-01 au 2017-10-30
D12: =$A$4 -> Client: Client 1 | E12: =$A$5 -> Numéro Client : 701 | F12: =$A$3 -> Fournisseur: (Fictif 1) | G12: =$A$2 -> 2017-01-01 au 2017-10-30
D13: =$A$4 -> Client: Client 1 | E13: =$A$5 -> Numéro Client : 701 | F13: =$A$3 -> Fournisseur: (Fictif 1) | G13: =$A$2 -> 2017-01-01 au 2017-10-30
D14: =$A$4 -> Client: Client 1 | E14: =$A$5 -> Numéro Client : 701 | F14: =$A$3 -> Fournisseur: (Fictif 1) | G14: =$A$2 -> 2017-01-01 au 2017-10-30
D15: =$A$4 -> Client: Client 1 | E15: =$A$5 -> Numéro Client : 701 | F15: =$A$3 -> Fournisseur: (Fictif 1) | G15: =$A$2 -> 2017-01-01 au 2017-10-30
D16: =$A$4 -> Client: Client 1 | E16: =$A$5 -> Numéro Client : 701 | F16: =$A$3 -> Fournisseur: (Fictif 1) | G16: =$A$2 -> 2017-01-01 au 2017-10-30
D17: =$A$4 -> Client: Client 1 | E17: =$A$5 -> Numéro Client : 701 | F17: =$A$3 -> Fournisseur: (Fictif 1) | G17: =$A$2 -> 2017-01-01 au 2017-10-30
D18: =$A$4 -> Client: Client 1 | E18: =$A$5 -> Numéro Client : 701 | F18: =$A$3 -> Fournisseur: (Fictif 1) | G18: =$A$2 -> 2017-01-01 au 2017-10-30
D19: =$A$4 -> Client: Client 1 | E19: =$A$5 -> Numéro Client : 701 | F19: =$A$3 -> Fournisseur: (Fictif 1) | G19: =$A$2 -> 2017-01-01 au 2017-10-30
D20: =$A$4 -> Client: Client 1 | E20: =$A$5 -> Numéro Client : 701 | F20: =$A$3 -> Fournisseur: (Fictif 1) | G20: =$A$2 -> 2017-01-01 au 2017-10-30
D21: =$A$4 -> Client: Client 1 | E21: =$A$5 -> Numéro Client : 701 | F21: =$A$3 -> Fournisseur: (Fictif 1) | G21: =$A$2 -> 2017-01-01 au 2017-10-30
D22: =$A$4 -> Client: Client 1 | E22: =$A$5 -> Numéro Client : 701 | F22: =$A$3 -> Fournisseur: (Fictif 1) | G22: =$A$2 -> 2017-01-01 au 2017-10-30
... D885: =$A$4 -> Client: Client 1 | E885: =$A$5 -> Numéro Client : 701 | F885: =$A$3 -> Fournisseur: (Fictif 1) | G885: =$A$2 -> 2017-01-01 au 2017-10-30

Sheet Feuil8
A1: Compagnie X
A2: 2017-01-01 au 2017-10-30
A3: Fournisseur: (Fictif 3)
A4: Client: Client 66
A5: Numéro Client : 123
A7: Fournisseur: (Fictif 3)
A8: Produits | B8: Description | C8: Qté | D8: Client | E8: # client | F8: Fournisseur | G8: Période
A9: B-2013 | B9: Produits 1 | C9: 35 | D9: =$A$4 -> Client: Client 66 | E9: =$A$5 -> Numéro Client : 123 | F9: =$A$3 -> Fournisseur: (Fictif 3) | G9: =$A$2 -> 2017-01-01 au 2017-10-30
A10: B-2014 | B10: Produits 2 | C10: 54 | D10: =$A$4 -> Client: Client 66 | E10: =$A$5 -> Numéro Client : 123 | F10: =$A$3 -> Fournisseur: (Fictif 3) | G10: =$A$2 -> 2017-01-01 au 2017-10-30
A11: B-2015 | B11: Produits 3 | C11: 55 | D11: =$A$4 -> Client: Client 66 | E11: =$A$5 -> Numéro Client : 123 | F11: =$A$3 -> Fournisseur: (Fictif 3) | G11: =$A$2 -> 2017-01-01 au 2017-10-30
A12: B-2016 | B12: Produits 4 | C12: 56 | D12: =$A$4 -> Client: Client 66 | E12: =$A$5 -> Numéro Client : 123 | F12: =$A$3 -> Fournisseur: (Fictif 3) | G12: =$A$2 -> 2017-01-01 au 2017-10-30
A13: B-2017 | B13: Produits 5 | C13: 57 | D13: =$A$4 -> Client: Client 66 | E13: =$A$5 -> Numéro Client : 123 | F13: =$A$3 -> Fournisseur: (Fictif 3) | G13: =$A$2 -> 2017-01-01 au 2017-10-30
A14: B-2018 | B14: Produits 6 | C14: 58 | D14: =$A$4 -> Client: Client 66 | E14: =$A$5 -> Numéro Client : 123 | F14: =$A$3 -> Fournisseur: (Fictif 3) | G14: =$A$2 -> 2017-01-01 au 2017-10-30
A15: B-2019 | B15: Produits 7 | C15: 59 | D15: =$A$4 -> Client: Client 66 | E15: =$A$5 -> Numéro Client : 123 | F15: =$A$3 -> Fournisseur: (Fictif 3) | G15: =$A$2 -> 2017-01-01 au 2017-10-30
A16: B-2020 | B16: Produits 8 | C16: 60 | D16: =$A$4 -> Client: Client 66 | E16: =$A$5 -> Numéro Client : 123 | F16: =$A$3 -> Fournisseur: (Fictif 3) | G16: =$A$2 -> 2017-01-01 au 2017-10-30
A17: B-2021 | B17: Produits 9 | C17: 61 | D17: =$A$4 -> Client: Client 66 | E17: =$A$5 -> Numéro Client : 123 | F17: =$A$3 -> Fournisseur: (Fictif 3) | G17: =$A$2 -> 2017-01-01 au 2017-10-30
A18: B-2022 | B18: Produits 10 | C18: 62 | D18: =$A$4 -> Client: Client 66 | E18: =$A$5 -> Numéro Client : 123 | F18: =$A$3 -> Fournisseur: (Fictif 3) | G18: =$A$2 -> 2017-01-01 au 2017-10-30
A19: B-2023 | B19: Produits 11 | C19: 63 | D19: =$A$4 -> Client: Client 66 | E19: =$A$5 -> Numéro Client : 123 | F19: =$A$3 -> Fournisseur: (Fictif 3) | G19: =$A$2 -> 2017-01-01 au 2017-10-30
A20: B-2024 | B20: Produits 12 | C20: 64 | D20: =$A$4 -> Client: Client 66 | E20: =$A$5 -> Numéro Client : 123 | F20: =$A$3 -> Fournisseur: (Fictif 3) | G20: =$A$2 -> 2017-01-01 au 2017-10-30
... A31: B-2035 | B31: Produits 23 | C31: 75 | D31: =$A$4 -> Client: Client 66 | E31: =$A$5 -> Numéro Client : 123 | F31: =$A$3 -> Fournisseur: (Fictif 3) | G31: =$A$2 -> 2017-01-01 au 2017-10-30
D32: =$A$4 -> Client: Client 66 | E32: =$A$5 -> Numéro Client : 123 | F32: =$A$3 -> Fournisseur: (Fictif 3) | G32: =$A$2 -> 2017-01-01 au 2017-10-30
D33: =$A$4 -> Client: Client 66 | E33: =$A$5 -> Numéro Client : 123 | F33: =$A$3 -> Fournisseur: (Fictif 3) | G33: =$A$2 -> 2017-01-01 au 2017-10-30
D34: =$A$4 -> Client: Client 66 | E34: =$A$5 -> Numéro Client : 123 | F34: =$A$3 -> Fournisseur: (Fictif 3) | G34: =$A$2 -> 2017-01-01 au 2017-10-30
D35: =$A$4 -> Client: Client 66 | E35: =$A$5 -> Numéro Client : 123 | F35: =$A$3 -> Fournisseur: (Fictif 3) | G35: =$A$2 -> 2017-01-01 au 2017-10-30
D36: =$A$4 -> Client: Client 66 | E36: =$A$5 -> Numéro Client : 123 | F36: =$A$3 -> Fournisseur: (Fictif 3) | G36: =$A$2 -> 2017-01-01 au 2017-10-30
D37: =$A$4 -> Client: Client 66 | E37: =$A$5 -> Numéro Client : 123 | F37: =$A$3 -> Fournisseur: (Fictif 3) | G37: =$A$2 -> 2017-01-01 au 2017-10-30
D38: =$A$4 -> Client: Client 66 | E38: =$A$5 -> Numéro Client : 123 | F38: =$A$3 -> Fournisseur: (Fictif 3) | G38: =$A$2 -> 2017-01-01 au 2017-10-30
D39: =$A$4 -> Client: Client 66 | E39: =$A$5 -> Numéro Client : 123 | F39: =$A$3 -> Fournisseur: (Fictif 3) | G39: =$A$2 -> 2017-01-01 au 2017-10-30
D40: =$A$4 -> Client: Client 66 | E40: =$A$5 -> Numéro Client : 123 | F40: =$A$3 -> Fournisseur: (Fictif 3) | G40: =$A$2 -> 2017-01-01 au 2017-10-30
D41: =$A$4 -> Client: Client 66 | E41: =$A$5 -> Numéro Client : 123 | F41: =$A$3 -> Fournisseur: (Fictif 3) | G41: =$A$2 -> 2017-01-01 au 2017-10-30
D42: =$A$4 -> Client: Client 66 | E42: =$A$5 -> Numéro Client : 123 | F42: =$A$3 -> Fournisseur: (Fictif 3) | G42: =$A$2 -> 2017-01-01 au 2017-10-30
D43: =$A$4 -> Client: Client 66 | E43: =$A$5 -> Numéro Client : 123 | F43: =$A$3 -> Fournisseur: (Fictif 3) | G43: =$A$2 -> 2017-01-01 au 2017-10-30
... D885: =$A$4 -> Client: Client 66 | E885: =$A$5 -> Numéro Client : 123 | F885: =$A$3 -> Fournisseur: (Fictif 3) | G885: =$A$2 -> 2017-01-01 au 2017-10-30

Sheet Feuil9
A1: Compagnie X
A2: 2017-01-01 au 2017-10-30
A3: Fournisseur: (Fictif 2)
A4: Client: Client 34
A5: Numéro Client : 1022
A7: Fournisseur: (Fictif 2)
A8: Produits | B8: Description | C8: Qté | D8: Client | E8: # client | F8: Fournisseur | G8: Période
A9: B-2013 | B9: Produits 124 | C9: 35 | D9: =$A$4 -> Client: Client 34 | E9: =$A$5 -> Numéro Client : 1022 | F9: =$A$3 -> Fournisseur: (Fictif 2) | G9: =$A$2 -> 2017-01-01 au 2017-10-30
A10: B-2014 | B10: Produits 77 | C10: 54 | D10: =$A$4 -> Client: Client 34 | E10: =$A$5 -> Numéro Client : 1022 | F10: =$A$3 -> Fournisseur: (Fictif 2) | G10: =$A$2 -> 2017-01-01 au 2017-10-30
A11: B-2015 | B11: Produits 3 | C11: 55 | D11: =$A$4 -> Client: Client 34 | E11: =$A$5 -> Numéro Client : 1022 | F11: =$A$3 -> Fournisseur: (Fictif 2) | G11: =$A$2 -> 2017-01-01 au 2017-10-30
A12: B-2016 | B12: Produits 67 | C12: 56 | D12: =$A$4 -> Client: Client 34 | E12: =$A$5 -> Numéro Client : 1022 | F12: =$A$3 -> Fournisseur: (Fictif 2) | G12: =$A$2 -> 2017-01-01 au 2017-10-30
A13: B-2017 | B13: Produits 5 | C13: 57 | D13: =$A$4 -> Client: Client 34 | E13: =$A$5 -> Numéro Client : 1022 | F13: =$A$3 -> Fournisseur: (Fictif 2) | G13: =$A$2 -> 2017-01-01 au 2017-10-30
A14: B-2018 | B14: Produits 6 | C14: 58 | D14: =$A$4 -> Client: Client 34 | E14: =$A$5 -> Numéro Client : 1022 | F14: =$A$3 -> Fournisseur: (Fictif 2) | G14: =$A$2 -> 2017-01-01 au 2017-10-30
A15: B-2019 | B15: Produits 7 | C15: 59 | D15: =$A$4 -> Client: Client 34 | E15: =$A$5 -> Numéro Client : 1022 | F15: =$A$3 -> Fournisseur: (Fictif 2) | G15: =$A$2 -> 2017-01-01 au 2017-10-30
A16: B-2020 | B16: Produits 8 | C16: 60 | D16: =$A$4 -> Client: Client 34 | E16: =$A$5 -> Numéro Client : 1022 | F16: =$A$3 -> Fournisseur: (Fictif 2) | G16: =$A$2 -> 2017-01-01 au 2017-10-30
A17: B-2021 | B17: Produits 9 | C17: 61 | D17: =$A$4 -> Client: Client 34 | E17: =$A$5 -> Numéro Client : 1022 | F17: =$A$3 -> Fournisseur: (Fictif 2) | G17: =$A$2 -> 2017-01-01 au 2017-10-30
D18: =$A$4 -> Client: Client 34 | E18: =$A$5 -> Numéro Client : 1022 | F18: =$A$3 -> Fournisseur: (Fictif 2) | G18: =$A$2 -> 2017-01-01 au 2017-10-30
D19: =$A$4 -> Client: Client 34 | E19: =$A$5 -> Numéro Client : 1022 | F19: =$A$3 -> Fournisseur: (Fictif 2) | G19: =$A$2 -> 2017-01-01 au 2017-10-30
D20: =$A$4 -> Client: Client 34 | E20: =$A$5 -> Numéro Client : 1022 | F20: =$A$3 -> Fournisseur: (Fictif 2) | G20: =$A$2 -> 2017-01-01 au 2017-10-30
D21: =$A$4 -> Client: Client 34 | E21: =$A$5 -> Numéro Client : 1022 | F21: =$A$3 -> Fournisseur: (Fictif 2) | G21: =$A$2 -> 2017-01-01 au 2017-10-30
D22: =$A$4 -> Client: Client 34 | E22: =$A$5 -> Numéro Client : 1022 | F22: =$A$3 -> Fournisseur: (Fictif 2) | G22: =$A$2 -> 2017-01-01 au 2017-10-30
D23: =$A$4 -> Client: Client 34 | E23: =$A$5 -> Numéro Client : 1022 | F23: =$A$3 -> Fournisseur: (Fictif 2) | G23: =$A$2 -> 2017-01-01 au 2017-10-30
D24: =$A$4 -> Client: Client 34 | E24: =$A$5 -> Numéro Client : 1022 | F24: =$A$3 -> Fournisseur: (Fictif 2) | G24: =$A$2 -> 2017-01-01 au 2017-10-30
D25: =$A$4 -> Client: Client 34 | E25: =$A$5 -> Numéro Client : 1022 | F25: =$A$3 -> Fournisseur: (Fictif 2) | G25: =$A$2 -> 2017-01-01 au 2017-10-30
D26: =$A$4 -> Client: Client 34 | E26: =$A$5 -> Numéro Client : 1022 | F26: =$A$3 -> Fournisseur: (Fictif 2) | G26: =$A$2 -> 2017-01-01 au 2017-10-30
D27: =$A$4 -> Client: Client 34 | E27: =$A$5 -> Numéro Client : 1022 | F27: =$A$3 -> Fournisseur: (Fictif 2) | G27: =$A$2 -> 2017-01-01 au 2017-10-30
D28: =$A$4 -> Client: Client 34 | E28: =$A$5 -> Numéro Client : 1022 | F28: =$A$3 -> Fournisseur: (Fictif 2) | G28: =$A$2 -> 2017-01-01 au 2017-10-30
D29: =$A$4 -> Client: Client 34 | E29: =$A$5 -> Numéro Client : 1022 | F29: =$A$3 -> Fournisseur: (Fictif 2) | G29: =$A$2 -> 2017-01-01 au 2017-10-30
... D885: =$A$4 -> Client: Client 34 | E885: =$A$5 -> Numéro Client : 1022 | F885: =$A$3 -> Fournisseur: (Fictif 2) | G885: =$A$2 -> 2017-01-01 au 2017-10-30
