Workbook

Sheet liste des bâtiments
A1: PRESENTATION GENERALE DE L’ETABLISSEMENT 1
A2: NOM DU SITE | C2: SILA ANNECY
A3: Niveau : | C3: R+2 (hauteur à confirmer avec étude topographique)
A4: Catégorie d'ERP | B4: ERT | C4: Année de Construction | E4: 1996
A5: Plan de situation (Source : google maps) | D5: Parcelle cadastrale (Source : Cadastre.gouv)
A7: DATE de la visite | B7: Mardi 29 mai 2018
A8: Personnes rencontrées | B8: M.Sébastien CRETET
A10: Documents transmis | C10: Plan de masse, Coupe du bâtiment

Sheet listes sites
A1: nombre de sites : | B1: 10
B2: Numéro SIG | C2: Nom du site officiel | D2: Adresse du site | E2: Date du bâtiment | F2: Surface des toitures (horizontale) | G2: Nature des toitures | H2: Structure des toitures | I2: orientation | J2: inclinaison | K2: Puissance souscrite | L2: type d’abonnement | M2: Coût du kWh | N2: Réfection programmée
A4: 1 | B4: [17] | C4: Gymnase Auguste Delaune | D4: 8 RUE MISSAK MANOUCHIAN | E4: 1962 | F4: 1 152 m² | G4: Traditionnelle Fibro-ciment | I4: 1 | J4: 1 | N4: Réfection programmée
A5: 2
A6: .
A7: .
A8: .
A9: n

Sheet 1
A1: PRESENTATION GENERALE DE L’ETABLISSEMENT 1
A2: Numéro SIG du site | C2: ='listes sites'!B4 -> [17]
A3: NOM DU SITE | C3: ='listes sites'!C4 -> Gymnase Auguste Delaune
A4: Adresse : | C4: ='listes sites'!D4 -> 8 RUE MISSAK MANOUCHIAN
A5: Catégorie d'ERP | B5: ERT | C5: Année de Construction | E5: ='listes sites'!E4 -> 1962
A6: Plan de situation (Source : google maps) | D6: Parcelle cadastrale (Source : Cadastre.gouv)
A8: DATE de la visite | B8: Mardi 29 mai 2018
A9: Personnes rencontrées | B9: M.Sébastien CRETET
A11: Documents transmis | C11: Plan de masse, Coupe du bâtiment
A15: Toiture | B15: ='listes sites'!G4 -> Traditionnelle Fibro-ciment
A16: Type de Structure | B16: ='listes sites'!H4 -> 0
A17: Orientation générale : | B17: ='listes sites'!I3 -> 0 | D17: Inclinaison : | E17: ='listes sites'!J3 -> 0
A18: Etat de la couverture | B18: ='listes sites'!N4 -> Réfection programmée | D18: Isolation :
A20: Besoins électriques | B20: Tarif Jaune partagé avec la salle des fêtes et l'école primaire.
A21: Puissance souscrite : | B21: 108 kVA | D21: N°PDL :
A22: Implantation compteurs : | B22: Dans coffrets EDF, sur la voie d'accès. | D22: N°Compteur : | E22: Sous-compteur propre à l'école mat.
A26: POTENTIEL PHOTOVOLTAÏQUE
A27: Possibilités d’implantation | C27: (cf. vue aérienne ci-dessous)
E29: Champ photovoltaïque
E31: Local onduleur
E33: Tranformateur EDF
E35: Câble DC
E37: cheminement AC
E39: Tranchée à prévoir
A44: Vue d'ensemble du projet
A45: Implantation des Capteurs
A46: Surface toiture (m²) : | B46: ='listes sites'!F4 -> 1 152 m²
A47: LIAISONS A PREVOIR | B47: Courant | C47: Métrés | D47: Description
A48: Modules → Local Onduleur | B48: DC | C48: 5 m | D48: Au sol (gaine ou goulotte coupe-feu).
A49: Onduleur → Point de Livraison | B49: AC | C49: 30 m | D49: Chemin de câbles le long de la facade Nord. Eventuellement carottage à prévoir.
A50: INVESTISSEMENT
A52: Travaux Générateur Photovoltaïque
A53: Préparation Chantier, Sécurité, grutage | D53: =H53 -> 0
A54: Modules PV (Fourniture + Pose) | D54: =$A$81*1000*H54 -> #REF!
A55: Système d'Intégration (Fourniture + Pose) | D55: =$A$81*1000*H55+I55 -> #REF!
A56: Onduleurs | D56: =$A$81*1000*H56 -> #REF!
A57: Sécurisation de la toiture | D57: =H57*M51 -> 0
A58: Câblage BT (Câbles / boitiers DC+AC / TDGS) | D58: =$A$81*1000*H58 -> #REF!
A59: Local technique (Armoire électrique en extérieur) | D59: =$A$81*1000*H59 -> #REF!
A60: Raccordement au Point De Livraison (Tranchée, aérien,…) | D60: =$A$81*1000*H60 -> #REF!
A61: VRD | D61: 0
A62: Télésuivi (matériel installé + configuration) | D62: 1000
A63: Arrêt d'urgence | D63: 500
A64: Signalisation - DOE | D64: 500
A65: CONSUEL | D65: 200
A66: Frais annexes
A67: Maîtrise d'œuvre PV | D67: -
A68: Assurances DO | D68: =$A$81*1000*H68 -> #REF!
A69: Raccordement ERDF | D69: 0
A70: INVESTISSEMENT PHOTOVOLTAÏQUE [Ipv] | D70: =SUM(D53:D69) -> #REF!
C71: €HT/Wc | D71: =D70/(A81*1000) -> #REF!
A72: CHARGES D'EXPLOITATION [CEX] | C72: €HT/an | D72: =SUM(D73:D76) -> #REF!
A73: Maintenance | C73: €HT/an | D73: =MROUND($A$81*1000*H73+D56/25,1) -> #REF!
A74: Télésuivi | C74: €HT/an | D74: =12*H74 -> 0
A75: Assurances RC | C75: €HT/an | D75: =$A$81*1000*H75 -> #REF!
A76: Location compteur (TURPE) | C76: €HT/an | D76: 0
A79: Puissance installée | B79: Production annuelle | C79: Productible | D79: Investissement total [I] | E79: Prix au kWh | F79: Prix au Wc
A80: kWc | B80: kWh/an | C80: kWh/kWc.an | D80: € HT | E80: € HT/kWh | F80: € HT / Wc
A81: =#REF! -> #REF! | B81: =#REF!*1000 -> #REF! | C81: =#REF! -> #REF! | D81: =D70 -> #REF! | E81: =D81/B81/20 -> #REF! | F81: =D81/(A81*1000) -> #REF!
A82: Tarif moyen de l'électricité réseau | B82: économie annuelle | C82: Charges d'exploitation | D82: Temps de retour Brut | E82: Temps de retour net | F82: CO2 évité eq.
A83: c€ /kWh | B83: € /an | C83: € HT / an | D83: ans | E83: ans
A84: 10.12 | B84: =A84*B81/100 -> #REF! | C84: =D72 -> #REF! | D84: =D81/B84 -> #REF! | E84: =D81/(B84-C84) -> #REF! | F84: =(B81*120)/(130*12000) -> #REF!
A86: Masques :
A87: Sécurisation de la zone :
A88: Interaction autres corps d’état
A89: Contraintes potentielles
A90: Bâtiment
A91: Implantation / Structure
A97: Encombrement
A99: Cheminement des câbles
A101: Local Onduleur
A102: Raccordement au réseau

Sheet RECAPITULATIF
R1: Le 05/09/2016
J8: CAS PRINCIPAL
A9: Numéro zone | E9: INITITULE SITE | F9: Critère de selection des toitures | J9: Puissance kWc | K9: Production | L9: Productible | M9: Investissement | N9: Prix au Wc | O9: Economie annuelle | P9: Charges d'exploitation | Q9: Temps de retour brut | R9: Temps de retour net
B10: scénario 1 | C10: scénario 2 | D10: scénario 3 | F10: Masque et ombrage | G10: Complexité de raccordement | H10: Encombrement | I10: Coût au Wc
K11: kWh/an | L11: kWh/kWc.an | M11: € HT | N11: €HT/Wc | O11: € HT/an | P11: € HT /an | Q11: ans | R11: ans
A12: =1 -> 1 | B12: OUI | C12: OUI | D12: OUI | E12: ='1'!C3 -> Gymnase Auguste Delaune | F12: 1 | G12: 2 | H12: 1 | I12: =N12 -> #REF! | J12: ='1'!A81 -> #REF! | K12: ='1'!B81 -> #REF! | L12: ='1'!C81 -> #REF! | M12: ='1'!D81 -> #REF! | N12: =M12/(J12*1000) -> #REF! | O12: ='1'!B84 -> #REF! | P12: ='1'!C84 -> #REF! | Q12: =M12/O12 -> #REF! | R12: =M12/(O12-P12) -> #REF!
A13: 2 | B13: OUI | C13: OUI | D13: OUI | E13: =#REF! -> #REF! | F13: 1 | G13: 2 | H13: 1 | I13: =N13 -> #REF! | J13: =#REF! -> #REF! | K13: =#REF! -> #REF! | L13: =#REF! -> #REF! | M13: =#REF! -> #REF! | N13: =M13/(J13*1000) -> #REF! | O13: =#REF! -> #REF! | P13: =#REF! -> #REF! | Q13: =M13/O13 -> #REF! | R13: =M13/(O13-P13) -> #REF!
A14: 3 | B14: OUI | C14: OUI | D14: OUI | E14: =#REF! -> #REF! | F14: 1 | G14: 2 | H14: 1 | I14: =N14 -> #REF! | J14: =#REF! -> #REF! | K14: =#REF! -> #REF! | L14: =#REF! -> #REF! | M14: =#REF! -> #REF! | N14: =M14/(J14*1000) -> #REF! | O14: =#REF! -> #REF! | P14: =#REF! -> #REF! | Q14: =M14/O14 -> #REF! | R14: =M14/(O14-P14) -> #REF!
A15: 4 | B15: OUI | C15: OUI | D15: oui | E15: =#REF! -> #REF! | F15: 2 | G15: 2 | H15: 1 | I15: =N15 -> #REF! | J15: =#REF! -> #REF! | K15: =#REF! -> #REF! | L15: =#REF! -> #REF! | M15: =#REF! -> #REF! | N15: =M15/(J15*1000) -> #REF! | O15: =#REF! -> #REF! | P15: =#REF! -> #REF! | Q15: =M15/O15 -> #REF! | R15: =M15/(O15-P15) -> #REF!
A16: 5 | B16: oui | C16: OUI | D16: oui | E16: =#REF! -> #REF! | F16: 1 | G16: 2 | H16: 1 | I16: =N16 -> #REF! | J16: =#REF! -> #REF! | K16: =#REF! -> #REF! | L16: =#REF! -> #REF! | M16: =#REF! -> #REF! | N16: =M16/(J16*1000) -> #REF! | O16: =#REF! -> #REF! | P16: =#REF! -> #REF! | Q16: =M16/O16 -> #REF! | R16: =M16/(O16-P16) -> #REF!
A17: 6 | B17: - | E17: Toiture Flottateurs | J17: La couverture trop souple ne permet pas l'implantation de panneaux solaires
A18: 7 | B18: oui | C18: OUI | D18: OUI | E18: =#REF! -> #REF! | F18: 2 | G18: 1 | H18: 1 | I18: =N18 -> #REF! | J18: =#REF! -> #REF! | K18: =#REF! -> #REF! | L18: =#REF! -> #REF! | M18: =#REF! -> #REF! | N18: =M18/(J18*1000) -> #REF! | O18: =#REF! -> #REF! | P18: =#REF! -> #REF! | Q18: =M18/O18 -> #REF! | R18: =M18/(O18-P18) -> #REF!
A19: 8 | B19: NON | C19: NON | D19: NON | E19: =#REF! -> #REF! | F19: 1 | G19: 1 | H19: 1 | I19: =N19 -> #REF! | J19: =#REF! -> #REF! | K19: =#REF! -> #REF! | L19: =#REF! -> #REF! | M19: =#REF! -> #REF! | N19: =M19/(J19*1000) -> #REF! | O19: =#REF! -> #REF! | P19: =#REF! -> #REF! | Q19: =M19/O19 -> #REF! | R19: =M19/(O19-P19) -> #REF!
A20: 9 | B20: OUI | C20: non | D20: NON | E20: =#REF! -> #REF! | F20: 1 | G20: 2 | H20: 1 | I20: =N20 -> #REF! | J20: =#REF! -> #REF! | K20: =#REF! -> #REF! | L20: =#REF! -> #REF! | M20: =#REF! -> #REF! | N20: =M20/(J20*1000) -> #REF! | O20: =#REF! -> #REF! | P20: =#REF! -> #REF! | Q20: =M20/O20 -> #REF! | R20: =M20/(O20-P20) -> #REF!
A21: 10 | B21: oui | C21: non | D21: NON | E21: =#REF! -> #REF! | F21: 3 | G21: 2 | H21: 2 | I21: =N21 -> #REF! | J21: =#REF! -> #REF! | K21: =#REF! -> #REF! | L21: =#REF! -> #REF! | M21: =#REF! -> #REF! | N21: =M21/(J21*1000) -> #REF! | O21: =#REF! -> #REF! | P21: =#REF! -> #REF! | Q21: =M21/O21 -> #REF! | R21: =M21/(O21-P21) -> #REF!
A22: 11 | B22: oui | C22: NON | D22: NON | E22: =#REF! -> #REF! | F22: 3 | G22: 2 | H22: 2 | I22: =N22 -> #REF! | J22: =#REF! -> #REF! | K22: =#REF! -> #REF! | L22: =#REF! -> #REF! | M22: =#REF! -> #REF! | N22: =M22/(J22*1000) -> #REF! | O22: =#REF! -> #REF! | P22: =#REF! -> #REF! | Q22: =M22/O22 -> #REF! | R22: =M22/(O22-P22) -> #REF!
A23: 12 | B23: non | C23: non | D23: NON | E23: =#REF! -> #REF! | F23: 3 | G23: 2 | H23: 3 | I23: =N23 -> #REF! | J23: =#REF! -> #REF! | K23: =#REF! -> #REF! | L23: =#REF! -> #REF! | M23: =#REF! -> #REF! | N23: =M23/(J23*1000) -> #REF! | O23: =#REF! -> #REF! | P23: =#REF! -> #REF! | Q23: =M23/O23 -> #REF! | R23: =M23/(O23-P23) -> #REF!
A24: 13 | B24: non | C24: NON | D24: NON | E24: =#REF! -> #REF! | F24: 3 | G24: 3 | H24: 3 | I24: =N24 -> #REF! | J24: =#REF! -> #REF! | K24: =#REF! -> #REF! | L24: =#REF! -> #REF! | M24: =#REF! -> #REF! | N24: =M24/(J24*1000) -> #REF! | O24: =#REF! -> #REF! | P24: =#REF! -> #REF! | Q24: =M24/O24 -> #REF! | R24: =M24/(O24-P24) -> #REF!
A25: 14 | B25: non | C25: NON | D25: NON | E25: =#REF! -> #REF! | F25: 3 | G25: 3 | H25: 3 | I25: =N25 -> #REF! | J25: =#REF! -> #REF! | K25: =#REF! -> #REF! | L25: =#REF! -> #REF! | M25: =#REF! -> #REF! | N25: =M25/(J25*1000) -> #REF! | O25: =#REF! -> #REF! | P25: =#REF! -> #REF! | Q25: =M25/O25 -> #REF! | R25: =M25/(O25-P25) -> #REF!
A26: 15 | B26: non | C26: NON | D26: NON | E26: =#REF! -> #REF! | F26: 3 | G26: 3 | H26: 3 | I26: =N26 -> #REF! | J26: =#REF! -> #REF! | K26: =#REF! -> #REF! | L26: =#REF! -> #REF! | M26: =#REF! -> #REF! | N26: =M26/(J26*1000) -> #REF! | O26: =#REF! -> #REF! | P26: =#REF! -> #REF! | Q26: =M26/O26 -> #REF! | R26: =M26/(O26-P26) -> #REF!
A27: 16 | B27: oui | C27: OUI | D27: oui | E27: Bac acier vitre | F27: 1 | G27: 1 | H27: 1 | I27: =N27 -> #REF! | J27: =#REF! -> #REF! | K27: =#REF! -> #REF! | L27: =#REF! -> #REF! | M27: =#REF! -> #REF! | N27: =M27/(J27*1000) -> #REF! | O27: =#REF! -> #REF! | P27: =#REF! -> #REF! | Q27: =M27/O27 -> #REF! | R27: =M27/(O27-P27) -> #REF!
A28: OPTION | B28: oui | C28: OUI | D28: non | E28: Ancien stade de foot entier | F28: 3 | G28: 1 | H28: 1 | I28: =N28 -> #REF! | J28: =#REF! -> #REF! | K28: =#REF! -> #REF! | L28: =#REF! -> #REF! | M28: =#REF! -> #REF! | N28: =M28/(J28*1000) -> #REF! | O28: =#REF! -> #REF! | P28: =#REF! -> #REF! | Q28: =#REF! -> #REF! | R28: =#REF! -> #REF!
