Workbook

Sheet Feuil1
B4: Intitulé | D4: Quantité | E4: Unités | F4: P.U. | G4: Total
A5: Lot N°01
G6: =IF($F6="","",$F6*$D6)
G7: =IF($F7="","",$F7*$D7)
G8: =IF($F8="","",$F8*$D8)
C9: pppppppppppppppppppppppppppppppppppppppppppppppppppppppppppppppppppppppppppppppppppppppppppppppppppp | G9: =IF($F9="","",$F9*$D9)
G10: =IF($F10="","",$F10*$D10)
G11: =IF($F11="","",$F11*$D11)
G12: =IF($F12="","",$F12*$D12)
C13: oooooooooooooooooooooooooooooooooooooooooooooooooooooooooooooooooooooooooooooooooooooooooooooooooooooooooooooooooooooooooooooo | G13: =IF($F13="","",$F13*$D13)
G14: =IF($F14="","",$F14*$D14)
G15: =IF($F15="","",$F15*$D15)
G16: =IF($F16="","",$F16*$D16)
G17: =IF($F17="","",$F17*$D17)
G18: =IF($F18="","",$F18*$D18)
G19: =IF($F19="","",$F19*$D19)
G20: =IF($F20="","",$F20*$D20)
G21: =IF($F21="","",$F21*$D21)
G22: =IF($F22="","",$F22*$D22)
E23: Total | F23: =IF(SUM(G6:G23)=0,"",SUM(G6:G23))
A25: Lot N°02
G26: =IF($F26="","",$F26*$D26)
G43: =IF($F43="","",$F43*$D43)
E44: Total | F44: =IF(SUM(G26:G45)=0,"",SUM(G26:G45))

Sheet CONSULT
B4: Intitulé | D4: Quantité | E4: Unités
A5: Lot N°01 | C5: =IF(Feuil1!$C5="","",Feuil1!$C5) | D5: =IF(Feuil1!$D5="","",Feuil1!$D5) | E5: =IF(Feuil1!$E5="","",Feuil1!$E5)
A6: =IF(INDIRECT("Feuil1!"&ADDRESS(ROW(),COLUMN()))="","",INDIRECT("Feuil1!"&ADDRESS(ROW(),COLUMN()))) | B6: =IF(INDIRECT("Feuil1!"&ADDRESS(ROW(),COLUMN()))="","",INDIRECT("Feuil1!"&ADDRESS(ROW(),COLUMN()))) | C6: =IF(INDIRECT("Feuil1!"&ADDRESS(ROW(),COLUMN()))="","",INDIRECT("Feuil1!"&ADDRESS(ROW(),COLUMN()))) | D6: =IF(INDIRECT("Feuil1!"&ADDRESS(ROW(),COLUMN()))="","",INDIRECT("Feuil1!"&ADDRESS(ROW(),COLUMN()))) | E6: =IF(INDIRECT("Feuil1!"&ADDRESS(ROW(),COLUMN()))="","",INDIRECT("Feuil1!"&ADDRESS(ROW(),COLUMN()))) | F6: =IF(INDIRECT("Feuil1!"&ADDRESS(ROW(),COLUMN()))="","",INDIRECT("Feuil1!"&ADDRESS(ROW(),COLUMN()))) | G6: =IF(INDIRECT("Feuil1!"&ADDRESS(ROW(),COLUMN()))="","",INDIRECT("Feuil1!"&ADDRESS(ROW(),COLUMN())))
A7: =IF(INDIRECT("Feuil1!"&ADDRESS(ROW(),COLUMN()))="","",INDIRECT("Feuil1!"&ADDRESS(ROW(),COLUMN()))) | B7: =IF(INDIRECT("Feuil1!"&ADDRESS(ROW(),COLUMN()))="","",INDIRECT("Feuil1!"&ADDRESS(ROW(),COLUMN()))) | C7: =IF(INDIRECT("Feuil1!"&ADDRESS(ROW(),COLUMN()))="","",INDIRECT("Feuil1!"&ADDRESS(ROW(),COLUMN()))) | D7: =IF(INDIRECT("Feuil1!"&ADDRESS(ROW(),COLUMN()))="","",INDIRECT("Feuil1!"&ADDRESS(ROW(),COLUMN()))) | E7: =IF(INDIRECT("Feuil1!"&ADDRESS(ROW(),COLUMN()))="","",INDIRECT("Feuil1!"&ADDRESS(ROW(),COLUMN()))) | F7: =IF(INDIRECT("Feuil1!"&ADDRESS(ROW(),COLUMN()))="","",INDIRECT("Feuil1!"&ADDRESS(ROW(),COLUMN()))) | G7: =IF(INDIRECT("Feuil1!"&ADDRESS(ROW(),COLUMN()))="","",INDIRECT("Feuil1!"&ADDRESS(ROW(),COLUMN())))
A8: =IF(INDIRECT("Feuil1!"&ADDRESS(ROW(),COLUMN()))="","",INDIRECT("Feuil1!"&ADDRESS(ROW(),COLUMN()))) | B8: =IF(INDIRECT("Feuil1!"&ADDRESS(ROW(),COLUMN()))="","",INDIRECT("Feuil1!"&ADDRESS(ROW(),COLUMN()))) | C8: =IF(INDIRECT("Feuil1!"&ADDRESS(ROW(),COLUMN()))="","",INDIRECT("Feuil1!"&ADDRESS(ROW(),COLUMN()))) | D8: =IF(INDIRECT("Feuil1!"&ADDRESS(ROW(),COLUMN()))="","",INDIRECT("Feuil1!"&ADDRESS(ROW(),COLUMN()))) | E8: =IF(INDIRECT("Feuil1!"&ADDRESS(ROW(),COLUMN()))="","",INDIRECT("Feuil1!"&ADDRESS(ROW(),COLUMN()))) | F8: =IF(INDIRECT("Feuil1!"&ADDRESS(ROW(),COLUMN()))="","",INDIRECT("Feuil1!"&ADDRESS(ROW(),COLUMN()))) | G8: =IF(INDIRECT("Feuil1!"&ADDRESS(ROW(),COLUMN()))="","",INDIRECT("Feuil1!"&ADDRESS(ROW(),COLUMN())))
A9: =IF(INDIRECT("Feuil1!"&ADDRESS(ROW(),COLUMN()))="","",INDIRECT("Feuil1!"&ADDRESS(ROW(),COLUMN()))) | B9: =IF(INDIRECT("Feuil1!"&ADDRESS(ROW(),COLUMN()))="","",INDIRECT("Feuil1!"&ADDRESS(ROW(),COLUMN()))) | C9: =IF(INDIRECT("Feuil1!"&ADDRESS(ROW(),COLUMN()))="","",INDIRECT("Feuil1!"&ADDRESS(ROW(),COLUMN()))) -> pppppppppppppppppppppppppppppppppppppppppppppppppppppppppppppppppppppppppppppppppppppppppppppppppppp | D9: =IF(INDIRECT("Feuil1!"&ADDRESS(ROW(),COLUMN()))="","",INDIRECT("Feuil1!"&ADDRESS(ROW(),COLUMN()))) | E9: =IF(INDIRECT("Feuil1!"&ADDRESS(ROW(),COLUMN()))="","",INDIRECT("Feuil1!"&ADDRESS(ROW(),COLUMN()))) | F9: =IF(INDIRECT("Feuil1!"&ADDRESS(ROW(),COLUMN()))="","",INDIRECT("Feuil1!"&ADDRESS(ROW(),COLUMN()))) | G9: =IF(INDIRECT("Feuil1!"&ADDRESS(ROW(),COLUMN()))="","",INDIRECT("Feuil1!"&ADDRESS(ROW(),COLUMN())))
A10: =IF(INDIRECT("Feuil1!"&ADDRESS(ROW(),COLUMN()))="","",INDIRECT("Feuil1!"&ADDRESS(ROW(),COLUMN()))) | B10: =IF(INDIRECT("Feuil1!"&ADDRESS(ROW(),COLUMN()))="","",INDIRECT("Feuil1!"&ADDRESS(ROW(),COLUMN()))) | C10: =IF(INDIRECT("Feuil1!"&ADDRESS(ROW(),COLUMN()))="","",INDIRECT("Feuil1!"&ADDRESS(ROW(),COLUMN()))) | D10: =IF(INDIRECT("Feuil1!"&ADDRESS(ROW(),COLUMN()))="","",INDIRECT("Feuil1!"&ADDRESS(ROW(),COLUMN()))) | E10: =IF(INDIRECT("Feuil1!"&ADDRESS(ROW(),COLUMN()))="","",INDIRECT("Feuil1!"&ADDRESS(ROW(),COLUMN()))) | F10: =IF(INDIRECT("Feuil1!"&ADDRESS(ROW(),COLUMN()))="","",INDIRECT("Feuil1!"&ADDRESS(ROW(),COLUMN()))) | G10: =IF(INDIRECT("Feuil1!"&ADDRESS(ROW(),COLUMN()))="","",INDIRECT("Feuil1!"&ADDRESS(ROW(),COLUMN())))
A11: =IF(INDIRECT("Feuil1!"&ADDRESS(ROW(),COLUMN()))="","",INDIRECT("Feuil1!"&ADDRESS(ROW(),COLUMN()))) | B11: =IF(INDIRECT("Feuil1!"&ADDRESS(ROW(),COLUMN()))="","",INDIRECT("Feuil1!"&ADDRESS(ROW(),COLUMN()))) | C11: =IF(INDIRECT("Feuil1!"&ADDRESS(ROW(),COLUMN()))="","",INDIRECT("Feuil1!"&ADDRESS(ROW(),COLUMN()))) | D11: =IF(INDIRECT("Feuil1!"&ADDRESS(ROW(),COLUMN()))="","",INDIRECT("Feuil1!"&ADDRESS(ROW(),COLUMN()))) | E11: =IF(INDIRECT("Feuil1!"&ADDRESS(ROW(),COLUMN()))="","",INDIRECT("Feuil1!"&ADDRESS(ROW(),COLUMN()))) | F11: =IF(INDIRECT("Feuil1!"&ADDRESS(ROW(),COLUMN()))="","",INDIRECT("Feuil1!"&ADDRESS(ROW(),COLUMN()))) | G11: =IF(INDIRECT("Feuil1!"&ADDRESS(ROW(),COLUMN()))="","",INDIRECT("Feuil1!"&ADDRESS(ROW(),COLUMN())))
A12: =IF(INDIRECT("Feuil1!"&ADDRESS(ROW(),COLUMN()))="","",INDIRECT("Feuil1!"&ADDRESS(ROW(),COLUMN()))) | B12: =IF(INDIRECT("Feuil1!"&ADDRESS(ROW(),COLUMN()))="","",INDIRECT("Feuil1!"&ADDRESS(ROW(),COLUMN()))) | C12: =IF(INDIRECT("Feuil1!"&ADDRESS(ROW(),COLUMN()))="","",INDIRECT("Feuil1!"&ADDRESS(ROW(),COLUMN()))) | D12: =IF(INDIRECT("Feuil1!"&ADDRESS(ROW(),COLUMN()))="","",INDIRECT("Feuil1!"&ADDRESS(ROW(),COLUMN()))) | E12: =IF(INDIRECT("Feuil1!"&ADDRESS(ROW(),COLUMN()))="","",INDIRECT("Feuil1!"&ADDRESS(ROW(),COLUMN()))) | F12: =IF(INDIRECT("Feuil1!"&ADDRESS(ROW(),COLUMN()))="","",INDIRECT("Feuil1!"&ADDRESS(ROW(),COLUMN()))) | G12: =IF(INDIRECT("Feuil1!"&ADDRESS(ROW(),COLUMN()))="","",INDIRECT("Feuil1!"&ADDRESS(ROW(),COLUMN())))
A13: =IF(INDIRECT("Feuil1!"&ADDRESS(ROW(),COLUMN()))="","",INDIRECT("Feuil1!"&ADDRESS(ROW(),COLUMN()))) | B13: =IF(INDIRECT("Feuil1!"&ADDRESS(ROW(),COLUMN()))="","",INDIRECT("Feuil1!"&ADDRESS(ROW(),COLUMN()))) | C13: =IF(INDIRECT("Feuil1!"&ADDRESS(ROW(),COLUMN()))="","",INDIRECT("Feuil1!"&ADDRESS(ROW(),COLUMN()))) -> oooooooooooooooooooooooooooooooooooooooooooooooooooooooooooooooooooooooooooooooooooooooooooooooooooooooooooooooooooooooooooooo | D13: =IF(INDIRECT("Feuil1!"&ADDRESS(ROW(),COLUMN()))="","",INDIRECT("Feuil1!"&ADDRESS(ROW(),COLUMN()))) | E13: =IF(INDIRECT("Feuil1!"&ADDRESS(ROW(),COLUMN()))="","",INDIRECT("Feuil1!"&ADDRESS(ROW(),COLUMN()))) | F13: =IF(INDIRECT("Feuil1!"&ADDRESS(ROW(),COLUMN()))="","",INDIRECT("Feuil1!"&ADDRESS(ROW(),COLUMN()))) | G13: =IF(INDIRECT("Feuil1!"&ADDRESS(ROW(),COLUMN()))="","",INDIRECT("Feuil1!"&ADDRESS(ROW(),COLUMN())))
A14: =IF(INDIRECT("Feuil1!"&ADDRESS(ROW(),COLUMN()))="","",INDIRECT("Feuil1!"&ADDRESS(ROW(),COLUMN()))) | B14: =IF(INDIRECT("Feuil1!"&ADDRESS(ROW(),COLUMN()))="","",INDIRECT("Feuil1!"&ADDRESS(ROW(),COLUMN()))) | C14: =IF(INDIRECT("Feuil1!"&ADDRESS(ROW(),COLUMN()))="","",INDIRECT("Feuil1!"&ADDRESS(ROW(),COLUMN()))) | D14: =IF(INDIRECT("Feuil1!"&ADDRESS(ROW(),COLUMN()))="","",INDIRECT("Feuil1!"&ADDRESS(ROW(),COLUMN()))) | E14: =IF(INDIRECT("Feuil1!"&ADDRESS(ROW(),COLUMN()))="","",INDIRECT("Feuil1!"&ADDRESS(ROW(),COLUMN()))) | F14: =IF(INDIRECT("Feuil1!"&ADDRESS(ROW(),COLUMN()))="","",INDIRECT("Feuil1!"&ADDRESS(ROW(),COLUMN()))) | G14: =IF(INDIRECT("Feuil1!"&ADDRESS(ROW(),COLUMN()))="","",INDIRECT("Feuil1!"&ADDRESS(ROW(),COLUMN()))) | I14: Formules dans Plage A6 : G23
A15: =IF(INDIRECT("Feuil1!"&ADDRESS(ROW(),COLUMN()))="","",INDIRECT("Feuil1!"&ADDRESS(ROW(),COLUMN()))) | B15: =IF(INDIRECT("Feuil1!"&ADDRESS(ROW(),COLUMN()))="","",INDIRECT("Feuil1!"&ADDRESS(ROW(),COLUMN()))) | C15: =IF(INDIRECT("Feuil1!"&ADDRESS(ROW(),COLUMN()))="","",INDIRECT("Feuil1!"&ADDRESS(ROW(),COLUMN()))) | D15: =IF(INDIRECT("Feuil1!"&ADDRESS(ROW(),COLUMN()))="","",INDIRECT("Feuil1!"&ADDRESS(ROW(),COLUMN()))) | E15: =IF(INDIRECT("Feuil1!"&ADDRESS(ROW(),COLUMN()))="","",INDIRECT("Feuil1!"&ADDRESS(ROW(),COLUMN()))) | F15: =IF(INDIRECT("Feuil1!"&ADDRESS(ROW(),COLUMN()))="","",INDIRECT("Feuil1!"&ADDRESS(ROW(),COLUMN()))) | G15: =IF(INDIRECT("Feuil1!"&ADDRESS(ROW(),COLUMN()))="","",INDIRECT("Feuil1!"&ADDRESS(ROW(),COLUMN())))
A16: =IF(INDIRECT("Feuil1!"&ADDRESS(ROW(),COLUMN()))="","",INDIRECT("Feuil1!"&ADDRESS(ROW(),COLUMN()))) | B16: =IF(INDIRECT("Feuil1!"&ADDRESS(ROW(),COLUMN()))="","",INDIRECT("Feuil1!"&ADDRESS(ROW(),COLUMN()))) | C16: =IF(INDIRECT("Feuil1!"&ADDRESS(ROW(),COLUMN()))="","",INDIRECT("Feuil1!"&ADDRESS(ROW(),COLUMN()))) | D16: =IF(INDIRECT("Feuil1!"&ADDRESS(ROW(),COLUMN()))="","",INDIRECT("Feuil1!"&ADDRESS(ROW(),COLUMN()))) | E16: =IF(INDIRECT("Feuil1!"&ADDRESS(ROW(),COLUMN()))="","",INDIRECT("Feuil1!"&ADDRESS(ROW(),COLUMN()))) | F16: =IF(INDIRECT("Feuil1!"&ADDRESS(ROW(),COLUMN()))="","",INDIRECT("Feuil1!"&ADDRESS(ROW(),COLUMN()))) | G16: =IF(INDIRECT("Feuil1!"&ADDRESS(ROW(),COLUMN()))="","",INDIRECT("Feuil1!"&ADDRESS(ROW(),COLUMN())))
A17: =IF(INDIRECT("Feuil1!"&ADDRESS(ROW(),COLUMN()))="","",INDIRECT("Feuil1!"&ADDRESS(ROW(),COLUMN()))) | B17: =IF(INDIRECT("Feuil1!"&ADDRESS(ROW(),COLUMN()))="","",INDIRECT("Feuil1!"&ADDRESS(ROW(),COLUMN()))) | C17: =IF(INDIRECT("Feuil1!"&ADDRESS(ROW(),COLUMN()))="","",INDIRECT("Feuil1!"&ADDRESS(ROW(),COLUMN()))) | D17: =IF(INDIRECT("Feuil1!"&ADDRESS(ROW(),COLUMN()))="","",INDIRECT("Feuil1!"&ADDRESS(ROW(),COLUMN()))) | E17: =IF(INDIRECT("Feuil1!"&ADDRESS(ROW(),COLUMN()))="","",INDIRECT("Feuil1!"&ADDRESS(ROW(),COLUMN()))) | F17: =IF(INDIRECT("Feuil1!"&ADDRESS(ROW(),COLUMN()))="","",INDIRECT("Feuil1!"&ADDRESS(ROW(),COLUMN()))) | G17: =IF(INDIRECT("Feuil1!"&ADDRESS(ROW(),COLUMN()))="","",INDIRECT("Feuil1!"&ADDRESS(ROW(),COLUMN())))
A18: =IF(INDIRECT("Feuil1!"&ADDRESS(ROW(),COLUMN()))="","",INDIRECT("Feuil1!"&ADDRESS(ROW(),COLUMN()))) | B18: =IF(INDIRECT("Feuil1!"&ADDRESS(ROW(),COLUMN()))="","",INDIRECT("Feuil1!"&ADDRESS(ROW(),COLUMN()))) | C18: =IF(INDIRECT("Feuil1!"&ADDRESS(ROW(),COLUMN()))="","",INDIRECT("Feuil1!"&ADDRESS(ROW(),COLUMN()))) | D18: =IF(INDIRECT("Feuil1!"&ADDRESS(ROW(),COLUMN()))="","",INDIRECT("Feuil1!"&ADDRESS(ROW(),COLUMN()))) | E18: =IF(INDIRECT("Feuil1!"&ADDRESS(ROW(),COLUMN()))="","",INDIRECT("Feuil1!"&ADDRESS(ROW(),COLUMN()))) | F18: =IF(INDIRECT("Feuil1!"&ADDRESS(ROW(),COLUMN()))="","",INDIRECT("Feuil1!"&ADDRESS(ROW(),COLUMN()))) | G18: =IF(INDIRECT("Feuil1!"&ADDRESS(ROW(),COLUMN()))="","",INDIRECT("Feuil1!"&ADDRESS(ROW(),COLUMN())))
A19: =IF(INDIRECT("Feuil1!"&ADDRESS(ROW(),COLUMN()))="","",INDIRECT("Feuil1!"&ADDRESS(ROW(),COLUMN()))) | B19: =IF(INDIRECT("Feuil1!"&ADDRESS(ROW(),COLUMN()))="","",INDIRECT("Feuil1!"&ADDRESS(ROW(),COLUMN()))) | C19: =IF(INDIRECT("Feuil1!"&ADDRESS(ROW(),COLUMN()))="","",INDIRECT("Feuil1!"&ADDRESS(ROW(),COLUMN()))) | D19: =IF(INDIRECT("Feuil1!"&ADDRESS(ROW(),COLUMN()))="","",INDIRECT("Feuil1!"&ADDRESS(ROW(),COLUMN()))) | E19: =IF(INDIRECT("Feuil1!"&ADDRESS(ROW(),COLUMN()))="","",INDIRECT("Feuil1!"&ADDRESS(ROW(),COLUMN()))) | F19: =IF(INDIRECT("Feuil1!"&ADDRESS(ROW(),COLUMN()))="","",INDIRECT("Feuil1!"&ADDRESS(ROW(),COLUMN()))) | G19: =IF(INDIRECT("Feuil1!"&ADDRESS(ROW(),COLUMN()))="","",INDIRECT("Feuil1!"&ADDRESS(ROW(),COLUMN())))
A20: =IF(INDIRECT("Feuil1!"&ADDRESS(ROW(),COLUMN()))="","",INDIRECT("Feuil1!"&ADDRESS(ROW(),COLUMN()))) | B20: =IF(INDIRECT("Feuil1!"&ADDRESS(ROW(),COLUMN()))="","",INDIRECT("Feuil1!"&ADDRESS(ROW(),COLUMN()))) | C20: =IF(INDIRECT("Feuil1!"&ADDRESS(ROW(),COLUMN()))="","",INDIRECT("Feuil1!"&ADDRESS(ROW(),COLUMN()))) | D20: =IF(INDIRECT("Feuil1!"&ADDRESS(ROW(),COLUMN()))="","",INDIRECT("Feuil1!"&ADDRESS(ROW(),COLUMN()))) | E20: =IF(INDIRECT("Feuil1!"&ADDRESS(ROW(),COLUMN()))="","",INDIRECT("Feuil1!"&ADDRESS(ROW(),COLUMN()))) | F20: =IF(INDIRECT("Feuil1!"&ADDRESS(ROW(),COLUMN()))="","",INDIRECT("Feuil1!"&ADDRESS(ROW(),COLUMN()))) | G20: =IF(INDIRECT("Feuil1!"&ADDRESS(ROW(),COLUMN()))="","",INDIRECT("Feuil1!"&ADDRESS(ROW(),COLUMN())))
A21: =IF(INDIRECT("Feuil1!"&ADDRESS(ROW(),COLUMN()))="","",INDIRECT("Feuil1!"&ADDRESS(ROW(),COLUMN()))) | B21: =IF(INDIRECT("Feuil1!"&ADDRESS(ROW(),COLUMN()))="","",INDIRECT("Feuil1!"&ADDRESS(ROW(),COLUMN()))) | C21: =IF(INDIRECT("Feuil1!"&ADDRESS(ROW(),COLUMN()))="","",INDIRECT("Feuil1!"&ADDRESS(ROW(),COLUMN()))) | D21: =IF(INDIRECT("Feuil1!"&ADDRESS(ROW(),COLUMN()))="","",INDIRECT("Feuil1!"&ADDRESS(ROW(),COLUMN()))) | E21: =IF(INDIRECT("Feuil1!"&ADDRESS(ROW(),COLUMN()))="","",INDIRECT("Feuil1!"&ADDRESS(ROW(),COLUMN()))) | F21: =IF(INDIRECT("Feuil1!"&ADDRESS(ROW(),COLUMN()))="","",INDIRECT("Feuil1!"&ADDRESS(ROW(),COLUMN()))) | G21: =IF(INDIRECT("Feuil1!"&ADDRESS(ROW(),COLUMN()))="","",INDIRECT("Feuil1!"&ADDRESS(ROW(),COLUMN())))
A22: =IF(INDIRECT("Feuil1!"&ADDRESS(ROW(),COLUMN()))="","",INDIRECT("Feuil1!"&ADDRESS(ROW(),COLUMN()))) | B22: =IF(INDIRECT("Feuil1!"&ADDRESS(ROW(),COLUMN()))="","",INDIRECT("Feuil1!"&ADDRESS(ROW(),COLUMN()))) | C22: =IF(INDIRECT("Feuil1!"&ADDRESS(ROW(),COLUMN()))="","",INDIRECT("Feuil1!"&ADDRESS(ROW(),COLUMN()))) | D22: =IF(INDIRECT("Feuil1!"&ADDRESS(ROW(),COLUMN()))="","",INDIRECT("Feuil1!"&ADDRESS(ROW(),COLUMN()))) | E22: =IF(INDIRECT("Feuil1!"&ADDRESS(ROW(),COLUMN()))="","",INDIRECT("Feuil1!"&ADDRESS(ROW(),COLUMN()))) | F22: =IF(INDIRECT("Feuil1!"&ADDRESS(ROW(),COLUMN()))="","",INDIRECT("Feuil1!"&ADDRESS(ROW(),COLUMN()))) | G22: =IF(INDIRECT("Feuil1!"&ADDRESS(ROW(),COLUMN()))="","",INDIRECT("Feuil1!"&ADDRESS(ROW(),COLUMN())))
A23: =IF(INDIRECT("Feuil1!"&ADDRESS(ROW(),COLUMN()))="","",INDIRECT("Feuil1!"&ADDRESS(ROW(),COLUMN()))) | B23: =IF(INDIRECT("Feuil1!"&ADDRESS(ROW(),COLUMN()))="","",INDIRECT("Feuil1!"&ADDRESS(ROW(),COLUMN()))) | C23: =IF(INDIRECT("Feuil1!"&ADDRESS(ROW(),COLUMN()))="","",INDIRECT("Feuil1!"&ADDRESS(ROW(),COLUMN()))) | D23: =IF(INDIRECT("Feuil1!"&ADDRESS(ROW(),COLUMN()))="","",INDIRECT("Feuil1!"&ADDRESS(ROW(),COLUMN()))) | E23: =IF(INDIRECT("Feuil1!"&ADDRESS(ROW(),COLUMN()))="","",INDIRECT("Feuil1!"&ADDRESS(ROW(),COLUMN()))) -> Total | F23: =IF(INDIRECT("Feuil1!"&ADDRESS(ROW(),COLUMN()))="","",INDIRECT("Feuil1!"&ADDRESS(ROW(),COLUMN()))) | G23: =IF(INDIRECT("Feuil1!"&ADDRESS(ROW(),COLUMN()))="","",INDIRECT("Feuil1!"&ADDRESS(ROW(),COLUMN())))
A24: =IF(INDIRECT("Feuil1!"&ADDRESS(ROW(),COLUMN()))="","",INDIRECT("Feuil1!"&ADDRESS(ROW(),COLUMN()))) | C24: =IF(INDIRECT("Feuil1!"&ADDRESS(ROW(),COLUMN()))="","",INDIRECT("Feuil1!"&ADDRESS(ROW(),COLUMN()))) | D24: =IF(INDIRECT("Feuil1!"&ADDRESS(ROW(),COLUMN()))="","",INDIRECT("Feuil1!"&ADDRESS(ROW(),COLUMN()))) | E24: =IF(INDIRECT("Feuil1!"&ADDRESS(ROW(),COLUMN()))="","",INDIRECT("Feuil1!"&ADDRESS(ROW(),COLUMN()))) | F24: =IF(INDIRECT("Feuil1!"&ADDRESS(ROW(),COLUMN()))="","",INDIRECT("Feuil1!"&ADDRESS(ROW(),COLUMN()))) | G24: =IF(INDIRECT("Feuil1!"&ADDRESS(ROW(),COLUMN()))="","",INDIRECT("Feuil1!"&ADDRESS(ROW(),COLUMN())))
A25: Lot N°02 | C25: =IF(Feuil1!$C25="","",Feuil1!$C25) | D25: =IF(Feuil1!$D25="","",Feuil1!$D25) | E25: =IF(Feuil1!$E25="","",Feuil1!$E25)
C26: =IF(Feuil1!$C26="","",Feuil1!$C26) | D26: =IF(Feuil1!$D26="","",Feuil1!$D26) | E26: =IF(Feuil1!$E26="","",Feuil1!$E26)
