Workbook
Name DATE: #REF!
Name DATE: #REF!
Name DONNEE1: #REF!
Name DONNEE1: #REF!
Name MOIS: #REF!
Name MOIS: #REF!
Name TOTAL1: #REF!
Name TOTAL1: #REF!
Name TOTALNOM: #REF!
Name TOTALNOM: #REF!

Sheet Feuille d'analyses
A1: Autocontrôle Usine du SERTAD
A3: Date | B3: =LOOKUP(9^9,[1]Paramètres!$A:$A) -> 43102 | D3: Prélèvement labo à : | H3: 0.35416667
A5: PARAMETRES | B5: Con. MAXI | C5: E.B | D5: E.Floculée | E5: E.Flottée A | F5: E.Flottée B | G5: E.F.S et post ozonée | H5: E.F C.A.G | I5: E.C.Chlore | J5: E.T
A6: Température | B6: < 25 °C | C6: =LOOKUP(9^9,'[1]E B'!C:C) -> 18 | E6: =LOOKUP(9^9,'[1]E FLOT A'!C:C) -> 13 | F6: =LOOKUP(9^9,'[1]E FLOT B'!C:C) -> 13 | G6: =LOOKUP(9^9,'[1]E FAS'!C:C) -> 14 | H6: =LOOKUP(9^9,'[1]E C.A.G'!C:C) -> 14 | I6: =LOOKUP(9^9,'[1]E C.C'!C:C) -> 13 | J6: =LOOKUP(9^9,'[1]E Traitée'!C:C) -> 13
A7: Ph | B7: > 6,5 - < 9 | C7: =LOOKUP(9^9,'[1]E B'!D:D) -> 7 | D7: =LOOKUP(9^9,'[1]E Flocu'!C:C) -> 3 | E7: =LOOKUP(9^9,'[1]E FLOT A'!D:D) -> 12 | F7: =LOOKUP(9^9,'[1]E FLOT B'!D:D) -> 12 | G7: =LOOKUP(9^9,'[1]E FAS'!D:D) -> 1 | H7: =LOOKUP(9^9,'[1]E C.A.G'!D:D) -> 13 | I7: =LOOKUP(9^9,'[1]E C.C'!D:D) -> 12 | J7: =LOOKUP(9^9,'[1]E Traitée'!D:D) -> 13
A8: Turbidité | B8: < 1 NFU | C8: =LOOKUP(9^9,'[1]E B'!E:E) -> 0.5 | E8: =LOOKUP(9^9,'[1]E FLOT A'!E:E) -> 8 | F8: =LOOKUP(9^9,'[1]E FLOT B'!E:E) -> 11 | G8: =LOOKUP(9^9,'[1]E FAS'!E:E) -> 12 | H8: =LOOKUP(9^9,'[1]E C.A.G'!E:E) -> 12 | I8: =LOOKUP(9^9,'[1]E C.C'!E:E) -> 11 | J8: =LOOKUP(9^9,'[1]E Traitée'!E:E) -> 13
A9: Conductivité | B9: 200<µS/cm<1100 | C9: =LOOKUP(9^9,'[1]E B'!F:F) -> 273 | E9: =LOOKUP(9^9,'[1]E FLOT A'!F:F) -> 4 | F9: =LOOKUP(9^9,'[1]E FLOT B'!F:F) -> 9 | G9: =LOOKUP(9^9,'[1]E FAS'!F:F) -> 10 | H9: =LOOKUP(9^9,'[1]E C.A.G'!F:F) -> 1 | I9: =LOOKUP(9^9,'[1]E C.C'!F:F) -> 14 | J9: =LOOKUP(9^9,'[1]E Traitée'!F:F) -> 13
A10: Teneur en O2 | B10: % | C10: =LOOKUP(9^9,'[1]E B'!G:G) -> 75 | J10: =LOOKUP(9^9,'[1]E Traitée'!G:G) -> 13
A11: TH total (dureté) | B11: °F | C11: 9 | J11: 15
A12: TH Ca (dureté) | B12: °F | C12: 8 | J12: 13
A13: T.A.C. | B13: °F | C13: 7 | J13: 10
A14: Equili calco | C14: Agressive | J14: Entartrante | L14: Bouton Validation bilan
A15: Magnésium | B15: mg/l
A16: COT | B16: <2 mg/l | C16: =LOOKUP(9^9,'[1]E B'!H:H) -> 4 | E16: =LOOKUP(9^9,'[1]E FLOT A'!G:G) -> 16 | J16: =LOOKUP(9^9,'[1]E Traitée'!H:H) -> 13
A17: Nitrates (NO3) | B17: <50 mg/l | C17: =LOOKUP(9^9,'[1]E B'!I:I) -> 15 | J17: =LOOKUP(9^9,'[1]E Traitée'!I:I) -> 15
A18: Nitrites (NO2) | B18: <0,1 mg/l | C18: 0.025 | G18: 0.015 | H18: 0.02 | J18: 0.013
A19: Ammoniac (NH4) | B19: <0,10 mg/l | C19: 0.1 | E19: 0.02 | G19: 0 | H19: 0 | J19: 0
A20: Fer | B20: <0,200 mg/l | C20: 0.05 | E20: 1.5 | J20: 0.01
A21: Mn | B21: <50 µg/l | C21: 0.1 | E21: 0.06 | J21: 0
A22: Chlore libre | B22: mg/l | I22: =LOOKUP(9^9,'[1]E C.C'!G:G) -> 1.12 | J22: =LOOKUP(9^9,'[1]E Traitée'!J:J) -> 0.87
A23: Chlore total | B23: mg/l | J23: 0.95
A24: Chlorures | B24: <250 mg/l | J24: 35
A25: Sulfates | B25: <250 mg/l | J25: 5
A26: Larson | J26: 0.52
A27: Corrosion métaux | J27: Moyenne
A28: Oxydabilité KMnO4 | B28: 5 mg/l | C28: 2.5 | E28: 0.32 | G28: 0.15 | H28: 0 | J28: 0
A29: Aluminium | B29: <200 mg/l | C29: 0.005
A30: Phosphore | B30: mg/l | C30: 0.12
A31: Ozone résiduel | B31: mg/l | G31: =LOOKUP(9^9,'[1]E FAS'!G:G) -> 15
A32: Baryum | B32: < 0,7 mg/l | C32: 5
A34: Fonctionnement usine
A35: Débit usine | C35: =LOOKUP(9^9,[1]Paramètres!$C:$C) -> 650 | D35: m3/h | G35: pH de régul | H35: Pré | I35: =LOOKUP(9^9,[1]Paramètres!$L:$L) -> 7 | J35: unités/ph
A37: Hauteur de prélèvement barrage | D37: m | H37: inter | I37: =LOOKUP(9^9,[1]Paramètres!$M:$M) -> 8 | J37: unités/ph
A39: Taux de traitement | B39: FeCl3 - F1 | C39: =LOOKUP(9^9,[1]Paramètres!$D:$D) -> 35 | D39: ppm | H39: post | I39: =LOOKUP(9^9,[1]Paramètres!$N:$N) -> 9 | J39: unités/ph
B41: FeCl3 - F2 | C41: =LOOKUP(9^9,[1]Paramètres!$E:$E) -> 37 | D41: ppm | G41: Taux de chlore | H41: Contact | I41: =LOOKUP(9^9,[1]Paramètres!$O:$O) -> 0.9 | J41: mg/l
B43: Polymère 1 | C43: =LOOKUP(9^9,[1]Paramètres!$F:$F) -> 0.1 | D43: ppm | H43: Eau Traitée | I43: =LOOKUP(9^9,[1]Paramètres!$P:$P) -> 0.6 | J43: mg/l
B45: Polymère 2 | C45: =LOOKUP(9^9,[1]Paramètres!$G:$G) -> 0.15 | D45: ppm
B47: CO2 | C47: =LOOKUP(9^9,[1]Paramètres!$H:$H) -> 13.2 | D47: ppm | G47: T.A.C. | H47: Satu 1
B49: Ozone | C49: =LOOKUP(9^9,[1]Paramètres!$I:$I) -> 2 | D49: ppm | H49: Satu 2
B51: KMnO4 | C51: =LOOKUP(9^9,[1]Paramètres!$J:$J) -> 5 | D51: ppm | G51: Usine M / A
...
