Workbook

Sheet CDV
A3: Date | B3: Machine | C3: HDV | D3: Atteros
A4: 42858 | B4: DR 400 | C4: 0.027777778 | D4: 2
A5: 42872 | B5: DR 400 | C5: 0.048611111 | D5: 4
A6: 42879 | B6: DR 400 | C6: 0.034722222 | D6: 3
A7: 42888 | B7: DR 400 | C7: 0.024305556 | D7: 2
A8: 42893 | B8: DR 400 | C8: 0.041666667 | D8: 1
A9: 42901 | B9: DR 400 | C9: 0.03125 | D9: 4
A10: 42917 | B10: DR 400 | C10: 0.034722222 | D10: 3
A11: 42919 | B11: DR 400 | C11: 0.027777778 | D11: 2
A12: 42923 | B12: DR 400 | C12: 0.03125 | D12: 3
A13: 42924 | B13: DR 400 | C13: 0.020833333 | D13: 2
A14: 42926 | B14: DR 400 | C14: 0.020833333 | D14: 1
A15: 42927 | B15: DR 400 | C15: 0.03125 | D15: 3
... A30: 43209 | B30: DR 415 | C30: 0.020833333 | D30: 2

Sheet Stats
D3: HdV/Mois | E3: Attero/Mois
B4: 2017 | C4: Mai | D4: =SUMPRODUCT((MONTH(CDV!$A$4:$A$100)=MONTH(1&$C4))*(CDV!C$4:C$100)) -> 0.11111111 | E4: =SUMPRODUCT((MONTH(CDV!$A$4:$A$100)=MONTH(1&$C4))*(CDV!D$4:D$100)) -> 9
C5: Juin | D5: =SUMPRODUCT((MONTH(CDV!$A$4:$A$100)=MONTH(1&$C5))*(CDV!C$4:C$100)) -> 0.097222222 | E5: =SUMPRODUCT((MONTH(CDV!$A$4:$A$100)=MONTH(1&$C5))*(CDV!D$4:D$100)) -> 7
C6: Juillet | D6: =SUMPRODUCT((MONTH(CDV!$A$4:$A$100)=MONTH(1&$C6))*(CDV!C$4:C$100)) -> 0.16666667 | E6: =SUMPRODUCT((MONTH(CDV!$A$4:$A$100)=MONTH(1&$C6))*(CDV!D$4:D$100)) -> 14
C7: Août | D7: =SUMPRODUCT((MONTH(CDV!$A$4:$A$100)=MONTH(1&$C7))*(CDV!C$4:C$100)) -> 0.1875 | E7: =SUMPRODUCT((MONTH(CDV!$A$4:$A$100)=MONTH(1&$C7))*(CDV!D$4:D$100)) -> 6
C8: Septembre | D8: =SUMPRODUCT((MONTH(CDV!$A$4:$A$100)=MONTH(1&$C8))*(CDV!C$4:C$100)) -> 0.10416667 | E8: =SUMPRODUCT((MONTH(CDV!$A$4:$A$100)=MONTH(1&$C8))*(CDV!D$4:D$100)) -> 6
C9: Octobre | D9: =SUMPRODUCT((MONTH(CDV!$A$4:$A$100)=MONTH(1&$C9))*(CDV!C$4:C$100)) -> 0.28819444 | E9: =SUMPRODUCT((MONTH(CDV!$A$4:$A$100)=MONTH(1&$C9))*(CDV!D$4:D$100)) -> 9
C10: Novembre | D10: =SUMPRODUCT((MONTH(CDV!$A$4:$A$100)=MONTH(1&$C10))*(CDV!C$4:C$100)) -> 0 | E10: =SUMPRODUCT((MONTH(CDV!$A$4:$A$100)=MONTH(1&$C10))*(CDV!D$4:D$100)) -> 0
C11: Décembre | D11: =SUMPRODUCT((MONTH(CDV!$A$4:$A$100)=MONTH(1&$C11))*(CDV!C$4:C$100)) -> 0 | E11: =SUMPRODUCT((MONTH(CDV!$A$4:$A$100)=MONTH(1&$C11))*(CDV!D$4:D$100)) -> 0
B12: 2018
C13: Janvier | D13: =SUMPRODUCT((MONTH(CDV!$A$4:$A$100)=MONTH(1&$C13))*(CDV!C$4:C$100)) -> 0.090277778 | E13: =SUMPRODUCT((MONTH(CDV!$A$4:$A$100)=MONTH(1&$C13))*(CDV!D$4:D$100)) -> 5
C14: Février | D14: =SUMPRODUCT((MONTH(CDV!$A$4:$A$100)=MONTH(1&$C14))*(CDV!C$4:C$100)) -> 0.055555556 | E14: =SUMPRODUCT((MONTH(CDV!$A$4:$A$100)=MONTH(1&$C14))*(CDV!D$4:D$100)) -> 7
C15: Mars | D15: =SUMPRODUCT((MONTH(CDV!$A$4:$A$100)=MONTH(1&$C15))*(CDV!C$4:C$100)) -> 0.024305556 | E15: =SUMPRODUCT((MONTH(CDV!$A$4:$A$100)=MONTH(1&$C15))*(CDV!D$4:D$100)) -> 2
C16: Avril | D16: =SUMPRODUCT((MONTH(CDV!$A$4:$A$100)=MONTH(1&$C16))*(CDV!C$4:C$100)) -> 0.079861111 | E16: =SUMPRODUCT((MONTH(CDV!$A$4:$A$100)=MONTH(1&$C16))*(CDV!D$4:D$100)) -> 3
C17: Mai | D17: =SUMPRODUCT((MONTH(CDV!$A$4:$A$100)=MONTH(1&$C17))*(CDV!C$4:C$100)) -> 0.11111111 | E17: =SUMPRODUCT((MONTH(CDV!$A$4:$A$100)=MONTH(1&$C17))*(CDV!D$4:D$100)) -> 9
C18: Juin | D18: =SUMPRODUCT((MONTH(CDV!$A$4:$A$100)=MONTH(1&$C18))*(CDV!C$4:C$100)) -> 0.097222222 | E18: =SUMPRODUCT((MONTH(CDV!$A$4:$A$100)=MONTH(1&$C18))*(CDV!D$4:D$100)) -> 7
C19: Juillet | D19: =SUMPRODUCT((MONTH(CDV!$A$4:$A$100)=MONTH(1&$C19))*(CDV!C$4:C$100)) -> 0.16666667 | E19: =SUMPRODUCT((MONTH(CDV!$A$4:$A$100)=MONTH(1&$C19))*(CDV!D$4:D$100)) -> 14
C20: Août | D20: =SUMPRODUCT((MONTH(CDV!$A$4:$A$100)=MONTH(1&$C20))*(CDV!C$4:C$100)) -> 0.1875 | E20: =SUMPRODUCT((MONTH(CDV!$A$4:$A$100)=MONTH(1&$C20))*(CDV!D$4:D$100)) -> 6
C21: Septembre | D21: =SUMPRODUCT((MONTH(CDV!$A$4:$A$100)=MONTH(1&$C21))*(CDV!C$4:C$100)) -> 0.10416667 | E21: =SUMPRODUCT((MONTH(CDV!$A$4:$A$100)=MONTH(1&$C21))*(CDV!D$4:D$100)) -> 6
C22: Octobre | D22: =SUMPRODUCT((MONTH(CDV!$A$4:$A$100)=MONTH(1&$C22))*(CDV!C$4:C$100)) -> 0.28819444 | E22: =SUMPRODUCT((MONTH(CDV!$A$4:$A$100)=MONTH(1&$C22))*(CDV!D$4:D$100)) -> 9
C23: Novembre | D23: =SUMPRODUCT((MONTH(CDV!$A$4:$A$100)=MONTH(1&$C23))*(CDV!C$4:C$100)) -> 0 | E23: =SUMPRODUCT((MONTH(CDV!$A$4:$A$100)=MONTH(1&$C23))*(CDV!D$4:D$100)) -> 0
C24: Décembre | D24: =SUMPRODUCT((MONTH(CDV!$A$4:$A$100)=MONTH(1&$C24))*(CDV!C$4:C$100)) -> 0 | E24: =SUMPRODUCT((MONTH(CDV!$A$4:$A$100)=MONTH(1&$C24))*(CDV!D$4:D$100)) -> 0

Sheet Feuil3
