Workbook
Name _Ref451850499: Feuil1!$A$1458
Name _Ref451850519: Feuil1!$A$60
Name _Ref451850521: Feuil1!$A$194
Name _Ref451850524: Feuil1!$A$401
Name _Ref451850528: Feuil1!$A$765
Name _Toc451850700: Feuil1!$A$3
Name _Toc451850701: Feuil1!$A$5
Name _Toc451850702: Feuil1!$A$9
Name _Toc451850703: Feuil1!$A$12
Name _Toc451850704: Feuil1!$A$14
Name _Toc451850705: Feuil1!$A$16
Name _Toc451850706: Feuil1!$A$18
Name _Toc451850707: Feuil1!$A$20
Name _Toc451850708: Feuil1!$A$25
Name _Toc451850709: Feuil1!$A$33
Name _Toc451850710: Feuil1!$A$37
Name _Toc451850714: Feuil1!$A$677
Name _Toc451850716: Feuil1!$A$767
Name _Toc451850717: Feuil1!$A$809
Name _Toc451850718: Feuil1!$A$1104
Name _Toc451850719: Feuil1!$A$1107
Name _Toc451850720: Feuil1!$A$1138
Name _Toc451850721: Feuil1!$A$1224
Name _Toc451850722: Feuil1!$A$1255
Name _Toc451850723: Feuil1!$A$1341
Name _Toc451850724: Feuil1!$A$1372
Name _Toc451850726: Feuil1!$A$1487
Name _Toc451850727: Feuil1!$A$1535
Name _Toc451850728: Feuil1!$A$1701
Name _Toc451850729: Feuil1!$A$1728
Name _Toc451850730: Feuil1!$A$1735
Name _Toc451850731: Feuil1!$A$1745
Name _Toc451850732: Feuil1!$A$1752
Name _Toc451850733: Feuil1!$A$1757
Name _Toc451850734: Feuil1!$A$1759
Name _Toc451850735: Feuil1!$A$1779
Name _Toc451850736: Feuil1!$A$1781
Name _Toc451850737: Feuil1!$A$1785
Name _Toc451850738: Feuil1!$A$1787
Name _Toc451850739: Feuil1!$A$1789
Name _Toc451850740: Feuil1!$A$1790
Name _Toc451850741: Feuil1!$A$1792
Name _Toc451850742: Feuil1!$A$1794
Name _Toc451850743: Feuil1!$A$1808
Name _Toc451850744: Feuil1!$A$1822
Name _Toc451850745: Feuil1!$A$1836
Name _Toc451850746: Feuil1!$A$1870
Name _Toc451850747: Feuil1!$A$1903
Name _Toc451850748: Feuil1!$A$1937
Name _Toc451850749: Feuil1!$A$1970
Name _Toc451850750: Feuil1!$A$2004
Name _Toc451850751: Feuil1!$A$2037
Name _Toc451850752: Feuil1!$A$2043
Name _Toc451850753: Feuil1!$A$2055
Name _Toc451850754: Feuil1!$A$2061
Name CaseACocher7: Feuil1!$F$64
Name Etat: '[1]à définir'!$P$6:$P$8

Sheet Bdd
I1: Modif ORS | J1: Modif ORS | K1: Modif ORS | L1: Modif ORS | M1: Modif ORS | N1: Modif ORS | R1: Modif ORS | S1: Modif ORS | T1: Modif ORS | U1: Modif ORS | Y1: Modif ORS | AA1: Modif ORS | AB1: Modif ORS | AC1: Modif ORS | AD1: Modif ORS | AE1: Modif ORS | AF1: Modif ORS | AG1: Modif ORS | AH1: Modif ORS | AI1: Modif ORS | AK1: Modif ORS | AM1: Modif ORS | AN1: Modif ORS | AO1: Modif ORS | AP1: Modif ORS | AQ1: Modif ORS | AR1: Modif ORS | AS1: Modif ORS | AT1: Modif ORS | AU1: Modif ORS | AW1: Modif ORS | AY1: Modif ORS | AZ1: Modif ORS | BA1: Modif ORS | BB1: Modif ORS | BC1: Modif ORS | BD1: Modif ORS | BE1: Modif ORS | BF1: Modif ORS | BG1: Modif ORS | BI1: Modif ORS | BK1: Modif ORS | BL1: Modif ORS | BM1: Modif ORS | BN1: Modif ORS | BO1: Modif ORS | BP1: Modif ORS | BQ1: Modif ORS | BR1: Modif ORS | BS1: Modif ORS | BU1: Modif ORS | BW1: Modif ORS | BX1: Modif ORS | BY1: Modif ORS | BZ1: Modif ORS | CA1: Modif ORS | CB1: Modif ORS | CC1: Modif ORS | CD1: Modif ORS | CE1: Modif ORS | CG1: Modif ORS | CI1: Modif ORS | CJ1: Modif ORS | CK1: Modif ORS | CL1: Modif ORS | CM1: Modif ORS | CN1: Modif ORS | CO1: Modif ORS | CP1: Modif ORS | CQ1: Modif ORS | CS1: Modif ORS | CU1: Modif ORS | CV1: Modif ORS | CW1: Modif ORS | CX1: Modif ORS | CY1: Modif ORS | CZ1: Modif ORS | DA1: Modif ORS | DB1: Modif ORS | DC1: Modif ORS
A2: Num | B2: Sexe | C2: P_depist | D2: T_depist | E2: IMC_depist | F2: P_incl | G2: T_incl | H2: IMC_incl | I2: Calc_Zscore_incl_âge | J2: Calc_Zscore_incl_âge/sexe | K2: Calc_Zscore_incl_M | L2: Calc_Zscore_incl_L | M2: Calc_Zscore_incl_S | N2: Zscore_incl | O2: Corpulence | P2: DRI | Q2: DDN | R2: Age_actuel | S2: Cat_ageactu | T2: Age_incl | U2: Cat_age_incl | V2: Date_bilan_incl | W2: IMC_bilan_incl | X2: Date_1bilan | Y2: Age_1bilan | Z2: IMC__1bilan | AA2: Calc_Zscore_1bilan_âge | AB2: Calc_Zscore_1bilan_âge/sexe | AC2: Calc_Zscore_1bilan_M | AD2: Calc_Zscore_1bilan_L | AE2: Calc_Zscore_1bilan_S | AF2: Zscore_1bilan | AG2: ∆Zscore_1bilan_incl | AH2: Categorie Zscore | AI2: Délai bilan1_incl | AJ2: Date_2bilan | AK2: Age_2bilan | AL2: IMC__2bilan | AM2: Calc_Zscore_2bilan_âge | AN2: Calc_Zscore_2bilan_âge/sexe | AO2: Calc_Zscore_2bilan_M | AP2: Calc_Zscore_2bilan_L | AQ2: Calc_Zscore_2bilan_S | AR2: Zscore_2bilan | AS2: ∆Zscore_2bilan_1bilan | AT2: Categorie Zscore | AU2: Délai bilan2_bilan1 | AV2: Date_3bilan | AW2: Age_3bilan | AX2: IMC__3bilan | AY2: Calc_Zscore_2bilan_âge | AZ2: Calc_Zscore_2bilan_âge/sexe | BA2: Calc_Zscore_2bilan_M | BB2: Calc_Zscore_2bilan_L | BC2: Calc_Zscore_2bilan_S | BD2: Zscore_2bilan | BE2: ∆Zscore_2bilan_1bilan | BF2: Categorie Zscore | BG2: Délai bilan2_bilan1 | BH2: Date_4bilan | BI2: Age_4bilan | BJ2: IMC__4bilan | BK2: Calc_Zscore_2bilan_âge | BL2: Calc_Zscore_2bilan_âge/sexe | BM2: Calc_Zscore_2bilan_M | BN2: Calc_Zscore_2bilan_L | BO2: Calc_Zscore_2bilan_S | BP2: Zscore_2bilan | BQ2: ∆Zscore_2bilan_1bilan | BR2: Categorie Zscore | BS2: Délai bilan2_bilan1 | BT2: Date_5bilan | BU2: Age_5bilan | BV2: IMC__5bilan | BW2: Calc_Zscore_2bilan_âge | BX2: Calc_Zscore_2bilan_âge/sexe | BY2: Calc_Zscore_2bilan_M | BZ2: Calc_Zscore_2bilan_L | CA2: Calc_Zscore_2bilan_S | CB2: Zscore_2bilan | CC2: ∆Zscore_2bilan_1bilan | CD2: Categorie Zscore | CE2: Délai bilan2_bilan1 | CF2: Date_6bilan | CG2: Age_6bilan | CH2: IMC__6bilan | CI2: Calc_Zscore_2bilan_âge | CJ2: Calc_Zscore_2bilan_âge/sexe | CK2: Calc_Zscore_2bilan_M | CL2: Calc_Zscore_2bilan_L | CM2: Calc_Zscore_2bilan_S | CN2: Zscore_2bilan | CO2: ∆Zscore_2bilan_1bilan | CP2: Categorie Zscore | CQ2: Délai bilan2_bilan1 | CR2: Date_7bilan | CS2: Age_7bilan | CT2: IMC__7bilan | CU2: Calc_Zscore_2bilan_âge | CV2: Calc_Zscore_2bilan_âge/sexe | CW2: Calc_Zscore_2bilan_M | CX2: Calc_Zscore_2bilan_L | CY2: Calc_Zscore_2bilan_S | CZ2: Zscore_2bilan | DA2: ∆Zscore_2bilan_1bilan | DB2: Categorie Zscore | DC2: Délai bilan2_bilan1
A3: 1 | B3: 1 | F3: 36 | G3: 1.315 | H3: 20.818575 | I3: =VLOOKUP(T3,Table_corresp!$E$3:$F$230,2,0) -> 8.5 | J3: =CONCATENATE(B3," / ",I3) -> 1 / 8,5 | K3: =VLOOKUP(J3,Table_corresp!$J$3:$M$70,2,0) -> 15.89 | L3: =VLOOKUP(J3,Table_corresp!$J$3:$M$70,3,0) -> -0.66 | M3: =VLOOKUP(J3,Table_corresp!$J$3:$M$70,4,0) -> -0.0595 | N3: =IF(H3>0,((((H3/K3)^L3)-1)/M3),"") -> 2.7447209 | O3: Surpoids | P3: 41725 | Q3: 38596 | R3: =DATEDIF(Q3,TODAY(),"y")&" ans "&DATEDIF(Q3,TODAY(),"ym")&" mois" -> 12 ans 1 mois | S3: =VLOOKUP(R3,Table_corresp!$A$3:$B$230,2,0) -> > 12 | T3: =DATEDIF(Q3,P3,"y")&" ans "&DATEDIF(Q3,P3,"ym")&" mois" -> 8 ans 6 mois | U3: =VLOOKUP(T3,Table_corresp!$A$3:$B$230,2,0) -> [6-9[ | Y3: =IF(X3<>0,(DATEDIF(Q3,X3,"y")&" ans "&DATEDIF(Q3,X3,"ym")&" mois"),"") | AA3: =IF(Y3="","",(VLOOKUP(Y3,Table_corresp!$E$3:$F$230,2,0))) | AB3: =IF(AA3="","",(CONCATENATE(B3," / ",AA3))) | AC3: =IF(AB3="","",(VLOOKUP(AB3,Table_corresp!$J$3:$M$70,2,0))) | AD3: =IF(AB3="","",(VLOOKUP(AB3,Table_corresp!$J$3:$M$70,3,0))) | AE3: =IF(AB3="","",(VLOOKUP(AB3,Table_corresp!$J$3:$M$70,4,0))) | AF3: =IF(Z3>0,((((Z3/AC3)^AD3)-1)/AE3),"") | AG3: =IF(AF3="","",N3-AF3) | AH3: =IF(AG3="","",IF(AG3>0.25,"ralentissement",IF(AND(AG3<=0.25,AG3>=-0.25),"stable",IF(AG3<-0.25,"accélération")))) | AI3: =IF(X3<>0,((YEAR(X3)-YEAR(P3))*12+MONTH(X3)-MONTH(P3)),"") | AK3: =IF(AJ3<>0,(DATEDIF(Q3,AJ3,"y")&" ans "&DATEDIF(Q3,AJ3,"ym")&" mois"),"") | AM3: =IF(AK3="","",(VLOOKUP(AK3,Table_corresp!$E$3:$F$230,2,0))) | AN3: =IF(AM3="","",(CONCATENATE(B3," / ",AM3))) | AO3: =IF(AN3="","",(VLOOKUP(AN3,Table_corresp!$J$3:$M$70,2,0))) | AP3: =IF(AN3="","",(VLOOKUP(AN3,Table_corresp!$J$3:$M$70,3,0))) | AQ3: =IF(AN3="","",(VLOOKUP(AN3,Table_corresp!$J$3:$M$70,4,0))) | AR3: =IF(AL3>0,((((AL3/AO3)^AP3)-1)/AQ3),"") | AS3: =IF(AR3="","",AF3-AR3) | AT3: =IF(AS3="","",IF(AS3>0.25,"ralentissement",IF(AND(AS3<=0.25,AS3>=-0.25),"stable",IF(AS3<-0.25,"accélération")))) | AU3: =IF(AJ3<>0,((YEAR(AJ3)-YEAR(X3))*12+MONTH(AJ3)-MONTH(X3)),"") | AW3: =IF(AV3<>0,(DATEDIF(AC3,AV3,"y")&" ans "&DATEDIF(AC3,AV3,"ym")&" mois"),"") | AY3: =IF(AU3="","",(VLOOKUP(AU3,Table_corresp!$E$3:$F$230,2,0))) | AZ3: =IF(AY3="","",(CONCATENATE(L3," / ",AY3))) | BA3: =IF(AZ3="","",(VLOOKUP(AZ3,Table_corresp!$J$3:$M$70,2,0))) | BB3: =IF(AZ3="","",(VLOOKUP(AZ3,Table_corresp!$J$3:$M$70,3,0))) | BC3: =IF(AZ3="","",(VLOOKUP(AZ3,Table_corresp!$J$3:$M$70,4,0))) | BD3: =IF(AV3>0,((((AV3/BA3)^BB3)-1)/BC3),"") | BE3: =IF(BD3="","",AP3-BD3) | BF3: =IF(BE3="","",IF(BE3>0.25,"ralentissement",IF(AND(BE3<=0.25,BE3>=-0.25),"stable",IF(BE3<-0.25,"accélération")))) | BG3: =IF(AT3<>0,((YEAR(AT3)-YEAR(AH3))*12+MONTH(AT3)-MONTH(AH3)),"") -> #VALUE! | BI3: =IF(BH3<>0,(DATEDIF(AO3,BH3,"y")&" ans "&DATEDIF(AO3,BH3,"ym")&" mois"),"") | BK3: =IF(BG3="","",(VLOOKUP(BG3,Table_corresp!$E$3:$F$230,2,0))) -> #VALUE! | BL3: =IF(BK3="","",(CONCATENATE(V3," / ",BK3))) -> #VALUE! | BM3: =IF(BL3="","",(VLOOKUP(BL3,Table_corresp!$J$3:$M$70,2,0))) -> #VALUE! | BN3: =IF(BL3="","",(VLOOKUP(BL3,Table_corresp!$J$3:$M$70,3,0))) -> #VALUE! | BO3: =IF(BL3="","",(VLOOKUP(BL3,Table_corresp!$J$3:$M$70,4,0))) -> #VALUE! | BP3: =IF(BH3>0,((((BH3/BM3)^BN3)-1)/BO3),"") | BQ3: =IF(BP3="","",BB3-BP3) | BR3: =IF(BQ3="","",IF(BQ3>0.25,"ralentissement",IF(AND(BQ3<=0.25,BQ3>=-0.25),"stable",IF(BQ3<-0.25,"accélération")))) | BS3: =IF(BF3<>0,((YEAR(BF3)-YEAR(AR3))*12+MONTH(BF3)-MONTH(AR3)),"") -> #VALUE! | BU3: =IF(BT3<>0,(DATEDIF(BA3,BT3,"y")&" ans "&DATEDIF(BA3,BT3,"ym")&" mois"),"") | BW3: =IF(BS3="","",(VLOOKUP(BS3,Table_corresp!$E$3:$F$230,2,0))) -> #VALUE! | BX3: =IF(BW3="","",(CONCATENATE(AF3," / ",BW3))) -> #VALUE! | BY3: =IF(BX3="","",(VLOOKUP(BX3,Table_corresp!$J$3:$M$70,2,0))) -> #VALUE! | BZ3: =IF(BX3="","",(VLOOKUP(BX3,Table_corresp!$J$3:$M$70,3,0))) -> #VALUE! | CA3: =IF(BX3="","",(VLOOKUP(BX3,Table_corresp!$J$3:$M$70,4,0))) -> #VALUE! | CB3: =IF(#REF!>0,((((#REF!/BY3)^BZ3)-1)/CA3),"") -> #REF! | CC3: =IF(CB3="","",BN3-CB3) -> #REF! | CD3: =IF(CC3="","",IF(CC3>0.25,"ralentissement",IF(AND(CC3<=0.25,CC3>=-0.25),"stable",IF(CC3<-0.25,"accélération")))) -> #REF! | CE3: =IF(BR3<>0,((YEAR(BR3)-YEAR(BD3))*12+MONTH(BR3)-MONTH(BD3)),"") -> #VALUE! | CG3: =IF(CF3<>0,(DATEDIF(BM3,CF3,"y")&" ans "&DATEDIF(BM3,CF3,"ym")&" mois"),"") | CI3: =IF(CE3="","",(VLOOKUP(CE3,Table_corresp!$E$3:$F$230,2,0))) -> #VALUE! | CJ3: =IF(CI3="","",(CONCATENATE(AP3," / ",CI3))) -> #VALUE! | CK3: =IF(CJ3="","",(VLOOKUP(CJ3,Table_corresp!$J$3:$M$70,2,0))) -> #VALUE! | CL3: =IF(CJ3="","",(VLOOKUP(CJ3,Table_corresp!$J$3:$M$70,3,0))) -> #VALUE! | CM3: =IF(CJ3="","",(VLOOKUP(CJ3,Table_corresp!$J$3:$M$70,4,0))) -> #VALUE! | CN3: =IF(#REF!>0,((((#REF!/CK3)^CL3)-1)/CM3),"") -> #REF! | CO3: =IF(CN3="","",BZ3-CN3) -> #REF! | CP3: =IF(CO3="","",IF(CO3>0.25,"ralentissement",IF(AND(CO3<=0.25,CO3>=-0.25),"stable",IF(CO3<-0.25,"accélération")))) -> #REF! | CQ3: =IF(CD3<>0,((YEAR(CD3)-YEAR(BP3))*12+MONTH(CD3)-MONTH(BP3)),"") -> #REF! | CS3: =IF(CR3<>0,(DATEDIF(BY3,CR3,"y")&" ans "&DATEDIF(BY3,CR3,"ym")&" mois"),"") | CU3: =IF(CQ3="","",(VLOOKUP(CQ3,Table_corresp!$E$3:$F$230,2,0))) -> #REF! | CV3: =IF(CU3="","",(CONCATENATE(BB3," / ",CU3))) -> #REF! | CW3: =IF(CV3="","",(VLOOKUP(CV3,Table_corresp!$J$3:$M$70,2,0))) -> #REF! | CX3: =IF(CV3="","",(VLOOKUP(CV3,Table_corresp!$J$3:$M$70,3,0))) -> #REF! | CY3: =IF(CV3="","",(VLOOKUP(CV3,Table_corresp!$J$3:$M$70,4,0))) -> #REF! | CZ3: =IF(#REF!>0,((((#REF!/CW3)^CX3)-1)/CY3),"") -> #REF! | DA3: =IF(CZ3="","",CL3-CZ3) -> #REF! | DB3: =IF(DA3="","",IF(DA3>0.25,"ralentissement",IF(AND(DA3<=0.25,DA3>=-0.25),"stable",IF(DA3<-0.25,"accélération")))) -> #REF! | DC3: =IF(CP3<>0,((YEAR(CP3)-YEAR(CB3))*12+MONTH(CP3)-MONTH(CB3)),"") -> #REF!
A4: 2 | B4: 1 | F4: 65.5 | G4: 1.63 | H4: 24.652791 | I4: =VLOOKUP(T4,Table_corresp!$E$3:$F$230,2,0) -> 12 | J4: =CONCATENATE(B4," / ",I4) -> 1 / 12 | K4: =VLOOKUP(J4,Table_corresp!$J$3:$M$70,2,0) -> 17.2 | L4: =VLOOKUP(J4,Table_corresp!$J$3:$M$70,3,0) -> -0.93 | M4: =VLOOKUP(J4,Table_corresp!$J$3:$M$70,4,0) -> -0.0978 | N4: =IF(H4>0,((((H4/K4)^L4)-1)/M4),"") -> 2.9090594 | O4: Surpoids | P4: 41738 | Q4: 37341 | R4: =DATEDIF(Q4,TODAY(),"y")&" ans "&DATEDIF(Q4,TODAY(),"ym")&" mois" -> 15 ans 6 mois | S4: =VLOOKUP(R4,Table_corresp!$A$3:$B$230,2,0) -> > 12 | T4: =DATEDIF(Q4,P4,"y")&" ans "&DATEDIF(Q4,P4,"ym")&" mois" -> 12 ans 0 mois | U4: =VLOOKUP(T4,Table_corresp!$A$3:$B$230,2,0) -> > 12 | Y4: =IF(X4<>0,(DATEDIF(Q4,X4,"y")&" ans "&DATEDIF(Q4,X4,"ym")&" mois"),"") | AA4: =IF(Y4="","",(VLOOKUP(Y4,Table_corresp!$E$3:$F$230,2,0))) | AB4: =IF(AA4="","",(CONCATENATE(B4," / ",AA4))) | AC4: =IF(AB4="","",(VLOOKUP(AB4,Table_corresp!$J$3:$M$70,2,0))) | AD4: =IF(AB4="","",(VLOOKUP(AB4,Table_corresp!$J$3:$M$70,3,0))) | AE4: =IF(AB4="","",(VLOOKUP(AB4,Table_corresp!$J$3:$M$70,4,0))) | AF4: =IF(Z4>0,((((Z4/AC4)^AD4)-1)/AE4),"") | AG4: =IF(AF4="","",N4-AF4) | AH4: =IF(AG4="","",IF(AG4>0.25,"ralentissement",IF(AND(AG4<=0.25,AG4>=-0.25),"stable",IF(AG4<-0.25,"accélération")))) | AI4: =IF(X4<>0,((YEAR(X4)-YEAR(P4))*12+MONTH(X4)-MONTH(P4)),"") | AK4: =IF(AJ4<>0,(DATEDIF(Q4,AJ4,"y")&" ans "&DATEDIF(Q4,AJ4,"ym")&" mois"),"") | AM4: =IF(AK4="","",(VLOOKUP(AK4,Table_corresp!$E$3:$F$230,2,0))) | AN4: =IF(AM4="","",(CONCATENATE(B4," / ",AM4))) | AO4: =IF(AN4="","",(VLOOKUP(AN4,Table_corresp!$J$3:$M$70,2,0))) | AP4: =IF(AN4="","",(VLOOKUP(AN4,Table_corresp!$J$3:$M$70,3,0))) | AQ4: =IF(AN4="","",(VLOOKUP(AN4,Table_corresp!$J$3:$M$70,4,0))) | AR4: =IF(AL4>0,((((AL4/AO4)^AP4)-1)/AQ4),"") | AS4: =IF(AR4="","",AF4-AR4) | AT4: =IF(AS4="","",IF(AS4>0.25,"ralentissement",IF(AND(AS4<=0.25,AS4>=-0.25),"stable",IF(AS4<-0.25,"accélération")))) | AU4: =IF(AJ4<>0,((YEAR(AJ4)-YEAR(X4))*12+MONTH(AJ4)-MONTH(X4)),"") | AW4: =IF(AV4<>0,(DATEDIF(AC4,AV4,"y")&" ans "&DATEDIF(AC4,AV4,"ym")&" mois"),"") | AY4: =IF(AU4="","",(VLOOKUP(AU4,Table_corresp!$E$3:$F$230,2,0))) | AZ4: =IF(AY4="","",(CONCATENATE(L4," / ",AY4))) | BA4: =IF(AZ4="","",(VLOOKUP(AZ4,Table_corresp!$J$3:$M$70,2,0))) | BB4: =IF(AZ4="","",(VLOOKUP(AZ4,Table_corresp!$J$3:$M$70,3,0))) | BC4: =IF(AZ4="","",(VLOOKUP(AZ4,Table_corresp!$J$3:$M$70,4,0))) | BD4: =IF(AV4>0,((((AV4/BA4)^BB4)-1)/BC4),"") | BE4: =IF(BD4="","",AP4-BD4) | BF4: =IF(BE4="","",IF(BE4>0.25,"ralentissement",IF(AND(BE4<=0.25,BE4>=-0.25),"stable",IF(BE4<-0.25,"accélération")))) | BG4: =IF(AT4<>0,((YEAR(AT4)-YEAR(AH4))*12+MONTH(AT4)-MONTH(AH4)),"") -> #VALUE! | BI4: =IF(BH4<>0,(DATEDIF(AO4,BH4,"y")&" ans "&DATEDIF(AO4,BH4,"ym")&" mois"),"") | BK4: =IF(BG4="","",(VLOOKUP(BG4,Table_corresp!$E$3:$F$230,2,0))) -> #VALUE! | BL4: =IF(BK4="","",(CONCATENATE(V4," / ",BK4))) -> #VALUE! | BM4: =IF(BL4="","",(VLOOKUP(BL4,Table_corresp!$J$3:$M$70,2,0))) -> #VALUE! | BN4: =IF(BL4="","",(VLOOKUP(BL4,Table_corresp!$J$3:$M$70,3,0))) -> #VALUE! | BO4: =IF(BL4="","",(VLOOKUP(BL4,Table_corresp!$J$3:$M$70,4,0))) -> #VALUE! | BP4: =IF(BH4>0,((((BH4/BM4)^BN4)-1)/BO4),"") | BQ4: =IF(BP4="","",BB4-BP4) | BR4: =IF(BQ4="","",IF(BQ4>0.25,"ralentissement",IF(AND(BQ4<=0.25,BQ4>=-0.25),"stable",IF(BQ4<-0.25,"accélération")))) | BS4: =IF(BF4<>0,((YEAR(BF4)-YEAR(AR4))*12+MONTH(BF4)-MONTH(AR4)),"") -> #VALUE! | BU4: =IF(BT4<>0,(DATEDIF(BA4,BT4,"y")&" ans "&DATEDIF(BA4,BT4,"ym")&" mois"),"") | BW4: =IF(BS4="","",(VLOOKUP(BS4,Table_corresp!$E$3:$F$230,2,0))) -> #VALUE! | BX4: =IF(BW4="","",(CONCATENATE(AF4," / ",BW4))) -> #VALUE! | BY4: =IF(BX4="","",(VLOOKUP(BX4,Table_corresp!$J$3:$M$70,2,0))) -> #VALUE! | BZ4: =IF(BX4="","",(VLOOKUP(BX4,Table_corresp!$J$3:$M$70,3,0))) -> #VALUE! | CA4: =IF(BX4="","",(VLOOKUP(BX4,Table_corresp!$J$3:$M$70,4,0))) -> #VALUE! | CB4: =IF(#REF!>0,((((#REF!/BY4)^BZ4)-1)/CA4),"") -> #REF! | CC4: =IF(CB4="","",BN4-CB4) -> #REF! | CD4: =IF(CC4="","",IF(CC4>0.25,"ralentissement",IF(AND(CC4<=0.25,CC4>=-0.25),"stable",IF(CC4<-0.25,"accélération")))) -> #REF! | CE4: =IF(BR4<>0,((YEAR(BR4)-YEAR(BD4))*12+MONTH(BR4)-MONTH(BD4)),"") -> #VALUE! | CG4: =IF(CF4<>0,(DATEDIF(BM4,CF4,"y")&" ans "&DATEDIF(BM4,CF4,"ym")&" mois"),"") | CI4: =IF(CE4="","",(VLOOKUP(CE4,Table_corresp!$E$3:$F$230,2,0))) -> #VALUE! | CJ4: =IF(CI4="","",(CONCATENATE(AP4," / ",CI4))) -> #VALUE! | CK4: =IF(CJ4="","",(VLOOKUP(CJ4,Table_corresp!$J$3:$M$70,2,0))) -> #VALUE! | CL4: =IF(CJ4="","",(VLOOKUP(CJ4,Table_corresp!$J$3:$M$70,3,0))) -> #VALUE! | CM4: =IF(CJ4="","",(VLOOKUP(CJ4,Table_corresp!$J$3:$M$70,4,0))) -> #VALUE! | CN4: =IF(#REF!>0,((((#REF!/CK4)^CL4)-1)/CM4),"") -> #REF! | CO4: =IF(CN4="","",BZ4-CN4) -> #REF! | CP4: =IF(CO4="","",IF(CO4>0.25,"ralentissement",IF(AND(CO4<=0.25,CO4>=-0.25),"stable",IF(CO4<-0.25,"accélération")))) -> #REF! | CQ4: =IF(CD4<>0,((YEAR(CD4)-YEAR(BP4))*12+MONTH(CD4)-MONTH(BP4)),"") -> #REF! | CS4: =IF(CR4<>0,(DATEDIF(BY4,CR4,"y")&" ans "&DATEDIF(BY4,CR4,"ym")&" mois"),"") | CU4: =IF(CQ4="","",(VLOOKUP(CQ4,Table_corresp!$E$3:$F$230,2,0))) -> #REF! | CV4: =IF(CU4="","",(CONCATENATE(BB4," / ",CU4))) -> #REF! | CW4: =IF(CV4="","",(VLOOKUP(CV4,Table_corresp!$J$3:$M$70,2,0))) -> #REF! | CX4: =IF(CV4="","",(VLOOKUP(CV4,Table_corresp!$J$3:$M$70,3,0))) -> #REF! | CY4: =IF(CV4="","",(VLOOKUP(CV4,Table_corresp!$J$3:$M$70,4,0))) -> #REF! | CZ4: =IF(#REF!>0,((((#REF!/CW4)^CX4)-1)/CY4),"") -> #REF! | DA4: =IF(CZ4="","",CL4-CZ4) -> #REF! | DB4: =IF(DA4="","",IF(DA4>0.25,"ralentissement",IF(AND(DA4<=0.25,DA4>=-0.25),"stable",IF(DA4<-0.25,"accélération")))) -> #REF! | DC4: =IF(CP4<>0,((YEAR(CP4)-YEAR(CB4))*12+MONTH(CP4)-MONTH(CB4)),"") -> #REF!
A5: 3 | B5: 2 | F5: 34 | G5: 1.13 | H5: 26.626987 | I5: =VLOOKUP(T5,Table_corresp!$E$3:$F$230,2,0) -> 4 | J5: =CONCATENATE(B5," / ",I5) -> 2 / 4 | K5: =VLOOKUP(J5,Table_corresp!$J$3:$M$70,2,0) -> 15.45 | L5: =VLOOKUP(J5,Table_corresp!$J$3:$M$70,3,0) -> -0.17 | M5: =VLOOKUP(J5,Table_corresp!$J$3:$M$70,4,0) -> -0.0133 | N5: =IF(H5>0,((((H5/K5)^L5)-1)/M5),"") -> 6.6452307 | O5: Obésité | P5: 41738 | Q5: 40109 | R5: =DATEDIF(Q5,TODAY(),"y")&" ans "&DATEDIF(Q5,TODAY(),"ym")&" mois" -> 7 ans 11 mois | S5: =VLOOKUP(R5,Table_corresp!$A$3:$B$230,2,0) -> [6-9[ | T5: =DATEDIF(Q5,P5,"y")&" ans "&DATEDIF(Q5,P5,"ym")&" mois" -> 4 ans 5 mois | U5: =VLOOKUP(T5,Table_corresp!$A$3:$B$230,2,0) -> [3-6[ | Y5: =IF(X5<>0,(DATEDIF(Q5,X5,"y")&" ans "&DATEDIF(Q5,X5,"ym")&" mois"),"") | AA5: =IF(Y5="","",(VLOOKUP(Y5,Table_corresp!$E$3:$F$230,2,0))) | AB5: =IF(AA5="","",(CONCATENATE(B5," / ",AA5))) | AC5: =IF(AB5="","",(VLOOKUP(AB5,Table_corresp!$J$3:$M$70,2,0))) | AD5: =IF(AB5="","",(VLOOKUP(AB5,Table_corresp!$J$3:$M$70,3,0))) | AE5: =IF(AB5="","",(VLOOKUP(AB5,Table_corresp!$J$3:$M$70,4,0))) | AF5: =IF(Z5>0,((((Z5/AC5)^AD5)-1)/AE5),"") | AG5: =IF(AF5="","",N5-AF5) | AH5: =IF(AG5="","",IF(AG5>0.25,"ralentissement",IF(AND(AG5<=0.25,AG5>=-0.25),"stable",IF(AG5<-0.25,"accélération")))) | AI5: =IF(X5<>0,((YEAR(X5)-YEAR(P5))*12+MONTH(X5)-MONTH(P5)),"") | AK5: =IF(AJ5<>0,(DATEDIF(Q5,AJ5,"y")&" ans "&DATEDIF(Q5,AJ5,"ym")&" mois"),"") | AM5: =IF(AK5="","",(VLOOKUP(AK5,Table_corresp!$E$3:$F$230,2,0))) | AN5: =IF(AM5="","",(CONCATENATE(B5," / ",AM5))) | AO5: =IF(AN5="","",(VLOOKUP(AN5,Table_corresp!$J$3:$M$70,2,0))) | AP5: =IF(AN5="","",(VLOOKUP(AN5,Table_corresp!$J$3:$M$70,3,0))) | AQ5: =IF(AN5="","",(VLOOKUP(AN5,Table_corresp!$J$3:$M$70,4,0))) | AR5: =IF(AL5>0,((((AL5/AO5)^AP5)-1)/AQ5),"") | AS5: =IF(AR5="","",AF5-AR5) | AT5: =IF(AS5="","",IF(AS5>0.25,"ralentissement",IF(AND(AS5<=0.25,AS5>=-0.25),"stable",IF(AS5<-0.25,"accélération")))) | AU5: =IF(AJ5<>0,((YEAR(AJ5)-YEAR(X5))*12+MONTH(AJ5)-MONTH(X5)),"") | AY5: =IF(AU5="","",(VLOOKUP(AU5,Table_corresp!$E$3:$F$230,2,0))) | AZ5: =IF(AY5="","",(CONCATENATE(L5," / ",AY5))) | BA5: =IF(AZ5="","",(VLOOKUP(AZ5,Table_corresp!$J$3:$M$70,2,0))) | BB5: =IF(AZ5="","",(VLOOKUP(AZ5,Table_corresp!$J$3:$M$70,3,0))) | BC5: =IF(AZ5="","",(VLOOKUP(AZ5,Table_corresp!$J$3:$M$70,4,0))) | BD5: =IF(AV5>0,((((AV5/BA5)^BB5)-1)/BC5),"") | BE5: =IF(BD5="","",AP5-BD5) | BF5: =IF(BE5="","",IF(BE5>0.25,"ralentissement",IF(AND(BE5<=0.25,BE5>=-0.25),"stable",IF(BE5<-0.25,"accélération")))) | BG5: =IF(AT5<>0,((YEAR(AT5)-YEAR(AH5))*12+MONTH(AT5)-MONTH(AH5)),"") -> #VALUE! | BK5: =IF(BG5="","",(VLOOKUP(BG5,Table_corresp!$E$3:$F$230,2,0))) -> #VALUE! | BL5: =IF(BK5="","",(CONCATENATE(V5," / ",BK5))) -> #VALUE! | BM5: =IF(BL5="","",(VLOOKUP(BL5,Table_corresp!$J$3:$M$70,2,0))) -> #VALUE! | BN5: =IF(BL5="","",(VLOOKUP(BL5,Table_corresp!$J$3:$M$70,3,0))) -> #VALUE! | BO5: =IF(BL5="","",(VLOOKUP(BL5,Table_corresp!$J$3:$M$70,4,0))) -> #VALUE! | BP5: =IF(BH5>0,((((BH5/BM5)^BN5)-1)/BO5),"") | BQ5: =IF(BP5="","",BB5-BP5) | BR5: =IF(BQ5="","",IF(BQ5>0.25,"ralentissement",IF(AND(BQ5<=0.25,BQ5>=-0.25),"stable",IF(BQ5<-0.25,"accélération")))) | BS5: =IF(BF5<>0,((YEAR(BF5)-YEAR(AR5))*12+MONTH(BF5)-MONTH(AR5)),"") -> #VALUE! | BW5: =IF(BS5="","",(VLOOKUP(BS5,Table_corresp!$E$3:$F$230,2,0))) -> #VALUE! | BX5: =IF(BW5="","",(CONCATENATE(AF5," / ",BW5))) -> #VALUE! | BY5: =IF(BX5="","",(VLOOKUP(BX5,Table_corresp!$J$3:$M$70,2,0))) -> #VALUE! | BZ5: =IF(BX5="","",(VLOOKUP(BX5,Table_corresp!$J$3:$M$70,3,0))) -> #VALUE! | CA5: =IF(BX5="","",(VLOOKUP(BX5,Table_corresp!$J$3:$M$70,4,0))) -> #VALUE! | CB5: =IF(#REF!>0,((((#REF!/BY5)^BZ5)-1)/CA5),"") -> #REF! | CC5: =IF(CB5="","",BN5-CB5) -> #REF! | CD5: =IF(CC5="","",IF(CC5>0.25,"ralentissement",IF(AND(CC5<=0.25,CC5>=-0.25),"stable",IF(CC5<-0.25,"accélération")))) -> #REF! | CE5: =IF(BR5<>0,((YEAR(BR5)-YEAR(BD5))*12+MONTH(BR5)-MONTH(BD5)),"") -> #VALUE! | CI5: =IF(CE5="","",(VLOOKUP(CE5,Table_corresp!$E$3:$F$230,2,0))) -> #VALUE! | CJ5: =IF(CI5="","",(CONCATENATE(AP5," / ",CI5))) -> #VALUE! | CK5: =IF(CJ5="","",(VLOOKUP(CJ5,Table_corresp!$J$3:$M$70,2,0))) -> #VALUE! | CL5: =IF(CJ5="","",(VLOOKUP(CJ5,Table_corresp!$J$3:$M$70,3,0))) -> #VALUE! | CM5: =IF(CJ5="","",(VLOOKUP(CJ5,Table_corresp!$J$3:$M$70,4,0))) -> #VALUE! | CN5: =IF(#REF!>0,((((#REF!/CK5)^CL5)-1)/CM5),"") -> #REF! | CO5: =IF(CN5="","",BZ5-CN5) -> #REF! | CP5: =IF(CO5="","",IF(CO5>0.25,"ralentissement",IF(AND(CO5<=0.25,CO5>=-0.25),"stable",IF(CO5<-0.25,"accélération")))) -> #REF! | CQ5: =IF(CD5<>0,((YEAR(CD5)-YEAR(BP5))*12+MONTH(CD5)-MONTH(BP5)),"") -> #REF! | CU5: =IF(CQ5="","",(VLOOKUP(CQ5,Table_corresp!$E$3:$F$230,2,0))) -> #REF! | CV5: =IF(CU5="","",(CONCATENATE(BB5," / ",CU5))) -> #REF! | CW5: =IF(CV5="","",(VLOOKUP(CV5,Table_corresp!$J$3:$M$70,2,0))) -> #REF! | CX5: =IF(CV5="","",(VLOOKUP(CV5,Table_corresp!$J$3:$M$70,3,0))) -> #REF! | CY5: =IF(CV5="","",(VLOOKUP(CV5,Table_corresp!$J$3:$M$70,4,0))) -> #REF! | CZ5: =IF(#REF!>0,((((#REF!/CW5)^CX5)-1)/CY5),"") -> #REF! | DA5: =IF(CZ5="","",CL5-CZ5) -> #REF! | DB5: =IF(DA5="","",IF(DA5>0.25,"ralentissement",IF(AND(DA5<=0.25,DA5>=-0.25),"stable",IF(DA5<-0.25,"accélération")))) -> #REF! | DC5: =IF(CP5<>0,((YEAR(CP5)-YEAR(CB5))*12+MONTH(CP5)-MONTH(CB5)),"") -> #REF!
A6: 4 | B6: 2 | F6: 47 | G6: 1.32 | H6: 26.974288 | I6: =VLOOKUP(T6,Table_corresp!$E$3:$F$230,2,0) -> 7.5 | J6: =CONCATENATE(B6," / ",I6) -> 2 / 7,5 | K6: =VLOOKUP(J6,Table_corresp!$J$3:$M$70,2,0) -> 15.32 | L6: =VLOOKUP(J6,Table_corresp!$J$3:$M$70,3,0) -> -0.5 | M6: =VLOOKUP(J6,Table_corresp!$J$3:$M$70,4,0) -> -0.044 | N6: =IF(H6>0,((((H6/K6)^L6)-1)/M6),"") -> 5.5994678 | O6: Obésité | P6: 41757 | Q6: 38981 | R6: =DATEDIF(Q6,TODAY(),"y")&" ans "&DATEDIF(Q6,TODAY(),"ym")&" mois" -> 11 ans 0 mois | S6: =VLOOKUP(R6,Table_corresp!$A$3:$B$230,2,0) -> [9-12[ | T6: =DATEDIF(Q6,P6,"y")&" ans "&DATEDIF(Q6,P6,"ym")&" mois" -> 7 ans 7 mois | U6: =VLOOKUP(T6,Table_corresp!$A$3:$B$230,2,0) -> [6-9[ | X6: 42115 | Y6: =IF(X6<>0,(DATEDIF(Q6,X6,"y")&" ans "&DATEDIF(Q6,X6,"ym")&" mois"),"") -> 8 ans 7 mois | Z6: 28.4 | AA6: =IF(Y6="","",(VLOOKUP(Y6,Table_corresp!$E$3:$F$230,2,0))) -> 8.5 | AB6: =IF(AA6="","",(CONCATENATE(B6," / ",AA6))) -> 2 / 8,5 | AC6: =IF(AB6="","",(VLOOKUP(AB6,Table_corresp!$J$3:$M$70,2,0))) -> 15.59 | AD6: =IF(AB6="","",(VLOOKUP(AB6,Table_corresp!$J$3:$M$70,3,0))) -> -0.57 | AE6: =IF(AB6="","",(VLOOKUP(AB6,Table_corresp!$J$3:$M$70,4,0))) -> -0.0534 | AF6: =IF(Z6>0,((((Z6/AC6)^AD6)-1)/AE6),"") -> 5.422367 | AG6: =IF(AF6="","",N6-AF6) -> 0.17710083 | AH6: =IF(AG6="","",IF(AG6>0.25,"ralentissement",IF(AND(AG6<=0.25,AG6>=-0.25),"stable",IF(AG6<-0.25,"accélération")))) -> stable | AI6: =IF(X6<>0,((YEAR(X6)-YEAR(P6))*12+MONTH(X6)-MONTH(P6)),"") -> 12 | AJ6: 42419 | AK6: =IF(AJ6<>0,(DATEDIF(Q6,AJ6,"y")&" ans "&DATEDIF(Q6,AJ6,"ym")&" mois"),"") -> 9 ans 4 mois | AL6: 28.5 | AM6: =IF(AK6="","",(VLOOKUP(AK6,Table_corresp!$E$3:$F$230,2,0))) -> 9 | AN6: =IF(AM6="","",(CONCATENATE(B6," / ",AM6))) -> 2 / 9 | AO6: =IF(AN6="","",(VLOOKUP(AN6,Table_corresp!$J$3:$M$70,2,0))) -> 15.76 | AP6: =IF(AN6="","",(VLOOKUP(AN6,Table_corresp!$J$3:$M$70,3,0))) -> -0.61 | AQ6: =IF(AN6="","",(VLOOKUP(AN6,Table_corresp!$J$3:$M$70,4,0))) -> -0.059 | AR6: =IF(AL6>0,((((AL6/AO6)^AP6)-1)/AQ6),"") -> 5.1404573 | AS6: =IF(AR6="","",AF6-AR6) -> 0.28190963 | AT6: =IF(AS6="","",IF(AS6>0.25,"ralentissement",IF(AND(AS6<=0.25,AS6>=-0.25),"stable",IF(AS6<-0.25,"accélération")))) -> ralentissement | AU6: =IF(AJ6<>0,((YEAR(AJ6)-YEAR(X6))*12+MONTH(AJ6)-MONTH(X6)),"") -> 10 | AY6: =IF(AU6="","",(VLOOKUP(AU6,Table_corresp!$E$3:$F$230,2,0))) -> #N/A | AZ6: =IF(AY6="","",(CONCATENATE(L6," / ",AY6))) -> #N/A | BA6: =IF(AZ6="","",(VLOOKUP(AZ6,Table_corresp!$J$3:$M$70,2,0))) -> #N/A | BB6: =IF(AZ6="","",(VLOOKUP(AZ6,Table_corresp!$J$3:$M$70,3,0))) -> #N/A | BC6: =IF(AZ6="","",(VLOOKUP(AZ6,Table_corresp!$J$3:$M$70,4,0))) -> #N/A | BD6: =IF(AV6>0,((((AV6/BA6)^BB6)-1)/BC6),"") | BE6: =IF(BD6="","",AP6-BD6) | BF6: =IF(BE6="","",IF(BE6>0.25,"ralentissement",IF(AND(BE6<=0.25,BE6>=-0.25),"stable",IF(BE6<-0.25,"accélération")))) | BG6: =IF(AT6<>0,((YEAR(AT6)-YEAR(AH6))*12+MONTH(AT6)-MONTH(AH6)),"") -> #VALUE! | BK6: =IF(BG6="","",(VLOOKUP(BG6,Table_corresp!$E$3:$F$230,2,0))) -> #VALUE! | BL6: =IF(BK6="","",(CONCATENATE(V6," / ",BK6))) -> #VALUE! | BM6: =IF(BL6="","",(VLOOKUP(BL6,Table_corresp!$J$3:$M$70,2,0))) -> #VALUE! | BN6: =IF(BL6="","",(VLOOKUP(BL6,Table_corresp!$J$3:$M$70,3,0))) -> #VALUE! | BO6: =IF(BL6="","",(VLOOKUP(BL6,Table_corresp!$J$3:$M$70,4,0))) -> #VALUE! | BP6: =IF(BH6>0,((((BH6/BM6)^BN6)-1)/BO6),"") | BQ6: =IF(BP6="","",BB6-BP6) | BR6: =IF(BQ6="","",IF(BQ6>0.25,"ralentissement",IF(AND(BQ6<=0.25,BQ6>=-0.25),"stable",IF(BQ6<-0.25,"accélération")))) | BS6: =IF(BF6<>0,((YEAR(BF6)-YEAR(AR6))*12+MONTH(BF6)-MONTH(AR6)),"") -> #VALUE! | BW6: =IF(BS6="","",(VLOOKUP(BS6,Table_corresp!$E$3:$F$230,2,0))) -> #VALUE! | BX6: =IF(BW6="","",(CONCATENATE(AF6," / ",BW6))) -> #VALUE! | BY6: =IF(BX6="","",(VLOOKUP(BX6,Table_corresp!$J$3:$M$70,2,0))) -> #VALUE! | BZ6: =IF(BX6="","",(VLOOKUP(BX6,Table_corresp!$J$3:$M$70,3,0))) -> #VALUE! | CA6: =IF(BX6="","",(VLOOKUP(BX6,Table_corresp!$J$3:$M$70,4,0))) -> #VALUE! | CB6: =IF(#REF!>0,((((#REF!/BY6)^BZ6)-1)/CA6),"") -> #REF! | CC6: =IF(CB6="","",BN6-CB6) -> #REF! | CD6: =IF(CC6="","",IF(CC6>0.25,"ralentissement",IF(AND(CC6<=0.25,CC6>=-0.25),"stable",IF(CC6<-0.25,"accélération")))) -> #REF! | CE6: =IF(BR6<>0,((YEAR(BR6)-YEAR(BD6))*12+MONTH(BR6)-MONTH(BD6)),"") -> #VALUE! | CI6: =IF(CE6="","",(VLOOKUP(CE6,Table_corresp!$E$3:$F$230,2,0))) -> #VALUE! | CJ6: =IF(CI6="","",(CONCATENATE(AP6," / ",CI6))) -> #VALUE! | CK6: =IF(CJ6="","",(VLOOKUP(CJ6,Table_corresp!$J$3:$M$70,2,0))) -> #VALUE! | CL6: =IF(CJ6="","",(VLOOKUP(CJ6,Table_corresp!$J$3:$M$70,3,0))) -> #VALUE! | CM6: =IF(CJ6="","",(VLOOKUP(CJ6,Table_corresp!$J$3:$M$70,4,0))) -> #VALUE! | CN6: =IF(#REF!>0,((((#REF!/CK6)^CL6)-1)/CM6),"") -> #REF! | CO6: =IF(CN6="","",BZ6-CN6) -> #REF! | CP6: =IF(CO6="","",IF(CO6>0.25,"ralentissement",IF(AND(CO6<=0.25,CO6>=-0.25),"stable",IF(CO6<-0.25,"accélération")))) -> #REF! | CQ6: =IF(CD6<>0,((YEAR(CD6)-YEAR(BP6))*12+MONTH(CD6)-MONTH(BP6)),"") -> #REF! | CU6: =IF(CQ6="","",(VLOOKUP(CQ6,Table_corresp!$E$3:$F$230,2,0))) -> #REF! | CV6: =IF(CU6="","",(CONCATENATE(BB6," / ",CU6))) -> #REF! | CW6: =IF(CV6="","",(VLOOKUP(CV6,Table_corresp!$J$3:$M$70,2,0))) -> #REF! | CX6: =IF(CV6="","",(VLOOKUP(CV6,Table_corresp!$J$3:$M$70,3,0))) -> #REF! | CY6: =IF(CV6="","",(VLOOKUP(CV6,Table_corresp!$J$3:$M$70,4,0))) -> #REF! | CZ6: =IF(#REF!>0,((((#REF!/CW6)^CX6)-1)/CY6),"") -> #REF! | DA6: =IF(CZ6="","",CL6-CZ6) -> #REF! | DB6: =IF(DA6="","",IF(DA6>0.25,"ralentissement",IF(AND(DA6<=0.25,DA6>=-0.25),"stable",IF(DA6<-0.25,"accélération")))) -> #REF! | DC6: =IF(CP6<>0,((YEAR(CP6)-YEAR(CB6))*12+MONTH(CP6)-MONTH(CB6)),"") -> #REF!
A7: 5 | B7: 2 | F7: 36.6 | G7: 1.245 | H7: 23.612522 | I7: =VLOOKUP(T7,Table_corresp!$E$3:$F$230,2,0) -> 5.5 | J7: =CONCATENATE(B7," / ",I7) -> 2 / 5,5 | K7: =VLOOKUP(J7,Table_corresp!$J$3:$M$70,2,0) -> 15.14 | L7: =VLOOKUP(J7,Table_corresp!$J$3:$M$70,3,0) -> -0.31 | M7: =VLOOKUP(J7,Table_corresp!$J$3:$M$70,4,0) -> -0.0249 | N7: =IF(H7>0,((((H7/K7)^L7)-1)/M7),"") -> 5.1689028 | O7: Obésité | P7: 41758 | Q7: 39705 | R7: =DATEDIF(Q7,TODAY(),"y")&" ans "&DATEDIF(Q7,TODAY(),"ym")&" mois" -> 9 ans 1 mois | S7: =VLOOKUP(R7,Table_corresp!$A$3:$B$230,2,0) -> [9-12[ | T7: =DATEDIF(Q7,P7,"y")&" ans "&DATEDIF(Q7,P7,"ym")&" mois" -> 5 ans 7 mois | U7: =VLOOKUP(T7,Table_corresp!$A$3:$B$230,2,0) -> [3-6[ | X7: 42102 | Y7: =IF(X7<>0,(DATEDIF(Q7,X7,"y")&" ans "&DATEDIF(Q7,X7,"ym")&" mois"),"") -> 6 ans 6 mois | Z7: 23.6 | AA7: =IF(Y7="","",(VLOOKUP(Y7,Table_corresp!$E$3:$F$230,2,0))) -> 6.5 | AB7: =IF(AA7="","",(CONCATENATE(B7," / ",AA7))) -> 2 / 6,5 | AC7: =IF(AB7="","",(VLOOKUP(AB7,Table_corresp!$J$3:$M$70,2,0))) -> 15.16 | AD7: =IF(AB7="","",(VLOOKUP(AB7,Table_corresp!$J$3:$M$70,3,0))) -> -0.41 | AE7: =IF(AB7="","",(VLOOKUP(AB7,Table_corresp!$J$3:$M$70,4,0))) -> -0.0342 | AF7: =IF(Z7>0,((((Z7/AC7)^AD7)-1)/AE7),"") -> 4.8523019 | AG7: =IF(AF7="","",N7-AF7) -> 0.31660096 | AH7: =IF(AG7="","",IF(AG7>0.25,"ralentissement",IF(AND(AG7<=0.25,AG7>=-0.25),"stable",IF(AG7<-0.25,"accélération")))) -> ralentissement | AI7: =IF(X7<>0,((YEAR(X7)-YEAR(P7))*12+MONTH(X7)-MONTH(P7)),"") -> 12 | AJ7: 42382 | AK7: =IF(AJ7<>0,(DATEDIF(Q7,AJ7,"y")&" ans "&DATEDIF(Q7,AJ7,"ym")&" mois"),"") -> 7 ans 3 mois | AL7: 26.5 | AM7: =IF(AK7="","",(VLOOKUP(AK7,Table_corresp!$E$3:$F$230,2,0))) -> 7 | AN7: =IF(AM7="","",(CONCATENATE(B7," / ",AM7))) -> 2 / 7 | AO7: =IF(AN7="","",(VLOOKUP(AN7,Table_corresp!$J$3:$M$70,2,0))) -> 15.22 | AP7: =IF(AN7="","",(VLOOKUP(AN7,Table_corresp!$J$3:$M$70,3,0))) -> -0.45 | AQ7: =IF(AN7="","",(VLOOKUP(AN7,Table_corresp!$J$3:$M$70,4,0))) -> -0.0385 | AR7: =IF(AL7>0,((((AL7/AO7)^AP7)-1)/AQ7),"") -> 5.7361365 | AS7: =IF(AR7="","",AF7-AR7) -> -0.88383459 | AT7: =IF(AS7="","",IF(AS7>0.25,"ralentissement",IF(AND(AS7<=0.25,AS7>=-0.25),"stable",IF(AS7<-0.25,"accélération")))) -> accélération | AU7: =IF(AJ7<>0,((YEAR(AJ7)-YEAR(X7))*12+MONTH(AJ7)-MONTH(X7)),"") -> 9 | AY7: =IF(AU7="","",(VLOOKUP(AU7,Table_corresp!$E$3:$F$230,2,0))) -> #N/A | AZ7: =IF(AY7="","",(CONCATENATE(L7," / ",AY7))) -> #N/A | BA7: =IF(AZ7="","",(VLOOKUP(AZ7,Table_corresp!$J$3:$M$70,2,0))) -> #N/A | BB7: =IF(AZ7="","",(VLOOKUP(AZ7,Table_corresp!$J$3:$M$70,3,0))) -> #N/A | BC7: =IF(AZ7="","",(VLOOKUP(AZ7,Table_corresp!$J$3:$M$70,4,0))) -> #N/A | BD7: =IF(AV7>0,((((AV7/BA7)^BB7)-1)/BC7),"") | BE7: =IF(BD7="","",AP7-BD7) | BF7: =IF(BE7="","",IF(BE7>0.25,"ralentissement",IF(AND(BE7<=0.25,BE7>=-0.25),"stable",IF(BE7<-0.25,"accélération")))) | BG7: =IF(AT7<>0,((YEAR(AT7)-YEAR(AH7))*12+MONTH(AT7)-MONTH(AH7)),"") -> #VALUE! | BK7: =IF(BG7="","",(VLOOKUP(BG7,Table_corresp!$E$3:$F$230,2,0))) -> #VALUE! | BL7: =IF(BK7="","",(CONCATENATE(V7," / ",BK7))) -> #VALUE! | BM7: =IF(BL7="","",(VLOOKUP(BL7,Table_corresp!$J$3:$M$70,2,0))) -> #VALUE! | BN7: =IF(BL7="","",(VLOOKUP(BL7,Table_corresp!$J$3:$M$70,3,0))) -> #VALUE! | BO7: =IF(BL7="","",(VLOOKUP(BL7,Table_corresp!$J$3:$M$70,4,0))) -> #VALUE! | BP7: =IF(BH7>0,((((BH7/BM7)^BN7)-1)/BO7),"") | BQ7: =IF(BP7="","",BB7-BP7) | BR7: =IF(BQ7="","",IF(BQ7>0.25,"ralentissement",IF(AND(BQ7<=0.25,BQ7>=-0.25),"stable",IF(BQ7<-0.25,"accélération")))) | BS7: =IF(BF7<>0,((YEAR(BF7)-YEAR(AR7))*12+MONTH(BF7)-MONTH(AR7)),"") -> #VALUE! | BW7: =IF(BS7="","",(VLOOKUP(BS7,Table_corresp!$E$3:$F$230,2,0))) -> #VALUE! | BX7: =IF(BW7="","",(CONCATENATE(AF7," / ",BW7))) -> #VALUE! | BY7: =IF(BX7="","",(VLOOKUP(BX7,Table_corresp!$J$3:$M$70,2,0))) -> #VALUE! | BZ7: =IF(BX7="","",(VLOOKUP(BX7,Table_corresp!$J$3:$M$70,3,0))) -> #VALUE! | CA7: =IF(BX7="","",(VLOOKUP(BX7,Table_corresp!$J$3:$M$70,4,0))) -> #VALUE! | CB7: =IF(#REF!>0,((((#REF!/BY7)^BZ7)-1)/CA7),"") -> #REF! | CC7: =IF(CB7="","",BN7-CB7) -> #REF! | CD7: =IF(CC7="","",IF(CC7>0.25,"ralentissement",IF(AND(CC7<=0.25,CC7>=-0.25),"stable",IF(CC7<-0.25,"accélération")))) -> #REF! | CE7: =IF(BR7<>0,((YEAR(BR7)-YEAR(BD7))*12+MONTH(BR7)-MONTH(BD7)),"") -> #VALUE! | CI7: =IF(CE7="","",(VLOOKUP(CE7,Table_corresp!$E$3:$F$230,2,0))) -> #VALUE! | CJ7: =IF(CI7="","",(CONCATENATE(AP7," / ",CI7))) -> #VALUE! | CK7: =IF(CJ7="","",(VLOOKUP(CJ7,Table_corresp!$J$3:$M$70,2,0))) -> #VALUE! | CL7: =IF(CJ7="","",(VLOOKUP(CJ7,Table_corresp!$J$3:$M$70,3,0))) -> #VALUE! | CM7: =IF(CJ7="","",(VLOOKUP(CJ7,Table_corresp!$J$3:$M$70,4,0))) -> #VALUE! | CN7: =IF(#REF!>0,((((#REF!/CK7)^CL7)-1)/CM7),"") -> #REF! | CO7: =IF(CN7="","",BZ7-CN7) -> #REF! | CP7: =IF(CO7="","",IF(CO7>0.25,"ralentissement",IF(AND(CO7<=0.25,CO7>=-0.25),"stable",IF(CO7<-0.25,"accélération")))) -> #REF! | CQ7: =IF(CD7<>0,((YEAR(CD7)-YEAR(BP7))*12+MONTH(CD7)-MONTH(BP7)),"") -> #REF! | CU7: =IF(CQ7="","",(VLOOKUP(CQ7,Table_corresp!$E$3:$F$230,2,0))) -> #REF! | CV7: =IF(CU7="","",(CONCATENATE(BB7," / ",CU7))) -> #REF! | CW7: =IF(CV7="","",(VLOOKUP(CV7,Table_corresp!$J$3:$M$70,2,0))) -> #REF! | CX7: =IF(CV7="","",(VLOOKUP(CV7,Table_corresp!$J$3:$M$70,3,0))) -> #REF! | CY7: =IF(CV7="","",(VLOOKUP(CV7,Table_corresp!$J$3:$M$70,4,0))) -> #REF! | CZ7: =IF(#REF!>0,((((#REF!/CW7)^CX7)-1)/CY7),"") -> #REF! | DA7: =IF(CZ7="","",CL7-CZ7) -> #REF! | DB7: =IF(DA7="","",IF(DA7>0.25,"ralentissement",IF(AND(DA7<=0.25,DA7>=-0.25),"stable",IF(DA7<-0.25,"accélération")))) -> #REF! | DC7: =IF(CP7<>0,((YEAR(CP7)-YEAR(CB7))*12+MONTH(CP7)-MONTH(CB7)),"") -> #REF!
A8: 6 | B8: 2 | F8: 32 | G8: 1.295 | H8: 19.081409 | I8: =VLOOKUP(T8,Table_corresp!$E$3:$F$230,2,0) -> 7 | J8: =CONCATENATE(B8," / ",I8) -> 2 / 7 | K8: =VLOOKUP(J8,Table_corresp!$J$3:$M$70,2,0) -> 15.22 | L8: =VLOOKUP(J8,Table_corresp!$J$3:$M$70,3,0) -> -0.45 | M8: =VLOOKUP(J8,Table_corresp!$J$3:$M$70,4,0) -> -0.0385 | N8: =IF(H8>0,((((H8/K8)^L8)-1)/M8),"") -> 2.512775 | O8: Surpoids | P8: 41759 | Q8: 39170 | R8: =DATEDIF(Q8,TODAY(),"y")&" ans "&DATEDIF(Q8,TODAY(),"ym")&" mois" -> 10 ans 6 mois | S8: =VLOOKUP(R8,Table_corresp!$A$3:$B$230,2,0) -> [9-12[ | T8: =DATEDIF(Q8,P8,"y")&" ans "&DATEDIF(Q8,P8,"ym")&" mois" -> 7 ans 1 mois | U8: =VLOOKUP(T8,Table_corresp!$A$3:$B$230,2,0) -> [6-9[ | Y8: =IF(X8<>0,(DATEDIF(Q8,X8,"y")&" ans "&DATEDIF(Q8,X8,"ym")&" mois"),"") | AA8: =IF(Y8="","",(VLOOKUP(Y8,Table_corresp!$E$3:$F$230,2,0))) | AB8: =IF(AA8="","",(CONCATENATE(B8," / ",AA8))) | AC8: =IF(AB8="","",(VLOOKUP(AB8,Table_corresp!$J$3:$M$70,2,0))) | AD8: =IF(AB8="","",(VLOOKUP(AB8,Table_corresp!$J$3:$M$70,3,0))) | AE8: =IF(AB8="","",(VLOOKUP(AB8,Table_corresp!$J$3:$M$70,4,0))) | AF8: =IF(Z8>0,((((Z8/AC8)^AD8)-1)/AE8),"") | AG8: =IF(AF8="","",N8-AF8) | AH8: =IF(AG8="","",IF(AG8>0.25,"ralentissement",IF(AND(AG8<=0.25,AG8>=-0.25),"stable",IF(AG8<-0.25,"accélération")))) | AI8: =IF(X8<>0,((YEAR(X8)-YEAR(P8))*12+MONTH(X8)-MONTH(P8)),"") | AK8: =IF(AJ8<>0,(DATEDIF(Q8,AJ8,"y")&" ans "&DATEDIF(Q8,AJ8,"ym")&" mois"),"") | AM8: =IF(AK8="","",(VLOOKUP(AK8,Table_corresp!$E$3:$F$230,2,0))) | AN8: =IF(AM8="","",(CONCATENATE(B8," / ",AM8))) | AO8: =IF(AN8="","",(VLOOKUP(AN8,Table_corresp!$J$3:$M$70,2,0))) | AP8: =IF(AN8="","",(VLOOKUP(AN8,Table_corresp!$J$3:$M$70,3,0))) | AQ8: =IF(AN8="","",(VLOOKUP(AN8,Table_corresp!$J$3:$M$70,4,0))) | AR8: =IF(AL8>0,((((AL8/AO8)^AP8)-1)/AQ8),"") | AS8: =IF(AR8="","",AF8-AR8) | AT8: =IF(AS8="","",IF(AS8>0.25,"ralentissement",IF(AND(AS8<=0.25,AS8>=-0.25),"stable",IF(AS8<-0.25,"accélération")))) | AU8: =IF(AJ8<>0,((YEAR(AJ8)-YEAR(X8))*12+MONTH(AJ8)-MONTH(X8)),"") | AY8: =IF(AU8="","",(VLOOKUP(AU8,Table_corresp!$E$3:$F$230,2,0))) | AZ8: =IF(AY8="","",(CONCATENATE(L8," / ",AY8))) | BA8: =IF(AZ8="","",(VLOOKUP(AZ8,Table_corresp!$J$3:$M$70,2,0))) | BB8: =IF(AZ8="","",(VLOOKUP(AZ8,Table_corresp!$J$3:$M$70,3,0))) | BC8: =IF(AZ8="","",(VLOOKUP(AZ8,Table_corresp!$J$3:$M$70,4,0))) | BD8: =IF(AV8>0,((((AV8/BA8)^BB8)-1)/BC8),"") | BE8: =IF(BD8="","",AP8-BD8) | BF8: =IF(BE8="","",IF(BE8>0.25,"ralentissement",IF(AND(BE8<=0.25,BE8>=-0.25),"stable",IF(BE8<-0.25,"accélération")))) | BG8: =IF(AT8<>0,((YEAR(AT8)-YEAR(AH8))*12+MONTH(AT8)-MONTH(AH8)),"") -> #VALUE! | BK8: =IF(BG8="","",(VLOOKUP(BG8,Table_corresp!$E$3:$F$230,2,0))) -> #VALUE! | BL8: =IF(BK8="","",(CONCATENATE(V8," / ",BK8))) -> #VALUE! | BM8: =IF(BL8="","",(VLOOKUP(BL8,Table_corresp!$J$3:$M$70,2,0))) -> #VALUE! | BN8: =IF(BL8="","",(VLOOKUP(BL8,Table_corresp!$J$3:$M$70,3,0))) -> #VALUE! | BO8: =IF(BL8="","",(VLOOKUP(BL8,Table_corresp!$J$3:$M$70,4,0))) -> #VALUE! | BP8: =IF(BH8>0,((((BH8/BM8)^BN8)-1)/BO8),"") | BQ8: =IF(BP8="","",BB8-BP8) | BR8: =IF(BQ8="","",IF(BQ8>0.25,"ralentissement",IF(AND(BQ8<=0.25,BQ8>=-0.25),"stable",IF(BQ8<-0.25,"accélération")))) | BS8: =IF(BF8<>0,((YEAR(BF8)-YEAR(AR8))*12+MONTH(BF8)-MONTH(AR8)),"") -> #VALUE! | BW8: =IF(BS8="","",(VLOOKUP(BS8,Table_corresp!$E$3:$F$230,2,0))) -> #VALUE! | BX8: =IF(BW8="","",(CONCATENATE(AF8," / ",BW8))) -> #VALUE! | BY8: =IF(BX8="","",(VLOOKUP(BX8,Table_corresp!$J$3:$M$70,2,0))) -> #VALUE! | BZ8: =IF(BX8="","",(VLOOKUP(BX8,Table_corresp!$J$3:$M$70,3,0))) -> #VALUE! | CA8: =IF(BX8="","",(VLOOKUP(BX8,Table_corresp!$J$3:$M$70,4,0))) -> #VALUE! | CB8: =IF(#REF!>0,((((#REF!/BY8)^BZ8)-1)/CA8),"") -> #REF! | CC8: =IF(CB8="","",BN8-CB8) -> #REF! | CD8: =IF(CC8="","",IF(CC8>0.25,"ralentissement",IF(AND(CC8<=0.25,CC8>=-0.25),"stable",IF(CC8<-0.25,"accélération")))) -> #REF! | CE8: =IF(BR8<>0,((YEAR(BR8)-YEAR(BD8))*12+MONTH(BR8)-MONTH(BD8)),"") -> #VALUE! | CI8: =IF(CE8="","",(VLOOKUP(CE8,Table_corresp!$E$3:$F$230,2,0))) -> #VALUE! | CJ8: =IF(CI8="","",(CONCATENATE(AP8," / ",CI8))) -> #VALUE! | CK8: =IF(CJ8="","",(VLOOKUP(CJ8,Table_corresp!$J$3:$M$70,2,0))) -> #VALUE! | CL8: =IF(CJ8="","",(VLOOKUP(CJ8,Table_corresp!$J$3:$M$70,3,0))) -> #VALUE! | CM8: =IF(CJ8="","",(VLOOKUP(CJ8,Table_corresp!$J$3:$M$70,4,0))) -> #VALUE! | CN8: =IF(#REF!>0,((((#REF!/CK8)^CL8)-1)/CM8),"") -> #REF! | CO8: =IF(CN8="","",BZ8-CN8) -> #REF! | CP8: =IF(CO8="","",IF(CO8>0.25,"ralentissement",IF(AND(CO8<=0.25,CO8>=-0.25),"stable",IF(CO8<-0.25,"accélération")))) -> #REF! | CQ8: =IF(CD8<>0,((YEAR(CD8)-YEAR(BP8))*12+MONTH(CD8)-MONTH(BP8)),"") -> #REF! | CU8: =IF(CQ8="","",(VLOOKUP(CQ8,Table_corresp!$E$3:$F$230,2,0))) -> #REF! | CV8: =IF(CU8="","",(CONCATENATE(BB8," / ",CU8))) -> #REF! | CW8: =IF(CV8="","",(VLOOKUP(CV8,Table_corresp!$J$3:$M$70,2,0))) -> #REF! | CX8: =IF(CV8="","",(VLOOKUP(CV8,Table_corresp!$J$3:$M$70,3,0))) -> #REF! | CY8: =IF(CV8="","",(VLOOKUP(CV8,Table_corresp!$J$3:$M$70,4,0))) -> #REF! | CZ8: =IF(#REF!>0,((((#REF!/CW8)^CX8)-1)/CY8),"") -> #REF! | DA8: =IF(CZ8="","",CL8-CZ8) -> #REF! | DB8: =IF(DA8="","",IF(DA8>0.25,"ralentissement",IF(AND(DA8<=0.25,DA8>=-0.25),"stable",IF(DA8<-0.25,"accélération")))) -> #REF! | DC8: =IF(CP8<>0,((YEAR(CP8)-YEAR(CB8))*12+MONTH(CP8)-MONTH(CB8)),"") -> #REF!
A9: 7 | B9: 2 | F9: 60 | G9: 1.39 | H9: 31.054293 | I9: =VLOOKUP(T9,Table_corresp!$E$3:$F$230,2,0) -> 8.5 | J9: =CONCATENATE(B9," / ",I9) -> 2 / 8,5 | K9: =VLOOKUP(J9,Table_corresp!$J$3:$M$70,2,0) -> 15.59 | L9: =VLOOKUP(J9,Table_corresp!$J$3:$M$70,3,0) -> -0.57 | M9: =VLOOKUP(J9,Table_corresp!$J$3:$M$70,4,0) -> -0.0534 | N9: =IF(H9>0,((((H9/K9)^L9)-1)/M9),"") -> 6.0829644 | O9: Obésité | P9: 41759 | Q9: 38577 | R9: =DATEDIF(Q9,TODAY(),"y")&" ans "&DATEDIF(Q9,TODAY(),"ym")&" mois" -> 12 ans 2 mois | S9: =VLOOKUP(R9,Table_corresp!$A$3:$B$230,2,0) -> > 12 | T9: =DATEDIF(Q9,P9,"y")&" ans "&DATEDIF(Q9,P9,"ym")&" mois" -> 8 ans 8 mois | U9: =VLOOKUP(T9,Table_corresp!$A$3:$B$230,2,0) -> [6-9[ | Y9: =IF(X9<>0,(DATEDIF(Q9,X9,"y")&" ans "&DATEDIF(Q9,X9,"ym")&" mois"),"") | AA9: =IF(Y9="","",(VLOOKUP(Y9,Table_corresp!$E$3:$F$230,2,0))) | AB9: =IF(AA9="","",(CONCATENATE(B9," / ",AA9))) | AC9: =IF(AB9="","",(VLOOKUP(AB9,Table_corresp!$J$3:$M$70,2,0))) | AD9: =IF(AB9="","",(VLOOKUP(AB9,Table_corresp!$J$3:$M$70,3,0))) | AE9: =IF(AB9="","",(VLOOKUP(AB9,Table_corresp!$J$3:$M$70,4,0))) | AF9: =IF(Z9>0,((((Z9/AC9)^AD9)-1)/AE9),"") | AG9: =IF(AF9="","",N9-AF9) | AH9: =IF(AG9="","",IF(AG9>0.25,"ralentissement",IF(AND(AG9<=0.25,AG9>=-0.25),"stable",IF(AG9<-0.25,"accélération")))) | AI9: =IF(X9<>0,((YEAR(X9)-YEAR(P9))*12+MONTH(X9)-MONTH(P9)),"") | AK9: =IF(AJ9<>0,(DATEDIF(Q9,AJ9,"y")&" ans "&DATEDIF(Q9,AJ9,"ym")&" mois"),"") | AM9: =IF(AK9="","",(VLOOKUP(AK9,Table_corresp!$E$3:$F$230,2,0))) | AN9: =IF(AM9="","",(CONCATENATE(B9," / ",AM9))) | AO9: =IF(AN9="","",(VLOOKUP(AN9,Table_corresp!$J$3:$M$70,2,0))) | AP9: =IF(AN9="","",(VLOOKUP(AN9,Table_corresp!$J$3:$M$70,3,0))) | AQ9: =IF(AN9="","",(VLOOKUP(AN9,Table_corresp!$J$3:$M$70,4,0))) | AR9: =IF(AL9>0,((((AL9/AO9)^AP9)-1)/AQ9),"") | AS9: =IF(AR9="","",AF9-AR9) | AT9: =IF(AS9="","",IF(AS9>0.25,"ralentissement",IF(AND(AS9<=0.25,AS9>=-0.25),"stable",IF(AS9<-0.25,"accélération")))) | AU9: =IF(AJ9<>0,((YEAR(AJ9)-YEAR(X9))*12+MONTH(AJ9)-MONTH(X9)),"") | AY9: =IF(AU9="","",(VLOOKUP(AU9,Table_corresp!$E$3:$F$230,2,0))) | AZ9: =IF(AY9="","",(CONCATENATE(L9," / ",AY9))) | BA9: =IF(AZ9="","",(VLOOKUP(AZ9,Table_corresp!$J$3:$M$70,2,0))) | BB9: =IF(AZ9="","",(VLOOKUP(AZ9,Table_corresp!$J$3:$M$70,3,0))) | BC9: =IF(AZ9="","",(VLOOKUP(AZ9,Table_corresp!$J$3:$M$70,4,0))) | BD9: =IF(AV9>0,((((AV9/BA9)^BB9)-1)/BC9),"") | BE9: =IF(BD9="","",AP9-BD9) | BF9: =IF(BE9="","",IF(BE9>0.25,"ralentissement",IF(AND(BE9<=0.25,BE9>=-0.25),"stable",IF(BE9<-0.25,"accélération")))) | BG9: =IF(AT9<>0,((YEAR(AT9)-YEAR(AH9))*12+MONTH(AT9)-MONTH(AH9)),"") -> #VALUE! | BK9: =IF(BG9="","",(VLOOKUP(BG9,Table_corresp!$E$3:$F$230,2,0))) -> #VALUE! | BL9: =IF(BK9="","",(CONCATENATE(V9," / ",BK9))) -> #VALUE! | BM9: =IF(BL9="","",(VLOOKUP(BL9,Table_corresp!$J$3:$M$70,2,0))) -> #VALUE! | BN9: =IF(BL9="","",(VLOOKUP(BL9,Table_corresp!$J$3:$M$70,3,0))) -> #VALUE! | BO9: =IF(BL9="","",(VLOOKUP(BL9,Table_corresp!$J$3:$M$70,4,0))) -> #VALUE! | BP9: =IF(BH9>0,((((BH9/BM9)^BN9)-1)/BO9),"") | BQ9: =IF(BP9="","",BB9-BP9) | BR9: =IF(BQ9="","",IF(BQ9>0.25,"ralentissement",IF(AND(BQ9<=0.25,BQ9>=-0.25),"stable",IF(BQ9<-0.25,"accélération")))) | BS9: =IF(BF9<>0,((YEAR(BF9)-YEAR(AR9))*12+MONTH(BF9)-MONTH(AR9)),"") -> #VALUE! | BW9: =IF(BS9="","",(VLOOKUP(BS9,Table_corresp!$E$3:$F$230,2,0))) -> #VALUE! | BX9: =IF(BW9="","",(CONCATENATE(AF9," / ",BW9))) -> #VALUE! | BY9: =IF(BX9="","",(VLOOKUP(BX9,Table_corresp!$J$3:$M$70,2,0))) -> #VALUE! | BZ9: =IF(BX9="","",(VLOOKUP(BX9,Table_corresp!$J$3:$M$70,3,0))) -> #VALUE! | CA9: =IF(BX9="","",(VLOOKUP(BX9,Table_corresp!$J$3:$M$70,4,0))) -> #VALUE! | CB9: =IF(#REF!>0,((((#REF!/BY9)^BZ9)-1)/CA9),"") -> #REF! | CC9: =IF(CB9="","",BN9-CB9) -> #REF! | CD9: =IF(CC9="","",IF(CC9>0.25,"ralentissement",IF(AND(CC9<=0.25,CC9>=-0.25),"stable",IF(CC9<-0.25,"accélération")))) -> #REF! | CE9: =IF(BR9<>0,((YEAR(BR9)-YEAR(BD9))*12+MONTH(BR9)-MONTH(BD9)),"") -> #VALUE! | CI9: =IF(CE9="","",(VLOOKUP(CE9,Table_corresp!$E$3:$F$230,2,0))) -> #VALUE! | CJ9: =IF(CI9="","",(CONCATENATE(AP9," / ",CI9))) -> #VALUE! | CK9: =IF(CJ9="","",(VLOOKUP(CJ9,Table_corresp!$J$3:$M$70,2,0))) -> #VALUE! | CL9: =IF(CJ9="","",(VLOOKUP(CJ9,Table_corresp!$J$3:$M$70,3,0))) -> #VALUE! | CM9: =IF(CJ9="","",(VLOOKUP(CJ9,Table_corresp!$J$3:$M$70,4,0))) -> #VALUE! | CN9: =IF(#REF!>0,((((#REF!/CK9)^CL9)-1)/CM9),"") -> #REF! | CO9: =IF(CN9="","",BZ9-CN9) -> #REF! | CP9: =IF(CO9="","",IF(CO9>0.25,"ralentissement",IF(AND(CO9<=0.25,CO9>=-0.25),"stable",IF(CO9<-0.25,"accélération")))) -> #REF! | CQ9: =IF(CD9<>0,((YEAR(CD9)-YEAR(BP9))*12+MONTH(CD9)-MONTH(BP9)),"") -> #REF! | CU9: =IF(CQ9="","",(VLOOKUP(CQ9,Table_corresp!$E$3:$F$230,2,0))) -> #REF! | CV9: =IF(CU9="","",(CONCATENATE(BB9," / ",CU9))) -> #REF! | CW9: =IF(CV9="","",(VLOOKUP(CV9,Table_corresp!$J$3:$M$70,2,0))) -> #REF! | CX9: =IF(CV9="","",(VLOOKUP(CV9,Table_corresp!$J$3:$M$70,3,0))) -> #REF! | CY9: =IF(CV9="","",(VLOOKUP(CV9,Table_corresp!$J$3:$M$70,4,0))) -> #REF! | CZ9: =IF(#REF!>0,((((#REF!/CW9)^CX9)-1)/CY9),"") -> #REF! | DA9: =IF(CZ9="","",CL9-CZ9) -> #REF! | DB9: =IF(DA9="","",IF(DA9>0.25,"ralentissement",IF(AND(DA9<=0.25,DA9>=-0.25),"stable",IF(DA9<-0.25,"accélération")))) -> #REF! | DC9: =IF(CP9<>0,((YEAR(CP9)-YEAR(CB9))*12+MONTH(CP9)-MONTH(CB9)),"") -> #REF!
A10: 8 | B10: 2 | F10: 82 | G10: 1.63 | H10: 30.863036 | I10: =VLOOKUP(T10,Table_corresp!$E$3:$F$230,2,0) -> 11.5 | J10: =CONCATENATE(B10," / ",I10) -> 2 / 11,5 | K10: =VLOOKUP(J10,Table_corresp!$J$3:$M$70,2,0) -> 17.04 | L10: =VLOOKUP(J10,Table_corresp!$J$3:$M$70,3,0) -> -0.73 | M10: =VLOOKUP(J10,Table_corresp!$J$3:$M$70,4,0) -> -0.0818 | N10: =IF(H10>0,((((H10/K10)^L10)-1)/M10),"") -> 4.3012158 | O10: Obésité | P10: 41759 | Q10: 37496 | R10: =DATEDIF(Q10,TODAY(),"y")&" ans "&DATEDIF(Q10,TODAY(),"ym")&" mois" -> 15 ans 1 mois | S10: =VLOOKUP(R10,Table_corresp!$A$3:$B$230,2,0) -> > 12 | T10: =DATEDIF(Q10,P10,"y")&" ans "&DATEDIF(Q10,P10,"ym")&" mois" -> 11 ans 8 mois | U10: =VLOOKUP(T10,Table_corresp!$A$3:$B$230,2,0) -> [9-12[ | X10: 42081 | Y10: =IF(X10<>0,(DATEDIF(Q10,X10,"y")&" ans "&DATEDIF(Q10,X10,"ym")&" mois"),"") -> 12 ans 6 mois | Z10: 31.5 | AA10: =IF(Y10="","",(VLOOKUP(Y10,Table_corresp!$E$3:$F$230,2,0))) -> 12.5 | AB10: =IF(AA10="","",(CONCATENATE(B10," / ",AA10))) -> 2 / 12,5 | AC10: =IF(AB10="","",(VLOOKUP(AB10,Table_corresp!$J$3:$M$70,2,0))) -> 17.74 | AD10: =IF(AB10="","",(VLOOKUP(AB10,Table_corresp!$J$3:$M$70,3,0))) -> -0.77 | AE10: =IF(AB10="","",(VLOOKUP(AB10,Table_corresp!$J$3:$M$70,4,0))) -> -0.0896 | AF10: =IF(Z10>0,((((Z10/AC10)^AD10)-1)/AE10),"") -> 3.9879403 | AG10: =IF(AF10="","",N10-AF10) -> 0.31327555 | AH10: =IF(AG10="","",IF(AG10>0.25,"ralentissement",IF(AND(AG10<=0.25,AG10>=-0.25),"stable",IF(AG10<-0.25,"accélération")))) -> ralentissement | AI10: =IF(X10<>0,((YEAR(X10)-YEAR(P10))*12+MONTH(X10)-MONTH(P10)),"") -> 11 | AK10: =IF(AJ10<>0,(DATEDIF(Q10,AJ10,"y")&" ans "&DATEDIF(Q10,AJ10,"ym")&" mois"),"") | AM10: =IF(AK10="","",(VLOOKUP(AK10,Table_corresp!$E$3:$F$230,2,0))) | AN10: =IF(AM10="","",(CONCATENATE(B10," / ",AM10))) | AO10: =IF(AN10="","",(VLOOKUP(AN10,Table_corresp!$J$3:$M$70,2,0))) | AP10: =IF(AN10="","",(VLOOKUP(AN10,Table_corresp!$J$3:$M$70,3,0))) | AQ10: =IF(AN10="","",(VLOOKUP(AN10,Table_corresp!$J$3:$M$70,4,0))) | AR10: =IF(AL10>0,((((AL10/AO10)^AP10)-1)/AQ10),"") | AS10: =IF(AR10="","",AF10-AR10) | AT10: =IF(AS10="","",IF(AS10>0.25,"ralentissement",IF(AND(AS10<=0.25,AS10>=-0.25),"stable",IF(AS10<-0.25,"accélération")))) | AU10: =IF(AJ10<>0,((YEAR(AJ10)-YEAR(X10))*12+MONTH(AJ10)-MONTH(X10)),"") | AY10: =IF(AU10="","",(VLOOKUP(AU10,Table_corresp!$E$3:$F$230,2,0))) | AZ10: =IF(AY10="","",(CONCATENATE(L10," / ",AY10))) | BA10: =IF(AZ10="","",(VLOOKUP(AZ10,Table_corresp!$J$3:$M$70,2,0))) | BB10: =IF(AZ10="","",(VLOOKUP(AZ10,Table_corresp!$J$3:$M$70,3,0))) | BC10: =IF(AZ10="","",(VLOOKUP(AZ10,Table_corresp!$J$3:$M$70,4,0))) | BD10: =IF(AV10>0,((((AV10/BA10)^BB10)-1)/BC10),"") | BE10: =IF(BD10="","",AP10-BD10) | BF10: =IF(BE10="","",IF(BE10>0.25,"ralentissement",IF(AND(BE10<=0.25,BE10>=-0.25),"stable",IF(BE10<-0.25,"accélération")))) | BG10: =IF(AT10<>0,((YEAR(AT10)-YEAR(AH10))*12+MONTH(AT10)-MONTH(AH10)),"") -> #VALUE! | BK10: =IF(BG10="","",(VLOOKUP(BG10,Table_corresp!$E$3:$F$230,2,0))) -> #VALUE! | BL10: =IF(BK10="","",(CONCATENATE(V10," / ",BK10))) -> #VALUE! | BM10: =IF(BL10="","",(VLOOKUP(BL10,Table_corresp!$J$3:$M$70,2,0))) -> #VALUE! | BN10: =IF(BL10="","",(VLOOKUP(BL10,Table_corresp!$J$3:$M$70,3,0))) -> #VALUE! | BO10: =IF(BL10="","",(VLOOKUP(BL10,Table_corresp!$J$3:$M$70,4,0))) -> #VALUE! | BP10: =IF(BH10>0,((((BH10/BM10)^BN10)-1)/BO10),"") | BQ10: =IF(BP10="","",BB10-BP10) | BR10: =IF(BQ10="","",IF(BQ10>0.25,"ralentissement",IF(AND(BQ10<=0.25,BQ10>=-0.25),"stable",IF(BQ10<-0.25,"accélération")))) | BS10: =IF(BF10<>0,((YEAR(BF10)-YEAR(AR10))*12+MONTH(BF10)-MONTH(AR10)),"") -> #VALUE! | BW10: =IF(BS10="","",(VLOOKUP(BS10,Table_corresp!$E$3:$F$230,2,0))) -> #VALUE! | BX10: =IF(BW10="","",(CONCATENATE(AF10," / ",BW10))) -> #VALUE! | BY10: =IF(BX10="","",(VLOOKUP(BX10,Table_corresp!$J$3:$M$70,2,0))) -> #VALUE! | BZ10: =IF(BX10="","",(VLOOKUP(BX10,Table_corresp!$J$3:$M$70,3,0))) -> #VALUE! | CA10: =IF(BX10="","",(VLOOKUP(BX10,Table_corresp!$J$3:$M$70,4,0))) -> #VALUE! | CB10: =IF(#REF!>0,((((#REF!/BY10)^BZ10)-1)/CA10),"") -> #REF! | CC10: =IF(CB10="","",BN10-CB10) -> #REF! | CD10: =IF(CC10="","",IF(CC10>0.25,"ralentissement",IF(AND(CC10<=0.25,CC10>=-0.25),"stable",IF(CC10<-0.25,"accélération")))) -> #REF! | CE10: =IF(BR10<>0,((YEAR(BR10)-YEAR(BD10))*12+MONTH(BR10)-MONTH(BD10)),"") -> #VALUE! | CI10: =IF(CE10="","",(VLOOKUP(CE10,Table_corresp!$E$3:$F$230,2,0))) -> #VALUE! | CJ10: =IF(CI10="","",(CONCATENATE(AP10," / ",CI10))) -> #VALUE! | CK10: =IF(CJ10="","",(VLOOKUP(CJ10,Table_corresp!$J$3:$M$70,2,0))) -> #VALUE! | CL10: =IF(CJ10="","",(VLOOKUP(CJ10,Table_corresp!$J$3:$M$70,3,0))) -> #VALUE! | CM10: =IF(CJ10="","",(VLOOKUP(CJ10,Table_corresp!$J$3:$M$70,4,0))) -> #VALUE! | CN10: =IF(#REF!>0,((((#REF!/CK10)^CL10)-1)/CM10),"") -> #REF! | CO10: =IF(CN10="","",BZ10-CN10) -> #REF! | CP10: =IF(CO10="","",IF(CO10>0.25,"ralentissement",IF(AND(CO10<=0.25,CO10>=-0.25),"stable",IF(CO10<-0.25,"accélération")))) -> #REF! | CQ10: =IF(CD10<>0,((YEAR(CD10)-YEAR(BP10))*12+MONTH(CD10)-MONTH(BP10)),"") -> #REF! | CU10: =IF(CQ10="","",(VLOOKUP(CQ10,Table_corresp!$E$3:$F$230,2,0))) -> #REF! | CV10: =IF(CU10="","",(CONCATENATE(BB10," / ",CU10))) -> #REF! | CW10: =IF(CV10="","",(VLOOKUP(CV10,Table_corresp!$J$3:$M$70,2,0))) -> #REF! | CX10: =IF(CV10="","",(VLOOKUP(CV10,Table_corresp!$J$3:$M$70,3,0))) -> #REF! | CY10: =IF(CV10="","",(VLOOKUP(CV10,Table_corresp!$J$3:$M$70,4,0))) -> #REF! | CZ10: =IF(#REF!>0,((((#REF!/CW10)^CX10)-1)/CY10),"") -> #REF! | DA10: =IF(CZ10="","",CL10-CZ10) -> #REF! | DB10: =IF(DA10="","",IF(DA10>0.25,"ralentissement",IF(AND(DA10<=0.25,DA10>=-0.25),"stable",IF(DA10<-0.25,"accélération")))) -> #REF! | DC10: =IF(CP10<>0,((YEAR(CP10)-YEAR(CB10))*12+MONTH(CP10)-MONTH(CB10)),"") -> #REF!
A11: 9 | B11: 2 | F11: 62 | G11: 1.5 | H11: 27.555556 | I11: =VLOOKUP(T11,Table_corresp!$E$3:$F$230,2,0) -> 9 | J11: =CONCATENATE(B11," / ",I11) -> 2 / 9 | K11: =VLOOKUP(J11,Table_corresp!$J$3:$M$70,2,0) -> 15.76 | L11: =VLOOKUP(J11,Table_corresp!$J$3:$M$70,3,0) -> -0.61 | M11: =VLOOKUP(J11,Table_corresp!$J$3:$M$70,4,0) -> -0.059 | N11: =IF(H11>0,((((H11/K11)^L11)-1)/M11),"") -> 4.8951943 | O11: Obésité | P11: 41759 | Q11: 38375 | R11: =DATEDIF(Q11,TODAY(),"y")&" ans "&DATEDIF(Q11,TODAY(),"ym")&" mois" -> 12 ans 8 mois | S11: =VLOOKUP(R11,Table_corresp!$A$3:$B$230,2,0) -> > 12 | T11: =DATEDIF(Q11,P11,"y")&" ans "&DATEDIF(Q11,P11,"ym")&" mois" -> 9 ans 3 mois | U11: =VLOOKUP(T11,Table_corresp!$A$3:$B$230,2,0) -> [9-12[ | X11: 42011 | Y11: =IF(X11<>0,(DATEDIF(Q11,X11,"y")&" ans "&DATEDIF(Q11,X11,"ym")&" mois"),"") -> 9 ans 11 mois | Z11: 31.19 | AA11: =IF(Y11="","",(VLOOKUP(Y11,Table_corresp!$E$3:$F$230,2,0))) -> 9.5 | AB11: =IF(AA11="","",(CONCATENATE(B11," / ",AA11))) -> 2 / 9,5 | AC11: =IF(AB11="","",(VLOOKUP(AB11,Table_corresp!$J$3:$M$70,2,0))) -> 15.96 | AD11: =IF(AB11="","",(VLOOKUP(AB11,Table_corresp!$J$3:$M$70,3,0))) -> -0.64 | AE11: =IF(AB11="","",(VLOOKUP(AB11,Table_corresp!$J$3:$M$70,4,0))) -> -0.0641 | AF11: =IF(Z11>0,((((Z11/AC11)^AD11)-1)/AE11),"") -> 5.4401685 | AG11: =IF(AF11="","",N11-AF11) -> -0.54497425 | AH11: =IF(AG11="","",IF(AG11>0.25,"ralentissement",IF(AND(AG11<=0.25,AG11>=-0.25),"stable",IF(AG11<-0.25,"accélération")))) -> accélération | AI11: =IF(X11<>0,((YEAR(X11)-YEAR(P11))*12+MONTH(X11)-MONTH(P11)),"") -> 9 | AJ11: 42193 | AK11: =IF(AJ11<>0,(DATEDIF(Q11,AJ11,"y")&" ans "&DATEDIF(Q11,AJ11,"ym")&" mois"),"") -> 10 ans 5 mois | AL11: 30.5 | AM11: =IF(AK11="","",(VLOOKUP(AK11,Table_corresp!$E$3:$F$230,2,0))) -> 10 | AN11: =IF(AM11="","",(CONCATENATE(B11," / ",AM11))) -> 2 / 10 | AO11: =IF(AN11="","",(VLOOKUP(AN11,Table_corresp!$J$3:$M$70,2,0))) -> 16.18 | AP11: =IF(AN11="","",(VLOOKUP(AN11,Table_corresp!$J$3:$M$70,3,0))) -> -0.67 | AQ11: =IF(AN11="","",(VLOOKUP(AN11,Table_corresp!$J$3:$M$70,4,0))) -> -0.0692 | AR11: =IF(AL11>0,((((AL11/AO11)^AP11)-1)/AQ11),"") -> 5.0009364 | AS11: =IF(AR11="","",AF11-AR11) -> 0.43923208 | AT11: =IF(AS11="","",IF(AS11>0.25,"ralentissement",IF(AND(AS11<=0.25,AS11>=-0.25),"stable",IF(AS11<-0.25,"accélération")))) -> ralentissement | AU11: =IF(AJ11<>0,((YEAR(AJ11)-YEAR(X11))*12+MONTH(AJ11)-MONTH(X11)),"") -> 6 | AV11: 42404 | AX11: 25.72 | AY11: =IF(AU11="","",(VLOOKUP(AU11,Table_corresp!$E$3:$F$230,2,0))) -> #N/A | AZ11: =IF(AY11="","",(CONCATENATE(L11," / ",AY11))) -> #N/A | BA11: =IF(AZ11="","",(VLOOKUP(AZ11,Table_corresp!$J$3:$M$70,2,0))) -> #N/A | BB11: =IF(AZ11="","",(VLOOKUP(AZ11,Table_corresp!$J$3:$M$70,3,0))) -> #N/A | BC11: =IF(AZ11="","",(VLOOKUP(AZ11,Table_corresp!$J$3:$M$70,4,0))) -> #N/A | BD11: =IF(AV11>0,((((AV11/BA11)^BB11)-1)/BC11),"") -> #N/A | BE11: =IF(BD11="","",AP11-BD11) -> #N/A | BF11: =IF(BE11="","",IF(BE11>0.25,"ralentissement",IF(AND(BE11<=0.25,BE11>=-0.25),"stable",IF(BE11<-0.25,"accélération")))) -> #N/A | BG11: =IF(AT11<>0,((YEAR(AT11)-YEAR(AH11))*12+MONTH(AT11)-MONTH(AH11)),"") -> #VALUE! | BK11: =IF(BG11="","",(VLOOKUP(BG11,Table_corresp!$E$3:$F$230,2,0))) -> #VALUE! | BL11: =IF(BK11="","",(CONCATENATE(V11," / ",BK11))) -> #VALUE! | BM11: =IF(BL11="","",(VLOOKUP(BL11,Table_corresp!$J$3:$M$70,2,0))) -> #VALUE! | BN11: =IF(BL11="","",(VLOOKUP(BL11,Table_corresp!$J$3:$M$70,3,0))) -> #VALUE! | BO11: =IF(BL11="","",(VLOOKUP(BL11,Table_corresp!$J$3:$M$70,4,0))) -> #VALUE! | BP11: =IF(BH11>0,((((BH11/BM11)^BN11)-1)/BO11),"") | BQ11: =IF(BP11="","",BB11-BP11) | BR11: =IF(BQ11="","",IF(BQ11>0.25,"ralentissement",IF(AND(BQ11<=0.25,BQ11>=-0.25),"stable",IF(BQ11<-0.25,"accélération")))) | BS11: =IF(BF11<>0,((YEAR(BF11)-YEAR(AR11))*12+MONTH(BF11)-MONTH(AR11)),"") -> #N/A | BW11: =IF(BS11="","",(VLOOKUP(BS11,Table_corresp!$E$3:$F$230,2,0))) -> #N/A | BX11: =IF(BW11="","",(CONCATENATE(AF11," / ",BW11))) -> #N/A | BY11: =IF(BX11="","",(VLOOKUP(BX11,Table_corresp!$J$3:$M$70,2,0))) -> #N/A | BZ11: =IF(BX11="","",(VLOOKUP(BX11,Table_corresp!$J$3:$M$70,3,0))) -> #N/A | CA11: =IF(BX11="","",(VLOOKUP(BX11,Table_corresp!$J$3:$M$70,4,0))) -> #N/A | CB11: =IF(#REF!>0,((((#REF!/BY11)^BZ11)-1)/CA11),"") -> #REF! | CC11: =IF(CB11="","",BN11-CB11) -> #REF! | CD11: =IF(CC11="","",IF(CC11>0.25,"ralentissement",IF(AND(CC11<=0.25,CC11>=-0.25),"stable",IF(CC11<-0.25,"accélération")))) -> #REF! | CE11: =IF(BR11<>0,((YEAR(BR11)-YEAR(BD11))*12+MONTH(BR11)-MONTH(BD11)),"") -> #VALUE! | CI11: =IF(CE11="","",(VLOOKUP(CE11,Table_corresp!$E$3:$F$230,2,0))) -> #VALUE! | CJ11: =IF(CI11="","",(CONCATENATE(AP11," / ",CI11))) -> #VALUE! | CK11: =IF(CJ11="","",(VLOOKUP(CJ11,Table_corresp!$J$3:$M$70,2,0))) -> #VALUE! | CL11: =IF(CJ11="","",(VLOOKUP(CJ11,Table_corresp!$J$3:$M$70,3,0))) -> #VALUE! | CM11: =IF(CJ11="","",(VLOOKUP(CJ11,Table_corresp!$J$3:$M$70,4,0))) -> #VALUE! | CN11: =IF(#REF!>0,((((#REF!/CK11)^CL11)-1)/CM11),"") -> #REF! | CO11: =IF(CN11="","",BZ11-CN11) -> #REF! | CP11: =IF(CO11="","",IF(CO11>0.25,"ralentissement",IF(AND(CO11<=0.25,CO11>=-0.25),"stable",IF(CO11<-0.25,"accélération")))) -> #REF! | CQ11: =IF(CD11<>0,((YEAR(CD11)-YEAR(BP11))*12+MONTH(CD11)-MONTH(BP11)),"") -> #REF! | CU11: =IF(CQ11="","",(VLOOKUP(CQ11,Table_corresp!$E$3:$F$230,2,0))) -> #REF! | CV11: =IF(CU11="","",(CONCATENATE(BB11," / ",CU11))) -> #REF! | CW11: =IF(CV11="","",(VLOOKUP(CV11,Table_corresp!$J$3:$M$70,2,0))) -> #REF! | CX11: =IF(CV11="","",(VLOOKUP(CV11,Table_corresp!$J$3:$M$70,3,0))) -> #REF! | CY11: =IF(CV11="","",(VLOOKUP(CV11,Table_corresp!$J$3:$M$70,4,0))) -> #REF! | CZ11: =IF(#REF!>0,((((#REF!/CW11)^CX11)-1)/CY11),"") -> #REF! | DA11: =IF(CZ11="","",CL11-CZ11) -> #REF! | DB11: =IF(DA11="","",IF(DA11>0.25,"ralentissement",IF(AND(DA11<=0.25,DA11>=-0.25),"stable",IF(DA11<-0.25,"accélération")))) -> #REF! | DC11: =IF(CP11<>0,((YEAR(CP11)-YEAR(CB11))*12+MONTH(CP11)-MONTH(CB11)),"") -> #REF!
