Workbook
Name _Ref451850499: Feuil1!$A$1458
Name _Ref451850519: Feuil1!$A$60
Name _Ref451850521: Feuil1!$A$194
Name _Ref451850524: Feuil1!$A$401
Name _Ref451850528: Feuil1!$A$765
Name _Toc451850700: Feuil1!$A$3
Name _Toc451850701: Feuil1!$A$5
Name _Toc451850702: Feuil1!$A$9
Name _Toc451850703: Feuil1!$A$12
Name _Toc451850704: Feuil1!$A$14
Name _Toc451850705: Feuil1!$A$16
Name _Toc451850706: Feuil1!$A$18
Name _Toc451850707: Feuil1!$A$20
Name _Toc451850708: Feuil1!$A$25
Name _Toc451850709: Feuil1!$A$33
Name _Toc451850710: Feuil1!$A$37
Name _Toc451850714: Feuil1!$A$677
Name _Toc451850716: Feuil1!$A$767
Name _Toc451850717: Feuil1!$A$809
Name _Toc451850718: Feuil1!$A$1104
Name _Toc451850719: Feuil1!$A$1107
Name _Toc451850720: Feuil1!$A$1138
Name _Toc451850721: Feuil1!$A$1224
Name _Toc451850722: Feuil1!$A$1255
Name _Toc451850723: Feuil1!$A$1341
Name _Toc451850724: Feuil1!$A$1372
Name _Toc451850726: Feuil1!$A$1487
Name _Toc451850727: Feuil1!$A$1535
Name _Toc451850728: Feuil1!$A$1701
Name _Toc451850729: Feuil1!$A$1728
Name _Toc451850730: Feuil1!$A$1735
Name _Toc451850731: Feuil1!$A$1745
Name _Toc451850732: Feuil1!$A$1752
Name _Toc451850733: Feuil1!$A$1757
Name _Toc451850734: Feuil1!$A$1759
Name _Toc451850735: Feuil1!$A$1779
Name _Toc451850736: Feuil1!$A$1781
Name _Toc451850737: Feuil1!$A$1785
Name _Toc451850738: Feuil1!$A$1787
Name _Toc451850739: Feuil1!$A$1789
Name _Toc451850740: Feuil1!$A$1790
Name _Toc451850741: Feuil1!$A$1792
Name _Toc451850742: Feuil1!$A$1794
Name _Toc451850743: Feuil1!$A$1808
Name _Toc451850744: Feuil1!$A$1822
Name _Toc451850745: Feuil1!$A$1836
Name _Toc451850746: Feuil1!$A$1870
Name _Toc451850747: Feuil1!$A$1903
Name _Toc451850748: Feuil1!$A$1937
Name _Toc451850749: Feuil1!$A$1970
Name _Toc451850750: Feuil1!$A$2004
Name _Toc451850751: Feuil1!$A$2037
Name _Toc451850752: Feuil1!$A$2043
Name _Toc451850753: Feuil1!$A$2055
Name _Toc451850754: Feuil1!$A$2061
Name CaseACocher7: Feuil1!$F$64
Name Etat: '[1]à définir'!$P$6:$P$8

Sheet Bdd
I1: Modif ORS | J1: Modif ORS | K1: Modif ORS | L1: Modif ORS | M1: Modif ORS | N1: Modif ORS | R1: Modif ORS | S1: Modif ORS | T1: Modif ORS | U1: Modif ORS | Y1: Modif ORS | AA1: Modif ORS | AB1: Modif ORS | AC1: Modif ORS | AD1: Modif ORS | AE1: Modif ORS | AF1: Modif ORS | AG1: Modif ORS | AH1: Modif ORS | AI1: Modif ORS | AK1: Modif ORS | AM1: Modif ORS | AN1: Modif ORS | AO1: Modif ORS | AP1: Modif ORS | AQ1: Modif ORS | AR1: Modif ORS | AS1: Modif ORS | AT1: Modif ORS | AU1: Modif ORS | AW1: Modif ORS | AY1: Modif ORS | AZ1: Modif ORS | BA1: Modif ORS | BB1: Modif ORS | BC1: Modif ORS | BD1: Modif ORS | BE1: Modif ORS | BF1: Modif ORS | BG1: Modif ORS | BI1: Modif ORS | BK1: Modif ORS | BL1: Modif ORS | BM1: Modif ORS | BN1: Modif ORS | BO1: Modif ORS | BP1: Modif ORS | BQ1: Modif ORS | BR1: Modif ORS | BS1: Modif ORS | BU1: Modif ORS | BW1: Modif ORS | BX1: Modif ORS | BY1: Modif ORS | BZ1: Modif ORS | CA1: Modif ORS | CB1: Modif ORS | CC1: Modif ORS | CD1: Modif ORS | CE1: Modif ORS | CG1: Modif ORS | CI1: Modif ORS | CJ1: Modif ORS | CK1: Modif ORS | CL1: Modif ORS | CM1: Modif ORS | CN1: Modif ORS | CO1: Modif ORS | CP1: Modif ORS | CQ1: Modif ORS | CS1: Modif ORS | CU1: Modif ORS | CV1: Modif ORS | CW1: Modif ORS | CX1: Modif ORS | CY1: Modif ORS | CZ1: Modif ORS | DA1: Modif ORS | DB1: Modif ORS | DC1: Modif ORS
A2: Num | B2: Sexe | C2: P_depist | D2: T_depist | E2: IMC_depist | F2: P_incl | G2: T_incl | H2: IMC_incl | I2: Calc_Zscore_incl_âge | J2: Calc_Zscore_incl_âge/sexe | K2: Calc_Zscore_incl_M | L2: Calc_Zscore_incl_L | M2: Calc_Zscore_incl_S | N2: Zscore_incl | O2: Corpulence | P2: DRI | Q2: DDN | R2: Age_actuel | S2: Cat_ageactu | T2: Age_incl | U2: Cat_age_incl | V2: Date_bilan_incl | W2: IMC_bilan_incl | X2: Date_1bilan | Y2: Age_1bilan | Z2: IMC__1bilan | AA2: Calc_Zscore_1bilan_âge | AB2: Calc_Zscore_1bilan_âge/sexe | AC2: Calc_Zscore_1bilan_M | AD2: Calc_Zscore_1bilan_L | AE2: Calc_Zscore_1bilan_S | AF2: Zscore_1bilan | AG2: ∆Zscore_1bilan_incl | AH2: Categorie Zscore | AI2: Délai bilan1_incl | AJ2: Date_2bilan | AK2: Age_2bilan | AL2: IMC__2bilan | AM2: Calc_Zscore_2bilan_âge | AN2: Calc_Zscore_2bilan_âge/sexe | AO2: Calc_Zscore_2bilan_M | AP2: Calc_Zscore_2bilan_L | AQ2: Calc_Zscore_2bilan_S | AR2: Zscore_2bilan | AS2: ∆Zscore_2bilan_1bilan | AT2: Categorie Zscore | AU2: Délai bilan2_bilan1 | AV2: Date_3bilan | AW2: Age_3bilan | AX2: IMC__3bilan | AY2: Calc_Zscore_2bilan_âge | AZ2: Calc_Zscore_2bilan_âge/sexe | BA2: Calc_Zscore_2bilan_M | BB2: Calc_Zscore_2bilan_L | BC2: Calc_Zscore_2bilan_S | BD2: Zscore_2bilan | BE2: ∆Zscore_2bilan_1bilan | BF2: Categorie Zscore | BG2: Délai bilan2_bilan1 | BH2: Date_4bilan | BI2: Age_4bilan | BJ2: IMC__4bilan | BK2: Calc_Zscore_2bilan_âge | BL2: Calc_Zscore_2bilan_âge/sexe | BM2: Calc_Zscore_2bilan_M | BN2: Calc_Zscore_2bilan_L | BO2: Calc_Zscore_2bilan_S | BP2: Zscore_2bilan | BQ2: ∆Zscore_2bilan_1bilan | BR2: Categorie Zscore | BS2: Délai bilan2_bilan1 | BT2: Date_5bilan | BU2: Age_5bilan | BV2: IMC__5bilan | BW2: Calc_Zscore_2bilan_âge | BX2: Calc_Zscore_2bilan_âge/sexe | BY2: Calc_Zscore_2bilan_M | BZ2: Calc_Zscore_2bilan_L | CA2: Calc_Zscore_2bilan_S | CB2: Zscore_2bilan | CC2: ∆Zscore_2bilan_1bilan | CD2: Categorie Zscore | CE2: Délai bilan2_bilan1 | CF2: Date_6bilan | CG2: Age_6bilan | CH2: IMC__6bilan | CI2: Calc_Zscore_2bilan_âge | CJ2: Calc_Zscore_2bilan_âge/sexe | CK2: Calc_Zscore_2bilan_M | CL2: Calc_Zscore_2bilan_L | CM2: Calc_Zscore_2bilan_S | CN2: Zscore_2bilan | CO2: ∆Zscore_2bilan_1bilan | CP2: Categorie Zscore | CQ2: Délai bilan2_bilan1 | CR2: Date_7bilan | CS2: Age_7bilan | CT2: IMC__7bilan | CU2: Calc_Zscore_2bilan_âge | CV2: Calc_Zscore_2bilan_âge/sexe | CW2: Calc_Zscore_2bilan_M | CX2: Calc_Zscore_2bilan_L | CY2: Calc_Zscore_2bilan_S | CZ2: Zscore_2bilan | DA2: ∆Zscore_2bilan_1bilan | DB2: Categorie Zscore | DC2: Délai bilan2_bilan1
A3: 1 | B3: 1 | F3: 36 | G3: 1.315 | H3: 20.818575 | I3: =VLOOKUP(T3,Table_corresp!$E$3:$F$230,2,0) -> 8.5 | J3: =CONCATENATE(B3," / ",I3) -> 1 / 8,5 | K3: =VLOOKUP(J3,Table_corresp!$J$3:$M$70,2,0) -> 15.89 | L3: =VLOOKUP(J3,Table_corresp!$J$3:$M$70,3,0) -> -0.66 | M3: =VLOOKUP(J3,Table_corresp!$J$3:$M$70,4,0) -> -0.0595 | N3: =IF(H3>0,((((H3/K3)^L3)-1)/M3),"") -> 2.7447209 | O3: Surpoids | P3: 41725 | Q3: 38596 | R3: =DATEDIF(Q3,TODAY(),"y")&" ans "&DATEDIF(Q3,TODAY(),"ym")&" mois" -> 12 ans 1 mois | S3: =VLOOKUP(R3,Table_corresp!$A$3:$B$230,2,0) -> > 12 | T3: =DATEDIF(Q3,P3,"y")&" ans "&DATEDIF(Q3,P3,"ym")&" mois" -> 8 ans 6 mois | U3: =VLOOKUP(T3,Table_corresp!$A$3:$B$230,2,0) -> [6-9[ | Y3: =IF(X3<>0,(DATEDIF(Q3,X3,"y")&" ans "&DATEDIF(Q3,X3,"ym")&" mois"),"") | AA3: =IF(Y3="","",(VLOOKUP(Y3,Table_corresp!$E$3:$F$230,2,0))) | AB3: =IF(AA3="","",(CONCATENATE(B3," / ",AA3))) | AC3: =IF(AB3="","",(VLOOKUP(AB3,Table_corresp!$J$3:$M$70,2,0))) | AD3: =IF(AB3="","",(VLOOKUP(AB3,Table_corresp!$J$3:$M$70,3,0))) | AE3: =IF(AB3="","",(VLOOKUP(AB3,Table_corresp!$J$3:$M$70,4,0))) | AF3: =IF(Z3>0,((((Z3/AC3)^AD3)-1)/AE3),"") | AG3: =IF(AF3="","",N3-AF3) | AH3: =IF(AG3="","",IF(AG3>0.25,"ralentissement",IF(AND(AG3<=0.25,AG3>=-0.25),"stable",IF(AG3<-0.25,"accélération")))) | AI3: =IF(X3<>0,((YEAR(X3)-YEAR(P3))*12+MONTH(X3)-MONTH(P3)),"") | AK3: =IF(AJ3<>0,(DATEDIF(Q3,AJ3,"y")&" ans "&DATEDIF(Q3,AJ3,"ym")&" mois"),"") | AM3: =IF(AK3="","",(VLOOKUP(AK3,Table_corresp!$E$3:$F$230,2,0))) | AN3: =IF(AM3="","",(CONCATENATE(B3," / ",AM3))) | AO3: =IF(AN3="","",(VLOOKUP(AN3,Table_corresp!$J$3:$M$70,2,0))) | AP3: =IF(AN3="","",(VLOOKUP(AN3,Table_corresp!$J$3:$M$70,3,0))) | AQ3: =IF(AN3="","",(VLOOKUP(AN3,Table_corresp!$J$3:$M$70,4,0))) | AR3: =IF(AL3>0,((((AL3/AO3)^AP3)-1)/AQ3),"") | AS3: =IF(AR3="","",AF3-AR3) | AT3: =IF(AS3="","",IF(AS3>0.25,"ralentissement",IF(AND(AS3<=0.25,AS3>=-0.25),"stable",IF(AS3<-0.25,"accélération")))) | AU3: =IF(AJ3<>0,((YEAR(AJ3)-YEAR(X3))*12+MONTH(AJ3)-MONTH(X3)),"") | AW3: =IF(AV3<>0,(DATEDIF(AC3,AV3,"y")&" ans "&DATEDIF(AC3,AV3,"ym")&" mois"),"") | AY3: =IF(AU3="","",(VLOOKUP(AU3,Table_corresp!$E$3:$F$230,2,0))) | AZ3: =IF(AY3="","",(CONCATENATE(L3," / ",AY3))) | BA3: =IF(AZ3="","",(VLOOKUP(AZ3,Table_corresp!$J$3:$M$70,2,0))) | BB3: =IF(AZ3="","",(VLOOKUP(AZ3,Table_corresp!$J$3:$M$70,3,0))) | BC3: =IF(AZ3="","",(VLOOKUP(AZ3,Table_corresp!$J$3:$M$70,4,0))) | BD3: =IF(AV3>0,((((AV3/BA3)^BB3)-1)/BC3),"") | BE3: =IF(BD3="","",AP3-BD3) | BF3: =IF(BE3="","",IF(BE3>0.25,"ralentissement",IF(AND(BE3<=0.25,BE3>=-0.25),"stable",IF(BE3<-0.25,"accélération")))) | BG3: =IF(AT3<>0,((YEAR(AT3)-YEAR(AH3))*12+MONTH(AT3)-MONTH(AH3)),"") -> #VALUE! | BI3: =IF(BH3<>0,(DATEDIF(AO3,BH3,"y")&" ans "&DATEDIF(AO3,BH3,"ym")&" mois"),"") | BK3: =IF(BG3="","",(VLOOKUP(BG3,Table_corresp!$E$3:$F$230,2,0))) -> #VALUE! | BL3: =IF(BK3="","",(CONCATENATE(V3," / ",BK3))) -> #VALUE! | BM3: =IF(BL3="","",(VLOOKUP(BL3,Table_corresp!$J$3:$M$70,2,0))) -> #VALUE! | BN3: =IF(BL3="","",(VLOOKUP(BL3,Table_corresp!$J$3:$M$70,3,0))) -> #VALUE! | BO3: =IF(BL3="","",(VLOOKUP(BL3,Table_corresp!$J$3:$M$70,4,0))) -> #VALUE! | BP3: =IF(BH3>0,((((BH3/BM3)^BN3)-1)/BO3),"") | BQ3: =IF(BP3="","",BB3-BP3) | BR3: =IF(BQ3="","",IF(BQ3>0.25,"ralentissement",IF(AND(BQ3<=0.25,BQ3>=-0.25),"stable",IF(BQ3<-0.25,"accélération")))) | BS3: =IF(BF3<>0,((YEAR(BF3)-YEAR(AR3))*12+MONTH(BF3)-MONTH(AR3)),"") -> #VALUE! | BU3: =IF(BT3<>0,(DATEDIF(BA3,BT3,"y")&" ans "&DATEDIF(BA3,BT3,"ym")&" mois"),"") | BW3: =IF(BS3="","",(VLOOKUP(BS3,Table_corresp!$E$3:$F$230,2,0))) -> #VALUE! | BX3: =IF(BW3="","",(CONCATENATE(AF3," / ",BW3))) -> #VALUE! | BY3: =IF(BX3="","",(VLOOKUP(BX3,Table_corresp!$J$3:$M$70,2,0))) -> #VALUE! | BZ3: =IF(BX3="","",(VLOOKUP(BX3,Table_corresp!$J$3:$M$70,3,0))) -> #VALUE! | CA3: =IF(BX3="","",(VLOOKUP(BX3,Table_corresp!$J$3:$M$70,4,0))) -> #VALUE! | CB3: =IF(#REF!>0,((((#REF!/BY3)^BZ3)-1)/CA3),"") -> #REF! | CC3: =IF(CB3="","",BN3-CB3) -> #REF! | CD3: =IF(CC3="","",IF(CC3>0.25,"ralentissement",IF(AND(CC3<=0.25,CC3>=-0.25),"stable",IF(CC3<-0.25,"accélération")))) -> #REF! | CE3: =IF(BR3<>0,((YEAR(BR3)-YEAR(BD3))*12+MONTH(BR3)-MONTH(BD3)),"") -> #VALUE! | CG3: =IF(CF3<>0,(DATEDIF(BM3,CF3,"y")&" ans "&DATEDIF(BM3,CF3,"ym")&" mois"),"") | CI3: =IF(CE3="","",(VLOOKUP(CE3,Table_corresp!$E$3:$F$230,2,0))) -> #VALUE! | CJ3: =IF(CI3="","",(CONCATENATE(AP3," / ",CI3))) -> #VALUE! | CK3: =IF(CJ3="","",(VLOOKUP(CJ3,Table_corresp!$J$3:$M$70,2,0))) -> #VALUE! | CL3: =IF(CJ3="","",(VLOOKUP(CJ3,Table_corresp!$J$3:$M$70,3,0))) -> #VALUE! | CM3: =IF(CJ3="","",(VLOOKUP(CJ3,Table_corresp!$J$3:$M$70,4,0))) -> #VALUE! | CN3: =IF(#REF!>0,((((#REF!/CK3)^CL3)-1)/CM3),"") -> #REF! | CO3: =IF(CN3="","",BZ3-CN3) -> #REF! | CP3: =IF(CO3="","",IF(CO3>0.25,"ralentissement",IF(AND(CO3<=0.25,CO3>=-0.25),"stable",IF(CO3<-0.25,"accélération")))) -> #REF! | CQ3: =IF(CD3<>0,((YEAR(CD3)-YEAR(BP3))*12+MONTH(CD3)-MONTH(BP3)),"") -> #REF! | CS3: =IF(CR3<>0,(DATEDIF(BY3,CR3,"y")&" ans "&DATEDIF(BY3,CR3,"ym")&" mois"),"") | CU3: =IF(CQ3="","",(VLOOKUP(CQ3,Table_corresp!$E$3:$F$230,2,0))) -> #REF! | CV3: =IF(CU3="","",(CONCATENATE(BB3," / ",CU3))) -> #REF! | CW3: =IF(CV3="","",(VLOOKUP(CV3,Table_corresp!$J$3:$M$70,2,0))) -> #REF! | CX3: =IF(CV3="","",(VLOOKUP(CV3,Table_corresp!$J$3:$M$70,3,0))) -> #REF! | CY3: =IF(CV3="","",(VLOOKUP(CV3,Table_corresp!$J$3:$M$70,4,0))) -> #REF! | CZ3: =IF(#REF!>0,((((#REF!/CW3)^CX3)-1)/CY3),"") -> #REF! | DA3: =IF(CZ3="","",CL3-CZ3) -> #REF! | DB3: =IF(DA3="","",IF(DA3>0.25,"ralentissement",IF(AND(DA3<=0.25,DA3>=-0.25),"stable",IF(DA3<-0.25,"accélération")))) -> #REF! | DC3: =IF(CP3<>0,((YEAR(CP3)-YEAR(CB3))*12+MONTH(CP3)-MONTH(CB3)),"") -> #REF!
A4: 2 | B4: 1 | F4: 65.5 | G4: 1.63 | H4: 24.652791 | I4: =VLOOKUP(T4,Table_corresp!$E$3:$F$230,2,0) -> 12 | J4: =CONCATENATE(B4," / ",I4) -> 1 / 12 | K4: =VLOOKUP(J4,Table_corresp!$J$3:$M$70,2,0) -> 17.2 | L4: =VLOOKUP(J4,Table_corresp!$J$3:$M$70,3,0) -> -0.93 | M4: =VLOOKUP(J4,Table_corresp!$J$3:$M$70,4,0) -> -0.0978 | N4: =IF(H4>0,((((H4/K4)^L4)-1)/M4),"") -> 2.9090594 | O4: Surpoids | P4: 41738 | Q4: 37341 | R4: =DATEDIF(Q4,TODAY(),"y")&" ans "&DATEDIF(Q4,TODAY(),"ym")&" mois" -> 15 ans 6 mois | S4: =VLOOKUP(R4,Table_corresp!$A$3:$B$230,2,0) -> > 12 | T4: =DATEDIF(Q4,P4,"y")&" ans "&DATEDIF(Q4,P4,"ym")&" mois" -> 12 ans 0 mois | U4: =VLOOKUP(T4,Table_corresp!$A$3:$B$230,2,0) -> > 12 | Y4: =IF(X4<>0,(DATEDIF(Q4,X4,"y")&" ans "&DATEDIF(Q4,X4,"ym")&" mois"),"") | AA4: =IF(Y4="","",(VLOOKUP(Y4,Table_corresp!$E$3:$F$230,2,0))) | AB4: =IF(AA4="","",(CONCATENATE(B4," / ",AA4))) | AC4: =IF(AB4="","",(VLOOKUP(AB4,Table_corresp!$J$3:$M$70,2,0))) | AD4: =IF(AB4="","",(VLOOKUP(AB4,Table_corresp!$J$3:$M$70,3,0))) | AE4: =IF(AB4="","",(VLOOKUP(AB4,Table_corresp!$J$3:$M$70,4,0))) | AF4: =IF(Z4>0,((((Z4/AC4)^AD4)-1)/AE4),"") | AG4: =IF(AF4="","",N4-AF4) | AH4: =IF(AG4="","",IF(AG4>0.25,"ralentissement",IF(AND(AG4<=0.25,AG4>=-0.25),"stable",IF(AG4<-0.25,"accélération")))) | AI4: =IF(X4<>0,((YEAR(X4)-YEAR(P4))*12+MONTH(X4)-MONTH(P4)),"") | AK4: =IF(AJ4<>0,(DATEDIF(Q4,AJ4,"y")&" ans "&DATEDIF(Q4,AJ4,"ym")&" mois"),"") | AM4: =IF(AK4="","",(VLOOKUP(AK4,Table_corresp!$E$3:$F$230,2,0))) | AN4: =IF(AM4="","",(CONCATENATE(B4," / ",AM4))) | AO4: =IF(AN4="","",(VLOOKUP(AN4,Table_corresp!$J$3:$M$70,2,0))) | AP4: =IF(AN4="","",(VLOOKUP(AN4,Table_corresp!$J$3:$M$70,3,0))) | AQ4: =IF(AN4="","",(VLOOKUP(AN4,Table_corresp!$J$3:$M$70,4,0))) | AR4: =IF(AL4>0,((((AL4/AO4)^AP4)-1)/AQ4),"") | AS4: =IF(AR4="","",AF4-AR4) | AT4: =IF(AS4="","",IF(AS4>0.25,"ralentissement",IF(AND(AS4<=0.25,AS4>=-0.25),"stable",IF(AS4<-0.25,"accélération")))) | AU4: =IF(AJ4<>0,((YEAR(AJ4)-YEAR(X4))*12+MONTH(AJ4)-MONTH(X4)),"") | AW4: =IF(AV4<>0,(DATEDIF(AC4,AV4,"y")&" ans "&DATEDIF(AC4,AV4,"ym")&" mois"),"") | AY4: =IF(AU4="","",(VLOOKUP(AU4,Table_corresp!$E$3:$F$230,2,0))) | AZ4: =IF(AY4="","",(CONCATENATE(L4," / ",AY4))) | BA4: =IF(AZ4="","",(VLOOKUP(AZ4,Table_corresp!$J$3:$M$70,2,0))) | BB4: =IF(AZ4="","",(VLOOKUP(AZ4,Table_corresp!$J$3:$M$70,3,0))) | BC4: =IF(AZ4="","",(VLOOKUP(AZ4,Table_corresp!$J$3:$M$70,4,0))) | BD4: =IF(AV4>0,((((AV4/BA4)^BB4)-1)/BC4),"") | BE4: =IF(BD4="","",AP4-BD4) | BF4: =IF(BE4="","",IF(BE4>0.25,"ralentissement",IF(AND(BE4<=0.25,BE4>=-0.25),"stable",IF(BE4<-0.25,"accélération")))) | BG4: =IF(AT4<>0,((YEAR(AT4)-YEAR(AH4))*12+MONTH(AT4)-MONTH(AH4)),"") -> #VALUE! | BI4: =IF(BH4<>0,(DATEDIF(AO4,BH4,"y")&" ans "&DATEDIF(AO4,BH4,"ym")&" mois"),"") | BK4: =IF(BG4="","",(VLOOKUP(BG4,Table_corresp!$E$3:$F$230,2,0))) -> #VALUE! | BL4: =IF(BK4="","",(CONCATENATE(V4," / ",BK4))) -> #VALUE! | BM4: =IF(BL4="","",(VLOOKUP(BL4,Table_corresp!$J$3:$M$70,2,0))) -> #VALUE! | BN4: =IF(BL4="","",(VLOOKUP(BL4,Table_corresp!$J$3:$M$70,3,0))) -> #VALUE! | BO4: =IF(BL4="","",(VLOOKUP(BL4,Table_corresp!$J$3:$M$70,4,0))) -> #VALUE! | BP4: =IF(BH4>0,((((BH4/BM4)^BN4)-1)/BO4),"") | BQ4: =IF(BP4="","",BB4-BP4) | BR4: =IF(BQ4="","",IF(BQ4>0.25,"ralentissement",IF(AND(BQ4<=0.25,BQ4>=-0.25),"stable",IF(BQ4<-0.25,"accélération")))) | BS4: =IF(BF4<>0,((YEAR(BF4)-YEAR(AR4))*12+MONTH(BF4)-MONTH(AR4)),"") -> #VALUE! | BU4: =IF(BT4<>0,(DATEDIF(BA4,BT4,"y")&" ans "&DATEDIF(BA4,BT4,"ym")&" mois"),"") | BW4: =IF(BS4="","",(VLOOKUP(BS4,Table_corresp!$E$3:$F$230,2,0))) -> #VALUE! | BX4: =IF(BW4="","",(CONCATENATE(AF4," / ",BW4))) -> #VALUE! | BY4: =IF(BX4="","",(VLOOKUP(BX4,Table_corresp!$J$3:$M$70,2,0))) -> #VALUE! | BZ4: =IF(BX4="","",(VLOOKUP(BX4,Table_corresp!$J$3:$M$70,3,0))) -> #VALUE! | CA4: =IF(BX4="","",(VLOOKUP(BX4,Table_corresp!$J$3:$M$70,4,0))) -> #VALUE! | CB4: =IF(#REF!>0,((((#REF!/BY4)^BZ4)-1)/CA4),"") -> #REF! | CC4: =IF(CB4="","",BN4-CB4) -> #REF! | CD4: =IF(CC4="","",IF(CC4>0.25,"ralentissement",IF(AND(CC4<=0.25,CC4>=-0.25),"stable",IF(CC4<-0.25,"accélération")))) -> #REF! | CE4: =IF(BR4<>0,((YEAR(BR4)-YEAR(BD4))*12+MONTH(BR4)-MONTH(BD4)),"") -> #VALUE! | CG4: =IF(CF4<>0,(DATEDIF(BM4,CF4,"y")&" ans "&DATEDIF(BM4,CF4,"ym")&" mois"),"") | CI4: =IF(CE4="","",(VLOOKUP(CE4,Table_corresp!$E$3:$F$230,2,0))) -> #VALUE! | CJ4: =IF(CI4="","",(CONCATENATE(AP4," / ",CI4))) -> #VALUE! | CK4: =IF(CJ4="","",(VLOOKUP(CJ4,Table_corresp!$J$3:$M$70,2,0))) -> #VALUE! | CL4: =IF(CJ4="","",(VLOOKUP(CJ4,Table_corresp!$J$3:$M$70,3,0))) -> #VALUE! | CM4: =IF(CJ4="","",(VLOOKUP(CJ4,Table_corresp!$J$3:$M$70,4,0))) -> #VALUE! | CN4: =IF(#REF!>0,((((#REF!/CK4)^CL4)-1)/CM4),"") -> #REF! | CO4: =IF(CN4="","",BZ4-CN4) -> #REF! | CP4: =IF(CO4="","",IF(CO4>0.25,"ralentissement",IF(AND(CO4<=0.25,CO4>=-0.25),"stable",IF(CO4<-0.25,"accélération")))) -> #REF! | CQ4: =IF(CD4<>0,((YEAR(CD4)-YEAR(BP4))*12+MONTH(CD4)-MONTH(BP4)),"") -> #REF! | CS4: =IF(CR4<>0,(DATEDIF(BY4,CR4,"y")&" ans "&DATEDIF(BY4,CR4,"ym")&" mois"),"") | CU4: =IF(CQ4="","",(VLOOKUP(CQ4,Table_corresp!$E$3:$F$230,2,0))) -> #REF! | CV4: =IF(CU4="","",(CONCATENATE(BB4," / ",CU4))) -> #REF! | CW4: =IF(CV4="","",(VLOOKUP(CV4,Table_corresp!$J$3:$M$70,2,0))) -> #REF! | CX4: =IF(CV4="","",(VLOOKUP(CV4,Table_corresp!$J$3:$M$70,3,0))) -> #REF! | CY4: =IF(CV4="","",(VLOOKUP(CV4,Table_corresp!$J$3:$M$70,4,0))) -> #REF! | CZ4: =IF(#REF!>0,((((#REF!/CW4)^CX4)-1)/CY4),"") -> #REF! | DA4: =IF(CZ4="","",CL4-CZ4) -> #REF! | DB4: =IF(DA4="","",IF(DA4>0.25,"ralentissement",IF(AND(DA4<=0.25,DA4>=-0.25),"stable",IF(DA4<-0.25,"accélération")))) -> #REF! | DC4: =IF(CP4<>0,((YEAR(CP4)-YEAR(CB4))*12+MONTH(CP4)-MONTH(CB4)),"") -> #REF!
A5: 3 | B5: 2 | F5: 34 | G5: 1.13 | H5: 26.626987 | I5: =VLOOKUP(T5,Table_corresp!$E$3:$F$230,2,0) -> 4 | J5: =CONCATENATE(B5," / ",I5) -> 2 / 4 | K5: =VLOOKUP(J5,Table_corresp!$J$3:$M$70,2,0) -> 15.45 | L5: =VLOOKUP(J5,Table_corresp!$J$3:$M$70,3,0) -> -0.17 | M5: =VLOOKUP(J5,Table_corresp!$J$3:$M$70,4,0) -> -0.0133 | N5: =IF(H5>0,((((H5/K5)^L5)-1)/M5),"") -> 6.6452307 | O5: Obésité | P5: 41738 | Q5: 40109 | R5: =DATEDIF(Q5,TODAY(),"y")&" ans "&DATEDIF(Q5,TODAY(),"ym")&" mois" -> 7 ans 11 mois | S5: =VLOOKUP(R5,Table_corresp!$A$3:$B$230,2,0) -> [6-9[ | T5: =DATEDIF(Q5,P5,"y")&" ans "&DATEDIF(Q5,P5,"ym")&" mois" -> 4 ans 5 mois | U5: =VLOOKUP(T5,Table_corresp!$A$3:$B$230,2,0) -> [3-6[ | Y5: =IF(X5<>0,(DATEDIF(Q5,X5,"y")&" ans "&DATEDIF(Q5,X5,"ym")&" mois"),"") | AA5: =IF(Y5="","",(VLOOKUP(Y5,Table_corresp!$E$3:$F$230,2,0))) | AB5: =IF(AA5="","",(CONCATENATE(B5," / ",AA5))) | AC5: =IF(AB5="","",(VLOOKUP(AB5,Table_corresp!$J$3:$M$70,2,0))) | AD5: =IF(AB5="","",(VLOOKUP(AB5,Table_corresp!$J$3:$M$70,3,0))) | AE5: =IF(AB5="","",(VLOOKUP(AB5,Table_corresp!$J$3:$M$70,4,0))) | AF5: =IF(Z5>0,((((Z5/AC5)^AD5)-1)/AE5),"") | AG5: =IF(AF5="","",N5-AF5) | AH5: =IF(AG5="","",IF(AG5>0.25,"ralentissement",IF(AND(AG5<=0.25,AG5>=-0.25),"stable",IF(AG5<-0.25,"accélération")))) | AI5: =IF(X5<>0,((YEAR(X5)-YEAR(P5))*12+MONTH(X5)-MONTH(P5)),"") | AK5: =IF(AJ5<>0,(DATEDIF(Q5,AJ5,"y")&" ans "&DATEDIF(Q5,AJ5,"ym")&" mois"),"") | AM5: =IF(AK5="","",(VLOOKUP(AK5,Table_corresp!$E$3:$F$230,2,0))) | AN5: =IF(AM5="","",(CONCATENATE(B5," / ",AM5))) | AO5: =IF(AN5="","",(VLOOKUP(AN5,Table_corresp!$J$3:$M$70,2,0))) | AP5: =IF(AN5="","",(VLOOKUP(AN5,Table_corresp!$J$3:$M$70,3,0))) | AQ5: =IF(AN5="","",(VLOOKUP(AN5,Table_corresp!$J$3:$M$70,4,0))) | AR5: =IF(AL5>0,((((AL5/AO5)^AP5)-1)/AQ5),"") | AS5: =IF(AR5="","",AF5-AR5) | AT5: =IF(AS5="","",IF(AS5>0.25,"ralentissement",IF(AND(AS5<=0.25,AS5>=-0.25),"stable",IF(AS5<-0.25,"accélération")))) | AU5: =IF(AJ5<>0,((YEAR(AJ5)-YEAR(X5))*12+MONTH(AJ5)-MONTH(X5)),"") | AY5: =IF(AU5="","",(VLOOKUP(AU5,Table_corresp!$E$3:$F$230,2,0))) | AZ5: =IF(AY5="","",(CONCATENATE(L5," / ",AY5))) | BA5: =IF(AZ5="","",(VLOOKUP(AZ5,Table_corresp!$J$3:$M$70,2,0))) | BB5: =IF(AZ5="","",(VLOOKUP(AZ5,Table_corresp!$J$3:$M$70,3,0))) | BC5: =IF(AZ5="","",(VLOOKUP(AZ5,Table_corresp!$J$3:$M$70,4,0))) | BD5: =IF(AV5>0,((((AV5/BA5)^BB5)-1)/BC5),"") | BE5: =IF(BD5="","",AP5-BD5) | BF5: =IF(BE5="","",IF(BE5>0.25,"ralentissement",IF(AND(BE5<=0.25,BE5>=-0.25),"stable",IF(BE5<-0.25,"accélération")))) | BG5: =IF(AT5<>0,((YEAR(AT5)-YEAR(AH5))*12+MONTH(AT5)-MONTH(AH5)),"") -> #VALUE! | BK5: =IF(BG5="","",(VLOOKUP(BG5,Table_corresp!$E$3:$F$230,2,0))) -> #VALUE! | BL5: =IF(BK5="","",(CONCATENATE(V5," / ",BK5))) -> #VALUE! | BM5: =IF(BL5="","",(VLOOKUP(BL5,Table_corresp!$J$3:$M$70,2,0))) -> #VALUE! | BN5: =IF(BL5="","",(VLOOKUP(BL5,Table_corresp!$J$3:$M$70,3,0))) -> #VALUE! | BO5: =IF(BL5="","",(VLOOKUP(BL5,Table_corresp!$J$3:$M$70,4,0))) -> #VALUE! | BP5: =IF(BH5>0,((((BH5/BM5)^BN5)-1)/BO5),"") | BQ5: =IF(BP5="","",BB5-BP5) | BR5: =IF(BQ5="","",IF(BQ5>0.25,"ralentissement",IF(AND(BQ5<=0.25,BQ5>=-0.25),"stable",IF(BQ5<-0.25,"accélération")))) | BS5: =IF(BF5<>0,((YEAR(BF5)-YEAR(AR5))*12+MONTH(BF5)-MONTH(AR5)),"") -> #VALUE! | BW5: =IF(BS5="","",(VLOOKUP(BS5,Table_corresp!$E$3:$F$230,2,0))) -> #VALUE! | BX5: =IF(BW5="","",(CONCATENATE(AF5," / ",BW5))) -> #VALUE! | BY5: =IF(BX5="","",(VLOOKUP(BX5,Table_corresp!$J$3:$M$70,2,0))) -> #VALUE! | BZ5: =IF(BX5="","",(VLOOKUP(BX5,Table_corresp!$J$3:$M$70,3,0))) -> #VALUE! | CA5: =IF(BX5="","",(VLOOKUP(BX5,Table_corresp!$J$3:$M$70,4,0))) -> #VALUE! | CB5: =IF(#REF!>0,((((#REF!/BY5)^BZ5)-1)/CA5),"") -> #REF! | CC5: =IF(CB5="","",BN5-CB5) -> #REF! | CD5: =IF(CC5="","",IF(CC5>0.25,"ralentissement",IF(AND(CC5<=0.25,CC5>=-0.25),"stable",IF(CC5<-0.25,"accélération")))) -> #REF! | CE5: =IF(BR5<>0,((YEAR(BR5)-YEAR(BD5))*12+MONTH(BR5)-MONTH(BD5)),"") -> #VALUE! | CI5: =IF(CE5="","",(VLOOKUP(CE5,Table_corresp!$E$3:$F$230,2,0))) -> #VALUE! | CJ5: =IF(CI5="","",(CONCATENATE(AP5," / ",CI5))) -> #VALUE! | CK5: =IF(CJ5="","",(VLOOKUP(CJ5,Table_corresp!$J$3:$M$70,2,0))) -> #VALUE! | CL5: =IF(CJ5="","",(VLOOKUP(CJ5,Table_corresp!$J$3:$M$70,3,0))) -> #VALUE! | CM5: =IF(CJ5="","",(VLOOKUP(CJ5,Table_corresp!$J$3:$M$70,4,0))) -> #VALUE! | CN5: =IF(#REF!>0,((((#REF!/CK5)^CL5)-1)/CM5),"") -> #REF! | CO5: =IF(CN5="","",BZ5-CN5) -> #REF! | CP5: =IF(CO5="","",IF(CO5>0.25,"ralentissement",IF(AND(CO5<=0.25,CO5>=-0.25),"stable",IF(CO5<-0.25,"accélération")))) -> #REF! | CQ5: =IF(CD5<>0,((YEAR(CD5)-YEAR(BP5))*12+MONTH(CD5)-MONTH(BP5)),"") -> #REF! | CU5: =IF(CQ5="","",(VLOOKUP(CQ5,Table_corresp!$E$3:$F$230,2,0))) -> #REF! | CV5: =IF(CU5="","",(CONCATENATE(BB5," / ",CU5))) -> #REF! | CW5: =IF(CV5="","",(VLOOKUP(CV5,Table_corresp!$J$3:$M$70,2,0))) -> #REF! | CX5: =IF(CV5="","",(VLOOKUP(CV5,Table_corresp!$J$3:$M$70,3,0))) -> #REF! | CY5: =IF(CV5="","",(VLOOKUP(CV5,Table_corresp!$J$3:$M$70,4,0))) -> #REF! | CZ5: =IF(#REF!>0,((((#REF!/CW5)^CX5)-1)/CY5),"") -> #REF! | DA5: =IF(CZ5="","",CL5-CZ5) -> #REF! | DB5: =IF(DA5="","",IF(DA5>0.25,"ralentissement",IF(AND(DA5<=0.25,DA5>=-0.25),"stable",IF(DA5<-0.25,"accélération")))) -> #REF! | DC5: =IF(CP5<>0,((YEAR(CP5)-YEAR(CB5))*12+MONTH(CP5)-MONTH(CB5)),"") -> #REF!
A6: 4 | B6: 2 | F6: 47 | G6: 1.32 | H6: 26.974288 | I6: =VLOOKUP(T6,Table_corresp!$E$3:$F$230,2,0) -> 7.5 | J6: =CONCATENATE(B6," / ",I6) -> 2 / 7,5 | K6: =VLOOKUP(J6,Table_corresp!$J$3:$M$70,2,0) -> 15.32 | L6: =VLOOKUP(J6,Table_corresp!$J$3:$M$70,3,0) -> -0.5 | M6: =VLOOKUP(J6,Table_corresp!$J$3:$M$70,4,0) -> -0.044 | N6: =IF(H6>0,((((H6/K6)^L6)-1)/M6),"") -> 5.5994678 | O6: Obésité | P6: 41757 | Q6: 38981 | R6: =DATEDIF(Q6,TODAY(),"y")&" ans "&DATEDIF(Q6,TODAY(),"ym")&" mois" -> 11 ans 0 mois | S6: =VLOOKUP(R6,Table_corresp!$A$3:$B$230,2,0) -> [9-12[ | T6: =DATEDIF(Q6,P6,"y")&" ans "&DATEDIF(Q6,P6,"ym")&" mois" -> 7 ans 7 mois | U6: =VLOOKUP(T6,Table_corresp!$A$3:$B$230,2,0) -> [6-9[ | X6: 42115 | Y6: =IF(X6<>0,(DATEDIF(Q6,X6,"y")&" ans "&DATEDIF(Q6,X6,"ym")&" mois"),"") -> 8 ans 7 mois | Z6: 28.4 | AA6: =IF(Y6="","",(VLOOKUP(Y6,Table_corresp!$E$3:$F$230,2,0))) -> 8.5 | AB6: =IF(AA6="","",(CONCATENATE(B6," / ",AA6))) -> 2 / 8,5 | AC6: =IF(AB6="","",(VLOOKUP(AB6,Table_corresp!$J$3:$M$70,2,0))) -> 15.59 | AD6: =IF(AB6="","",(VLOOKUP(AB6,Table_corresp!$J$3:$M$70,3,0))) -> -0.57 | AE6: =IF(AB6="","",(VLOOKUP(AB6,Table_corresp!$J$3:$M$70,4,0))) -> -0.0534 | AF6: =IF(Z6>0,((((Z6/AC6)^AD6)-1)/AE6),"") -> 5.422367 | AG6: =IF(AF6="","",N6-AF6) -> 0.17710083 | AH6: =IF(AG6="","",IF(AG6>0.25,"ralentissement",IF(AND(AG6<=0.25,AG6>=-0.25),"stable",IF(AG6<-0.25,"accélération")))) -> stable | AI6: =IF(X6<>0,((YEAR(X6)-YEAR(P6))*12+MONTH(X6)-MONTH(P6)),"") -> 12 | AJ6: 42419 | AK6: =IF(AJ6<>0,(DATEDIF(Q6,AJ6,"y")&" ans "&DATEDIF(Q6,AJ6,"ym")&" mois"),"") -> 9 ans 4 mois | AL6: 28.5 | AM6: =IF(AK6="","",(VLOOKUP(AK6,Table_corresp!$E$3:$F$230,2,0))) -> 9 | AN6: =IF(AM6="","",(CONCATENATE(B6," / ",AM6))) -> 2 / 9 | AO6: =IF(AN6="","",(VLOOKUP(AN6,Table_corresp!$J$3:$M$70,2,0))) -> 15.76 | AP6: =IF(AN6="","",(VLOOKUP(AN6,Table_corresp!$J$3:$M$70,3,0))) -> -0.61 | AQ6: =IF(AN6="","",(VLOOKUP(AN6,Table_corresp!$J$3:$M$70,4,0))) -> -0.059 | AR6: =IF(AL6>0,((((AL6/AO6)^AP6)-1)/AQ6),"") -> 5.1404573 | AS6: =IF(AR6="","",AF6-AR6) -> 0.28190963 | AT6: =IF(AS6="","",IF(AS6>0.25,"ralentissement",IF(AND(AS6<=0.25,AS6>=-0.25),"stable",IF(AS6<-0.25,"accélération")))) -> ralentissement | AU6: =IF(AJ6<>0,((YEAR(AJ6)-YEAR(X6))*12+MONTH(AJ6)-MONTH(X6)),"") -> 10 | AY6: =IF(AU6="","",(VLOOKUP(AU6,Table_corresp!$E$3:$F$230,2,0))) -> #N/A | AZ6: =IF(AY6="","",(CONCATENATE(L6," / ",AY6))) -> #N/A | BA6: =IF(AZ6="","",(VLOOKUP(AZ6,Table_corresp!$J$3:$M$70,2,0))) -> #N/A | BB6: =IF(AZ6="","",(VLOOKUP(AZ6,Table_corresp!$J$3:$M$70,3,0))) -> #N/A | BC6: =IF(AZ6="","",(VLOOKUP(AZ6,Table_corresp!$J$3:$M$70,4,0))) -> #N/A | BD6: =IF(AV6>0,((((AV6/BA6)^BB6)-1)/BC6),"") | BE6: =IF(BD6="","",AP6-BD6) | BF6: =IF(BE6="","",IF(BE6>0.25,"ralentissement",IF(AND(BE6<=0.25,BE6>=-0.25),"stable",IF(BE6<-0.25,"accélération")))) | BG6: =IF(AT6<>0,((YEAR(AT6)-YEAR(AH6))*12+MONTH(AT6)-MONTH(AH6)),"") -> #VALUE! | BK6: =IF(BG6="","",(VLOOKUP(BG6,Table_corresp!$E$3:$F$230,2,0))) -> #VALUE! | BL6: =IF(BK6="","",(CONCATENATE(V6," / ",BK6))) -> #VALUE! | BM6: =IF(BL6="","",(VLOOKUP(BL6,Table_corresp!$J$3:$M$70,2,0))) -> #VALUE! | BN6: =IF(BL6="","",(VLOOKUP(BL6,Table_corresp!$J$3:$M$70,3,0))) -> #VALUE! | BO6: =IF(BL6="","",(VLOOKUP(BL6,Table_corresp!$J$3:$M$70,4,0))) -> #VALUE! | BP6: =IF(BH6>0,((((BH6/BM6)^BN6)-1)/BO6),"") | BQ6: =IF(BP6="","",BB6-BP6) | BR6: =IF(BQ6="","",IF(BQ6>0.25,"ralentissement",IF(AND(BQ6<=0.25,BQ6>=-0.25),"stable",IF(BQ6<-0.25,"accélération")))) | BS6: =IF(BF6<>0,((YEAR(BF6)-YEAR(AR6))*12+MONTH(BF6)-MONTH(AR6)),"") -> #VALUE! | BW6: =IF(BS6="","",(VLOOKUP(BS6,Table_corresp!$E$3:$F$230,2,0))) -> #VALUE! | BX6: =IF(BW6="","",(CONCATENATE(AF6," / ",BW6))) -> #VALUE! | BY6: =IF(BX6="","",(VLOOKUP(BX6,Table_corresp!$J$3:$M$70,2,0))) -> #VALUE! | BZ6: =IF(BX6="","",(VLOOKUP(BX6,Table_corresp!$J$3:$M$70,3,0))) -> #VALUE! | CA6: =IF(BX6="","",(VLOOKUP(BX6,Table_corresp!$J$3:$M$70,4,0))) -> #VALUE! | CB6: =IF(#REF!>0,((((#REF!/BY6)^BZ6)-1)/CA6),"") -> #REF! | CC6: =IF(CB6="","",BN6-CB6) -> #REF! | CD6: =IF(CC6="","",IF(CC6>0.25,"ralentissement",IF(AND(CC6<=0.25,CC6>=-0.25),"stable",IF(CC6<-0.25,"accélération")))) -> #REF! | CE6: =IF(BR6<>0,((YEAR(BR6)-YEAR(BD6))*12+MONTH(BR6)-MONTH(BD6)),"") -> #VALUE! | CI6: =IF(CE6="","",(VLOOKUP(CE6,Table_corresp!$E$3:$F$230,2,0))) -> #VALUE! | CJ6: =IF(CI6="","",(CONCATENATE(AP6," / ",CI6))) -> #VALUE! | CK6: =IF(CJ6="","",(VLOOKUP(CJ6,Table_corresp!$J$3:$M$70,2,0))) -> #VALUE! | CL6: =IF(CJ6="","",(VLOOKUP(CJ6,Table_corresp!$J$3:$M$70,3,0))) -> #VALUE! | CM6: =IF(CJ6="","",(VLOOKUP(CJ6,Table_corresp!$J$3:$M$70,4,0))) -> #VALUE! | CN6: =IF(#REF!>0,((((#REF!/CK6)^CL6)-1)/CM6),"") -> #REF! | CO6: =IF(CN6="","",BZ6-CN6) -> #REF! | CP6: =IF(CO6="","",IF(CO6>0.25,"ralentissement",IF(AND(CO6<=0.25,CO6>=-0.25),"stable",IF(CO6<-0.25,"accélération")))) -> #REF! | CQ6: =IF(CD6<>0,((YEAR(CD6)-YEAR(BP6))*12+MONTH(CD6)-MONTH(BP6)),"") -> #REF! | CU6: =IF(CQ6="","",(VLOOKUP(CQ6,Table_corresp!$E$3:$F$230,2,0))) -> #REF! | CV6: =IF(CU6="","",(CONCATENATE(BB6," / ",CU6))) -> #REF! | CW6: =IF(CV6="","",(VLOOKUP(CV6,Table_corresp!$J$3:$M$70,2,0))) -> #REF! | CX6: =IF(CV6="","",(VLOOKUP(CV6,Table_corresp!$J$3:$M$70,3,0))) -> #REF! | CY6: =IF(CV6="","",(VLOOKUP(CV6,Table_corresp!$J$3:$M$70,4,0))) -> #REF! | CZ6: =IF(#REF!>0,((((#REF!/CW6)^CX6)-1)/CY6),"") -> #REF! | DA6: =IF(CZ6="","",CL6-CZ6) -> #REF! | DB6: =IF(DA6="","",IF(DA6>0.25,"ralentissement",IF(AND(DA6<=0.25,DA6>=-0.25),"stable",IF(DA6<-0.25,"accélération")))) -> #REF! | DC6: =IF(CP6<>0,((YEAR(CP6)-YEAR(CB6))*12+MONTH(CP6)-MONTH(CB6)),"") -> #REF!
A7: 5 | B7: 2 | F7: 36.6 | G7: 1.245 | H7: 23.612522 | I7: =VLOOKUP(T7,Table_corresp!$E$3:$F$230,2,0) -> 5.5 | J7: =CONCATENATE(B7," / ",I7) -> 2 / 5,5 | K7: =VLOOKUP(J7,Table_corresp!$J$3:$M$70,2,0) -> 15.14 | L7: =VLOOKUP(J7,Table_corresp!$J$3:$M$70,3,0) -> -0.31 | M7: =VLOOKUP(J7,Table_corresp!$J$3:$M$70,4,0) -> -0.0249 | N7: =IF(H7>0,((((H7/K7)^L7)-1)/M7),"") -> 5.1689028 | O7: Obésité | P7: 41758 | Q7: 39705 | R7: =DATEDIF(Q7,TODAY(),"y")&" ans "&DATEDIF(Q7,TODAY(),"ym")&" mois" -> 9 ans 1 mois | S7: =VLOOKUP(R7,Table_corresp!$A$3:$B$230,2,0) -> [9-12[ | T7: =DATEDIF(Q7,P7,"y")&" ans "&DATEDIF(Q7,P7,"ym")&" mois" -> 5 ans 7 mois | U7: =VLOOKUP(T7,Table_corresp!$A$3:$B$230,2,0) -> [3-6[ | X7: 42102 | Y7: =IF(X7<>0,(DATEDIF(Q7,X7,"y")&" ans "&DATEDIF(Q7,X7,"ym")&" mois"),"") -> 6 ans 6 mois | Z7: 23.6 | AA7: =IF(Y7="","",(VLOOKUP(Y7,Table_corresp!$E$3:$F$230,2,0))) -> 6.5 | AB7: =IF(AA7="","",(CONCATENATE(B7," / ",AA7))) -> 2 / 6,5 | AC7: =IF(AB7="","",(VLOOKUP(AB7,Table_corresp!$J$3:$M$70,2,0))) -> 15.16 | AD7: =IF(AB7="","",(VLOOKUP(AB7,Table_corresp!$J$3:$M$70,3,0))) -> -0.41 | AE7: =IF(AB7="","",(VLOOKUP(AB7,Table_corresp!$J$3:$M$70,4,0))) -> -0.0342 | AF7: =IF(Z7>0,((((Z7/AC7)^AD7)-1)/AE7),"") -> 4.8523019 | AG7: =IF(AF7="","",N7-AF7) -> 0.31660096 | AH7: =IF(AG7="","",IF(AG7>0.25,"ralentissement",IF(AND(AG7<=0.25,AG7>=-0.25),"stable",IF(AG7<-0.25,"accélération")))) -> ralentissement | AI7: =IF(X7<>0,((YEAR(X7)-YEAR(P7))*12+MONTH(X7)-MONTH(P7)),"") -> 12 | AJ7: 42382 | AK7: =IF(AJ7<>0,(DATEDIF(Q7,AJ7,"y")&" ans "&DATEDIF(Q7,AJ7,"ym")&" mois"),"") -> 7 ans 3 mois | AL7: 26.5 | AM7: =IF(AK7="","",(VLOOKUP(AK7,Table_corresp!$E$3:$F$230,2,0))) -> 7 | AN7: =IF(AM7="","",(CONCATENATE(B7," / ",AM7))) -> 2 / 7 | AO7: =IF(AN7="","",(VLOOKUP(AN7,Table_corresp!$J$3:$M$70,2,0))) -> 15.22 | AP7: =IF(AN7="","",(VLOOKUP(AN7,Table_corresp!$J$3:$M$70,3,0))) -> -0.45 | AQ7: =IF(AN7="","",(VLOOKUP(AN7,Table_corresp!$J$3:$M$70,4,0))) -> -0.0385 | AR7: =IF(AL7>0,((((AL7/AO7)^AP7)-1)/AQ7),"") -> 5.7361365 | AS7: =IF(AR7="","",AF7-AR7) -> -0.88383459 | AT7: =IF(AS7="","",IF(AS7>0.25,"ralentissement",IF(AND(AS7<=0.25,AS7>=-0.25),"stable",IF(AS7<-0.25,"accélération")))) -> accélération | AU7: =IF(AJ7<>0,((YEAR(AJ7)-YEAR(X7))*12+MONTH(AJ7)-MONTH(X7)),"") -> 9 | AY7: =IF(AU7="","",(VLOOKUP(AU7,Table_corresp!$E$3:$F$230,2,0))) -> #N/A | AZ7: =IF(AY7="","",(CONCATENATE(L7," / ",AY7))) -> #N/A | BA7: =IF(AZ7="","",(VLOOKUP(AZ7,Table_corresp!$J$3:$M$70,2,0))) -> #N/A | BB7: =IF(AZ7="","",(VLOOKUP(AZ7,Table_corresp!$J$3:$M$70,3,0))) -> #N/A | BC7: =IF(AZ7="","",(VLOOKUP(AZ7,Table_corresp!$J$3:$M$70,4,0))) -> #N/A | BD7: =IF(AV7>0,((((AV7/BA7)^BB7)-1)/BC7),"") | BE7: =IF(BD7="","",AP7-BD7) | BF7: =IF(BE7="","",IF(BE7>0.25,"ralentissement",IF(AND(BE7<=0.25,BE7>=-0.25),"stable",IF(BE7<-0.25,"accélération")))) | BG7: =IF(AT7<>0,((YEAR(AT7)-YEAR(AH7))*12+MONTH(AT7)-MONTH(AH7)),"") -> #VALUE! | BK7: =IF(BG7="","",(VLOOKUP(BG7,Table_corresp!$E$3:$F$230,2,0))) -> #VALUE! | BL7: =IF(BK7="","",(CONCATENATE(V7," / ",BK7))) -> #VALUE! | BM7: =IF(BL7="","",(VLOOKUP(BL7,Table_corresp!$J$3:$M$70,2,0))) -> #VALUE! | BN7: =IF(BL7="","",(VLOOKUP(BL7,Table_corresp!$J$3:$M$70,3,0))) -> #VALUE! | BO7: =IF(BL7="","",(VLOOKUP(BL7,Table_corresp!$J$3:$M$70,4,0))) -> #VALUE! | BP7: =IF(BH7>0,((((BH7/BM7)^BN7)-1)/BO7),"") | BQ7: =IF(BP7="","",BB7-BP7) | BR7: =IF(BQ7="","",IF(BQ7>0.25,"ralentissement",IF(AND(BQ7<=0.25,BQ7>=-0.25),"stable",IF(BQ7<-0.25,"accélération")))) | BS7: =IF(BF7<>0,((YEAR(BF7)-YEAR(AR7))*12+MONTH(BF7)-MONTH(AR7)),"") -> #VALUE! | BW7: =IF(BS7="","",(VLOOKUP(BS7,Table_corresp!$E$3:$F$230,2,0))) -> #VALUE! | BX7: =IF(BW7="","",(CONCATENATE(AF7," / ",BW7))) -> #VALUE! | BY7: =IF(BX7="","",(VLOOKUP(BX7,Table_corresp!$J$3:$M$70,2,0))) -> #VALUE! | BZ7: =IF(BX7="","",(VLOOKUP(BX7,Table_corresp!$J$3:$M$70,3,0))) -> #VALUE! | CA7: =IF(BX7="","",(VLOOKUP(BX7,Table_corresp!$J$3:$M$70,4,0))) -> #VALUE! | CB7: =IF(#REF!>0,((((#REF!/BY7)^BZ7)-1)/CA7),"") -> #REF! | CC7: =IF(CB7="","",BN7-CB7) -> #REF! | CD7: =IF(CC7="","",IF(CC7>0.25,"ralentissement",IF(AND(CC7<=0.25,CC7>=-0.25),"stable",IF(CC7<-0.25,"accélération")))) -> #REF! | CE7: =IF(BR7<>0,((YEAR(BR7)-YEAR(BD7))*12+MONTH(BR7)-MONTH(BD7)),"") -> #VALUE! | CI7: =IF(CE7="","",(VLOOKUP(CE7,Table_corresp!$E$3:$F$230,2,0))) -> #VALUE! | CJ7: =IF(CI7="","",(CONCATENATE(AP7," / ",CI7))) -> #VALUE! | CK7: =IF(CJ7="","",(VLOOKUP(CJ7,Table_corresp!$J$3:$M$70,2,0))) -> #VALUE! | CL7: =IF(CJ7="","",(VLOOKUP(CJ7,Table_corresp!$J$3:$M$70,3,0))) -> #VALUE! | CM7: =IF(CJ7="","",(VLOOKUP(CJ7,Table_corresp!$J$3:$M$70,4,0))) -> #VALUE! | CN7: =IF(#REF!>0,((((#REF!/CK7)^CL7)-1)/CM7),"") -> #REF! | CO7: =IF(CN7="","",BZ7-CN7) -> #REF! | CP7: =IF(CO7="","",IF(CO7>0.25,"ralentissement",IF(AND(CO7<=0.25,CO7>=-0.25),"stable",IF(CO7<-0.25,"accélération")))) -> #REF! | CQ7: =IF(CD7<>0,((YEAR(CD7)-YEAR(BP7))*12+MONTH(CD7)-MONTH(BP7)),"") -> #REF! | CU7: =IF(CQ7="","",(VLOOKUP(CQ7,Table_corresp!$E$3:$F$230,2,0))) -> #REF! | CV7: =IF(CU7="","",(CONCATENATE(BB7," / ",CU7))) -> #REF! | CW7: =IF(CV7="","",(VLOOKUP(CV7,Table_corresp!$J$3:$M$70,2,0))) -> #REF! | CX7: =IF(CV7="","",(VLOOKUP(CV7,Table_corresp!$J$3:$M$70,3,0))) -> #REF! | CY7: =IF(CV7="","",(VLOOKUP(CV7,Table_corresp!$J$3:$M$70,4,0))) -> #REF! | CZ7: =IF(#REF!>0,((((#REF!/CW7)^CX7)-1)/CY7),"") -> #REF! | DA7: =IF(CZ7="","",CL7-CZ7) -> #REF! | DB7: =IF(DA7="","",IF(DA7>0.25,"ralentissement",IF(AND(DA7<=0.25,DA7>=-0.25),"stable",IF(DA7<-0.25,"accélération")))) -> #REF! | DC7: =IF(CP7<>0,((YEAR(CP7)-YEAR(CB7))*12+MONTH(CP7)-MONTH(CB7)),"") -> #REF!
A8: 6 | B8: 2 | F8: 32 | G8: 1.295 | H8: 19.081409 | I8: =VLOOKUP(T8,Table_corresp!$E$3:$F$230,2,0) -> 7 | J8: =CONCATENATE(B8," / ",I8) -> 2 / 7 | K8: =VLOOKUP(J8,Table_corresp!$J$3:$M$70,2,0) -> 15.22 | L8: =VLOOKUP(J8,Table_corresp!$J$3:$M$70,3,0) -> -0.45 | M8: =VLOOKUP(J8,Table_corresp!$J$3:$M$70,4,0) -> -0.0385 | N8: =IF(H8>0,((((H8/K8)^L8)-1)/M8),"") -> 2.512775 | O8: Surpoids | P8: 41759 | Q8: 39170 | R8: =DATEDIF(Q8,TODAY(),"y")&" ans "&DATEDIF(Q8,TODAY(),"ym")&" mois" -> 10 ans 6 mois | S8: =VLOOKUP(R8,Table_corresp!$A$3:$B$230,2,0) -> [9-12[ | T8: =DATEDIF(Q8,P8,"y")&" ans "&DATEDIF(Q8,P8,"ym")&" mois" -> 7 ans 1 mois | U8: =VLOOKUP(T8,Table_corresp!$A$3:$B$230,2,0) -> [6-9[ | Y8: =IF(X8<>0,(DATEDIF(Q8,X8,"y")&" ans "&DATEDIF(Q8,X8,"ym")&" mois"),"") | AA8: =IF(Y8="","",(VLOOKUP(Y8,Table_corresp!$E$3:$F$230,2,0))) | AB8: =IF(AA8="","",(CONCATENATE(B8," / ",AA8))) | AC8: =IF(AB8="","",(VLOOKUP(AB8,Table_corresp!$J$3:$M$70,2,0))) | AD8: =IF(AB8="","",(VLOOKUP(AB8,Table_corresp!$J$3:$M$70,3,0))) | AE8: =IF(AB8="","",(VLOOKUP(AB8,Table_corresp!$J$3:$M$70,4,0))) | AF8: =IF(Z8>0,((((Z8/AC8)^AD8)-1)/AE8),"") | AG8: =IF(AF8="","",N8-AF8) | AH8: =IF(AG8="","",IF(AG8>0.25,"ralentissement",IF(AND(AG8<=0.25,AG8>=-0.25),"stable",IF(AG8<-0.25,"accélération")))) | AI8: =IF(X8<>0,((YEAR(X8)-YEAR(P8))*12+MONTH(X8)-MONTH(P8)),"") | AK8: =IF(AJ8<>0,(DATEDIF(Q8,AJ8,"y")&" ans "&DATEDIF(Q8,AJ8,"ym")&" mois"),"") | AM8: =IF(AK8="","",(VLOOKUP(AK8,Table_corresp!$E$3:$F$230,2,0))) | AN8: =IF(AM8="","",(CONCATENATE(B8," / ",AM8))) | AO8: =IF(AN8="","",(VLOOKUP(AN8,Table_corresp!$J$3:$M$70,2,0))) | AP8: =IF(AN8="","",(VLOOKUP(AN8,Table_corresp!$J$3:$M$70,3,0))) | AQ8: =IF(AN8="","",(VLOOKUP(AN8,Table_corresp!$J$3:$M$70,4,0))) | AR8: =IF(AL8>0,((((AL8/AO8)^AP8)-1)/AQ8),"") | AS8: =IF(AR8="","",AF8-AR8) | AT8: =IF(AS8="","",IF(AS8>0.25,"ralentissement",IF(AND(AS8<=0.25,AS8>=-0.25),"stable",IF(AS8<-0.25,"accélération")))) | AU8: =IF(AJ8<>0,((YEAR(AJ8)-YEAR(X8))*12+MONTH(AJ8)-MONTH(X8)),"") | AY8: =IF(AU8="","",(VLOOKUP(AU8,Table_corresp!$E$3:$F$230,2,0))) | AZ8: =IF(AY8="","",(CONCATENATE(L8," / ",AY8))) | BA8: =IF(AZ8="","",(VLOOKUP(AZ8,Table_corresp!$J$3:$M$70,2,0))) | BB8: =IF(AZ8="","",(VLOOKUP(AZ8,Table_corresp!$J$3:$M$70,3,0))) | BC8: =IF(AZ8="","",(VLOOKUP(AZ8,Table_corresp!$J$3:$M$70,4,0))) | BD8: =IF(AV8>0,((((AV8/BA8)^BB8)-1)/BC8),"") | BE8: =IF(BD8="","",AP8-BD8) | BF8: =IF(BE8="","",IF(BE8>0.25,"ralentissement",IF(AND(BE8<=0.25,BE8>=-0.25),"stable",IF(BE8<-0.25,"accélération")))) | BG8: =IF(AT8<>0,((YEAR(AT8)-YEAR(AH8))*12+MONTH(AT8)-MONTH(AH8)),"") -> #VALUE! | BK8: =IF(BG8="","",(VLOOKUP(BG8,Table_corresp!$E$3:$F$230,2,0))) -> #VALUE! | BL8: =IF(BK8="","",(CONCATENATE(V8," / ",BK8))) -> #VALUE! | BM8: =IF(BL8="","",(VLOOKUP(BL8,Table_corresp!$J$3:$M$70,2,0))) -> #VALUE! | BN8: =IF(BL8="","",(VLOOKUP(BL8,Table_corresp!$J$3:$M$70,3,0))) -> #VALUE! | BO8: =IF(BL8="","",(VLOOKUP(BL8,Table_corresp!$J$3:$M$70,4,0))) -> #VALUE! | BP8: =IF(BH8>0,((((BH8/BM8)^BN8)-1)/BO8),"") | BQ8: =IF(BP8="","",BB8-BP8) | BR8: =IF(BQ8="","",IF(BQ8>0.25,"ralentissement",IF(AND(BQ8<=0.25,BQ8>=-0.25),"stable",IF(BQ8<-0.25,"accélération")))) | BS8: =IF(BF8<>0,((YEAR(BF8)-YEAR(AR8))*12+MONTH(BF8)-MONTH(AR8)),"") -> #VALUE! | BW8: =IF(BS8="","",(VLOOKUP(BS8,Table_corresp!$E$3:$F$230,2,0))) -> #VALUE! | BX8: =IF(BW8="","",(CONCATENATE(AF8," / ",BW8))) -> #VALUE! | BY8: =IF(BX8="","",(VLOOKUP(BX8,Table_corresp!$J$3:$M$70,2,0))) -> #VALUE! | BZ8: =IF(BX8="","",(VLOOKUP(BX8,Table_corresp!$J$3:$M$70,3,0))) -> #VALUE! | CA8: =IF(BX8="","",(VLOOKUP(BX8,Table_corresp!$J$3:$M$70,4,0))) -> #VALUE! | CB8: =IF(#REF!>0,((((#REF!/BY8)^BZ8)-1)/CA8),"") -> #REF! | CC8: =IF(CB8="","",BN8-CB8) -> #REF! | CD8: =IF(CC8="","",IF(CC8>0.25,"ralentissement",IF(AND(CC8<=0.25,CC8>=-0.25),"stable",IF(CC8<-0.25,"accélération")))) -> #REF! | CE8: =IF(BR8<>0,((YEAR(BR8)-YEAR(BD8))*12+MONTH(BR8)-MONTH(BD8)),"") -> #VALUE! | CI8: =IF(CE8="","",(VLOOKUP(CE8,Table_corresp!$E$3:$F$230,2,0))) -> #VALUE! | CJ8: =IF(CI8="","",(CONCATENATE(AP8," / ",CI8))) -> #VALUE! | CK8: =IF(CJ8="","",(VLOOKUP(CJ8,Table_corresp!$J$3:$M$70,2,0))) -> #VALUE! | CL8: =IF(CJ8="","",(VLOOKUP(CJ8,Table_corresp!$J$3:$M$70,3,0))) -> #VALUE! | CM8: =IF(CJ8="","",(VLOOKUP(CJ8,Table_corresp!$J$3:$M$70,4,0))) -> #VALUE! | CN8: =IF(#REF!>0,((((#REF!/CK8)^CL8)-1)/CM8),"") -> #REF! | CO8: =IF(CN8="","",BZ8-CN8) -> #REF! | CP8: =IF(CO8="","",IF(CO8>0.25,"ralentissement",IF(AND(CO8<=0.25,CO8>=-0.25),"stable",IF(CO8<-0.25,"accélération")))) -> #REF! | CQ8: =IF(CD8<>0,((YEAR(CD8)-YEAR(BP8))*12+MONTH(CD8)-MONTH(BP8)),"") -> #REF! | CU8: =IF(CQ8="","",(VLOOKUP(CQ8,Table_corresp!$E$3:$F$230,2,0))) -> #REF! | CV8: =IF(CU8="","",(CONCATENATE(BB8," / ",CU8))) -> #REF! | CW8: =IF(CV8="","",(VLOOKUP(CV8,Table_corresp!$J$3:$M$70,2,0))) -> #REF! | CX8: =IF(CV8="","",(VLOOKUP(CV8,Table_corresp!$J$3:$M$70,3,0))) -> #REF! | CY8: =IF(CV8="","",(VLOOKUP(CV8,Table_corresp!$J$3:$M$70,4,0))) -> #REF! | CZ8: =IF(#REF!>0,((((#REF!/CW8)^CX8)-1)/CY8),"") -> #REF! | DA8: =IF(CZ8="","",CL8-CZ8) -> #REF! | DB8: =IF(DA8="","",IF(DA8>0.25,"ralentissement",IF(AND(DA8<=0.25,DA8>=-0.25),"stable",IF(DA8<-0.25,"accélération")))) -> #REF! | DC8: =IF(CP8<>0,((YEAR(CP8)-YEAR(CB8))*12+MONTH(CP8)-MONTH(CB8)),"") -> #REF!
A9: 7 | B9: 2 | F9: 60 | G9: 1.39 | H9: 31.054293 | I9: =VLOOKUP(T9,Table_corresp!$E$3:$F$230,2,0) -> 8.5 | J9: =CONCATENATE(B9," / ",I9) -> 2 / 8,5 | K9: =VLOOKUP(J9,Table_corresp!$J$3:$M$70,2,0) -> 15.59 | L9: =VLOOKUP(J9,Table_corresp!$J$3:$M$70,3,0) -> -0.57 | M9: =VLOOKUP(J9,Table_corresp!$J$3:$M$70,4,0) -> -0.0534 | N9: =IF(H9>0,((((H9/K9)^L9)-1)/M9),"") -> 6.0829644 | O9: Obésité | P9: 41759 | Q9: 38577 | R9: =DATEDIF(Q9,TODAY(),"y")&" ans "&DATEDIF(Q9,TODAY(),"ym")&" mois" -> 12 ans 2 mois | S9: =VLOOKUP(R9,Table_corresp!$A$3:$B$230,2,0) -> > 12 | T9: =DATEDIF(Q9,P9,"y")&" ans "&DATEDIF(Q9,P9,"ym")&" mois" -> 8 ans 8 mois | U9: =VLOOKUP(T9,Table_corresp!$A$3:$B$230,2,0) -> [6-9[ | Y9: =IF(X9<>0,(DATEDIF(Q9,X9,"y")&" ans "&DATEDIF(Q9,X9,"ym")&" mois"),"") | AA9: =IF(Y9="","",(VLOOKUP(Y9,Table_corresp!$E$3:$F$230,2,0))) | AB9: =IF(AA9="","",(CONCATENATE(B9," / ",AA9))) | AC9: =IF(AB9="","",(VLOOKUP(AB9,Table_corresp!$J$3:$M$70,2,0))) | AD9: =IF(AB9="","",(VLOOKUP(AB9,Table_corresp!$J$3:$M$70,3,0))) | AE9: =IF(AB9="","",(VLOOKUP(AB9,Table_corresp!$J$3:$M$70,4,0))) | AF9: =IF(Z9>0,((((Z9/AC9)^AD9)-1)/AE9),"") | AG9: =IF(AF9="","",N9-AF9) | AH9: =IF(AG9="","",IF(AG9>0.25,"ralentissement",IF(AND(AG9<=0.25,AG9>=-0.25),"stable",IF(AG9<-0.25,"accélération")))) | AI9: =IF(X9<>0,((YEAR(X9)-YEAR(P9))*12+MONTH(X9)-MONTH(P9)),"") | AK9: =IF(AJ9<>0,(DATEDIF(Q9,AJ9,"y")&" ans "&DATEDIF(Q9,AJ9,"ym")&" mois"),"") | AM9: =IF(AK9="","",(VLOOKUP(AK9,Table_corresp!$E$3:$F$230,2,0))) | AN9: =IF(AM9="","",(CONCATENATE(B9," / ",AM9))) | AO9: =IF(AN9="","",(VLOOKUP(AN9,Table_corresp!$J$3:$M$70,2,0))) | AP9: =IF(AN9="","",(VLOOKUP(AN9,Table_corresp!$J$3:$M$70,3,0))) | AQ9: =IF(AN9="","",(VLOOKUP(AN9,Table_corresp!$J$3:$M$70,4,0))) | AR9: =IF(AL9>0,((((AL9/AO9)^AP9)-1)/AQ9),"") | AS9: =IF(AR9="","",AF9-AR9) | AT9: =IF(AS9="","",IF(AS9>0.25,"ralentissement",IF(AND(AS9<=0.25,AS9>=-0.25),"stable",IF(AS9<-0.25,"accélération")))) | AU9: =IF(AJ9<>0,((YEAR(AJ9)-YEAR(X9))*12+MONTH(AJ9)-MONTH(X9)),"") | AY9: =IF(AU9="","",(VLOOKUP(AU9,Table_corresp!$E$3:$F$230,2,0))) | AZ9: =IF(AY9="","",(CONCATENATE(L9," / ",AY9))) | BA9: =IF(AZ9="","",(VLOOKUP(AZ9,Table_corresp!$J$3:$M$70,2,0))) | BB9: =IF(AZ9="","",(VLOOKUP(AZ9,Table_corresp!$J$3:$M$70,3,0))) | BC9: =IF(AZ9="","",(VLOOKUP(AZ9,Table_corresp!$J$3:$M$70,4,0))) | BD9: =IF(AV9>0,((((AV9/BA9)^BB9)-1)/BC9),"") | BE9: =IF(BD9="","",AP9-BD9) | BF9: =IF(BE9="","",IF(BE9>0.25,"ralentissement",IF(AND(BE9<=0.25,BE9>=-0.25),"stable",IF(BE9<-0.25,"accélération")))) | BG9: =IF(AT9<>0,((YEAR(AT9)-YEAR(AH9))*12+MONTH(AT9)-MONTH(AH9)),"") -> #VALUE! | BK9: =IF(BG9="","",(VLOOKUP(BG9,Table_corresp!$E$3:$F$230,2,0))) -> #VALUE! | BL9: =IF(BK9="","",(CONCATENATE(V9," / ",BK9))) -> #VALUE! | BM9: =IF(BL9="","",(VLOOKUP(BL9,Table_corresp!$J$3:$M$70,2,0))) -> #VALUE! | BN9: =IF(BL9="","",(VLOOKUP(BL9,Table_corresp!$J$3:$M$70,3,0))) -> #VALUE! | BO9: =IF(BL9="","",(VLOOKUP(BL9,Table_corresp!$J$3:$M$70,4,0))) -> #VALUE! | BP9: =IF(BH9>0,((((BH9/BM9)^BN9)-1)/BO9),"") | BQ9: =IF(BP9="","",BB9-BP9) | BR9: =IF(BQ9="","",IF(BQ9>0.25,"ralentissement",IF(AND(BQ9<=0.25,BQ9>=-0.25),"stable",IF(BQ9<-0.25,"accélération")))) | BS9: =IF(BF9<>0,((YEAR(BF9)-YEAR(AR9))*12+MONTH(BF9)-MONTH(AR9)),"") -> #VALUE! | BW9: =IF(BS9="","",(VLOOKUP(BS9,Table_corresp!$E$3:$F$230,2,0))) -> #VALUE! | BX9: =IF(BW9="","",(CONCATENATE(AF9," / ",BW9))) -> #VALUE! | BY9: =IF(BX9="","",(VLOOKUP(BX9,Table_corresp!$J$3:$M$70,2,0))) -> #VALUE! | BZ9: =IF(BX9="","",(VLOOKUP(BX9,Table_corresp!$J$3:$M$70,3,0))) -> #VALUE! | CA9: =IF(BX9="","",(VLOOKUP(BX9,Table_corresp!$J$3:$M$70,4,0))) -> #VALUE! | CB9: =IF(#REF!>0,((((#REF!/BY9)^BZ9)-1)/CA9),"") -> #REF! | CC9: =IF(CB9="","",BN9-CB9) -> #REF! | CD9: =IF(CC9="","",IF(CC9>0.25,"ralentissement",IF(AND(CC9<=0.25,CC9>=-0.25),"stable",IF(CC9<-0.25,"accélération")))) -> #REF! | CE9: =IF(BR9<>0,((YEAR(BR9)-YEAR(BD9))*12+MONTH(BR9)-MONTH(BD9)),"") -> #VALUE! | CI9: =IF(CE9="","",(VLOOKUP(CE9,Table_corresp!$E$3:$F$230,2,0))) -> #VALUE! | CJ9: =IF(CI9="","",(CONCATENATE(AP9," / ",CI9))) -> #VALUE! | CK9: =IF(CJ9="","",(VLOOKUP(CJ9,Table_corresp!$J$3:$M$70,2,0))) -> #VALUE! | CL9: =IF(CJ9="","",(VLOOKUP(CJ9,Table_corresp!$J$3:$M$70,3,0))) -> #VALUE! | CM9: =IF(CJ9="","",(VLOOKUP(CJ9,Table_corresp!$J$3:$M$70,4,0))) -> #VALUE! | CN9: =IF(#REF!>0,((((#REF!/CK9)^CL9)-1)/CM9),"") -> #REF! | CO9: =IF(CN9="","",BZ9-CN9) -> #REF! | CP9: =IF(CO9="","",IF(CO9>0.25,"ralentissement",IF(AND(CO9<=0.25,CO9>=-0.25),"stable",IF(CO9<-0.25,"accélération")))) -> #REF! | CQ9: =IF(CD9<>0,((YEAR(CD9)-YEAR(BP9))*12+MONTH(CD9)-MONTH(BP9)),"") -> #REF! | CU9: =IF(CQ9="","",(VLOOKUP(CQ9,Table_corresp!$E$3:$F$230,2,0))) -> #REF! | CV9: =IF(CU9="","",(CONCATENATE(BB9," / ",CU9))) -> #REF! | CW9: =IF(CV9="","",(VLOOKUP(CV9,Table_corresp!$J$3:$M$70,2,0))) -> #REF! | CX9: =IF(CV9="","",(VLOOKUP(CV9,Table_corresp!$J$3:$M$70,3,0))) -> #REF! | CY9: =IF(CV9="","",(VLOOKUP(CV9,Table_corresp!$J$3:$M$70,4,0))) -> #REF! | CZ9: =IF(#REF!>0,((((#REF!/CW9)^CX9)-1)/CY9),"") -> #REF! | DA9: =IF(CZ9="","",CL9-CZ9) -> #REF! | DB9: =IF(DA9="","",IF(DA9>0.25,"ralentissement",IF(AND(DA9<=0.25,DA9>=-0.25),"stable",IF(DA9<-0.25,"accélération")))) -> #REF! | DC9: =IF(CP9<>0,((YEAR(CP9)-YEAR(CB9))*12+MONTH(CP9)-MONTH(CB9)),"") -> #REF!
A10: 8 | B10: 2 | F10: 82 | G10: 1.63 | H10: 30.863036 | I10: =VLOOKUP(T10,Table_corresp!$E$3:$F$230,2,0) -> 11.5 | J10: =CONCATENATE(B10," / ",I10) -> 2 / 11,5 | K10: =VLOOKUP(J10,Table_corresp!$J$3:$M$70,2,0) -> 17.04 | L10: =VLOOKUP(J10,Table_corresp!$J$3:$M$70,3,0) -> -0.73 | M10: =VLOOKUP(J10,Table_corresp!$J$3:$M$70,4,0) -> -0.0818 | N10: =IF(H10>0,((((H10/K10)^L10)-1)/M10),"") -> 4.3012158 | O10: Obésité | P10: 41759 | Q10: 37496 | R10: =DATEDIF(Q10,TODAY(),"y")&" ans "&DATEDIF(Q10,TODAY(),"ym")&" mois" -> 15 ans 1 mois | S10: =VLOOKUP(R10,Table_corresp!$A$3:$B$230,2,0) -> > 12 | T10: =DATEDIF(Q10,P10,"y")&" ans "&DATEDIF(Q10,P10,"ym")&" mois" -> 11 ans 8 mois | U10: =VLOOKUP(T10,Table_corresp!$A$3:$B$230,2,0) -> [9-12[ | X10: 42081 | Y10: =IF(X10<>0,(DATEDIF(Q10,X10,"y")&" ans "&DATEDIF(Q10,X10,"ym")&" mois"),"") -> 12 ans 6 mois | Z10: 31.5 | AA10: =IF(Y10="","",(VLOOKUP(Y10,Table_corresp!$E$3:$F$230,2,0))) -> 12.5 | AB10: =IF(AA10="","",(CONCATENATE(B10," / ",AA10))) -> 2 / 12,5 | AC10: =IF(AB10="","",(VLOOKUP(AB10,Table_corresp!$J$3:$M$70,2,0))) -> 17.74 | AD10: =IF(AB10="","",(VLOOKUP(AB10,Table_corresp!$J$3:$M$70,3,0))) -> -0.77 | AE10: =IF(AB10="","",(VLOOKUP(AB10,Table_corresp!$J$3:$M$70,4,0))) -> -0.0896 | AF10: =IF(Z10>0,((((Z10/AC10)^AD10)-1)/AE10),"") -> 3.9879403 | AG10: =IF(AF10="","",N10-AF10) -> 0.31327555 | AH10: =IF(AG10="","",IF(AG10>0.25,"ralentissement",IF(AND(AG10<=0.25,AG10>=-0.25),"stable",IF(AG10<-0.25,"accélération")))) -> ralentissement | AI10: =IF(X10<>0,((YEAR(X10)-YEAR(P10))*12+MONTH(X10)-MONTH(P10)),"") -> 11 | AK10: =IF(AJ10<>0,(DATEDIF(Q10,AJ10,"y")&" ans "&DATEDIF(Q10,AJ10,"ym")&" mois"),"") | AM10: =IF(AK10="","",(VLOOKUP(AK10,Table_corresp!$E$3:$F$230,2,0))) | AN10: =IF(AM10="","",(CONCATENATE(B10," / ",AM10))) | AO10: =IF(AN10="","",(VLOOKUP(AN10,Table_corresp!$J$3:$M$70,2,0))) | AP10: =IF(AN10="","",(VLOOKUP(AN10,Table_corresp!$J$3:$M$70,3,0))) | AQ10: =IF(AN10="","",(VLOOKUP(AN10,Table_corresp!$J$3:$M$70,4,0))) | AR10: =IF(AL10>0,((((AL10/AO10)^AP10)-1)/AQ10),"") | AS10: =IF(AR10="","",AF10-AR10) | AT10: =IF(AS10="","",IF(AS10>0.25,"ralentissement",IF(AND(AS10<=0.25,AS10>=-0.25),"stable",IF(AS10<-0.25,"accélération")))) | AU10: =IF(AJ10<>0,((YEAR(AJ10)-YEAR(X10))*12+MONTH(AJ10)-MONTH(X10)),"") | AY10: =IF(AU10="","",(VLOOKUP(AU10,Table_corresp!$E$3:$F$230,2,0))) | AZ10: =IF(AY10="","",(CONCATENATE(L10," / ",AY10))) | BA10: =IF(AZ10="","",(VLOOKUP(AZ10,Table_corresp!$J$3:$M$70,2,0))) | BB10: =IF(AZ10="","",(VLOOKUP(AZ10,Table_corresp!$J$3:$M$70,3,0))) | BC10: =IF(AZ10="","",(VLOOKUP(AZ10,Table_corresp!$J$3:$M$70,4,0))) | BD10: =IF(AV10>0,((((AV10/BA10)^BB10)-1)/BC10),"") | BE10: =IF(BD10="","",AP10-BD10) | BF10: =IF(BE10="","",IF(BE10>0.25,"ralentissement",IF(AND(BE10<=0.25,BE10>=-0.25),"stable",IF(BE10<-0.25,"accélération")))) | BG10: =IF(AT10<>0,((YEAR(AT10)-YEAR(AH10))*12+MONTH(AT10)-MONTH(AH10)),"") -> #VALUE! | BK10: =IF(BG10="","",(VLOOKUP(BG10,Table_corresp!$E$3:$F$230,2,0))) -> #VALUE! | BL10: =IF(BK10="","",(CONCATENATE(V10," / ",BK10))) -> #VALUE! | BM10: =IF(BL10="","",(VLOOKUP(BL10,Table_corresp!$J$3:$M$70,2,0))) -> #VALUE! | BN10: =IF(BL10="","",(VLOOKUP(BL10,Table_corresp!$J$3:$M$70,3,0))) -> #VALUE! | BO10: =IF(BL10="","",(VLOOKUP(BL10,Table_corresp!$J$3:$M$70,4,0))) -> #VALUE! | BP10: =IF(BH10>0,((((BH10/BM10)^BN10)-1)/BO10),"") | BQ10: =IF(BP10="","",BB10-BP10) | BR10: =IF(BQ10="","",IF(BQ10>0.25,"ralentissement",IF(AND(BQ10<=0.25,BQ10>=-0.25),"stable",IF(BQ10<-0.25,"accélération")))) | BS10: =IF(BF10<>0,((YEAR(BF10)-YEAR(AR10))*12+MONTH(BF10)-MONTH(AR10)),"") -> #VALUE! | BW10: =IF(BS10="","",(VLOOKUP(BS10,Table_corresp!$E$3:$F$230,2,0))) -> #VALUE! | BX10: =IF(BW10="","",(CONCATENATE(AF10," / ",BW10))) -> #VALUE! | BY10: =IF(BX10="","",(VLOOKUP(BX10,Table_corresp!$J$3:$M$70,2,0))) -> #VALUE! | BZ10: =IF(BX10="","",(VLOOKUP(BX10,Table_corresp!$J$3:$M$70,3,0))) -> #VALUE! | CA10: =IF(BX10="","",(VLOOKUP(BX10,Table_corresp!$J$3:$M$70,4,0))) -> #VALUE! | CB10: =IF(#REF!>0,((((#REF!/BY10)^BZ10)-1)/CA10),"") -> #REF! | CC10: =IF(CB10="","",BN10-CB10) -> #REF! | CD10: =IF(CC10="","",IF(CC10>0.25,"ralentissement",IF(AND(CC10<=0.25,CC10>=-0.25),"stable",IF(CC10<-0.25,"accélération")))) -> #REF! | CE10: =IF(BR10<>0,((YEAR(BR10)-YEAR(BD10))*12+MONTH(BR10)-MONTH(BD10)),"") -> #VALUE! | CI10: =IF(CE10="","",(VLOOKUP(CE10,Table_corresp!$E$3:$F$230,2,0))) -> #VALUE! | CJ10: =IF(CI10="","",(CONCATENATE(AP10," / ",CI10))) -> #VALUE! | CK10: =IF(CJ10="","",(VLOOKUP(CJ10,Table_corresp!$J$3:$M$70,2,0))) -> #VALUE! | CL10: =IF(CJ10="","",(VLOOKUP(CJ10,Table_corresp!$J$3:$M$70,3,0))) -> #VALUE! | CM10: =IF(CJ10="","",(VLOOKUP(CJ10,Table_corresp!$J$3:$M$70,4,0))) -> #VALUE! | CN10: =IF(#REF!>0,((((#REF!/CK10)^CL10)-1)/CM10),"") -> #REF! | CO10: =IF(CN10="","",BZ10-CN10) -> #REF! | CP10: =IF(CO10="","",IF(CO10>0.25,"ralentissement",IF(AND(CO10<=0.25,CO10>=-0.25),"stable",IF(CO10<-0.25,"accélération")))) -> #REF! | CQ10: =IF(CD10<>0,((YEAR(CD10)-YEAR(BP10))*12+MONTH(CD10)-MONTH(BP10)),"") -> #REF! | CU10: =IF(CQ10="","",(VLOOKUP(CQ10,Table_corresp!$E$3:$F$230,2,0))) -> #REF! | CV10: =IF(CU10="","",(CONCATENATE(BB10," / ",CU10))) -> #REF! | CW10: =IF(CV10="","",(VLOOKUP(CV10,Table_corresp!$J$3:$M$70,2,0))) -> #REF! | CX10: =IF(CV10="","",(VLOOKUP(CV10,Table_corresp!$J$3:$M$70,3,0))) -> #REF! | CY10: =IF(CV10="","",(VLOOKUP(CV10,Table_corresp!$J$3:$M$70,4,0))) -> #REF! | CZ10: =IF(#REF!>0,((((#REF!/CW10)^CX10)-1)/CY10),"") -> #REF! | DA10: =IF(CZ10="","",CL10-CZ10) -> #REF! | DB10: =IF(DA10="","",IF(DA10>0.25,"ralentissement",IF(AND(DA10<=0.25,DA10>=-0.25),"stable",IF(DA10<-0.25,"accélération")))) -> #REF! | DC10: =IF(CP10<>0,((YEAR(CP10)-YEAR(CB10))*12+MONTH(CP10)-MONTH(CB10)),"") -> #REF!
A11: 9 | B11: 2 | F11: 62 | G11: 1.5 | H11: 27.555556 | I11: =VLOOKUP(T11,Table_corresp!$E$3:$F$230,2,0) -> 9 | J11: =CONCATENATE(B11," / ",I11) -> 2 / 9 | K11: =VLOOKUP(J11,Table_corresp!$J$3:$M$70,2,0) -> 15.76 | L11: =VLOOKUP(J11,Table_corresp!$J$3:$M$70,3,0) -> -0.61 | M11: =VLOOKUP(J11,Table_corresp!$J$3:$M$70,4,0) -> -0.059 | N11: =IF(H11>0,((((H11/K11)^L11)-1)/M11),"") -> 4.8951943 | O11: Obésité | P11: 41759 | Q11: 38375 | R11: =DATEDIF(Q11,TODAY(),"y")&" ans "&DATEDIF(Q11,TODAY(),"ym")&" mois" -> 12 ans 8 mois | S11: =VLOOKUP(R11,Table_corresp!$A$3:$B$230,2,0) -> > 12 | T11: =DATEDIF(Q11,P11,"y")&" ans "&DATEDIF(Q11,P11,"ym")&" mois" -> 9 ans 3 mois | U11: =VLOOKUP(T11,Table_corresp!$A$3:$B$230,2,0) -> [9-12[ | X11: 42011 | Y11: =IF(X11<>0,(DATEDIF(Q11,X11,"y")&" ans "&DATEDIF(Q11,X11,"ym")&" mois"),"") -> 9 ans 11 mois | Z11: 31.19 | AA11: =IF(Y11="","",(VLOOKUP(Y11,Table_corresp!$E$3:$F$230,2,0))) -> 9.5 | AB11: =IF(AA11="","",(CONCATENATE(B11," / ",AA11))) -> 2 / 9,5 | AC11: =IF(AB11="","",(VLOOKUP(AB11,Table_corresp!$J$3:$M$70,2,0))) -> 15.96 | AD11: =IF(AB11="","",(VLOOKUP(AB11,Table_corresp!$J$3:$M$70,3,0))) -> -0.64 | AE11: =IF(AB11="","",(VLOOKUP(AB11,Table_corresp!$J$3:$M$70,4,0))) -> -0.0641 | AF11: =IF(Z11>0,((((Z11/AC11)^AD11)-1)/AE11),"") -> 5.4401685 | AG11: =IF(AF11="","",N11-AF11) -> -0.54497425 | AH11: =IF(AG11="","",IF(AG11>0.25,"ralentissement",IF(AND(AG11<=0.25,AG11>=-0.25),"stable",IF(AG11<-0.25,"accélération")))) -> accélération | AI11: =IF(X11<>0,((YEAR(X11)-YEAR(P11))*12+MONTH(X11)-MONTH(P11)),"") -> 9 | AJ11: 42193 | AK11: =IF(AJ11<>0,(DATEDIF(Q11,AJ11,"y")&" ans "&DATEDIF(Q11,AJ11,"ym")&" mois"),"") -> 10 ans 5 mois | AL11: 30.5 | AM11: =IF(AK11="","",(VLOOKUP(AK11,Table_corresp!$E$3:$F$230,2,0))) -> 10 | AN11: =IF(AM11="","",(CONCATENATE(B11," / ",AM11))) -> 2 / 10 | AO11: =IF(AN11="","",(VLOOKUP(AN11,Table_corresp!$J$3:$M$70,2,0))) -> 16.18 | AP11: =IF(AN11="","",(VLOOKUP(AN11,Table_corresp!$J$3:$M$70,3,0))) -> -0.67 | AQ11: =IF(AN11="","",(VLOOKUP(AN11,Table_corresp!$J$3:$M$70,4,0))) -> -0.0692 | AR11: =IF(AL11>0,((((AL11/AO11)^AP11)-1)/AQ11),"") -> 5.0009364 | AS11: =IF(AR11="","",AF11-AR11) -> 0.43923208 | AT11: =IF(AS11="","",IF(AS11>0.25,"ralentissement",IF(AND(AS11<=0.25,AS11>=-0.25),"stable",IF(AS11<-0.25,"accélération")))) -> ralentissement | AU11: =IF(AJ11<>0,((YEAR(AJ11)-YEAR(X11))*12+MONTH(AJ11)-MONTH(X11)),"") -> 6 | AV11: 42404 | AX11: 25.72 | AY11: =IF(AU11="","",(VLOOKUP(AU11,Table_corresp!$E$3:$F$230,2,0))) -> #N/A | AZ11: =IF(AY11="","",(CONCATENATE(L11," / ",AY11))) -> #N/A | BA11: =IF(AZ11="","",(VLOOKUP(AZ11,Table_corresp!$J$3:$M$70,2,0))) -> #N/A | BB11: =IF(AZ11="","",(VLOOKUP(AZ11,Table_corresp!$J$3:$M$70,3,0))) -> #N/A | BC11: =IF(AZ11="","",(VLOOKUP(AZ11,Table_corresp!$J$3:$M$70,4,0))) -> #N/A | BD11: =IF(AV11>0,((((AV11/BA11)^BB11)-1)/BC11),"") -> #N/A | BE11: =IF(BD11="","",AP11-BD11) -> #N/A | BF11: =IF(BE11="","",IF(BE11>0.25,"ralentissement",IF(AND(BE11<=0.25,BE11>=-0.25),"stable",IF(BE11<-0.25,"accélération")))) -> #N/A | BG11: =IF(AT11<>0,((YEAR(AT11)-YEAR(AH11))*12+MONTH(AT11)-MONTH(AH11)),"") -> #VALUE! | BK11: =IF(BG11="","",(VLOOKUP(BG11,Table_corresp!$E$3:$F$230,2,0))) -> #VALUE! | BL11: =IF(BK11="","",(CONCATENATE(V11," / ",BK11))) -> #VALUE! | BM11: =IF(BL11="","",(VLOOKUP(BL11,Table_corresp!$J$3:$M$70,2,0))) -> #VALUE! | BN11: =IF(BL11="","",(VLOOKUP(BL11,Table_corresp!$J$3:$M$70,3,0))) -> #VALUE! | BO11: =IF(BL11="","",(VLOOKUP(BL11,Table_corresp!$J$3:$M$70,4,0))) -> #VALUE! | BP11: =IF(BH11>0,((((BH11/BM11)^BN11)-1)/BO11),"") | BQ11: =IF(BP11="","",BB11-BP11) | BR11: =IF(BQ11="","",IF(BQ11>0.25,"ralentissement",IF(AND(BQ11<=0.25,BQ11>=-0.25),"stable",IF(BQ11<-0.25,"accélération")))) | BS11: =IF(BF11<>0,((YEAR(BF11)-YEAR(AR11))*12+MONTH(BF11)-MONTH(AR11)),"") -> #N/A | BW11: =IF(BS11="","",(VLOOKUP(BS11,Table_corresp!$E$3:$F$230,2,0))) -> #N/A | BX11: =IF(BW11="","",(CONCATENATE(AF11," / ",BW11))) -> #N/A | BY11: =IF(BX11="","",(VLOOKUP(BX11,Table_corresp!$J$3:$M$70,2,0))) -> #N/A | BZ11: =IF(BX11="","",(VLOOKUP(BX11,Table_corresp!$J$3:$M$70,3,0))) -> #N/A | CA11: =IF(BX11="","",(VLOOKUP(BX11,Table_corresp!$J$3:$M$70,4,0))) -> #N/A | CB11: =IF(#REF!>0,((((#REF!/BY11)^BZ11)-1)/CA11),"") -> #REF! | CC11: =IF(CB11="","",BN11-CB11) -> #REF! | CD11: =IF(CC11="","",IF(CC11>0.25,"ralentissement",IF(AND(CC11<=0.25,CC11>=-0.25),"stable",IF(CC11<-0.25,"accélération")))) -> #REF! | CE11: =IF(BR11<>0,((YEAR(BR11)-YEAR(BD11))*12+MONTH(BR11)-MONTH(BD11)),"") -> #VALUE! | CI11: =IF(CE11="","",(VLOOKUP(CE11,Table_corresp!$E$3:$F$230,2,0))) -> #VALUE! | CJ11: =IF(CI11="","",(CONCATENATE(AP11," / ",CI11))) -> #VALUE! | CK11: =IF(CJ11="","",(VLOOKUP(CJ11,Table_corresp!$J$3:$M$70,2,0))) -> #VALUE! | CL11: =IF(CJ11="","",(VLOOKUP(CJ11,Table_corresp!$J$3:$M$70,3,0))) -> #VALUE! | CM11: =IF(CJ11="","",(VLOOKUP(CJ11,Table_corresp!$J$3:$M$70,4,0))) -> #VALUE! | CN11: =IF(#REF!>0,((((#REF!/CK11)^CL11)-1)/CM11),"") -> #REF! | CO11: =IF(CN11="","",BZ11-CN11) -> #REF! | CP11: =IF(CO11="","",IF(CO11>0.25,"ralentissement",IF(AND(CO11<=0.25,CO11>=-0.25),"stable",IF(CO11<-0.25,"accélération")))) -> #REF! | CQ11: =IF(CD11<>0,((YEAR(CD11)-YEAR(BP11))*12+MONTH(CD11)-MONTH(BP11)),"") -> #REF! | CU11: =IF(CQ11="","",(VLOOKUP(CQ11,Table_corresp!$E$3:$F$230,2,0))) -> #REF! | CV11: =IF(CU11="","",(CONCATENATE(BB11," / ",CU11))) -> #REF! | CW11: =IF(CV11="","",(VLOOKUP(CV11,Table_corresp!$J$3:$M$70,2,0))) -> #REF! | CX11: =IF(CV11="","",(VLOOKUP(CV11,Table_corresp!$J$3:$M$70,3,0))) -> #REF! | CY11: =IF(CV11="","",(VLOOKUP(CV11,Table_corresp!$J$3:$M$70,4,0))) -> #REF! | CZ11: =IF(#REF!>0,((((#REF!/CW11)^CX11)-1)/CY11),"") -> #REF! | DA11: =IF(CZ11="","",CL11-CZ11) -> #REF! | DB11: =IF(DA11="","",IF(DA11>0.25,"ralentissement",IF(AND(DA11<=0.25,DA11>=-0.25),"stable",IF(DA11<-0.25,"accélération")))) -> #REF! | DC11: =IF(CP11<>0,((YEAR(CP11)-YEAR(CB11))*12+MONTH(CP11)-MONTH(CB11)),"") -> #REF!
A12: 10 | B12: 2 | F12: 20 | G12: 0.99 | H12: 20.406081 | I12: =VLOOKUP(T12,Table_corresp!$E$3:$F$230,2,0) -> 2.5 | J12: =CONCATENATE(B12," / ",I12) -> 2 / 2,5 | K12: =VLOOKUP(J12,Table_corresp!$J$3:$M$70,2,0) -> 16.12 | L12: =VLOOKUP(J12,Table_corresp!$J$3:$M$70,3,0) -> -0.06 | M12: =VLOOKUP(J12,Table_corresp!$J$3:$M$70,4,0) -> -0.0047 | N12: =IF(H12>0,((((H12/K12)^L12)-1)/M12),"") -> 2.9886688 | O12: Obésité | P12: 41759 | Q12: 40787 | R12: =DATEDIF(Q12,TODAY(),"y")&" ans "&DATEDIF(Q12,TODAY(),"ym")&" mois" -> 6 ans 1 mois | S12: =VLOOKUP(R12,Table_corresp!$A$3:$B$230,2,0) -> [6-9[ | T12: =DATEDIF(Q12,P12,"y")&" ans "&DATEDIF(Q12,P12,"ym")&" mois" -> 2 ans 7 mois | U12: =VLOOKUP(T12,Table_corresp!$A$3:$B$230,2,0) -> < 3 | X12: 42011 | Y12: =IF(X12<>0,(DATEDIF(Q12,X12,"y")&" ans "&DATEDIF(Q12,X12,"ym")&" mois"),"") -> 3 ans 4 mois | Z12: 21.08 | AA12: =IF(Y12="","",(VLOOKUP(Y12,Table_corresp!$E$3:$F$230,2,0))) -> 3 | AB12: =IF(AA12="","",(CONCATENATE(B12," / ",AA12))) -> 2 / 3 | AC12: =IF(AB12="","",(VLOOKUP(AB12,Table_corresp!$J$3:$M$70,2,0))) -> 15.86 | AD12: =IF(AB12="","",(VLOOKUP(AB12,Table_corresp!$J$3:$M$70,3,0))) -> -0.09 | AE12: =IF(AB12="","",(VLOOKUP(AB12,Table_corresp!$J$3:$M$70,4,0))) -> -0.007 | AF12: =IF(Z12>0,((((Z12/AC12)^AD12)-1)/AE12),"") -> 3.6117317 | AG12: =IF(AF12="","",N12-AF12) -> -0.62306292 | AH12: =IF(AG12="","",IF(AG12>0.25,"ralentissement",IF(AND(AG12<=0.25,AG12>=-0.25),"stable",IF(AG12<-0.25,"accélération")))) -> accélération | AI12: =IF(X12<>0,((YEAR(X12)-YEAR(P12))*12+MONTH(X12)-MONTH(P12)),"") -> 9 | AJ12: 42193 | AK12: =IF(AJ12<>0,(DATEDIF(Q12,AJ12,"y")&" ans "&DATEDIF(Q12,AJ12,"ym")&" mois"),"") -> 3 ans 10 mois | AL12: 20.6 | AM12: =IF(AK12="","",(VLOOKUP(AK12,Table_corresp!$E$3:$F$230,2,0))) -> 3.5 | AN12: =IF(AM12="","",(CONCATENATE(B12," / ",AM12))) -> 2 / 3,5 | AO12: =IF(AN12="","",(VLOOKUP(AN12,Table_corresp!$J$3:$M$70,2,0))) -> 15.64 | AP12: =IF(AN12="","",(VLOOKUP(AN12,Table_corresp!$J$3:$M$70,3,0))) -> -0.13 | AQ12: =IF(AN12="","",(VLOOKUP(AN12,Table_corresp!$J$3:$M$70,4,0))) -> -0.0101 | AR12: =IF(AL12>0,((((AL12/AO12)^AP12)-1)/AQ12),"") -> 3.4827853 | AS12: =IF(AR12="","",AF12-AR12) -> 0.12894638 | AT12: =IF(AS12="","",IF(AS12>0.25,"ralentissement",IF(AND(AS12<=0.25,AS12>=-0.25),"stable",IF(AS12<-0.25,"accélération")))) -> stable | AU12: =IF(AJ12<>0,((YEAR(AJ12)-YEAR(X12))*12+MONTH(AJ12)-MONTH(X12)),"") -> 6 | AY12: =IF(AU12="","",(VLOOKUP(AU12,Table_corresp!$E$3:$F$230,2,0))) -> #N/A | AZ12: =IF(AY12="","",(CONCATENATE(L12," / ",AY12))) -> #N/A | BA12: =IF(AZ12="","",(VLOOKUP(AZ12,Table_corresp!$J$3:$M$70,2,0))) -> #N/A | BB12: =IF(AZ12="","",(VLOOKUP(AZ12,Table_corresp!$J$3:$M$70,3,0))) -> #N/A | BC12: =IF(AZ12="","",(VLOOKUP(AZ12,Table_corresp!$J$3:$M$70,4,0))) -> #N/A | BD12: =IF(AV12>0,((((AV12/BA12)^BB12)-1)/BC12),"") | BE12: =IF(BD12="","",AP12-BD12) | BF12: =IF(BE12="","",IF(BE12>0.25,"ralentissement",IF(AND(BE12<=0.25,BE12>=-0.25),"stable",IF(BE12<-0.25,"accélération")))) | BG12: =IF(AT12<>0,((YEAR(AT12)-YEAR(AH12))*12+MONTH(AT12)-MONTH(AH12)),"") -> #VALUE! | BK12: =IF(BG12="","",(VLOOKUP(BG12,Table_corresp!$E$3:$F$230,2,0))) -> #VALUE! | BL12: =IF(BK12="","",(CONCATENATE(V12," / ",BK12))) -> #VALUE! | BM12: =IF(BL12="","",(VLOOKUP(BL12,Table_corresp!$J$3:$M$70,2,0))) -> #VALUE! | BN12: =IF(BL12="","",(VLOOKUP(BL12,Table_corresp!$J$3:$M$70,3,0))) -> #VALUE! | BO12: =IF(BL12="","",(VLOOKUP(BL12,Table_corresp!$J$3:$M$70,4,0))) -> #VALUE! | BP12: =IF(BH12>0,((((BH12/BM12)^BN12)-1)/BO12),"") | BQ12: =IF(BP12="","",BB12-BP12) | BR12: =IF(BQ12="","",IF(BQ12>0.25,"ralentissement",IF(AND(BQ12<=0.25,BQ12>=-0.25),"stable",IF(BQ12<-0.25,"accélération")))) | BS12: =IF(BF12<>0,((YEAR(BF12)-YEAR(AR12))*12+MONTH(BF12)-MONTH(AR12)),"") -> #VALUE! | BW12: =IF(BS12="","",(VLOOKUP(BS12,Table_corresp!$E$3:$F$230,2,0))) -> #VALUE! | BX12: =IF(BW12="","",(CONCATENATE(AF12," / ",BW12))) -> #VALUE! | BY12: =IF(BX12="","",(VLOOKUP(BX12,Table_corresp!$J$3:$M$70,2,0))) -> #VALUE! | BZ12: =IF(BX12="","",(VLOOKUP(BX12,Table_corresp!$J$3:$M$70,3,0))) -> #VALUE! | CA12: =IF(BX12="","",(VLOOKUP(BX12,Table_corresp!$J$3:$M$70,4,0))) -> #VALUE! | CB12: =IF(#REF!>0,((((#REF!/BY12)^BZ12)-1)/CA12),"") -> #REF! | CC12: =IF(CB12="","",BN12-CB12) -> #REF! | CD12: =IF(CC12="","",IF(CC12>0.25,"ralentissement",IF(AND(CC12<=0.25,CC12>=-0.25),"stable",IF(CC12<-0.25,"accélération")))) -> #REF! | CE12: =IF(BR12<>0,((YEAR(BR12)-YEAR(BD12))*12+MONTH(BR12)-MONTH(BD12)),"") -> #VALUE! | CI12: =IF(CE12="","",(VLOOKUP(CE12,Table_corresp!$E$3:$F$230,2,0))) -> #VALUE! | CJ12: =IF(CI12="","",(CONCATENATE(AP12," / ",CI12))) -> #VALUE! | CK12: =IF(CJ12="","",(VLOOKUP(CJ12,Table_corresp!$J$3:$M$70,2,0))) -> #VALUE! | CL12: =IF(CJ12="","",(VLOOKUP(CJ12,Table_corresp!$J$3:$M$70,3,0))) -> #VALUE! | CM12: =IF(CJ12="","",(VLOOKUP(CJ12,Table_corresp!$J$3:$M$70,4,0))) -> #VALUE! | CN12: =IF(#REF!>0,((((#REF!/CK12)^CL12)-1)/CM12),"") -> #REF! | CO12: =IF(CN12="","",BZ12-CN12) -> #REF! | CP12: =IF(CO12="","",IF(CO12>0.25,"ralentissement",IF(AND(CO12<=0.25,CO12>=-0.25),"stable",IF(CO12<-0.25,"accélération")))) -> #REF! | CQ12: =IF(CD12<>0,((YEAR(CD12)-YEAR(BP12))*12+MONTH(CD12)-MONTH(BP12)),"") -> #REF! | CU12: =IF(CQ12="","",(VLOOKUP(CQ12,Table_corresp!$E$3:$F$230,2,0))) -> #REF! | CV12: =IF(CU12="","",(CONCATENATE(BB12," / ",CU12))) -> #REF! | CW12: =IF(CV12="","",(VLOOKUP(CV12,Table_corresp!$J$3:$M$70,2,0))) -> #REF! | CX12: =IF(CV12="","",(VLOOKUP(CV12,Table_corresp!$J$3:$M$70,3,0))) -> #REF! | CY12: =IF(CV12="","",(VLOOKUP(CV12,Table_corresp!$J$3:$M$70,4,0))) -> #REF! | CZ12: =IF(#REF!>0,((((#REF!/CW12)^CX12)-1)/CY12),"") -> #REF! | DA12: =IF(CZ12="","",CL12-CZ12) -> #REF! | DB12: =IF(DA12="","",IF(DA12>0.25,"ralentissement",IF(AND(DA12<=0.25,DA12>=-0.25),"stable",IF(DA12<-0.25,"accélération")))) -> #REF! | DC12: =IF(CP12<>0,((YEAR(CP12)-YEAR(CB12))*12+MONTH(CP12)-MONTH(CB12)),"") -> #REF!
A13: 11 | B13: 2 | F13: 58 | G13: 1.3 | H13: 34.319527 | I13: =VLOOKUP(T13,Table_corresp!$E$3:$F$230,2,0) -> 7.5 | J13: =CONCATENATE(B13," / ",I13) -> 2 / 7,5 | K13: =VLOOKUP(J13,Table_corresp!$J$3:$M$70,2,0) -> 15.32 | L13: =VLOOKUP(J13,Table_corresp!$J$3:$M$70,3,0) -> -0.5 | M13: =VLOOKUP(J13,Table_corresp!$J$3:$M$70,4,0) -> -0.044 | N13: =IF(H13>0,((((H13/K13)^L13)-1)/M13),"") -> 7.5425781 | O13: Obésité | P13: 41766 | Q13: 39005 | R13: =DATEDIF(Q13,TODAY(),"y")&" ans "&DATEDIF(Q13,TODAY(),"ym")&" mois" -> 11 ans 0 mois | S13: =VLOOKUP(R13,Table_corresp!$A$3:$B$230,2,0) -> [9-12[ | T13: =DATEDIF(Q13,P13,"y")&" ans "&DATEDIF(Q13,P13,"ym")&" mois" -> 7 ans 6 mois | U13: =VLOOKUP(T13,Table_corresp!$A$3:$B$230,2,0) -> [6-9[ | Y13: =IF(X13<>0,(DATEDIF(Q13,X13,"y")&" ans "&DATEDIF(Q13,X13,"ym")&" mois"),"") | AA13: =IF(Y13="","",(VLOOKUP(Y13,Table_corresp!$E$3:$F$230,2,0))) | AB13: =IF(AA13="","",(CONCATENATE(B13," / ",AA13))) | AC13: =IF(AB13="","",(VLOOKUP(AB13,Table_corresp!$J$3:$M$70,2,0))) | AD13: =IF(AB13="","",(VLOOKUP(AB13,Table_corresp!$J$3:$M$70,3,0))) | AE13: =IF(AB13="","",(VLOOKUP(AB13,Table_corresp!$J$3:$M$70,4,0))) | AF13: =IF(Z13>0,((((Z13/AC13)^AD13)-1)/AE13),"") | AG13: =IF(AF13="","",N13-AF13) | AH13: =IF(AG13="","",IF(AG13>0.25,"ralentissement",IF(AND(AG13<=0.25,AG13>=-0.25),"stable",IF(AG13<-0.25,"accélération")))) | AI13: =IF(X13<>0,((YEAR(X13)-YEAR(P13))*12+MONTH(X13)-MONTH(P13)),"") | AK13: =IF(AJ13<>0,(DATEDIF(Q13,AJ13,"y")&" ans "&DATEDIF(Q13,AJ13,"ym")&" mois"),"") | AM13: =IF(AK13="","",(VLOOKUP(AK13,Table_corresp!$E$3:$F$230,2,0))) | AN13: =IF(AM13="","",(CONCATENATE(B13," / ",AM13))) | AO13: =IF(AN13="","",(VLOOKUP(AN13,Table_corresp!$J$3:$M$70,2,0))) | AP13: =IF(AN13="","",(VLOOKUP(AN13,Table_corresp!$J$3:$M$70,3,0))) | AQ13: =IF(AN13="","",(VLOOKUP(AN13,Table_corresp!$J$3:$M$70,4,0))) | AR13: =IF(AL13>0,((((AL13/AO13)^AP13)-1)/AQ13),"") | AS13: =IF(AR13="","",AF13-AR13) | AT13: =IF(AS13="","",IF(AS13>0.25,"ralentissement",IF(AND(AS13<=0.25,AS13>=-0.25),"stable",IF(AS13<-0.25,"accélération")))) | AU13: =IF(AJ13<>0,((YEAR(AJ13)-YEAR(X13))*12+MONTH(AJ13)-MONTH(X13)),"") | AY13: =IF(AU13="","",(VLOOKUP(AU13,Table_corresp!$E$3:$F$230,2,0))) | AZ13: =IF(AY13="","",(CONCATENATE(L13," / ",AY13))) | BA13: =IF(AZ13="","",(VLOOKUP(AZ13,Table_corresp!$J$3:$M$70,2,0))) | BB13: =IF(AZ13="","",(VLOOKUP(AZ13,Table_corresp!$J$3:$M$70,3,0))) | BC13: =IF(AZ13="","",(VLOOKUP(AZ13,Table_corresp!$J$3:$M$70,4,0))) | BD13: =IF(AV13>0,((((AV13/BA13)^BB13)-1)/BC13),"") | BE13: =IF(BD13="","",AP13-BD13) | BF13: =IF(BE13="","",IF(BE13>0.25,"ralentissement",IF(AND(BE13<=0.25,BE13>=-0.25),"stable",IF(BE13<-0.25,"accélération")))) | BG13: =IF(AT13<>0,((YEAR(AT13)-YEAR(AH13))*12+MONTH(AT13)-MONTH(AH13)),"") -> #VALUE! | BK13: =IF(BG13="","",(VLOOKUP(BG13,Table_corresp!$E$3:$F$230,2,0))) -> #VALUE! | BL13: =IF(BK13="","",(CONCATENATE(V13," / ",BK13))) -> #VALUE! | BM13: =IF(BL13="","",(VLOOKUP(BL13,Table_corresp!$J$3:$M$70,2,0))) -> #VALUE! | BN13: =IF(BL13="","",(VLOOKUP(BL13,Table_corresp!$J$3:$M$70,3,0))) -> #VALUE! | BO13: =IF(BL13="","",(VLOOKUP(BL13,Table_corresp!$J$3:$M$70,4,0))) -> #VALUE! | BP13: =IF(BH13>0,((((BH13/BM13)^BN13)-1)/BO13),"") | BQ13: =IF(BP13="","",BB13-BP13) | BR13: =IF(BQ13="","",IF(BQ13>0.25,"ralentissement",IF(AND(BQ13<=0.25,BQ13>=-0.25),"stable",IF(BQ13<-0.25,"accélération")))) | BS13: =IF(BF13<>0,((YEAR(BF13)-YEAR(AR13))*12+MONTH(BF13)-MONTH(AR13)),"") -> #VALUE! | BW13: =IF(BS13="","",(VLOOKUP(BS13,Table_corresp!$E$3:$F$230,2,0))) -> #VALUE! | BX13: =IF(BW13="","",(CONCATENATE(AF13," / ",BW13))) -> #VALUE! | BY13: =IF(BX13="","",(VLOOKUP(BX13,Table_corresp!$J$3:$M$70,2,0))) -> #VALUE! | BZ13: =IF(BX13="","",(VLOOKUP(BX13,Table_corresp!$J$3:$M$70,3,0))) -> #VALUE! | CA13: =IF(BX13="","",(VLOOKUP(BX13,Table_corresp!$J$3:$M$70,4,0))) -> #VALUE! | CB13: =IF(#REF!>0,((((#REF!/BY13)^BZ13)-1)/CA13),"") -> #REF! | CC13: =IF(CB13="","",BN13-CB13) -> #REF! | CD13: =IF(CC13="","",IF(CC13>0.25,"ralentissement",IF(AND(CC13<=0.25,CC13>=-0.25),"stable",IF(CC13<-0.25,"accélération")))) -> #REF! | CE13: =IF(BR13<>0,((YEAR(BR13)-YEAR(BD13))*12+MONTH(BR13)-MONTH(BD13)),"") -> #VALUE! | CI13: =IF(CE13="","",(VLOOKUP(CE13,Table_corresp!$E$3:$F$230,2,0))) -> #VALUE! | CJ13: =IF(CI13="","",(CONCATENATE(AP13," / ",CI13))) -> #VALUE! | CK13: =IF(CJ13="","",(VLOOKUP(CJ13,Table_corresp!$J$3:$M$70,2,0))) -> #VALUE! | CL13: =IF(CJ13="","",(VLOOKUP(CJ13,Table_corresp!$J$3:$M$70,3,0))) -> #VALUE! | CM13: =IF(CJ13="","",(VLOOKUP(CJ13,Table_corresp!$J$3:$M$70,4,0))) -> #VALUE! | CN13: =IF(#REF!>0,((((#REF!/CK13)^CL13)-1)/CM13),"") -> #REF! | CO13: =IF(CN13="","",BZ13-CN13) -> #REF! | CP13: =IF(CO13="","",IF(CO13>0.25,"ralentissement",IF(AND(CO13<=0.25,CO13>=-0.25),"stable",IF(CO13<-0.25,"accélération")))) -> #REF! | CQ13: =IF(CD13<>0,((YEAR(CD13)-YEAR(BP13))*12+MONTH(CD13)-MONTH(BP13)),"") -> #REF! | CU13: =IF(CQ13="","",(VLOOKUP(CQ13,Table_corresp!$E$3:$F$230,2,0))) -> #REF! | CV13: =IF(CU13="","",(CONCATENATE(BB13," / ",CU13))) -> #REF! | CW13: =IF(CV13="","",(VLOOKUP(CV13,Table_corresp!$J$3:$M$70,2,0))) -> #REF! | CX13: =IF(CV13="","",(VLOOKUP(CV13,Table_corresp!$J$3:$M$70,3,0))) -> #REF! | CY13: =IF(CV13="","",(VLOOKUP(CV13,Table_corresp!$J$3:$M$70,4,0))) -> #REF! | CZ13: =IF(#REF!>0,((((#REF!/CW13)^CX13)-1)/CY13),"") -> #REF! | DA13: =IF(CZ13="","",CL13-CZ13) -> #REF! | DB13: =IF(DA13="","",IF(DA13>0.25,"ralentissement",IF(AND(DA13<=0.25,DA13>=-0.25),"stable",IF(DA13<-0.25,"accélération")))) -> #REF! | DC13: =IF(CP13<>0,((YEAR(CP13)-YEAR(CB13))*12+MONTH(CP13)-MONTH(CB13)),"") -> #REF!
A14: 12 | B14: 2 | F14: 30 | G14: 1.2 | H14: 20.833333 | I14: =VLOOKUP(T14,Table_corresp!$E$3:$F$230,2,0) -> 5 | J14: =CONCATENATE(B14," / ",I14) -> 2 / 5 | K14: =VLOOKUP(J14,Table_corresp!$J$3:$M$70,2,0) -> 15.2 | L14: =VLOOKUP(J14,Table_corresp!$J$3:$M$70,3,0) -> -0.27 | M14: =VLOOKUP(J14,Table_corresp!$J$3:$M$70,4,0) -> -0.0214 | N14: =IF(H14>0,((((H14/K14)^L14)-1)/M14),"") -> 3.8129825 | O14: Obésité | P14: 41766 | Q14: 39764 | R14: =DATEDIF(Q14,TODAY(),"y")&" ans "&DATEDIF(Q14,TODAY(),"ym")&" mois" -> 8 ans 11 mois | S14: =VLOOKUP(R14,Table_corresp!$A$3:$B$230,2,0) -> [6-9[ | T14: =DATEDIF(Q14,P14,"y")&" ans "&DATEDIF(Q14,P14,"ym")&" mois" -> 5 ans 5 mois | U14: =VLOOKUP(T14,Table_corresp!$A$3:$B$230,2,0) -> [3-6[ | Y14: =IF(X14<>0,(DATEDIF(Q14,X14,"y")&" ans "&DATEDIF(Q14,X14,"ym")&" mois"),"") | AA14: =IF(Y14="","",(VLOOKUP(Y14,Table_corresp!$E$3:$F$230,2,0))) | AB14: =IF(AA14="","",(CONCATENATE(B14," / ",AA14))) | AC14: =IF(AB14="","",(VLOOKUP(AB14,Table_corresp!$J$3:$M$70,2,0))) | AD14: =IF(AB14="","",(VLOOKUP(AB14,Table_corresp!$J$3:$M$70,3,0))) | AE14: =IF(AB14="","",(VLOOKUP(AB14,Table_corresp!$J$3:$M$70,4,0))) | AF14: =IF(Z14>0,((((Z14/AC14)^AD14)-1)/AE14),"") | AG14: =IF(AF14="","",N14-AF14) | AH14: =IF(AG14="","",IF(AG14>0.25,"ralentissement",IF(AND(AG14<=0.25,AG14>=-0.25),"stable",IF(AG14<-0.25,"accélération")))) | AI14: =IF(X14<>0,((YEAR(X14)-YEAR(P14))*12+MONTH(X14)-MONTH(P14)),"") | AK14: =IF(AJ14<>0,(DATEDIF(Q14,AJ14,"y")&" ans "&DATEDIF(Q14,AJ14,"ym")&" mois"),"") | AM14: =IF(AK14="","",(VLOOKUP(AK14,Table_corresp!$E$3:$F$230,2,0))) | AN14: =IF(AM14="","",(CONCATENATE(B14," / ",AM14))) | AO14: =IF(AN14="","",(VLOOKUP(AN14,Table_corresp!$J$3:$M$70,2,0))) | AP14: =IF(AN14="","",(VLOOKUP(AN14,Table_corresp!$J$3:$M$70,3,0))) | AQ14: =IF(AN14="","",(VLOOKUP(AN14,Table_corresp!$J$3:$M$70,4,0))) | AR14: =IF(AL14>0,((((AL14/AO14)^AP14)-1)/AQ14),"") | AS14: =IF(AR14="","",AF14-AR14) | AT14: =IF(AS14="","",IF(AS14>0.25,"ralentissement",IF(AND(AS14<=0.25,AS14>=-0.25),"stable",IF(AS14<-0.25,"accélération")))) | AU14: =IF(AJ14<>0,((YEAR(AJ14)-YEAR(X14))*12+MONTH(AJ14)-MONTH(X14)),"") | AY14: =IF(AU14="","",(VLOOKUP(AU14,Table_corresp!$E$3:$F$230,2,0))) | AZ14: =IF(AY14="","",(CONCATENATE(L14," / ",AY14))) | BA14: =IF(AZ14="","",(VLOOKUP(AZ14,Table_corresp!$J$3:$M$70,2,0))) | BB14: =IF(AZ14="","",(VLOOKUP(AZ14,Table_corresp!$J$3:$M$70,3,0))) | BC14: =IF(AZ14="","",(VLOOKUP(AZ14,Table_corresp!$J$3:$M$70,4,0))) | BD14: =IF(AV14>0,((((AV14/BA14)^BB14)-1)/BC14),"") | BE14: =IF(BD14="","",AP14-BD14) | BF14: =IF(BE14="","",IF(BE14>0.25,"ralentissement",IF(AND(BE14<=0.25,BE14>=-0.25),"stable",IF(BE14<-0.25,"accélération")))) | BG14: =IF(AT14<>0,((YEAR(AT14)-YEAR(AH14))*12+MONTH(AT14)-MONTH(AH14)),"") -> #VALUE! | BK14: =IF(BG14="","",(VLOOKUP(BG14,Table_corresp!$E$3:$F$230,2,0))) -> #VALUE! | BL14: =IF(BK14="","",(CONCATENATE(V14," / ",BK14))) -> #VALUE! | BM14: =IF(BL14="","",(VLOOKUP(BL14,Table_corresp!$J$3:$M$70,2,0))) -> #VALUE! | BN14: =IF(BL14="","",(VLOOKUP(BL14,Table_corresp!$J$3:$M$70,3,0))) -> #VALUE! | BO14: =IF(BL14="","",(VLOOKUP(BL14,Table_corresp!$J$3:$M$70,4,0))) -> #VALUE! | BP14: =IF(BH14>0,((((BH14/BM14)^BN14)-1)/BO14),"") | BQ14: =IF(BP14="","",BB14-BP14) | BR14: =IF(BQ14="","",IF(BQ14>0.25,"ralentissement",IF(AND(BQ14<=0.25,BQ14>=-0.25),"stable",IF(BQ14<-0.25,"accélération")))) | BS14: =IF(BF14<>0,((YEAR(BF14)-YEAR(AR14))*12+MONTH(BF14)-MONTH(AR14)),"") -> #VALUE! | BW14: =IF(BS14="","",(VLOOKUP(BS14,Table_corresp!$E$3:$F$230,2,0))) -> #VALUE! | BX14: =IF(BW14="","",(CONCATENATE(AF14," / ",BW14))) -> #VALUE! | BY14: =IF(BX14="","",(VLOOKUP(BX14,Table_corresp!$J$3:$M$70,2,0))) -> #VALUE! | BZ14: =IF(BX14="","",(VLOOKUP(BX14,Table_corresp!$J$3:$M$70,3,0))) -> #VALUE! | CA14: =IF(BX14="","",(VLOOKUP(BX14,Table_corresp!$J$3:$M$70,4,0))) -> #VALUE! | CB14: =IF(#REF!>0,((((#REF!/BY14)^BZ14)-1)/CA14),"") -> #REF! | CC14: =IF(CB14="","",BN14-CB14) -> #REF! | CD14: =IF(CC14="","",IF(CC14>0.25,"ralentissement",IF(AND(CC14<=0.25,CC14>=-0.25),"stable",IF(CC14<-0.25,"accélération")))) -> #REF! | CE14: =IF(BR14<>0,((YEAR(BR14)-YEAR(BD14))*12+MONTH(BR14)-MONTH(BD14)),"") -> #VALUE! | CI14: =IF(CE14="","",(VLOOKUP(CE14,Table_corresp!$E$3:$F$230,2,0))) -> #VALUE! | CJ14: =IF(CI14="","",(CONCATENATE(AP14," / ",CI14))) -> #VALUE! | CK14: =IF(CJ14="","",(VLOOKUP(CJ14,Table_corresp!$J$3:$M$70,2,0))) -> #VALUE! | CL14: =IF(CJ14="","",(VLOOKUP(CJ14,Table_corresp!$J$3:$M$70,3,0))) -> #VALUE! | CM14: =IF(CJ14="","",(VLOOKUP(CJ14,Table_corresp!$J$3:$M$70,4,0))) -> #VALUE! | CN14: =IF(#REF!>0,((((#REF!/CK14)^CL14)-1)/CM14),"") -> #REF! | CO14: =IF(CN14="","",BZ14-CN14) -> #REF! | CP14: =IF(CO14="","",IF(CO14>0.25,"ralentissement",IF(AND(CO14<=0.25,CO14>=-0.25),"stable",IF(CO14<-0.25,"accélération")))) -> #REF! | CQ14: =IF(CD14<>0,((YEAR(CD14)-YEAR(BP14))*12+MONTH(CD14)-MONTH(BP14)),"") -> #REF! | CU14: =IF(CQ14="","",(VLOOKUP(CQ14,Table_corresp!$E$3:$F$230,2,0))) -> #REF! | CV14: =IF(CU14="","",(CONCATENATE(BB14," / ",CU14))) -> #REF! | CW14: =IF(CV14="","",(VLOOKUP(CV14,Table_corresp!$J$3:$M$70,2,0))) -> #REF! | CX14: =IF(CV14="","",(VLOOKUP(CV14,Table_corresp!$J$3:$M$70,3,0))) -> #REF! | CY14: =IF(CV14="","",(VLOOKUP(CV14,Table_corresp!$J$3:$M$70,4,0))) -> #REF! | CZ14: =IF(#REF!>0,((((#REF!/CW14)^CX14)-1)/CY14),"") -> #REF! | DA14: =IF(CZ14="","",CL14-CZ14) -> #REF! | DB14: =IF(DA14="","",IF(DA14>0.25,"ralentissement",IF(AND(DA14<=0.25,DA14>=-0.25),"stable",IF(DA14<-0.25,"accélération")))) -> #REF! | DC14: =IF(CP14<>0,((YEAR(CP14)-YEAR(CB14))*12+MONTH(CP14)-MONTH(CB14)),"") -> #REF!
A15: 13 | B15: 2 | F15: 24.5 | G15: 1.12 | H15: 19.53125 | I15: =VLOOKUP(T15,Table_corresp!$E$3:$F$230,2,0) -> 6 | J15: =CONCATENATE(B15," / ",I15) -> 2 / 6 | K15: =VLOOKUP(J15,Table_corresp!$J$3:$M$70,2,0) -> 15.13 | L15: =VLOOKUP(J15,Table_corresp!$J$3:$M$70,3,0) -> -0.36 | M15: =VLOOKUP(J15,Table_corresp!$J$3:$M$70,4,0) -> -0.0294 | N15: =IF(H15>0,((((H15/K15)^L15)-1)/M15),"") -> 2.987171 | O15: Surpoids | P15: 41766 | Q15: 39567 | R15: =DATEDIF(Q15,TODAY(),"y")&" ans "&DATEDIF(Q15,TODAY(),"ym")&" mois" -> 9 ans 5 mois | S15: =VLOOKUP(R15,Table_corresp!$A$3:$B$230,2,0) -> [9-12[ | T15: =DATEDIF(Q15,P15,"y")&" ans "&DATEDIF(Q15,P15,"ym")&" mois" -> 6 ans 0 mois | U15: =VLOOKUP(T15,Table_corresp!$A$3:$B$230,2,0) -> [6-9[ | X15: 42102 | Y15: =IF(X15<>0,(DATEDIF(Q15,X15,"y")&" ans "&DATEDIF(Q15,X15,"ym")&" mois"),"") -> 6 ans 11 mois | Z15: 21.3 | AA15: =IF(Y15="","",(VLOOKUP(Y15,Table_corresp!$E$3:$F$230,2,0))) -> 6.5 | AB15: =IF(AA15="","",(CONCATENATE(B15," / ",AA15))) -> 2 / 6,5 | AC15: =IF(AB15="","",(VLOOKUP(AB15,Table_corresp!$J$3:$M$70,2,0))) -> 15.16 | AD15: =IF(AB15="","",(VLOOKUP(AB15,Table_corresp!$J$3:$M$70,3,0))) -> -0.41 | AE15: =IF(AB15="","",(VLOOKUP(AB15,Table_corresp!$J$3:$M$70,4,0))) -> -0.0342 | AF15: =IF(Z15>0,((((Z15/AC15)^AD15)-1)/AE15),"") -> 3.8051651 | AG15: =IF(AF15="","",N15-AF15) -> -0.81799411 | AH15: =IF(AG15="","",IF(AG15>0.25,"ralentissement",IF(AND(AG15<=0.25,AG15>=-0.25),"stable",IF(AG15<-0.25,"accélération")))) -> accélération | AI15: =IF(X15<>0,((YEAR(X15)-YEAR(P15))*12+MONTH(X15)-MONTH(P15)),"") -> 11 | AJ15: 42270 | AK15: =IF(AJ15<>0,(DATEDIF(Q15,AJ15,"y")&" ans "&DATEDIF(Q15,AJ15,"ym")&" mois"),"") -> 7 ans 4 mois | AL15: 21.4 | AM15: =IF(AK15="","",(VLOOKUP(AK15,Table_corresp!$E$3:$F$230,2,0))) -> 7 | AN15: =IF(AM15="","",(CONCATENATE(B15," / ",AM15))) -> 2 / 7 | AO15: =IF(AN15="","",(VLOOKUP(AN15,Table_corresp!$J$3:$M$70,2,0))) -> 15.22 | AP15: =IF(AN15="","",(VLOOKUP(AN15,Table_corresp!$J$3:$M$70,3,0))) -> -0.45 | AQ15: =IF(AN15="","",(VLOOKUP(AN15,Table_corresp!$J$3:$M$70,4,0))) -> -0.0385 | AR15: =IF(AL15>0,((((AL15/AO15)^AP15)-1)/AQ15),"") -> 3.6927701 | AS15: =IF(AR15="","",AF15-AR15) -> 0.11239499 | AT15: =IF(AS15="","",IF(AS15>0.25,"ralentissement",IF(AND(AS15<=0.25,AS15>=-0.25),"stable",IF(AS15<-0.25,"accélération")))) -> stable | AU15: =IF(AJ15<>0,((YEAR(AJ15)-YEAR(X15))*12+MONTH(AJ15)-MONTH(X15)),"") -> 5 | AY15: =IF(AU15="","",(VLOOKUP(AU15,Table_corresp!$E$3:$F$230,2,0))) -> #N/A | AZ15: =IF(AY15="","",(CONCATENATE(L15," / ",AY15))) -> #N/A | BA15: =IF(AZ15="","",(VLOOKUP(AZ15,Table_corresp!$J$3:$M$70,2,0))) -> #N/A | BB15: =IF(AZ15="","",(VLOOKUP(AZ15,Table_corresp!$J$3:$M$70,3,0))) -> #N/A | BC15: =IF(AZ15="","",(VLOOKUP(AZ15,Table_corresp!$J$3:$M$70,4,0))) -> #N/A | BD15: =IF(AV15>0,((((AV15/BA15)^BB15)-1)/BC15),"") | BE15: =IF(BD15="","",AP15-BD15) | BF15: =IF(BE15="","",IF(BE15>0.25,"ralentissement",IF(AND(BE15<=0.25,BE15>=-0.25),"stable",IF(BE15<-0.25,"accélération")))) | BG15: =IF(AT15<>0,((YEAR(AT15)-YEAR(AH15))*12+MONTH(AT15)-MONTH(AH15)),"") -> #VALUE! | BK15: =IF(BG15="","",(VLOOKUP(BG15,Table_corresp!$E$3:$F$230,2,0))) -> #VALUE! | BL15: =IF(BK15="","",(CONCATENATE(V15," / ",BK15))) -> #VALUE! | BM15: =IF(BL15="","",(VLOOKUP(BL15,Table_corresp!$J$3:$M$70,2,0))) -> #VALUE! | BN15: =IF(BL15="","",(VLOOKUP(BL15,Table_corresp!$J$3:$M$70,3,0))) -> #VALUE! | BO15: =IF(BL15="","",(VLOOKUP(BL15,Table_corresp!$J$3:$M$70,4,0))) -> #VALUE! | BP15: =IF(BH15>0,((((BH15/BM15)^BN15)-1)/BO15),"") | BQ15: =IF(BP15="","",BB15-BP15) | BR15: =IF(BQ15="","",IF(BQ15>0.25,"ralentissement",IF(AND(BQ15<=0.25,BQ15>=-0.25),"stable",IF(BQ15<-0.25,"accélération")))) | BS15: =IF(BF15<>0,((YEAR(BF15)-YEAR(AR15))*12+MONTH(BF15)-MONTH(AR15)),"") -> #VALUE! | BW15: =IF(BS15="","",(VLOOKUP(BS15,Table_corresp!$E$3:$F$230,2,0))) -> #VALUE! | BX15: =IF(BW15="","",(CONCATENATE(AF15," / ",BW15))) -> #VALUE! | BY15: =IF(BX15="","",(VLOOKUP(BX15,Table_corresp!$J$3:$M$70,2,0))) -> #VALUE! | BZ15: =IF(BX15="","",(VLOOKUP(BX15,Table_corresp!$J$3:$M$70,3,0))) -> #VALUE! | CA15: =IF(BX15="","",(VLOOKUP(BX15,Table_corresp!$J$3:$M$70,4,0))) -> #VALUE! | CB15: =IF(#REF!>0,((((#REF!/BY15)^BZ15)-1)/CA15),"") -> #REF! | CC15: =IF(CB15="","",BN15-CB15) -> #REF! | CD15: =IF(CC15="","",IF(CC15>0.25,"ralentissement",IF(AND(CC15<=0.25,CC15>=-0.25),"stable",IF(CC15<-0.25,"accélération")))) -> #REF! | CE15: =IF(BR15<>0,((YEAR(BR15)-YEAR(BD15))*12+MONTH(BR15)-MONTH(BD15)),"") -> #VALUE! | CI15: =IF(CE15="","",(VLOOKUP(CE15,Table_corresp!$E$3:$F$230,2,0))) -> #VALUE! | CJ15: =IF(CI15="","",(CONCATENATE(AP15," / ",CI15))) -> #VALUE! | CK15: =IF(CJ15="","",(VLOOKUP(CJ15,Table_corresp!$J$3:$M$70,2,0))) -> #VALUE! | CL15: =IF(CJ15="","",(VLOOKUP(CJ15,Table_corresp!$J$3:$M$70,3,0))) -> #VALUE! | CM15: =IF(CJ15="","",(VLOOKUP(CJ15,Table_corresp!$J$3:$M$70,4,0))) -> #VALUE! | CN15: =IF(#REF!>0,((((#REF!/CK15)^CL15)-1)/CM15),"") -> #REF! | CO15: =IF(CN15="","",BZ15-CN15) -> #REF! | CP15: =IF(CO15="","",IF(CO15>0.25,"ralentissement",IF(AND(CO15<=0.25,CO15>=-0.25),"stable",IF(CO15<-0.25,"accélération")))) -> #REF! | CQ15: =IF(CD15<>0,((YEAR(CD15)-YEAR(BP15))*12+MONTH(CD15)-MONTH(BP15)),"") -> #REF! | CU15: =IF(CQ15="","",(VLOOKUP(CQ15,Table_corresp!$E$3:$F$230,2,0))) -> #REF! | CV15: =IF(CU15="","",(CONCATENATE(BB15," / ",CU15))) -> #REF! | CW15: =IF(CV15="","",(VLOOKUP(CV15,Table_corresp!$J$3:$M$70,2,0))) -> #REF! | CX15: =IF(CV15="","",(VLOOKUP(CV15,Table_corresp!$J$3:$M$70,3,0))) -> #REF! | CY15: =IF(CV15="","",(VLOOKUP(CV15,Table_corresp!$J$3:$M$70,4,0))) -> #REF! | CZ15: =IF(#REF!>0,((((#REF!/CW15)^CX15)-1)/CY15),"") -> #REF! | DA15: =IF(CZ15="","",CL15-CZ15) -> #REF! | DB15: =IF(DA15="","",IF(DA15>0.25,"ralentissement",IF(AND(DA15<=0.25,DA15>=-0.25),"stable",IF(DA15<-0.25,"accélération")))) -> #REF! | DC15: =IF(CP15<>0,((YEAR(CP15)-YEAR(CB15))*12+MONTH(CP15)-MONTH(CB15)),"") -> #REF!
A16: 14 | B16: 2 | F16: 83 | G16: 1.55 | H16: 34.547347 | I16: =VLOOKUP(T16,Table_corresp!$E$3:$F$230,2,0) -> 10.5 | J16: =CONCATENATE(B16," / ",I16) -> 2 / 10,5 | K16: =VLOOKUP(J16,Table_corresp!$J$3:$M$70,2,0) -> 16.44 | L16: =VLOOKUP(J16,Table_corresp!$J$3:$M$70,3,0) -> -0.69 | M16: =VLOOKUP(J16,Table_corresp!$J$3:$M$70,4,0) -> -0.0734 | N16: =IF(H16>0,((((H16/K16)^L16)-1)/M16),"") -> 5.462477 | O16: Obésité | P16: 41766 | Q16: 37884 | R16: =DATEDIF(Q16,TODAY(),"y")&" ans "&DATEDIF(Q16,TODAY(),"ym")&" mois" -> 14 ans 0 mois | S16: =VLOOKUP(R16,Table_corresp!$A$3:$B$230,2,0) -> > 12 | T16: =DATEDIF(Q16,P16,"y")&" ans "&DATEDIF(Q16,P16,"ym")&" mois" -> 10 ans 7 mois | U16: =VLOOKUP(T16,Table_corresp!$A$3:$B$230,2,0) -> [9-12[ | Y16: =IF(X16<>0,(DATEDIF(Q16,X16,"y")&" ans "&DATEDIF(Q16,X16,"ym")&" mois"),"") | AA16: =IF(Y16="","",(VLOOKUP(Y16,Table_corresp!$E$3:$F$230,2,0))) | AB16: =IF(AA16="","",(CONCATENATE(B16," / ",AA16))) | AC16: =IF(AB16="","",(VLOOKUP(AB16,Table_corresp!$J$3:$M$70,2,0))) | AD16: =IF(AB16="","",(VLOOKUP(AB16,Table_corresp!$J$3:$M$70,3,0))) | AE16: =IF(AB16="","",(VLOOKUP(AB16,Table_corresp!$J$3:$M$70,4,0))) | AF16: =IF(Z16>0,((((Z16/AC16)^AD16)-1)/AE16),"") | AG16: =IF(AF16="","",N16-AF16) | AH16: =IF(AG16="","",IF(AG16>0.25,"ralentissement",IF(AND(AG16<=0.25,AG16>=-0.25),"stable",IF(AG16<-0.25,"accélération")))) | AI16: =IF(X16<>0,((YEAR(X16)-YEAR(P16))*12+MONTH(X16)-MONTH(P16)),"") | AK16: =IF(AJ16<>0,(DATEDIF(Q16,AJ16,"y")&" ans "&DATEDIF(Q16,AJ16,"ym")&" mois"),"") | AM16: =IF(AK16="","",(VLOOKUP(AK16,Table_corresp!$E$3:$F$230,2,0))) | AN16: =IF(AM16="","",(CONCATENATE(B16," / ",AM16))) | AO16: =IF(AN16="","",(VLOOKUP(AN16,Table_corresp!$J$3:$M$70,2,0))) | AP16: =IF(AN16="","",(VLOOKUP(AN16,Table_corresp!$J$3:$M$70,3,0))) | AQ16: =IF(AN16="","",(VLOOKUP(AN16,Table_corresp!$J$3:$M$70,4,0))) | AR16: =IF(AL16>0,((((AL16/AO16)^AP16)-1)/AQ16),"") | AS16: =IF(AR16="","",AF16-AR16) | AT16: =IF(AS16="","",IF(AS16>0.25,"ralentissement",IF(AND(AS16<=0.25,AS16>=-0.25),"stable",IF(AS16<-0.25,"accélération")))) | AU16: =IF(AJ16<>0,((YEAR(AJ16)-YEAR(X16))*12+MONTH(AJ16)-MONTH(X16)),"") | AY16: =IF(AU16="","",(VLOOKUP(AU16,Table_corresp!$E$3:$F$230,2,0))) | AZ16: =IF(AY16="","",(CONCATENATE(L16," / ",AY16))) | BA16: =IF(AZ16="","",(VLOOKUP(AZ16,Table_corresp!$J$3:$M$70,2,0))) | BB16: =IF(AZ16="","",(VLOOKUP(AZ16,Table_corresp!$J$3:$M$70,3,0))) | BC16: =IF(AZ16="","",(VLOOKUP(AZ16,Table_corresp!$J$3:$M$70,4,0))) | BD16: =IF(AV16>0,((((AV16/BA16)^BB16)-1)/BC16),"") | BE16: =IF(BD16="","",AP16-BD16) | BF16: =IF(BE16="","",IF(BE16>0.25,"ralentissement",IF(AND(BE16<=0.25,BE16>=-0.25),"stable",IF(BE16<-0.25,"accélération")))) | BG16: =IF(AT16<>0,((YEAR(AT16)-YEAR(AH16))*12+MONTH(AT16)-MONTH(AH16)),"") -> #VALUE! | BK16: =IF(BG16="","",(VLOOKUP(BG16,Table_corresp!$E$3:$F$230,2,0))) -> #VALUE! | BL16: =IF(BK16="","",(CONCATENATE(V16," / ",BK16))) -> #VALUE! | BM16: =IF(BL16="","",(VLOOKUP(BL16,Table_corresp!$J$3:$M$70,2,0))) -> #VALUE! | BN16: =IF(BL16="","",(VLOOKUP(BL16,Table_corresp!$J$3:$M$70,3,0))) -> #VALUE! | BO16: =IF(BL16="","",(VLOOKUP(BL16,Table_corresp!$J$3:$M$70,4,0))) -> #VALUE! | BP16: =IF(BH16>0,((((BH16/BM16)^BN16)-1)/BO16),"") | BQ16: =IF(BP16="","",BB16-BP16) | BR16: =IF(BQ16="","",IF(BQ16>0.25,"ralentissement",IF(AND(BQ16<=0.25,BQ16>=-0.25),"stable",IF(BQ16<-0.25,"accélération")))) | BS16: =IF(BF16<>0,((YEAR(BF16)-YEAR(AR16))*12+MONTH(BF16)-MONTH(AR16)),"") -> #VALUE! | BW16: =IF(BS16="","",(VLOOKUP(BS16,Table_corresp!$E$3:$F$230,2,0))) -> #VALUE! | BX16: =IF(BW16="","",(CONCATENATE(AF16," / ",BW16))) -> #VALUE! | BY16: =IF(BX16="","",(VLOOKUP(BX16,Table_corresp!$J$3:$M$70,2,0))) -> #VALUE! | BZ16: =IF(BX16="","",(VLOOKUP(BX16,Table_corresp!$J$3:$M$70,3,0))) -> #VALUE! | CA16: =IF(BX16="","",(VLOOKUP(BX16,Table_corresp!$J$3:$M$70,4,0))) -> #VALUE! | CB16: =IF(#REF!>0,((((#REF!/BY16)^BZ16)-1)/CA16),"") -> #REF! | CC16: =IF(CB16="","",BN16-CB16) -> #REF! | CD16: =IF(CC16="","",IF(CC16>0.25,"ralentissement",IF(AND(CC16<=0.25,CC16>=-0.25),"stable",IF(CC16<-0.25,"accélération")))) -> #REF! | CE16: =IF(BR16<>0,((YEAR(BR16)-YEAR(BD16))*12+MONTH(BR16)-MONTH(BD16)),"") -> #VALUE! | CI16: =IF(CE16="","",(VLOOKUP(CE16,Table_corresp!$E$3:$F$230,2,0))) -> #VALUE! | CJ16: =IF(CI16="","",(CONCATENATE(AP16," / ",CI16))) -> #VALUE! | CK16: =IF(CJ16="","",(VLOOKUP(CJ16,Table_corresp!$J$3:$M$70,2,0))) -> #VALUE! | CL16: =IF(CJ16="","",(VLOOKUP(CJ16,Table_corresp!$J$3:$M$70,3,0))) -> #VALUE! | CM16: =IF(CJ16="","",(VLOOKUP(CJ16,Table_corresp!$J$3:$M$70,4,0))) -> #VALUE! | CN16: =IF(#REF!>0,((((#REF!/CK16)^CL16)-1)/CM16),"") -> #REF! | CO16: =IF(CN16="","",BZ16-CN16) -> #REF! | CP16: =IF(CO16="","",IF(CO16>0.25,"ralentissement",IF(AND(CO16<=0.25,CO16>=-0.25),"stable",IF(CO16<-0.25,"accélération")))) -> #REF! | CQ16: =IF(CD16<>0,((YEAR(CD16)-YEAR(BP16))*12+MONTH(CD16)-MONTH(BP16)),"") -> #REF! | CU16: =IF(CQ16="","",(VLOOKUP(CQ16,Table_corresp!$E$3:$F$230,2,0))) -> #REF! | CV16: =IF(CU16="","",(CONCATENATE(BB16," / ",CU16))) -> #REF! | CW16: =IF(CV16="","",(VLOOKUP(CV16,Table_corresp!$J$3:$M$70,2,0))) -> #REF! | CX16: =IF(CV16="","",(VLOOKUP(CV16,Table_corresp!$J$3:$M$70,3,0))) -> #REF! | CY16: =IF(CV16="","",(VLOOKUP(CV16,Table_corresp!$J$3:$M$70,4,0))) -> #REF! | CZ16: =IF(#REF!>0,((((#REF!/CW16)^CX16)-1)/CY16),"") -> #REF! | DA16: =IF(CZ16="","",CL16-CZ16) -> #REF! | DB16: =IF(DA16="","",IF(DA16>0.25,"ralentissement",IF(AND(DA16<=0.25,DA16>=-0.25),"stable",IF(DA16<-0.25,"accélération")))) -> #REF! | DC16: =IF(CP16<>0,((YEAR(CP16)-YEAR(CB16))*12+MONTH(CP16)-MONTH(CB16)),"") -> #REF!
A17: 15 | B17: 1 | F17: 27 | G17: 1.2 | H17: 18.75 | I17: =VLOOKUP(T17,Table_corresp!$E$3:$F$230,2,0) -> 5.5 | J17: =CONCATENATE(B17," / ",I17) -> 1 / 5,5 | K17: =VLOOKUP(J17,Table_corresp!$J$3:$M$70,2,0) -> 15.46 | L17: =VLOOKUP(J17,Table_corresp!$J$3:$M$70,3,0) -> -0.33 | M17: =VLOOKUP(J17,Table_corresp!$J$3:$M$70,4,0) -> -0.025 | N17: =IF(H17>0,((((H17/K17)^L17)-1)/M17),"") -> 2.4673954 | O17: Surpoids | P17: 41773 | Q17: 39634 | R17: =DATEDIF(Q17,TODAY(),"y")&" ans "&DATEDIF(Q17,TODAY(),"ym")&" mois" -> 9 ans 3 mois | S17: =VLOOKUP(R17,Table_corresp!$A$3:$B$230,2,0) -> [9-12[ | T17: =DATEDIF(Q17,P17,"y")&" ans "&DATEDIF(Q17,P17,"ym")&" mois" -> 5 ans 10 mois | U17: =VLOOKUP(T17,Table_corresp!$A$3:$B$230,2,0) -> [3-6[ | Y17: =IF(X17<>0,(DATEDIF(Q17,X17,"y")&" ans "&DATEDIF(Q17,X17,"ym")&" mois"),"") | AA17: =IF(Y17="","",(VLOOKUP(Y17,Table_corresp!$E$3:$F$230,2,0))) | AB17: =IF(AA17="","",(CONCATENATE(B17," / ",AA17))) | AC17: =IF(AB17="","",(VLOOKUP(AB17,Table_corresp!$J$3:$M$70,2,0))) | AD17: =IF(AB17="","",(VLOOKUP(AB17,Table_corresp!$J$3:$M$70,3,0))) | AE17: =IF(AB17="","",(VLOOKUP(AB17,Table_corresp!$J$3:$M$70,4,0))) | AF17: =IF(Z17>0,((((Z17/AC17)^AD17)-1)/AE17),"") | AG17: =IF(AF17="","",N17-AF17) | AH17: =IF(AG17="","",IF(AG17>0.25,"ralentissement",IF(AND(AG17<=0.25,AG17>=-0.25),"stable",IF(AG17<-0.25,"accélération")))) | AI17: =IF(X17<>0,((YEAR(X17)-YEAR(P17))*12+MONTH(X17)-MONTH(P17)),"") | AK17: =IF(AJ17<>0,(DATEDIF(Q17,AJ17,"y")&" ans "&DATEDIF(Q17,AJ17,"ym")&" mois"),"") | AM17: =IF(AK17="","",(VLOOKUP(AK17,Table_corresp!$E$3:$F$230,2,0))) | AN17: =IF(AM17="","",(CONCATENATE(B17," / ",AM17))) | AO17: =IF(AN17="","",(VLOOKUP(AN17,Table_corresp!$J$3:$M$70,2,0))) | AP17: =IF(AN17="","",(VLOOKUP(AN17,Table_corresp!$J$3:$M$70,3,0))) | AQ17: =IF(AN17="","",(VLOOKUP(AN17,Table_corresp!$J$3:$M$70,4,0))) | AR17: =IF(AL17>0,((((AL17/AO17)^AP17)-1)/AQ17),"") | AS17: =IF(AR17="","",AF17-AR17) | AT17: =IF(AS17="","",IF(AS17>0.25,"ralentissement",IF(AND(AS17<=0.25,AS17>=-0.25),"stable",IF(AS17<-0.25,"accélération")))) | AU17: =IF(AJ17<>0,((YEAR(AJ17)-YEAR(X17))*12+MONTH(AJ17)-MONTH(X17)),"") | AY17: =IF(AU17="","",(VLOOKUP(AU17,Table_corresp!$E$3:$F$230,2,0))) | AZ17: =IF(AY17="","",(CONCATENATE(L17," / ",AY17))) | BA17: =IF(AZ17="","",(VLOOKUP(AZ17,Table_corresp!$J$3:$M$70,2,0))) | BB17: =IF(AZ17="","",(VLOOKUP(AZ17,Table_corresp!$J$3:$M$70,3,0))) | BC17: =IF(AZ17="","",(VLOOKUP(AZ17,Table_corresp!$J$3:$M$70,4,0))) | BD17: =IF(AV17>0,((((AV17/BA17)^BB17)-1)/BC17),"") | BE17: =IF(BD17="","",AP17-BD17) | BF17: =IF(BE17="","",IF(BE17>0.25,"ralentissement",IF(AND(BE17<=0.25,BE17>=-0.25),"stable",IF(BE17<-0.25,"accélération")))) | BG17: =IF(AT17<>0,((YEAR(AT17)-YEAR(AH17))*12+MONTH(AT17)-MONTH(AH17)),"") -> #VALUE! | BK17: =IF(BG17="","",(VLOOKUP(BG17,Table_corresp!$E$3:$F$230,2,0))) -> #VALUE! | BL17: =IF(BK17="","",(CONCATENATE(V17," / ",BK17))) -> #VALUE! | BM17: =IF(BL17="","",(VLOOKUP(BL17,Table_corresp!$J$3:$M$70,2,0))) -> #VALUE! | BN17: =IF(BL17="","",(VLOOKUP(BL17,Table_corresp!$J$3:$M$70,3,0))) -> #VALUE! | BO17: =IF(BL17="","",(VLOOKUP(BL17,Table_corresp!$J$3:$M$70,4,0))) -> #VALUE! | BP17: =IF(BH17>0,((((BH17/BM17)^BN17)-1)/BO17),"") | BQ17: =IF(BP17="","",BB17-BP17) | BR17: =IF(BQ17="","",IF(BQ17>0.25,"ralentissement",IF(AND(BQ17<=0.25,BQ17>=-0.25),"stable",IF(BQ17<-0.25,"accélération")))) | BS17: =IF(BF17<>0,((YEAR(BF17)-YEAR(AR17))*12+MONTH(BF17)-MONTH(AR17)),"") -> #VALUE! | BW17: =IF(BS17="","",(VLOOKUP(BS17,Table_corresp!$E$3:$F$230,2,0))) -> #VALUE! | BX17: =IF(BW17="","",(CONCATENATE(AF17," / ",BW17))) -> #VALUE! | BY17: =IF(BX17="","",(VLOOKUP(BX17,Table_corresp!$J$3:$M$70,2,0))) -> #VALUE! | BZ17: =IF(BX17="","",(VLOOKUP(BX17,Table_corresp!$J$3:$M$70,3,0))) -> #VALUE! | CA17: =IF(BX17="","",(VLOOKUP(BX17,Table_corresp!$J$3:$M$70,4,0))) -> #VALUE! | CB17: =IF(#REF!>0,((((#REF!/BY17)^BZ17)-1)/CA17),"") -> #REF! | CC17: =IF(CB17="","",BN17-CB17) -> #REF! | CD17: =IF(CC17="","",IF(CC17>0.25,"ralentissement",IF(AND(CC17<=0.25,CC17>=-0.25),"stable",IF(CC17<-0.25,"accélération")))) -> #REF! | CE17: =IF(BR17<>0,((YEAR(BR17)-YEAR(BD17))*12+MONTH(BR17)-MONTH(BD17)),"") -> #VALUE! | CI17: =IF(CE17="","",(VLOOKUP(CE17,Table_corresp!$E$3:$F$230,2,0))) -> #VALUE! | CJ17: =IF(CI17="","",(CONCATENATE(AP17," / ",CI17))) -> #VALUE! | CK17: =IF(CJ17="","",(VLOOKUP(CJ17,Table_corresp!$J$3:$M$70,2,0))) -> #VALUE! | CL17: =IF(CJ17="","",(VLOOKUP(CJ17,Table_corresp!$J$3:$M$70,3,0))) -> #VALUE! | CM17: =IF(CJ17="","",(VLOOKUP(CJ17,Table_corresp!$J$3:$M$70,4,0))) -> #VALUE! | CN17: =IF(#REF!>0,((((#REF!/CK17)^CL17)-1)/CM17),"") -> #REF! | CO17: =IF(CN17="","",BZ17-CN17) -> #REF! | CP17: =IF(CO17="","",IF(CO17>0.25,"ralentissement",IF(AND(CO17<=0.25,CO17>=-0.25),"stable",IF(CO17<-0.25,"accélération")))) -> #REF! | CQ17: =IF(CD17<>0,((YEAR(CD17)-YEAR(BP17))*12+MONTH(CD17)-MONTH(BP17)),"") -> #REF! | CU17: =IF(CQ17="","",(VLOOKUP(CQ17,Table_corresp!$E$3:$F$230,2,0))) -> #REF! | CV17: =IF(CU17="","",(CONCATENATE(BB17," / ",CU17))) -> #REF! | CW17: =IF(CV17="","",(VLOOKUP(CV17,Table_corresp!$J$3:$M$70,2,0))) -> #REF! | CX17: =IF(CV17="","",(VLOOKUP(CV17,Table_corresp!$J$3:$M$70,3,0))) -> #REF! | CY17: =IF(CV17="","",(VLOOKUP(CV17,Table_corresp!$J$3:$M$70,4,0))) -> #REF! | CZ17: =IF(#REF!>0,((((#REF!/CW17)^CX17)-1)/CY17),"") -> #REF! | DA17: =IF(CZ17="","",CL17-CZ17) -> #REF! | DB17: =IF(DA17="","",IF(DA17>0.25,"ralentissement",IF(AND(DA17<=0.25,DA17>=-0.25),"stable",IF(DA17<-0.25,"accélération")))) -> #REF! | DC17: =IF(CP17<>0,((YEAR(CP17)-YEAR(CB17))*12+MONTH(CP17)-MONTH(CB17)),"") -> #REF!
A18: 16 | B18: 1 | F18: 26 | G18: 1.12 | H18: 20.727041 | I18: =VLOOKUP(T18,Table_corresp!$E$3:$F$230,2,0) -> 3.5 | J18: =CONCATENATE(B18," / ",I18) -> 1 / 3,5 | K18: =VLOOKUP(J18,Table_corresp!$J$3:$M$70,2,0) -> 15.81 | L18: =VLOOKUP(J18,Table_corresp!$J$3:$M$70,3,0) -> -0.32 | M18: =VLOOKUP(J18,Table_corresp!$J$3:$M$70,4,0) -> -0.0229 | N18: =IF(H18>0,((((H18/K18)^L18)-1)/M18),"") -> 3.6247376 | O18: Obésité | P18: 41773 | Q18: 40335 | R18: =DATEDIF(Q18,TODAY(),"y")&" ans "&DATEDIF(Q18,TODAY(),"ym")&" mois" -> 7 ans 4 mois | S18: =VLOOKUP(R18,Table_corresp!$A$3:$B$230,2,0) -> [6-9[ | T18: =DATEDIF(Q18,P18,"y")&" ans "&DATEDIF(Q18,P18,"ym")&" mois" -> 3 ans 11 mois | U18: =VLOOKUP(T18,Table_corresp!$A$3:$B$230,2,0) -> [3-6[ | Y18: =IF(X18<>0,(DATEDIF(Q18,X18,"y")&" ans "&DATEDIF(Q18,X18,"ym")&" mois"),"") | AA18: =IF(Y18="","",(VLOOKUP(Y18,Table_corresp!$E$3:$F$230,2,0))) | AB18: =IF(AA18="","",(CONCATENATE(B18," / ",AA18))) | AC18: =IF(AB18="","",(VLOOKUP(AB18,Table_corresp!$J$3:$M$70,2,0))) | AD18: =IF(AB18="","",(VLOOKUP(AB18,Table_corresp!$J$3:$M$70,3,0))) | AE18: =IF(AB18="","",(VLOOKUP(AB18,Table_corresp!$J$3:$M$70,4,0))) | AF18: =IF(Z18>0,((((Z18/AC18)^AD18)-1)/AE18),"") | AG18: =IF(AF18="","",N18-AF18) | AH18: =IF(AG18="","",IF(AG18>0.25,"ralentissement",IF(AND(AG18<=0.25,AG18>=-0.25),"stable",IF(AG18<-0.25,"accélération")))) | AI18: =IF(X18<>0,((YEAR(X18)-YEAR(P18))*12+MONTH(X18)-MONTH(P18)),"") | AK18: =IF(AJ18<>0,(DATEDIF(Q18,AJ18,"y")&" ans "&DATEDIF(Q18,AJ18,"ym")&" mois"),"") | AM18: =IF(AK18="","",(VLOOKUP(AK18,Table_corresp!$E$3:$F$230,2,0))) | AN18: =IF(AM18="","",(CONCATENATE(B18," / ",AM18))) | AO18: =IF(AN18="","",(VLOOKUP(AN18,Table_corresp!$J$3:$M$70,2,0))) | AP18: =IF(AN18="","",(VLOOKUP(AN18,Table_corresp!$J$3:$M$70,3,0))) | AQ18: =IF(AN18="","",(VLOOKUP(AN18,Table_corresp!$J$3:$M$70,4,0))) | AR18: =IF(AL18>0,((((AL18/AO18)^AP18)-1)/AQ18),"") | AS18: =IF(AR18="","",AF18-AR18) | AT18: =IF(AS18="","",IF(AS18>0.25,"ralentissement",IF(AND(AS18<=0.25,AS18>=-0.25),"stable",IF(AS18<-0.25,"accélération")))) | AU18: =IF(AJ18<>0,((YEAR(AJ18)-YEAR(X18))*12+MONTH(AJ18)-MONTH(X18)),"") | AY18: =IF(AU18="","",(VLOOKUP(AU18,Table_corresp!$E$3:$F$230,2,0))) | AZ18: =IF(AY18="","",(CONCATENATE(L18," / ",AY18))) | BA18: =IF(AZ18="","",(VLOOKUP(AZ18,Table_corresp!$J$3:$M$70,2,0))) | BB18: =IF(AZ18="","",(VLOOKUP(AZ18,Table_corresp!$J$3:$M$70,3,0))) | BC18: =IF(AZ18="","",(VLOOKUP(AZ18,Table_corresp!$J$3:$M$70,4,0))) | BD18: =IF(AV18>0,((((AV18/BA18)^BB18)-1)/BC18),"") | BE18: =IF(BD18="","",AP18-BD18) | BF18: =IF(BE18="","",IF(BE18>0.25,"ralentissement",IF(AND(BE18<=0.25,BE18>=-0.25),"stable",IF(BE18<-0.25,"accélération")))) | BG18: =IF(AT18<>0,((YEAR(AT18)-YEAR(AH18))*12+MONTH(AT18)-MONTH(AH18)),"") -> #VALUE! | BK18: =IF(BG18="","",(VLOOKUP(BG18,Table_corresp!$E$3:$F$230,2,0))) -> #VALUE! | BL18: =IF(BK18="","",(CONCATENATE(V18," / ",BK18))) -> #VALUE! | BM18: =IF(BL18="","",(VLOOKUP(BL18,Table_corresp!$J$3:$M$70,2,0))) -> #VALUE! | BN18: =IF(BL18="","",(VLOOKUP(BL18,Table_corresp!$J$3:$M$70,3,0))) -> #VALUE! | BO18: =IF(BL18="","",(VLOOKUP(BL18,Table_corresp!$J$3:$M$70,4,0))) -> #VALUE! | BP18: =IF(BH18>0,((((BH18/BM18)^BN18)-1)/BO18),"") | BQ18: =IF(BP18="","",BB18-BP18) | BR18: =IF(BQ18="","",IF(BQ18>0.25,"ralentissement",IF(AND(BQ18<=0.25,BQ18>=-0.25),"stable",IF(BQ18<-0.25,"accélération")))) | BS18: =IF(BF18<>0,((YEAR(BF18)-YEAR(AR18))*12+MONTH(BF18)-MONTH(AR18)),"") -> #VALUE! | BW18: =IF(BS18="","",(VLOOKUP(BS18,Table_corresp!$E$3:$F$230,2,0))) -> #VALUE! | BX18: =IF(BW18="","",(CONCATENATE(AF18," / ",BW18))) -> #VALUE! | BY18: =IF(BX18="","",(VLOOKUP(BX18,Table_corresp!$J$3:$M$70,2,0))) -> #VALUE! | BZ18: =IF(BX18="","",(VLOOKUP(BX18,Table_corresp!$J$3:$M$70,3,0))) -> #VALUE! | CA18: =IF(BX18="","",(VLOOKUP(BX18,Table_corresp!$J$3:$M$70,4,0))) -> #VALUE! | CB18: =IF(#REF!>0,((((#REF!/BY18)^BZ18)-1)/CA18),"") -> #REF! | CC18: =IF(CB18="","",BN18-CB18) -> #REF! | CD18: =IF(CC18="","",IF(CC18>0.25,"ralentissement",IF(AND(CC18<=0.25,CC18>=-0.25),"stable",IF(CC18<-0.25,"accélération")))) -> #REF! | CE18: =IF(BR18<>0,((YEAR(BR18)-YEAR(BD18))*12+MONTH(BR18)-MONTH(BD18)),"") -> #VALUE! | CI18: =IF(CE18="","",(VLOOKUP(CE18,Table_corresp!$E$3:$F$230,2,0))) -> #VALUE! | CJ18: =IF(CI18="","",(CONCATENATE(AP18," / ",CI18))) -> #VALUE! | CK18: =IF(CJ18="","",(VLOOKUP(CJ18,Table_corresp!$J$3:$M$70,2,0))) -> #VALUE! | CL18: =IF(CJ18="","",(VLOOKUP(CJ18,Table_corresp!$J$3:$M$70,3,0))) -> #VALUE! | CM18: =IF(CJ18="","",(VLOOKUP(CJ18,Table_corresp!$J$3:$M$70,4,0))) -> #VALUE! | CN18: =IF(#REF!>0,((((#REF!/CK18)^CL18)-1)/CM18),"") -> #REF! | CO18: =IF(CN18="","",BZ18-CN18) -> #REF! | CP18: =IF(CO18="","",IF(CO18>0.25,"ralentissement",IF(AND(CO18<=0.25,CO18>=-0.25),"stable",IF(CO18<-0.25,"accélération")))) -> #REF! | CQ18: =IF(CD18<>0,((YEAR(CD18)-YEAR(BP18))*12+MONTH(CD18)-MONTH(BP18)),"") -> #REF! | CU18: =IF(CQ18="","",(VLOOKUP(CQ18,Table_corresp!$E$3:$F$230,2,0))) -> #REF! | CV18: =IF(CU18="","",(CONCATENATE(BB18," / ",CU18))) -> #REF! | CW18: =IF(CV18="","",(VLOOKUP(CV18,Table_corresp!$J$3:$M$70,2,0))) -> #REF! | CX18: =IF(CV18="","",(VLOOKUP(CV18,Table_corresp!$J$3:$M$70,3,0))) -> #REF! | CY18: =IF(CV18="","",(VLOOKUP(CV18,Table_corresp!$J$3:$M$70,4,0))) -> #REF! | CZ18: =IF(#REF!>0,((((#REF!/CW18)^CX18)-1)/CY18),"") -> #REF! | DA18: =IF(CZ18="","",CL18-CZ18) -> #REF! | DB18: =IF(DA18="","",IF(DA18>0.25,"ralentissement",IF(AND(DA18<=0.25,DA18>=-0.25),"stable",IF(DA18<-0.25,"accélération")))) -> #REF! | DC18: =IF(CP18<>0,((YEAR(CP18)-YEAR(CB18))*12+MONTH(CP18)-MONTH(CB18)),"") -> #REF!
A19: 17 | B19: 2 | F19: 59 | G19: 1.41 | H19: 29.676576 | I19: =VLOOKUP(T19,Table_corresp!$E$3:$F$230,2,0) -> 10.5 | J19: =CONCATENATE(B19," / ",I19) -> 2 / 10,5 | K19: =VLOOKUP(J19,Table_corresp!$J$3:$M$70,2,0) -> 16.44 | L19: =VLOOKUP(J19,Table_corresp!$J$3:$M$70,3,0) -> -0.69 | M19: =VLOOKUP(J19,Table_corresp!$J$3:$M$70,4,0) -> -0.0734 | N19: =IF(H19>0,((((H19/K19)^L19)-1)/M19),"") -> 4.5601706 | O19: Obésité | P19: 41773 | Q19: 37831 | R19: =DATEDIF(Q19,TODAY(),"y")&" ans "&DATEDIF(Q19,TODAY(),"ym")&" mois" -> 14 ans 2 mois | S19: =VLOOKUP(R19,Table_corresp!$A$3:$B$230,2,0) -> > 12 | T19: =DATEDIF(Q19,P19,"y")&" ans "&DATEDIF(Q19,P19,"ym")&" mois" -> 10 ans 9 mois | U19: =VLOOKUP(T19,Table_corresp!$A$3:$B$230,2,0) -> [9-12[ | Y19: =IF(X19<>0,(DATEDIF(Q19,X19,"y")&" ans "&DATEDIF(Q19,X19,"ym")&" mois"),"") | AA19: =IF(Y19="","",(VLOOKUP(Y19,Table_corresp!$E$3:$F$230,2,0))) | AB19: =IF(AA19="","",(CONCATENATE(B19," / ",AA19))) | AC19: =IF(AB19="","",(VLOOKUP(AB19,Table_corresp!$J$3:$M$70,2,0))) | AD19: =IF(AB19="","",(VLOOKUP(AB19,Table_corresp!$J$3:$M$70,3,0))) | AE19: =IF(AB19="","",(VLOOKUP(AB19,Table_corresp!$J$3:$M$70,4,0))) | AF19: =IF(Z19>0,((((Z19/AC19)^AD19)-1)/AE19),"") | AG19: =IF(AF19="","",N19-AF19) | AH19: =IF(AG19="","",IF(AG19>0.25,"ralentissement",IF(AND(AG19<=0.25,AG19>=-0.25),"stable",IF(AG19<-0.25,"accélération")))) | AI19: =IF(X19<>0,((YEAR(X19)-YEAR(P19))*12+MONTH(X19)-MONTH(P19)),"") | AK19: =IF(AJ19<>0,(DATEDIF(Q19,AJ19,"y")&" ans "&DATEDIF(Q19,AJ19,"ym")&" mois"),"") | AM19: =IF(AK19="","",(VLOOKUP(AK19,Table_corresp!$E$3:$F$230,2,0))) | AN19: =IF(AM19="","",(CONCATENATE(B19," / ",AM19))) | AO19: =IF(AN19="","",(VLOOKUP(AN19,Table_corresp!$J$3:$M$70,2,0))) | AP19: =IF(AN19="","",(VLOOKUP(AN19,Table_corresp!$J$3:$M$70,3,0))) | AQ19: =IF(AN19="","",(VLOOKUP(AN19,Table_corresp!$J$3:$M$70,4,0))) | AR19: =IF(AL19>0,((((AL19/AO19)^AP19)-1)/AQ19),"") | AS19: =IF(AR19="","",AF19-AR19) | AT19: =IF(AS19="","",IF(AS19>0.25,"ralentissement",IF(AND(AS19<=0.25,AS19>=-0.25),"stable",IF(AS19<-0.25,"accélération")))) | AU19: =IF(AJ19<>0,((YEAR(AJ19)-YEAR(X19))*12+MONTH(AJ19)-MONTH(X19)),"") | AY19: =IF(AU19="","",(VLOOKUP(AU19,Table_corresp!$E$3:$F$230,2,0))) | AZ19: =IF(AY19="","",(CONCATENATE(L19," / ",AY19))) | BA19: =IF(AZ19="","",(VLOOKUP(AZ19,Table_corresp!$J$3:$M$70,2,0))) | BB19: =IF(AZ19="","",(VLOOKUP(AZ19,Table_corresp!$J$3:$M$70,3,0))) | BC19: =IF(AZ19="","",(VLOOKUP(AZ19,Table_corresp!$J$3:$M$70,4,0))) | BD19: =IF(AV19>0,((((AV19/BA19)^BB19)-1)/BC19),"") | BE19: =IF(BD19="","",AP19-BD19) | BF19: =IF(BE19="","",IF(BE19>0.25,"ralentissement",IF(AND(BE19<=0.25,BE19>=-0.25),"stable",IF(BE19<-0.25,"accélération")))) | BG19: =IF(AT19<>0,((YEAR(AT19)-YEAR(AH19))*12+MONTH(AT19)-MONTH(AH19)),"") -> #VALUE! | BK19: =IF(BG19="","",(VLOOKUP(BG19,Table_corresp!$E$3:$F$230,2,0))) -> #VALUE! | BL19: =IF(BK19="","",(CONCATENATE(V19," / ",BK19))) -> #VALUE! | BM19: =IF(BL19="","",(VLOOKUP(BL19,Table_corresp!$J$3:$M$70,2,0))) -> #VALUE! | BN19: =IF(BL19="","",(VLOOKUP(BL19,Table_corresp!$J$3:$M$70,3,0))) -> #VALUE! | BO19: =IF(BL19="","",(VLOOKUP(BL19,Table_corresp!$J$3:$M$70,4,0))) -> #VALUE! | BP19: =IF(BH19>0,((((BH19/BM19)^BN19)-1)/BO19),"") | BQ19: =IF(BP19="","",BB19-BP19) | BR19: =IF(BQ19="","",IF(BQ19>0.25,"ralentissement",IF(AND(BQ19<=0.25,BQ19>=-0.25),"stable",IF(BQ19<-0.25,"accélération")))) | BS19: =IF(BF19<>0,((YEAR(BF19)-YEAR(AR19))*12+MONTH(BF19)-MONTH(AR19)),"") -> #VALUE! | BW19: =IF(BS19="","",(VLOOKUP(BS19,Table_corresp!$E$3:$F$230,2,0))) -> #VALUE! | BX19: =IF(BW19="","",(CONCATENATE(AF19," / ",BW19))) -> #VALUE! | BY19: =IF(BX19="","",(VLOOKUP(BX19,Table_corresp!$J$3:$M$70,2,0))) -> #VALUE! | BZ19: =IF(BX19="","",(VLOOKUP(BX19,Table_corresp!$J$3:$M$70,3,0))) -> #VALUE! | CA19: =IF(BX19="","",(VLOOKUP(BX19,Table_corresp!$J$3:$M$70,4,0))) -> #VALUE! | CB19: =IF(#REF!>0,((((#REF!/BY19)^BZ19)-1)/CA19),"") -> #REF! | CC19: =IF(CB19="","",BN19-CB19) -> #REF! | CD19: =IF(CC19="","",IF(CC19>0.25,"ralentissement",IF(AND(CC19<=0.25,CC19>=-0.25),"stable",IF(CC19<-0.25,"accélération")))) -> #REF! | CE19: =IF(BR19<>0,((YEAR(BR19)-YEAR(BD19))*12+MONTH(BR19)-MONTH(BD19)),"") -> #VALUE! | CI19: =IF(CE19="","",(VLOOKUP(CE19,Table_corresp!$E$3:$F$230,2,0))) -> #VALUE! | CJ19: =IF(CI19="","",(CONCATENATE(AP19," / ",CI19))) -> #VALUE! | CK19: =IF(CJ19="","",(VLOOKUP(CJ19,Table_corresp!$J$3:$M$70,2,0))) -> #VALUE! | CL19: =IF(CJ19="","",(VLOOKUP(CJ19,Table_corresp!$J$3:$M$70,3,0))) -> #VALUE! | CM19: =IF(CJ19="","",(VLOOKUP(CJ19,Table_corresp!$J$3:$M$70,4,0))) -> #VALUE! | CN19: =IF(#REF!>0,((((#REF!/CK19)^CL19)-1)/CM19),"") -> #REF! | CO19: =IF(CN19="","",BZ19-CN19) -> #REF! | CP19: =IF(CO19="","",IF(CO19>0.25,"ralentissement",IF(AND(CO19<=0.25,CO19>=-0.25),"stable",IF(CO19<-0.25,"accélération")))) -> #REF! | CQ19: =IF(CD19<>0,((YEAR(CD19)-YEAR(BP19))*12+MONTH(CD19)-MONTH(BP19)),"") -> #REF! | CU19: =IF(CQ19="","",(VLOOKUP(CQ19,Table_corresp!$E$3:$F$230,2,0))) -> #REF! | CV19: =IF(CU19="","",(CONCATENATE(BB19," / ",CU19))) -> #REF! | CW19: =IF(CV19="","",(VLOOKUP(CV19,Table_corresp!$J$3:$M$70,2,0))) -> #REF! | CX19: =IF(CV19="","",(VLOOKUP(CV19,Table_corresp!$J$3:$M$70,3,0))) -> #REF! | CY19: =IF(CV19="","",(VLOOKUP(CV19,Table_corresp!$J$3:$M$70,4,0))) -> #REF! | CZ19: =IF(#REF!>0,((((#REF!/CW19)^CX19)-1)/CY19),"") -> #REF! | DA19: =IF(CZ19="","",CL19-CZ19) -> #REF! | DB19: =IF(DA19="","",IF(DA19>0.25,"ralentissement",IF(AND(DA19<=0.25,DA19>=-0.25),"stable",IF(DA19<-0.25,"accélération")))) -> #REF! | DC19: =IF(CP19<>0,((YEAR(CP19)-YEAR(CB19))*12+MONTH(CP19)-MONTH(CB19)),"") -> #REF!
A20: 18 | B20: 1 | F20: 44 | G20: 1.3 | H20: 26.035503 | I20: =VLOOKUP(T20,Table_corresp!$E$3:$F$230,2,0) -> 6 | J20: =CONCATENATE(B20," / ",I20) -> 1 / 6 | K20: =VLOOKUP(J20,Table_corresp!$J$3:$M$70,2,0) -> 15.44 | L20: =VLOOKUP(J20,Table_corresp!$J$3:$M$70,3,0) -> -0.37 | M20: =VLOOKUP(J20,Table_corresp!$J$3:$M$70,4,0) -> -0.0288 | N20: =IF(H20>0,((((H20/K20)^L20)-1)/M20),"") -> 6.1036738 | O20: Obésité | P20: 41773 | Q20: 39491 | R20: =DATEDIF(Q20,TODAY(),"y")&" ans "&DATEDIF(Q20,TODAY(),"ym")&" mois" -> 9 ans 8 mois | S20: =VLOOKUP(R20,Table_corresp!$A$3:$B$230,2,0) -> [9-12[ | T20: =DATEDIF(Q20,P20,"y")&" ans "&DATEDIF(Q20,P20,"ym")&" mois" -> 6 ans 3 mois | U20: =VLOOKUP(T20,Table_corresp!$A$3:$B$230,2,0) -> [6-9[ | X20: 42053 | Y20: =IF(X20<>0,(DATEDIF(Q20,X20,"y")&" ans "&DATEDIF(Q20,X20,"ym")&" mois"),"") -> 7 ans 0 mois | AA20: =IF(Y20="","",(VLOOKUP(Y20,Table_corresp!$E$3:$F$230,2,0))) -> 7 | AB20: =IF(AA20="","",(CONCATENATE(B20," / ",AA20))) -> 1 / 7 | AC20: =IF(AB20="","",(VLOOKUP(AB20,Table_corresp!$J$3:$M$70,2,0))) -> 15.53 | AD20: =IF(AB20="","",(VLOOKUP(AB20,Table_corresp!$J$3:$M$70,3,0))) -> -0.47 | AE20: =IF(AB20="","",(VLOOKUP(AB20,Table_corresp!$J$3:$M$70,4,0))) -> -0.0388 | AF20: =IF(Z20>0,((((Z20/AC20)^AD20)-1)/AE20),"") | AG20: =IF(AF20="","",N20-AF20) | AH20: =IF(AG20="","",IF(AG20>0.25,"ralentissement",IF(AND(AG20<=0.25,AG20>=-0.25),"stable",IF(AG20<-0.25,"accélération")))) | AI20: =IF(X20<>0,((YEAR(X20)-YEAR(P20))*12+MONTH(X20)-MONTH(P20)),"") -> 9 | AJ20: 42212 | AK20: =IF(AJ20<>0,(DATEDIF(Q20,AJ20,"y")&" ans "&DATEDIF(Q20,AJ20,"ym")&" mois"),"") -> 7 ans 5 mois | AL20: 27.1 | AM20: =IF(AK20="","",(VLOOKUP(AK20,Table_corresp!$E$3:$F$230,2,0))) -> 7 | AN20: =IF(AM20="","",(CONCATENATE(B20," / ",AM20))) -> 1 / 7 | AO20: =IF(AN20="","",(VLOOKUP(AN20,Table_corresp!$J$3:$M$70,2,0))) -> 15.53 | AP20: =IF(AN20="","",(VLOOKUP(AN20,Table_corresp!$J$3:$M$70,3,0))) -> -0.47 | AQ20: =IF(AN20="","",(VLOOKUP(AN20,Table_corresp!$J$3:$M$70,4,0))) -> -0.0388 | AR20: =IF(AL20>0,((((AL20/AO20)^AP20)-1)/AQ20),"") -> 5.9340353 | AS20: =IF(AR20="","",AF20-AR20) -> #VALUE! | AT20: =IF(AS20="","",IF(AS20>0.25,"ralentissement",IF(AND(AS20<=0.25,AS20>=-0.25),"stable",IF(AS20<-0.25,"accélération")))) -> #VALUE! | AU20: =IF(AJ20<>0,((YEAR(AJ20)-YEAR(X20))*12+MONTH(AJ20)-MONTH(X20)),"") -> 5 | AV20: 42249 | AX20: 26.8 | AY20: =IF(AU20="","",(VLOOKUP(AU20,Table_corresp!$E$3:$F$230,2,0))) -> #N/A | AZ20: =IF(AY20="","",(CONCATENATE(L20," / ",AY20))) -> #N/A | BA20: =IF(AZ20="","",(VLOOKUP(AZ20,Table_corresp!$J$3:$M$70,2,0))) -> #N/A | BB20: =IF(AZ20="","",(VLOOKUP(AZ20,Table_corresp!$J$3:$M$70,3,0))) -> #N/A | BC20: =IF(AZ20="","",(VLOOKUP(AZ20,Table_corresp!$J$3:$M$70,4,0))) -> #N/A | BD20: =IF(AV20>0,((((AV20/BA20)^BB20)-1)/BC20),"") -> #N/A | BE20: =IF(BD20="","",AP20-BD20) -> #N/A | BF20: =IF(BE20="","",IF(BE20>0.25,"ralentissement",IF(AND(BE20<=0.25,BE20>=-0.25),"stable",IF(BE20<-0.25,"accélération")))) -> #N/A | BG20: =IF(AT20<>0,((YEAR(AT20)-YEAR(AH20))*12+MONTH(AT20)-MONTH(AH20)),"") -> #VALUE! | BJ20: 26.4 | BK20: =IF(BG20="","",(VLOOKUP(BG20,Table_corresp!$E$3:$F$230,2,0))) -> #VALUE! | BL20: =IF(BK20="","",(CONCATENATE(V20," / ",BK20))) -> #VALUE! | BM20: =IF(BL20="","",(VLOOKUP(BL20,Table_corresp!$J$3:$M$70,2,0))) -> #VALUE! | BN20: =IF(BL20="","",(VLOOKUP(BL20,Table_corresp!$J$3:$M$70,3,0))) -> #VALUE! | BO20: =IF(BL20="","",(VLOOKUP(BL20,Table_corresp!$J$3:$M$70,4,0))) -> #VALUE! | BP20: =IF(BH20>0,((((BH20/BM20)^BN20)-1)/BO20),"") | BQ20: =IF(BP20="","",BB20-BP20) | BR20: =IF(BQ20="","",IF(BQ20>0.25,"ralentissement",IF(AND(BQ20<=0.25,BQ20>=-0.25),"stable",IF(BQ20<-0.25,"accélération")))) | BS20: =IF(BF20<>0,((YEAR(BF20)-YEAR(AR20))*12+MONTH(BF20)-MONTH(AR20)),"") -> #N/A | BW20: =IF(BS20="","",(VLOOKUP(BS20,Table_corresp!$E$3:$F$230,2,0))) -> #N/A | BX20: =IF(BW20="","",(CONCATENATE(AF20," / ",BW20))) -> #N/A | BY20: =IF(BX20="","",(VLOOKUP(BX20,Table_corresp!$J$3:$M$70,2,0))) -> #N/A | BZ20: =IF(BX20="","",(VLOOKUP(BX20,Table_corresp!$J$3:$M$70,3,0))) -> #N/A | CA20: =IF(BX20="","",(VLOOKUP(BX20,Table_corresp!$J$3:$M$70,4,0))) -> #N/A | CB20: =IF(#REF!>0,((((#REF!/BY20)^BZ20)-1)/CA20),"") -> #REF! | CC20: =IF(CB20="","",BN20-CB20) -> #REF! | CD20: =IF(CC20="","",IF(CC20>0.25,"ralentissement",IF(AND(CC20<=0.25,CC20>=-0.25),"stable",IF(CC20<-0.25,"accélération")))) -> #REF! | CE20: =IF(BR20<>0,((YEAR(BR20)-YEAR(BD20))*12+MONTH(BR20)-MONTH(BD20)),"") -> #VALUE! | CI20: =IF(CE20="","",(VLOOKUP(CE20,Table_corresp!$E$3:$F$230,2,0))) -> #VALUE! | CJ20: =IF(CI20="","",(CONCATENATE(AP20," / ",CI20))) -> #VALUE! | CK20: =IF(CJ20="","",(VLOOKUP(CJ20,Table_corresp!$J$3:$M$70,2,0))) -> #VALUE! | CL20: =IF(CJ20="","",(VLOOKUP(CJ20,Table_corresp!$J$3:$M$70,3,0))) -> #VALUE! | CM20: =IF(CJ20="","",(VLOOKUP(CJ20,Table_corresp!$J$3:$M$70,4,0))) -> #VALUE! | CN20: =IF(#REF!>0,((((#REF!/CK20)^CL20)-1)/CM20),"") -> #REF! | CO20: =IF(CN20="","",BZ20-CN20) -> #REF! | CP20: =IF(CO20="","",IF(CO20>0.25,"ralentissement",IF(AND(CO20<=0.25,CO20>=-0.25),"stable",IF(CO20<-0.25,"accélération")))) -> #REF! | CQ20: =IF(CD20<>0,((YEAR(CD20)-YEAR(BP20))*12+MONTH(CD20)-MONTH(BP20)),"") -> #REF! | CU20: =IF(CQ20="","",(VLOOKUP(CQ20,Table_corresp!$E$3:$F$230,2,0))) -> #REF! | CV20: =IF(CU20="","",(CONCATENATE(BB20," / ",CU20))) -> #REF! | CW20: =IF(CV20="","",(VLOOKUP(CV20,Table_corresp!$J$3:$M$70,2,0))) -> #REF! | CX20: =IF(CV20="","",(VLOOKUP(CV20,Table_corresp!$J$3:$M$70,3,0))) -> #REF! | CY20: =IF(CV20="","",(VLOOKUP(CV20,Table_corresp!$J$3:$M$70,4,0))) -> #REF! | CZ20: =IF(#REF!>0,((((#REF!/CW20)^CX20)-1)/CY20),"") -> #REF! | DA20: =IF(CZ20="","",CL20-CZ20) -> #REF! | DB20: =IF(DA20="","",IF(DA20>0.25,"ralentissement",IF(AND(DA20<=0.25,DA20>=-0.25),"stable",IF(DA20<-0.25,"accélération")))) -> #REF! | DC20: =IF(CP20<>0,((YEAR(CP20)-YEAR(CB20))*12+MONTH(CP20)-MONTH(CB20)),"") -> #REF!
A21: 19 | B21: 2 | F21: 41.5 | G21: 1.35 | H21: 22.770919 | I21: =VLOOKUP(T21,Table_corresp!$E$3:$F$230,2,0) -> 7.5 | J21: =CONCATENATE(B21," / ",I21) -> 2 / 7,5 | K21: =VLOOKUP(J21,Table_corresp!$J$3:$M$70,2,0) -> 15.32 | L21: =VLOOKUP(J21,Table_corresp!$J$3:$M$70,3,0) -> -0.5 | M21: =VLOOKUP(J21,Table_corresp!$J$3:$M$70,4,0) -> -0.044 | N21: =IF(H21>0,((((H21/K21)^L21)-1)/M21),"") -> 4.0855336 | O21: Obésité | P21: 41775 | Q21: 38856 | R21: =DATEDIF(Q21,TODAY(),"y")&" ans "&DATEDIF(Q21,TODAY(),"ym")&" mois" -> 11 ans 5 mois | S21: =VLOOKUP(R21,Table_corresp!$A$3:$B$230,2,0) -> [9-12[ | T21: =DATEDIF(Q21,P21,"y")&" ans "&DATEDIF(Q21,P21,"ym")&" mois" -> 7 ans 11 mois | U21: =VLOOKUP(T21,Table_corresp!$A$3:$B$230,2,0) -> [6-9[ | Y21: =IF(X21<>0,(DATEDIF(Q21,X21,"y")&" ans "&DATEDIF(Q21,X21,"ym")&" mois"),"") | AA21: =IF(Y21="","",(VLOOKUP(Y21,Table_corresp!$E$3:$F$230,2,0))) | AB21: =IF(AA21="","",(CONCATENATE(B21," / ",AA21))) | AC21: =IF(AB21="","",(VLOOKUP(AB21,Table_corresp!$J$3:$M$70,2,0))) | AD21: =IF(AB21="","",(VLOOKUP(AB21,Table_corresp!$J$3:$M$70,3,0))) | AE21: =IF(AB21="","",(VLOOKUP(AB21,Table_corresp!$J$3:$M$70,4,0))) | AF21: =IF(Z21>0,((((Z21/AC21)^AD21)-1)/AE21),"") | AG21: =IF(AF21="","",N21-AF21) | AH21: =IF(AG21="","",IF(AG21>0.25,"ralentissement",IF(AND(AG21<=0.25,AG21>=-0.25),"stable",IF(AG21<-0.25,"accélération")))) | AI21: =IF(X21<>0,((YEAR(X21)-YEAR(P21))*12+MONTH(X21)-MONTH(P21)),"") | AK21: =IF(AJ21<>0,(DATEDIF(Q21,AJ21,"y")&" ans "&DATEDIF(Q21,AJ21,"ym")&" mois"),"") | AM21: =IF(AK21="","",(VLOOKUP(AK21,Table_corresp!$E$3:$F$230,2,0))) | AN21: =IF(AM21="","",(CONCATENATE(B21," / ",AM21))) | AO21: =IF(AN21="","",(VLOOKUP(AN21,Table_corresp!$J$3:$M$70,2,0))) | AP21: =IF(AN21="","",(VLOOKUP(AN21,Table_corresp!$J$3:$M$70,3,0))) | AQ21: =IF(AN21="","",(VLOOKUP(AN21,Table_corresp!$J$3:$M$70,4,0))) | AR21: =IF(AL21>0,((((AL21/AO21)^AP21)-1)/AQ21),"") | AS21: =IF(AR21="","",AF21-AR21) | AT21: =IF(AS21="","",IF(AS21>0.25,"ralentissement",IF(AND(AS21<=0.25,AS21>=-0.25),"stable",IF(AS21<-0.25,"accélération")))) | AU21: =IF(AJ21<>0,((YEAR(AJ21)-YEAR(X21))*12+MONTH(AJ21)-MONTH(X21)),"") | AY21: =IF(AU21="","",(VLOOKUP(AU21,Table_corresp!$E$3:$F$230,2,0))) | AZ21: =IF(AY21="","",(CONCATENATE(L21," / ",AY21))) | BA21: =IF(AZ21="","",(VLOOKUP(AZ21,Table_corresp!$J$3:$M$70,2,0))) | BB21: =IF(AZ21="","",(VLOOKUP(AZ21,Table_corresp!$J$3:$M$70,3,0))) | BC21: =IF(AZ21="","",(VLOOKUP(AZ21,Table_corresp!$J$3:$M$70,4,0))) | BD21: =IF(AV21>0,((((AV21/BA21)^BB21)-1)/BC21),"") | BE21: =IF(BD21="","",AP21-BD21) | BF21: =IF(BE21="","",IF(BE21>0.25,"ralentissement",IF(AND(BE21<=0.25,BE21>=-0.25),"stable",IF(BE21<-0.25,"accélération")))) | BG21: =IF(AT21<>0,((YEAR(AT21)-YEAR(AH21))*12+MONTH(AT21)-MONTH(AH21)),"") -> #VALUE! | BK21: =IF(BG21="","",(VLOOKUP(BG21,Table_corresp!$E$3:$F$230,2,0))) -> #VALUE! | BL21: =IF(BK21="","",(CONCATENATE(V21," / ",BK21))) -> #VALUE! | BM21: =IF(BL21="","",(VLOOKUP(BL21,Table_corresp!$J$3:$M$70,2,0))) -> #VALUE! | BN21: =IF(BL21="","",(VLOOKUP(BL21,Table_corresp!$J$3:$M$70,3,0))) -> #VALUE! | BO21: =IF(BL21="","",(VLOOKUP(BL21,Table_corresp!$J$3:$M$70,4,0))) -> #VALUE! | BP21: =IF(BH21>0,((((BH21/BM21)^BN21)-1)/BO21),"") | BQ21: =IF(BP21="","",BB21-BP21) | BR21: =IF(BQ21="","",IF(BQ21>0.25,"ralentissement",IF(AND(BQ21<=0.25,BQ21>=-0.25),"stable",IF(BQ21<-0.25,"accélération")))) | BS21: =IF(BF21<>0,((YEAR(BF21)-YEAR(AR21))*12+MONTH(BF21)-MONTH(AR21)),"") -> #VALUE! | BW21: =IF(BS21="","",(VLOOKUP(BS21,Table_corresp!$E$3:$F$230,2,0))) -> #VALUE! | BX21: =IF(BW21="","",(CONCATENATE(AF21," / ",BW21))) -> #VALUE! | BY21: =IF(BX21="","",(VLOOKUP(BX21,Table_corresp!$J$3:$M$70,2,0))) -> #VALUE! | BZ21: =IF(BX21="","",(VLOOKUP(BX21,Table_corresp!$J$3:$M$70,3,0))) -> #VALUE! | CA21: =IF(BX21="","",(VLOOKUP(BX21,Table_corresp!$J$3:$M$70,4,0))) -> #VALUE! | CB21: =IF(#REF!>0,((((#REF!/BY21)^BZ21)-1)/CA21),"") -> #REF! | CC21: =IF(CB21="","",BN21-CB21) -> #REF! | CD21: =IF(CC21="","",IF(CC21>0.25,"ralentissement",IF(AND(CC21<=0.25,CC21>=-0.25),"stable",IF(CC21<-0.25,"accélération")))) -> #REF! | CE21: =IF(BR21<>0,((YEAR(BR21)-YEAR(BD21))*12+MONTH(BR21)-MONTH(BD21)),"") -> #VALUE! | CI21: =IF(CE21="","",(VLOOKUP(CE21,Table_corresp!$E$3:$F$230,2,0))) -> #VALUE! | CJ21: =IF(CI21="","",(CONCATENATE(AP21," / ",CI21))) -> #VALUE! | CK21: =IF(CJ21="","",(VLOOKUP(CJ21,Table_corresp!$J$3:$M$70,2,0))) -> #VALUE! | CL21: =IF(CJ21="","",(VLOOKUP(CJ21,Table_corresp!$J$3:$M$70,3,0))) -> #VALUE! | CM21: =IF(CJ21="","",(VLOOKUP(CJ21,Table_corresp!$J$3:$M$70,4,0))) -> #VALUE! | CN21: =IF(#REF!>0,((((#REF!/CK21)^CL21)-1)/CM21),"") -> #REF! | CO21: =IF(CN21="","",BZ21-CN21) -> #REF! | CP21: =IF(CO21="","",IF(CO21>0.25,"ralentissement",IF(AND(CO21<=0.25,CO21>=-0.25),"stable",IF(CO21<-0.25,"accélération")))) -> #REF! | CQ21: =IF(CD21<>0,((YEAR(CD21)-YEAR(BP21))*12+MONTH(CD21)-MONTH(BP21)),"") -> #REF! | CU21: =IF(CQ21="","",(VLOOKUP(CQ21,Table_corresp!$E$3:$F$230,2,0))) -> #REF! | CV21: =IF(CU21="","",(CONCATENATE(BB21," / ",CU21))) -> #REF! | CW21: =IF(CV21="","",(VLOOKUP(CV21,Table_corresp!$J$3:$M$70,2,0))) -> #REF! | CX21: =IF(CV21="","",(VLOOKUP(CV21,Table_corresp!$J$3:$M$70,3,0))) -> #REF! | CY21: =IF(CV21="","",(VLOOKUP(CV21,Table_corresp!$J$3:$M$70,4,0))) -> #REF! | CZ21: =IF(#REF!>0,((((#REF!/CW21)^CX21)-1)/CY21),"") -> #REF! | DA21: =IF(CZ21="","",CL21-CZ21) -> #REF! | DB21: =IF(DA21="","",IF(DA21>0.25,"ralentissement",IF(AND(DA21<=0.25,DA21>=-0.25),"stable",IF(DA21<-0.25,"accélération")))) -> #REF! | DC21: =IF(CP21<>0,((YEAR(CP21)-YEAR(CB21))*12+MONTH(CP21)-MONTH(CB21)),"") -> #REF!
A22: 20 | B22: 1 | F22: 68 | G22: 1.45 | H22: 32.342449 | I22: =VLOOKUP(T22,Table_corresp!$E$3:$F$230,2,0) -> 12 | J22: =CONCATENATE(B22," / ",I22) -> 1 / 12 | K22: =VLOOKUP(J22,Table_corresp!$J$3:$M$70,2,0) -> 17.2 | L22: =VLOOKUP(J22,Table_corresp!$J$3:$M$70,3,0) -> -0.93 | M22: =VLOOKUP(J22,Table_corresp!$J$3:$M$70,4,0) -> -0.0978 | N22: =IF(H22>0,((((H22/K22)^L22)-1)/M22),"") -> 4.5414759 | O22: Obésité | P22: 41780 | Q22: 37346 | R22: =DATEDIF(Q22,TODAY(),"y")&" ans "&DATEDIF(Q22,TODAY(),"ym")&" mois" -> 15 ans 6 mois | S22: =VLOOKUP(R22,Table_corresp!$A$3:$B$230,2,0) -> > 12 | T22: =DATEDIF(Q22,P22,"y")&" ans "&DATEDIF(Q22,P22,"ym")&" mois" -> 12 ans 1 mois | U22: =VLOOKUP(T22,Table_corresp!$A$3:$B$230,2,0) -> > 12 | Y22: =IF(X22<>0,(DATEDIF(Q22,X22,"y")&" ans "&DATEDIF(Q22,X22,"ym")&" mois"),"") | AA22: =IF(Y22="","",(VLOOKUP(Y22,Table_corresp!$E$3:$F$230,2,0))) | AB22: =IF(AA22="","",(CONCATENATE(B22," / ",AA22))) | AC22: =IF(AB22="","",(VLOOKUP(AB22,Table_corresp!$J$3:$M$70,2,0))) | AD22: =IF(AB22="","",(VLOOKUP(AB22,Table_corresp!$J$3:$M$70,3,0))) | AE22: =IF(AB22="","",(VLOOKUP(AB22,Table_corresp!$J$3:$M$70,4,0))) | AF22: =IF(Z22>0,((((Z22/AC22)^AD22)-1)/AE22),"") | AG22: =IF(AF22="","",N22-AF22) | AH22: =IF(AG22="","",IF(AG22>0.25,"ralentissement",IF(AND(AG22<=0.25,AG22>=-0.25),"stable",IF(AG22<-0.25,"accélération")))) | AI22: =IF(X22<>0,((YEAR(X22)-YEAR(P22))*12+MONTH(X22)-MONTH(P22)),"") | AK22: =IF(AJ22<>0,(DATEDIF(Q22,AJ22,"y")&" ans "&DATEDIF(Q22,AJ22,"ym")&" mois"),"") | AM22: =IF(AK22="","",(VLOOKUP(AK22,Table_corresp!$E$3:$F$230,2,0))) | AN22: =IF(AM22="","",(CONCATENATE(B22," / ",AM22))) | AO22: =IF(AN22="","",(VLOOKUP(AN22,Table_corresp!$J$3:$M$70,2,0))) | AP22: =IF(AN22="","",(VLOOKUP(AN22,Table_corresp!$J$3:$M$70,3,0))) | AQ22: =IF(AN22="","",(VLOOKUP(AN22,Table_corresp!$J$3:$M$70,4,0))) | AR22: =IF(AL22>0,((((AL22/AO22)^AP22)-1)/AQ22),"") | AS22: =IF(AR22="","",AF22-AR22) | AT22: =IF(AS22="","",IF(AS22>0.25,"ralentissement",IF(AND(AS22<=0.25,AS22>=-0.25),"stable",IF(AS22<-0.25,"accélération")))) | AU22: =IF(AJ22<>0,((YEAR(AJ22)-YEAR(X22))*12+MONTH(AJ22)-MONTH(X22)),"") | AY22: =IF(AU22="","",(VLOOKUP(AU22,Table_corresp!$E$3:$F$230,2,0))) | AZ22: =IF(AY22="","",(CONCATENATE(L22," / ",AY22))) | BA22: =IF(AZ22="","",(VLOOKUP(AZ22,Table_corresp!$J$3:$M$70,2,0))) | BB22: =IF(AZ22="","",(VLOOKUP(AZ22,Table_corresp!$J$3:$M$70,3,0))) | BC22: =IF(AZ22="","",(VLOOKUP(AZ22,Table_corresp!$J$3:$M$70,4,0))) | BD22: =IF(AV22>0,((((AV22/BA22)^BB22)-1)/BC22),"") | BE22: =IF(BD22="","",AP22-BD22) | BF22: =IF(BE22="","",IF(BE22>0.25,"ralentissement",IF(AND(BE22<=0.25,BE22>=-0.25),"stable",IF(BE22<-0.25,"accélération")))) | BG22: =IF(AT22<>0,((YEAR(AT22)-YEAR(AH22))*12+MONTH(AT22)-MONTH(AH22)),"") -> #VALUE! | BK22: =IF(BG22="","",(VLOOKUP(BG22,Table_corresp!$E$3:$F$230,2,0))) -> #VALUE! | BL22: =IF(BK22="","",(CONCATENATE(V22," / ",BK22))) -> #VALUE! | BM22: =IF(BL22="","",(VLOOKUP(BL22,Table_corresp!$J$3:$M$70,2,0))) -> #VALUE! | BN22: =IF(BL22="","",(VLOOKUP(BL22,Table_corresp!$J$3:$M$70,3,0))) -> #VALUE! | BO22: =IF(BL22="","",(VLOOKUP(BL22,Table_corresp!$J$3:$M$70,4,0))) -> #VALUE! | BP22: =IF(BH22>0,((((BH22/BM22)^BN22)-1)/BO22),"") | BQ22: =IF(BP22="","",BB22-BP22) | BR22: =IF(BQ22="","",IF(BQ22>0.25,"ralentissement",IF(AND(BQ22<=0.25,BQ22>=-0.25),"stable",IF(BQ22<-0.25,"accélération")))) | BS22: =IF(BF22<>0,((YEAR(BF22)-YEAR(AR22))*12+MONTH(BF22)-MONTH(AR22)),"") -> #VALUE! | BW22: =IF(BS22="","",(VLOOKUP(BS22,Table_corresp!$E$3:$F$230,2,0))) -> #VALUE! | BX22: =IF(BW22="","",(CONCATENATE(AF22," / ",BW22))) -> #VALUE! | BY22: =IF(BX22="","",(VLOOKUP(BX22,Table_corresp!$J$3:$M$70,2,0))) -> #VALUE! | BZ22: =IF(BX22="","",(VLOOKUP(BX22,Table_corresp!$J$3:$M$70,3,0))) -> #VALUE! | CA22: =IF(BX22="","",(VLOOKUP(BX22,Table_corresp!$J$3:$M$70,4,0))) -> #VALUE! | CB22: =IF(#REF!>0,((((#REF!/BY22)^BZ22)-1)/CA22),"") -> #REF! | CC22: =IF(CB22="","",BN22-CB22) -> #REF! | CD22: =IF(CC22="","",IF(CC22>0.25,"ralentissement",IF(AND(CC22<=0.25,CC22>=-0.25),"stable",IF(CC22<-0.25,"accélération")))) -> #REF! | CE22: =IF(BR22<>0,((YEAR(BR22)-YEAR(BD22))*12+MONTH(BR22)-MONTH(BD22)),"") -> #VALUE! | CI22: =IF(CE22="","",(VLOOKUP(CE22,Table_corresp!$E$3:$F$230,2,0))) -> #VALUE! | CJ22: =IF(CI22="","",(CONCATENATE(AP22," / ",CI22))) -> #VALUE! | CK22: =IF(CJ22="","",(VLOOKUP(CJ22,Table_corresp!$J$3:$M$70,2,0))) -> #VALUE! | CL22: =IF(CJ22="","",(VLOOKUP(CJ22,Table_corresp!$J$3:$M$70,3,0))) -> #VALUE! | CM22: =IF(CJ22="","",(VLOOKUP(CJ22,Table_corresp!$J$3:$M$70,4,0))) -> #VALUE! | CN22: =IF(#REF!>0,((((#REF!/CK22)^CL22)-1)/CM22),"") -> #REF! | CO22: =IF(CN22="","",BZ22-CN22) -> #REF! | CP22: =IF(CO22="","",IF(CO22>0.25,"ralentissement",IF(AND(CO22<=0.25,CO22>=-0.25),"stable",IF(CO22<-0.25,"accélération")))) -> #REF! | CQ22: =IF(CD22<>0,((YEAR(CD22)-YEAR(BP22))*12+MONTH(CD22)-MONTH(BP22)),"") -> #REF! | CU22: =IF(CQ22="","",(VLOOKUP(CQ22,Table_corresp!$E$3:$F$230,2,0))) -> #REF! | CV22: =IF(CU22="","",(CONCATENATE(BB22," / ",CU22))) -> #REF! | CW22: =IF(CV22="","",(VLOOKUP(CV22,Table_corresp!$J$3:$M$70,2,0))) -> #REF! | CX22: =IF(CV22="","",(VLOOKUP(CV22,Table_corresp!$J$3:$M$70,3,0))) -> #REF! | CY22: =IF(CV22="","",(VLOOKUP(CV22,Table_corresp!$J$3:$M$70,4,0))) -> #REF! | CZ22: =IF(#REF!>0,((((#REF!/CW22)^CX22)-1)/CY22),"") -> #REF! | DA22: =IF(CZ22="","",CL22-CZ22) -> #REF! | DB22: =IF(DA22="","",IF(DA22>0.25,"ralentissement",IF(AND(DA22<=0.25,DA22>=-0.25),"stable",IF(DA22<-0.25,"accélération")))) -> #REF! | DC22: =IF(CP22<>0,((YEAR(CP22)-YEAR(CB22))*12+MONTH(CP22)-MONTH(CB22)),"") -> #REF!
A23: 21 | B23: 2 | F23: 27.5 | G23: 1.205 | H23: 18.939068 | I23: =VLOOKUP(T23,Table_corresp!$E$3:$F$230,2,0) -> 7 | J23: =CONCATENATE(B23," / ",I23) -> 2 / 7 | K23: =VLOOKUP(J23,Table_corresp!$J$3:$M$70,2,0) -> 15.22 | L23: =VLOOKUP(J23,Table_corresp!$J$3:$M$70,3,0) -> -0.45 | M23: =VLOOKUP(J23,Table_corresp!$J$3:$M$70,4,0) -> -0.0385 | N23: =IF(H23>0,((((H23/K23)^L23)-1)/M23),"") -> 2.4335904 | O23: Surpoids | P23: 41780 | Q23: 39213 | R23: =DATEDIF(Q23,TODAY(),"y")&" ans "&DATEDIF(Q23,TODAY(),"ym")&" mois" -> 10 ans 5 mois | S23: =VLOOKUP(R23,Table_corresp!$A$3:$B$230,2,0) -> [9-12[ | T23: =DATEDIF(Q23,P23,"y")&" ans "&DATEDIF(Q23,P23,"ym")&" mois" -> 7 ans 0 mois | U23: =VLOOKUP(T23,Table_corresp!$A$3:$B$230,2,0) -> [6-9[ | Y23: =IF(X23<>0,(DATEDIF(Q23,X23,"y")&" ans "&DATEDIF(Q23,X23,"ym")&" mois"),"") | AA23: =IF(Y23="","",(VLOOKUP(Y23,Table_corresp!$E$3:$F$230,2,0))) | AB23: =IF(AA23="","",(CONCATENATE(B23," / ",AA23))) | AC23: =IF(AB23="","",(VLOOKUP(AB23,Table_corresp!$J$3:$M$70,2,0))) | AD23: =IF(AB23="","",(VLOOKUP(AB23,Table_corresp!$J$3:$M$70,3,0))) | AE23: =IF(AB23="","",(VLOOKUP(AB23,Table_corresp!$J$3:$M$70,4,0))) | AF23: =IF(Z23>0,((((Z23/AC23)^AD23)-1)/AE23),"") | AG23: =IF(AF23="","",N23-AF23) | AH23: =IF(AG23="","",IF(AG23>0.25,"ralentissement",IF(AND(AG23<=0.25,AG23>=-0.25),"stable",IF(AG23<-0.25,"accélération")))) | AI23: =IF(X23<>0,((YEAR(X23)-YEAR(P23))*12+MONTH(X23)-MONTH(P23)),"") | AK23: =IF(AJ23<>0,(DATEDIF(Q23,AJ23,"y")&" ans "&DATEDIF(Q23,AJ23,"ym")&" mois"),"") | AM23: =IF(AK23="","",(VLOOKUP(AK23,Table_corresp!$E$3:$F$230,2,0))) | AN23: =IF(AM23="","",(CONCATENATE(B23," / ",AM23))) | AO23: =IF(AN23="","",(VLOOKUP(AN23,Table_corresp!$J$3:$M$70,2,0))) | AP23: =IF(AN23="","",(VLOOKUP(AN23,Table_corresp!$J$3:$M$70,3,0))) | AQ23: =IF(AN23="","",(VLOOKUP(AN23,Table_corresp!$J$3:$M$70,4,0))) | AR23: =IF(AL23>0,((((AL23/AO23)^AP23)-1)/AQ23),"") | AS23: =IF(AR23="","",AF23-AR23) | AT23: =IF(AS23="","",IF(AS23>0.25,"ralentissement",IF(AND(AS23<=0.25,AS23>=-0.25),"stable",IF(AS23<-0.25,"accélération")))) | AU23: =IF(AJ23<>0,((YEAR(AJ23)-YEAR(X23))*12+MONTH(AJ23)-MONTH(X23)),"") | AY23: =IF(AU23="","",(VLOOKUP(AU23,Table_corresp!$E$3:$F$230,2,0))) | AZ23: =IF(AY23="","",(CONCATENATE(L23," / ",AY23))) | BA23: =IF(AZ23="","",(VLOOKUP(AZ23,Table_corresp!$J$3:$M$70,2,0))) | BB23: =IF(AZ23="","",(VLOOKUP(AZ23,Table_corresp!$J$3:$M$70,3,0))) | BC23: =IF(AZ23="","",(VLOOKUP(AZ23,Table_corresp!$J$3:$M$70,4,0))) | BD23: =IF(AV23>0,((((AV23/BA23)^BB23)-1)/BC23),"") | BE23: =IF(BD23="","",AP23-BD23) | BF23: =IF(BE23="","",IF(BE23>0.25,"ralentissement",IF(AND(BE23<=0.25,BE23>=-0.25),"stable",IF(BE23<-0.25,"accélération")))) | BG23: =IF(AT23<>0,((YEAR(AT23)-YEAR(AH23))*12+MONTH(AT23)-MONTH(AH23)),"") -> #VALUE! | BK23: =IF(BG23="","",(VLOOKUP(BG23,Table_corresp!$E$3:$F$230,2,0))) -> #VALUE! | BL23: =IF(BK23="","",(CONCATENATE(V23," / ",BK23))) -> #VALUE! | BM23: =IF(BL23="","",(VLOOKUP(BL23,Table_corresp!$J$3:$M$70,2,0))) -> #VALUE! | BN23: =IF(BL23="","",(VLOOKUP(BL23,Table_corresp!$J$3:$M$70,3,0))) -> #VALUE! | BO23: =IF(BL23="","",(VLOOKUP(BL23,Table_corresp!$J$3:$M$70,4,0))) -> #VALUE! | BP23: =IF(BH23>0,((((BH23/BM23)^BN23)-1)/BO23),"") | BQ23: =IF(BP23="","",BB23-BP23) | BR23: =IF(BQ23="","",IF(BQ23>0.25,"ralentissement",IF(AND(BQ23<=0.25,BQ23>=-0.25),"stable",IF(BQ23<-0.25,"accélération")))) | BS23: =IF(BF23<>0,((YEAR(BF23)-YEAR(AR23))*12+MONTH(BF23)-MONTH(AR23)),"") -> #VALUE! | BW23: =IF(BS23="","",(VLOOKUP(BS23,Table_corresp!$E$3:$F$230,2,0))) -> #VALUE! | BX23: =IF(BW23="","",(CONCATENATE(AF23," / ",BW23))) -> #VALUE! | BY23: =IF(BX23="","",(VLOOKUP(BX23,Table_corresp!$J$3:$M$70,2,0))) -> #VALUE! | BZ23: =IF(BX23="","",(VLOOKUP(BX23,Table_corresp!$J$3:$M$70,3,0))) -> #VALUE! | CA23: =IF(BX23="","",(VLOOKUP(BX23,Table_corresp!$J$3:$M$70,4,0))) -> #VALUE! | CB23: =IF(#REF!>0,((((#REF!/BY23)^BZ23)-1)/CA23),"") -> #REF! | CC23: =IF(CB23="","",BN23-CB23) -> #REF! | CD23: =IF(CC23="","",IF(CC23>0.25,"ralentissement",IF(AND(CC23<=0.25,CC23>=-0.25),"stable",IF(CC23<-0.25,"accélération")))) -> #REF! | CE23: =IF(BR23<>0,((YEAR(BR23)-YEAR(BD23))*12+MONTH(BR23)-MONTH(BD23)),"") -> #VALUE! | CI23: =IF(CE23="","",(VLOOKUP(CE23,Table_corresp!$E$3:$F$230,2,0))) -> #VALUE! | CJ23: =IF(CI23="","",(CONCATENATE(AP23," / ",CI23))) -> #VALUE! | CK23: =IF(CJ23="","",(VLOOKUP(CJ23,Table_corresp!$J$3:$M$70,2,0))) -> #VALUE! | CL23: =IF(CJ23="","",(VLOOKUP(CJ23,Table_corresp!$J$3:$M$70,3,0))) -> #VALUE! | CM23: =IF(CJ23="","",(VLOOKUP(CJ23,Table_corresp!$J$3:$M$70,4,0))) -> #VALUE! | CN23: =IF(#REF!>0,((((#REF!/CK23)^CL23)-1)/CM23),"") -> #REF! | CO23: =IF(CN23="","",BZ23-CN23) -> #REF! | CP23: =IF(CO23="","",IF(CO23>0.25,"ralentissement",IF(AND(CO23<=0.25,CO23>=-0.25),"stable",IF(CO23<-0.25,"accélération")))) -> #REF! | CQ23: =IF(CD23<>0,((YEAR(CD23)-YEAR(BP23))*12+MONTH(CD23)-MONTH(BP23)),"") -> #REF! | CU23: =IF(CQ23="","",(VLOOKUP(CQ23,Table_corresp!$E$3:$F$230,2,0))) -> #REF! | CV23: =IF(CU23="","",(CONCATENATE(BB23," / ",CU23))) -> #REF! | CW23: =IF(CV23="","",(VLOOKUP(CV23,Table_corresp!$J$3:$M$70,2,0))) -> #REF! | CX23: =IF(CV23="","",(VLOOKUP(CV23,Table_corresp!$J$3:$M$70,3,0))) -> #REF! | CY23: =IF(CV23="","",(VLOOKUP(CV23,Table_corresp!$J$3:$M$70,4,0))) -> #REF! | CZ23: =IF(#REF!>0,((((#REF!/CW23)^CX23)-1)/CY23),"") -> #REF! | DA23: =IF(CZ23="","",CL23-CZ23) -> #REF! | DB23: =IF(DA23="","",IF(DA23>0.25,"ralentissement",IF(AND(DA23<=0.25,DA23>=-0.25),"stable",IF(DA23<-0.25,"accélération")))) -> #REF! | DC23: =IF(CP23<>0,((YEAR(CP23)-YEAR(CB23))*12+MONTH(CP23)-MONTH(CB23)),"") -> #REF!
A24: 22 | B24: 2 | F24: 52 | G24: 1.49 | H24: 23.422368 | I24: =VLOOKUP(T24,Table_corresp!$E$3:$F$230,2,0) -> 10.5 | J24: =CONCATENATE(B24," / ",I24) -> 2 / 10,5 | K24: =VLOOKUP(J24,Table_corresp!$J$3:$M$70,2,0) -> 16.44 | L24: =VLOOKUP(J24,Table_corresp!$J$3:$M$70,3,0) -> -0.69 | M24: =VLOOKUP(J24,Table_corresp!$J$3:$M$70,4,0) -> -0.0734 | N24: =IF(H24>0,((((H24/K24)^L24)-1)/M24),"") -> 2.9523439 | O24: Surpoids | P24: 41780 | Q24: 37945 | R24: =DATEDIF(Q24,TODAY(),"y")&" ans "&DATEDIF(Q24,TODAY(),"ym")&" mois" -> 13 ans 10 mois | S24: =VLOOKUP(R24,Table_corresp!$A$3:$B$230,2,0) -> > 12 | T24: =DATEDIF(Q24,P24,"y")&" ans "&DATEDIF(Q24,P24,"ym")&" mois" -> 10 ans 6 mois | U24: =VLOOKUP(T24,Table_corresp!$A$3:$B$230,2,0) -> [9-12[ | X24: 42270 | Y24: =IF(X24<>0,(DATEDIF(Q24,X24,"y")&" ans "&DATEDIF(Q24,X24,"ym")&" mois"),"") -> 11 ans 10 mois | Z24: 23.6 | AA24: =IF(Y24="","",(VLOOKUP(Y24,Table_corresp!$E$3:$F$230,2,0))) -> 11.5 | AB24: =IF(AA24="","",(CONCATENATE(B24," / ",AA24))) -> 2 / 11,5 | AC24: =IF(AB24="","",(VLOOKUP(AB24,Table_corresp!$J$3:$M$70,2,0))) -> 17.04 | AD24: =IF(AB24="","",(VLOOKUP(AB24,Table_corresp!$J$3:$M$70,3,0))) -> -0.73 | AE24: =IF(AB24="","",(VLOOKUP(AB24,Table_corresp!$J$3:$M$70,4,0))) -> -0.0818 | AF24: =IF(Z24>0,((((Z24/AC24)^AD24)-1)/AE24),"") -> 2.5867877 | AG24: =IF(AF24="","",N24-AF24) -> 0.36555622 | AH24: =IF(AG24="","",IF(AG24>0.25,"ralentissement",IF(AND(AG24<=0.25,AG24>=-0.25),"stable",IF(AG24<-0.25,"accélération")))) -> ralentissement | AI24: =IF(X24<>0,((YEAR(X24)-YEAR(P24))*12+MONTH(X24)-MONTH(P24)),"") -> 16 | AK24: =IF(AJ24<>0,(DATEDIF(Q24,AJ24,"y")&" ans "&DATEDIF(Q24,AJ24,"ym")&" mois"),"") | AM24: =IF(AK24="","",(VLOOKUP(AK24,Table_corresp!$E$3:$F$230,2,0))) | AN24: =IF(AM24="","",(CONCATENATE(B24," / ",AM24))) | AO24: =IF(AN24="","",(VLOOKUP(AN24,Table_corresp!$J$3:$M$70,2,0))) | AP24: =IF(AN24="","",(VLOOKUP(AN24,Table_corresp!$J$3:$M$70,3,0))) | AQ24: =IF(AN24="","",(VLOOKUP(AN24,Table_corresp!$J$3:$M$70,4,0))) | AR24: =IF(AL24>0,((((AL24/AO24)^AP24)-1)/AQ24),"") | AS24: =IF(AR24="","",AF24-AR24) | AT24: =IF(AS24="","",IF(AS24>0.25,"ralentissement",IF(AND(AS24<=0.25,AS24>=-0.25),"stable",IF(AS24<-0.25,"accélération")))) | AU24: =IF(AJ24<>0,((YEAR(AJ24)-YEAR(X24))*12+MONTH(AJ24)-MONTH(X24)),"") | AY24: =IF(AU24="","",(VLOOKUP(AU24,Table_corresp!$E$3:$F$230,2,0))) | AZ24: =IF(AY24="","",(CONCATENATE(L24," / ",AY24))) | BA24: =IF(AZ24="","",(VLOOKUP(AZ24,Table_corresp!$J$3:$M$70,2,0))) | BB24: =IF(AZ24="","",(VLOOKUP(AZ24,Table_corresp!$J$3:$M$70,3,0))) | BC24: =IF(AZ24="","",(VLOOKUP(AZ24,Table_corresp!$J$3:$M$70,4,0))) | BD24: =IF(AV24>0,((((AV24/BA24)^BB24)-1)/BC24),"") | BE24: =IF(BD24="","",AP24-BD24) | BF24: =IF(BE24="","",IF(BE24>0.25,"ralentissement",IF(AND(BE24<=0.25,BE24>=-0.25),"stable",IF(BE24<-0.25,"accélération")))) | BG24: =IF(AT24<>0,((YEAR(AT24)-YEAR(AH24))*12+MONTH(AT24)-MONTH(AH24)),"") -> #VALUE! | BK24: =IF(BG24="","",(VLOOKUP(BG24,Table_corresp!$E$3:$F$230,2,0))) -> #VALUE! | BL24: =IF(BK24="","",(CONCATENATE(V24," / ",BK24))) -> #VALUE! | BM24: =IF(BL24="","",(VLOOKUP(BL24,Table_corresp!$J$3:$M$70,2,0))) -> #VALUE! | BN24: =IF(BL24="","",(VLOOKUP(BL24,Table_corresp!$J$3:$M$70,3,0))) -> #VALUE! | BO24: =IF(BL24="","",(VLOOKUP(BL24,Table_corresp!$J$3:$M$70,4,0))) -> #VALUE! | BP24: =IF(BH24>0,((((BH24/BM24)^BN24)-1)/BO24),"") | BQ24: =IF(BP24="","",BB24-BP24) | BR24: =IF(BQ24="","",IF(BQ24>0.25,"ralentissement",IF(AND(BQ24<=0.25,BQ24>=-0.25),"stable",IF(BQ24<-0.25,"accélération")))) | BS24: =IF(BF24<>0,((YEAR(BF24)-YEAR(AR24))*12+MONTH(BF24)-MONTH(AR24)),"") -> #VALUE! | BW24: =IF(BS24="","",(VLOOKUP(BS24,Table_corresp!$E$3:$F$230,2,0))) -> #VALUE! | BX24: =IF(BW24="","",(CONCATENATE(AF24," / ",BW24))) -> #VALUE! | BY24: =IF(BX24="","",(VLOOKUP(BX24,Table_corresp!$J$3:$M$70,2,0))) -> #VALUE! | BZ24: =IF(BX24="","",(VLOOKUP(BX24,Table_corresp!$J$3:$M$70,3,0))) -> #VALUE! | CA24: =IF(BX24="","",(VLOOKUP(BX24,Table_corresp!$J$3:$M$70,4,0))) -> #VALUE! | CB24: =IF(#REF!>0,((((#REF!/BY24)^BZ24)-1)/CA24),"") -> #REF! | CC24: =IF(CB24="","",BN24-CB24) -> #REF! | CD24: =IF(CC24="","",IF(CC24>0.25,"ralentissement",IF(AND(CC24<=0.25,CC24>=-0.25),"stable",IF(CC24<-0.25,"accélération")))) -> #REF! | CE24: =IF(BR24<>0,((YEAR(BR24)-YEAR(BD24))*12+MONTH(BR24)-MONTH(BD24)),"") -> #VALUE! | CI24: =IF(CE24="","",(VLOOKUP(CE24,Table_corresp!$E$3:$F$230,2,0))) -> #VALUE! | CJ24: =IF(CI24="","",(CONCATENATE(AP24," / ",CI24))) -> #VALUE! | CK24: =IF(CJ24="","",(VLOOKUP(CJ24,Table_corresp!$J$3:$M$70,2,0))) -> #VALUE! | CL24: =IF(CJ24="","",(VLOOKUP(CJ24,Table_corresp!$J$3:$M$70,3,0))) -> #VALUE! | CM24: =IF(CJ24="","",(VLOOKUP(CJ24,Table_corresp!$J$3:$M$70,4,0))) -> #VALUE! | CN24: =IF(#REF!>0,((((#REF!/CK24)^CL24)-1)/CM24),"") -> #REF! | CO24: =IF(CN24="","",BZ24-CN24) -> #REF! | CP24: =IF(CO24="","",IF(CO24>0.25,"ralentissement",IF(AND(CO24<=0.25,CO24>=-0.25),"stable",IF(CO24<-0.25,"accélération")))) -> #REF! | CQ24: =IF(CD24<>0,((YEAR(CD24)-YEAR(BP24))*12+MONTH(CD24)-MONTH(BP24)),"") -> #REF! | CU24: =IF(CQ24="","",(VLOOKUP(CQ24,Table_corresp!$E$3:$F$230,2,0))) -> #REF! | CV24: =IF(CU24="","",(CONCATENATE(BB24," / ",CU24))) -> #REF! | CW24: =IF(CV24="","",(VLOOKUP(CV24,Table_corresp!$J$3:$M$70,2,0))) -> #REF! | CX24: =IF(CV24="","",(VLOOKUP(CV24,Table_corresp!$J$3:$M$70,3,0))) -> #REF! | CY24: =IF(CV24="","",(VLOOKUP(CV24,Table_corresp!$J$3:$M$70,4,0))) -> #REF! | CZ24: =IF(#REF!>0,((((#REF!/CW24)^CX24)-1)/CY24),"") -> #REF! | DA24: =IF(CZ24="","",CL24-CZ24) -> #REF! | DB24: =IF(DA24="","",IF(DA24>0.25,"ralentissement",IF(AND(DA24<=0.25,DA24>=-0.25),"stable",IF(DA24<-0.25,"accélération")))) -> #REF! | DC24: =IF(CP24<>0,((YEAR(CP24)-YEAR(CB24))*12+MONTH(CP24)-MONTH(CB24)),"") -> #REF!
A25: 23 | B25: 2 | F25: 39 | G25: 1.31 | H25: 22.725948 | I25: =VLOOKUP(T25,Table_corresp!$E$3:$F$230,2,0) -> 6 | J25: =CONCATENATE(B25," / ",I25) -> 2 / 6 | K25: =VLOOKUP(J25,Table_corresp!$J$3:$M$70,2,0) -> 15.13 | L25: =VLOOKUP(J25,Table_corresp!$J$3:$M$70,3,0) -> -0.36 | M25: =VLOOKUP(J25,Table_corresp!$J$3:$M$70,4,0) -> -0.0294 | N25: =IF(H25>0,((((H25/K25)^L25)-1)/M25),"") -> 4.633946 | O25: Obésité | P25: 41786 | Q25: 39533 | R25: =DATEDIF(Q25,TODAY(),"y")&" ans "&DATEDIF(Q25,TODAY(),"ym")&" mois" -> 9 ans 6 mois | S25: =VLOOKUP(R25,Table_corresp!$A$3:$B$230,2,0) -> [9-12[ | T25: =DATEDIF(Q25,P25,"y")&" ans "&DATEDIF(Q25,P25,"ym")&" mois" -> 6 ans 2 mois | U25: =VLOOKUP(T25,Table_corresp!$A$3:$B$230,2,0) -> [6-9[ | X25: 42163 | Y25: =IF(X25<>0,(DATEDIF(Q25,X25,"y")&" ans "&DATEDIF(Q25,X25,"ym")&" mois"),"") -> 7 ans 2 mois | Z25: 24.7 | AA25: =IF(Y25="","",(VLOOKUP(Y25,Table_corresp!$E$3:$F$230,2,0))) -> 7 | AB25: =IF(AA25="","",(CONCATENATE(B25," / ",AA25))) -> 2 / 7 | AC25: =IF(AB25="","",(VLOOKUP(AB25,Table_corresp!$J$3:$M$70,2,0))) -> 15.22 | AD25: =IF(AB25="","",(VLOOKUP(AB25,Table_corresp!$J$3:$M$70,3,0))) -> -0.45 | AE25: =IF(AB25="","",(VLOOKUP(AB25,Table_corresp!$J$3:$M$70,4,0))) -> -0.0385 | AF25: =IF(Z25>0,((((Z25/AC25)^AD25)-1)/AE25),"") -> 5.0852864 | AG25: =IF(AF25="","",N25-AF25) -> -0.45134046 | AH25: =IF(AG25="","",IF(AG25>0.25,"ralentissement",IF(AND(AG25<=0.25,AG25>=-0.25),"stable",IF(AG25<-0.25,"accélération")))) -> accélération | AI25: =IF(X25<>0,((YEAR(X25)-YEAR(P25))*12+MONTH(X25)-MONTH(P25)),"") -> 13 | AK25: =IF(AJ25<>0,(DATEDIF(Q25,AJ25,"y")&" ans "&DATEDIF(Q25,AJ25,"ym")&" mois"),"") | AM25: =IF(AK25="","",(VLOOKUP(AK25,Table_corresp!$E$3:$F$230,2,0))) | AN25: =IF(AM25="","",(CONCATENATE(B25," / ",AM25))) | AO25: =IF(AN25="","",(VLOOKUP(AN25,Table_corresp!$J$3:$M$70,2,0))) | AP25: =IF(AN25="","",(VLOOKUP(AN25,Table_corresp!$J$3:$M$70,3,0))) | AQ25: =IF(AN25="","",(VLOOKUP(AN25,Table_corresp!$J$3:$M$70,4,0))) | AR25: =IF(AL25>0,((((AL25/AO25)^AP25)-1)/AQ25),"") | AS25: =IF(AR25="","",AF25-AR25) | AT25: =IF(AS25="","",IF(AS25>0.25,"ralentissement",IF(AND(AS25<=0.25,AS25>=-0.25),"stable",IF(AS25<-0.25,"accélération")))) | AU25: =IF(AJ25<>0,((YEAR(AJ25)-YEAR(X25))*12+MONTH(AJ25)-MONTH(X25)),"") | AY25: =IF(AU25="","",(VLOOKUP(AU25,Table_corresp!$E$3:$F$230,2,0))) | AZ25: =IF(AY25="","",(CONCATENATE(L25," / ",AY25))) | BA25: =IF(AZ25="","",(VLOOKUP(AZ25,Table_corresp!$J$3:$M$70,2,0))) | BB25: =IF(AZ25="","",(VLOOKUP(AZ25,Table_corresp!$J$3:$M$70,3,0))) | BC25: =IF(AZ25="","",(VLOOKUP(AZ25,Table_corresp!$J$3:$M$70,4,0))) | BD25: =IF(AV25>0,((((AV25/BA25)^BB25)-1)/BC25),"") | BE25: =IF(BD25="","",AP25-BD25) | BF25: =IF(BE25="","",IF(BE25>0.25,"ralentissement",IF(AND(BE25<=0.25,BE25>=-0.25),"stable",IF(BE25<-0.25,"accélération")))) | BG25: =IF(AT25<>0,((YEAR(AT25)-YEAR(AH25))*12+MONTH(AT25)-MONTH(AH25)),"") -> #VALUE! | BK25: =IF(BG25="","",(VLOOKUP(BG25,Table_corresp!$E$3:$F$230,2,0))) -> #VALUE! | BL25: =IF(BK25="","",(CONCATENATE(V25," / ",BK25))) -> #VALUE! | BM25: =IF(BL25="","",(VLOOKUP(BL25,Table_corresp!$J$3:$M$70,2,0))) -> #VALUE! | BN25: =IF(BL25="","",(VLOOKUP(BL25,Table_corresp!$J$3:$M$70,3,0))) -> #VALUE! | BO25: =IF(BL25="","",(VLOOKUP(BL25,Table_corresp!$J$3:$M$70,4,0))) -> #VALUE! | BP25: =IF(BH25>0,((((BH25/BM25)^BN25)-1)/BO25),"") | BQ25: =IF(BP25="","",BB25-BP25) | BR25: =IF(BQ25="","",IF(BQ25>0.25,"ralentissement",IF(AND(BQ25<=0.25,BQ25>=-0.25),"stable",IF(BQ25<-0.25,"accélération")))) | BS25: =IF(BF25<>0,((YEAR(BF25)-YEAR(AR25))*12+MONTH(BF25)-MONTH(AR25)),"") -> #VALUE! | BW25: =IF(BS25="","",(VLOOKUP(BS25,Table_corresp!$E$3:$F$230,2,0))) -> #VALUE! | BX25: =IF(BW25="","",(CONCATENATE(AF25," / ",BW25))) -> #VALUE! | BY25: =IF(BX25="","",(VLOOKUP(BX25,Table_corresp!$J$3:$M$70,2,0))) -> #VALUE! | BZ25: =IF(BX25="","",(VLOOKUP(BX25,Table_corresp!$J$3:$M$70,3,0))) -> #VALUE! | CA25: =IF(BX25="","",(VLOOKUP(BX25,Table_corresp!$J$3:$M$70,4,0))) -> #VALUE! | CB25: =IF(#REF!>0,((((#REF!/BY25)^BZ25)-1)/CA25),"") -> #REF! | CC25: =IF(CB25="","",BN25-CB25) -> #REF! | CD25: =IF(CC25="","",IF(CC25>0.25,"ralentissement",IF(AND(CC25<=0.25,CC25>=-0.25),"stable",IF(CC25<-0.25,"accélération")))) -> #REF! | CE25: =IF(BR25<>0,((YEAR(BR25)-YEAR(BD25))*12+MONTH(BR25)-MONTH(BD25)),"") -> #VALUE! | CI25: =IF(CE25="","",(VLOOKUP(CE25,Table_corresp!$E$3:$F$230,2,0))) -> #VALUE! | CJ25: =IF(CI25="","",(CONCATENATE(AP25," / ",CI25))) -> #VALUE! | CK25: =IF(CJ25="","",(VLOOKUP(CJ25,Table_corresp!$J$3:$M$70,2,0))) -> #VALUE! | CL25: =IF(CJ25="","",(VLOOKUP(CJ25,Table_corresp!$J$3:$M$70,3,0))) -> #VALUE! | CM25: =IF(CJ25="","",(VLOOKUP(CJ25,Table_corresp!$J$3:$M$70,4,0))) -> #VALUE! | CN25: =IF(#REF!>0,((((#REF!/CK25)^CL25)-1)/CM25),"") -> #REF! | CO25: =IF(CN25="","",BZ25-CN25) -> #REF! | CP25: =IF(CO25="","",IF(CO25>0.25,"ralentissement",IF(AND(CO25<=0.25,CO25>=-0.25),"stable",IF(CO25<-0.25,"accélération")))) -> #REF! | CQ25: =IF(CD25<>0,((YEAR(CD25)-YEAR(BP25))*12+MONTH(CD25)-MONTH(BP25)),"") -> #REF! | CU25: =IF(CQ25="","",(VLOOKUP(CQ25,Table_corresp!$E$3:$F$230,2,0))) -> #REF! | CV25: =IF(CU25="","",(CONCATENATE(BB25," / ",CU25))) -> #REF! | CW25: =IF(CV25="","",(VLOOKUP(CV25,Table_corresp!$J$3:$M$70,2,0))) -> #REF! | CX25: =IF(CV25="","",(VLOOKUP(CV25,Table_corresp!$J$3:$M$70,3,0))) -> #REF! | CY25: =IF(CV25="","",(VLOOKUP(CV25,Table_corresp!$J$3:$M$70,4,0))) -> #REF! | CZ25: =IF(#REF!>0,((((#REF!/CW25)^CX25)-1)/CY25),"") -> #REF! | DA25: =IF(CZ25="","",CL25-CZ25) -> #REF! | DB25: =IF(DA25="","",IF(DA25>0.25,"ralentissement",IF(AND(DA25<=0.25,DA25>=-0.25),"stable",IF(DA25<-0.25,"accélération")))) -> #REF! | DC25: =IF(CP25<>0,((YEAR(CP25)-YEAR(CB25))*12+MONTH(CP25)-MONTH(CB25)),"") -> #REF!
A26: 24 | B26: 1 | F26: 67 | G26: 1.51 | H26: 29.384676 | I26: =VLOOKUP(T26,Table_corresp!$E$3:$F$230,2,0) -> 10.5 | J26: =CONCATENATE(B26," / ",I26) -> 1 / 10,5 | K26: =VLOOKUP(J26,Table_corresp!$J$3:$M$70,2,0) -> 16.53 | L26: =VLOOKUP(J26,Table_corresp!$J$3:$M$70,3,0) -> -0.87 | M26: =VLOOKUP(J26,Table_corresp!$J$3:$M$70,4,0) -> -0.0867 | N26: =IF(H26>0,((((H26/K26)^L26)-1)/M26),"") -> 4.5418374 | O26: Obésité | P26: 41787 | Q26: 37823 | R26: =DATEDIF(Q26,TODAY(),"y")&" ans "&DATEDIF(Q26,TODAY(),"ym")&" mois" -> 14 ans 2 mois | S26: =VLOOKUP(R26,Table_corresp!$A$3:$B$230,2,0) -> > 12 | T26: =DATEDIF(Q26,P26,"y")&" ans "&DATEDIF(Q26,P26,"ym")&" mois" -> 10 ans 10 mois | U26: =VLOOKUP(T26,Table_corresp!$A$3:$B$230,2,0) -> [9-12[ | X26: 42095 | Y26: =IF(X26<>0,(DATEDIF(Q26,X26,"y")&" ans "&DATEDIF(Q26,X26,"ym")&" mois"),"") -> 11 ans 8 mois | Z26: 31.6 | AA26: =IF(Y26="","",(VLOOKUP(Y26,Table_corresp!$E$3:$F$230,2,0))) -> 11.5 | AB26: =IF(AA26="","",(CONCATENATE(B26," / ",AA26))) -> 1 / 11,5 | AC26: =IF(AB26="","",(VLOOKUP(AB26,Table_corresp!$J$3:$M$70,2,0))) -> 16.94 | AD26: =IF(AB26="","",(VLOOKUP(AB26,Table_corresp!$J$3:$M$70,3,0))) -> -0.92 | AE26: =IF(AB26="","",(VLOOKUP(AB26,Table_corresp!$J$3:$M$70,4,0))) -> -0.0952 | AF26: =IF(Z26>0,((((Z26/AC26)^AD26)-1)/AE26),"") -> 4.5851618 | AG26: =IF(AF26="","",N26-AF26) -> -0.043324358 | AH26: =IF(AG26="","",IF(AG26>0.25,"ralentissement",IF(AND(AG26<=0.25,AG26>=-0.25),"stable",IF(AG26<-0.25,"accélération")))) -> stable | AI26: =IF(X26<>0,((YEAR(X26)-YEAR(P26))*12+MONTH(X26)-MONTH(P26)),"") -> 11 | AK26: =IF(AJ26<>0,(DATEDIF(Q26,AJ26,"y")&" ans "&DATEDIF(Q26,AJ26,"ym")&" mois"),"") | AM26: =IF(AK26="","",(VLOOKUP(AK26,Table_corresp!$E$3:$F$230,2,0))) | AN26: =IF(AM26="","",(CONCATENATE(B26," / ",AM26))) | AO26: =IF(AN26="","",(VLOOKUP(AN26,Table_corresp!$J$3:$M$70,2,0))) | AP26: =IF(AN26="","",(VLOOKUP(AN26,Table_corresp!$J$3:$M$70,3,0))) | AQ26: =IF(AN26="","",(VLOOKUP(AN26,Table_corresp!$J$3:$M$70,4,0))) | AR26: =IF(AL26>0,((((AL26/AO26)^AP26)-1)/AQ26),"") | AS26: =IF(AR26="","",AF26-AR26) | AT26: =IF(AS26="","",IF(AS26>0.25,"ralentissement",IF(AND(AS26<=0.25,AS26>=-0.25),"stable",IF(AS26<-0.25,"accélération")))) | AU26: =IF(AJ26<>0,((YEAR(AJ26)-YEAR(X26))*12+MONTH(AJ26)-MONTH(X26)),"") | AY26: =IF(AU26="","",(VLOOKUP(AU26,Table_corresp!$E$3:$F$230,2,0))) | AZ26: =IF(AY26="","",(CONCATENATE(L26," / ",AY26))) | BA26: =IF(AZ26="","",(VLOOKUP(AZ26,Table_corresp!$J$3:$M$70,2,0))) | BB26: =IF(AZ26="","",(VLOOKUP(AZ26,Table_corresp!$J$3:$M$70,3,0))) | BC26: =IF(AZ26="","",(VLOOKUP(AZ26,Table_corresp!$J$3:$M$70,4,0))) | BD26: =IF(AV26>0,((((AV26/BA26)^BB26)-1)/BC26),"") | BE26: =IF(BD26="","",AP26-BD26) | BF26: =IF(BE26="","",IF(BE26>0.25,"ralentissement",IF(AND(BE26<=0.25,BE26>=-0.25),"stable",IF(BE26<-0.25,"accélération")))) | BG26: =IF(AT26<>0,((YEAR(AT26)-YEAR(AH26))*12+MONTH(AT26)-MONTH(AH26)),"") -> #VALUE! | BK26: =IF(BG26="","",(VLOOKUP(BG26,Table_corresp!$E$3:$F$230,2,0))) -> #VALUE! | BL26: =IF(BK26="","",(CONCATENATE(V26," / ",BK26))) -> #VALUE! | BM26: =IF(BL26="","",(VLOOKUP(BL26,Table_corresp!$J$3:$M$70,2,0))) -> #VALUE! | BN26: =IF(BL26="","",(VLOOKUP(BL26,Table_corresp!$J$3:$M$70,3,0))) -> #VALUE! | BO26: =IF(BL26="","",(VLOOKUP(BL26,Table_corresp!$J$3:$M$70,4,0))) -> #VALUE! | BP26: =IF(BH26>0,((((BH26/BM26)^BN26)-1)/BO26),"") | BQ26: =IF(BP26="","",BB26-BP26) | BR26: =IF(BQ26="","",IF(BQ26>0.25,"ralentissement",IF(AND(BQ26<=0.25,BQ26>=-0.25),"stable",IF(BQ26<-0.25,"accélération")))) | BS26: =IF(BF26<>0,((YEAR(BF26)-YEAR(AR26))*12+MONTH(BF26)-MONTH(AR26)),"") -> #VALUE! | BW26: =IF(BS26="","",(VLOOKUP(BS26,Table_corresp!$E$3:$F$230,2,0))) -> #VALUE! | BX26: =IF(BW26="","",(CONCATENATE(AF26," / ",BW26))) -> #VALUE! | BY26: =IF(BX26="","",(VLOOKUP(BX26,Table_corresp!$J$3:$M$70,2,0))) -> #VALUE! | BZ26: =IF(BX26="","",(VLOOKUP(BX26,Table_corresp!$J$3:$M$70,3,0))) -> #VALUE! | CA26: =IF(BX26="","",(VLOOKUP(BX26,Table_corresp!$J$3:$M$70,4,0))) -> #VALUE! | CB26: =IF(#REF!>0,((((#REF!/BY26)^BZ26)-1)/CA26),"") -> #REF! | CC26: =IF(CB26="","",BN26-CB26) -> #REF! | CD26: =IF(CC26="","",IF(CC26>0.25,"ralentissement",IF(AND(CC26<=0.25,CC26>=-0.25),"stable",IF(CC26<-0.25,"accélération")))) -> #REF! | CE26: =IF(BR26<>0,((YEAR(BR26)-YEAR(BD26))*12+MONTH(BR26)-MONTH(BD26)),"") -> #VALUE! | CI26: =IF(CE26="","",(VLOOKUP(CE26,Table_corresp!$E$3:$F$230,2,0))) -> #VALUE! | CJ26: =IF(CI26="","",(CONCATENATE(AP26," / ",CI26))) -> #VALUE! | CK26: =IF(CJ26="","",(VLOOKUP(CJ26,Table_corresp!$J$3:$M$70,2,0))) -> #VALUE! | CL26: =IF(CJ26="","",(VLOOKUP(CJ26,Table_corresp!$J$3:$M$70,3,0))) -> #VALUE! | CM26: =IF(CJ26="","",(VLOOKUP(CJ26,Table_corresp!$J$3:$M$70,4,0))) -> #VALUE! | CN26: =IF(#REF!>0,((((#REF!/CK26)^CL26)-1)/CM26),"") -> #REF! | CO26: =IF(CN26="","",BZ26-CN26) -> #REF! | CP26: =IF(CO26="","",IF(CO26>0.25,"ralentissement",IF(AND(CO26<=0.25,CO26>=-0.25),"stable",IF(CO26<-0.25,"accélération")))) -> #REF! | CQ26: =IF(CD26<>0,((YEAR(CD26)-YEAR(BP26))*12+MONTH(CD26)-MONTH(BP26)),"") -> #REF! | CU26: =IF(CQ26="","",(VLOOKUP(CQ26,Table_corresp!$E$3:$F$230,2,0))) -> #REF! | CV26: =IF(CU26="","",(CONCATENATE(BB26," / ",CU26))) -> #REF! | CW26: =IF(CV26="","",(VLOOKUP(CV26,Table_corresp!$J$3:$M$70,2,0))) -> #REF! | CX26: =IF(CV26="","",(VLOOKUP(CV26,Table_corresp!$J$3:$M$70,3,0))) -> #REF! | CY26: =IF(CV26="","",(VLOOKUP(CV26,Table_corresp!$J$3:$M$70,4,0))) -> #REF! | CZ26: =IF(#REF!>0,((((#REF!/CW26)^CX26)-1)/CY26),"") -> #REF! | DA26: =IF(CZ26="","",CL26-CZ26) -> #REF! | DB26: =IF(DA26="","",IF(DA26>0.25,"ralentissement",IF(AND(DA26<=0.25,DA26>=-0.25),"stable",IF(DA26<-0.25,"accélération")))) -> #REF! | DC26: =IF(CP26<>0,((YEAR(CP26)-YEAR(CB26))*12+MONTH(CP26)-MONTH(CB26)),"") -> #REF!
A27: 25 | B27: 2 | F27: 31.8 | G27: 1.27 | H27: 19.716039 | I27: =VLOOKUP(T27,Table_corresp!$E$3:$F$230,2,0) -> 6 | J27: =CONCATENATE(B27," / ",I27) -> 2 / 6 | K27: =VLOOKUP(J27,Table_corresp!$J$3:$M$70,2,0) -> 15.13 | L27: =VLOOKUP(J27,Table_corresp!$J$3:$M$70,3,0) -> -0.36 | M27: =VLOOKUP(J27,Table_corresp!$J$3:$M$70,4,0) -> -0.0294 | N27: =IF(H27>0,((((H27/K27)^L27)-1)/M27),"") -> 3.0921734 | O27: Surpoids | P27: 41792 | Q27: 39538 | R27: =DATEDIF(Q27,TODAY(),"y")&" ans "&DATEDIF(Q27,TODAY(),"ym")&" mois" -> 9 ans 6 mois | S27: =VLOOKUP(R27,Table_corresp!$A$3:$B$230,2,0) -> [9-12[ | T27: =DATEDIF(Q27,P27,"y")&" ans "&DATEDIF(Q27,P27,"ym")&" mois" -> 6 ans 2 mois | U27: =VLOOKUP(T27,Table_corresp!$A$3:$B$230,2,0) -> [6-9[ | Y27: =IF(X27<>0,(DATEDIF(Q27,X27,"y")&" ans "&DATEDIF(Q27,X27,"ym")&" mois"),"") | AA27: =IF(Y27="","",(VLOOKUP(Y27,Table_corresp!$E$3:$F$230,2,0))) | AB27: =IF(AA27="","",(CONCATENATE(B27," / ",AA27))) | AC27: =IF(AB27="","",(VLOOKUP(AB27,Table_corresp!$J$3:$M$70,2,0))) | AD27: =IF(AB27="","",(VLOOKUP(AB27,Table_corresp!$J$3:$M$70,3,0))) | AE27: =IF(AB27="","",(VLOOKUP(AB27,Table_corresp!$J$3:$M$70,4,0))) | AF27: =IF(Z27>0,((((Z27/AC27)^AD27)-1)/AE27),"") | AG27: =IF(AF27="","",N27-AF27) | AH27: =IF(AG27="","",IF(AG27>0.25,"ralentissement",IF(AND(AG27<=0.25,AG27>=-0.25),"stable",IF(AG27<-0.25,"accélération")))) | AI27: =IF(X27<>0,((YEAR(X27)-YEAR(P27))*12+MONTH(X27)-MONTH(P27)),"") | AK27: =IF(AJ27<>0,(DATEDIF(Q27,AJ27,"y")&" ans "&DATEDIF(Q27,AJ27,"ym")&" mois"),"") | AM27: =IF(AK27="","",(VLOOKUP(AK27,Table_corresp!$E$3:$F$230,2,0))) | AN27: =IF(AM27="","",(CONCATENATE(B27," / ",AM27))) | AO27: =IF(AN27="","",(VLOOKUP(AN27,Table_corresp!$J$3:$M$70,2,0))) | AP27: =IF(AN27="","",(VLOOKUP(AN27,Table_corresp!$J$3:$M$70,3,0))) | AQ27: =IF(AN27="","",(VLOOKUP(AN27,Table_corresp!$J$3:$M$70,4,0))) | AR27: =IF(AL27>0,((((AL27/AO27)^AP27)-1)/AQ27),"") | AS27: =IF(AR27="","",AF27-AR27) | AT27: =IF(AS27="","",IF(AS27>0.25,"ralentissement",IF(AND(AS27<=0.25,AS27>=-0.25),"stable",IF(AS27<-0.25,"accélération")))) | AU27: =IF(AJ27<>0,((YEAR(AJ27)-YEAR(X27))*12+MONTH(AJ27)-MONTH(X27)),"") | AY27: =IF(AU27="","",(VLOOKUP(AU27,Table_corresp!$E$3:$F$230,2,0))) | AZ27: =IF(AY27="","",(CONCATENATE(L27," / ",AY27))) | BA27: =IF(AZ27="","",(VLOOKUP(AZ27,Table_corresp!$J$3:$M$70,2,0))) | BB27: =IF(AZ27="","",(VLOOKUP(AZ27,Table_corresp!$J$3:$M$70,3,0))) | BC27: =IF(AZ27="","",(VLOOKUP(AZ27,Table_corresp!$J$3:$M$70,4,0))) | BD27: =IF(AV27>0,((((AV27/BA27)^BB27)-1)/BC27),"") | BE27: =IF(BD27="","",AP27-BD27) | BF27: =IF(BE27="","",IF(BE27>0.25,"ralentissement",IF(AND(BE27<=0.25,BE27>=-0.25),"stable",IF(BE27<-0.25,"accélération")))) | BG27: =IF(AT27<>0,((YEAR(AT27)-YEAR(AH27))*12+MONTH(AT27)-MONTH(AH27)),"") -> #VALUE! | BK27: =IF(BG27="","",(VLOOKUP(BG27,Table_corresp!$E$3:$F$230,2,0))) -> #VALUE! | BL27: =IF(BK27="","",(CONCATENATE(V27," / ",BK27))) -> #VALUE! | BM27: =IF(BL27="","",(VLOOKUP(BL27,Table_corresp!$J$3:$M$70,2,0))) -> #VALUE! | BN27: =IF(BL27="","",(VLOOKUP(BL27,Table_corresp!$J$3:$M$70,3,0))) -> #VALUE! | BO27: =IF(BL27="","",(VLOOKUP(BL27,Table_corresp!$J$3:$M$70,4,0))) -> #VALUE! | BP27: =IF(BH27>0,((((BH27/BM27)^BN27)-1)/BO27),"") | BQ27: =IF(BP27="","",BB27-BP27) | BR27: =IF(BQ27="","",IF(BQ27>0.25,"ralentissement",IF(AND(BQ27<=0.25,BQ27>=-0.25),"stable",IF(BQ27<-0.25,"accélération")))) | BS27: =IF(BF27<>0,((YEAR(BF27)-YEAR(AR27))*12+MONTH(BF27)-MONTH(AR27)),"") -> #VALUE! | BW27: =IF(BS27="","",(VLOOKUP(BS27,Table_corresp!$E$3:$F$230,2,0))) -> #VALUE! | BX27: =IF(BW27="","",(CONCATENATE(AF27," / ",BW27))) -> #VALUE! | BY27: =IF(BX27="","",(VLOOKUP(BX27,Table_corresp!$J$3:$M$70,2,0))) -> #VALUE! | BZ27: =IF(BX27="","",(VLOOKUP(BX27,Table_corresp!$J$3:$M$70,3,0))) -> #VALUE! | CA27: =IF(BX27="","",(VLOOKUP(BX27,Table_corresp!$J$3:$M$70,4,0))) -> #VALUE! | CB27: =IF(#REF!>0,((((#REF!/BY27)^BZ27)-1)/CA27),"") -> #REF! | CC27: =IF(CB27="","",BN27-CB27) -> #REF! | CD27: =IF(CC27="","",IF(CC27>0.25,"ralentissement",IF(AND(CC27<=0.25,CC27>=-0.25),"stable",IF(CC27<-0.25,"accélération")))) -> #REF! | CE27: =IF(BR27<>0,((YEAR(BR27)-YEAR(BD27))*12+MONTH(BR27)-MONTH(BD27)),"") -> #VALUE! | CI27: =IF(CE27="","",(VLOOKUP(CE27,Table_corresp!$E$3:$F$230,2,0))) -> #VALUE! | CJ27: =IF(CI27="","",(CONCATENATE(AP27," / ",CI27))) -> #VALUE! | CK27: =IF(CJ27="","",(VLOOKUP(CJ27,Table_corresp!$J$3:$M$70,2,0))) -> #VALUE! | CL27: =IF(CJ27="","",(VLOOKUP(CJ27,Table_corresp!$J$3:$M$70,3,0))) -> #VALUE! | CM27: =IF(CJ27="","",(VLOOKUP(CJ27,Table_corresp!$J$3:$M$70,4,0))) -> #VALUE! | CN27: =IF(#REF!>0,((((#REF!/CK27)^CL27)-1)/CM27),"") -> #REF! | CO27: =IF(CN27="","",BZ27-CN27) -> #REF! | CP27: =IF(CO27="","",IF(CO27>0.25,"ralentissement",IF(AND(CO27<=0.25,CO27>=-0.25),"stable",IF(CO27<-0.25,"accélération")))) -> #REF! | CQ27: =IF(CD27<>0,((YEAR(CD27)-YEAR(BP27))*12+MONTH(CD27)-MONTH(BP27)),"") -> #REF! | CU27: =IF(CQ27="","",(VLOOKUP(CQ27,Table_corresp!$E$3:$F$230,2,0))) -> #REF! | CV27: =IF(CU27="","",(CONCATENATE(BB27," / ",CU27))) -> #REF! | CW27: =IF(CV27="","",(VLOOKUP(CV27,Table_corresp!$J$3:$M$70,2,0))) -> #REF! | CX27: =IF(CV27="","",(VLOOKUP(CV27,Table_corresp!$J$3:$M$70,3,0))) -> #REF! | CY27: =IF(CV27="","",(VLOOKUP(CV27,Table_corresp!$J$3:$M$70,4,0))) -> #REF! | CZ27: =IF(#REF!>0,((((#REF!/CW27)^CX27)-1)/CY27),"") -> #REF! | DA27: =IF(CZ27="","",CL27-CZ27) -> #REF! | DB27: =IF(DA27="","",IF(DA27>0.25,"ralentissement",IF(AND(DA27<=0.25,DA27>=-0.25),"stable",IF(DA27<-0.25,"accélération")))) -> #REF! | DC27: =IF(CP27<>0,((YEAR(CP27)-YEAR(CB27))*12+MONTH(CP27)-MONTH(CB27)),"") -> #REF!
A28: 26 | B28: 2 | F28: 39 | G28: 1.26 | H28: 24.565382 | I28: =VLOOKUP(T28,Table_corresp!$E$3:$F$230,2,0) -> 6.5 | J28: =CONCATENATE(B28," / ",I28) -> 2 / 6,5 | K28: =VLOOKUP(J28,Table_corresp!$J$3:$M$70,2,0) -> 15.16 | L28: =VLOOKUP(J28,Table_corresp!$J$3:$M$70,3,0) -> -0.41 | M28: =VLOOKUP(J28,Table_corresp!$J$3:$M$70,4,0) -> -0.0342 | N28: =IF(H28>0,((((H28/K28)^L28)-1)/M28),"") -> 5.2498944 | O28: Obésité | P28: 41793 | Q28: 39387 | R28: =DATEDIF(Q28,TODAY(),"y")&" ans "&DATEDIF(Q28,TODAY(),"ym")&" mois" -> 9 ans 11 mois | S28: =VLOOKUP(R28,Table_corresp!$A$3:$B$230,2,0) -> [9-12[ | T28: =DATEDIF(Q28,P28,"y")&" ans "&DATEDIF(Q28,P28,"ym")&" mois" -> 6 ans 7 mois | U28: =VLOOKUP(T28,Table_corresp!$A$3:$B$230,2,0) -> [6-9[ | Y28: =IF(X28<>0,(DATEDIF(Q28,X28,"y")&" ans "&DATEDIF(Q28,X28,"ym")&" mois"),"") | AA28: =IF(Y28="","",(VLOOKUP(Y28,Table_corresp!$E$3:$F$230,2,0))) | AB28: =IF(AA28="","",(CONCATENATE(B28," / ",AA28))) | AC28: =IF(AB28="","",(VLOOKUP(AB28,Table_corresp!$J$3:$M$70,2,0))) | AD28: =IF(AB28="","",(VLOOKUP(AB28,Table_corresp!$J$3:$M$70,3,0))) | AE28: =IF(AB28="","",(VLOOKUP(AB28,Table_corresp!$J$3:$M$70,4,0))) | AF28: =IF(Z28>0,((((Z28/AC28)^AD28)-1)/AE28),"") | AG28: =IF(AF28="","",N28-AF28) | AH28: =IF(AG28="","",IF(AG28>0.25,"ralentissement",IF(AND(AG28<=0.25,AG28>=-0.25),"stable",IF(AG28<-0.25,"accélération")))) | AI28: =IF(X28<>0,((YEAR(X28)-YEAR(P28))*12+MONTH(X28)-MONTH(P28)),"") | AK28: =IF(AJ28<>0,(DATEDIF(Q28,AJ28,"y")&" ans "&DATEDIF(Q28,AJ28,"ym")&" mois"),"") | AM28: =IF(AK28="","",(VLOOKUP(AK28,Table_corresp!$E$3:$F$230,2,0))) | AN28: =IF(AM28="","",(CONCATENATE(B28," / ",AM28))) | AO28: =IF(AN28="","",(VLOOKUP(AN28,Table_corresp!$J$3:$M$70,2,0))) | AP28: =IF(AN28="","",(VLOOKUP(AN28,Table_corresp!$J$3:$M$70,3,0))) | AQ28: =IF(AN28="","",(VLOOKUP(AN28,Table_corresp!$J$3:$M$70,4,0))) | AR28: =IF(AL28>0,((((AL28/AO28)^AP28)-1)/AQ28),"") | AS28: =IF(AR28="","",AF28-AR28) | AT28: =IF(AS28="","",IF(AS28>0.25,"ralentissement",IF(AND(AS28<=0.25,AS28>=-0.25),"stable",IF(AS28<-0.25,"accélération")))) | AU28: =IF(AJ28<>0,((YEAR(AJ28)-YEAR(X28))*12+MONTH(AJ28)-MONTH(X28)),"") | AY28: =IF(AU28="","",(VLOOKUP(AU28,Table_corresp!$E$3:$F$230,2,0))) | AZ28: =IF(AY28="","",(CONCATENATE(L28," / ",AY28))) | BA28: =IF(AZ28="","",(VLOOKUP(AZ28,Table_corresp!$J$3:$M$70,2,0))) | BB28: =IF(AZ28="","",(VLOOKUP(AZ28,Table_corresp!$J$3:$M$70,3,0))) | BC28: =IF(AZ28="","",(VLOOKUP(AZ28,Table_corresp!$J$3:$M$70,4,0))) | BD28: =IF(AV28>0,((((AV28/BA28)^BB28)-1)/BC28),"") | BE28: =IF(BD28="","",AP28-BD28) | BF28: =IF(BE28="","",IF(BE28>0.25,"ralentissement",IF(AND(BE28<=0.25,BE28>=-0.25),"stable",IF(BE28<-0.25,"accélération")))) | BG28: =IF(AT28<>0,((YEAR(AT28)-YEAR(AH28))*12+MONTH(AT28)-MONTH(AH28)),"") -> #VALUE! | BK28: =IF(BG28="","",(VLOOKUP(BG28,Table_corresp!$E$3:$F$230,2,0))) -> #VALUE! | BL28: =IF(BK28="","",(CONCATENATE(V28," / ",BK28))) -> #VALUE! | BM28: =IF(BL28="","",(VLOOKUP(BL28,Table_corresp!$J$3:$M$70,2,0))) -> #VALUE! | BN28: =IF(BL28="","",(VLOOKUP(BL28,Table_corresp!$J$3:$M$70,3,0))) -> #VALUE! | BO28: =IF(BL28="","",(VLOOKUP(BL28,Table_corresp!$J$3:$M$70,4,0))) -> #VALUE! | BP28: =IF(BH28>0,((((BH28/BM28)^BN28)-1)/BO28),"") | BQ28: =IF(BP28="","",BB28-BP28) | BR28: =IF(BQ28="","",IF(BQ28>0.25,"ralentissement",IF(AND(BQ28<=0.25,BQ28>=-0.25),"stable",IF(BQ28<-0.25,"accélération")))) | BS28: =IF(BF28<>0,((YEAR(BF28)-YEAR(AR28))*12+MONTH(BF28)-MONTH(AR28)),"") -> #VALUE! | BW28: =IF(BS28="","",(VLOOKUP(BS28,Table_corresp!$E$3:$F$230,2,0))) -> #VALUE! | BX28: =IF(BW28="","",(CONCATENATE(AF28," / ",BW28))) -> #VALUE! | BY28: =IF(BX28="","",(VLOOKUP(BX28,Table_corresp!$J$3:$M$70,2,0))) -> #VALUE! | BZ28: =IF(BX28="","",(VLOOKUP(BX28,Table_corresp!$J$3:$M$70,3,0))) -> #VALUE! | CA28: =IF(BX28="","",(VLOOKUP(BX28,Table_corresp!$J$3:$M$70,4,0))) -> #VALUE! | CB28: =IF(#REF!>0,((((#REF!/BY28)^BZ28)-1)/CA28),"") -> #REF! | CC28: =IF(CB28="","",BN28-CB28) -> #REF! | CD28: =IF(CC28="","",IF(CC28>0.25,"ralentissement",IF(AND(CC28<=0.25,CC28>=-0.25),"stable",IF(CC28<-0.25,"accélération")))) -> #REF! | CE28: =IF(BR28<>0,((YEAR(BR28)-YEAR(BD28))*12+MONTH(BR28)-MONTH(BD28)),"") -> #VALUE! | CI28: =IF(CE28="","",(VLOOKUP(CE28,Table_corresp!$E$3:$F$230,2,0))) -> #VALUE! | CJ28: =IF(CI28="","",(CONCATENATE(AP28," / ",CI28))) -> #VALUE! | CK28: =IF(CJ28="","",(VLOOKUP(CJ28,Table_corresp!$J$3:$M$70,2,0))) -> #VALUE! | CL28: =IF(CJ28="","",(VLOOKUP(CJ28,Table_corresp!$J$3:$M$70,3,0))) -> #VALUE! | CM28: =IF(CJ28="","",(VLOOKUP(CJ28,Table_corresp!$J$3:$M$70,4,0))) -> #VALUE! | CN28: =IF(#REF!>0,((((#REF!/CK28)^CL28)-1)/CM28),"") -> #REF! | CO28: =IF(CN28="","",BZ28-CN28) -> #REF! | CP28: =IF(CO28="","",IF(CO28>0.25,"ralentissement",IF(AND(CO28<=0.25,CO28>=-0.25),"stable",IF(CO28<-0.25,"accélération")))) -> #REF! | CQ28: =IF(CD28<>0,((YEAR(CD28)-YEAR(BP28))*12+MONTH(CD28)-MONTH(BP28)),"") -> #REF! | CU28: =IF(CQ28="","",(VLOOKUP(CQ28,Table_corresp!$E$3:$F$230,2,0))) -> #REF! | CV28: =IF(CU28="","",(CONCATENATE(BB28," / ",CU28))) -> #REF! | CW28: =IF(CV28="","",(VLOOKUP(CV28,Table_corresp!$J$3:$M$70,2,0))) -> #REF! | CX28: =IF(CV28="","",(VLOOKUP(CV28,Table_corresp!$J$3:$M$70,3,0))) -> #REF! | CY28: =IF(CV28="","",(VLOOKUP(CV28,Table_corresp!$J$3:$M$70,4,0))) -> #REF! | CZ28: =IF(#REF!>0,((((#REF!/CW28)^CX28)-1)/CY28),"") -> #REF! | DA28: =IF(CZ28="","",CL28-CZ28) -> #REF! | DB28: =IF(DA28="","",IF(DA28>0.25,"ralentissement",IF(AND(DA28<=0.25,DA28>=-0.25),"stable",IF(DA28<-0.25,"accélération")))) -> #REF! | DC28: =IF(CP28<>0,((YEAR(CP28)-YEAR(CB28))*12+MONTH(CP28)-MONTH(CB28)),"") -> #REF!
A29: 27 | B29: 2 | F29: 86.5 | G29: 1.47 | H29: 40.029617 | I29: =VLOOKUP(T29,Table_corresp!$E$3:$F$230,2,0) -> 11 | J29: =CONCATENATE(B29," / ",I29) -> 2 / 11 | K29: =VLOOKUP(J29,Table_corresp!$J$3:$M$70,2,0) -> 16.73 | L29: =VLOOKUP(J29,Table_corresp!$J$3:$M$70,3,0) -> -0.71 | M29: =VLOOKUP(J29,Table_corresp!$J$3:$M$70,4,0) -> -0.0777 | N29: =IF(H29>0,((((H29/K29)^L29)-1)/M29),"") -> 5.9426127 | O29: Obésité | P29: 41794 | Q29: 37651 | R29: =DATEDIF(Q29,TODAY(),"y")&" ans "&DATEDIF(Q29,TODAY(),"ym")&" mois" -> 14 ans 8 mois | S29: =VLOOKUP(R29,Table_corresp!$A$3:$B$230,2,0) -> > 12 | T29: =DATEDIF(Q29,P29,"y")&" ans "&DATEDIF(Q29,P29,"ym")&" mois" -> 11 ans 4 mois | U29: =VLOOKUP(T29,Table_corresp!$A$3:$B$230,2,0) -> [9-12[ | X29: 42074 | Y29: =IF(X29<>0,(DATEDIF(Q29,X29,"y")&" ans "&DATEDIF(Q29,X29,"ym")&" mois"),"") -> 12 ans 1 mois | Z29: 39.1 | AA29: =IF(Y29="","",(VLOOKUP(Y29,Table_corresp!$E$3:$F$230,2,0))) -> 12 | AB29: =IF(AA29="","",(CONCATENATE(B29," / ",AA29))) -> 2 / 12 | AC29: =IF(AB29="","",(VLOOKUP(AB29,Table_corresp!$J$3:$M$70,2,0))) -> 17.38 | AD29: =IF(AB29="","",(VLOOKUP(AB29,Table_corresp!$J$3:$M$70,3,0))) -> -0.75 | AE29: =IF(AB29="","",(VLOOKUP(AB29,Table_corresp!$J$3:$M$70,4,0))) -> -0.0859 | AF29: =IF(Z29>0,((((Z29/AC29)^AD29)-1)/AE29),"") -> 5.3040366 | AG29: =IF(AF29="","",N29-AF29) -> 0.63857609 | AH29: =IF(AG29="","",IF(AG29>0.25,"ralentissement",IF(AND(AG29<=0.25,AG29>=-0.25),"stable",IF(AG29<-0.25,"accélération")))) -> ralentissement | AI29: =IF(X29<>0,((YEAR(X29)-YEAR(P29))*12+MONTH(X29)-MONTH(P29)),"") -> 9 | AJ29: 42256 | AK29: =IF(AJ29<>0,(DATEDIF(Q29,AJ29,"y")&" ans "&DATEDIF(Q29,AJ29,"ym")&" mois"),"") -> 12 ans 7 mois | AM29: =IF(AK29="","",(VLOOKUP(AK29,Table_corresp!$E$3:$F$230,2,0))) -> 12.5 | AN29: =IF(AM29="","",(CONCATENATE(B29," / ",AM29))) -> 2 / 12,5 | AO29: =IF(AN29="","",(VLOOKUP(AN29,Table_corresp!$J$3:$M$70,2,0))) -> 17.74 | AP29: =IF(AN29="","",(VLOOKUP(AN29,Table_corresp!$J$3:$M$70,3,0))) -> -0.77 | AQ29: =IF(AN29="","",(VLOOKUP(AN29,Table_corresp!$J$3:$M$70,4,0))) -> -0.0896 | AR29: =IF(AL29>0,((((AL29/AO29)^AP29)-1)/AQ29),"") | AS29: =IF(AR29="","",AF29-AR29) | AT29: =IF(AS29="","",IF(AS29>0.25,"ralentissement",IF(AND(AS29<=0.25,AS29>=-0.25),"stable",IF(AS29<-0.25,"accélération")))) | AU29: =IF(AJ29<>0,((YEAR(AJ29)-YEAR(X29))*12+MONTH(AJ29)-MONTH(X29)),"") -> 6 | AY29: =IF(AU29="","",(VLOOKUP(AU29,Table_corresp!$E$3:$F$230,2,0))) -> #N/A | AZ29: =IF(AY29="","",(CONCATENATE(L29," / ",AY29))) -> #N/A | BA29: =IF(AZ29="","",(VLOOKUP(AZ29,Table_corresp!$J$3:$M$70,2,0))) -> #N/A | BB29: =IF(AZ29="","",(VLOOKUP(AZ29,Table_corresp!$J$3:$M$70,3,0))) -> #N/A | BC29: =IF(AZ29="","",(VLOOKUP(AZ29,Table_corresp!$J$3:$M$70,4,0))) -> #N/A | BD29: =IF(AV29>0,((((AV29/BA29)^BB29)-1)/BC29),"") | BE29: =IF(BD29="","",AP29-BD29) | BF29: =IF(BE29="","",IF(BE29>0.25,"ralentissement",IF(AND(BE29<=0.25,BE29>=-0.25),"stable",IF(BE29<-0.25,"accélération")))) | BG29: =IF(AT29<>0,((YEAR(AT29)-YEAR(AH29))*12+MONTH(AT29)-MONTH(AH29)),"") -> #VALUE! | BK29: =IF(BG29="","",(VLOOKUP(BG29,Table_corresp!$E$3:$F$230,2,0))) -> #VALUE! | BL29: =IF(BK29="","",(CONCATENATE(V29," / ",BK29))) -> #VALUE! | BM29: =IF(BL29="","",(VLOOKUP(BL29,Table_corresp!$J$3:$M$70,2,0))) -> #VALUE! | BN29: =IF(BL29="","",(VLOOKUP(BL29,Table_corresp!$J$3:$M$70,3,0))) -> #VALUE! | BO29: =IF(BL29="","",(VLOOKUP(BL29,Table_corresp!$J$3:$M$70,4,0))) -> #VALUE! | BP29: =IF(BH29>0,((((BH29/BM29)^BN29)-1)/BO29),"") | BQ29: =IF(BP29="","",BB29-BP29) | BR29: =IF(BQ29="","",IF(BQ29>0.25,"ralentissement",IF(AND(BQ29<=0.25,BQ29>=-0.25),"stable",IF(BQ29<-0.25,"accélération")))) | BS29: =IF(BF29<>0,((YEAR(BF29)-YEAR(AR29))*12+MONTH(BF29)-MONTH(AR29)),"") -> #VALUE! | BW29: =IF(BS29="","",(VLOOKUP(BS29,Table_corresp!$E$3:$F$230,2,0))) -> #VALUE! | BX29: =IF(BW29="","",(CONCATENATE(AF29," / ",BW29))) -> #VALUE! | BY29: =IF(BX29="","",(VLOOKUP(BX29,Table_corresp!$J$3:$M$70,2,0))) -> #VALUE! | BZ29: =IF(BX29="","",(VLOOKUP(BX29,Table_corresp!$J$3:$M$70,3,0))) -> #VALUE! | CA29: =IF(BX29="","",(VLOOKUP(BX29,Table_corresp!$J$3:$M$70,4,0))) -> #VALUE! | CB29: =IF(#REF!>0,((((#REF!/BY29)^BZ29)-1)/CA29),"") -> #REF! | CC29: =IF(CB29="","",BN29-CB29) -> #REF! | CD29: =IF(CC29="","",IF(CC29>0.25,"ralentissement",IF(AND(CC29<=0.25,CC29>=-0.25),"stable",IF(CC29<-0.25,"accélération")))) -> #REF! | CE29: =IF(BR29<>0,((YEAR(BR29)-YEAR(BD29))*12+MONTH(BR29)-MONTH(BD29)),"") -> #VALUE! | CI29: =IF(CE29="","",(VLOOKUP(CE29,Table_corresp!$E$3:$F$230,2,0))) -> #VALUE! | CJ29: =IF(CI29="","",(CONCATENATE(AP29," / ",CI29))) -> #VALUE! | CK29: =IF(CJ29="","",(VLOOKUP(CJ29,Table_corresp!$J$3:$M$70,2,0))) -> #VALUE! | CL29: =IF(CJ29="","",(VLOOKUP(CJ29,Table_corresp!$J$3:$M$70,3,0))) -> #VALUE! | CM29: =IF(CJ29="","",(VLOOKUP(CJ29,Table_corresp!$J$3:$M$70,4,0))) -> #VALUE! | CN29: =IF(#REF!>0,((((#REF!/CK29)^CL29)-1)/CM29),"") -> #REF! | CO29: =IF(CN29="","",BZ29-CN29) -> #REF! | CP29: =IF(CO29="","",IF(CO29>0.25,"ralentissement",IF(AND(CO29<=0.25,CO29>=-0.25),"stable",IF(CO29<-0.25,"accélération")))) -> #REF! | CQ29: =IF(CD29<>0,((YEAR(CD29)-YEAR(BP29))*12+MONTH(CD29)-MONTH(BP29)),"") -> #REF! | CU29: =IF(CQ29="","",(VLOOKUP(CQ29,Table_corresp!$E$3:$F$230,2,0))) -> #REF! | CV29: =IF(CU29="","",(CONCATENATE(BB29," / ",CU29))) -> #REF! | CW29: =IF(CV29="","",(VLOOKUP(CV29,Table_corresp!$J$3:$M$70,2,0))) -> #REF! | CX29: =IF(CV29="","",(VLOOKUP(CV29,Table_corresp!$J$3:$M$70,3,0))) -> #REF! | CY29: =IF(CV29="","",(VLOOKUP(CV29,Table_corresp!$J$3:$M$70,4,0))) -> #REF! | CZ29: =IF(#REF!>0,((((#REF!/CW29)^CX29)-1)/CY29),"") -> #REF! | DA29: =IF(CZ29="","",CL29-CZ29) -> #REF! | DB29: =IF(DA29="","",IF(DA29>0.25,"ralentissement",IF(AND(DA29<=0.25,DA29>=-0.25),"stable",IF(DA29<-0.25,"accélération")))) -> #REF! | DC29: =IF(CP29<>0,((YEAR(CP29)-YEAR(CB29))*12+MONTH(CP29)-MONTH(CB29)),"") -> #REF!
A30: 28 | B30: 2 | F30: 34 | G30: 1.33 | H30: 19.220985 | I30: =VLOOKUP(T30,Table_corresp!$E$3:$F$230,2,0) -> 6 | J30: =CONCATENATE(B30," / ",I30) -> 2 / 6 | K30: =VLOOKUP(J30,Table_corresp!$J$3:$M$70,2,0) -> 15.13 | L30: =VLOOKUP(J30,Table_corresp!$J$3:$M$70,3,0) -> -0.36 | M30: =VLOOKUP(J30,Table_corresp!$J$3:$M$70,4,0) -> -0.0294 | N30: =IF(H30>0,((((H30/K30)^L30)-1)/M30),"") -> 2.8077958 | O30: Surpoids | P30: 41813 | Q30: 39484 | R30: =DATEDIF(Q30,TODAY(),"y")&" ans "&DATEDIF(Q30,TODAY(),"ym")&" mois" -> 9 ans 8 mois | S30: =VLOOKUP(R30,Table_corresp!$A$3:$B$230,2,0) -> [9-12[ | T30: =DATEDIF(Q30,P30,"y")&" ans "&DATEDIF(Q30,P30,"ym")&" mois" -> 6 ans 4 mois | U30: =VLOOKUP(T30,Table_corresp!$A$3:$B$230,2,0) -> [6-9[ | Y30: =IF(X30<>0,(DATEDIF(Q30,X30,"y")&" ans "&DATEDIF(Q30,X30,"ym")&" mois"),"") | AA30: =IF(Y30="","",(VLOOKUP(Y30,Table_corresp!$E$3:$F$230,2,0))) | AB30: =IF(AA30="","",(CONCATENATE(B30," / ",AA30))) | AC30: =IF(AB30="","",(VLOOKUP(AB30,Table_corresp!$J$3:$M$70,2,0))) | AD30: =IF(AB30="","",(VLOOKUP(AB30,Table_corresp!$J$3:$M$70,3,0))) | AE30: =IF(AB30="","",(VLOOKUP(AB30,Table_corresp!$J$3:$M$70,4,0))) | AF30: =IF(Z30>0,((((Z30/AC30)^AD30)-1)/AE30),"") | AG30: =IF(AF30="","",N30-AF30) | AH30: =IF(AG30="","",IF(AG30>0.25,"ralentissement",IF(AND(AG30<=0.25,AG30>=-0.25),"stable",IF(AG30<-0.25,"accélération")))) | AI30: =IF(X30<>0,((YEAR(X30)-YEAR(P30))*12+MONTH(X30)-MONTH(P30)),"") | AK30: =IF(AJ30<>0,(DATEDIF(Q30,AJ30,"y")&" ans "&DATEDIF(Q30,AJ30,"ym")&" mois"),"") | AM30: =IF(AK30="","",(VLOOKUP(AK30,Table_corresp!$E$3:$F$230,2,0))) | AN30: =IF(AM30="","",(CONCATENATE(B30," / ",AM30))) | AO30: =IF(AN30="","",(VLOOKUP(AN30,Table_corresp!$J$3:$M$70,2,0))) | AP30: =IF(AN30="","",(VLOOKUP(AN30,Table_corresp!$J$3:$M$70,3,0))) | AQ30: =IF(AN30="","",(VLOOKUP(AN30,Table_corresp!$J$3:$M$70,4,0))) | AR30: =IF(AL30>0,((((AL30/AO30)^AP30)-1)/AQ30),"") | AS30: =IF(AR30="","",AF30-AR30) | AT30: =IF(AS30="","",IF(AS30>0.25,"ralentissement",IF(AND(AS30<=0.25,AS30>=-0.25),"stable",IF(AS30<-0.25,"accélération")))) | AU30: =IF(AJ30<>0,((YEAR(AJ30)-YEAR(X30))*12+MONTH(AJ30)-MONTH(X30)),"") | AY30: =IF(AU30="","",(VLOOKUP(AU30,Table_corresp!$E$3:$F$230,2,0))) | AZ30: =IF(AY30="","",(CONCATENATE(L30," / ",AY30))) | BA30: =IF(AZ30="","",(VLOOKUP(AZ30,Table_corresp!$J$3:$M$70,2,0))) | BB30: =IF(AZ30="","",(VLOOKUP(AZ30,Table_corresp!$J$3:$M$70,3,0))) | BC30: =IF(AZ30="","",(VLOOKUP(AZ30,Table_corresp!$J$3:$M$70,4,0))) | BD30: =IF(AV30>0,((((AV30/BA30)^BB30)-1)/BC30),"") | BE30: =IF(BD30="","",AP30-BD30) | BF30: =IF(BE30="","",IF(BE30>0.25,"ralentissement",IF(AND(BE30<=0.25,BE30>=-0.25),"stable",IF(BE30<-0.25,"accélération")))) | BG30: =IF(AT30<>0,((YEAR(AT30)-YEAR(AH30))*12+MONTH(AT30)-MONTH(AH30)),"") -> #VALUE! | BK30: =IF(BG30="","",(VLOOKUP(BG30,Table_corresp!$E$3:$F$230,2,0))) -> #VALUE! | BL30: =IF(BK30="","",(CONCATENATE(V30," / ",BK30))) -> #VALUE! | BM30: =IF(BL30="","",(VLOOKUP(BL30,Table_corresp!$J$3:$M$70,2,0))) -> #VALUE! | BN30: =IF(BL30="","",(VLOOKUP(BL30,Table_corresp!$J$3:$M$70,3,0))) -> #VALUE! | BO30: =IF(BL30="","",(VLOOKUP(BL30,Table_corresp!$J$3:$M$70,4,0))) -> #VALUE! | BP30: =IF(BH30>0,((((BH30/BM30)^BN30)-1)/BO30),"") | BQ30: =IF(BP30="","",BB30-BP30) | BR30: =IF(BQ30="","",IF(BQ30>0.25,"ralentissement",IF(AND(BQ30<=0.25,BQ30>=-0.25),"stable",IF(BQ30<-0.25,"accélération")))) | BS30: =IF(BF30<>0,((YEAR(BF30)-YEAR(AR30))*12+MONTH(BF30)-MONTH(AR30)),"") -> #VALUE! | BW30: =IF(BS30="","",(VLOOKUP(BS30,Table_corresp!$E$3:$F$230,2,0))) -> #VALUE! | BX30: =IF(BW30="","",(CONCATENATE(AF30," / ",BW30))) -> #VALUE! | BY30: =IF(BX30="","",(VLOOKUP(BX30,Table_corresp!$J$3:$M$70,2,0))) -> #VALUE! | BZ30: =IF(BX30="","",(VLOOKUP(BX30,Table_corresp!$J$3:$M$70,3,0))) -> #VALUE! | CA30: =IF(BX30="","",(VLOOKUP(BX30,Table_corresp!$J$3:$M$70,4,0))) -> #VALUE! | CB30: =IF(#REF!>0,((((#REF!/BY30)^BZ30)-1)/CA30),"") -> #REF! | CC30: =IF(CB30="","",BN30-CB30) -> #REF! | CD30: =IF(CC30="","",IF(CC30>0.25,"ralentissement",IF(AND(CC30<=0.25,CC30>=-0.25),"stable",IF(CC30<-0.25,"accélération")))) -> #REF! | CE30: =IF(BR30<>0,((YEAR(BR30)-YEAR(BD30))*12+MONTH(BR30)-MONTH(BD30)),"") -> #VALUE! | CI30: =IF(CE30="","",(VLOOKUP(CE30,Table_corresp!$E$3:$F$230,2,0))) -> #VALUE! | CJ30: =IF(CI30="","",(CONCATENATE(AP30," / ",CI30))) -> #VALUE! | CK30: =IF(CJ30="","",(VLOOKUP(CJ30,Table_corresp!$J$3:$M$70,2,0))) -> #VALUE! | CL30: =IF(CJ30="","",(VLOOKUP(CJ30,Table_corresp!$J$3:$M$70,3,0))) -> #VALUE! | CM30: =IF(CJ30="","",(VLOOKUP(CJ30,Table_corresp!$J$3:$M$70,4,0))) -> #VALUE! | CN30: =IF(#REF!>0,((((#REF!/CK30)^CL30)-1)/CM30),"") -> #REF! | CO30: =IF(CN30="","",BZ30-CN30) -> #REF! | CP30: =IF(CO30="","",IF(CO30>0.25,"ralentissement",IF(AND(CO30<=0.25,CO30>=-0.25),"stable",IF(CO30<-0.25,"accélération")))) -> #REF! | CQ30: =IF(CD30<>0,((YEAR(CD30)-YEAR(BP30))*12+MONTH(CD30)-MONTH(BP30)),"") -> #REF! | CU30: =IF(CQ30="","",(VLOOKUP(CQ30,Table_corresp!$E$3:$F$230,2,0))) -> #REF! | CV30: =IF(CU30="","",(CONCATENATE(BB30," / ",CU30))) -> #REF! | CW30: =IF(CV30="","",(VLOOKUP(CV30,Table_corresp!$J$3:$M$70,2,0))) -> #REF! | CX30: =IF(CV30="","",(VLOOKUP(CV30,Table_corresp!$J$3:$M$70,3,0))) -> #REF! | CY30: =IF(CV30="","",(VLOOKUP(CV30,Table_corresp!$J$3:$M$70,4,0))) -> #REF! | CZ30: =IF(#REF!>0,((((#REF!/CW30)^CX30)-1)/CY30),"") -> #REF! | DA30: =IF(CZ30="","",CL30-CZ30) -> #REF! | DB30: =IF(DA30="","",IF(DA30>0.25,"ralentissement",IF(AND(DA30<=0.25,DA30>=-0.25),"stable",IF(DA30<-0.25,"accélération")))) -> #REF! | DC30: =IF(CP30<>0,((YEAR(CP30)-YEAR(CB30))*12+MONTH(CP30)-MONTH(CB30)),"") -> #REF!
A31: 29 | B31: 1 | F31: 44 | I31: =VLOOKUP(T31,Table_corresp!$E$3:$F$230,2,0) -> 11 | J31: =CONCATENATE(B31," / ",I31) -> 1 / 11 | K31: =VLOOKUP(J31,Table_corresp!$J$3:$M$70,2,0) -> 16.73 | L31: =VLOOKUP(J31,Table_corresp!$J$3:$M$70,3,0) -> -0.9 | M31: =VLOOKUP(J31,Table_corresp!$J$3:$M$70,4,0) -> -0.0915 | N31: =IF(H31>0,((((H31/K31)^L31)-1)/M31),"") | O31: Surpoids | P31: 41794 | Q31: 37751 | R31: =DATEDIF(Q31,TODAY(),"y")&" ans "&DATEDIF(Q31,TODAY(),"ym")&" mois" -> 14 ans 5 mois | S31: =VLOOKUP(R31,Table_corresp!$A$3:$B$230,2,0) -> > 12 | T31: =DATEDIF(Q31,P31,"y")&" ans "&DATEDIF(Q31,P31,"ym")&" mois" -> 11 ans 0 mois | U31: =VLOOKUP(T31,Table_corresp!$A$3:$B$230,2,0) -> [9-12[ | Y31: =IF(X31<>0,(DATEDIF(Q31,X31,"y")&" ans "&DATEDIF(Q31,X31,"ym")&" mois"),"") | AA31: =IF(Y31="","",(VLOOKUP(Y31,Table_corresp!$E$3:$F$230,2,0))) | AB31: =IF(AA31="","",(CONCATENATE(B31," / ",AA31))) | AC31: =IF(AB31="","",(VLOOKUP(AB31,Table_corresp!$J$3:$M$70,2,0))) | AD31: =IF(AB31="","",(VLOOKUP(AB31,Table_corresp!$J$3:$M$70,3,0))) | AE31: =IF(AB31="","",(VLOOKUP(AB31,Table_corresp!$J$3:$M$70,4,0))) | AF31: =IF(Z31>0,((((Z31/AC31)^AD31)-1)/AE31),"") | AG31: =IF(AF31="","",N31-AF31) | AH31: =IF(AG31="","",IF(AG31>0.25,"ralentissement",IF(AND(AG31<=0.25,AG31>=-0.25),"stable",IF(AG31<-0.25,"accélération")))) | AI31: =IF(X31<>0,((YEAR(X31)-YEAR(P31))*12+MONTH(X31)-MONTH(P31)),"") | AK31: =IF(AJ31<>0,(DATEDIF(Q31,AJ31,"y")&" ans "&DATEDIF(Q31,AJ31,"ym")&" mois"),"") | AM31: =IF(AK31="","",(VLOOKUP(AK31,Table_corresp!$E$3:$F$230,2,0))) | AN31: =IF(AM31="","",(CONCATENATE(B31," / ",AM31))) | AO31: =IF(AN31="","",(VLOOKUP(AN31,Table_corresp!$J$3:$M$70,2,0))) | AP31: =IF(AN31="","",(VLOOKUP(AN31,Table_corresp!$J$3:$M$70,3,0))) | AQ31: =IF(AN31="","",(VLOOKUP(AN31,Table_corresp!$J$3:$M$70,4,0))) | AR31: =IF(AL31>0,((((AL31/AO31)^AP31)-1)/AQ31),"") | AS31: =IF(AR31="","",AF31-AR31) | AT31: =IF(AS31="","",IF(AS31>0.25,"ralentissement",IF(AND(AS31<=0.25,AS31>=-0.25),"stable",IF(AS31<-0.25,"accélération")))) | AU31: =IF(AJ31<>0,((YEAR(AJ31)-YEAR(X31))*12+MONTH(AJ31)-MONTH(X31)),"") | AY31: =IF(AU31="","",(VLOOKUP(AU31,Table_corresp!$E$3:$F$230,2,0))) | AZ31: =IF(AY31="","",(CONCATENATE(L31," / ",AY31))) | BA31: =IF(AZ31="","",(VLOOKUP(AZ31,Table_corresp!$J$3:$M$70,2,0))) | BB31: =IF(AZ31="","",(VLOOKUP(AZ31,Table_corresp!$J$3:$M$70,3,0))) | BC31: =IF(AZ31="","",(VLOOKUP(AZ31,Table_corresp!$J$3:$M$70,4,0))) | BD31: =IF(AV31>0,((((AV31/BA31)^BB31)-1)/BC31),"") | BE31: =IF(BD31="","",AP31-BD31) | BF31: =IF(BE31="","",IF(BE31>0.25,"ralentissement",IF(AND(BE31<=0.25,BE31>=-0.25),"stable",IF(BE31<-0.25,"accélération")))) | BG31: =IF(AT31<>0,((YEAR(AT31)-YEAR(AH31))*12+MONTH(AT31)-MONTH(AH31)),"") -> #VALUE! | BK31: =IF(BG31="","",(VLOOKUP(BG31,Table_corresp!$E$3:$F$230,2,0))) -> #VALUE! | BL31: =IF(BK31="","",(CONCATENATE(V31," / ",BK31))) -> #VALUE! | BM31: =IF(BL31="","",(VLOOKUP(BL31,Table_corresp!$J$3:$M$70,2,0))) -> #VALUE! | BN31: =IF(BL31="","",(VLOOKUP(BL31,Table_corresp!$J$3:$M$70,3,0))) -> #VALUE! | BO31: =IF(BL31="","",(VLOOKUP(BL31,Table_corresp!$J$3:$M$70,4,0))) -> #VALUE! | BP31: =IF(BH31>0,((((BH31/BM31)^BN31)-1)/BO31),"") | BQ31: =IF(BP31="","",BB31-BP31) | BR31: =IF(BQ31="","",IF(BQ31>0.25,"ralentissement",IF(AND(BQ31<=0.25,BQ31>=-0.25),"stable",IF(BQ31<-0.25,"accélération")))) | BS31: =IF(BF31<>0,((YEAR(BF31)-YEAR(AR31))*12+MONTH(BF31)-MONTH(AR31)),"") -> #VALUE! | BW31: =IF(BS31="","",(VLOOKUP(BS31,Table_corresp!$E$3:$F$230,2,0))) -> #VALUE! | BX31: =IF(BW31="","",(CONCATENATE(AF31," / ",BW31))) -> #VALUE! | BY31: =IF(BX31="","",(VLOOKUP(BX31,Table_corresp!$J$3:$M$70,2,0))) -> #VALUE! | BZ31: =IF(BX31="","",(VLOOKUP(BX31,Table_corresp!$J$3:$M$70,3,0))) -> #VALUE! | CA31: =IF(BX31="","",(VLOOKUP(BX31,Table_corresp!$J$3:$M$70,4,0))) -> #VALUE! | CB31: =IF(#REF!>0,((((#REF!/BY31)^BZ31)-1)/CA31),"") -> #REF! | CC31: =IF(CB31="","",BN31-CB31) -> #REF! | CD31: =IF(CC31="","",IF(CC31>0.25,"ralentissement",IF(AND(CC31<=0.25,CC31>=-0.25),"stable",IF(CC31<-0.25,"accélération")))) -> #REF! | CE31: =IF(BR31<>0,((YEAR(BR31)-YEAR(BD31))*12+MONTH(BR31)-MONTH(BD31)),"") -> #VALUE! | CI31: =IF(CE31="","",(VLOOKUP(CE31,Table_corresp!$E$3:$F$230,2,0))) -> #VALUE! | CJ31: =IF(CI31="","",(CONCATENATE(AP31," / ",CI31))) -> #VALUE! | CK31: =IF(CJ31="","",(VLOOKUP(CJ31,Table_corresp!$J$3:$M$70,2,0))) -> #VALUE! | CL31: =IF(CJ31="","",(VLOOKUP(CJ31,Table_corresp!$J$3:$M$70,3,0))) -> #VALUE! | CM31: =IF(CJ31="","",(VLOOKUP(CJ31,Table_corresp!$J$3:$M$70,4,0))) -> #VALUE! | CN31: =IF(#REF!>0,((((#REF!/CK31)^CL31)-1)/CM31),"") -> #REF! | CO31: =IF(CN31="","",BZ31-CN31) -> #REF! | CP31: =IF(CO31="","",IF(CO31>0.25,"ralentissement",IF(AND(CO31<=0.25,CO31>=-0.25),"stable",IF(CO31<-0.25,"accélération")))) -> #REF! | CQ31: =IF(CD31<>0,((YEAR(CD31)-YEAR(BP31))*12+MONTH(CD31)-MONTH(BP31)),"") -> #REF! | CU31: =IF(CQ31="","",(VLOOKUP(CQ31,Table_corresp!$E$3:$F$230,2,0))) -> #REF! | CV31: =IF(CU31="","",(CONCATENATE(BB31," / ",CU31))) -> #REF! | CW31: =IF(CV31="","",(VLOOKUP(CV31,Table_corresp!$J$3:$M$70,2,0))) -> #REF! | CX31: =IF(CV31="","",(VLOOKUP(CV31,Table_corresp!$J$3:$M$70,3,0))) -> #REF! | CY31: =IF(CV31="","",(VLOOKUP(CV31,Table_corresp!$J$3:$M$70,4,0))) -> #REF! | CZ31: =IF(#REF!>0,((((#REF!/CW31)^CX31)-1)/CY31),"") -> #REF! | DA31: =IF(CZ31="","",CL31-CZ31) -> #REF! | DB31: =IF(DA31="","",IF(DA31>0.25,"ralentissement",IF(AND(DA31<=0.25,DA31>=-0.25),"stable",IF(DA31<-0.25,"accélération")))) -> #REF! | DC31: =IF(CP31<>0,((YEAR(CP31)-YEAR(CB31))*12+MONTH(CP31)-MONTH(CB31)),"") -> #REF!
A32: 30 | B32: 1 | F32: 66 | G32: 1.55 | H32: 27.471384 | I32: =VLOOKUP(T32,Table_corresp!$E$3:$F$230,2,0) -> 12 | J32: =CONCATENATE(B32," / ",I32) -> 1 / 12 | K32: =VLOOKUP(J32,Table_corresp!$J$3:$M$70,2,0) -> 17.2 | L32: =VLOOKUP(J32,Table_corresp!$J$3:$M$70,3,0) -> -0.93 | M32: =VLOOKUP(J32,Table_corresp!$J$3:$M$70,4,0) -> -0.0978 | N32: =IF(H32>0,((((H32/K32)^L32)-1)/M32),"") -> 3.6097379 | O32: Obésité | P32: 41815 | Q32: 37334 | R32: =DATEDIF(Q32,TODAY(),"y")&" ans "&DATEDIF(Q32,TODAY(),"ym")&" mois" -> 15 ans 7 mois | S32: =VLOOKUP(R32,Table_corresp!$A$3:$B$230,2,0) -> > 12 | T32: =DATEDIF(Q32,P32,"y")&" ans "&DATEDIF(Q32,P32,"ym")&" mois" -> 12 ans 3 mois | U32: =VLOOKUP(T32,Table_corresp!$A$3:$B$230,2,0) -> > 12 | X32: 42193 | Y32: =IF(X32<>0,(DATEDIF(Q32,X32,"y")&" ans "&DATEDIF(Q32,X32,"ym")&" mois"),"") -> 13 ans 3 mois | Z32: 29.4 | AA32: =IF(Y32="","",(VLOOKUP(Y32,Table_corresp!$E$3:$F$230,2,0))) -> 13 | AB32: =IF(AA32="","",(CONCATENATE(B32," / ",AA32))) -> 1 / 13 | AC32: =IF(AB32="","",(VLOOKUP(AB32,Table_corresp!$J$3:$M$70,2,0))) -> 17.8 | AD32: =IF(AB32="","",(VLOOKUP(AB32,Table_corresp!$J$3:$M$70,3,0))) -> -0.93 | AE32: =IF(AB32="","",(VLOOKUP(AB32,Table_corresp!$J$3:$M$70,4,0))) -> -0.1002 | AF32: =IF(Z32>0,((((Z32/AC32)^AD32)-1)/AE32),"") -> 3.7216897 | AG32: =IF(AF32="","",N32-AF32) -> -0.11195179 | AH32: =IF(AG32="","",IF(AG32>0.25,"ralentissement",IF(AND(AG32<=0.25,AG32>=-0.25),"stable",IF(AG32<-0.25,"accélération")))) -> stable | AI32: =IF(X32<>0,((YEAR(X32)-YEAR(P32))*12+MONTH(X32)-MONTH(P32)),"") -> 13 | AJ32: 42404 | AK32: =IF(AJ32<>0,(DATEDIF(Q32,AJ32,"y")&" ans "&DATEDIF(Q32,AJ32,"ym")&" mois"),"") -> 13 ans 10 mois | AL32: 28.69 | AM32: =IF(AK32="","",(VLOOKUP(AK32,Table_corresp!$E$3:$F$230,2,0))) -> 13.5 | AN32: =IF(AM32="","",(CONCATENATE(B32," / ",AM32))) -> 1 / 13,5 | AO32: =IF(AN32="","",(VLOOKUP(AN32,Table_corresp!$J$3:$M$70,2,0))) -> 18.14 | AP32: =IF(AN32="","",(VLOOKUP(AN32,Table_corresp!$J$3:$M$70,3,0))) -> -0.91 | AQ32: =IF(AN32="","",(VLOOKUP(AN32,Table_corresp!$J$3:$M$70,4,0))) -> -0.0988 | AR32: =IF(AL32>0,((((AL32/AO32)^AP32)-1)/AQ32),"") -> 3.4523428 | AS32: =IF(AR32="","",AF32-AR32) -> 0.26934686 | AT32: =IF(AS32="","",IF(AS32>0.25,"ralentissement",IF(AND(AS32<=0.25,AS32>=-0.25),"stable",IF(AS32<-0.25,"accélération")))) -> ralentissement | AU32: =IF(AJ32<>0,((YEAR(AJ32)-YEAR(X32))*12+MONTH(AJ32)-MONTH(X32)),"") -> 7 | AY32: =IF(AU32="","",(VLOOKUP(AU32,Table_corresp!$E$3:$F$230,2,0))) -> #N/A | AZ32: =IF(AY32="","",(CONCATENATE(L32," / ",AY32))) -> #N/A | BA32: =IF(AZ32="","",(VLOOKUP(AZ32,Table_corresp!$J$3:$M$70,2,0))) -> #N/A | BB32: =IF(AZ32="","",(VLOOKUP(AZ32,Table_corresp!$J$3:$M$70,3,0))) -> #N/A | BC32: =IF(AZ32="","",(VLOOKUP(AZ32,Table_corresp!$J$3:$M$70,4,0))) -> #N/A | BD32: =IF(AV32>0,((((AV32/BA32)^BB32)-1)/BC32),"") | BE32: =IF(BD32="","",AP32-BD32) | BF32: =IF(BE32="","",IF(BE32>0.25,"ralentissement",IF(AND(BE32<=0.25,BE32>=-0.25),"stable",IF(BE32<-0.25,"accélération")))) | BG32: =IF(AT32<>0,((YEAR(AT32)-YEAR(AH32))*12+MONTH(AT32)-MONTH(AH32)),"") -> #VALUE! | BK32: =IF(BG32="","",(VLOOKUP(BG32,Table_corresp!$E$3:$F$230,2,0))) -> #VALUE! | BL32: =IF(BK32="","",(CONCATENATE(V32," / ",BK32))) -> #VALUE! | BM32: =IF(BL32="","",(VLOOKUP(BL32,Table_corresp!$J$3:$M$70,2,0))) -> #VALUE! | BN32: =IF(BL32="","",(VLOOKUP(BL32,Table_corresp!$J$3:$M$70,3,0))) -> #VALUE! | BO32: =IF(BL32="","",(VLOOKUP(BL32,Table_corresp!$J$3:$M$70,4,0))) -> #VALUE! | BP32: =IF(BH32>0,((((BH32/BM32)^BN32)-1)/BO32),"") | BQ32: =IF(BP32="","",BB32-BP32) | BR32: =IF(BQ32="","",IF(BQ32>0.25,"ralentissement",IF(AND(BQ32<=0.25,BQ32>=-0.25),"stable",IF(BQ32<-0.25,"accélération")))) | BS32: =IF(BF32<>0,((YEAR(BF32)-YEAR(AR32))*12+MONTH(BF32)-MONTH(AR32)),"") -> #VALUE! | BW32: =IF(BS32="","",(VLOOKUP(BS32,Table_corresp!$E$3:$F$230,2,0))) -> #VALUE! | BX32: =IF(BW32="","",(CONCATENATE(AF32," / ",BW32))) -> #VALUE! | BY32: =IF(BX32="","",(VLOOKUP(BX32,Table_corresp!$J$3:$M$70,2,0))) -> #VALUE! | BZ32: =IF(BX32="","",(VLOOKUP(BX32,Table_corresp!$J$3:$M$70,3,0))) -> #VALUE! | CA32: =IF(BX32="","",(VLOOKUP(BX32,Table_corresp!$J$3:$M$70,4,0))) -> #VALUE! | CB32: =IF(#REF!>0,((((#REF!/BY32)^BZ32)-1)/CA32),"") -> #REF! | CC32: =IF(CB32="","",BN32-CB32) -> #REF! | CD32: =IF(CC32="","",IF(CC32>0.25,"ralentissement",IF(AND(CC32<=0.25,CC32>=-0.25),"stable",IF(CC32<-0.25,"accélération")))) -> #REF! | CE32: =IF(BR32<>0,((YEAR(BR32)-YEAR(BD32))*12+MONTH(BR32)-MONTH(BD32)),"") -> #VALUE! | CI32: =IF(CE32="","",(VLOOKUP(CE32,Table_corresp!$E$3:$F$230,2,0))) -> #VALUE! | CJ32: =IF(CI32="","",(CONCATENATE(AP32," / ",CI32))) -> #VALUE! | CK32: =IF(CJ32="","",(VLOOKUP(CJ32,Table_corresp!$J$3:$M$70,2,0))) -> #VALUE! | CL32: =IF(CJ32="","",(VLOOKUP(CJ32,Table_corresp!$J$3:$M$70,3,0))) -> #VALUE! | CM32: =IF(CJ32="","",(VLOOKUP(CJ32,Table_corresp!$J$3:$M$70,4,0))) -> #VALUE! | CN32: =IF(#REF!>0,((((#REF!/CK32)^CL32)-1)/CM32),"") -> #REF! | CO32: =IF(CN32="","",BZ32-CN32) -> #REF! | CP32: =IF(CO32="","",IF(CO32>0.25,"ralentissement",IF(AND(CO32<=0.25,CO32>=-0.25),"stable",IF(CO32<-0.25,"accélération")))) -> #REF! | CQ32: =IF(CD32<>0,((YEAR(CD32)-YEAR(BP32))*12+MONTH(CD32)-MONTH(BP32)),"") -> #REF! | CU32: =IF(CQ32="","",(VLOOKUP(CQ32,Table_corresp!$E$3:$F$230,2,0))) -> #REF! | CV32: =IF(CU32="","",(CONCATENATE(BB32," / ",CU32))) -> #REF! | CW32: =IF(CV32="","",(VLOOKUP(CV32,Table_corresp!$J$3:$M$70,2,0))) -> #REF! | CX32: =IF(CV32="","",(VLOOKUP(CV32,Table_corresp!$J$3:$M$70,3,0))) -> #REF! | CY32: =IF(CV32="","",(VLOOKUP(CV32,Table_corresp!$J$3:$M$70,4,0))) -> #REF! | CZ32: =IF(#REF!>0,((((#REF!/CW32)^CX32)-1)/CY32),"") -> #REF! | DA32: =IF(CZ32="","",CL32-CZ32) -> #REF! | DB32: =IF(DA32="","",IF(DA32>0.25,"ralentissement",IF(AND(DA32<=0.25,DA32>=-0.25),"stable",IF(DA32<-0.25,"accélération")))) -> #REF! | DC32: =IF(CP32<>0,((YEAR(CP32)-YEAR(CB32))*12+MONTH(CP32)-MONTH(CB32)),"") -> #REF!
A33: 31 | B33: 2 | F33: 41 | G33: 1.255 | H33: 26.031333 | I33: =VLOOKUP(T33,Table_corresp!$E$3:$F$230,2,0) -> 6 | J33: =CONCATENATE(B33," / ",I33) -> 2 / 6 | K33: =VLOOKUP(J33,Table_corresp!$J$3:$M$70,2,0) -> 15.13 | L33: =VLOOKUP(J33,Table_corresp!$J$3:$M$70,3,0) -> -0.36 | M33: =VLOOKUP(J33,Table_corresp!$J$3:$M$70,4,0) -> -0.0294 | N33: =IF(H33>0,((((H33/K33)^L33)-1)/M33),"") -> 6.0356498 | O33: Obésité | P33: 41815 | Q33: 39487 | R33: =DATEDIF(Q33,TODAY(),"y")&" ans "&DATEDIF(Q33,TODAY(),"ym")&" mois" -> 9 ans 8 mois | S33: =VLOOKUP(R33,Table_corresp!$A$3:$B$230,2,0) -> [9-12[ | T33: =DATEDIF(Q33,P33,"y")&" ans "&DATEDIF(Q33,P33,"ym")&" mois" -> 6 ans 4 mois | U33: =VLOOKUP(T33,Table_corresp!$A$3:$B$230,2,0) -> [6-9[ | Y33: =IF(X33<>0,(DATEDIF(Q33,X33,"y")&" ans "&DATEDIF(Q33,X33,"ym")&" mois"),"") | AA33: =IF(Y33="","",(VLOOKUP(Y33,Table_corresp!$E$3:$F$230,2,0))) | AB33: =IF(AA33="","",(CONCATENATE(B33," / ",AA33))) | AC33: =IF(AB33="","",(VLOOKUP(AB33,Table_corresp!$J$3:$M$70,2,0))) | AD33: =IF(AB33="","",(VLOOKUP(AB33,Table_corresp!$J$3:$M$70,3,0))) | AE33: =IF(AB33="","",(VLOOKUP(AB33,Table_corresp!$J$3:$M$70,4,0))) | AF33: =IF(Z33>0,((((Z33/AC33)^AD33)-1)/AE33),"") | AG33: =IF(AF33="","",N33-AF33) | AH33: =IF(AG33="","",IF(AG33>0.25,"ralentissement",IF(AND(AG33<=0.25,AG33>=-0.25),"stable",IF(AG33<-0.25,"accélération")))) | AI33: =IF(X33<>0,((YEAR(X33)-YEAR(P33))*12+MONTH(X33)-MONTH(P33)),"") | AK33: =IF(AJ33<>0,(DATEDIF(Q33,AJ33,"y")&" ans "&DATEDIF(Q33,AJ33,"ym")&" mois"),"") | AM33: =IF(AK33="","",(VLOOKUP(AK33,Table_corresp!$E$3:$F$230,2,0))) | AN33: =IF(AM33="","",(CONCATENATE(B33," / ",AM33))) | AO33: =IF(AN33="","",(VLOOKUP(AN33,Table_corresp!$J$3:$M$70,2,0))) | AP33: =IF(AN33="","",(VLOOKUP(AN33,Table_corresp!$J$3:$M$70,3,0))) | AQ33: =IF(AN33="","",(VLOOKUP(AN33,Table_corresp!$J$3:$M$70,4,0))) | AR33: =IF(AL33>0,((((AL33/AO33)^AP33)-1)/AQ33),"") | AS33: =IF(AR33="","",AF33-AR33) | AT33: =IF(AS33="","",IF(AS33>0.25,"ralentissement",IF(AND(AS33<=0.25,AS33>=-0.25),"stable",IF(AS33<-0.25,"accélération")))) | AU33: =IF(AJ33<>0,((YEAR(AJ33)-YEAR(X33))*12+MONTH(AJ33)-MONTH(X33)),"") | AY33: =IF(AU33="","",(VLOOKUP(AU33,Table_corresp!$E$3:$F$230,2,0))) | AZ33: =IF(AY33="","",(CONCATENATE(L33," / ",AY33))) | BA33: =IF(AZ33="","",(VLOOKUP(AZ33,Table_corresp!$J$3:$M$70,2,0))) | BB33: =IF(AZ33="","",(VLOOKUP(AZ33,Table_corresp!$J$3:$M$70,3,0))) | BC33: =IF(AZ33="","",(VLOOKUP(AZ33,Table_corresp!$J$3:$M$70,4,0))) | BD33: =IF(AV33>0,((((AV33/BA33)^BB33)-1)/BC33),"") | BE33: =IF(BD33="","",AP33-BD33) | BF33: =IF(BE33="","",IF(BE33>0.25,"ralentissement",IF(AND(BE33<=0.25,BE33>=-0.25),"stable",IF(BE33<-0.25,"accélération")))) | BG33: =IF(AT33<>0,((YEAR(AT33)-YEAR(AH33))*12+MONTH(AT33)-MONTH(AH33)),"") -> #VALUE! | BK33: =IF(BG33="","",(VLOOKUP(BG33,Table_corresp!$E$3:$F$230,2,0))) -> #VALUE! | BL33: =IF(BK33="","",(CONCATENATE(V33," / ",BK33))) -> #VALUE! | BM33: =IF(BL33="","",(VLOOKUP(BL33,Table_corresp!$J$3:$M$70,2,0))) -> #VALUE! | BN33: =IF(BL33="","",(VLOOKUP(BL33,Table_corresp!$J$3:$M$70,3,0))) -> #VALUE! | BO33: =IF(BL33="","",(VLOOKUP(BL33,Table_corresp!$J$3:$M$70,4,0))) -> #VALUE! | BP33: =IF(BH33>0,((((BH33/BM33)^BN33)-1)/BO33),"") | BQ33: =IF(BP33="","",BB33-BP33) | BR33: =IF(BQ33="","",IF(BQ33>0.25,"ralentissement",IF(AND(BQ33<=0.25,BQ33>=-0.25),"stable",IF(BQ33<-0.25,"accélération")))) | BS33: =IF(BF33<>0,((YEAR(BF33)-YEAR(AR33))*12+MONTH(BF33)-MONTH(AR33)),"") -> #VALUE! | BW33: =IF(BS33="","",(VLOOKUP(BS33,Table_corresp!$E$3:$F$230,2,0))) -> #VALUE! | BX33: =IF(BW33="","",(CONCATENATE(AF33," / ",BW33))) -> #VALUE! | BY33: =IF(BX33="","",(VLOOKUP(BX33,Table_corresp!$J$3:$M$70,2,0))) -> #VALUE! | BZ33: =IF(BX33="","",(VLOOKUP(BX33,Table_corresp!$J$3:$M$70,3,0))) -> #VALUE! | CA33: =IF(BX33="","",(VLOOKUP(BX33,Table_corresp!$J$3:$M$70,4,0))) -> #VALUE! | CB33: =IF(#REF!>0,((((#REF!/BY33)^BZ33)-1)/CA33),"") -> #REF! | CC33: =IF(CB33="","",BN33-CB33) -> #REF! | CD33: =IF(CC33="","",IF(CC33>0.25,"ralentissement",IF(AND(CC33<=0.25,CC33>=-0.25),"stable",IF(CC33<-0.25,"accélération")))) -> #REF! | CE33: =IF(BR33<>0,((YEAR(BR33)-YEAR(BD33))*12+MONTH(BR33)-MONTH(BD33)),"") -> #VALUE! | CI33: =IF(CE33="","",(VLOOKUP(CE33,Table_corresp!$E$3:$F$230,2,0))) -> #VALUE! | CJ33: =IF(CI33="","",(CONCATENATE(AP33," / ",CI33))) -> #VALUE! | CK33: =IF(CJ33="","",(VLOOKUP(CJ33,Table_corresp!$J$3:$M$70,2,0))) -> #VALUE! | CL33: =IF(CJ33="","",(VLOOKUP(CJ33,Table_corresp!$J$3:$M$70,3,0))) -> #VALUE! | CM33: =IF(CJ33="","",(VLOOKUP(CJ33,Table_corresp!$J$3:$M$70,4,0))) -> #VALUE! | CN33: =IF(#REF!>0,((((#REF!/CK33)^CL33)-1)/CM33),"") -> #REF! | CO33: =IF(CN33="","",BZ33-CN33) -> #REF! | CP33: =IF(CO33="","",IF(CO33>0.25,"ralentissement",IF(AND(CO33<=0.25,CO33>=-0.25),"stable",IF(CO33<-0.25,"accélération")))) -> #REF! | CQ33: =IF(CD33<>0,((YEAR(CD33)-YEAR(BP33))*12+MONTH(CD33)-MONTH(BP33)),"") -> #REF! | CU33: =IF(CQ33="","",(VLOOKUP(CQ33,Table_corresp!$E$3:$F$230,2,0))) -> #REF! | CV33: =IF(CU33="","",(CONCATENATE(BB33," / ",CU33))) -> #REF! | CW33: =IF(CV33="","",(VLOOKUP(CV33,Table_corresp!$J$3:$M$70,2,0))) -> #REF! | CX33: =IF(CV33="","",(VLOOKUP(CV33,Table_corresp!$J$3:$M$70,3,0))) -> #REF! | CY33: =IF(CV33="","",(VLOOKUP(CV33,Table_corresp!$J$3:$M$70,4,0))) -> #REF! | CZ33: =IF(#REF!>0,((((#REF!/CW33)^CX33)-1)/CY33),"") -> #REF! | DA33: =IF(CZ33="","",CL33-CZ33) -> #REF! | DB33: =IF(DA33="","",IF(DA33>0.25,"ralentissement",IF(AND(DA33<=0.25,DA33>=-0.25),"stable",IF(DA33<-0.25,"accélération")))) -> #REF! | DC33: =IF(CP33<>0,((YEAR(CP33)-YEAR(CB33))*12+MONTH(CP33)-MONTH(CB33)),"") -> #REF!
A34: 32 | B34: 1 | F34: 38.2 | G34: 1.28 | H34: 23.31543 | I34: =VLOOKUP(T34,Table_corresp!$E$3:$F$230,2,0) -> 8.5 | J34: =CONCATENATE(B34," / ",I34) -> 1 / 8,5 | K34: =VLOOKUP(J34,Table_corresp!$J$3:$M$70,2,0) -> 15.89 | L34: =VLOOKUP(J34,Table_corresp!$J$3:$M$70,3,0) -> -0.66 | M34: =VLOOKUP(J34,Table_corresp!$J$3:$M$70,4,0) -> -0.0595 | N34: =IF(H34>0,((((H34/K34)^L34)-1)/M34),"") -> 3.7576351 | O34: Obésité | P34: 41822 | Q34: 38710 | R34: =DATEDIF(Q34,TODAY(),"y")&" ans "&DATEDIF(Q34,TODAY(),"ym")&" mois" -> 11 ans 9 mois | S34: =VLOOKUP(R34,Table_corresp!$A$3:$B$230,2,0) -> [9-12[ | T34: =DATEDIF(Q34,P34,"y")&" ans "&DATEDIF(Q34,P34,"ym")&" mois" -> 8 ans 6 mois | U34: =VLOOKUP(T34,Table_corresp!$A$3:$B$230,2,0) -> [6-9[ | Y34: =IF(X34<>0,(DATEDIF(Q34,X34,"y")&" ans "&DATEDIF(Q34,X34,"ym")&" mois"),"") | AA34: =IF(Y34="","",(VLOOKUP(Y34,Table_corresp!$E$3:$F$230,2,0))) | AB34: =IF(AA34="","",(CONCATENATE(B34," / ",AA34))) | AC34: =IF(AB34="","",(VLOOKUP(AB34,Table_corresp!$J$3:$M$70,2,0))) | AD34: =IF(AB34="","",(VLOOKUP(AB34,Table_corresp!$J$3:$M$70,3,0))) | AE34: =IF(AB34="","",(VLOOKUP(AB34,Table_corresp!$J$3:$M$70,4,0))) | AF34: =IF(Z34>0,((((Z34/AC34)^AD34)-1)/AE34),"") | AG34: =IF(AF34="","",N34-AF34) | AH34: =IF(AG34="","",IF(AG34>0.25,"ralentissement",IF(AND(AG34<=0.25,AG34>=-0.25),"stable",IF(AG34<-0.25,"accélération")))) | AI34: =IF(X34<>0,((YEAR(X34)-YEAR(P34))*12+MONTH(X34)-MONTH(P34)),"") | AK34: =IF(AJ34<>0,(DATEDIF(Q34,AJ34,"y")&" ans "&DATEDIF(Q34,AJ34,"ym")&" mois"),"") | AM34: =IF(AK34="","",(VLOOKUP(AK34,Table_corresp!$E$3:$F$230,2,0))) | AN34: =IF(AM34="","",(CONCATENATE(B34," / ",AM34))) | AO34: =IF(AN34="","",(VLOOKUP(AN34,Table_corresp!$J$3:$M$70,2,0))) | AP34: =IF(AN34="","",(VLOOKUP(AN34,Table_corresp!$J$3:$M$70,3,0))) | AQ34: =IF(AN34="","",(VLOOKUP(AN34,Table_corresp!$J$3:$M$70,4,0))) | AR34: =IF(AL34>0,((((AL34/AO34)^AP34)-1)/AQ34),"") | AS34: =IF(AR34="","",AF34-AR34) | AT34: =IF(AS34="","",IF(AS34>0.25,"ralentissement",IF(AND(AS34<=0.25,AS34>=-0.25),"stable",IF(AS34<-0.25,"accélération")))) | AU34: =IF(AJ34<>0,((YEAR(AJ34)-YEAR(X34))*12+MONTH(AJ34)-MONTH(X34)),"") | AY34: =IF(AU34="","",(VLOOKUP(AU34,Table_corresp!$E$3:$F$230,2,0))) | AZ34: =IF(AY34="","",(CONCATENATE(L34," / ",AY34))) | BA34: =IF(AZ34="","",(VLOOKUP(AZ34,Table_corresp!$J$3:$M$70,2,0))) | BB34: =IF(AZ34="","",(VLOOKUP(AZ34,Table_corresp!$J$3:$M$70,3,0))) | BC34: =IF(AZ34="","",(VLOOKUP(AZ34,Table_corresp!$J$3:$M$70,4,0))) | BD34: =IF(AV34>0,((((AV34/BA34)^BB34)-1)/BC34),"") | BE34: =IF(BD34="","",AP34-BD34) | BF34: =IF(BE34="","",IF(BE34>0.25,"ralentissement",IF(AND(BE34<=0.25,BE34>=-0.25),"stable",IF(BE34<-0.25,"accélération")))) | BG34: =IF(AT34<>0,((YEAR(AT34)-YEAR(AH34))*12+MONTH(AT34)-MONTH(AH34)),"") -> #VALUE! | BK34: =IF(BG34="","",(VLOOKUP(BG34,Table_corresp!$E$3:$F$230,2,0))) -> #VALUE! | BL34: =IF(BK34="","",(CONCATENATE(V34," / ",BK34))) -> #VALUE! | BM34: =IF(BL34="","",(VLOOKUP(BL34,Table_corresp!$J$3:$M$70,2,0))) -> #VALUE! | BN34: =IF(BL34="","",(VLOOKUP(BL34,Table_corresp!$J$3:$M$70,3,0))) -> #VALUE! | BO34: =IF(BL34="","",(VLOOKUP(BL34,Table_corresp!$J$3:$M$70,4,0))) -> #VALUE! | BP34: =IF(BH34>0,((((BH34/BM34)^BN34)-1)/BO34),"") | BQ34: =IF(BP34="","",BB34-BP34) | BR34: =IF(BQ34="","",IF(BQ34>0.25,"ralentissement",IF(AND(BQ34<=0.25,BQ34>=-0.25),"stable",IF(BQ34<-0.25,"accélération")))) | BS34: =IF(BF34<>0,((YEAR(BF34)-YEAR(AR34))*12+MONTH(BF34)-MONTH(AR34)),"") -> #VALUE! | BW34: =IF(BS34="","",(VLOOKUP(BS34,Table_corresp!$E$3:$F$230,2,0))) -> #VALUE! | BX34: =IF(BW34="","",(CONCATENATE(AF34," / ",BW34))) -> #VALUE! | BY34: =IF(BX34="","",(VLOOKUP(BX34,Table_corresp!$J$3:$M$70,2,0))) -> #VALUE! | BZ34: =IF(BX34="","",(VLOOKUP(BX34,Table_corresp!$J$3:$M$70,3,0))) -> #VALUE! | CA34: =IF(BX34="","",(VLOOKUP(BX34,Table_corresp!$J$3:$M$70,4,0))) -> #VALUE! | CB34: =IF(#REF!>0,((((#REF!/BY34)^BZ34)-1)/CA34),"") -> #REF! | CC34: =IF(CB34="","",BN34-CB34) -> #REF! | CD34: =IF(CC34="","",IF(CC34>0.25,"ralentissement",IF(AND(CC34<=0.25,CC34>=-0.25),"stable",IF(CC34<-0.25,"accélération")))) -> #REF! | CE34: =IF(BR34<>0,((YEAR(BR34)-YEAR(BD34))*12+MONTH(BR34)-MONTH(BD34)),"") -> #VALUE! | CI34: =IF(CE34="","",(VLOOKUP(CE34,Table_corresp!$E$3:$F$230,2,0))) -> #VALUE! | CJ34: =IF(CI34="","",(CONCATENATE(AP34," / ",CI34))) -> #VALUE! | CK34: =IF(CJ34="","",(VLOOKUP(CJ34,Table_corresp!$J$3:$M$70,2,0))) -> #VALUE! | CL34: =IF(CJ34="","",(VLOOKUP(CJ34,Table_corresp!$J$3:$M$70,3,0))) -> #VALUE! | CM34: =IF(CJ34="","",(VLOOKUP(CJ34,Table_corresp!$J$3:$M$70,4,0))) -> #VALUE! | CN34: =IF(#REF!>0,((((#REF!/CK34)^CL34)-1)/CM34),"") -> #REF! | CO34: =IF(CN34="","",BZ34-CN34) -> #REF! | CP34: =IF(CO34="","",IF(CO34>0.25,"ralentissement",IF(AND(CO34<=0.25,CO34>=-0.25),"stable",IF(CO34<-0.25,"accélération")))) -> #REF! | CQ34: =IF(CD34<>0,((YEAR(CD34)-YEAR(BP34))*12+MONTH(CD34)-MONTH(BP34)),"") -> #REF! | CU34: =IF(CQ34="","",(VLOOKUP(CQ34,Table_corresp!$E$3:$F$230,2,0))) -> #REF! | CV34: =IF(CU34="","",(CONCATENATE(BB34," / ",CU34))) -> #REF! | CW34: =IF(CV34="","",(VLOOKUP(CV34,Table_corresp!$J$3:$M$70,2,0))) -> #REF! | CX34: =IF(CV34="","",(VLOOKUP(CV34,Table_corresp!$J$3:$M$70,3,0))) -> #REF! | CY34: =IF(CV34="","",(VLOOKUP(CV34,Table_corresp!$J$3:$M$70,4,0))) -> #REF! | CZ34: =IF(#REF!>0,((((#REF!/CW34)^CX34)-1)/CY34),"") -> #REF! | DA34: =IF(CZ34="","",CL34-CZ34) -> #REF! | DB34: =IF(DA34="","",IF(DA34>0.25,"ralentissement",IF(AND(DA34<=0.25,DA34>=-0.25),"stable",IF(DA34<-0.25,"accélération")))) -> #REF! | DC34: =IF(CP34<>0,((YEAR(CP34)-YEAR(CB34))*12+MONTH(CP34)-MONTH(CB34)),"") -> #REF!
A35: 33 | B35: 2 | F35: 43.7 | G35: 1.3 | H35: 25.857988 | I35: =VLOOKUP(T35,Table_corresp!$E$3:$F$230,2,0) -> 8.5 | J35: =CONCATENATE(B35," / ",I35) -> 2 / 8,5 | K35: =VLOOKUP(J35,Table_corresp!$J$3:$M$70,2,0) -> 15.59 | L35: =VLOOKUP(J35,Table_corresp!$J$3:$M$70,3,0) -> -0.57 | M35: =VLOOKUP(J35,Table_corresp!$J$3:$M$70,4,0) -> -0.0534 | N35: =IF(H35>0,((((H35/K35)^L35)-1)/M35),"") -> 4.6919274 | O35: Obésité | P35: 41822 | Q35: 38710 | R35: =DATEDIF(Q35,TODAY(),"y")&" ans "&DATEDIF(Q35,TODAY(),"ym")&" mois" -> 11 ans 9 mois | S35: =VLOOKUP(R35,Table_corresp!$A$3:$B$230,2,0) -> [9-12[ | T35: =DATEDIF(Q35,P35,"y")&" ans "&DATEDIF(Q35,P35,"ym")&" mois" -> 8 ans 6 mois | U35: =VLOOKUP(T35,Table_corresp!$A$3:$B$230,2,0) -> [6-9[ | Y35: =IF(X35<>0,(DATEDIF(Q35,X35,"y")&" ans "&DATEDIF(Q35,X35,"ym")&" mois"),"") | AA35: =IF(Y35="","",(VLOOKUP(Y35,Table_corresp!$E$3:$F$230,2,0))) | AB35: =IF(AA35="","",(CONCATENATE(B35," / ",AA35))) | AC35: =IF(AB35="","",(VLOOKUP(AB35,Table_corresp!$J$3:$M$70,2,0))) | AD35: =IF(AB35="","",(VLOOKUP(AB35,Table_corresp!$J$3:$M$70,3,0))) | AE35: =IF(AB35="","",(VLOOKUP(AB35,Table_corresp!$J$3:$M$70,4,0))) | AF35: =IF(Z35>0,((((Z35/AC35)^AD35)-1)/AE35),"") | AG35: =IF(AF35="","",N35-AF35) | AH35: =IF(AG35="","",IF(AG35>0.25,"ralentissement",IF(AND(AG35<=0.25,AG35>=-0.25),"stable",IF(AG35<-0.25,"accélération")))) | AI35: =IF(X35<>0,((YEAR(X35)-YEAR(P35))*12+MONTH(X35)-MONTH(P35)),"") | AK35: =IF(AJ35<>0,(DATEDIF(Q35,AJ35,"y")&" ans "&DATEDIF(Q35,AJ35,"ym")&" mois"),"") | AM35: =IF(AK35="","",(VLOOKUP(AK35,Table_corresp!$E$3:$F$230,2,0))) | AN35: =IF(AM35="","",(CONCATENATE(B35," / ",AM35))) | AO35: =IF(AN35="","",(VLOOKUP(AN35,Table_corresp!$J$3:$M$70,2,0))) | AP35: =IF(AN35="","",(VLOOKUP(AN35,Table_corresp!$J$3:$M$70,3,0))) | AQ35: =IF(AN35="","",(VLOOKUP(AN35,Table_corresp!$J$3:$M$70,4,0))) | AR35: =IF(AL35>0,((((AL35/AO35)^AP35)-1)/AQ35),"") | AS35: =IF(AR35="","",AF35-AR35) | AT35: =IF(AS35="","",IF(AS35>0.25,"ralentissement",IF(AND(AS35<=0.25,AS35>=-0.25),"stable",IF(AS35<-0.25,"accélération")))) | AU35: =IF(AJ35<>0,((YEAR(AJ35)-YEAR(X35))*12+MONTH(AJ35)-MONTH(X35)),"") | AY35: =IF(AU35="","",(VLOOKUP(AU35,Table_corresp!$E$3:$F$230,2,0))) | AZ35: =IF(AY35="","",(CONCATENATE(L35," / ",AY35))) | BA35: =IF(AZ35="","",(VLOOKUP(AZ35,Table_corresp!$J$3:$M$70,2,0))) | BB35: =IF(AZ35="","",(VLOOKUP(AZ35,Table_corresp!$J$3:$M$70,3,0))) | BC35: =IF(AZ35="","",(VLOOKUP(AZ35,Table_corresp!$J$3:$M$70,4,0))) | BD35: =IF(AV35>0,((((AV35/BA35)^BB35)-1)/BC35),"") | BE35: =IF(BD35="","",AP35-BD35) | BF35: =IF(BE35="","",IF(BE35>0.25,"ralentissement",IF(AND(BE35<=0.25,BE35>=-0.25),"stable",IF(BE35<-0.25,"accélération")))) | BG35: =IF(AT35<>0,((YEAR(AT35)-YEAR(AH35))*12+MONTH(AT35)-MONTH(AH35)),"") -> #VALUE! | BK35: =IF(BG35="","",(VLOOKUP(BG35,Table_corresp!$E$3:$F$230,2,0))) -> #VALUE! | BL35: =IF(BK35="","",(CONCATENATE(V35," / ",BK35))) -> #VALUE! | BM35: =IF(BL35="","",(VLOOKUP(BL35,Table_corresp!$J$3:$M$70,2,0))) -> #VALUE! | BN35: =IF(BL35="","",(VLOOKUP(BL35,Table_corresp!$J$3:$M$70,3,0))) -> #VALUE! | BO35: =IF(BL35="","",(VLOOKUP(BL35,Table_corresp!$J$3:$M$70,4,0))) -> #VALUE! | BP35: =IF(BH35>0,((((BH35/BM35)^BN35)-1)/BO35),"") | BQ35: =IF(BP35="","",BB35-BP35) | BR35: =IF(BQ35="","",IF(BQ35>0.25,"ralentissement",IF(AND(BQ35<=0.25,BQ35>=-0.25),"stable",IF(BQ35<-0.25,"accélération")))) | BS35: =IF(BF35<>0,((YEAR(BF35)-YEAR(AR35))*12+MONTH(BF35)-MONTH(AR35)),"") -> #VALUE! | BW35: =IF(BS35="","",(VLOOKUP(BS35,Table_corresp!$E$3:$F$230,2,0))) -> #VALUE! | BX35: =IF(BW35="","",(CONCATENATE(AF35," / ",BW35))) -> #VALUE! | BY35: =IF(BX35="","",(VLOOKUP(BX35,Table_corresp!$J$3:$M$70,2,0))) -> #VALUE! | BZ35: =IF(BX35="","",(VLOOKUP(BX35,Table_corresp!$J$3:$M$70,3,0))) -> #VALUE! | CA35: =IF(BX35="","",(VLOOKUP(BX35,Table_corresp!$J$3:$M$70,4,0))) -> #VALUE! | CB35: =IF(#REF!>0,((((#REF!/BY35)^BZ35)-1)/CA35),"") -> #REF! | CC35: =IF(CB35="","",BN35-CB35) -> #REF! | CD35: =IF(CC35="","",IF(CC35>0.25,"ralentissement",IF(AND(CC35<=0.25,CC35>=-0.25),"stable",IF(CC35<-0.25,"accélération")))) -> #REF! | CE35: =IF(BR35<>0,((YEAR(BR35)-YEAR(BD35))*12+MONTH(BR35)-MONTH(BD35)),"") -> #VALUE! | CI35: =IF(CE35="","",(VLOOKUP(CE35,Table_corresp!$E$3:$F$230,2,0))) -> #VALUE! | CJ35: =IF(CI35="","",(CONCATENATE(AP35," / ",CI35))) -> #VALUE! | CK35: =IF(CJ35="","",(VLOOKUP(CJ35,Table_corresp!$J$3:$M$70,2,0))) -> #VALUE! | CL35: =IF(CJ35="","",(VLOOKUP(CJ35,Table_corresp!$J$3:$M$70,3,0))) -> #VALUE! | CM35: =IF(CJ35="","",(VLOOKUP(CJ35,Table_corresp!$J$3:$M$70,4,0))) -> #VALUE! | CN35: =IF(#REF!>0,((((#REF!/CK35)^CL35)-1)/CM35),"") -> #REF! | CO35: =IF(CN35="","",BZ35-CN35) -> #REF! | CP35: =IF(CO35="","",IF(CO35>0.25,"ralentissement",IF(AND(CO35<=0.25,CO35>=-0.25),"stable",IF(CO35<-0.25,"accélération")))) -> #REF! | CQ35: =IF(CD35<>0,((YEAR(CD35)-YEAR(BP35))*12+MONTH(CD35)-MONTH(BP35)),"") -> #REF! | CU35: =IF(CQ35="","",(VLOOKUP(CQ35,Table_corresp!$E$3:$F$230,2,0))) -> #REF! | CV35: =IF(CU35="","",(CONCATENATE(BB35," / ",CU35))) -> #REF! | CW35: =IF(CV35="","",(VLOOKUP(CV35,Table_corresp!$J$3:$M$70,2,0))) -> #REF! | CX35: =IF(CV35="","",(VLOOKUP(CV35,Table_corresp!$J$3:$M$70,3,0))) -> #REF! | CY35: =IF(CV35="","",(VLOOKUP(CV35,Table_corresp!$J$3:$M$70,4,0))) -> #REF! | CZ35: =IF(#REF!>0,((((#REF!/CW35)^CX35)-1)/CY35),"") -> #REF! | DA35: =IF(CZ35="","",CL35-CZ35) -> #REF! | DB35: =IF(DA35="","",IF(DA35>0.25,"ralentissement",IF(AND(DA35<=0.25,DA35>=-0.25),"stable",IF(DA35<-0.25,"accélération")))) -> #REF! | DC35: =IF(CP35<>0,((YEAR(CP35)-YEAR(CB35))*12+MONTH(CP35)-MONTH(CB35)),"") -> #REF!
A36: 34 | B36: 2 | F36: 75.8 | G36: 1.5 | H36: 33.688889 | I36: =VLOOKUP(T36,Table_corresp!$E$3:$F$230,2,0) -> 11 | J36: =CONCATENATE(B36," / ",I36) -> 2 / 11 | K36: =VLOOKUP(J36,Table_corresp!$J$3:$M$70,2,0) -> 16.73 | L36: =VLOOKUP(J36,Table_corresp!$J$3:$M$70,3,0) -> -0.71 | M36: =VLOOKUP(J36,Table_corresp!$J$3:$M$70,4,0) -> -0.0777 | N36: =IF(H36>0,((((H36/K36)^L36)-1)/M36),"") -> 5.0403051 | O36: Obésité | P36: 41878 | Q36: 37845 | R36: =DATEDIF(Q36,TODAY(),"y")&" ans "&DATEDIF(Q36,TODAY(),"ym")&" mois" -> 14 ans 2 mois | S36: =VLOOKUP(R36,Table_corresp!$A$3:$B$230,2,0) -> > 12 | T36: =DATEDIF(Q36,P36,"y")&" ans "&DATEDIF(Q36,P36,"ym")&" mois" -> 11 ans 0 mois | U36: =VLOOKUP(T36,Table_corresp!$A$3:$B$230,2,0) -> [9-12[ | Y36: =IF(X36<>0,(DATEDIF(Q36,X36,"y")&" ans "&DATEDIF(Q36,X36,"ym")&" mois"),"") | AA36: =IF(Y36="","",(VLOOKUP(Y36,Table_corresp!$E$3:$F$230,2,0))) | AB36: =IF(AA36="","",(CONCATENATE(B36," / ",AA36))) | AC36: =IF(AB36="","",(VLOOKUP(AB36,Table_corresp!$J$3:$M$70,2,0))) | AD36: =IF(AB36="","",(VLOOKUP(AB36,Table_corresp!$J$3:$M$70,3,0))) | AE36: =IF(AB36="","",(VLOOKUP(AB36,Table_corresp!$J$3:$M$70,4,0))) | AF36: =IF(Z36>0,((((Z36/AC36)^AD36)-1)/AE36),"") | AG36: =IF(AF36="","",N36-AF36) | AH36: =IF(AG36="","",IF(AG36>0.25,"ralentissement",IF(AND(AG36<=0.25,AG36>=-0.25),"stable",IF(AG36<-0.25,"accélération")))) | AI36: =IF(X36<>0,((YEAR(X36)-YEAR(P36))*12+MONTH(X36)-MONTH(P36)),"") | AK36: =IF(AJ36<>0,(DATEDIF(Q36,AJ36,"y")&" ans "&DATEDIF(Q36,AJ36,"ym")&" mois"),"") | AM36: =IF(AK36="","",(VLOOKUP(AK36,Table_corresp!$E$3:$F$230,2,0))) | AN36: =IF(AM36="","",(CONCATENATE(B36," / ",AM36))) | AO36: =IF(AN36="","",(VLOOKUP(AN36,Table_corresp!$J$3:$M$70,2,0))) | AP36: =IF(AN36="","",(VLOOKUP(AN36,Table_corresp!$J$3:$M$70,3,0))) | AQ36: =IF(AN36="","",(VLOOKUP(AN36,Table_corresp!$J$3:$M$70,4,0))) | AR36: =IF(AL36>0,((((AL36/AO36)^AP36)-1)/AQ36),"") | AS36: =IF(AR36="","",AF36-AR36) | AT36: =IF(AS36="","",IF(AS36>0.25,"ralentissement",IF(AND(AS36<=0.25,AS36>=-0.25),"stable",IF(AS36<-0.25,"accélération")))) | AU36: =IF(AJ36<>0,((YEAR(AJ36)-YEAR(X36))*12+MONTH(AJ36)-MONTH(X36)),"") | AY36: =IF(AU36="","",(VLOOKUP(AU36,Table_corresp!$E$3:$F$230,2,0))) | AZ36: =IF(AY36="","",(CONCATENATE(L36," / ",AY36))) | BA36: =IF(AZ36="","",(VLOOKUP(AZ36,Table_corresp!$J$3:$M$70,2,0))) | BB36: =IF(AZ36="","",(VLOOKUP(AZ36,Table_corresp!$J$3:$M$70,3,0))) | BC36: =IF(AZ36="","",(VLOOKUP(AZ36,Table_corresp!$J$3:$M$70,4,0))) | BD36: =IF(AV36>0,((((AV36/BA36)^BB36)-1)/BC36),"") | BE36: =IF(BD36="","",AP36-BD36) | BF36: =IF(BE36="","",IF(BE36>0.25,"ralentissement",IF(AND(BE36<=0.25,BE36>=-0.25),"stable",IF(BE36<-0.25,"accélération")))) | BG36: =IF(AT36<>0,((YEAR(AT36)-YEAR(AH36))*12+MONTH(AT36)-MONTH(AH36)),"") -> #VALUE! | BK36: =IF(BG36="","",(VLOOKUP(BG36,Table_corresp!$E$3:$F$230,2,0))) -> #VALUE! | BL36: =IF(BK36="","",(CONCATENATE(V36," / ",BK36))) -> #VALUE! | BM36: =IF(BL36="","",(VLOOKUP(BL36,Table_corresp!$J$3:$M$70,2,0))) -> #VALUE! | BN36: =IF(BL36="","",(VLOOKUP(BL36,Table_corresp!$J$3:$M$70,3,0))) -> #VALUE! | BO36: =IF(BL36="","",(VLOOKUP(BL36,Table_corresp!$J$3:$M$70,4,0))) -> #VALUE! | BP36: =IF(BH36>0,((((BH36/BM36)^BN36)-1)/BO36),"") | BQ36: =IF(BP36="","",BB36-BP36) | BR36: =IF(BQ36="","",IF(BQ36>0.25,"ralentissement",IF(AND(BQ36<=0.25,BQ36>=-0.25),"stable",IF(BQ36<-0.25,"accélération")))) | BS36: =IF(BF36<>0,((YEAR(BF36)-YEAR(AR36))*12+MONTH(BF36)-MONTH(AR36)),"") -> #VALUE! | BW36: =IF(BS36="","",(VLOOKUP(BS36,Table_corresp!$E$3:$F$230,2,0))) -> #VALUE! | BX36: =IF(BW36="","",(CONCATENATE(AF36," / ",BW36))) -> #VALUE! | BY36: =IF(BX36="","",(VLOOKUP(BX36,Table_corresp!$J$3:$M$70,2,0))) -> #VALUE! | BZ36: =IF(BX36="","",(VLOOKUP(BX36,Table_corresp!$J$3:$M$70,3,0))) -> #VALUE! | CA36: =IF(BX36="","",(VLOOKUP(BX36,Table_corresp!$J$3:$M$70,4,0))) -> #VALUE! | CB36: =IF(#REF!>0,((((#REF!/BY36)^BZ36)-1)/CA36),"") -> #REF! | CC36: =IF(CB36="","",BN36-CB36) -> #REF! | CD36: =IF(CC36="","",IF(CC36>0.25,"ralentissement",IF(AND(CC36<=0.25,CC36>=-0.25),"stable",IF(CC36<-0.25,"accélération")))) -> #REF! | CE36: =IF(BR36<>0,((YEAR(BR36)-YEAR(BD36))*12+MONTH(BR36)-MONTH(BD36)),"") -> #VALUE! | CI36: =IF(CE36="","",(VLOOKUP(CE36,Table_corresp!$E$3:$F$230,2,0))) -> #VALUE! | CJ36: =IF(CI36="","",(CONCATENATE(AP36," / ",CI36))) -> #VALUE! | CK36: =IF(CJ36="","",(VLOOKUP(CJ36,Table_corresp!$J$3:$M$70,2,0))) -> #VALUE! | CL36: =IF(CJ36="","",(VLOOKUP(CJ36,Table_corresp!$J$3:$M$70,3,0))) -> #VALUE! | CM36: =IF(CJ36="","",(VLOOKUP(CJ36,Table_corresp!$J$3:$M$70,4,0))) -> #VALUE! | CN36: =IF(#REF!>0,((((#REF!/CK36)^CL36)-1)/CM36),"") -> #REF! | CO36: =IF(CN36="","",BZ36-CN36) -> #REF! | CP36: =IF(CO36="","",IF(CO36>0.25,"ralentissement",IF(AND(CO36<=0.25,CO36>=-0.25),"stable",IF(CO36<-0.25,"accélération")))) -> #REF! | CQ36: =IF(CD36<>0,((YEAR(CD36)-YEAR(BP36))*12+MONTH(CD36)-MONTH(BP36)),"") -> #REF! | CU36: =IF(CQ36="","",(VLOOKUP(CQ36,Table_corresp!$E$3:$F$230,2,0))) -> #REF! | CV36: =IF(CU36="","",(CONCATENATE(BB36," / ",CU36))) -> #REF! | CW36: =IF(CV36="","",(VLOOKUP(CV36,Table_corresp!$J$3:$M$70,2,0))) -> #REF! | CX36: =IF(CV36="","",(VLOOKUP(CV36,Table_corresp!$J$3:$M$70,3,0))) -> #REF! | CY36: =IF(CV36="","",(VLOOKUP(CV36,Table_corresp!$J$3:$M$70,4,0))) -> #REF! | CZ36: =IF(#REF!>0,((((#REF!/CW36)^CX36)-1)/CY36),"") -> #REF! | DA36: =IF(CZ36="","",CL36-CZ36) -> #REF! | DB36: =IF(DA36="","",IF(DA36>0.25,"ralentissement",IF(AND(DA36<=0.25,DA36>=-0.25),"stable",IF(DA36<-0.25,"accélération")))) -> #REF! | DC36: =IF(CP36<>0,((YEAR(CP36)-YEAR(CB36))*12+MONTH(CP36)-MONTH(CB36)),"") -> #REF!
