Workbook
Name thm_etude: #REF!
Name thmc: #REF!
Name totdl_tf: #REF!
Name totdl_ts1: #REF!
Name totdl_ts2: #REF!
Name totdl_ts3: #REF!
Name totdm_tf: #REF!
Name totdm_ts1: #REF!
Name totdm_ts2: #REF!
Name totdm_ts3: #REF!
Name totds_tf: #REF!
Name totds_ts1: #REF!
Name totds_ts2: #REF!
Name totds_ts3: #REF!
Name totdt_tf: #REF!
Name totdt_ts1: #REF!
Name totdt_ts2: #REF!
Name totdt_ts3: #REF!
Name toth_tf: #REF!
Name toth_ts1: #REF!
Name toth_ts2: #REF!
Name toth_ts3: #REF!

Sheet SYNTHESE
A1: TABLEAU SYNTHESE | B1: TABLEAU SYNTHESE
B5: Synthèse suivi au | C5: DateSitu | D5: NOM CHANTIER
C6: Marché | O6: Reste à facturer/dépenser | R6: ATTERISSAGE
C7: Marché Ht | D7: Debs Ht | E7: Marge Ht | F7: coeff | G7: Debs Ht | H7: Marge Ht | I7: coeff | J7: Facturé HT | K7: Dépensé HT | L7: Marge Ht | M7: coeff | O7: Reste à facturer | P7: Reste à dépenser | Q7: Estim dépenses restantes | R7: DGD | S7: TOTAL DEPENSE | T7: MARGE | U7: Coeff
A8: =IF(B8="","",IF(OFFSET(Sommaire!$M$4,ROWS($1:2),0)="",OFFSET(Sommaire!O$3,ROWS($1:2)-COUNTA(Sommaire!$M$6:$M$23),0),OFFSET(Sommaire!L$4,ROWS($1:2),0))) -> 11 | B8: =IF(IF(OFFSET(Sommaire!$M$4,ROWS($1:2),0)="",OFFSET(Sommaire!P$3,ROWS($1:2)-COUNTA(Sommaire!$M$6:$M$23),0),OFFSET(Sommaire!M$4,ROWS($1:2),0))=0,"",IF(OFFSET(Sommaire!$M$4,ROWS($1:2),0)="",OFFSET(Sommaire!P$3,ROWS($1:2)-COUNTA(Sommaire!$M$6:$M$23),0),OFFSET(Sommaire!M$4,ROWS($1:2),0))) -> Démolition | E8: =IF(OR(D8="",C8="")=FALSE,D8-D8,"") | F8: =IF(OR(D8="",C8="",D8=0)=FALSE,C8/D8,"") | G8: 0 | H8: =IF(OR(G8="",C8="")=FALSE,C8-G8,"") | I8: =IF(OR(G8="",C8="",G8=0)=FALSE,C8/G8,"") | K8: =VLOOKUP(A8,#REF!,6,FALSE) -> #REF! | L8: =IF(OR(K8="",J8="")=FALSE,J8-K8,"") -> #REF! | M8: =IF(OR(K8="",J8="",K8=0)=FALSE,J8/K8,"") -> #REF! | O8: =IF(AND(J8="",K8="")=TRUE,"",C8-J8) -> #REF! | P8: =IF(G8="","",IF(G8-K8<0,"0 €",G8-K8)) -> #REF! | R8: =IF(O8="","",O8+J8) -> #REF! | S8: =IF(AND(Q8="",K8="")=TRUE,"",+K8+Q8) -> #REF! | T8: =IF(S8="","",+R8-S8) -> #REF! | U8: =IF(Q8="","",R8/S8)
A9: =IF(B9="","",IF(OFFSET(Sommaire!$M$4,ROWS($1:3),0)="",OFFSET(Sommaire!O$3,ROWS($1:3)-COUNTA(Sommaire!$M$6:$M$23),0),OFFSET(Sommaire!L$4,ROWS($1:3),0))) -> 12 | B9: =IF(IF(OFFSET(Sommaire!$M$4,ROWS($1:3),0)="",OFFSET(Sommaire!P$3,ROWS($1:3)-COUNTA(Sommaire!$M$6:$M$23),0),OFFSET(Sommaire!M$4,ROWS($1:3),0))=0,"",IF(OFFSET(Sommaire!$M$4,ROWS($1:3),0)="",OFFSET(Sommaire!P$3,ROWS($1:3)-COUNTA(Sommaire!$M$6:$M$23),0),OFFSET(Sommaire!M$4,ROWS($1:3),0))) -> tt | E9: =IF(OR(D9="",C9="")=FALSE,D9-D9,"") | F9: =IF(OR(D9="",C9="",D9=0)=FALSE,C9/D9,"") | G9: 0 | H9: =IF(OR(G9="",C9="")=FALSE,C9-G9,"") | I9: =IF(OR(G9="",C9="",G9=0)=FALSE,C9/G9,"") | K9: =VLOOKUP(A9,#REF!,6,FALSE) -> #REF! | L9: =IF(OR(K9="",J9="")=FALSE,J9-K9,"") -> #REF! | M9: =IF(OR(K9="",J9="",K9=0)=FALSE,J9/K9,"") -> #REF! | O9: =IF(AND(J9="",K9="")=TRUE,"",C9-J9) -> #REF! | P9: =IF(G9="","",IF(G9-K9<0,"0 €",G9-K9)) -> #REF! | R9: =IF(O9="","",O9+J9) -> #REF! | S9: =IF(AND(Q9="",K9="")=TRUE,"",+K9+Q9) -> #REF! | T9: =IF(S9="","",+R9-S9) -> #REF! | U9: =IF(Q9="","",R9/S9)
A10: =IF(B10="","",IF(OFFSET(Sommaire!$M$4,ROWS($1:4),0)="",OFFSET(Sommaire!O$3,ROWS($1:4)-COUNTA(Sommaire!$M$6:$M$23),0),OFFSET(Sommaire!L$4,ROWS($1:4),0))) -> 101 | B10: =IF(IF(OFFSET(Sommaire!$M$4,ROWS($1:4),0)="",OFFSET(Sommaire!P$3,ROWS($1:4)-COUNTA(Sommaire!$M$6:$M$23),0),OFFSET(Sommaire!M$4,ROWS($1:4),0))=0,"",IF(OFFSET(Sommaire!$M$4,ROWS($1:4),0)="",OFFSET(Sommaire!P$3,ROWS($1:4)-COUNTA(Sommaire!$M$6:$M$23),0),OFFSET(Sommaire!M$4,ROWS($1:4),0))) -> TS1 : … | E10: =IF(OR(D10="",C10="")=FALSE,D10-D10,"") | F10: =IF(OR(D10="",C10="",D10=0)=FALSE,C10/D10,"") | H10: =IF(OR(G10="",C10="")=FALSE,C10-G10,"") | I10: =IF(OR(G10="",C10="",G10=0)=FALSE,C10/G10,"") | K10: =VLOOKUP(A10,#REF!,6,FALSE) -> #REF! | L10: =IF(OR(K10="",J10="")=FALSE,J10-K10,"") -> #REF! | M10: =IF(OR(K10="",J10="",K10=0)=FALSE,J10/K10,"") -> #REF! | O10: =IF(AND(J10="",K10="")=TRUE,"",C10-J10) -> #REF! | P10: =IF(G10="","",IF(G10-K10<0,"0 €",G10-K10)) | R10: =IF(O10="","",O10+J10) -> #REF! | S10: =IF(AND(Q10="",K10="")=TRUE,"",+K10+Q10) -> #REF! | T10: =IF(S10="","",+R10-S10) -> #REF! | U10: =IF(Q10="","",R10/S10)
A11: =IF(B11="","",IF(OFFSET(Sommaire!$M$4,ROWS($1:5),0)="",OFFSET(Sommaire!O$3,ROWS($1:5)-COUNTA(Sommaire!$M$6:$M$23),0),OFFSET(Sommaire!L$4,ROWS($1:5),0))) -> 102 | B11: =IF(IF(OFFSET(Sommaire!$M$4,ROWS($1:5),0)="",OFFSET(Sommaire!P$3,ROWS($1:5)-COUNTA(Sommaire!$M$6:$M$23),0),OFFSET(Sommaire!M$4,ROWS($1:5),0))=0,"",IF(OFFSET(Sommaire!$M$4,ROWS($1:5),0)="",OFFSET(Sommaire!P$3,ROWS($1:5)-COUNTA(Sommaire!$M$6:$M$23),0),OFFSET(Sommaire!M$4,ROWS($1:5),0))) -> ee | E11: =IF(OR(D11="",C11="")=FALSE,D11-D11,"") | F11: =IF(OR(D11="",C11="",D11=0)=FALSE,C11/D11,"") | H11: =IF(OR(G11="",C11="")=FALSE,C11-G11,"") | I11: =IF(OR(G11="",C11="",G11=0)=FALSE,C11/G11,"") | K11: =VLOOKUP(A11,#REF!,6,FALSE) -> #REF! | L11: =IF(OR(K11="",J11="")=FALSE,J11-K11,"") -> #REF! | M11: =IF(OR(K11="",J11="",K11=0)=FALSE,J11/K11,"") -> #REF! | O11: =IF(AND(J11="",K11="")=TRUE,"",C11-J11) -> #REF! | P11: =IF(G11="","",IF(G11-K11<0,"0 €",G11-K11)) | R11: =IF(O11="","",O11+J11) -> #REF! | S11: =IF(AND(Q11="",K11="")=TRUE,"",+K11+Q11) -> #REF! | T11: =IF(S11="","",+R11-S11) -> #REF! | U11: =IF(Q11="","",R11/S11)
A12: =IF(B12="","",IF(OFFSET(Sommaire!$M$4,ROWS($1:6),0)="",OFFSET(Sommaire!O$3,ROWS($1:6)-COUNTA(Sommaire!$M$6:$M$23),0),OFFSET(Sommaire!L$4,ROWS($1:6),0))) | B12: =IF(IF(OFFSET(Sommaire!$M$4,ROWS($1:6),0)="",OFFSET(Sommaire!P$3,ROWS($1:6)-COUNTA(Sommaire!$M$6:$M$23),0),OFFSET(Sommaire!M$4,ROWS($1:6),0))=0,"",IF(OFFSET(Sommaire!$M$4,ROWS($1:6),0)="",OFFSET(Sommaire!P$3,ROWS($1:6)-COUNTA(Sommaire!$M$6:$M$23),0),OFFSET(Sommaire!M$4,ROWS($1:6),0))) | E12: =IF(OR(D12="",C12="")=FALSE,D12-D12,"") | F12: =IF(OR(D12="",C12="",D12=0)=FALSE,C12/D12,"") | H12: =IF(OR(G12="",C12="")=FALSE,C12-G12,"") | I12: =IF(OR(G12="",C12="",G12=0)=FALSE,C12/G12,"") | K12: =VLOOKUP(A12,#REF!,6,FALSE) -> #REF! | L12: =IF(OR(K12="",J12="")=FALSE,J12-K12,"") -> #REF! | M12: =IF(OR(K12="",J12="",K12=0)=FALSE,J12/K12,"") -> #REF! | O12: =IF(AND(J12="",K12="")=TRUE,"",C12-J12) -> #REF! | P12: =IF(G12="","",IF(G12-K12<0,"0 €",G12-K12)) | R12: =IF(O12="","",O12+J12) -> #REF! | S12: =IF(AND(Q12="",K12="")=TRUE,"",+K12+Q12) -> #REF! | T12: =IF(S12="","",+R12-S12) -> #REF! | U12: =IF(Q12="","",R12/S12)
A13: =IF(B13="","",IF(OFFSET(Sommaire!$M$4,ROWS($1:7),0)="",OFFSET(Sommaire!O$3,ROWS($1:7)-COUNTA(Sommaire!$M$6:$M$23),0),OFFSET(Sommaire!L$4,ROWS($1:7),0))) | B13: =IF(IF(OFFSET(Sommaire!$M$4,ROWS($1:7),0)="",OFFSET(Sommaire!P$3,ROWS($1:7)-COUNTA(Sommaire!$M$6:$M$23),0),OFFSET(Sommaire!M$4,ROWS($1:7),0))=0,"",IF(OFFSET(Sommaire!$M$4,ROWS($1:7),0)="",OFFSET(Sommaire!P$3,ROWS($1:7)-COUNTA(Sommaire!$M$6:$M$23),0),OFFSET(Sommaire!M$4,ROWS($1:7),0))) | E13: =IF(OR(D13="",C13="")=FALSE,D13-D13,"") | F13: =IF(OR(D13="",C13="",D13=0)=FALSE,C13/D13,"") | H13: =IF(OR(G13="",C13="")=FALSE,C13-G13,"") | I13: =IF(OR(G13="",C13="",G13=0)=FALSE,C13/G13,"") | K13: =VLOOKUP(A13,#REF!,6,FALSE) -> #REF! | L13: =IF(OR(K13="",J13="")=FALSE,J13-K13,"") -> #REF! | M13: =IF(OR(K13="",J13="",K13=0)=FALSE,J13/K13,"") -> #REF! | O13: =IF(AND(J13="",K13="")=TRUE,"",C13-J13) -> #REF! | P13: =IF(G13="","",IF(G13-K13<0,"0 €",G13-K13)) | R13: =IF(O13="","",O13+J13) -> #REF! | S13: =IF(AND(Q13="",K13="")=TRUE,"",+K13+Q13) -> #REF! | T13: =IF(S13="","",+R13-S13) -> #REF! | U13: =IF(Q13="","",R13/S13)
A14: =IF(B14="","",IF(OFFSET(Sommaire!$M$4,ROWS($1:8),0)="",OFFSET(Sommaire!O$3,ROWS($1:8)-COUNTA(Sommaire!$M$6:$M$23),0),OFFSET(Sommaire!L$4,ROWS($1:8),0))) | B14: =IF(IF(OFFSET(Sommaire!$M$4,ROWS($1:8),0)="",OFFSET(Sommaire!P$3,ROWS($1:8)-COUNTA(Sommaire!$M$6:$M$23),0),OFFSET(Sommaire!M$4,ROWS($1:8),0))=0,"",IF(OFFSET(Sommaire!$M$4,ROWS($1:8),0)="",OFFSET(Sommaire!P$3,ROWS($1:8)-COUNTA(Sommaire!$M$6:$M$23),0),OFFSET(Sommaire!M$4,ROWS($1:8),0))) | E14: =IF(OR(D14="",C14="")=FALSE,D14-D14,"") | F14: =IF(OR(D14="",C14="",D14=0)=FALSE,C14/D14,"") | H14: =IF(OR(G14="",C14="")=FALSE,C14-G14,"") | I14: =IF(OR(G14="",C14="",G14=0)=FALSE,C14/G14,"") | K14: =VLOOKUP(A14,#REF!,6,FALSE) -> #REF! | L14: =IF(OR(K14="",J14="")=FALSE,J14-K14,"") -> #REF! | M14: =IF(OR(K14="",J14="",K14=0)=FALSE,J14/K14,"") -> #REF! | O14: =IF(AND(J14="",K14="")=TRUE,"",C14-J14) -> #REF! | P14: =IF(G14="","",IF(G14-K14<0,"0 €",G14-K14)) | R14: =IF(O14="","",O14+J14) -> #REF! | S14: =IF(AND(Q14="",K14="")=TRUE,"",+K14+Q14) -> #REF! | T14: =IF(S14="","",+R14-S14) -> #REF! | U14: =IF(Q14="","",R14/S14)
A15: =IF(B15="","",IF(OFFSET(Sommaire!$M$4,ROWS($1:9),0)="",OFFSET(Sommaire!O$3,ROWS($1:9)-COUNTA(Sommaire!$M$6:$M$23),0),OFFSET(Sommaire!L$4,ROWS($1:9),0))) | B15: =IF(IF(OFFSET(Sommaire!$M$4,ROWS($1:9),0)="",OFFSET(Sommaire!P$3,ROWS($1:9)-COUNTA(Sommaire!$M$6:$M$23),0),OFFSET(Sommaire!M$4,ROWS($1:9),0))=0,"",IF(OFFSET(Sommaire!$M$4,ROWS($1:9),0)="",OFFSET(Sommaire!P$3,ROWS($1:9)-COUNTA(Sommaire!$M$6:$M$23),0),OFFSET(Sommaire!M$4,ROWS($1:9),0))) | E15: =IF(OR(D15="",C15="")=FALSE,D15-D15,"") | F15: =IF(OR(D15="",C15="",D15=0)=FALSE,C15/D15,"") | H15: =IF(OR(G15="",C15="")=FALSE,C15-G15,"") | I15: =IF(OR(G15="",C15="",G15=0)=FALSE,C15/G15,"") | K15: =VLOOKUP(A15,#REF!,6,FALSE) -> #REF! | L15: =IF(OR(K15="",J15="")=FALSE,J15-K15,"") -> #REF! | M15: =IF(OR(K15="",J15="",K15=0)=FALSE,J15/K15,"") -> #REF! | O15: =IF(AND(J15="",K15="")=TRUE,"",C15-J15) -> #REF! | P15: =IF(G15="","",IF(G15-K15<0,"0 €",G15-K15)) | R15: =IF(O15="","",O15+J15) -> #REF! | S15: =IF(AND(Q15="",K15="")=TRUE,"",+K15+Q15) -> #REF! | T15: =IF(S15="","",+R15-S15) -> #REF! | U15: =IF(Q15="","",R15/S15)
A16: =IF(B16="","",IF(OFFSET(Sommaire!$M$4,ROWS($1:10),0)="",OFFSET(Sommaire!O$3,ROWS($1:10)-COUNTA(Sommaire!$M$6:$M$23),0),OFFSET(Sommaire!L$4,ROWS($1:10),0))) | B16: =IF(IF(OFFSET(Sommaire!$M$4,ROWS($1:10),0)="",OFFSET(Sommaire!P$3,ROWS($1:10)-COUNTA(Sommaire!$M$6:$M$23),0),OFFSET(Sommaire!M$4,ROWS($1:10),0))=0,"",IF(OFFSET(Sommaire!$M$4,ROWS($1:10),0)="",OFFSET(Sommaire!P$3,ROWS($1:10)-COUNTA(Sommaire!$M$6:$M$23),0),OFFSET(Sommaire!M$4,ROWS($1:10),0))) | E16: =IF(OR(D16="",C16="")=FALSE,D16-D16,"") | F16: =IF(OR(D16="",C16="",D16=0)=FALSE,C16/D16,"") | H16: =IF(OR(G16="",C16="")=FALSE,C16-G16,"") | I16: =IF(OR(G16="",C16="",G16=0)=FALSE,C16/G16,"") | K16: =VLOOKUP(A16,#REF!,6,FALSE) -> #REF! | L16: =IF(OR(K16="",J16="")=FALSE,J16-K16,"") -> #REF! | M16: =IF(OR(K16="",J16="",K16=0)=FALSE,J16/K16,"") -> #REF! | O16: =IF(AND(J16="",K16="")=TRUE,"",C16-J16) -> #REF! | P16: =IF(G16="","",IF(G16-K16<0,"0 €",G16-K16)) | R16: =IF(O16="","",O16+J16) -> #REF! | S16: =IF(AND(Q16="",K16="")=TRUE,"",+K16+Q16) -> #REF! | T16: =IF(S16="","",+R16-S16) -> #REF! | U16: =IF(Q16="","",R16/S16)
A17: =IF(B17="","",IF(OFFSET(Sommaire!$M$4,ROWS($1:11),0)="",OFFSET(Sommaire!O$3,ROWS($1:11)-COUNTA(Sommaire!$M$6:$M$23),0),OFFSET(Sommaire!L$4,ROWS($1:11),0))) | B17: =IF(IF(OFFSET(Sommaire!$M$4,ROWS($1:11),0)="",OFFSET(Sommaire!P$3,ROWS($1:11)-COUNTA(Sommaire!$M$6:$M$23),0),OFFSET(Sommaire!M$4,ROWS($1:11),0))=0,"",IF(OFFSET(Sommaire!$M$4,ROWS($1:11),0)="",OFFSET(Sommaire!P$3,ROWS($1:11)-COUNTA(Sommaire!$M$6:$M$23),0),OFFSET(Sommaire!M$4,ROWS($1:11),0))) | E17: =IF(OR(D17="",C17="")=FALSE,D17-D17,"") | F17: =IF(OR(D17="",C17="",D17=0)=FALSE,C17/D17,"") | H17: =IF(OR(G17="",C17="")=FALSE,C17-G17,"") | I17: =IF(OR(G17="",C17="",G17=0)=FALSE,C17/G17,"") | K17: =VLOOKUP(A17,#REF!,6,FALSE) -> #REF! | L17: =IF(OR(K17="",J17="")=FALSE,J17-K17,"") -> #REF! | M17: =IF(OR(K17="",J17="",K17=0)=FALSE,J17/K17,"") -> #REF! | O17: =IF(AND(J17="",K17="")=TRUE,"",C17-J17) -> #REF! | P17: =IF(G17="","",IF(G17-K17<0,"0 €",G17-K17)) | R17: =IF(O17="","",O17+J17) -> #REF! | S17: =IF(AND(Q17="",K17="")=TRUE,"",+K17+Q17) -> #REF! | T17: =IF(S17="","",+R17-S17) -> #REF! | U17: =IF(Q17="","",R17/S17)
A18: =IF(B18="","",IF(OFFSET(Sommaire!$M$4,ROWS($1:12),0)="",OFFSET(Sommaire!O$3,ROWS($1:12)-COUNTA(Sommaire!$M$6:$M$23),0),OFFSET(Sommaire!L$4,ROWS($1:12),0))) | B18: =IF(IF(OFFSET(Sommaire!$M$4,ROWS($1:12),0)="",OFFSET(Sommaire!P$3,ROWS($1:12)-COUNTA(Sommaire!$M$6:$M$23),0),OFFSET(Sommaire!M$4,ROWS($1:12),0))=0,"",IF(OFFSET(Sommaire!$M$4,ROWS($1:12),0)="",OFFSET(Sommaire!P$3,ROWS($1:12)-COUNTA(Sommaire!$M$6:$M$23),0),OFFSET(Sommaire!M$4,ROWS($1:12),0))) | E18: =IF(OR(D18="",C18="")=FALSE,D18-D18,"") | F18: =IF(OR(D18="",C18="",D18=0)=FALSE,C18/D18,"") | H18: =IF(OR(G18="",C18="")=FALSE,C18-G18,"") | I18: =IF(OR(G18="",C18="",G18=0)=FALSE,C18/G18,"") | K18: =VLOOKUP(A18,#REF!,6,FALSE) -> #REF! | L18: =IF(OR(K18="",J18="")=FALSE,J18-K18,"") -> #REF! | M18: =IF(OR(K18="",J18="",K18=0)=FALSE,J18/K18,"") -> #REF! | O18: =IF(AND(J18="",K18="")=TRUE,"",C18-J18) -> #REF! | P18: =IF(G18="","",IF(G18-K18<0,"0 €",G18-K18)) | R18: =IF(O18="","",O18+J18) -> #REF! | S18: =IF(AND(Q18="",K18="")=TRUE,"",+K18+Q18) -> #REF! | T18: =IF(S18="","",+R18-S18) -> #REF! | U18: =IF(Q18="","",R18/S18)
A19: =IF(B19="","",IF(OFFSET(Sommaire!$M$4,ROWS($1:13),0)="",OFFSET(Sommaire!O$3,ROWS($1:13)-COUNTA(Sommaire!$M$6:$M$23),0),OFFSET(Sommaire!L$4,ROWS($1:13),0))) | B19: =IF(IF(OFFSET(Sommaire!$M$4,ROWS($1:13),0)="",OFFSET(Sommaire!P$3,ROWS($1:13)-COUNTA(Sommaire!$M$6:$M$23),0),OFFSET(Sommaire!M$4,ROWS($1:13),0))=0,"",IF(OFFSET(Sommaire!$M$4,ROWS($1:13),0)="",OFFSET(Sommaire!P$3,ROWS($1:13)-COUNTA(Sommaire!$M$6:$M$23),0),OFFSET(Sommaire!M$4,ROWS($1:13),0))) | E19: =IF(OR(D19="",C19="")=FALSE,D19-D19,"") | F19: =IF(OR(D19="",C19="",D19=0)=FALSE,C19/D19,"") | H19: =IF(OR(G19="",C19="")=FALSE,C19-G19,"") | I19: =IF(OR(G19="",C19="",G19=0)=FALSE,C19/G19,"") | K19: =VLOOKUP(A19,#REF!,6,FALSE) -> #REF! | L19: =IF(OR(K19="",J19="")=FALSE,J19-K19,"") -> #REF! | M19: =IF(OR(K19="",J19="",K19=0)=FALSE,J19/K19,"") -> #REF! | O19: =IF(AND(J19="",K19="")=TRUE,"",C19-J19) -> #REF! | P19: =IF(G19="","",IF(G19-K19<0,"0 €",G19-K19)) | R19: =IF(O19="","",O19+J19) -> #REF! | S19: =IF(AND(Q19="",K19="")=TRUE,"",+K19+Q19) -> #REF! | T19: =IF(S19="","",+R19-S19) -> #REF! | U19: =IF(Q19="","",R19/S19)
A20: =IF(B20="","",IF(OFFSET(Sommaire!$M$4,ROWS($1:14),0)="",OFFSET(Sommaire!O$3,ROWS($1:14)-COUNTA(Sommaire!$M$6:$M$23),0),OFFSET(Sommaire!L$4,ROWS($1:14),0))) | B20: =IF(IF(OFFSET(Sommaire!$M$4,ROWS($1:14),0)="",OFFSET(Sommaire!P$3,ROWS($1:14)-COUNTA(Sommaire!$M$6:$M$23),0),OFFSET(Sommaire!M$4,ROWS($1:14),0))=0,"",IF(OFFSET(Sommaire!$M$4,ROWS($1:14),0)="",OFFSET(Sommaire!P$3,ROWS($1:14)-COUNTA(Sommaire!$M$6:$M$23),0),OFFSET(Sommaire!M$4,ROWS($1:14),0))) | E20: =IF(OR(D20="",C20="")=FALSE,D20-D20,"") | F20: =IF(OR(D20="",C20="",D20=0)=FALSE,C20/D20,"") | H20: =IF(OR(G20="",C20="")=FALSE,C20-G20,"") | I20: =IF(OR(G20="",C20="",G20=0)=FALSE,C20/G20,"") | K20: =VLOOKUP(A20,#REF!,6,FALSE) -> #REF! | L20: =IF(OR(K20="",J20="")=FALSE,J20-K20,"") -> #REF! | M20: =IF(OR(K20="",J20="",K20=0)=FALSE,J20/K20,"") -> #REF! | O20: =IF(AND(J20="",K20="")=TRUE,"",C20-J20) -> #REF! | P20: =IF(G20="","",IF(G20-K20<0,"0 €",G20-K20)) | R20: =IF(O20="","",O20+J20) -> #REF! | S20: =IF(AND(Q20="",K20="")=TRUE,"",+K20+Q20) -> #REF! | T20: =IF(S20="","",+R20-S20) -> #REF! | U20: =IF(Q20="","",R20/S20)
A21: =IF(B21="","",IF(OFFSET(Sommaire!$M$4,ROWS($1:15),0)="",OFFSET(Sommaire!O$3,ROWS($1:15)-COUNTA(Sommaire!$M$6:$M$23),0),OFFSET(Sommaire!L$4,ROWS($1:15),0))) | B21: =IF(IF(OFFSET(Sommaire!$M$4,ROWS($1:15),0)="",OFFSET(Sommaire!P$3,ROWS($1:15)-COUNTA(Sommaire!$M$6:$M$23),0),OFFSET(Sommaire!M$4,ROWS($1:15),0))=0,"",IF(OFFSET(Sommaire!$M$4,ROWS($1:15),0)="",OFFSET(Sommaire!P$3,ROWS($1:15)-COUNTA(Sommaire!$M$6:$M$23),0),OFFSET(Sommaire!M$4,ROWS($1:15),0))) | E21: =IF(OR(D21="",C21="")=FALSE,D21-D21,"") | F21: =IF(OR(D21="",C21="",D21=0)=FALSE,C21/D21,"") | H21: =IF(OR(G21="",C21="")=FALSE,C21-G21,"") | I21: =IF(OR(G21="",C21="",G21=0)=FALSE,C21/G21,"") | K21: =VLOOKUP(A21,#REF!,6,FALSE) -> #REF! | L21: =IF(OR(K21="",J21="")=FALSE,J21-K21,"") -> #REF! | M21: =IF(OR(K21="",J21="",K21=0)=FALSE,J21/K21,"") -> #REF! | O21: =IF(AND(J21="",K21="")=TRUE,"",C21-J21) -> #REF! | P21: =IF(G21="","",IF(G21-K21<0,"0 €",G21-K21)) | R21: =IF(O21="","",O21+J21) -> #REF! | S21: =IF(AND(Q21="",K21="")=TRUE,"",+K21+Q21) -> #REF! | T21: =IF(S21="","",+R21-S21) -> #REF! | U21: =IF(Q21="","",R21/S21)
A22: =IF(B22="","",IF(OFFSET(Sommaire!$M$4,ROWS($1:16),0)="",OFFSET(Sommaire!O$3,ROWS($1:16)-COUNTA(Sommaire!$M$6:$M$23),0),OFFSET(Sommaire!L$4,ROWS($1:16),0))) | B22: =IF(IF(OFFSET(Sommaire!$M$4,ROWS($1:16),0)="",OFFSET(Sommaire!P$3,ROWS($1:16)-COUNTA(Sommaire!$M$6:$M$23),0),OFFSET(Sommaire!M$4,ROWS($1:16),0))=0,"",IF(OFFSET(Sommaire!$M$4,ROWS($1:16),0)="",OFFSET(Sommaire!P$3,ROWS($1:16)-COUNTA(Sommaire!$M$6:$M$23),0),OFFSET(Sommaire!M$4,ROWS($1:16),0))) | E22: =IF(OR(D22="",C22="")=FALSE,D22-D22,"") | F22: =IF(OR(D22="",C22="",D22=0)=FALSE,C22/D22,"") | H22: =IF(OR(G22="",C22="")=FALSE,C22-G22,"") | I22: =IF(OR(G22="",C22="",G22=0)=FALSE,C22/G22,"") | K22: =VLOOKUP(A22,#REF!,6,FALSE) -> #REF! | L22: =IF(OR(K22="",J22="")=FALSE,J22-K22,"") -> #REF! | M22: =IF(OR(K22="",J22="",K22=0)=FALSE,J22/K22,"") -> #REF! | O22: =IF(AND(J22="",K22="")=TRUE,"",C22-J22) -> #REF! | P22: =IF(G22="","",IF(G22-K22<0,"0 €",G22-K22)) | R22: =IF(O22="","",O22+J22) -> #REF! | S22: =IF(AND(Q22="",K22="")=TRUE,"",+K22+Q22) -> #REF! | T22: =IF(S22="","",+R22-S22) -> #REF! | U22: =IF(Q22="","",R22/S22)
A23: =IF(B23="","",IF(OFFSET(Sommaire!$M$4,ROWS($1:17),0)="",OFFSET(Sommaire!O$3,ROWS($1:17)-COUNTA(Sommaire!$M$6:$M$23),0),OFFSET(Sommaire!L$4,ROWS($1:17),0))) | B23: =IF(IF(OFFSET(Sommaire!$M$4,ROWS($1:17),0)="",OFFSET(Sommaire!P$3,ROWS($1:17)-COUNTA(Sommaire!$M$6:$M$23),0),OFFSET(Sommaire!M$4,ROWS($1:17),0))=0,"",IF(OFFSET(Sommaire!$M$4,ROWS($1:17),0)="",OFFSET(Sommaire!P$3,ROWS($1:17)-COUNTA(Sommaire!$M$6:$M$23),0),OFFSET(Sommaire!M$4,ROWS($1:17),0))) | E23: =IF(OR(D23="",C23="")=FALSE,D23-D23,"") | F23: =IF(OR(D23="",C23="",D23=0)=FALSE,C23/D23,"") | H23: =IF(OR(G23="",C23="")=FALSE,C23-G23,"") | I23: =IF(OR(G23="",C23="",G23=0)=FALSE,C23/G23,"") | K23: =VLOOKUP(A23,#REF!,6,FALSE) -> #REF! | L23: =IF(OR(K23="",J23="")=FALSE,J23-K23,"") -> #REF! | M23: =IF(OR(K23="",J23="",K23=0)=FALSE,J23/K23,"") -> #REF! | O23: =IF(AND(J23="",K23="")=TRUE,"",C23-J23) -> #REF! | P23: =IF(G23="","",IF(G23-K23<0,"0 €",G23-K23)) | R23: =IF(O23="","",O23+J23) -> #REF! | S23: =IF(AND(Q23="",K23="")=TRUE,"",+K23+Q23) -> #REF! | T23: =IF(S23="","",+R23-S23) -> #REF! | U23: =IF(Q23="","",R23/S23)
A24: =IF(B24="","",IF(OFFSET(Sommaire!$M$4,ROWS($1:18),0)="",OFFSET(Sommaire!O$3,ROWS($1:18)-COUNTA(Sommaire!$M$6:$M$23),0),OFFSET(Sommaire!L$4,ROWS($1:18),0))) | B24: =IF(IF(OFFSET(Sommaire!$M$4,ROWS($1:18),0)="",OFFSET(Sommaire!P$3,ROWS($1:18)-COUNTA(Sommaire!$M$6:$M$23),0),OFFSET(Sommaire!M$4,ROWS($1:18),0))=0,"",IF(OFFSET(Sommaire!$M$4,ROWS($1:18),0)="",OFFSET(Sommaire!P$3,ROWS($1:18)-COUNTA(Sommaire!$M$6:$M$23),0),OFFSET(Sommaire!M$4,ROWS($1:18),0))) | E24: =IF(OR(D24="",C24="")=FALSE,D24-D24,"") | F24: =IF(OR(D24="",C24="",D24=0)=FALSE,C24/D24,"") | H24: =IF(OR(G24="",C24="")=FALSE,C24-G24,"") | I24: =IF(OR(G24="",C24="",G24=0)=FALSE,C24/G24,"") | K24: =VLOOKUP(A24,#REF!,6,FALSE) -> #REF! | L24: =IF(OR(K24="",J24="")=FALSE,J24-K24,"") -> #REF! | M24: =IF(OR(K24="",J24="",K24=0)=FALSE,J24/K24,"") -> #REF! | O24: =IF(AND(J24="",K24="")=TRUE,"",C24-J24) -> #REF! | P24: =IF(G24="","",IF(G24-K24<0,"0 €",G24-K24)) | R24: =IF(O24="","",O24+J24) -> #REF! | S24: =IF(AND(Q24="",K24="")=TRUE,"",+K24+Q24) -> #REF! | T24: =IF(S24="","",+R24-S24) -> #REF! | U24: =IF(Q24="","",R24/S24)
A25: =IF(B25="","",IF(OFFSET(Sommaire!$M$4,ROWS($1:19),0)="",OFFSET(Sommaire!O$3,ROWS($1:19)-COUNTA(Sommaire!$M$6:$M$23),0),OFFSET(Sommaire!L$4,ROWS($1:19),0))) | B25: =IF(IF(OFFSET(Sommaire!$M$4,ROWS($1:19),0)="",OFFSET(Sommaire!P$3,ROWS($1:19)-COUNTA(Sommaire!$M$6:$M$23),0),OFFSET(Sommaire!M$4,ROWS($1:19),0))=0,"",IF(OFFSET(Sommaire!$M$4,ROWS($1:19),0)="",OFFSET(Sommaire!P$3,ROWS($1:19)-COUNTA(Sommaire!$M$6:$M$23),0),OFFSET(Sommaire!M$4,ROWS($1:19),0))) | E25: =IF(OR(D25="",C25="")=FALSE,D25-D25,"") | F25: =IF(OR(D25="",C25="",D25=0)=FALSE,C25/D25,"") | H25: =IF(OR(G25="",C25="")=FALSE,C25-G25,"") | I25: =IF(OR(G25="",C25="",G25=0)=FALSE,C25/G25,"") | K25: =VLOOKUP(A25,#REF!,6,FALSE) -> #REF! | L25: =IF(OR(K25="",J25="")=FALSE,J25-K25,"") -> #REF! | M25: =IF(OR(K25="",J25="",K25=0)=FALSE,J25/K25,"") -> #REF! | O25: =IF(AND(J25="",K25="")=TRUE,"",C25-J25) -> #REF! | P25: =IF(G25="","",IF(G25-K25<0,"0 €",G25-K25)) | R25: =IF(O25="","",O25+J25) -> #REF! | S25: =IF(AND(Q25="",K25="")=TRUE,"",+K25+Q25) -> #REF! | T25: =IF(S25="","",+R25-S25) -> #REF! | U25: =IF(Q25="","",R25/S25)
A26: =IF(B26="","",IF(OFFSET(Sommaire!$M$4,ROWS($1:20),0)="",OFFSET(Sommaire!O$3,ROWS($1:20)-COUNTA(Sommaire!$M$6:$M$23),0),OFFSET(Sommaire!L$4,ROWS($1:20),0))) | B26: =IF(IF(OFFSET(Sommaire!$M$4,ROWS($1:20),0)="",OFFSET(Sommaire!P$3,ROWS($1:20)-COUNTA(Sommaire!$M$6:$M$23),0),OFFSET(Sommaire!M$4,ROWS($1:20),0))=0,"",IF(OFFSET(Sommaire!$M$4,ROWS($1:20),0)="",OFFSET(Sommaire!P$3,ROWS($1:20)-COUNTA(Sommaire!$M$6:$M$23),0),OFFSET(Sommaire!M$4,ROWS($1:20),0))) | E26: =IF(OR(D26="",C26="")=FALSE,D26-D26,"") | F26: =IF(OR(D26="",C26="",D26=0)=FALSE,C26/D26,"") | H26: =IF(OR(G26="",C26="")=FALSE,C26-G26,"") | I26: =IF(OR(G26="",C26="",G26=0)=FALSE,C26/G26,"") | K26: =VLOOKUP(A26,#REF!,6,FALSE) -> #REF! | L26: =IF(OR(K26="",J26="")=FALSE,J26-K26,"") -> #REF! | M26: =IF(OR(K26="",J26="",K26=0)=FALSE,J26/K26,"") -> #REF! | O26: =IF(AND(J26="",K26="")=TRUE,"",C26-J26) -> #REF! | P26: =IF(G26="","",IF(G26-K26<0,"0 €",G26-K26)) | R26: =IF(O26="","",O26+J26) -> #REF! | S26: =IF(AND(Q26="",K26="")=TRUE,"",+K26+Q26) -> #REF! | T26: =IF(S26="","",+R26-S26) -> #REF! | U26: =IF(Q26="","",R26/S26)
B27: TOTAL HT | C27: =SUM(C8:C26) -> 0 | D27: =SUM(D8:D26) -> 0 | E27: =SUM(E8:E26) -> 0 | F27: =IF(C27=0,,(C27/D27)) -> 0 | G27: =SUM(G8:G26) -> 0 | H27: =SUM(H8:H26) -> 0 | I27: =IF(G27=0,,(C27/G27)) -> 0 | J27: =SUM(J8:J26) -> 0 | K27: =SUM(K8:K26) -> #REF! | L27: =IF(SUM(L8:L26)=0,0,SUM(L8:L26)) -> #REF! | M27: =IF(K46=0,0,J46/K46) -> #REF! | O27: =SUM(O8:O26) -> #REF! | P27: =SUM(P8:P26) -> #REF! | Q27: =SUM(Q8:Q26) -> 0 | R27: =SUM(R8:R26) -> #REF! | S27: =SUM(S8:S26) -> #REF! | T27: =SUM(T8:T26) -> #REF! | U27: =R27/S27 -> #REF!
J29: PRORATA
J30: Facturé HT | K30: Dépensé HT
K31: =IF(Sommaire!M5="",0,VLOOKUP(0,#REF!,6,FALSE)) -> #REF!
J33: =SUM(J31,J27) -> 0 | K33: =SUM(K31,K27) -> #REF! | L33: =J33-K33 -> #REF! | M33: =IF(K46=0,0,J46/K46) -> #REF!
K34: Marge prorata compris
B35: =D5 -> NOM CHANTIER | C35: MARGE | G35: =M46 -> #REF!
J36: EN COURS
B37: (prorata et "en cours" compris) | J37: Facturé HT | K37: Dépensé HT
J38: =IF(K31="","",K31*(1-#REF!)-J31+(K31-J31)*#REF!) -> #REF! | L38: Prorata Non Facturé
J39: =SUM(#REF!) -> #REF! | L39: Fait & Non Facturé
K40: =SUM(#REF!) -> #REF! | L40: Dépense à recevoir
J41: =-SUM(#REF!) -> #REF! | L41: Facturé & Non fait
L42: Litiges/Stock
L43: Autres
I44: TOTAL | J44: =SUM(J38:J43) -> #REF! | K44: =SUM(K38:K43) -> #REF!
J46: =IF(J33=0,J27,SUM(J44,J33)) -> 0 | K46: =IF(K33=0,K27,SUM(K44,K33)) -> #REF! | L46: =J46-K46 -> #REF! | M46: =IF(K46=0,0,J46/K46) -> #REF!

Sheet Sommaire
L2: TOTAL MONTANT | N2: =SUM(F2:F10) -> 0
L4: CODE TÂCHE MARCHE | O4: CODE TÂCHE T.S.
L5: 0 | M5: Prorata | O5: 101 | P5: TS1 : …
L6: 11 | M6: Démolition | O6: 102 | P6: ee
L7: 12 | M7: tt | O7: 103
L8: 21 | O8: 104
L9: 4 | O9: 105
L10: 5 | O10: 106
L11: 6 | O11: 107
L12: 7 | O12: 108
L13: 8 | O13: 109
L14: 9 | O14: 110
L15: 10 | O15: 111
L16: 11 | O16: 112
L17: 12 | O17: 113
L18: 13 | O18: 114
L19: 14 | O19: 115
... L23: 18 | O23: 119
