Workbook
Name thm_etude: #REF!
Name thmc: 'Saisie des HEURES'!$I$6
Name totdl_tf: #REF!
Name totdl_ts1: #REF!
Name totdl_ts2: #REF!
Name totdl_ts3: #REF!
Name totdm_tf: #REF!
Name totdm_ts1: #REF!
Name totdm_ts2: #REF!
Name totdm_ts3: #REF!
Name totds_tf: #REF!
Name totds_ts1: #REF!
Name totds_ts2: #REF!
Name totds_ts3: #REF!
Name totdt_tf: #REF!
Name totdt_ts1: #REF!
Name totdt_ts2: #REF!
Name totdt_ts3: #REF!
Name toth_tf: 'Saisie des HEURES'!$I$3
Name toth_ts1: 'Saisie des HEURES'!#REF!
Name toth_ts2: 'Saisie des HEURES'!#REF!
Name toth_ts3: 'Saisie des HEURES'!#REF!

Sheet BL - FACT
A2: TOTAL MONTANT
A4: CODE TÂCHE MARCHE | D4: CODE TÂCHE T.S.
A5: 0 | B5: prorata | D5: 101 | E5: TS1 : suppr galerie1 et scellements
A6: 11 | B6: PREPARATIONS | D6: 102
A7: 12 | B7: ADAPTATIONS | D7: 103
A8: 13 | B8: INFRASTRUCTURES | D8: 104
A9: 14 | B9: SUPERSTRUCTURES | D9: 105
A10: 21 | B10: PREPARATIONS | D10: 106
A11: 22 | B11: ADAPTATIONS | D11: 107
A12: 23 | B12: INFRASTRUCTURES | D12: 108
A13: 24 | B13: SUPERSTRUCTURES | D13: 109
A14: 31 | B14: PREPARATIONS | D14: 110
A15: 32 | B15: ADAPTATIONS | D15: 111
A16: 34 | B16: INFRASTRUCTURES | D16: 112
A17: 34 | B17: SUPERSTRUCTURES | D17: 113
A18: 40 | B18: FRAIS DE CHANTIER | D18: 114
A19: 50 | D19: 115
A20: 60 | D20: 116
A21: 70 | D21: 117
A22: 80 | D22: 118
A23: 90 | D23: 119
E27: 0
E28: =IF(E27="","",IF(E27<100,IF(VLOOKUP(E27+1,'BL - FACT'!$A$5:$B$23,2,FALSE)="",'BL - FACT'!$D$5,IF(VLOOKUP(E27+1,'BL - FACT'!$A$5:$B$23,2,FALSE)=NA(),E27+1)),IF(VLOOKUP(E27+1,'BL - FACT'!$D$5:$E$23,2,FALSE)="","",E27+1))) -> #N/A

Sheet Saisie des HEURES
A1: SUIVI HEURE
B3: Hiérarchie | C3: Désignation | D3: CUMUL HEURE | E3: TOTAL | G3: TOTAL HEURE | H3: =SUM(D4:D975) -> 0 | I3: =SUM(E4:E975) -> #N/A
B4: =IF(B3="","",IF('BL - FACT'!$B$5="",'BL - FACT'!A6,'BL - FACT'!A5)) -> 0 | C4: =IF(B4="","",IF(B4<100,VLOOKUP(B4,'BL - FACT'!$A$5:$B$23,2,FALSE),IF(VLOOKUP(B4,'BL - FACT'!$D$5:$E$23,2,FALSE)=0,"",VLOOKUP(B4,'BL - FACT'!$D$5:$E$23,2,FALSE)))) -> prorata | E4: =IF(B4="","",D4*thmc) -> 0
B5: =IF(B4="","",IF(B4<100,IF(VLOOKUP(B4+1,'BL - FACT'!$A$5:$B$23,2,FALSE)="",'BL - FACT'!$D$5,IF(VLOOKUP(B4+1,'BL - FACT'!$A$5:$B$23,2,FALSE)=NA(),B4+10,B4+1)),IF(VLOOKUP(B4+1,'BL - FACT'!$D$5:$E$23,2,FALSE)="","",B4+1))) -> #N/A | C5: =IF(B5="","",IF(B5<100,VLOOKUP(B5,'BL - FACT'!$A$5:$B$23,2,FALSE),IF(VLOOKUP(B5,'BL - FACT'!$D$5:$E$23,2,FALSE)=0,"",VLOOKUP(B5,'BL - FACT'!$D$5:$E$23,2,FALSE)))) -> #N/A | E5: =IF(B5="","",D5*thmc) -> #N/A | G5: DONNEES :
B6: =IF(B5="","",IF(B5<100,IF(VLOOKUP(B5+1,'BL - FACT'!$A$5:$B$23,2,FALSE)="",'BL - FACT'!$D$5,IF(VLOOKUP(B5+1,'BL - FACT'!$A$5:$B$23,2,FALSE)=NA(),B5+10,B5+1)),IF(VLOOKUP(B5+1,'BL - FACT'!$D$5:$E$23,2,FALSE)="","",B5+1))) -> #N/A | C6: =IF(B6="","",IF(B6<100,VLOOKUP(B6,'BL - FACT'!$A$5:$B$23,2,FALSE),IF(VLOOKUP(B6,'BL - FACT'!$D$5:$E$23,2,FALSE)=0,"",VLOOKUP(B6,'BL - FACT'!$D$5:$E$23,2,FALSE)))) -> #N/A | E6: =IF(B6="","",D6*thmc) -> #N/A | G6: TAUX HORAIRE A SAISIR : | I6: 10
B7: =IF(B6="","",IF(B6<100,IF(VLOOKUP(B6+1,'BL - FACT'!$A$5:$B$23,2,FALSE)="",'BL - FACT'!$D$5,IF(VLOOKUP(B6+1,'BL - FACT'!$A$5:$B$23,2,FALSE)=NA(),B6+10,B6+1)),IF(VLOOKUP(B6+1,'BL - FACT'!$D$5:$E$23,2,FALSE)="","",B6+1))) -> #N/A | C7: =IF(B7="","",IF(B7<100,VLOOKUP(B7,'BL - FACT'!$A$5:$B$23,2,FALSE),IF(VLOOKUP(B7,'BL - FACT'!$D$5:$E$23,2,FALSE)=0,"",VLOOKUP(B7,'BL - FACT'!$D$5:$E$23,2,FALSE)))) -> #N/A | E7: =IF(B7="","",D7*thmc) -> #N/A | G7: THM A JOUR AU : | I7: date
B8: =IF(B7="","",IF(B7<100,IF(VLOOKUP(B7+1,'BL - FACT'!$A$5:$B$23,2,FALSE)="",'BL - FACT'!$D$5,IF(VLOOKUP(B7+1,'BL - FACT'!$A$5:$B$23,2,FALSE)=NA(),B7+10,B7+1)),IF(VLOOKUP(B7+1,'BL - FACT'!$D$5:$E$23,2,FALSE)="","",B7+1))) -> #N/A | C8: =IF(B8="","",IF(B8<100,VLOOKUP(B8,'BL - FACT'!$A$5:$B$23,2,FALSE),IF(VLOOKUP(B8,'BL - FACT'!$D$5:$E$23,2,FALSE)=0,"",VLOOKUP(B8,'BL - FACT'!$D$5:$E$23,2,FALSE)))) -> #N/A | E8: =IF(B8="","",D8*thmc) -> #N/A | G8: CUMUL HEURE AU : | I8: date
B9: =IF(B8="","",IF(B8<100,IF(VLOOKUP(B8+1,'BL - FACT'!$A$5:$B$23,2,FALSE)="",'BL - FACT'!$D$5,IF(VLOOKUP(B8+1,'BL - FACT'!$A$5:$B$23,2,FALSE)=NA(),B8+10,B8+1)),IF(VLOOKUP(B8+1,'BL - FACT'!$D$5:$E$23,2,FALSE)="","",B8+1))) -> #N/A | C9: =IF(B9="","",IF(B9<100,VLOOKUP(B9,'BL - FACT'!$A$5:$B$23,2,FALSE),IF(VLOOKUP(B9,'BL - FACT'!$D$5:$E$23,2,FALSE)=0,"",VLOOKUP(B9,'BL - FACT'!$D$5:$E$23,2,FALSE)))) -> #N/A | E9: =IF(B9="","",D9*thmc) -> #N/A
B10: =IF(B9="","",IF(B9<100,IF(VLOOKUP(B9+1,'BL - FACT'!$A$5:$B$23,2,FALSE)="",'BL - FACT'!$D$5,IF(VLOOKUP(B9+1,'BL - FACT'!$A$5:$B$23,2,FALSE)=NA(),B9+10,B9+1)),IF(VLOOKUP(B9+1,'BL - FACT'!$D$5:$E$23,2,FALSE)="","",B9+1))) -> #N/A | C10: =IF(B10="","",IF(B10<100,VLOOKUP(B10,'BL - FACT'!$A$5:$B$23,2,FALSE),IF(VLOOKUP(B10,'BL - FACT'!$D$5:$E$23,2,FALSE)=0,"",VLOOKUP(B10,'BL - FACT'!$D$5:$E$23,2,FALSE)))) -> #N/A | E10: =IF(B10="","",D10*thmc) -> #N/A
B11: =IF(B10="","",IF(B10<100,IF(VLOOKUP(B10+1,'BL - FACT'!$A$5:$B$23,2,FALSE)="",'BL - FACT'!$D$5,IF(VLOOKUP(B10+1,'BL - FACT'!$A$5:$B$23,2,FALSE)=NA(),B10+10,B10+1)),IF(VLOOKUP(B10+1,'BL - FACT'!$D$5:$E$23,2,FALSE)="","",B10+1))) -> #N/A | C11: =IF(B11="","",IF(B11<100,VLOOKUP(B11,'BL - FACT'!$A$5:$B$23,2,FALSE),IF(VLOOKUP(B11,'BL - FACT'!$D$5:$E$23,2,FALSE)=0,"",VLOOKUP(B11,'BL - FACT'!$D$5:$E$23,2,FALSE)))) -> #N/A | E11: =IF(B11="","",D11*thmc) -> #N/A
B12: =IF(B11="","",IF(B11<100,IF(VLOOKUP(B11+1,'BL - FACT'!$A$5:$B$23,2,FALSE)="",'BL - FACT'!$D$5,IF(VLOOKUP(B11+1,'BL - FACT'!$A$5:$B$23,2,FALSE)=NA(),B11+10,B11+1)),IF(VLOOKUP(B11+1,'BL - FACT'!$D$5:$E$23,2,FALSE)="","",B11+1))) -> #N/A | C12: =IF(B12="","",IF(B12<100,VLOOKUP(B12,'BL - FACT'!$A$5:$B$23,2,FALSE),IF(VLOOKUP(B12,'BL - FACT'!$D$5:$E$23,2,FALSE)=0,"",VLOOKUP(B12,'BL - FACT'!$D$5:$E$23,2,FALSE)))) -> #N/A | E12: =IF(B12="","",D12*thmc) -> #N/A
B13: =IF(B12="","",IF(B12<100,IF(VLOOKUP(B12+1,'BL - FACT'!$A$5:$B$23,2,FALSE)="",'BL - FACT'!$D$5,IF(VLOOKUP(B12+1,'BL - FACT'!$A$5:$B$23,2,FALSE)=NA(),B12+10,B12+1)),IF(VLOOKUP(B12+1,'BL - FACT'!$D$5:$E$23,2,FALSE)="","",B12+1))) -> #N/A | C13: =IF(B13="","",IF(B13<100,VLOOKUP(B13,'BL - FACT'!$A$5:$B$23,2,FALSE),IF(VLOOKUP(B13,'BL - FACT'!$D$5:$E$23,2,FALSE)=0,"",VLOOKUP(B13,'BL - FACT'!$D$5:$E$23,2,FALSE)))) -> #N/A | E13: =IF(B13="","",D13*thmc) -> #N/A
B14: =IF(B13="","",IF(B13<100,IF(VLOOKUP(B13+1,'BL - FACT'!$A$5:$B$23,2,FALSE)="",'BL - FACT'!$D$5,IF(VLOOKUP(B13+1,'BL - FACT'!$A$5:$B$23,2,FALSE)=NA(),B13+10,B13+1)),IF(VLOOKUP(B13+1,'BL - FACT'!$D$5:$E$23,2,FALSE)="","",B13+1))) -> #N/A | C14: =IF(B14="","",IF(B14<100,VLOOKUP(B14,'BL - FACT'!$A$5:$B$23,2,FALSE),IF(VLOOKUP(B14,'BL - FACT'!$D$5:$E$23,2,FALSE)=0,"",VLOOKUP(B14,'BL - FACT'!$D$5:$E$23,2,FALSE)))) -> #N/A | E14: =IF(B14="","",D14*thmc) -> #N/A
B15: =IF(B14="","",IF(B14<100,IF(VLOOKUP(B14+1,'BL - FACT'!$A$5:$B$23,2,FALSE)="",'BL - FACT'!$D$5,IF(VLOOKUP(B14+1,'BL - FACT'!$A$5:$B$23,2,FALSE)=NA(),B14+10,B14+1)),IF(VLOOKUP(B14+1,'BL - FACT'!$D$5:$E$23,2,FALSE)="","",B14+1))) -> #N/A | C15: =IF(B15="","",IF(B15<100,VLOOKUP(B15,'BL - FACT'!$A$5:$B$23,2,FALSE),IF(VLOOKUP(B15,'BL - FACT'!$D$5:$E$23,2,FALSE)=0,"",VLOOKUP(B15,'BL - FACT'!$D$5:$E$23,2,FALSE)))) -> #N/A | E15: =IF(B15="","",D15*thmc) -> #N/A
B16: =IF(B15="","",IF(B15<100,IF(VLOOKUP(B15+1,'BL - FACT'!$A$5:$B$23,2,FALSE)="",'BL - FACT'!$D$5,IF(VLOOKUP(B15+1,'BL - FACT'!$A$5:$B$23,2,FALSE)=NA(),B15+10,B15+1)),IF(VLOOKUP(B15+1,'BL - FACT'!$D$5:$E$23,2,FALSE)="","",B15+1))) -> #N/A | C16: =IF(B16="","",IF(B16<100,VLOOKUP(B16,'BL - FACT'!$A$5:$B$23,2,FALSE),IF(VLOOKUP(B16,'BL - FACT'!$D$5:$E$23,2,FALSE)=0,"",VLOOKUP(B16,'BL - FACT'!$D$5:$E$23,2,FALSE)))) -> #N/A | E16: =IF(B16="","",D16*thmc) -> #N/A
B17: =IF(B16="","",IF(B16<100,IF(VLOOKUP(B16+1,'BL - FACT'!$A$5:$B$23,2,FALSE)="",'BL - FACT'!$D$5,IF(VLOOKUP(B16+1,'BL - FACT'!$A$5:$B$23,2,FALSE)=NA(),B16+10,B16+1)),IF(VLOOKUP(B16+1,'BL - FACT'!$D$5:$E$23,2,FALSE)="","",B16+1))) -> #N/A | C17: =IF(B17="","",IF(B17<100,VLOOKUP(B17,'BL - FACT'!$A$5:$B$23,2,FALSE),IF(VLOOKUP(B17,'BL - FACT'!$D$5:$E$23,2,FALSE)=0,"",VLOOKUP(B17,'BL - FACT'!$D$5:$E$23,2,FALSE)))) -> #N/A | E17: =IF(B17="","",D17*thmc) -> #N/A
B18: =IF(B17="","",IF(B17<100,IF(VLOOKUP(B17+1,'BL - FACT'!$A$5:$B$23,2,FALSE)="",'BL - FACT'!$D$5,IF(VLOOKUP(B17+1,'BL - FACT'!$A$5:$B$23,2,FALSE)=NA(),B17+10,B17+1)),IF(VLOOKUP(B17+1,'BL - FACT'!$D$5:$E$23,2,FALSE)="","",B17+1))) -> #N/A | C18: =IF(B18="","",IF(B18<100,VLOOKUP(B18,'BL - FACT'!$A$5:$B$23,2,FALSE),IF(VLOOKUP(B18,'BL - FACT'!$D$5:$E$23,2,FALSE)=0,"",VLOOKUP(B18,'BL - FACT'!$D$5:$E$23,2,FALSE)))) -> #N/A | E18: =IF(B18="","",D18*thmc) -> #N/A
B19: =IF(B18="","",IF(B18<100,IF(VLOOKUP(B18+1,'BL - FACT'!$A$5:$B$23,2,FALSE)="",'BL - FACT'!$D$5,IF(VLOOKUP(B18+1,'BL - FACT'!$A$5:$B$23,2,FALSE)=NA(),B18+10,B18+1)),IF(VLOOKUP(B18+1,'BL - FACT'!$D$5:$E$23,2,FALSE)="","",B18+1))) -> #N/A | C19: =IF(B19="","",IF(B19<100,VLOOKUP(B19,'BL - FACT'!$A$5:$B$23,2,FALSE),IF(VLOOKUP(B19,'BL - FACT'!$D$5:$E$23,2,FALSE)=0,"",VLOOKUP(B19,'BL - FACT'!$D$5:$E$23,2,FALSE)))) -> #N/A | E19: =IF(B19="","",D19*thmc) -> #N/A
B20: =IF(B19="","",IF(B19<100,IF(VLOOKUP(B19+1,'BL - FACT'!$A$5:$B$23,2,FALSE)="",'BL - FACT'!$D$5,IF(VLOOKUP(B19+1,'BL - FACT'!$A$5:$B$23,2,FALSE)=NA(),B19+10,B19+1)),IF(VLOOKUP(B19+1,'BL - FACT'!$D$5:$E$23,2,FALSE)="","",B19+1))) -> #N/A | C20: =IF(B20="","",IF(B20<100,VLOOKUP(B20,'BL - FACT'!$A$5:$B$23,2,FALSE),IF(VLOOKUP(B20,'BL - FACT'!$D$5:$E$23,2,FALSE)=0,"",VLOOKUP(B20,'BL - FACT'!$D$5:$E$23,2,FALSE)))) -> #N/A | E20: =IF(B20="","",D20*thmc) -> #N/A
... B24: =IF(B23="","",IF(B23<100,IF(VLOOKUP(B23+1,'BL - FACT'!$A$5:$B$23,2,FALSE)="",'BL - FACT'!$D$5,IF(VLOOKUP(B23+1,'BL - FACT'!$A$5:$B$23,2,FALSE)=NA(),B23+10,B23+1)),IF(VLOOKUP(B23+1,'BL - FACT'!$D$5:$E$23,2,FALSE)="","",B23+1))) -> #N/A | C24: =IF(B24="","",IF(B24<100,VLOOKUP(B24,'BL - FACT'!$A$5:$B$23,2,FALSE),IF(VLOOKUP(B24,'BL - FACT'!$D$5:$E$23,2,FALSE)=0,"",VLOOKUP(B24,'BL - FACT'!$D$5:$E$23,2,FALSE)))) -> #N/A | E24: =IF(B24="","",D24*thmc) -> #N/A
B25: =IF(B24="","",IF(B24<100,IF(VLOOKUP(B24+1,'BL - FACT'!$A$5:$B$23,2,FALSE)="",'BL - FACT'!$D$5,B24+1),IF(VLOOKUP(B24+1,'BL - FACT'!$D$5:$E$23,2,FALSE)="","",B24+1))) -> #N/A | C25: =IF(B25="","",IF(B25<100,VLOOKUP(B25,'BL - FACT'!$A$5:$B$23,2,FALSE),IF(VLOOKUP(B25,'BL - FACT'!$D$5:$E$23,2,FALSE)=0,"",VLOOKUP(B25,'BL - FACT'!$D$5:$E$23,2,FALSE)))) -> #N/A | E25: =IF(B25="","",D25*thmc) -> #N/A
