Workbook

Sheet Détail Matériel
A1: Agence Gérante | B1: Agence Propriétaire | C1: Région Propriétaire | D1: Matériel | E1: CatClasseDésignation | F1: Modèle | G1: Marque | H1: Date Mise en Service | I1: Dernière Loc | J1: Age (Mois) | K1: Age Réforme (Mois) | L1: MOIS DEPASSEMENT REFORME | M1: CA | N1: Nb Jours Fac | O1: Nb Jours VLG | P1: Valeur nette comptable | Q1: Prix Budget | R1: Pay Back (Prix Budget) | T1: taux de rotation moyen Région | U1: taux de rotation Agence | V1: taux de rotation moyen France
A2: 0735 | B2: 0735 - LOXAM CHAUMONT | C2: 69 - CHAMPAGNE ARDENNE | D2: 01014358 | E2: 0010001COMPRESSEUR2000L/MN7B | F2: S38K | G2: SULLAIR | H2: 40127 | I2: 43000 | J2: 158 | K2: 120 | L2: =J2-K2 -> 38 | M2: 1007.1 | N2: 60 | O2: 168 | P2: 0 | Q2: 5700 | R2: 45.278522 | T2: =VLOOKUP(E2,'Taux rotation'!$C$5:$E$375,3,FALSE) -> 0.45237918 | V2: =VLOOKUP(E2,'Taux rotation'!$C$5:$E$375,2,FALSE) -> 0.46889894
A3: 0825 | B3: 0825 - LOXAM CHARLEVILLE-M. CENTRE | C3: 69 - CHAMPAGNE ARDENNE | D3: 01014717 | E3: 0010001COMPRESSEUR2000L/MN7B | F3: M20 | G3: KAESER | H3: 38757 | I3: 43000 | J3: 137.74 | K3: 120 | L3: =J3-K3 -> 17.74 | M3: 1643.89 | N3: 90 | O3: 168 | P3: 0 | Q3: 5700 | R3: 27.739082 | T3: =VLOOKUP(E3,'Taux rotation'!$C$5:$E$375,3,FALSE) -> 0.45237918 | U3: =HLOOKUP(B3,'Taux rotation'!$C$4:$T$376,2,FALSE) -> 0.52002762 | V3: =VLOOKUP(E3,'Taux rotation'!$C$5:$E$375,2,FALSE) -> 0.46889894
A4: 0824 | B4: 0824 - LOXAM EPERNAY | C4: 69 - CHAMPAGNE ARDENNE | D4: 01014816 | E4: 0010001COMPRESSEUR2000L/MN7B | F4: M20 | G4: KAESER | H4: 38825 | I4: 43003 | J4: 135.45 | K4: 120 | L4: =J4-K4 -> 15.45 | M4: 1973.63 | N4: 94 | O4: 168 | P4: 0 | Q4: 5700 | R4: 23.005046 | T4: =VLOOKUP(E4,'Taux rotation'!$C$5:$E$375,3,FALSE) -> 0.45237918 | U4: =HLOOKUP(B4,'Taux rotation'!$C$4:$T$376,2,FALSE) -> 0.46428571 | V4: =VLOOKUP(E4,'Taux rotation'!$C$5:$E$375,2,FALSE) -> 0.46889894
A5: 7042 | B5: 0820 - LOXAM REIMS SUD | C5: 69 - CHAMPAGNE ARDENNE | D5: 01014817 | E5: 0010001COMPRESSEUR2000L/MN7B | F5: M20 | G5: KAESER | H5: 38825 | I5: 43006 | J5: 135.45 | K5: 120 | L5: =J5-K5 -> 15.45 | M5: 1495.6 | N5: 69 | O5: 168 | P5: 0 | Q5: 5700 | R5: 30.489436 | T5: =VLOOKUP(E5,'Taux rotation'!$C$5:$E$375,3,FALSE) -> 0.45237918 | U5: =HLOOKUP(B5,'Taux rotation'!$C$4:$T$376,2,FALSE) -> 0.40513834 | V5: =VLOOKUP(E5,'Taux rotation'!$C$5:$E$375,2,FALSE) -> 0.46889894
A6: 7040 | B6: 7040 - LOXAM CHARLEVILLE-M. NORD | C6: 69 - CHAMPAGNE ARDENNE | D6: 01014918 | E6: 0010001COMPRESSEUR2000L/MN7B | F6: M20 | G6: KAESER | H6: 38929 | I6: 42996 | J6: 132.03 | K6: 120 | L6: =J6-K6 -> 12.03 | M6: 1452.95 | N6: 56 | O6: 168 | P6: 0 | Q6: 5700 | R6: 31.219244 | T6: =VLOOKUP(E6,'Taux rotation'!$C$5:$E$375,3,FALSE) -> 0.45237918 | U6: =HLOOKUP(B6,'Taux rotation'!$C$4:$T$376,2,FALSE) -> 0.5447648 | V6: =VLOOKUP(E6,'Taux rotation'!$C$5:$E$375,2,FALSE) -> 0.46889894
A7: 7045 | B7: 7045 - LOXAM SAINT-DIZIER EST | C7: 69 - CHAMPAGNE ARDENNE | D7: 01015144 | E7: 0010001COMPRESSEUR2000L/MN7B | F7: M20 | G7: KAESER | H7: 39185 | I7: 42979 | J7: 123.61 | K7: 120 | L7: =J7-K7 -> 3.61 | M7: 1708.5 | N7: 96 | O7: 168 | P7: 0 | Q7: 5700 | R7: 26.832048 | T7: =VLOOKUP(E7,'Taux rotation'!$C$5:$E$375,3,FALSE) -> 0.45237918 | U7: =HLOOKUP(B7,'Taux rotation'!$C$4:$T$376,2,FALSE) -> 0.49273608 | V7: =VLOOKUP(E7,'Taux rotation'!$C$5:$E$375,2,FALSE) -> 0.46889894
A8: 7045 | B8: 7045 - LOXAM SAINT-DIZIER EST | C8: 69 - CHAMPAGNE ARDENNE | D8: 01015145 | E8: 0010001COMPRESSEUR2000L/MN7B | F8: M20 | G8: KAESER | H8: 39185 | I8: 43005 | J8: 123.61 | K8: 120 | L8: =J8-K8 -> 3.61 | M8: 1255.52 | N8: 56 | O8: 168 | P8: 0 | Q8: 5700 | R8: 36.859681 | T8: =VLOOKUP(E8,'Taux rotation'!$C$5:$E$375,3,FALSE) -> 0.45237918 | U8: =HLOOKUP(B8,'Taux rotation'!$C$4:$T$376,2,FALSE) -> 0.49273608 | V8: =VLOOKUP(E8,'Taux rotation'!$C$5:$E$375,2,FALSE) -> 0.46889894
A9: 0824 | B9: 0824 - LOXAM EPERNAY | C9: 69 - CHAMPAGNE ARDENNE | D9: 01015218 | E9: 0010001COMPRESSEUR2000L/MN7B | F9: M26 | G9: KAESER | H9: 39113 | I9: 42983 | J9: 126.03 | K9: 120 | L9: =J9-K9 -> 6.03 | M9: 1064.5 | N9: 55 | O9: 168 | P9: 0 | Q9: 5700 | R9: 42.525471 | T9: =VLOOKUP(E9,'Taux rotation'!$C$5:$E$375,3,FALSE) -> 0.45237918 | U9: =HLOOKUP(B9,'Taux rotation'!$C$4:$T$376,2,FALSE) -> 0.46428571 | V9: =VLOOKUP(E9,'Taux rotation'!$C$5:$E$375,2,FALSE) -> 0.46889894
A10: 0822 | B10: 0822 - LOXAM VITRY LE FRANCOIS | C10: 69 - CHAMPAGNE ARDENNE | D10: 01015396 | E10: 0010001COMPRESSEUR2000L/MN7B | F10: M20 | G10: KAESER | H10: 39217 | I10: 43003 | J10: 122.55 | K10: 120 | L10: =J10-K10 -> 2.55 | M10: 1076.6 | N10: 68 | O10: 168 | P10: 0 | Q10: 5700 | R10: 42.355564 | T10: =VLOOKUP(E10,'Taux rotation'!$C$5:$E$375,3,FALSE) -> 0.45237918 | U10: =HLOOKUP(B10,'Taux rotation'!$C$4:$T$376,2,FALSE) -> 0.55728689 | V10: =VLOOKUP(E10,'Taux rotation'!$C$5:$E$375,2,FALSE) -> 0.46889894
A11: 7046 | B11: 7046 - LOXAM BAR-LE-DUC | C11: 69 - CHAMPAGNE ARDENNE | D11: 01015573 | E11: 0010001COMPRESSEUR2000L/MN7B | F11: M20 | G11: KAESER | H11: 39468 | I11: 42985 | J11: 114.35 | K11: 120 | L11: =J11-K11 -> -5.65 | M11: 516.45 | N11: 23 | O11: 168 | P11: 0 | Q11: 5700 | R11: 88.295091 | T11: =VLOOKUP(E11,'Taux rotation'!$C$5:$E$375,3,FALSE) -> 0.45237918 | U11: =HLOOKUP(B11,'Taux rotation'!$C$4:$T$376,2,FALSE) -> 0.30232558 | V11: =VLOOKUP(E11,'Taux rotation'!$C$5:$E$375,2,FALSE) -> 0.46889894
A12: 7045 | B12: 7045 - LOXAM SAINT-DIZIER EST | C12: 69 - CHAMPAGNE ARDENNE | D12: 01015574 | E12: 0010001COMPRESSEUR2000L/MN7B | F12: M20 | G12: KAESER | H12: 39468 | I12: 43003 | J12: 114.35 | K12: 120 | L12: =J12-K12 -> -5.65 | M12: 1343.46 | N12: 77 | O12: 168 | P12: 0 | Q12: 5700 | R12: 33.942209 | T12: =VLOOKUP(E12,'Taux rotation'!$C$5:$E$375,3,FALSE) -> 0.45237918 | U12: =HLOOKUP(B12,'Taux rotation'!$C$4:$T$376,2,FALSE) -> 0.49273608 | V12: =VLOOKUP(E12,'Taux rotation'!$C$5:$E$375,2,FALSE) -> 0.46889894
A13: 0821 | B13: 0824 - LOXAM EPERNAY | C13: 69 - CHAMPAGNE ARDENNE | D13: 01015578 | E13: 0010001COMPRESSEUR2000L/MN7B | F13: M20 | G13: KAESER | H13: 39468 | I13: 42982 | J13: 114.35 | K13: 120 | L13: =J13-K13 -> -5.65 | M13: 1101 | N13: 84 | O13: 168 | P13: 0 | Q13: 5700 | R13: 41.186159 | T13: =VLOOKUP(E13,'Taux rotation'!$C$5:$E$375,3,FALSE) -> 0.45237918 | U13: =HLOOKUP(B13,'Taux rotation'!$C$4:$T$376,2,FALSE) -> 0.46428571 | V13: =VLOOKUP(E13,'Taux rotation'!$C$5:$E$375,2,FALSE) -> 0.46889894
A14: 0823 | B14: 0823 - LOXAM CHALONS EN CH. SUD | C14: 69 - CHAMPAGNE ARDENNE | D14: 01015635 | E14: 0010001COMPRESSEUR2000L/MN7B | F14: M20 | G14: KAESER | H14: 39493 | I14: 43000 | J14: 113.55 | K14: 120 | L14: =J14-K14 -> -6.45 | M14: 1167.6 | N14: 78 | O14: 168 | P14: 0 | Q14: 5700 | R14: 39.054471 | T14: =VLOOKUP(E14,'Taux rotation'!$C$5:$E$375,3,FALSE) -> 0.45237918 | U14: =HLOOKUP(B14,'Taux rotation'!$C$4:$T$376,2,FALSE) -> 0.44039409 | V14: =VLOOKUP(E14,'Taux rotation'!$C$5:$E$375,2,FALSE) -> 0.46889894
... A36: 7034 | B36: 7034 - LOXAM CHATEAU-THIERRY | C36: 69 - CHAMPAGNE ARDENNE | D36: 01051208 | E36: 0010005COMPRESSEUR5000L/MN7B | F36: 7/51 | G36: INGERSOLLR | H36: 39227 | I36: 43003 | J36: 122.23 | K36: 120 | L36: =J36-K36 -> 2.23 | M36: 1756.9 | N36: 45 | O36: 168 | P36: 0 | Q36: 11000 | R36: 50.088224 | T36: =VLOOKUP(E36,'Taux rotation'!$C$5:$E$375,3,FALSE) -> 0.51076515 | U36: =HLOOKUP(B36,'Taux rotation'!$C$4:$T$376,2,FALSE) -> 0.40767386 | V36: =VLOOKUP(E36,'Taux rotation'!$C$5:$E$375,2,FALSE) -> 0.53440335
A37: 0735 | B37: 0735 - LOXAM CHAUMONT | C37: 69 - CHAMPAGNE ARDENNE | D37: 01051222 | E37: 0010005COMPRESSEUR5000L/MN7B | F37: 7/51 | G37: INGERSOLLR | H37: 39223 | I37: 42978 | J37: 122.35 | K37: 120 | L37: =J37-K37 -> 2.35 | M37: 3707 | N37: 173 | O37: 168 | P37: 0 | Q37: 11000 | R37: 23.738872 | T37: =VLOOKUP(E37,'Taux rotation'!$C$5:$E$375,3,FALSE) -> 0.51076515 | U37: =IF((VLOOKUP(E37,'Taux rotation'!$C$5:$T$376,3)),(HLOOKUP(B37,'Taux rotation'!$C$4:$T$376,2,FALSE)),"") -> 0.38723404 | V37: =VLOOKUP(E37,'Taux rotation'!$C$5:$E$375,2,FALSE) -> 0.53440335
A38: 7318 | B38: 7318 - LOXAM VERDUN | C38: 69 - CHAMPAGNE ARDENNE | D38: 01051389 | E38: 0010005COMPRESSEUR5000L/MN7B | F38: M50 | G38: KAESER | H38: 39686 | I38: 42986 | J38: 107.19 | K38: 120 | L38: =J38-K38 -> -12.81 | M38: 2393.95 | N38: 58 | O38: 168 | P38: 0 | Q38: 11000 | R38: 36.759331 | T38: =VLOOKUP(E38,'Taux rotation'!$C$5:$E$375,3,FALSE) -> 0.51076515 | U38: =HLOOKUP(B38,'Taux rotation'!$C$4:$T$376,2,FALSE) -> 0.16895874 | V38: =VLOOKUP(E38,'Taux rotation'!$C$5:$E$375,2,FALSE) -> 0.53440335
A39: 0821 | B39: 0821 - LOXAM REIMS NORD | C39: 69 - CHAMPAGNE ARDENNE | D39: 01051424 | E39: 0010005COMPRESSEUR5000L/MN7B | F39: M50 | G39: KAESER | H39: 40022 | I39: 43005 | J39: 110 | K39: 120 | L39: =J39-K39 -> -10 | M39: 1572.75 | N39: 54 | O39: 168 | P39: 0 | Q39: 11000 | R39: 55.952949 | T39: =VLOOKUP(E39,'Taux rotation'!$C$5:$E$375,3,FALSE) -> 0.51076515 | U39: =HLOOKUP(B39,'Taux rotation'!$C$4:$T$376,2,FALSE) -> 0.48025478 | V39: =VLOOKUP(E39,'Taux rotation'!$C$5:$E$375,2,FALSE) -> 0.53440335
A40: 0820 | B40: 0820 - LOXAM REIMS SUD | C40: 69 - CHAMPAGNE ARDENNE | D40: 01051444 | E40: 0010005COMPRESSEUR5000L/MN7B | F40: M50 | G40: KAESER | H40: 40288 | I40: 42993 | J40: 87.39 | K40: 120 | L40: =J40-K40 -> -32.61 | M40: 1427.5 | N40: 34 | O40: 168 | P40: 0 | Q40: 11000 | R40: 61.321781 | T40: =VLOOKUP(E40,'Taux rotation'!$C$5:$E$375,3,FALSE) -> 0.51076515 | U40: =HLOOKUP(B40,'Taux rotation'!$C$4:$T$376,2,FALSE) -> 0.40513834 | V40: =VLOOKUP(E40,'Taux rotation'!$C$5:$E$375,2,FALSE) -> 0.53440335
A41: 0822 | B41: 7045 - LOXAM SAINT-DIZIER EST | C41: 69 - CHAMPAGNE ARDENNE | D41: 01051451 | E41: 0010005COMPRESSEUR5000L/MN7B | F41: XAS87NF | G41: ATLASCOPCO | H41: 40400 | I41: 43005 | J41: 83.71 | K41: 120 | L41: =J41-K41 -> -36.29 | M41: 3162.5 | N41: 92 | O41: 168 | P41: 0 | Q41: 11000 | R41: 27.826087 | T41: =VLOOKUP(E41,'Taux rotation'!$C$5:$E$375,3,FALSE) -> 0.51076515 | U41: =HLOOKUP(B41,'Taux rotation'!$C$4:$T$376,2,FALSE) -> 0.49273608 | V41: =VLOOKUP(E41,'Taux rotation'!$C$5:$E$375,2,FALSE) -> 0.53440335
A42: 0724 | B42: 0727 - LOXAM BESANCON CENTRE | C42: 62 - BOURGOGNE FRANCHE COMTE | D42: 01051466 | E42: 0010005COMPRESSEUR5000L/MN7B | F42: XAS87NF | G42: ATLASCOPCO | H42: 40350 | I42: 42986 | J42: 85.35 | K42: 120 | L42: =J42-K42 -> -34.65 | M42: 1629.75 | N42: 39 | O42: 58 | P42: 0 | Q42: 11000 | R42: 48.933886 | T42: =VLOOKUP(E42,'Taux rotation'!$C$5:$E$375,3,FALSE) -> 0.51076515 | U42: =HLOOKUP(B42,'Taux rotation'!$C$4:$T$376,2,FALSE) -> #N/A | V42: =VLOOKUP(E42,'Taux rotation'!$C$5:$E$375,2,FALSE) -> 0.53440335
A43: 0735 | B43: 0722 - LOXAM DIJON NORD | C43: 62 - BOURGOGNE FRANCHE COMTE | D43: 01051496 | E43: 0010005COMPRESSEUR5000L/MN7B | F43: XAS87NF | G43: ATLASCOPCO | H43: 40350 | I43: 42978 | J43: 85.35 | K43: 120 | L43: =J43-K43 -> -34.65 | M43: 1242 | N43: 92 | O43: 65 | P43: 0 | Q43: 11000 | R43: 54.827084 | T43: =VLOOKUP(E43,'Taux rotation'!$C$5:$E$375,3,FALSE) -> 0.51076515 | U43: =HLOOKUP(B43,'Taux rotation'!$C$4:$T$376,2,FALSE) -> #N/A | V43: =VLOOKUP(E43,'Taux rotation'!$C$5:$E$375,2,FALSE) -> 0.53440335
A44: 7045 | B44: 7045 - LOXAM SAINT-DIZIER EST | C44: 69 - CHAMPAGNE ARDENNE | D44: 01051607 | E44: 0010005COMPRESSEUR5000L/MN7B | F44: XAS97 | G44: ATLASCOPCO | H44: 41061 | I44: 43004 | J44: 110 | K44: 120 | L44: =J44-K44 -> -10 | M44: 1038.33 | N44: 21 | O44: 168 | P44: 0 | Q44: 11000 | R44: 84.386168 | T44: =VLOOKUP(E44,'Taux rotation'!$C$5:$E$375,3,FALSE) -> 0.51076515 | U44: =HLOOKUP(B44,'Taux rotation'!$C$4:$T$376,2,FALSE) -> 0.49273608 | V44: =VLOOKUP(E44,'Taux rotation'!$C$5:$E$375,2,FALSE) -> 0.53440335
A45: 0824 | B45: 0824 - LOXAM EPERNAY | C45: 69 - CHAMPAGNE ARDENNE | D45: 01100224 | E45: 0010010COMPRESSEUR11000L/MN<=10B | F45: M100 | G45: KAESER | H45: 39316 | I45: 42992 | J45: 119.32 | K45: 120 | L45: =J45-K45 -> -0.68 | M45: 3525.65 | N45: 40 | O45: 168 | P45: 0 | Q45: 32000 | R45: 73.108058 | T45: =VLOOKUP(E45,'Taux rotation'!$C$5:$E$375,3,FALSE) -> 0.21212121 | U45: =HLOOKUP(B45,'Taux rotation'!$C$4:$T$376,2,FALSE) -> 0.46428571 | V45: =VLOOKUP(E45,'Taux rotation'!$C$5:$E$375,2,FALSE) -> 0.3703916
A46: 2011 | B46: 2011 - LOXAM MOLSHEIM | C46: 63 - ALSACE | D46: 01100243 | E46: 0010010COMPRESSEUR11000L/MN<=10B | F46: XAS186FR | G46: ATLASCOPCO | H46: 40718 | I46: 43000 | J46: 73.26 | K46: 120 | L46: =J46-K46 -> -46.74 | M46: 272 | N46: 2 | O46: 8 | P46: 0 | Q46: 32000 | R46: 342.24599 | T46: =VLOOKUP(E46,'Taux rotation'!$C$5:$E$375,3,FALSE) -> 0.21212121 | U46: =HLOOKUP(B46,'Taux rotation'!$C$4:$T$376,2,FALSE) -> #N/A | V46: =VLOOKUP(E46,'Taux rotation'!$C$5:$E$375,2,FALSE) -> 0.3703916
A47: 0822 | B47: 0822 - LOXAM VITRY LE FRANCOIS | C47: 69 - CHAMPAGNE ARDENNE | D47: 01110038 | E47: 0010011COMPRESSEUR11000L/MN12B | F47: XAHS186 | G47: ATLASCOPCO | H47: 39513 | I47: 42978 | J47: 112.84 | K47: 120 | L47: =J47-K47 -> -7.16 | M47: 8448.45 | N47: 88 | O47: 163 | P47: 0 | Q47: 37000 | R47: 33.846751 | T47: =VLOOKUP(E47,'Taux rotation'!$C$5:$E$375,3,FALSE) -> 0.28296703 | U47: =HLOOKUP(B47,'Taux rotation'!$C$4:$T$376,2,FALSE) -> 0.55728689 | V47: =VLOOKUP(E47,'Taux rotation'!$C$5:$E$375,2,FALSE) -> 0.34516591
A48: 0737 | B48: 0724 - LOXAM DIJON SUD | C48: 62 - BOURGOGNE FRANCHE COMTE | D48: 01110063 | E48: 0010011COMPRESSEUR11000L/MN12B | F48: XAHS186FR | G48: ATLASCOPCO | H48: 39902 | I48: 42990 | L48: =J48-K48 -> 0 | M48: 2067 | N48: 13 | O48: 19 | P48: 0 | Q48: 37000 | R48: 64.782178 | T48: =VLOOKUP(E48,'Taux rotation'!$C$5:$E$375,3,FALSE) -> 0.28296703 | U48: =HLOOKUP(B48,'Taux rotation'!$C$4:$T$376,2,FALSE) -> #N/A | V48: =VLOOKUP(E48,'Taux rotation'!$C$5:$E$375,2,FALSE) -> 0.34516591
A49: 0821 | B49: 0821 - LOXAM REIMS NORD | C49: 69 - CHAMPAGNE ARDENNE | D49: 01130068 | E49: 0010011COMPRESSEUR11000L/MN12B | F49: M121 | G49: KAESER | H49: 38467 | I49: 42992 | J49: 147.23 | K49: 120 | L49: =J49-K49 -> 27.23 | M49: 350 | N49: 2 | O49: 168 | P49: 0 | Q49: 37000 | R49: 845.71429 | T49: =VLOOKUP(E49,'Taux rotation'!$C$5:$E$375,3,FALSE) -> 0.28296703 | U49: =HLOOKUP(B49,'Taux rotation'!$C$4:$T$376,2,FALSE) -> 0.48025478 | V49: =VLOOKUP(E49,'Taux rotation'!$C$5:$E$375,2,FALSE) -> 0.34516591
A50: 0735 | B50: 0735 - LOXAM CHAUMONT | C50: 69 - CHAMPAGNE ARDENNE | D50: 02050693 | E50: 0020005PIQUEURPNEUMATIQUE5KG | F50: GV5 | G50: ROCKAIR | H50: 39189 | I50: 43006 | J50: 123.48 | K50: 104 | L50: =J50-K50 -> 19.48 | M50: 87.41 | N50: 14 | O50: 168 | P50: 0 | Q50: 220 | R50: 20.134996 | T50: =VLOOKUP(E50,'Taux rotation'!$C$5:$E$375,3,FALSE) -> 0.27201485 | U50: =HLOOKUP(B50,'Taux rotation'!$C$4:$T$376,2,FALSE) -> 0.38723404 | V50: =VLOOKUP(E50,'Taux rotation'!$C$5:$E$375,2,FALSE) -> 0.23993506
A51: 7034 | B51: 7034 - LOXAM CHATEAU-THIERRY | C51: 69 - CHAMPAGNE ARDENNE | D51: 02050825 | E51: 0020005PIQUEURPNEUMATIQUE5KG | F51: GV5 | G51: ROCKAIR | H51: 39289 | I51: 42998 | J51: 120.19 | K51: 104 | L51: =J51-K51 -> 16.19 | M51: 0 | N51: 0 | O51: 168 | P51: 0 | Q51: 220 | R51: 0 | T51: =VLOOKUP(E51,'Taux rotation'!$C$5:$E$375,3,FALSE) -> 0.27201485 | U51: =HLOOKUP(B51,'Taux rotation'!$C$4:$T$376,2,FALSE) -> 0.40767386 | V51: =VLOOKUP(E51,'Taux rotation'!$C$5:$E$375,2,FALSE) -> 0.23993506
A52: 7034 | B52: 7034 - LOXAM CHATEAU-THIERRY | C52: 69 - CHAMPAGNE ARDENNE | D52: 02050982 | E52: 0020005PIQUEURPNEUMATIQUE5KG | F52: SK5S | G52: SULLAIR | H52: 39581 | I52: 42901 | J52: 110.61 | K52: 104 | L52: =J52-K52 -> 6.61 | M52: 58.05 | N52: 11 | O52: 168 | P52: 0 | Q52: 220 | R52: 30.318691 | T52: =VLOOKUP(E52,'Taux rotation'!$C$5:$E$375,3,FALSE) -> 0.27201485 | U52: =HLOOKUP(B52,'Taux rotation'!$C$4:$T$376,2,FALSE) -> 0.40767386 | V52: =VLOOKUP(E52,'Taux rotation'!$C$5:$E$375,2,FALSE) -> 0.23993506
A53: 0821 | B53: 7034 - LOXAM CHATEAU-THIERRY | C53: 69 - CHAMPAGNE ARDENNE | D53: 02050983 | E53: 0020005PIQUEURPNEUMATIQUE5KG | F53: SK5S | G53: SULLAIR | H53: 39581 | I53: 42978 | J53: 110.61 | K53: 104 | L53: =J53-K53 -> 6.61 | M53: 82 | N53: 41 | O53: 168 | P53: 0 | Q53: 220 | R53: 21.279179 | T53: =VLOOKUP(E53,'Taux rotation'!$C$5:$E$375,3,FALSE) -> 0.27201485 | U53: =HLOOKUP(B53,'Taux rotation'!$C$4:$T$376,2,FALSE) -> 0.40767386 | V53: =VLOOKUP(E53,'Taux rotation'!$C$5:$E$375,2,FALSE) -> 0.23993506
A54: 0825 | B54: 7041 - LOXAM SEDAN | C54: 69 - CHAMPAGNE ARDENNE | D54: 02051066 | E54: 0020005PIQUEURPNEUMATIQUE5KG | F54: GV5 | G54: ROCKAIR | H54: 40387 | I54: 42954 | J54: 84.13 | K54: 104 | L54: =J54-K54 -> -19.87 | M54: 42.51 | N54: 6 | O54: 168 | P54: 0 | Q54: 220 | R54: 41.184118 | T54: =VLOOKUP(E54,'Taux rotation'!$C$5:$E$375,3,FALSE) -> 0.27201485 | U54: =HLOOKUP(B54,'Taux rotation'!$C$4:$T$376,2,FALSE) -> 0.49779736 | V54: =VLOOKUP(E54,'Taux rotation'!$C$5:$E$375,2,FALSE) -> 0.23993506
A55: 7040 | B55: 7040 - LOXAM CHARLEVILLE-M. NORD | C55: 69 - CHAMPAGNE ARDENNE | D55: 02051067 | E55: 0020005PIQUEURPNEUMATIQUE5KG | F55: GV5 | G55: ROCKAIR | H55: 40387 | I55: 42831 | J55: 84.13 | K55: 104 | L55: =J55-K55 -> -19.87 | M55: 6.2 | N55: 3 | O55: 168 | P55: 0 | Q55: 220 | R55: 283.87097 | T55: =VLOOKUP(E55,'Taux rotation'!$C$5:$E$375,3,FALSE) -> 0.27201485 | U55: =HLOOKUP(B55,'Taux rotation'!$C$4:$T$376,2,FALSE) -> 0.5447648 | V55: =VLOOKUP(E55,'Taux rotation'!$C$5:$E$375,2,FALSE) -> 0.23993506
A56: 0822 | B56: 0822 - LOXAM VITRY LE FRANCOIS | C56: 69 - CHAMPAGNE ARDENNE | D56: 02051207 | E56: 0020005PIQUEURPNEUMATIQUE5KG | F56: GV5 | G56: ROCKAIR | H56: 40743 | I56: 43004 | J56: 72.42 | K56: 104 | L56: =J56-K56 -> -31.58 | M56: 88.94 | N56: 40 | O56: 168 | P56: 0 | Q56: 220 | R56: 19.788622 | T56: =VLOOKUP(E56,'Taux rotation'!$C$5:$E$375,3,FALSE) -> 0.27201485 | U56: =HLOOKUP(B56,'Taux rotation'!$C$4:$T$376,2,FALSE) -> 0.55728689 | V56: =VLOOKUP(E56,'Taux rotation'!$C$5:$E$375,2,FALSE) -> 0.23993506
A57: 0822 | B57: 0822 - LOXAM VITRY LE FRANCOIS | C57: 69 - CHAMPAGNE ARDENNE | D57: 02051208 | E57: 0020005PIQUEURPNEUMATIQUE5KG | F57: GV5 | G57: ROCKAIR | H57: 40743 | I57: 43006 | J57: 72.42 | K57: 104 | L57: =J57-K57 -> -31.58 | M57: 81.03 | N57: 29 | O57: 168 | P57: 0 | Q57: 220 | R57: 21.72035 | T57: =VLOOKUP(E57,'Taux rotation'!$C$5:$E$375,3,FALSE) -> 0.27201485 | U57: =HLOOKUP(B57,'Taux rotation'!$C$4:$T$376,2,FALSE) -> 0.55728689 | V57: =VLOOKUP(E57,'Taux rotation'!$C$5:$E$375,2,FALSE) -> 0.23993506
A58: 0822 | B58: 0822 - LOXAM VITRY LE FRANCOIS | C58: 69 - CHAMPAGNE ARDENNE | D58: 02051209 | E58: 0020005PIQUEURPNEUMATIQUE5KG | F58: GV5 | G58: ROCKAIR | H58: 40743 | I58: 43004 | J58: 72.42 | K58: 104 | L58: =J58-K58 -> -31.58 | M58: 138.58 | N58: 68 | O58: 168 | P58: 0 | Q58: 220 | R58: 12.700245 | T58: =VLOOKUP(E58,'Taux rotation'!$C$5:$E$375,3,FALSE) -> 0.27201485 | U58: =HLOOKUP(B58,'Taux rotation'!$C$4:$T$376,2,FALSE) -> 0.55728689 | V58: =VLOOKUP(E58,'Taux rotation'!$C$5:$E$375,2,FALSE) -> 0.23993506
A59: 7041 | B59: 7041 - LOXAM SEDAN | C59: 69 - CHAMPAGNE ARDENNE | D59: 02102432 | E59: 0020010PIQUEURPNEUMATIQUE8KG | F59: GAV9 | G59: ROCKAIR | H59: 41061 | I59: 42978 | J59: 110 | K59: 104 | L59: =J59-K59 -> 6 | M59: 180.6 | N59: 90 | O59: 168 | P59: 0 | Q59: 306 | R59: 13.554817 | T59: =VLOOKUP(E59,'Taux rotation'!$C$5:$E$375,3,FALSE) -> 0.15537084 | U59: =HLOOKUP(B59,'Taux rotation'!$C$4:$T$376,2,FALSE) -> 0.49779736 | V59: =VLOOKUP(E59,'Taux rotation'!$C$5:$E$375,2,FALSE) -> 0.22622951
A60: 6901 | B60: 6901 - LOXAM C.O. CHAMPAGNE ARDENNE | C60: 69 - CHAMPAGNE ARDENNE | D60: 02120251 | E60: 0020012PIQUEURELEC.10KG | F60: D25941K | G60: DEWALT | H60: 41061 | I60: 42916 | J60: 74 | K60: 78 | L60: =J60-K60 -> -4 | M60: 0 | N60: 0 | O60: 168 | P60: 0 | Q60: 714 | R60: 0 | T60: =VLOOKUP(E60,'Taux rotation'!$C$5:$E$375,3,FALSE) -> 0.014827995 | U60: =HLOOKUP(B60,'Taux rotation'!$C$4:$T$376,2,FALSE) -> #N/A | V60: =VLOOKUP(E60,'Taux rotation'!$C$5:$E$375,2,FALSE) -> 0.09692441
... A65: 7042 | B65: 7042 - LOXAM REIMS OUEST | C65: 69 - CHAMPAGNE ARDENNE | D65: 02153775 | E65: 0020015PIQUEURPNEUMATIQUE13KG | F65: P43 | G65: SULLAIR | H65: 39234 | I65: 42901 | J65: 122 | K65: 104 | L65: =J65-K65 -> 18 | M65: 182.04 | N65: 34 | O65: 168 | P65: 0 | Q65: 380 | R65: 16.845475 | T65: =VLOOKUP(E65,'Taux rotation'!$C$5:$E$375,3,FALSE) -> 0.12924633 | U65: =HLOOKUP(B65,'Taux rotation'!$C$4:$T$376,2,FALSE) -> 0.47031963 | V65: =VLOOKUP(E65,'Taux rotation'!$C$5:$E$375,2,FALSE) -> 0.20635903
A66: Total | D66: 6589 | L66: =J66-K66 -> 0 | M66: 9316228.6 | N66: 366303 | O66: 1058629 | R66: 37.170416

Sheet Taux rotation
A2: 69 - CHAMPAGNE ARDENNE
B4: Gamme | C4: RotationparAgence | D4: Réf. LOXAM | E4: Réf. Région | F4: 0735 - LOXAM CHAUMONT | G4: 0820 - LOXAM REIMS SUD | H4: 0821 - LOXAM REIMS NORD | I4: 0822 - LOXAM VITRY LE FRANCOIS | J4: 0823 - LOXAM CHALONS EN CH. SUD | K4: 0824 - LOXAM EPERNAY | L4: 0825 - LOXAM CHARLEVILLE-M. CENTRE | M4: 7034 - LOXAM CHATEAU-THIERRY | N4: 7040 - LOXAM CHARLEVILLE-M. NORD | O4: 7041 - LOXAM SEDAN | P4: 7042 - LOXAM REIMS OUEST | Q4: 7045 - LOXAM SAINT-DIZIER EST | R4: 7046 - LOXAM BAR-LE-DUC | S4: 7318 - LOXAM VERDUN | T4: 7352 - LOXAM LANGRES
B5: COMPRESSEURS | C5: 0010001COMPRESSEUR2000L/MN7B | D5: 0.46889894 | E5: 0.45237918 | F5: 0.38723404 | G5: 0.40513834 | H5: 0.48025478 | I5: 0.55728689 | J5: 0.44039409 | K5: 0.46428571 | L5: 0.52002762 | M5: 0.40767386 | N5: 0.5447648 | O5: 0.49779736 | P5: 0.47031963 | Q5: 0.49273608 | R5: 0.30232558 | S5: 0.16895874 | T5: 0.26642336
B6: COMPRESSEURS | C6: 0010003COMPRESSEUR3000L/MN7B | D6: 0.47287276 | E6: 0.36755647 | F6: 0.63636364 | M6: 0.11333333 | P6: 0.79761905 | T6: 0.13636364
B7: COMPRESSEURS | C7: 0010005COMPRESSEUR5000L/MN7B | D7: 0.53440335 | E7: 0.51076515 | F7: 0.78618421 | G7: 0.21978022 | H7: 0.45762712 | I7: 0.37640449 | J7: 0.69957082 | K7: 0.29268293 | L7: 0.57668712 | M7: 0.18125 | N7: 0.68539326 | P7: 0.58198614 | Q7: 0.15537849 | S7: 0.3372093 | T7: 0.80232558
B8: COMPRESSEURS | C8: 0010010COMPRESSEUR11000L/MN<=10B | D8: 0.3703916 | E8: 0.21212121 | F8: 0.33333333 | J8: 0.52941176 | K8: 0.13286713 | P8: 0.45454545
B9: COMPRESSEURS | C9: 0010011COMPRESSEUR11000L/MN12B | D9: 0.34516591 | E9: 0.28296703 | F9: 0.69230769 | H9: 0.011904762 | I9: 0.48611111 | K9: 0 | P9: 0.42857143 | Q9: 1
B10: DIVERS RENTAL | C10: 0020005PIQUEURPNEUMATIQUE5KG | D10: 0.23993506 | E10: 0.27201485 | F10: 0.083333333 | G10: 0.34926471 | H10: 0.68119266 | I10: 0.2718254 | J10: 0.06547619 | K10: 0.22352941 | L10: 0.63080685 | M10: 0.024336283 | N10: 0.017857143 | O10: 0.0094161959 | P10: 0.61165049 | Q10: 0.58928571 | R10: 0.18154762 | S10: 0.37869822 | T10: 0.020833333
B11: DIVERS RENTAL | C11: 0020010PIQUEURPNEUMATIQUE8KG | D11: 0.22622951 | E11: 0.15537084 | G11: 0.069767442 | H11: 0.060240964 | L11: 0.005952381 | N11: 0.14090909 | O11: 0.53571429 | P11: 0.077380952 | S11: 0.22619048
B12: PETITS MATERIELS | C12: 0020012PIQUEURELEC.10KG | D12: 0.09692441 | E12: 0.014827995 | J12: 0.005952381 | P12: 0 | Q12: 0.021825397 | R12: 0.017857143 | S12: 0.013020833 | T12: 0.014880952
B13: DIVERS RENTAL | C13: 0020015PIQUEURPNEUMATIQUE13KG | D13: 0.20635903 | E13: 0.12924633 | F13: 0.097142857 | G13: 0.28235294 | H13: 0.11671088 | I13: 0.095100865 | J13: 0.063492063 | K13: 0.13180272 | L13: 0.35714286 | M13: 0.038690476 | N13: 0.24328859 | O13: 0.18064516 | P13: 0.054607509 | Q13: 0.024896266 | R13: 0.32352941 | S13: 0.089285714 | T13: 0.099378882
B14: PETITS MATERIELS | C14: 0020016MARTEAUDEMOLISSEURELEC.15KG | D14: 0.2176638 | E14: 0.12084257 | F14: 0.083538084 | G14: 0.12280702 | H14: 0.11309524 | I14: 0.029411765 | J14: 0.14583333 | K14: 0.47619048 | L14: 0.047619048 | M14: 0.10588235 | N14: 0.047619048 | O14: 0.19905213 | P14: 0.036036036 | Q14: 0.12797619 | R14: 0.11904762 | S14: 0.11309524 | T14: 0.18604651
B15: DIVERS RENTAL | C15: 0020020BRISEBETONPNEUMATIQUE=<25KG | D15: 0.27766388 | E15: 0.24620317 | F15: 0.055023923 | G15: 0.30047443 | H15: 0.41502553 | I15: 0.45429864 | J15: 0.21303842 | K15: 0.14571607 | L15: 0.32424242 | M15: 0.13409962 | N15: 0.286 | O15: 0.35578748 | P15: 0.29596774 | Q15: 0.19673203 | R15: 0.12258065 | S15: 0.074860335 | T15: 0.043478261
B16: PETITS MATERIELS | C16: 0020026BRISEBETONELEC.20KG | D16: 0.20607428 | E16: 0.17285453 | F16: 0.094147583 | G16: 0.17670683 | H16: 0.1261498 | I16: 0.052256532 | J16: 0.077720207 | K16: 0.38267148 | L16: 0.27120669 | M16: 0.33333333 | N16: 0.19700214 | O16: 0.21757322 | P16: 0.082236842 | Q16: 0.03125 | R16: 0.068452381 | S16: 0.095588235 | T16: 0.27678571
B17: DIVERS RENTAL | C17: 0020030BRISEBETONPNEUMATIQUE30KG | D17: 0.19192595 | E17: 0.070786517 | H17: 0 | J17: 0.03968254 | K17: 0.17050691 | L17: 0.035714286
B18: DIVERS RENTAL | C18: 0020035PIOCHEAAIR | D18: 0.24996002 | E18: 0 | J18: 0
B19: DIVERS RENTAL | C19: 0020062BRISEBETONESSENCE23KG | D19: 0.41545989 | E19: 0.32443258 | F19: 0.51108214 | H19: 0.29761905 | I19: 0.56103896 | J19: 0.15142857 | K19: 0.36686391 | L19: 0.0089285714 | N19: 0.071428571 | O19: 0.35714286 | Q19: 0.16071429 | T19: 0.30599369
B20: PETITS MATERIELS | C20: 0030001PERFO.SANSFIL3KG | D20: 0.1165409 | E20: 0.17518248 | L20: 0.25912409 | N20: 0 | P20: 0.020833333 | S20: 0.26785714
B21: PETITS MATERIELS | C21: 0030002PERFO.BURINEURELEC.2.5KG | D21: 0.18383864 | E21: 0.12781298 | F21: 0.023809524 | G21: 0.45481928 | H21: 0.043343653 | I21: 0.88690476 | K21: 0.26923077 | L21: 0.076335878 | M21: 0 | N21: 0.0625 | O21: 0.17559524 | P21: 0.051948052 | Q21: 0.10690423 | R21: 0.0051679587 | S21: 0.066079295 | T21: 0.022653722
B22: PETITS MATERIELS | C22: 0030003PERFO.BURINEURSANSFIL5KG | D22: 0.16585817 | E22: 0.23226198 | F22: 0.028056112 | G22: 0.78571429 | H22: 0.32588454 | I22: 0.79761905 | J22: 0.023809524 | K22: 0.58721934 | L22: 0.33150183 | M22: 0.10714286 | N22: 0.18860511 | O22: 0.16608997 | P22: 0.11570248 | Q22: 0.06547619 | R22: 0.041666667 | S22: 0.11904762 | T22: 0.14450867
B23: PETITS MATERIELS | C23: 0030004PERFO.BURINEURELEC.6KG | D23: 0.20918178 | E23: 0.19034687 | F23: 0.13573883 | G23: 0.16322702 | H23: 0.16981132 | I23: 0.30392157 | J23: 0.085872576 | K23: 0.62765957 | L23: 0.20810056 | M23: 0.20034542 | N23: 0.27375566 | O23: 0.25595238 | P23: 0.30952381 | Q23: 0.053075995 | R23: 0.14285714 | S23: 0.41697417 | T23: 0.125
B24: DIVERS RENTAL | C24: 0030005PERFORATEURPNEUMATIQUE5KG | D24: 0.045930509 | E24: 0.10119048 | G24: 0.1 | H24: 0.1025641 | P24: 0
B25: PETITS MATERIELS | C25: 0030025PERFO.PIQUEURELEC.10KG | D25: 0.23486736 | E25: 0.26534653 | F25: 0.055469954 | G25: 0.25547445 | H25: 0.1547619 | I25: 0.50720461 | J25: 0.28205128 | K25: 0.5458232 | L25: 0.07875895 | M25: 0.36238532 | N25: 0.080357143 | O25: 0.30434783 | P25: 0.24420677 | Q25: 0.18864097 | R25: 0.061507937 | S25: 0.20750988 | T25: 0.42411348
B26: DIVERS RENTAL | C26: 0050052FUSEEDEFONCAGED>100 | D26: 0.1547619 | E26: 0 | F26: 0
B27: PETITS MATERIELS | C27: 0050060CAROTTEUSE230VDIAM250MM | D27: 0.16564559 | E27: 0.15993884 | F27: 0.12863071 | G27: 0.42105263 | H27: 0.026315789 | I27: 0.1 | K27: 0.44711538 | L27: 0.063444109 | M27: 0.062176166 | N27: 0.15181518 | O27: 0.37198068 | P27: 0.097087379 | Q27: 0.18266979 | R27: 0.10909091 | S27: 0.059171598 | T27: 0.16071429
B28: PETITS MATERIELS | C28: 0050064CAROTTEUSE230VDIAM>300MM | D28: 0.12594534 | E28: 0.131324 | F28: 0.011235955 | G28: 0.33846154 | H28: 0.5 | I28: 0.25 | J28: 0.23134328 | K28: 0.35714286 | L28: 0.15686275 | M28: 0.032258065 | O28: 0.13333333 | P28: 0.12301587 | S28: 0.011904762
B29: DIVERS RENTAL | C29: 0050066CAROTTEUSETHERM.P/TRANCHEE | D29: 0.14907946 | E29: 0.14661355 | F29: 0.2244898 | G29: 0.19261214 | H29: 0.11678832 | I29: 0.055793991 | J29: 0 | K29: 0.40909091 | L29: 0.02484472 | N29: 0 | P29: 0.24924925 | Q29: 0.20183486 | R29: 0.032258065 | S29: 0.14285714 | T29: 0.15948276
B30: PETITS MATERIELS | C30: 0050069FOREUSEPORTABLE230V | D30: 0.12903261 | E30: 0.13689482 | F30: 0.14521452 | G30: 0.11956522 | H30: 0.30769231 | I30: 0.075144509 | J30: 0.1547619 | K30: 0.092307692 | L30: 0.12582781 | M30: 0.017857143 | N30: 0.25766871 | O30: 0.12152778 | P30: 0.11869436 | Q30: 0.036363636 | R30: 0.06122449 | S30: 0.30750605 | T30: 0.046979866
B31: PETITS MATERIELS | C31: 0050079POMPEAVIDEPOURCAROTTEUSE | D31: 0.018378244 | E31: 0.0029761905 | J31: 0 | L31: 0.011904762 | P31: 0 | S31: 0
B32: PETITS MATERIELS | C32: 0060001SABLEUSE50LEQUIPEE | D32: 0.11193448 | E32: 0.1487581 | F32: 0.095808383 | G32: 0.23756906 | H32: 0.093167702 | I32: 0.046242775 | J32: 0.044025157 | K32: 0.14705882 | L32: 0.12921348 | M32: 0.11904762 | N32: 0.23162584 | O32: 0.055172414 | P32: 0.2955665 | Q32: 0.038076152 | R32: 0.041666667 | S32: 0.11764706 | T32: 0.53409091
B33: PETITS MATERIELS | C33: 0060010HYDROGOMMEUSE | D33: 0.10409712 | E33: 0.2073085 | F33: 0.44565217 | H33: 0.097345133 | I33: 0.03125 | J33: 0.12182741 | K33: 0.36363636 | N33: 0.053571429 | P33: 0.61818182 | Q33: 0.0082644628 | S33: 0.017647059
B34: PETITS MATERIELS | C34: 0100014BETONNIEREELEC.DEMONTABLE | D34: 0.24335615 | E34: 0.17631784 | F34: 0.035714286 | G34: 0.22087379 | H34: 0.14792899 | J34: 0.083333333 | K34: 0.52140673 | L34: 0.15192308 | M34: 0.18932039 | P34: 0.0044642857 | S34: 0.088235294 | T34: 0.035714286
B35: PETITS MATERIELS | C35: 0100016BETONNIEREELECTRIQUE<300L | D35: 0.22951823 | E35: 0.043650794 | L35: 0.11976048 | N35: 0 | R35: 0.005952381
B36: PETITS MATERIELS | C36: 0100031BETONNIERETHERM.>300L | D36: 0.22172888 | E36: 0.20561331 | F36: 0.14371257 | G36: 0.45238095 | H36: 0.084337349 | I36: 0.15133531 | J36: 0.12121212 | K36: 0.34183673 | L36: 0.12277228 | M36: 0.21495327 | N36: 0.16257669 | O36: 0.26934097 | P36: 0.53965184 | Q36: 0.027667984 | R36: 0.020833333 | S36: 0.38095238 | T36: 0.13068182
B37: PETITS MATERIELS | C37: 0100036BETONNIEREELECTRIQUE>300L | D37: 0.22857143 | E37: 0.052631579 | K37: 0.052631579
B38: ESPACES VERTS | C38: 0110030TRANSPORTEUR/CHEN.=<1500KG | D38: 0.2127625 | E38: 0.28450555 | F38: 0.26627219 | G38: 0.43666667 | H38: 0.875 | I38: 0 | J38: 0.06122449 | K38: 0.28695652 | M38: 0.35779817 | N38: 0.38405797 | O38: 0.5 | Q38: 0.2 | R38: 0.1031746 | S38: 0.090277778 | T38: 0.11041009
B39: DUMPERS | C39: 0110034TRANSPORTEUR/CHEN.2500KG | D39: 0.22711864 | E39: 0.86206897 | T39: 0.86206897
B40: ESPACES VERTS | C40: 0110061DUMPERHYDROSKIPCU1T | D40: 0.34064962 | E40: 0.35841232 | F40: 0.28846154 | G40: 0.58035714 | I40: 0.30172414 | J40: 0.64021164 | K40: 0.43558282 | L40: 0.71428571 | M40: 0.29861111 | N40: 0.16541353 | O40: 0.36111111 | P40: 0.23076923 | Q40: 0.51923077 | R40: 0.30357143 | S40: 0.08 | T40: 0.11851852
B41: DUMPERS | C41: 0110070DUMPERGIRAB.CU1T/600L | D41: 0.42496389 | E41: 0.48858447 | F41: 0.47682119 | G41: 0.49171271 | H41: 0.12820513 | I41: 0.30630631 | J41: 0.8622449 | K41: 0.45631068 | M41: 0.5 | P41: 0.52564103 | Q41: 0.45454545 | R41: 0.3 | S41: 0.029411765 | T41: 0.5
B42: DUMPERS | C42: 0110071DUMPERGIRAB.CU2T/1200L | D42: 0.51804671 | E42: 0.46551724 | F42: 0.25 | L42: 0.76470588 | O42: 0.4379085
B43: DUMPERS | C43: 0110072DUMPERGIRAB.CU3T/1800L | D43: 0.50086017 | E43: 0.62111801 | F43: 0.62264151 | G43: 0.65079365 | K43: 0.38461538 | L43: 0.6 | O43: 0.60377358 | R43: 0 | S43: 0.6163522
B44: DUMPERS | C44: 0110075DUMPERGIRAB.CU6T/3600L | D44: 0.57833752 | E44: 0.68932039 | F44: 0.42857143 | J44: 0.84313725 | O44: 0.72222222 | Q44: 0.45
B45: PETITS MATERIELS | C45: 0140003SCIEASOLELECTRIQUE<8CV | D45: 0.17844311 | E45: 0.14880952 | K45: 0.10638298 | Q45: 0.2027027
B46: PETITS MATERIELS | C46: 0140004SCIEASOLESSENCE<=8CV | D46: 0.23868055 | E46: 0.092885375 | G46: 0 | H46: 0.5 | L46: 0.082758621 | O46: 0.17391304 | P46: 0.10429448 | S46: 0.076470588
B47: DIVERS RENTAL | C47: 0140009SCIEASOLESSENCE13CV | D47: 0.24089089 | E47: 0.23080922 | F47: 0.11019284 | G47: 0.38196286 | H47: 0.35416667 | I47: 0.096982759 | J47: 0.27826087 | K47: 0.36340852 | L47: 0.21639344 | M47: 0.375 | N47: 0.41812865 | O47: 0.1959799 | P47: 0.21287129 | Q47: 0.15873016 | R47: 0.11531191 | S47: 0.076502732 | T47: 0.15674603
B48: PETITS MATERIELS | C48: 0150001SCIECARREL.PORT.D200/230MM | D48: 0.17917462 | E48: 0.13252315 | F48: 0.011904762 | G48: 0.21336761 | H48: 0.38461538 | J48: 0 | L48: 0.18644068 | P48: 0.047058824 | S48: 0.090116279
B49: DIVERS RENTAL | C49: 0150002TRONCONNEUSEAMATERIAUXTHERM | D49: 0.44180151 | E49: 0.38741901 | F49: 0.21187308 | G49: 0.42963653 | H49: 0.2611276 | I49: 0.60957447 | J49: 0.47511312 | K49: 0.66225166 | L49: 0.19251925 | M49: 0.24342105 | N49: 0.54481793 | O49: 0.418637 | P49: 0.37070938 | Q49: 0.52116788 | R49: 0.18055556 | S49: 0.53221289 | T49: 0.18002466
B50: PETITS MATERIELS | C50: 0150009SCIESURTABLE230VDIAM350MM | D50: 0.061355914 | E50: 0.11260958 | F50: 0.011904762 | H50: 0.012048193 | I50: 0.017857143 | J50: 0.035087719 | K50: 0.064327485 | L50: 0 | M50: 0.017857143 | N50: 1 | O50: 0 | P50: 0.05988024 | Q50: 0.011904762 | R50: 0.023809524 | S50: 0.40145985 | T50: 0.014836795
B51: PETITS MATERIELS | C51: 0150013SCIESURTABLE230VD750MM | D51: 0.16928251 | E51: 0.023809524 | J51: 0.023809524
B52: PETITS MATERIELS | C52: 0150016DECOUPEUSEMURALEELEC230V | D52: 0.082855308 | E52: 0.098378378 | F52: 0.079268293 | G52: 0.35714286 | J52: 0.33333333 | K52: 0.081836327 | L52: 0.053731343 | N52: 0 | P52: 0.12732919 | Q52: 0.19047619 | R52: 0.06547619 | S52: 0.11242604 | T52: 0.2
B53: PETITS MATERIELS | C53: 0160001REGLEVIB.SURFACEUSEESS2/3M | D53: 0.061198644 | E53: 0.082118562 | F53: 0.018404908 | G53: 0.44444444 | I53: 0.0061728395 | J53: 0.225 | K53: 0.089820359 | L53: 0.047058824 | M53: 0.04040404 | N53: 0.13864818 | P53: 0.1 | Q53: 0.025477707 | R53: 0.090909091 | S53: 0.011764706 | T53: 0.4
B54: PETITS MATERIELS | C54: 0160020TALOCHEUSEAUTONOME | D54: 0.10233255 | E54: 0.11258422 | F54: 0.058823529 | G54: 0.11940299 | H54: 0.058823529 | I54: 0.038690476 | J54: 0.076687117 | K54: 0.16809117 | L54: 0.061797753 | M54: 0.33333333 | N54: 0.20682731 | O54: 0.08801956 | P54: 0.12582781 | Q54: 0.05952381 | R54: 0.095238095 | S54: 0.12721893 | T54: 0.084337349
B55: PETITS MATERIELS | C55: 0160028PONCEUSE/RECTIFIEUSEDESOL | D55: 0.10659645 | E55: 0.16117311 | F55: 0.21813031 | G55: 0.16556291 | H55: 0.1183432 | I55: 0.098837209 | J55: 0.074404762 | K55: 0.12707182 | L55: 0.27230047 | M55: 0.090909091 | N55: 0.31213873 | O55: 0.099009901 | P55: 0.20496894 | Q55: 0.35779817 | R55: 0.11731844 | S55: 0.064327485 | T55: 0.040935673
B56: PETITS MATERIELS | C56: 0160030PONCEUSEDESOLBETON/MARBRE | D56: 0.10564663 | E56: 0.20238095 | G56: 0.27272727 | K56: 0.19178082
B57: PETITS MATERIELS | C57: 0160031PONCEUSE/SURFACEUSESOLD450MM | D57: 0.13447562 | E57: 0.14710253 | H57: 0.023809524 | L57: 0.13017751 | O57: 0 | P57: 0.095238095 | Q57: 0.84126984 | S57: 0.10526316
B58: PETITS MATERIELS | C58: 0160041ASPIRATEURELECTROPOR.1.5KW | D58: 0.065917659 | E58: 0.11666667 | M58: 0.5 | N58: 0 | Q58: 0.083832335 | R58: 0 | T58: 0
B59: PETITS MATERIELS | C59: 0160042ASPIRATEURMIXTE>=2KW | D59: 0.14334394 | E59: 0.11970218 | F59: 0.19272727 | G59: 0 | H59: 0.15384615 | I59: 0.064814815 | K59: 0.20535714 | L59: 0.30232558 | M59: 0.095238095 | N59: 0.056547619 | O59: 0.037698413 | P59: 0.10119048 | Q59: 0.16809605 | R59: 0.088757396 | S59: 0.06547619
B60: PETITS MATERIELS | C60: 0160044ASPIRATEURMIXTE<2KW | D60: 0.086834807 | E60: 0.076504432 | F60: 0.03960396 | G60: 0.031746032 | H60: 0.035714286 | I60: 0.011904762 | J60: 0.11011905 | K60: 0.10243902 | L60: 0.094086022 | M60: 0.025793651 | N60: 0.015576324 | O60: 0.040752351 | P60: 0.17261905 | Q60: 0.25854383 | R60: 0 | S60: 0.023988006 | T60: 0.18452381
B61: PETITS MATERIELS | C61: 0160047ASPIRATEURPOUSSIERESFINES | D61: 0.1028528 | E61: 0.096079939 | F61: 0.06547619 | G61: 0.035714286 | H61: 0.11309524 | I61: 0.029761905 | J61: 0.06547619 | K61: 0.03968254 | L61: 0.059171598 | M61: 0 | N61: 0.19221411 | O61: 0.041420118 | P61: 0.36666667 | Q61: 0 | R61: 0.10714286 | S61: 0.023391813 | T61: 0.052941176
B62: PETITS MATERIELS | C62: 0160061PONCEUSEAPLAFOND/ASPIRATEUR | D62: 0.41633273 | E62: 0.37262357 | G62: 0.32098765 | H62: 1
B63: PETITS MATERIELS | C63: 0160063PONCEUSEABETONPORTATIVE | D63: 0.079659231 | E63: 0.051659125 | F63: 0.022624434 | G63: 0.080808081 | H63: 0.035714286 | I63: 0.011904762 | J63: 0.1814346 | L63: 0.010638298 | N63: 0.081395349 | O63: 0.092857143 | P63: 0.015873016 | Q63: 0.017964072 | R63: 0.035294118 | S63: 0.06185567 | T63: 0.0061349693
B64: PETITS MATERIELS | C64: 0170010AIGUILLEVIBRANTEELEC | D64: 0.11236727 | E64: 0.16181015 | F64: 0.084745763 | G64: 0.30769231 | H64: 0.27004219 | I64: 0.033082707 | J64: 0.10518519 | K64: 0.48611111 | L64: 0.071782178 | M64: 0.044642857 | N64: 0.16044776 | O64: 0.36309524 | P64: 0.125 | Q64: 0.24038462 | R64: 0.050675676 | S64: 0.075757576 | T64: 0.094339623
B65: PETITS MATERIELS | C65: 0170011AIGUILLEVIBRANTEELECTRIQUEHF | D65: 0.10766041 | E65: 0.066346697 | F65: 0.005952381 | G65: 0.34351145 | H65: 0.115 | I65: 0.005952381 | J65: 0.011904762 | K65: 0.024960998 | L65: 0.21212121 | M65: 0.071428571 | N65: 0.052631579 | O65: 0.083086053 | P65: 0.11111111 | Q65: 0.029761905 | R65: 0.0029761905 | S65: 0.19047619 | T65: 0.038610039
B66: PETITS MATERIELS | C66: 0170021AIGUILLEVIBRANTEPNEU.D<=35MM | D66: 0.0066269052 | E66: 0.023809524 | L66: 0.25 | O66: 0.0064102564
B67: PETITS MATERIELS | C67: 0170022AIGUILLEVIBRANTEPNEU.D40MM | D67: 0.025673941 | E67: 0.054249548 | H67: 0.16666667 | J67: 0 | M67: 0.011904762 | P67: 0
B68: PETITS MATERIELS | C68: 0170023AIGUILLEVIBRANTEPNEU.D50MM | D68: 0.048637426 | E68: 0.023716952 | F68: 0.011904762 | H68: 0.011904762 | I68: 0.10714286 | J68: 0.023809524 | K68: 0.11309524 | L68: 0.03125 | M68: 0.017857143 | N68: 0.0045454545 | O68: 0 | P68: 0.017857143 | R68: 0 | S68: 0 | T68: 0.005952381
B69: PETITS MATERIELS | C69: 0190042VENTIL.ELE.1500/2000M3/H | D69: 0.1475386 | E69: 0.20261163 | F69: 0.15559772 | G69: 0.28652751 | H69: 0.43524416 | I69: 0.14117647 | J69: 0.01171875 | K69: 0.55084746 | L69: 0.072727273 | M69: 0 | N69: 0.023696682 | O69: 0.13930348 | P69: 0.36785714 | Q69: 0.24566474 | R69: 0 | S69: 0.041666667 | T69: 0.16759777
B70: DIVERS RENTAL | C70: 0190050CITERNEAEAUSURREM.500L | D70: 0.46846344 | E70: 0.57556774 | G70: 0.46428571 | H70: 0.36029412 | I70: 0.1 | J70: 0.77245509 | K70: 0.33962264 | L70: 0.84054054 | M70: 0.42045455 | N70: 0.70471464 | O70: 0.34736842 | P70: 0.78225806 | Q70: 0.33447099 | R70: 0.75141243 | S70: 0.24404762
B71: DIVERS RENTAL | C71: 0190051CITERNEAEAUSURREM.>=1000L | D71: 0.41160341 | E71: 0.37890625 | F71: 0.22556391 | G71: 0.73295455 | H71: 0.97560976 | I71: 0.2 | J71: 0.42361111 | K71: 0 | P71: 0.64227642 | Q71: 0.066666667 | R71: 0 | S71: 0.32432432 | T71: 0.39069767
B72: PETITS MATERIELS | C72: 0190061ENSEMBLEENTONNOIR+GOULOTTE | D72: 0.063063312 | E72: 0.042174549 | F72: 0.047520661 | G72: 0.030837004 | H72: 0.15178571 | I72: 0.050980392 | J72: 0 | K72: 0.04526749 | L72: 0.017777778 | M72: 0.020576132 | N72: 0.013483146 | O72: 0.16319444 | P72: 0.071428571 | Q72: 0.024691358 | R72: 0.033195021 | S72: 0.029045643 | T72: 0.0041152263
B73: DIVERS RENTAL | C73: 0190070CUVEAFUEL<=1000L | D73: 0.67647644 | E73: 0.7948471 | F73: 0.71370143 | G73: 0.7812766 | I73: 0.9753304 | J73: 0.42236025 | L73: 0.79378531 | N73: 0.30833333 | O73: 0.975 | P73: 0 | Q73: 0 | T73: 0.83250415
B74: PLAQUES VIBRANTES | C74: 0200009PLAQUEVIBRANTEPQ1<80KGESS | D74: 0.37858253 | E74: 0.44284781 | F74: 0.53309609 | G74: 0.54155955 | H74: 0.3976834 | I74: 0.47312588 | J74: 0.4804401 | K74: 0.56568196 | L74: 0.28037383 | M74: 0.31057639 | N74: 0.38231552 | O74: 0.45618108 | P74: 0.32425532 | Q74: 0.46633416 | R74: 0.37575301 | S74: 0.54224698 | T74: 0.46941176
B75: PLAQUES VIBRANTES | C75: 0200011PLAQUEVIBRANTEPQ1100KG | D75: 0.32537995 | E75: 0.48070175 | I75: 0.48070175
B76: PLAQUES VIBRANTES | C76: 0200024PLAQUEVIB.PQ3/PQ4<200KG | D76: 0.27074641 | E76: 0.28869048 | R76: 0.45238095 | S76: 0.125
B77: PLAQUES VIBRANTES | C77: 0200025PLAQUEVIB.PQ3/PQ4300KG | D77: 0.32918025 | E77: 0.14705882 | F77: 0.092261905 | Q77: 0.22159091 | R77: 0.17857143
B78: PLAQUES VIBRANTES | C78: 0200026PLAQUEVIB.PQ3/PQ4400KG | D78: 0.47070199 | E78: 0.33436833 | F78: 0.30806846 | G78: 0.44755245 | I78: 0.39087948 | J78: 0.035087719 | L78: 0.31670446 | M78: 0.30900243 | N78: 0.1503268 | P78: 0.1031746 | Q78: 0.42777778 | S78: 0.28621908 | T78: 0.47502775
B79: PLAQUES VIBRANTES | C79: 0200027PLAQUEVIBRANTEPQ4500KG | D79: 0.4406518 | E79: 0.31425365 | F79: 0.22844828 | G79: 0.9375 | Q79: 0.18139535 | R79: 0.13186813 | T79: 0.88387097
B80: PLAQUES VIBRANTES | C80: 0200057PLAQUEVIB.TELEC.PQ4>600KG | D80: 0.40876756 | E80: 0.24383562 | F80: 0 | G80: 0.11386139 | N80: 0.67346939 | T80: 0
B81: ROULEAUX | C81: 0210060ROULEAUDUPLEXPV1/PV2<=65CM | D81: 0.36277586 | E81: 0.38381918 | F81: 0.14151925 | G81: 0.44982394 | H81: 0.37711864 | I81: 0.20900901 | J81: 0.3718593 | K81: 0.52491694 | L81: 0.27980922 | M81: 0.3290267 | N81: 0.48118495 | O81: 0.53911696 | P81: 0.27214022 | Q81: 0.44934641 | R81: 0.56761905 | S81: 0.36649215 | T81: 0.31105398
B82: ROULEAUX | C82: 0210094ROULEAUPIEDDAM.PV2=<85CM | D82: 0.48320756 | E82: 0.62735361 | F82: 0.38461538 | G82: 0.74882995 | H82: 0.61497326 | I82: 0.47181009 | J82: 0.60928962 | K82: 0.70952381 | L82: 0.66459627 | M82: 0.66502463 | N82: 0.57440476 | O82: 0.5078125 | P82: 0.5876494 | Q82: 0.45299145 | R82: 0.3125 | S82: 0.41975309 | T82: 0.93644068
B83: REMORQUE | C83: 0220001REMORQUECUMAX<500KG | D83: 0.10998377 | E83: 0.029761905 | H83: 0.029761905
B84: REMORQUE | C84: 0220002REMORQUECUMAX1T | D84: 0.16578715 | E84: 0.22365833 | F84: 0.115727 | G84: 0.30625 | H84: 0.06010929 | I84: 0.088235294 | J84: 0.1746988 | K84: 0.62189055 | L84: 0.26116071 | M84: 0.071428571 | N84: 0.4015444 | O84: 0.21383648 | P84: 0.079754601 | Q84: 0.26627219 | R84: 0.05952381 | S84: 0.12609971 | T84: 0.11904762
B85: REMORQUE | C85: 0220004REMORQUECUMAX2T | D85: 0.35174336 | E85: 0.24137931 | F85: 0.29166667 | M85: 0.22087379
B86: REMORQUE | C86: 0220005REMORQUECUMAX2.8T | D86: 0.48585725 | E86: 0.44548387 | F86: 0.52332196 | G86: 0.32035928 | H86: 0.5 | I86: 0.51510574 | J86: 0.38385827 | K86: 0.47294118 | L86: 0.54025424 | M86: 0.31938633 | N86: 0.55027422 | O86: 0.20338983 | P86: 0.26086957 | Q86: 0.39182692 | R86: 0.50700935 | S86: 0.40091116 | T86: 0.45155039
B87: REMORQUE | C87: 0220007REMORQUESPECIALEPELLE2.5T | D87: 0.32904747 | E87: 0.22359657 | F87: 0.33333333 | G87: 0.17948718 | H87: 0.15204678 | J87: 0.10227273 | K87: 0.38888889 | L87: 0.019354839 | M87: 0 | N87: 0 | O87: 0 | P87: 0.051282051 | Q87: 0.95081967 | R87: 0.6557377 | S87: 0.35643564 | T87: 0.2
B88: ESPACES VERTS | C88: 0220031REMORQUEESPVERTSBASCUL<1T | D88: 0.10272984 | E88: 0.39181649 | F88: 0.41758242 | G88: 0.075 | I88: 0.025974026 | J88: 0.030769231 | K88: 0.46938776 | N88: 0.80664062 | P88: 0.375 | R88: 0.053571429 | S88: 0.125
B89: ESPACES VERTS | C89: 0220032REMORQUEESPVERTSBASCU1T5 | D89: 0.17792494 | E89: 0.11904762 | K89: 0.11904762
B90: ESPACES VERTS | C90: 0220033PLATEAUBASC.SPEC.EVCU1T5 | D90: 0.088584541 | E90: 0.068047337 | F90: 0 | G90: 0.11309524 | K90: 0.054216867 | M90: 0.017857143 | P90: 0.5 | T90: 0.083832335
B91: REMORQUE | C91: 0220050REMORQUEBAGAGERE<1T | D91: 0.13230572 | E91: 0 | T91: 0
B92: REMORQUE | C92: 0220081REMORQUEPTC7/9TP/G.E. | D92: 0.6099844 | E92: 0.30150754 | F92: 0.30150754
B93: DIVERS RENTAL | C93: 0230005PILONNEUSEPN2/PN3<=70KGESS | D93: 0.50090663 | E93: 0.45723621 | F93: 0.47805213 | G93: 0.55569865 | H93: 0.46708139 | I93: 0.63322185 | J93: 0.35307263 | K93: 0.46358025 | L93: 0.2367829 | M93: 0.31285493 | N93: 0.43597951 | O93: 0.49892934 | P93: 0.49355301 | Q93: 0.46095445 | R93: 0.43897436 | S93: 0.61160981 | T93: 0.54889976
B94: DIVERS RENTAL | C94: 0230056PILONNEUSEPN2/PN3<=70KGDIE | D94: 0.33931432 | E94: 0.058823529 | J94: 0.058823529
B95: COMPACTEURS | C95: 0240008ROULEAUTANDEMPV21.5T<=1M | D95: 0.34152364 | E95: 0.2537909 | H95: 0.029761905 | I95: 0.53333333 | J95: 0.43888889 | K95: 0.35519126 | L95: 0.097560976 | N95: 0.5 | Q95: 0.32512315 | R95: 0.3452381 | S95: 0.11309524
B96: COMPACTEURS | C96: 0240010ROULEAUTANDEMPV32.5T1.00M | D96: 0.34092074 | E96: 0.40545697 | F96: 0.61401674 | G96: 0.36419753 | H96: 0.31456954 | I96: 0.31578947 | J96: 0.28615385 | K96: 0.54418605 | L96: 0.63095238 | M96: 0.17032967 | N96: 0.42531646 | O96: 0.48214286 | P96: 0.3126935 | Q96: 0.27123288 | R96: 0.31804281 | S96: 0.228739 | T96: 0.52519894
B97: COMPACTEURS | C97: 0240012ROULEAUTANDEMPV32.6T1.20M | D97: 0.37914815 | E97: 0.37431101 | F97: 0.35918744 | G97: 0.49712092 | H97: 0.16472546 | I97: 0.27027027 | J97: 0.56741573 | K97: 0.44886364 | L97: 0.33846154 | M97: 0.18218623 | N97: 0.49050633 | O97: 0.37967914 | P97: 0.44504021 | Q97: 0.5 | R97: 0.23463687 | S97: 0.25732899 | T97: 0.52184466
B98: COMPACTEURS | C98: 0240013ROULEAUTANDEMPV34T1.30M | D98: 0.34409006 | E98: 0.40215983 | F98: 0.27272727 | G98: 0.41538462 | H98: 0.15151515 | I98: 0.24832215 | J98: 0.68888889 | K98: 0.59610028 | L98: 0.43181818 | M98: 0.20714286 | N98: 0.42857143 | O98: 0.50980392 | P98: 0.40776699 | Q98: 0.38652482 | R98: 0.49545455 | S98: 0.25324675
B99: COMPACTEURS | C99: 0240018ROULEAUTANDEMVT29T1.60M | D99: 0.21535181 | E99: 0.7 | I99: 0.7
B100: COMPACTEURS | C100: 0240035COMP.MONOC.VM27/11T1.7/2.1M | D100: 0.29860443 | E100: 0.25770308 | G100: 0.24096386 | P100: 0.75 | S100: 0.26203209
B101: COMPACTEURS | C101: 0240041COMP.MONOC.VM311.5/13T2.1M | D101: 0.38844958 | E101: 0.421875 | F101: 0.47692308 | G101: 0.28767123 | J101: 0.6 | P101: 0.71428571 | Q101: 0.48905109 | R101: 0.5
B102: COMPACTEURS | C102: 0240045COMP.MONOC.VM414/17T2.1M | D102: 0.36433582 | E102: 0.40221402 | G102: 0.4109589 | H102: 0.57142857 | J102: 0.925 | L102: 1 | P102: 0.028985507
...
