Workbook

Sheet Détail Matériel
A1: Agence Gérante | B1: Agence Propriétaire | C1: Région Propriétaire | D1: Matériel | E1: CatClasseDésignation | F1: Modèle | G1: Marque | H1: Date Mise en Service | I1: Dernière Loc | J1: Age (Mois) | K1: Age Réforme (Mois) | L1: MOIS DEPASSEMENT REFORME | M1: CA | N1: Nb Jours Fac | O1: Nb Jours VLG | P1: Valeur nette comptable | Q1: Prix Budget | R1: Pay Back (Prix Budget) | T1: taux de rotation moyen Région | U1: taux de rotation Agence | V1: taux de rotation moyen France
A2: 0735 | B2: 0735 - LOXAM CHAUMONT | C2: 69 - CHAMPAGNE ARDENNE | D2: 01014358 | E2: 0010001COMPRESSEUR2000L/MN7B | F2: S38K | G2: SULLAIR | H2: 40127 | I2: 43000 | J2: 158 | K2: 120 | L2: =J2-K2 -> 38 | M2: 1007.1 | N2: 60 | O2: 168 | P2: 0 | Q2: 5700 | R2: 45.278522 | T2: =VLOOKUP(E2,'Taux rotation'!$C$5:$E$375,3,FALSE) -> 0.45237918 | V2: =VLOOKUP(E2,'Taux rotation'!$C$5:$E$375,2,FALSE) -> 0.46889894
A3: 0825 | B3: 0825 - LOXAM CHARLEVILLE-M. CENTRE | C3: 69 - CHAMPAGNE ARDENNE | D3: 01014717 | E3: 0010001COMPRESSEUR2000L/MN7B | F3: M20 | G3: KAESER | H3: 38757 | I3: 43000 | J3: 137.74 | K3: 120 | L3: =J3-K3 -> 17.74 | M3: 1643.89 | N3: 90 | O3: 168 | P3: 0 | Q3: 5700 | R3: 27.739082 | T3: =VLOOKUP(E3,'Taux rotation'!$C$5:$E$375,3,FALSE) -> 0.45237918 | U3: =HLOOKUP(B3,'Taux rotation'!$C$4:$T$376,2,FALSE) -> 0.52002762 | V3: =VLOOKUP(E3,'Taux rotation'!$C$5:$E$375,2,FALSE) -> 0.46889894
A4: 0824 | B4: 0824 - LOXAM EPERNAY | C4: 69 - CHAMPAGNE ARDENNE | D4: 01014816 | E4: 0010001COMPRESSEUR2000L/MN7B | F4: M20 | G4: KAESER | H4: 38825 | I4: 43003 | J4: 135.45 | K4: 120 | L4: =J4-K4 -> 15.45 | M4: 1973.63 | N4: 94 | O4: 168 | P4: 0 | Q4: 5700 | R4: 23.005046 | T4: =VLOOKUP(E4,'Taux rotation'!$C$5:$E$375,3,FALSE) -> 0.45237918 | U4: =HLOOKUP(B4,'Taux rotation'!$C$4:$T$376,2,FALSE) -> 0.46428571 | V4: =VLOOKUP(E4,'Taux rotation'!$C$5:$E$375,2,FALSE) -> 0.46889894
A5: 7042 | B5: 0820 - LOXAM REIMS SUD | C5: 69 - CHAMPAGNE ARDENNE | D5: 01014817 | E5: 0010001COMPRESSEUR2000L/MN7B | F5: M20 | G5: KAESER | H5: 38825 | I5: 43006 | J5: 135.45 | K5: 120 | L5: =J5-K5 -> 15.45 | M5: 1495.6 | N5: 69 | O5: 168 | P5: 0 | Q5: 5700 | R5: 30.489436 | T5: =VLOOKUP(E5,'Taux rotation'!$C$5:$E$375,3,FALSE) -> 0.45237918 | U5: =HLOOKUP(B5,'Taux rotation'!$C$4:$T$376,2,FALSE) -> 0.40513834 | V5: =VLOOKUP(E5,'Taux rotation'!$C$5:$E$375,2,FALSE) -> 0.46889894
A6: 7040 | B6: 7040 - LOXAM CHARLEVILLE-M. NORD | C6: 69 - CHAMPAGNE ARDENNE | D6: 01014918 | E6: 0010001COMPRESSEUR2000L/MN7B | F6: M20 | G6: KAESER | H6: 38929 | I6: 42996 | J6: 132.03 | K6: 120 | L6: =J6-K6 -> 12.03 | M6: 1452.95 | N6: 56 | O6: 168 | P6: 0 | Q6: 5700 | R6: 31.219244 | T6: =VLOOKUP(E6,'Taux rotation'!$C$5:$E$375,3,FALSE) -> 0.45237918 | U6: =HLOOKUP(B6,'Taux rotation'!$C$4:$T$376,2,FALSE) -> 0.5447648 | V6: =VLOOKUP(E6,'Taux rotation'!$C$5:$E$375,2,FALSE) -> 0.46889894
A7: 7045 | B7: 7045 - LOXAM SAINT-DIZIER EST | C7: 69 - CHAMPAGNE ARDENNE | D7: 01015144 | E7: 0010001COMPRESSEUR2000L/MN7B | F7: M20 | G7: KAESER | H7: 39185 | I7: 42979 | J7: 123.61 | K7: 120 | L7: =J7-K7 -> 3.61 | M7: 1708.5 | N7: 96 | O7: 168 | P7: 0 | Q7: 5700 | R7: 26.832048 | T7: =VLOOKUP(E7,'Taux rotation'!$C$5:$E$375,3,FALSE) -> 0.45237918 | U7: =HLOOKUP(B7,'Taux rotation'!$C$4:$T$376,2,FALSE) -> 0.49273608 | V7: =VLOOKUP(E7,'Taux rotation'!$C$5:$E$375,2,FALSE) -> 0.46889894
A8: 7045 | B8: 7045 - LOXAM SAINT-DIZIER EST | C8: 69 - CHAMPAGNE ARDENNE | D8: 01015145 | E8: 0010001COMPRESSEUR2000L/MN7B | F8: M20 | G8: KAESER | H8: 39185 | I8: 43005 | J8: 123.61 | K8: 120 | L8: =J8-K8 -> 3.61 | M8: 1255.52 | N8: 56 | O8: 168 | P8: 0 | Q8: 5700 | R8: 36.859681 | T8: =VLOOKUP(E8,'Taux rotation'!$C$5:$E$375,3,FALSE) -> 0.45237918 | U8: =HLOOKUP(B8,'Taux rotation'!$C$4:$T$376,2,FALSE) -> 0.49273608 | V8: =VLOOKUP(E8,'Taux rotation'!$C$5:$E$375,2,FALSE) -> 0.46889894
A9: 0824 | B9: 0824 - LOXAM EPERNAY | C9: 69 - CHAMPAGNE ARDENNE | D9: 01015218 | E9: 0010001COMPRESSEUR2000L/MN7B | F9: M26 | G9: KAESER | H9: 39113 | I9: 42983 | J9: 126.03 | K9: 120 | L9: =J9-K9 -> 6.03 | M9: 1064.5 | N9: 55 | O9: 168 | P9: 0 | Q9: 5700 | R9: 42.525471 | T9: =VLOOKUP(E9,'Taux rotation'!$C$5:$E$375,3,FALSE) -> 0.45237918 | U9: =HLOOKUP(B9,'Taux rotation'!$C$4:$T$376,2,FALSE) -> 0.46428571 | V9: =VLOOKUP(E9,'Taux rotation'!$C$5:$E$375,2,FALSE) -> 0.46889894
A10: 0822 | B10: 0822 - LOXAM VITRY LE FRANCOIS | C10: 69 - CHAMPAGNE ARDENNE | D10: 01015396 | E10: 0010001COMPRESSEUR2000L/MN7B | F10: M20 | G10: KAESER | H10: 39217 | I10: 43003 | J10: 122.55 | K10: 120 | L10: =J10-K10 -> 2.55 | M10: 1076.6 | N10: 68 | O10: 168 | P10: 0 | Q10: 5700 | R10: 42.355564 | T10: =VLOOKUP(E10,'Taux rotation'!$C$5:$E$375,3,FALSE) -> 0.45237918 | U10: =HLOOKUP(B10,'Taux rotation'!$C$4:$T$376,2,FALSE) -> 0.55728689 | V10: =VLOOKUP(E10,'Taux rotation'!$C$5:$E$375,2,FALSE) -> 0.46889894
A11: 7046 | B11: 7046 - LOXAM BAR-LE-DUC | C11: 69 - CHAMPAGNE ARDENNE | D11: 01015573 | E11: 0010001COMPRESSEUR2000L/MN7B | F11: M20 | G11: KAESER | H11: 39468 | I11: 42985 | J11: 114.35 | K11: 120 | L11: =J11-K11 -> -5.65 | M11: 516.45 | N11: 23 | O11: 168 | P11: 0 | Q11: 5700 | R11: 88.295091 | T11: =VLOOKUP(E11,'Taux rotation'!$C$5:$E$375,3,FALSE) -> 0.45237918 | U11: =HLOOKUP(B11,'Taux rotation'!$C$4:$T$376,2,FALSE) -> 0.30232558 | V11: =VLOOKUP(E11,'Taux rotation'!$C$5:$E$375,2,FALSE) -> 0.46889894
A12: 7045 | B12: 7045 - LOXAM SAINT-DIZIER EST | C12: 69 - CHAMPAGNE ARDENNE | D12: 01015574 | E12: 0010001COMPRESSEUR2000L/MN7B | F12: M20 | G12: KAESER | H12: 39468 | I12: 43003 | J12: 114.35 | K12: 120 | L12: =J12-K12 -> -5.65 | M12: 1343.46 | N12: 77 | O12: 168 | P12: 0 | Q12: 5700 | R12: 33.942209 | T12: =VLOOKUP(E12,'Taux rotation'!$C$5:$E$375,3,FALSE) -> 0.45237918 | U12: =HLOOKUP(B12,'Taux rotation'!$C$4:$T$376,2,FALSE) -> 0.49273608 | V12: =VLOOKUP(E12,'Taux rotation'!$C$5:$E$375,2,FALSE) -> 0.46889894
A13: 0821 | B13: 0824 - LOXAM EPERNAY | C13: 69 - CHAMPAGNE ARDENNE | D13: 01015578 | E13: 0010001COMPRESSEUR2000L/MN7B | F13: M20 | G13: KAESER | H13: 39468 | I13: 42982 | J13: 114.35 | K13: 120 | L13: =J13-K13 -> -5.65 | M13: 1101 | N13: 84 | O13: 168 | P13: 0 | Q13: 5700 | R13: 41.186159 | T13: =VLOOKUP(E13,'Taux rotation'!$C$5:$E$375,3,FALSE) -> 0.45237918 | U13: =HLOOKUP(B13,'Taux rotation'!$C$4:$T$376,2,FALSE) -> 0.46428571 | V13: =VLOOKUP(E13,'Taux rotation'!$C$5:$E$375,2,FALSE) -> 0.46889894
A14: 0823 | B14: 0823 - LOXAM CHALONS EN CH. SUD | C14: 69 - CHAMPAGNE ARDENNE | D14: 01015635 | E14: 0010001COMPRESSEUR2000L/MN7B | F14: M20 | G14: KAESER | H14: 39493 | I14: 43000 | J14: 113.55 | K14: 120 | L14: =J14-K14 -> -6.45 | M14: 1167.6 | N14: 78 | O14: 168 | P14: 0 | Q14: 5700 | R14: 39.054471 | T14: =VLOOKUP(E14,'Taux rotation'!$C$5:$E$375,3,FALSE) -> 0.45237918 | U14: =HLOOKUP(B14,'Taux rotation'!$C$4:$T$376,2,FALSE) -> 0.44039409 | V14: =VLOOKUP(E14,'Taux rotation'!$C$5:$E$375,2,FALSE) -> 0.46889894
... A36: 7034 | B36: 7034 - LOXAM CHATEAU-THIERRY | C36: 69 - CHAMPAGNE ARDENNE | D36: 01051208 | E36: 0010005COMPRESSEUR5000L/MN7B | F36: 7/51 | G36: INGERSOLLR | H36: 39227 | I36: 43003 | J36: 122.23 | K36: 120 | L36: =J36-K36 -> 2.23 | M36: 1756.9 | N36: 45 | O36: 168 | P36: 0 | Q36: 11000 | R36: 50.088224 | T36: =VLOOKUP(E36,'Taux rotation'!$C$5:$E$375,3,FALSE) -> 0.51076515 | U36: =HLOOKUP(B36,'Taux rotation'!$C$4:$T$376,2,FALSE) -> 0.40767386 | V36: =VLOOKUP(E36,'Taux rotation'!$C$5:$E$375,2,FALSE) -> 0.53440335
A37: 0735 | B37: 0735 - LOXAM CHAUMONT | C37: 69 - CHAMPAGNE ARDENNE | D37: 01051222 | E37: 0010005COMPRESSEUR5000L/MN7B | F37: 7/51 | G37: INGERSOLLR | H37: 39223 | I37: 42978 | J37: 122.35 | K37: 120 | L37: =J37-K37 -> 2.35 | M37: 3707 | N37: 173 | O37: 168 | P37: 0 | Q37: 11000 | R37: 23.738872 | T37: =VLOOKUP(E37,'Taux rotation'!$C$5:$E$375,3,FALSE) -> 0.51076515 | U37: =IF((VLOOKUP(E37,'Taux rotation'!$C$5:$T$376,3)),(HLOOKUP(B37,'Taux rotation'!$C$4:$T$376,2,FALSE)),"") -> 0.38723404 | V37: =VLOOKUP(E37,'Taux rotation'!$C$5:$E$375,2,FALSE) -> 0.53440335
A38: 7318 | B38: 7318 - LOXAM VERDUN | C38: 69 - CHAMPAGNE ARDENNE | D38: 01051389 | E38: 0010005COMPRESSEUR5000L/MN7B | F38: M50 | G38: KAESER | H38: 39686 | I38: 42986 | J38: 107.19 | K38: 120 | L38: =J38-K38 -> -12.81 | M38: 2393.95 | N38: 58 | O38: 168 | P38: 0 | Q38: 11000 | R38: 36.759331 | T38: =VLOOKUP(E38,'Taux rotation'!$C$5:$E$375,3,FALSE) -> 0.51076515 | U38: =HLOOKUP(B38,'Taux rotation'!$C$4:$T$376,2,FALSE) -> 0.16895874 | V38: =VLOOKUP(E38,'Taux rotation'!$C$5:$E$375,2,FALSE) -> 0.53440335
A39: 0821 | B39: 0821 - LOXAM REIMS NORD | C39: 69 - CHAMPAGNE ARDENNE | D39: 01051424 | E39: 0010005COMPRESSEUR5000L/MN7B | F39: M50 | G39: KAESER | H39: 40022 | I39: 43005 | J39: 110 | K39: 120 | L39: =J39-K39 -> -10 | M39: 1572.75 | N39: 54 | O39: 168 | P39: 0 | Q39: 11000 | R39: 55.952949 | T39: =VLOOKUP(E39,'Taux rotation'!$C$5:$E$375,3,FALSE) -> 0.51076515 | U39: =HLOOKUP(B39,'Taux rotation'!$C$4:$T$376,2,FALSE) -> 0.48025478 | V39: =VLOOKUP(E39,'Taux rotation'!$C$5:$E$375,2,FALSE) -> 0.53440335
A40: 0820 | B40: 0820 - LOXAM REIMS SUD | C40: 69 - CHAMPAGNE ARDENNE | D40: 01051444 | E40: 0010005COMPRESSEUR5000L/MN7B | F40: M50 | G40: KAESER | H40: 40288 | I40: 42993 | J40: 87.39 | K40: 120 | L40: =J40-K40 -> -32.61 | M40: 1427.5 | N40: 34 | O40: 168 | P40: 0 | Q40: 11000 | R40: 61.321781 | T40: =VLOOKUP(E40,'Taux rotation'!$C$5:$E$375,3,FALSE) -> 0.51076515 | U40: =HLOOKUP(B40,'Taux rotation'!$C$4:$T$376,2,FALSE) -> 0.40513834 | V40: =VLOOKUP(E40,'Taux rotation'!$C$5:$E$375,2,FALSE) -> 0.53440335
A41: 0822 | B41: 7045 - LOXAM SAINT-DIZIER EST | C41: 69 - CHAMPAGNE ARDENNE | D41: 01051451 | E41: 0010005COMPRESSEUR5000L/MN7B | F41: XAS87NF | G41: ATLASCOPCO | H41: 40400 | I41: 43005 | J41: 83.71 | K41: 120 | L41: =J41-K41 -> -36.29 | M41: 3162.5 | N41: 92 | O41: 168 | P41: 0 | Q41: 11000 | R41: 27.826087 | T41: =VLOOKUP(E41,'Taux rotation'!$C$5:$E$375,3,FALSE) -> 0.51076515 | U41: =HLOOKUP(B41,'Taux rotation'!$C$4:$T$376,2,FALSE) -> 0.49273608 | V41: =VLOOKUP(E41,'Taux rotation'!$C$5:$E$375,2,FALSE) -> 0.53440335
A42: 0724 | B42: 0727 - LOXAM BESANCON CENTRE | C42: 62 - BOURGOGNE FRANCHE COMTE | D42: 01051466 | E42: 0010005COMPRESSEUR5000L/MN7B | F42: XAS87NF | G42: ATLASCOPCO | H42: 40350 | I42: 42986 | J42: 85.35 | K42: 120 | L42: =J42-K42 -> -34.65 | M42: 1629.75 | N42: 39 | O42: 58 | P42: 0 | Q42: 11000 | R42: 48.933886 | T42: =VLOOKUP(E42,'Taux rotation'!$C$5:$E$375,3,FALSE) -> 0.51076515 | U42: =HLOOKUP(B42,'Taux rotation'!$C$4:$T$376,2,FALSE) -> #N/A | V42: =VLOOKUP(E42,'Taux rotation'!$C$5:$E$375,2,FALSE) -> 0.53440335
A43: 0735 | B43: 0722 - LOXAM DIJON NORD | C43: 62 - BOURGOGNE FRANCHE COMTE | D43: 01051496 | E43: 0010005COMPRESSEUR5000L/MN7B | F43: XAS87NF | G43: ATLASCOPCO | H43: 40350 | I43: 42978 | J43: 85.35 | K43: 120 | L43: =J43-K43 -> -34.65 | M43: 1242 | N43: 92 | O43: 65 | P43: 0 | Q43: 11000 | R43: 54.827084 | T43: =VLOOKUP(E43,'Taux rotation'!$C$5:$E$375,3,FALSE) -> 0.51076515 | U43: =HLOOKUP(B43,'Taux rotation'!$C$4:$T$376,2,FALSE) -> #N/A | V43: =VLOOKUP(E43,'Taux rotation'!$C$5:$E$375,2,FALSE) -> 0.53440335
A44: 7045 | B44: 7045 - LOXAM SAINT-DIZIER EST | C44: 69 - CHAMPAGNE ARDENNE | D44: 01051607 | E44: 0010005COMPRESSEUR5000L/MN7B | F44: XAS97 | G44: ATLASCOPCO | H44: 41061 | I44: 43004 | J44: 110 | K44: 120 | L44: =J44-K44 -> -10 | M44: 1038.33 | N44: 21 | O44: 168 | P44: 0 | Q44: 11000 | R44: 84.386168 | T44: =VLOOKUP(E44,'Taux rotation'!$C$5:$E$375,3,FALSE) -> 0.51076515 | U44: =HLOOKUP(B44,'Taux rotation'!$C$4:$T$376,2,FALSE) -> 0.49273608 | V44: =VLOOKUP(E44,'Taux rotation'!$C$5:$E$375,2,FALSE) -> 0.53440335
A45: 0824 | B45: 0824 - LOXAM EPERNAY | C45: 69 - CHAMPAGNE ARDENNE | D45: 01100224 | E45: 0010010COMPRESSEUR11000L/MN<=10B | F45: M100 | G45: KAESER | H45: 39316 | I45: 42992 | J45: 119.32 | K45: 120 | L45: =J45-K45 -> -0.68 | M45: 3525.65 | N45: 40 | O45: 168 | P45: 0 | Q45: 32000 | R45: 73.108058 | T45: =VLOOKUP(E45,'Taux rotation'!$C$5:$E$375,3,FALSE) -> 0.21212121 | U45: =HLOOKUP(B45,'Taux rotation'!$C$4:$T$376,2,FALSE) -> 0.46428571 | V45: =VLOOKUP(E45,'Taux rotation'!$C$5:$E$375,2,FALSE) -> 0.3703916
A46: 2011 | B46: 2011 - LOXAM MOLSHEIM | C46: 63 - ALSACE | D46: 01100243 | E46: 0010010COMPRESSEUR11000L/MN<=10B | F46: XAS186FR | G46: ATLASCOPCO | H46: 40718 | I46: 43000 | J46: 73.26 | K46: 120 | L46: =J46-K46 -> -46.74 | M46: 272 | N46: 2 | O46: 8 | P46: 0 | Q46: 32000 | R46: 342.24599 | T46: =VLOOKUP(E46,'Taux rotation'!$C$5:$E$375,3,FALSE) -> 0.21212121 | U46: =HLOOKUP(B46,'Taux rotation'!$C$4:$T$376,2,FALSE) -> #N/A | V46: =VLOOKUP(E46,'Taux rotation'!$C$5:$E$375,2,FALSE) -> 0.3703916
A47: 0822 | B47: 0822 - LOXAM VITRY LE FRANCOIS | C47: 69 - CHAMPAGNE ARDENNE | D47: 01110038 | E47: 0010011COMPRESSEUR11000L/MN12B | F47: XAHS186 | G47: ATLASCOPCO | H47: 39513 | I47: 42978 | J47: 112.84 | K47: 120 | L47: =J47-K47 -> -7.16 | M47: 8448.45 | N47: 88 | O47: 163 | P47: 0 | Q47: 37000 | R47: 33.846751 | T47: =VLOOKUP(E47,'Taux rotation'!$C$5:$E$375,3,FALSE) -> 0.28296703 | U47: =HLOOKUP(B47,'Taux rotation'!$C$4:$T$376,2,FALSE) -> 0.55728689 | V47: =VLOOKUP(E47,'Taux rotation'!$C$5:$E$375,2,FALSE) -> 0.34516591
A48: 0737 | B48: 0724 - LOXAM DIJON SUD | C48: 62 - BOURGOGNE FRANCHE COMTE | D48: 01110063 | E48: 0010011COMPRESSEUR11000L/MN12B | F48: XAHS186FR | G48: ATLASCOPCO | H48: 39902 | I48: 42990 | L48: =J48-K48 -> 0 | M48: 2067 | N48: 13 | O48: 19 | P48: 0 | Q48: 37000 | R48: 64.782178 | T48: =VLOOKUP(E48,'Taux rotation'!$C$5:$E$375,3,FALSE) -> 0.28296703 | U48: =HLOOKUP(B48,'Taux rotation'!$C$4:$T$376,2,FALSE) -> #N/A | V48: =VLOOKUP(E48,'Taux rotation'!$C$5:$E$375,2,FALSE) -> 0.34516591
A49: 0821 | B49: 0821 - LOXAM REIMS NORD | C49: 69 - CHAMPAGNE ARDENNE | D49: 01130068 | E49: 0010011COMPRESSEUR11000L/MN12B | F49: M121 | G49: KAESER | H49: 38467 | I49: 42992 | J49: 147.23 | K49: 120 | L49: =J49-K49 -> 27.23 | M49: 350 | N49: 2 | O49: 168 | P49: 0 | Q49: 37000 | R49: 845.71429 | T49: =VLOOKUP(E49,'Taux rotation'!$C$5:$E$375,3,FALSE) -> 0.28296703 | U49: =HLOOKUP(B49,'Taux rotation'!$C$4:$T$376,2,FALSE) -> 0.48025478 | V49: =VLOOKUP(E49,'Taux rotation'!$C$5:$E$375,2,FALSE) -> 0.34516591
A50: 0735 | B50: 0735 - LOXAM CHAUMONT | C50: 69 - CHAMPAGNE ARDENNE | D50: 02050693 | E50: 0020005PIQUEURPNEUMATIQUE5KG | F50: GV5 | G50: ROCKAIR | H50: 39189 | I50: 43006 | J50: 123.48 | K50: 104 | L50: =J50-K50 -> 19.48 | M50: 87.41 | N50: 14 | O50: 168 | P50: 0 | Q50: 220 | R50: 20.134996 | T50: =VLOOKUP(E50,'Taux rotation'!$C$5:$E$375,3,FALSE) -> 0.27201485 | U50: =HLOOKUP(B50,'Taux rotation'!$C$4:$T$376,2,FALSE) -> 0.38723404 | V50: =VLOOKUP(E50,'Taux rotation'!$C$5:$E$375,2,FALSE) -> 0.23993506
A51: 7034 | B51: 7034 - LOXAM CHATEAU-THIERRY | C51: 69 - CHAMPAGNE ARDENNE | D51: 02050825 | E51: 0020005PIQUEURPNEUMATIQUE5KG | F51: GV5 | G51: ROCKAIR | H51: 39289 | I51: 42998 | J51: 120.19 | K51: 104 | L51: =J51-K51 -> 16.19 | M51: 0 | N51: 0 | O51: 168 | P51: 0 | Q51: 220 | R51: 0 | T51: =VLOOKUP(E51,'Taux rotation'!$C$5:$E$375,3,FALSE) -> 0.27201485 | U51: =HLOOKUP(B51,'Taux rotation'!$C$4:$T$376,2,FALSE) -> 0.40767386 | V51: =VLOOKUP(E51,'Taux rotation'!$C$5:$E$375,2,FALSE) -> 0.23993506
A52: 7034 | B52: 7034 - LOXAM CHATEAU-THIERRY | C52: 69 - CHAMPAGNE ARDENNE | D52: 02050982 | E52: 0020005PIQUEURPNEUMATIQUE5KG | F52: SK5S | G52: SULLAIR | H52: 39581 | I52: 42901 | J52: 110.61 | K52: 104 | L52: =J52-K52 -> 6.61 | M52: 58.05 | N52: 11 | O52: 168 | P52: 0 | Q52: 220 | R52: 30.318691 | T52: =VLOOKUP(E52,'Taux rotation'!$C$5:$E$375,3,FALSE) -> 0.27201485 | U52: =HLOOKUP(B52,'Taux rotation'!$C$4:$T$376,2,FALSE) -> 0.40767386 | V52: =VLOOKUP(E52,'Taux rotation'!$C$5:$E$375,2,FALSE) -> 0.23993506
A53: 0821 | B53: 7034 - LOXAM CHATEAU-THIERRY | C53: 69 - CHAMPAGNE ARDENNE | D53: 02050983 | E53: 0020005PIQUEURPNEUMATIQUE5KG | F53: SK5S | G53: SULLAIR | H53: 39581 | I53: 42978 | J53: 110.61 | K53: 104 | L53: =J53-K53 -> 6.61 | M53: 82 | N53: 41 | O53: 168 | P53: 0 | Q53: 220 | R53: 21.279179 | T53: =VLOOKUP(E53,'Taux rotation'!$C$5:$E$375,3,FALSE) -> 0.27201485 | U53: =HLOOKUP(B53,'Taux rotation'!$C$4:$T$376,2,FALSE) -> 0.40767386 | V53: =VLOOKUP(E53,'Taux rotation'!$C$5:$E$375,2,FALSE) -> 0.23993506
A54: 0825 | B54: 7041 - LOXAM SEDAN | C54: 69 - CHAMPAGNE ARDENNE | D54: 02051066 | E54: 0020005PIQUEURPNEUMATIQUE5KG | F54: GV5 | G54: ROCKAIR | H54: 40387 | I54: 42954 | J54: 84.13 | K54: 104 | L54: =J54-K54 -> -19.87 | M54: 42.51 | N54: 6 | O54: 168 | P54: 0 | Q54: 220 | R54: 41.184118 | T54: =VLOOKUP(E54,'Taux rotation'!$C$5:$E$375,3,FALSE) -> 0.27201485 | U54: =HLOOKUP(B54,'Taux rotation'!$C$4:$T$376,2,FALSE) -> 0.49779736 | V54: =VLOOKUP(E54,'Taux rotation'!$C$5:$E$375,2,FALSE) -> 0.23993506
A55: 7040 | B55: 7040 - LOXAM CHARLEVILLE-M. NORD | C55: 69 - CHAMPAGNE ARDENNE | D55: 02051067 | E55: 0020005PIQUEURPNEUMATIQUE5KG | F55: GV5 | G55: ROCKAIR | H55: 40387 | I55: 42831 | J55: 84.13 | K55: 104 | L55: =J55-K55 -> -19.87 | M55: 6.2 | N55: 3 | O55: 168 | P55: 0 | Q55: 220 | R55: 283.87097 | T55: =VLOOKUP(E55,'Taux rotation'!$C$5:$E$375,3,FALSE) -> 0.27201485 | U55: =HLOOKUP(B55,'Taux rotation'!$C$4:$T$376,2,FALSE) -> 0.5447648 | V55: =VLOOKUP(E55,'Taux rotation'!$C$5:$E$375,2,FALSE) -> 0.23993506
A56: 0822 | B56: 0822 - LOXAM VITRY LE FRANCOIS | C56: 69 - CHAMPAGNE ARDENNE | D56: 02051207 | E56: 0020005PIQUEURPNEUMATIQUE5KG | F56: GV5 | G56: ROCKAIR | H56: 40743 | I56: 43004 | J56: 72.42 | K56: 104 | L56: =J56-K56 -> -31.58 | M56: 88.94 | N56: 40 | O56: 168 | P56: 0 | Q56: 220 | R56: 19.788622 | T56: =VLOOKUP(E56,'Taux rotation'!$C$5:$E$375,3,FALSE) -> 0.27201485 | U56: =HLOOKUP(B56,'Taux rotation'!$C$4:$T$376,2,FALSE) -> 0.55728689 | V56: =VLOOKUP(E56,'Taux rotation'!$C$5:$E$375,2,FALSE) -> 0.23993506
A57: 0822 | B57: 0822 - LOXAM VITRY LE FRANCOIS | C57: 69 - CHAMPAGNE ARDENNE | D57: 02051208 | E57: 0020005PIQUEURPNEUMATIQUE5KG | F57: GV5 | G57: ROCKAIR | H57: 40743 | I57: 43006 | J57: 72.42 | K57: 104 | L57: =J57-K57 -> -31.58 | M57: 81.03 | N57: 29 | O57: 168 | P57: 0 | Q57: 220 | R57: 21.72035 | T57: =VLOOKUP(E57,'Taux rotation'!$C$5:$E$375,3,FALSE) -> 0.27201485 | U57: =HLOOKUP(B57,'Taux rotation'!$C$4:$T$376,2,FALSE) -> 0.55728689 | V57: =VLOOKUP(E57,'Taux rotation'!$C$5:$E$375,2,FALSE) -> 0.23993506
A58: 0822 | B58: 0822 - LOXAM VITRY LE FRANCOIS | C58: 69 - CHAMPAGNE ARDENNE | D58: 02051209 | E58: 0020005PIQUEURPNEUMATIQUE5KG | F58: GV5 | G58: ROCKAIR | H58: 40743 | I58: 43004 | J58: 72.42 | K58: 104 | L58: =J58-K58 -> -31.58 | M58: 138.58 | N58: 68 | O58: 168 | P58: 0 | Q58: 220 | R58: 12.700245 | T58: =VLOOKUP(E58,'Taux rotation'!$C$5:$E$375,3,FALSE) -> 0.27201485 | U58: =HLOOKUP(B58,'Taux rotation'!$C$4:$T$376,2,FALSE) -> 0.55728689 | V58: =VLOOKUP(E58,'Taux rotation'!$C$5:$E$375,2,FALSE) -> 0.23993506
A59: 7041 | B59: 7041 - LOXAM SEDAN | C59: 69 - CHAMPAGNE ARDENNE | D59: 02102432 | E59: 0020010PIQUEURPNEUMATIQUE8KG | F59: GAV9 | G59: ROCKAIR | H59: 41061 | I59: 42978 | J59: 110 | K59: 104 | L59: =J59-K59 -> 6 | M59: 180.6 | N59: 90 | O59: 168 | P59: 0 | Q59: 306 | R59: 13.554817 | T59: =VLOOKUP(E59,'Taux rotation'!$C$5:$E$375,3,FALSE) -> 0.15537084 | U59: =HLOOKUP(B59,'Taux rotation'!$C$4:$T$376,2,FALSE) -> 0.49779736 | V59: =VLOOKUP(E59,'Taux rotation'!$C$5:$E$375,2,FALSE) -> 0.22622951
A60: 6901 | B60: 6901 - LOXAM C.O. CHAMPAGNE ARDENNE | C60: 69 - CHAMPAGNE ARDENNE | D60: 02120251 | E60: 0020012PIQUEURELEC.10KG | F60: D25941K | G60: DEWALT | H60: 41061 | I60: 42916 | J60: 74 | K60: 78 | L60: =J60-K60 -> -4 | M60: 0 | N60: 0 | O60: 168 | P60: 0 | Q60: 714 | R60: 0 | T60: =VLOOKUP(E60,'Taux rotation'!$C$5:$E$375,3,FALSE) -> 0.014827995 | U60: =HLOOKUP(B60,'Taux rotation'!$C$4:$T$376,2,FALSE) -> #N/A | V60: =VLOOKUP(E60,'Taux rotation'!$C$5:$E$375,2,FALSE) -> 0.09692441
... A65: 7042 | B65: 7042 - LOXAM REIMS OUEST | C65: 69 - CHAMPAGNE ARDENNE | D65: 02153775 | E65: 0020015PIQUEURPNEUMATIQUE13KG | F65: P43 | G65: SULLAIR | H65: 39234 | I65: 42901 | J65: 122 | K65: 104 | L65: =J65-K65 -> 18 | M65: 182.04 | N65: 34 | O65: 168 | P65: 0 | Q65: 380 | R65: 16.845475 | T65: =VLOOKUP(E65,'Taux rotation'!$C$5:$E$375,3,FALSE) -> 0.12924633 | U65: =HLOOKUP(B65,'Taux rotation'!$C$4:$T$376,2,FALSE) -> 0.47031963 | V65: =VLOOKUP(E65,'Taux rotation'!$C$5:$E$375,2,FALSE) -> 0.20635903
...

Sheet Taux rotation
A2: 69 - CHAMPAGNE ARDENNE
B4: Gamme | C4: RotationparAgence | D4: Réf. LOXAM | E4: Réf. Région | F4: 0735 - LOXAM CHAUMONT | G4: 0820 - LOXAM REIMS SUD | H4: 0821 - LOXAM REIMS NORD | I4: 0822 - LOXAM VITRY LE FRANCOIS | J4: 0823 - LOXAM CHALONS EN CH. SUD | K4: 0824 - LOXAM EPERNAY | L4: 0825 - LOXAM CHARLEVILLE-M. CENTRE | M4: 7034 - LOXAM CHATEAU-THIERRY | N4: 7040 - LOXAM CHARLEVILLE-M. NORD | O4: 7041 - LOXAM SEDAN | P4: 7042 - LOXAM REIMS OUEST | Q4: 7045 - LOXAM SAINT-DIZIER EST | R4: 7046 - LOXAM BAR-LE-DUC | S4: 7318 - LOXAM VERDUN | T4: 7352 - LOXAM LANGRES
B5: COMPRESSEURS | C5: 0010001COMPRESSEUR2000L/MN7B | D5: 0.46889894 | E5: 0.45237918 | F5: 0.38723404 | G5: 0.40513834 | H5: 0.48025478 | I5: 0.55728689 | J5: 0.44039409 | K5: 0.46428571 | L5: 0.52002762 | M5: 0.40767386 | N5: 0.5447648 | O5: 0.49779736 | P5: 0.47031963 | Q5: 0.49273608 | R5: 0.30232558 | S5: 0.16895874 | T5: 0.26642336
B6: COMPRESSEURS | C6: 0010003COMPRESSEUR3000L/MN7B | D6: 0.47287276 | E6: 0.36755647 | F6: 0.63636364 | M6: 0.11333333 | P6: 0.79761905 | T6: 0.13636364
B7: COMPRESSEURS | C7: 0010005COMPRESSEUR5000L/MN7B | D7: 0.53440335 | E7: 0.51076515 | F7: 0.78618421 | G7: 0.21978022 | H7: 0.45762712 | I7: 0.37640449 | J7: 0.69957082 | K7: 0.29268293 | L7: 0.57668712 | M7: 0.18125 | N7: 0.68539326 | P7: 0.58198614 | Q7: 0.15537849 | S7: 0.3372093 | T7: 0.80232558
B8: COMPRESSEURS | C8: 0010010COMPRESSEUR11000L/MN<=10B | D8: 0.3703916 | E8: 0.21212121 | F8: 0.33333333 | J8: 0.52941176 | K8: 0.13286713 | P8: 0.45454545
B9: COMPRESSEURS | C9: 0010011COMPRESSEUR11000L/MN12B | D9: 0.34516591 | E9: 0.28296703 | F9: 0.69230769 | H9: 0.011904762 | I9: 0.48611111 | K9: 0 | P9: 0.42857143 | Q9: 1
B10: DIVERS RENTAL | C10: 0020005PIQUEURPNEUMATIQUE5KG | D10: 0.23993506 | E10: 0.27201485 | F10: 0.083333333 | G10: 0.34926471 | H10: 0.68119266 | I10: 0.2718254 | J10: 0.06547619 | K10: 0.22352941 | L10: 0.63080685 | M10: 0.024336283 | N10: 0.017857143 | O10: 0.0094161959 | P10: 0.61165049 | Q10: 0.58928571 | R10: 0.18154762 | S10: 0.37869822 | T10: 0.020833333
B11: DIVERS RENTAL | C11: 0020010PIQUEURPNEUMATIQUE8KG | D11: 0.22622951 | E11: 0.15537084 | G11: 0.069767442 | H11: 0.060240964 | L11: 0.005952381 | N11: 0.14090909 | O11: 0.53571429 | P11: 0.077380952 | S11: 0.22619048
B12: PETITS MATERIELS | C12: 0020012PIQUEURELEC.10KG | D12: 0.09692441 | E12: 0.014827995 | J12: 0.005952381 | P12: 0 | Q12: 0.021825397 | R12: 0.017857143 | S12: 0.013020833 | T12: 0.014880952
B13: DIVERS RENTAL | C13: 0020015PIQUEURPNEUMATIQUE13KG | D13: 0.20635903 | E13: 0.12924633 | F13: 0.097142857 | G13: 0.28235294 | H13: 0.11671088 | I13: 0.095100865 | J13: 0.063492063 | K13: 0.13180272 | L13: 0.35714286 | M13: 0.038690476 | N13: 0.24328859 | O13: 0.18064516 | P13: 0.054607509 | Q13: 0.024896266 | R13: 0.32352941 | S13: 0.089285714 | T13: 0.099378882
B14: PETITS MATERIELS | C14: 0020016MARTEAUDEMOLISSEURELEC.15KG | D14: 0.2176638 | E14: 0.12084257 | F14: 0.083538084 | G14: 0.12280702 | H14: 0.11309524 | I14: 0.029411765 | J14: 0.14583333 | K14: 0.47619048 | L14: 0.047619048 | M14: 0.10588235 | N14: 0.047619048 | O14: 0.19905213 | P14: 0.036036036 | Q14: 0.12797619 | R14: 0.11904762 | S14: 0.11309524 | T14: 0.18604651
B15: DIVERS RENTAL | C15: 0020020BRISEBETONPNEUMATIQUE=<25KG | D15: 0.27766388 | E15: 0.24620317 | F15: 0.055023923 | G15: 0.30047443 | H15: 0.41502553 | I15: 0.45429864 | J15: 0.21303842 | K15: 0.14571607 | L15: 0.32424242 | M15: 0.13409962 | N15: 0.286 | O15: 0.35578748 | P15: 0.29596774 | Q15: 0.19673203 | R15: 0.12258065 | S15: 0.074860335 | T15: 0.043478261
B16: PETITS MATERIELS | C16: 0020026BRISEBETONELEC.20KG | D16: 0.20607428 | E16: 0.17285453 | F16: 0.094147583 | G16: 0.17670683 | H16: 0.1261498 | I16: 0.052256532 | J16: 0.077720207 | K16: 0.38267148 | L16: 0.27120669 | M16: 0.33333333 | N16: 0.19700214 | O16: 0.21757322 | P16: 0.082236842 | Q16: 0.03125 | R16: 0.068452381 | S16: 0.095588235 | T16: 0.27678571
B17: DIVERS RENTAL | C17: 0020030BRISEBETONPNEUMATIQUE30KG | D17: 0.19192595 | E17: 0.070786517 | H17: 0 | J17: 0.03968254 | K17: 0.17050691 | L17: 0.035714286
B18: DIVERS RENTAL | C18: 0020035PIOCHEAAIR | D18: 0.24996002 | E18: 0 | J18: 0
B19: DIVERS RENTAL | C19: 0020062BRISEBETONESSENCE23KG | D19: 0.41545989 | E19: 0.32443258 | F19: 0.51108214 | H19: 0.29761905 | I19: 0.56103896 | J19: 0.15142857 | K19: 0.36686391 | L19: 0.0089285714 | N19: 0.071428571 | O19: 0.35714286 | Q19: 0.16071429 | T19: 0.30599369
B20: PETITS MATERIELS | C20: 0030001PERFO.SANSFIL3KG | D20: 0.1165409 | E20: 0.17518248 | L20: 0.25912409 | N20: 0 | P20: 0.020833333 | S20: 0.26785714
B21: PETITS MATERIELS | C21: 0030002PERFO.BURINEURELEC.2.5KG | D21: 0.18383864 | E21: 0.12781298 | F21: 0.023809524 | G21: 0.45481928 | H21: 0.043343653 | I21: 0.88690476 | K21: 0.26923077 | L21: 0.076335878 | M21: 0 | N21: 0.0625 | O21: 0.17559524 | P21: 0.051948052 | Q21: 0.10690423 | R21: 0.0051679587 | S21: 0.066079295 | T21: 0.022653722
B22: PETITS MATERIELS | C22: 0030003PERFO.BURINEURSANSFIL5KG | D22: 0.16585817 | E22: 0.23226198 | F22: 0.028056112 | G22: 0.78571429 | H22: 0.32588454 | I22: 0.79761905 | J22: 0.023809524 | K22: 0.58721934 | L22: 0.33150183 | M22: 0.10714286 | N22: 0.18860511 | O22: 0.16608997 | P22: 0.11570248 | Q22: 0.06547619 | R22: 0.041666667 | S22: 0.11904762 | T22: 0.14450867
B23: PETITS MATERIELS | C23: 0030004PERFO.BURINEURELEC.6KG | D23: 0.20918178 | E23: 0.19034687 | F23: 0.13573883 | G23: 0.16322702 | H23: 0.16981132 | I23: 0.30392157 | J23: 0.085872576 | K23: 0.62765957 | L23: 0.20810056 | M23: 0.20034542 | N23: 0.27375566 | O23: 0.25595238 | P23: 0.30952381 | Q23: 0.053075995 | R23: 0.14285714 | S23: 0.41697417 | T23: 0.125
B24: DIVERS RENTAL | C24: 0030005PERFORATEURPNEUMATIQUE5KG | D24: 0.045930509 | E24: 0.10119048 | G24: 0.1 | H24: 0.1025641 | P24: 0
B25: PETITS MATERIELS | C25: 0030025PERFO.PIQUEURELEC.10KG | D25: 0.23486736 | E25: 0.26534653 | F25: 0.055469954 | G25: 0.25547445 | H25: 0.1547619 | I25: 0.50720461 | J25: 0.28205128 | K25: 0.5458232 | L25: 0.07875895 | M25: 0.36238532 | N25: 0.080357143 | O25: 0.30434783 | P25: 0.24420677 | Q25: 0.18864097 | R25: 0.061507937 | S25: 0.20750988 | T25: 0.42411348
B26: DIVERS RENTAL | C26: 0050052FUSEEDEFONCAGED>100 | D26: 0.1547619 | E26: 0 | F26: 0
B27: PETITS MATERIELS | C27: 0050060CAROTTEUSE230VDIAM250MM | D27: 0.16564559 | E27: 0.15993884 | F27: 0.12863071 | G27: 0.42105263 | H27: 0.026315789 | I27: 0.1 | K27: 0.44711538 | L27: 0.063444109 | M27: 0.062176166 | N27: 0.15181518 | O27: 0.37198068 | P27: 0.097087379 | Q27: 0.18266979 | R27: 0.10909091 | S27: 0.059171598 | T27: 0.16071429
B28: PETITS MATERIELS | C28: 0050064CAROTTEUSE230VDIAM>300MM | D28: 0.12594534 | E28: 0.131324 | F28: 0.011235955 | G28: 0.33846154 | H28: 0.5 | I28: 0.25 | J28: 0.23134328 | K28: 0.35714286 | L28: 0.15686275 | M28: 0.032258065 | O28: 0.13333333 | P28: 0.12301587 | S28: 0.011904762
B29: DIVERS RENTAL | C29: 0050066CAROTTEUSETHERM.P/TRANCHEE | D29: 0.14907946 | E29: 0.14661355 | F29: 0.2244898 | G29: 0.19261214 | H29: 0.11678832 | I29: 0.055793991 | J29: 0 | K29: 0.40909091 | L29: 0.02484472 | N29: 0 | P29: 0.24924925 | Q29: 0.20183486 | R29: 0.032258065 | S29: 0.14285714 | T29: 0.15948276
B30: PETITS MATERIELS | C30: 0050069FOREUSEPORTABLE230V | D30: 0.12903261 | E30: 0.13689482 | F30: 0.14521452 | G30: 0.11956522 | H30: 0.30769231 | I30: 0.075144509 | J30: 0.1547619 | K30: 0.092307692 | L30: 0.12582781 | M30: 0.017857143 | N30: 0.25766871 | O30: 0.12152778 | P30: 0.11869436 | Q30: 0.036363636 | R30: 0.06122449 | S30: 0.30750605 | T30: 0.046979866
B31: PETITS MATERIELS | C31: 0050079POMPEAVIDEPOURCAROTTEUSE | D31: 0.018378244 | E31: 0.0029761905 | J31: 0 | L31: 0.011904762 | P31: 0 | S31: 0
B32: PETITS MATERIELS | C32: 0060001SABLEUSE50LEQUIPEE | D32: 0.11193448 | E32: 0.1487581 | F32: 0.095808383 | G32: 0.23756906 | H32: 0.093167702 | I32: 0.046242775 | J32: 0.044025157 | K32: 0.14705882 | L32: 0.12921348 | M32: 0.11904762 | N32: 0.23162584 | O32: 0.055172414 | P32: 0.2955665 | Q32: 0.038076152 | R32: 0.041666667 | S32: 0.11764706 | T32: 0.53409091
B33: PETITS MATERIELS | C33: 0060010HYDROGOMMEUSE | D33: 0.10409712 | E33: 0.2073085 | F33: 0.44565217 | H33: 0.097345133 | I33: 0.03125 | J33: 0.12182741 | K33: 0.36363636 | N33: 0.053571429 | P33: 0.61818182 | Q33: 0.0082644628 | S33: 0.017647059
B34: PETITS MATERIELS | C34: 0100014BETONNIEREELEC.DEMONTABLE | D34: 0.24335615 | E34: 0.17631784 | F34: 0.035714286 | G34: 0.22087379 | H34: 0.14792899 | J34: 0.083333333 | K34: 0.52140673 | L34: 0.15192308 | M34: 0.18932039 | P34: 0.0044642857 | S34: 0.088235294 | T34: 0.035714286
B35: PETITS MATERIELS | C35: 0100016BETONNIEREELECTRIQUE<300L | D35: 0.22951823 | E35: 0.043650794 | L35: 0.11976048 | N35: 0 | R35: 0.005952381
B36: PETITS MATERIELS | C36: 0100031BETONNIERETHERM.>300L | D36: 0.22172888 | E36: 0.20561331 | F36: 0.14371257 | G36: 0.45238095 | H36: 0.084337349 | I36: 0.15133531 | J36: 0.12121212 | K36: 0.34183673 | L36: 0.12277228 | M36: 0.21495327 | N36: 0.16257669 | O36: 0.26934097 | P36: 0.53965184 | Q36: 0.027667984 | R36: 0.020833333 | S36: 0.38095238 | T36: 0.13068182
B37: PETITS MATERIELS | C37: 0100036BETONNIEREELECTRIQUE>300L | D37: 0.22857143 | E37: 0.052631579 | K37: 0.052631579
B38: ESPACES VERTS | C38: 0110030TRANSPORTEUR/CHEN.=<1500KG | D38: 0.2127625 | E38: 0.28450555 | F38: 0.26627219 | G38: 0.43666667 | H38: 0.875 | I38: 0 | J38: 0.06122449 | K38: 0.28695652 | M38: 0.35779817 | N38: 0.38405797 | O38: 0.5 | Q38: 0.2 | R38: 0.1031746 | S38: 0.090277778 | T38: 0.11041009
B39: DUMPERS | C39: 0110034TRANSPORTEUR/CHEN.2500KG | D39: 0.22711864 | E39: 0.86206897 | T39: 0.86206897
B40: ESPACES VERTS | C40: 0110061DUMPERHYDROSKIPCU1T | D40: 0.34064962 | E40: 0.35841232 | F40: 0.28846154 | G40: 0.58035714 | I40: 0.30172414 | J40: 0.64021164 | K40: 0.43558282 | L40: 0.71428571 | M40: 0.29861111 | N40: 0.16541353 | O40: 0.36111111 | P40: 0.23076923 | Q40: 0.51923077 | R40: 0.30357143 | S40: 0.08 | T40: 0.11851852
B41: DUMPERS | C41: 0110070DUMPERGIRAB.CU1T/600L | D41: 0.42496389 | E41: 0.48858447 | F41: 0.47682119 | G41: 0.49171271 | H41: 0.12820513 | I41: 0.30630631 | J41: 0.8622449 | K41: 0.45631068 | M41: 0.5 | P41: 0.52564103 | Q41: 0.45454545 | R41: 0.3 | S41: 0.029411765 | T41: 0.5
B42: DUMPERS | C42: 0110071DUMPERGIRAB.CU2T/1200L | D42: 0.51804671 | E42: 0.46551724 | F42: 0.25 | L42: 0.76470588 | O42: 0.4379085
...
