Workbook

Sheet Compilation total
A8: Ficher de compilation
A9: Paniers année 2017
E10: Vente ($) | G10: Nb produits vendus
A11: Panier du 29 juin | C11: Semaine | D11: 1 | E11: ='Semaine 1'!K5 -> 0 | G11: ='Semaine 1'!K6 -> 29
A12: Panier du 13 juillet | C12: Semaine | D12: 2 | E12: ='Semaine 2'!K27 -> 0
A13: Panier du 20 juillet | C13: Semaine | D13: 3 | E13: ='Semaine 3'!K27 -> 0
A14: Panier du 27 juillet | C14: Semaine | D14: 4 | E14: ='Semaine 4'!K27 -> 0
A15: Panier du 3 août | C15: Semaine | D15: 5 | E15: ='Semaine 5'!K27 -> 0
A16: Panier du 10 août | C16: Semaine | D16: 6 | E16: ='Semaine 6'!K27 -> 0
A17: Panier du 17 août | C17: Semaine | D17: 7 | E17: ='Semaine 7'!K27 -> 0
A18: Panier du 24 août | C18: Semaine | D18: 8 | E18: ='Semaine 8'!K27 -> 0
A19: Panier du 3 septembre | C19: Semaine | D19: 9 | E19: ='Semaine 9'!K27 -> 0
A20: Panier du 10 septembre | C20: Semaine | D20: 10 | E20: ='Semaine 10'!K27 -> 0
A21: Panier du 17 septembre | C21: Semaine | D21: 11 | E21: ='Semaine 11'!K27 -> 0
A22: Panier du 24 septembre | C22: Semaine | D22: 12 | E22: ='Semaine 12'!K27 -> 0
A23: Panier du 1 octobre | C23: Semaine | D23: 13 | E23: ='Semaine 13'!K27 -> 0
C25: Grands totaux: | E25: =SUM(E11:E24) -> 0 | F25: $ | G25: =SUM(G11:G24) -> 29

Sheet Produits
A1: Codes de produit (sku) | B1: Produits | C1: Catégories | D1: Prix | F1: Semaine 1 | G1: QT Sup | H1: S1 S-total | I1: Semaine 2 | J1: QT Sup | K1: S2 Sous-total | L1: Semaine 3 | M1: S3 Sous-total | N1: Semaine 4 | O1: S4 Sous-total | P1: Semaine 5 | Q1: S5 Sous-total | R1: Semaine 6 | S1: S6 Sous-total | T1: Semaine 7 | U1: S7 Sous-total | V1: Semaine 8 | W1: S8 Sous-total | X1: Semaine 9 | Y1: S9 Sous-total | Z1: Semaine 10 | AA1: S10 Sous-total | AB1: Semaine 11 | AC1: S11 Sous-total | AD1: Semaine 12 | AE1: S12 Sous-total | AF1: Semaine 13 | AG1: S13 Sous-total
A2: 0 | B2: Framboises 500 ml | C2: Fruits | D2: 2.5 | F2: =COUNTIF('Semaine 1'!C2:C55, 0) -> 0 | H2: =F2*D2+G2 -> 0 | I2: =COUNTIF('Semaine 2'!F2:F55, 0) -> 0 | K2: =D2*I2+J2 -> 0 | M2: =D2*L2 -> 0 | O2: =D2*N2 -> 0 | Q2: =D2*P2 -> 0 | S2: =D2*R2 -> 0 | U2: =T2*D2 -> 0 | W2: =V2*D2 -> 0 | Y2: =X2*D2 -> 0 | AA2: =Z2*D2 -> 0 | AC2: =AB2*D2 -> 0 | AE2: =AD2*D2 -> 0 | AG2: =AF2*D2 -> 0
A3: 1 | B3: Framboises jaunes 500 ml | C3: Fruits | D3: 2.5 | F3: =COUNTIF('Semaine 1'!C2:C55,1) -> 0 | H3: =F3*D3+G3 -> 0 | I3: =COUNTIF('Semaine 2'!F2:F55,1) -> 37 | K3: =D3*I3+J3 -> 92.5 | M3: =D3*L3 -> 0 | O3: =D3*N3 -> 0 | Q3: =D3*P3 -> 0 | S3: =D3*R3 -> 0 | U3: =T3*D3 -> 0 | W3: =V3*D3 -> 0 | Y3: =X3*D3 -> 0 | AA3: =Z3*D3 -> 0 | AC3: =AB3*D3 -> 0 | AE3: =AD3*D3 -> 0 | AG3: =AF3*D3 -> 0
A4: 2 | B4: Framboises 2 L | C4: Fruits | D4: 8 | F4: =COUNTIF('Semaine 1'!C2:C55, 2) -> 0 | H4: =F4*D4+G4 -> 0 | I4: =COUNTIF('Semaine 2'!F2:F55, 2) -> 9 | K4: =D4*I4+J4 -> 72 | M4: =D4*L4 -> 0 | O4: =D4*N4 -> 0 | Q4: =D4*P4 -> 0 | S4: =D4*R4 -> 0 | U4: =T4*D4 -> 0 | W4: =V4*D4 -> 0 | Y4: =X4*D4 -> 0 | AA4: =Z4*D4 -> 0 | AC4: =AB4*D4 -> 0 | AE4: =AD4*D4 -> 0 | AG4: =AF4*D4 -> 0
A5: 3 | B5: Framboises 6 L | C5: Fruits | D5: 21 | F5: =COUNTIF('Semaine 1'!C2:C55, 3) -> 0 | H5: =F5*D5+G5 -> 0 | I5: =COUNTIF('Semaine 2'!F3:F56, 2) -> 8 | K5: =D5*I5+J5 -> 168 | M5: =D5*L5 -> 0 | O5: =D5*N5 -> 0 | Q5: =D5*P5 -> 0 | S5: =D5*R5 -> 0 | U5: =T5*D5 -> 0 | W5: =V5*D5 -> 0 | Y5: =X5*D5 -> 0 | AA5: =Z5*D5 -> 0 | AC5: =AB5*D5 -> 0 | AE5: =AD5*D5 -> 0 | AG5: =AF5*D5 -> 0
A6: 4 | B6: Rhubarbe | C6: Fruits | D6: 2.5 | F6: =COUNTIF('Semaine 1'!C2:C55, 4) -> 3 | G6: 5 | H6: =F6*D6+G6 -> 12.5 | I6: =COUNTIF('Semaine 2'!F4:F57, 2) -> 7 | K6: =D6*I6+J6 -> 17.5 | M6: =D6*L6 -> 0 | O6: =D6*N6 -> 0 | Q6: =D6*P6 -> 0 | S6: =D6*R6 -> 0 | U6: =T6*D6 -> 0 | W6: =V6*D6 -> 0 | Y6: =X6*D6 -> 0 | AA6: =Z6*D6 -> 0 | AC6: =AB6*D6 -> 0 | AE6: =AD6*D6 -> 0 | AG6: =AF6*D6 -> 0
A7: 5 | B7: Ail (gros bulbe) | C7: LÃ©gumes / Ail | D7: 1 | F7: =COUNTIF('Semaine 1'!C2:C55, 5) -> 0 | H7: =F7*D7+G7 -> 0 | I7: =COUNTIF('Semaine 2'!F5:F58, 2) -> 7 | K7: =D7*I7+J7 -> 7 | M7: =D7*L7 -> 0 | O7: =D7*N7 -> 0 | Q7: =D7*P7 -> 0 | S7: =D7*R7 -> 0 | U7: =T7*D7 -> 0 | W7: =V7*D7 -> 0 | Y7: =X7*D7 -> 0 | AA7: =Z7*D7 -> 0 | AC7: =AB7*D7 -> 0 | AE7: =AD7*D7 -> 0 | AG7: =AF7*D7 -> 0
A8: 6 | B8: Ail (petit bulbe) | C8: LÃ©gumes / Ail | D8: 0.5 | F8: =COUNTIF('Semaine 1'!C2:C55, 6) -> 0 | H8: =F8*D8+G8 -> 0 | I8: =COUNTIF('Semaine 2'!F6:F59, 2) -> 7 | K8: =D8*I8+J8 -> 3.5 | M8: =D8*L8 -> 0 | O8: =D8*N8 -> 0 | Q8: =D8*P8 -> 0 | S8: =D8*R8 -> 0 | U8: =T8*D8 -> 0 | W8: =V8*D8 -> 0 | Y8: =X8*D8 -> 0 | AA8: =Z8*D8 -> 0 | AC8: =AB8*D8 -> 0 | AE8: =AD8*D8 -> 0 | AG8: =AF8*D8 -> 0
A9: 7 | B9: Ail (gros bulbe) paquet de 12 | C9: LÃ©gumes / Ail | D9: 10 | F9: =COUNTIF('Semaine 1'!C2:C55, 7) -> 0 | H9: =F9*D9+G9 -> 0 | I9: =COUNTIF('Semaine 2'!F7:F60, 2) -> 7 | K9: =D9*I9+J9 -> 70 | M9: =D9*L9 -> 0 | O9: =D9*N9 -> 0 | Q9: =D9*P9 -> 0 | S9: =D9*R9 -> 0 | U9: =T9*D9 -> 0 | W9: =V9*D9 -> 0 | Y9: =X9*D9 -> 0 | AA9: =Z9*D9 -> 0 | AC9: =AB9*D9 -> 0 | AE9: =AD9*D9 -> 0 | AG9: =AF9*D9 -> 0
A10: 8 | B10: Origan jaune | C10: Herbes | D10: 0.5 | F10: =COUNTIF('Semaine 1'!C2:C55, 8) -> 0 | H10: =F10*D10+G10 -> 0 | I10: =COUNTIF('Semaine 2'!F8:F61, 2) -> 7 | K10: =D10*I10+J10 -> 3.5 | M10: =D10*L10 -> 0 | O10: =D10*N10 -> 0 | Q10: =D10*P10 -> 0 | S10: =D10*R10 -> 0 | U10: =T10*D10 -> 0 | W10: =V10*D10 -> 0 | Y10: =X10*D10 -> 0 | AA10: =Z10*D10 -> 0 | AC10: =AB10*D10 -> 0 | AE10: =AD10*D10 -> 0 | AG10: =AF10*D10 -> 0
A11: 9 | B11: Estragon russe | C11: Herbes | D11: 0.5 | F11: =COUNTIF('Semaine 1'!C2:C55, 9) -> 0 | H11: =F11*D11+G11 -> 0 | I11: =COUNTIF('Semaine 2'!F9:F62, 2) -> 7 | K11: =D11*I11+J11 -> 3.5 | M11: =D11*L11 -> 0 | O11: =D11*N11 -> 0 | Q11: =D11*P11 -> 0 | S11: =D11*R11 -> 0 | U11: =T11*D11 -> 0 | W11: =V11*D11 -> 0 | Y11: =X11*D11 -> 0 | AA11: =Z11*D11 -> 0 | AC11: =AB11*D11 -> 0 | AE11: =AD11*D11 -> 0 | AG11: =AF11*D11 -> 0
A12: 10 | B12: LivÃ¨che | C12: Herbes | D12: 0.5 | F12: =COUNTIF('Semaine 1'!C2:C55, 10) -> 0 | H12: =F12*D12+G12 -> 0 | I12: =COUNTIF('Semaine 2'!F10:F63, 2) -> 7 | K12: =D12*I12+J12 -> 3.5 | M12: =D12*L12 -> 0 | O12: =D12*N12 -> 0 | Q12: =D12*P12 -> 0 | S12: =D12*R12 -> 0 | U12: =T12*D12 -> 0 | W12: =V12*D12 -> 0 | Y12: =X12*D12 -> 0 | AA12: =Z12*D12 -> 0 | AC12: =AB12*D12 -> 0 | AE12: =AD12*D12 -> 0 | AG12: =AF12*D12 -> 0
A13: 11 | B13: Sariette | C13: Herbes | D13: 0.5 | F13: =COUNTIF('Semaine 1'!C2:C55, 11) -> 0 | H13: =F13*D13+G13 -> 0 | I13: =COUNTIF('Semaine 2'!F11:F64, 2) -> 6 | K13: =D13*I13+J13 -> 3 | M13: =D13*L13 -> 0 | O13: =D13*N13 -> 0 | Q13: =D13*P13 -> 0 | S13: =D13*R13 -> 0 | U13: =T13*D13 -> 0 | W13: =V13*D13 -> 0 | Y13: =X13*D13 -> 0 | AA13: =Z13*D13 -> 0 | AC13: =AB13*D13 -> 0 | AE13: =AD13*D13 -> 0 | AG13: =AF13*D13 -> 0
A14: 12 | B14: Bouquet de Ciboulette | C14: Herbes | D14: 0.5 | F14: =COUNTIF('Semaine 1'!C2:C55, 12) -> 2 | H14: =F14*D14+G14 -> 1 | I14: =COUNTIF('Semaine 2'!F12:F65, 2) -> 6 | K14: =D14*I14+J14 -> 3 | M14: =D14*L14 -> 0 | O14: =D14*N14 -> 0 | Q14: =D14*P14 -> 0 | S14: =D14*R14 -> 0 | U14: =T14*D14 -> 0 | W14: =V14*D14 -> 0 | Y14: =X14*D14 -> 0 | AA14: =Z14*D14 -> 0 | AC14: =AB14*D14 -> 0 | AE14: =AD14*D14 -> 0 | AG14: =AF14*D14 -> 0
A15: 13 | B15: Aneth | C15: Herbes | D15: 0.5 | F15: =COUNTIF('Semaine 1'!C2:C55, 13) -> 0 | H15: =F15*D15+G15 -> 0 | I15: =COUNTIF('Semaine 2'!F13:F66, 2) -> 6 | K15: =D15*I15+J15 -> 3 | M15: =D15*L15 -> 0 | O15: =D15*N15 -> 0 | Q15: =D15*P15 -> 0 | S15: =D15*R15 -> 0 | U15: =T15*D15 -> 0 | W15: =V15*D15 -> 0 | Y15: =X15*D15 -> 0 | AA15: =Z15*D15 -> 0 | AC15: =AB15*D15 -> 0 | AE15: =AD15*D15 -> 0 | AG15: =AF15*D15 -> 0
A16: 14 | B16: Menthe | C16: Herbes | D16: 0.5 | F16: =COUNTIF('Semaine 1'!C2:C55, 14) -> 1 | H16: =F16*D16+G16 -> 0.5 | I16: =COUNTIF('Semaine 2'!F14:F67, 2) -> 6 | K16: =D16*I16+J16 -> 3 | M16: =D16*L16 -> 0 | O16: =D16*N16 -> 0 | Q16: =D16*P16 -> 0 | S16: =D16*R16 -> 0 | U16: =T16*D16 -> 0 | W16: =V16*D16 -> 0 | Y16: =X16*D16 -> 0 | AA16: =Z16*D16 -> 0 | AC16: =AB16*D16 -> 0 | AE16: =AD16*D16 -> 0 | AG16: =AF16*D16 -> 0
A17: 15 | B17: Persil | C17: Herbes | D17: 0.5 | F17: =COUNTIF('Semaine 1'!C2:C55, 15) -> 2 | H17: =F17*D17+G17 -> 1 | I17: =COUNTIF('Semaine 2'!F15:F68, 2) -> 6 | K17: =D17*I17+J17 -> 3 | M17: =D17*L17 -> 0 | O17: =D17*N17 -> 0 | Q17: =D17*P17 -> 0 | S17: =D17*R17 -> 0 | U17: =T17*D17 -> 0 | W17: =V17*D17 -> 0 | Y17: =X17*D17 -> 0 | AA17: =Z17*D17 -> 0 | AC17: =AB17*D17 -> 0 | AE17: =AD17*D17 -> 0 | AG17: =AF17*D17 -> 0
A18: 16 | B18: Sauge | C18: Herbes | D18: 0.5 | F18: =COUNTIF('Semaine 1'!C2:C55, 16) -> 0 | H18: =F18*D18+G18 -> 0 | I18: =COUNTIF('Semaine 2'!F16:F69, 2) -> 6 | K18: =D18*I18+J18 -> 3 | M18: =D18*L18 -> 0 | O18: =D18*N18 -> 0 | Q18: =D18*P18 -> 0 | S18: =D18*R18 -> 0 | U18: =T18*D18 -> 0 | W18: =V18*D18 -> 0 | Y18: =X18*D18 -> 0 | AA18: =Z18*D18 -> 0 | AC18: =AB18*D18 -> 0 | AE18: =AD18*D18 -> 0 | AG18: =AF18*D18 -> 0
A19: 17 | B19: Thym | C19: Herbes | D19: 0.5 | F19: =COUNTIF('Semaine 1'!C2:C55, 17) -> 1 | H19: =F19*D19+G19 -> 0.5 | I19: =COUNTIF('Semaine 2'!F17:F70, 2) -> 6 | K19: =D19*I19+J19 -> 3 | M19: =D19*L19 -> 0 | O19: =D19*N19 -> 0 | Q19: =D19*P19 -> 0 | S19: =D19*R19 -> 0 | U19: =T19*D19 -> 0 | W19: =V19*D19 -> 0 | Y19: =X19*D19 -> 0 | AA19: =Z19*D19 -> 0 | AC19: =AB19*D19 -> 0 | AE19: =AD19*D19 -> 0 | AG19: =AF19*D19 -> 0
A20: 18 | B20: Fleurs coupÃ©es | C20: Herbes | D20: 3 | F20: =COUNTIF('Semaine 1'!C2:C55, 18) -> 0 | H20: =F20*D20+G20 -> 0 | I20: =COUNTIF('Semaine 2'!F18:F71, 2) -> 6 | K20: =D20*I20+J20 -> 18 | M20: =D20*L20 -> 0 | O20: =D20*N20 -> 0 | Q20: =D20*P20 -> 0 | S20: =D20*R20 -> 0 | U20: =T20*D20 -> 0 | W20: =V20*D20 -> 0 | Y20: =X20*D20 -> 0 | AA20: =Z20*D20 -> 0 | AC20: =AB20*D20 -> 0 | AE20: =AD20*D20 -> 0 | AG20: =AF20*D20 -> 0
A21: 19 | B21: Laitue "le choix du jardinier" | C21: LÃ©gumes / Verdure | D21: 2 | F21: =COUNTIF('Semaine 1'!C2:C55, 19) -> 0 | H21: =F21*D21+G21 -> 0 | I21: =COUNTIF('Semaine 2'!F19:F72, 2) -> 6 | K21: =D21*I21+J21 -> 12 | M21: =D21*L21 -> 0 | O21: =D21*N21 -> 0 | Q21: =D21*P21 -> 0 | S21: =D21*R21 -> 0 | U21: =T21*D21 -> 0 | W21: =V21*D21 -> 0 | Y21: =X21*D21 -> 0 | AA21: =Z21*D21 -> 0 | AC21: =AB21*D21 -> 0 | AE21: =AD21*D21 -> 0 | AG21: =AF21*D21 -> 0
A22: 20 | B22: Bette Ã tondre (petites feuilles de bette) | C22: LÃ©gumes / Verdure | D22: 2 | F22: =COUNTIF('Semaine 1'!C2:C55, 20) -> 0 | H22: =F22*D22+G22 -> 0 | I22: =COUNTIF('Semaine 2'!F20:F73, 2) -> 5 | K22: =D22*I22+J22 -> 10 | M22: =D22*L22 -> 0 | O22: =D22*N22 -> 0 | Q22: =D22*P22 -> 0 | S22: =D22*R22 -> 0 | U22: =T22*D22 -> 0 | W22: =V22*D22 -> 0 | Y22: =X22*D22 -> 0 | AA22: =Z22*D22 -> 0 | AC22: =AB22*D22 -> 0 | AE22: =AD22*D22 -> 0 | AG22: =AF22*D22 -> 0
A23: 21 | B23: Bette Ã carde | C23: LÃ©gumes / Verdure | D23: 2 | F23: =COUNTIF('Semaine 1'!C2:C55, 21) -> 0 | H23: =F23*D23+G23 -> 0 | I23: =COUNTIF('Semaine 2'!F21:F74, 2) -> 5 | K23: =D23*I23+J23 -> 10 | M23: =D23*L23 -> 0 | O23: =D23*N23 -> 0 | Q23: =D23*P23 -> 0 | S23: =D23*R23 -> 0 | U23: =T23*D23 -> 0 | W23: =V23*D23 -> 0 | Y23: =X23*D23 -> 0 | AA23: =Z23*D23 -> 0 | AC23: =AB23*D23 -> 0 | AE23: =AD23*D23 -> 0 | AG23: =AF23*D23 -> 0
A24: 22 | B24: Petite betterave en botte | C24: LÃ©gumes / Betteraves | D24: 2.5 | F24: =COUNTIF('Semaine 1'!C2:C55, 22) -> 0 | H24: =F24*D24+G24 -> 0 | I24: =COUNTIF('Semaine 2'!F22:F75, 2) -> 5 | K24: =D24*I24+J24 -> 12.5 | M24: =D24*L24 -> 0 | O24: =D24*N24 -> 0 | Q24: =D24*P24 -> 0 | S24: =D24*R24 -> 0 | U24: =T24*D24 -> 0 | W24: =V24*D24 -> 0 | Y24: =X24*D24 -> 0 | AA24: =Z24*D24 -> 0 | AC24: =AB24*D24 -> 0 | AE24: =AD24*D24 -> 0 | AG24: =AF24*D24 -> 0
A25: 23 | B25: Petite betterave en botte (couleurs variÃ©es) | C25: LÃ©gumes / Betteraves | D25: 2.5 | F25: =COUNTIF('Semaine 1'!C2:C55, 23) -> 0 | H25: =F25*D25+G25 -> 0 | I25: =COUNTIF('Semaine 2'!F23:F76, 2) -> 5 | K25: =D25*I25+J25 -> 12.5 | M25: =D25*L25 -> 0 | O25: =D25*N25 -> 0 | Q25: =D25*P25 -> 0 | S25: =D25*R25 -> 0 | U25: =T25*D25 -> 0 | W25: =V25*D25 -> 0 | Y25: =X25*D25 -> 0 | AA25: =Z25*D25 -> 0 | AC25: =AB25*D25 -> 0 | AE25: =AD25*D25 -> 0 | AG25: =AF25*D25 -> 0
A26: 24 | B26: Courgettes variÃ©es | C26: LÃ©gumes / Courgettes | D26: 1.5 | F26: =COUNTIF('Semaine 1'!C2:C55, 24) -> 0 | H26: =F26*D26+G26 -> 0 | I26: =COUNTIF('Semaine 2'!F24:F77, 2) -> 4 | K26: =D26*I26+J26 -> 6 | M26: =D26*L26 -> 0 | O26: =D26*N26 -> 0 | Q26: =D26*P26 -> 0 | S26: =D26*R26 -> 0 | U26: =T26*D26 -> 0 | W26: =V26*D26 -> 0 | Y26: =X26*D26 -> 0 | AA26: =Z26*D26 -> 0 | AC26: =AB26*D26 -> 0 | AE26: =AD26*D26 -> 0 | AG26: =AF26*D26 -> 0
A27: 25 | B27: Rabioles | C27: LÃ©gumes | D27: 1.5 | F27: =COUNTIF('Semaine 1'!C2:C55, 25) -> 0 | H27: =F27*D27+G27 -> 0 | I27: =COUNTIF('Semaine 2'!F25:F78, 2) -> 4 | K27: =D27*I27+J27 -> 6 | M27: =D27*L27 -> 0 | O27: =D27*N27 -> 0 | Q27: =D27*P27 -> 0 | S27: =D27*R27 -> 0 | U27: =T27*D27 -> 0 | W27: =V27*D27 -> 0 | Y27: =X27*D27 -> 0 | AA27: =Z27*D27 -> 0 | AC27: =AB27*D27 -> 0 | AE27: =AD27*D27 -> 0 | AG27: =AF27*D27 -> 0
A28: 26 | B28: Petite carotte orange en botte | C28: LÃ©gumes / Carottes | D28: 2.5 | F28: =COUNTIF('Semaine 1'!C2:C55, 26) -> 0 | H28: =F28*D28+G28 -> 0 | I28: =COUNTIF('Semaine 2'!F26:F79, 2) -> 4 | K28: =D28*I28+J28 -> 10 | M28: =D28*L28 -> 0 | O28: =D28*N28 -> 0 | Q28: =D28*P28 -> 0 | S28: =D28*R28 -> 0 | U28: =T28*D28 -> 0 | W28: =V28*D28 -> 0 | Y28: =X28*D28 -> 0 | AA28: =Z28*D28 -> 0 | AC28: =AB28*D28 -> 0 | AE28: =AD28*D28 -> 0 | AG28: =AF28*D28 -> 0
A29: 27 | B29: Oignonet | C29: LÃ©gumes | D29: 1 | F29: =COUNTIF('Semaine 1'!C2:C55, 27) -> 0 | H29: =F29*D29+G29 -> 0 | I29: =COUNTIF('Semaine 2'!F27:F80, 2) -> 3 | K29: =D29*I29+J29 -> 3 | M29: =D29*L29 -> 0 | O29: =D29*N29 -> 0 | Q29: =D29*P29 -> 0 | S29: =D29*R29 -> 0 | U29: =T29*D29 -> 0 | W29: =V29*D29 -> 0 | Y29: =X29*D29 -> 0 | AA29: =Z29*D29 -> 0 | AC29: =AB29*D29 -> 0 | AE29: =AD29*D29 -> 0 | AG29: =AF29*D29 -> 0
A30: 29 | B30: Piments jalapeno | C30: LÃ©gumes | D30: 3 | F30: =COUNTIF('Semaine 1'!C2:C55, 28) -> 0 | H30: =F30*D30+G30 -> 0 | I30: =COUNTIF('Semaine 2'!F28:F81, 2) -> 3 | K30: =D30*I30+J30 -> 9 | M30: =D30*L30 -> 0 | O30: =D30*N30 -> 0 | Q30: =D30*P30 -> 0 | S30: =D30*R30 -> 0 | U30: =T30*D30 -> 0 | W30: =V30*D30 -> 0 | Y30: =X30*D30 -> 0 | AA30: =Z30*D30 -> 0 | AC30: =AB30*D30 -> 0 | AE30: =AD30*D30 -> 0 | AG30: =AF30*D30 -> 0
A31: 30 | B31: Pois mange-tout | C31: LÃ©gumes / Pois | D31: 0.5 | F31: =COUNTIF('Semaine 1'!C2:C55, 29) -> 0 | H31: =F31*D31+G31 -> 0 | I31: =COUNTIF('Semaine 2'!F29:F82, 2) -> 3 | K31: =D31*I31+J31 -> 1.5 | M31: =D31*L31 -> 0 | O31: =D31*N31 -> 0 | Q31: =D31*P31 -> 0 | S31: =D31*R31 -> 0 | U31: =T31*D31 -> 0 | W31: =V31*D31 -> 0 | Y31: =X31*D31 -> 0 | AA31: =Z31*D31 -> 0 | AC31: =AB31*D31 -> 0 | AE31: =AD31*D31 -> 0 | AG31: =AF31*D31 -> 0
A32: 31 | B32: Pois snap | C32: LÃ©gumes / Pois | D32: 3 | F32: =COUNTIF('Semaine 1'!C2:C55, 30) -> 0 | H32: =F32*D32+G32 -> 0 | I32: =COUNTIF('Semaine 2'!F30:F83, 2) -> 3 | K32: =D32*I32+J32 -> 9 | M32: =D32*L32 -> 0 | O32: =D32*N32 -> 0 | Q32: =D32*P32 -> 0 | S32: =D32*R32 -> 0 | U32: =T32*D32 -> 0 | W32: =V32*D32 -> 0 | Y32: =X32*D32 -> 0 | AA32: =Z32*D32 -> 0 | AC32: =AB32*D32 -> 0 | AE32: =AD32*D32 -> 0 | AG32: =AF32*D32 -> 0
A33: 32 | B33: Pois Ã Ã©cosser | C33: LÃ©gumes / Pois | D33: 3 | F33: =COUNTIF('Semaine 1'!C2:C55, 31) -> 0 | H33: =F33*D33+G33 -> 0 | I33: =COUNTIF('Semaine 2'!F31:F84, 2) -> 3 | K33: =D33*I33+J33 -> 9 | M33: =D33*L33 -> 0 | O33: =D33*N33 -> 0 | Q33: =D33*P33 -> 0 | S33: =D33*R33 -> 0 | U33: =T33*D33 -> 0 | W33: =V33*D33 -> 0 | Y33: =X33*D33 -> 0 | AA33: =Z33*D33 -> 0 | AC33: =AB33*D33 -> 0 | AE33: =AD33*D33 -> 0 | AG33: =AF33*D33 -> 0
A34: 33 | B34: Haricot variÃ© | C34: LÃ©gumes / Haricots | D34: 3 | F34: =COUNTIF('Semaine 1'!C2:C55, 32) -> 0 | H34: =F34*D34+G34 -> 0 | I34: =COUNTIF('Semaine 2'!F32:F85, 2) -> 3 | K34: =D34*I34+J34 -> 9 | M34: =D34*L34 -> 0 | O34: =D34*N34 -> 0 | Q34: =D34*P34 -> 0 | S34: =D34*R34 -> 0 | U34: =T34*D34 -> 0 | W34: =V34*D34 -> 0 | Y34: =X34*D34 -> 0 | AA34: =Z34*D34 -> 0 | AC34: =AB34*D34 -> 0 | AE34: =AD34*D34 -> 0 | AG34: =AF34*D34 -> 0
A35: 34 | B35: Haricot vert | C35: LÃ©gumes / Haricots | D35: 3.5 | F35: =COUNTIF('Semaine 1'!C2:C55, 33) -> 0 | H35: =F35*D35+G35 -> 0 | I35: =COUNTIF('Semaine 2'!F33:F86, 2) -> 3 | K35: =D35*I35+J35 -> 10.5 | M35: =D35*L35 -> 0 | O35: =D35*N35 -> 0 | Q35: =D35*P35 -> 0 | S35: =D35*R35 -> 0 | U35: =T35*D35 -> 0 | W35: =V35*D35 -> 0 | Y35: =X35*D35 -> 0 | AA35: =Z35*D35 -> 0 | AC35: =AB35*D35 -> 0 | AE35: =AD35*D35 -> 0 | AG35: =AF35*D35 -> 0
A36: 35 | B36: Haricot jaune | C36: LÃ©gumes / Haricots | D36: 3.5 | F36: =COUNTIF('Semaine 1'!C2:C55, 34) -> 0 | H36: =F36*D36+G36 -> 0 | I36: =COUNTIF('Semaine 2'!F34:F87, 2) -> 3 | K36: =D36*I36+J36 -> 10.5 | M36: =D36*L36 -> 0 | O36: =D36*N36 -> 0 | Q36: =D36*P36 -> 0 | S36: =D36*R36 -> 0 | U36: =T36*D36 -> 0 | W36: =V36*D36 -> 0 | Y36: =X36*D36 -> 0 | AA36: =Z36*D36 -> 0 | AC36: =AB36*D36 -> 0 | AE36: =AD36*D36 -> 0 | AG36: =AF36*D36 -> 0
A37: 36 | B37: Valbert | C37: Fromagerie Lehman | D37: 3.5 | F37: =COUNTIF('Semaine 1'!C2:C55, 35) -> 0 | H37: =F37*D37+G37 -> 0 | I37: =COUNTIF('Semaine 2'!F35:F88, 2) -> 3 | K37: =D37*I37+J37 -> 10.5 | M37: =D37*L37 -> 0 | O37: =D37*N37 -> 0 | Q37: =D37*P37 -> 0 | S37: =D37*R37 -> 0 | U37: =T37*D37 -> 0 | W37: =V37*D37 -> 0 | Y37: =X37*D37 -> 0 | AA37: =Z37*D37 -> 0 | AC37: =AB37*D37 -> 0 | AE37: =AD37*D37 -> 0 | AG37: =AF37*D37 -> 0
A38: 37 | B38: Pikauba | C38: Fromagerie Lehman | D38: 3.15 | F38: =COUNTIF('Semaine 1'!C2:C55, 36) -> 1 | H38: =F38*D38+G38 -> 3.15 | I38: =COUNTIF('Semaine 2'!F36:F89, 2) -> 3 | K38: =D38*I38+J38 -> 9.45 | M38: =D38*L38 -> 0 | O38: =D38*N38 -> 0 | Q38: =D38*P38 -> 0 | S38: =D38*R38 -> 0 | U38: =T38*D38 -> 0 | W38: =V38*D38 -> 0 | Y38: =X38*D38 -> 0 | AA38: =Z38*D38 -> 0 | AC38: =AB38*D38 -> 0 | AE38: =AD38*D38 -> 0 | AG38: =AF38*D38 -> 0
A39: 38 | B39: KÃ©nogami | C39: Fromagerie Lehman | D39: 2.95 | F39: =COUNTIF('Semaine 1'!C2:C55, 37) -> 0 | H39: =F39*D39+G39 -> 0 | I39: =COUNTIF('Semaine 2'!F37:F90, 2) -> 3 | K39: =D39*I39+J39 -> 8.85 | M39: =D39*L39 -> 0 | O39: =D39*N39 -> 0 | Q39: =D39*P39 -> 0 | S39: =D39*R39 -> 0 | U39: =T39*D39 -> 0 | W39: =V39*D39 -> 0 | Y39: =X39*D39 -> 0 | AA39: =Z39*D39 -> 0 | AC39: =AB39*D39 -> 0 | AE39: =AD39*D39 -> 0 | AG39: =AF39*D39 -> 0
A40: 39 | B40: Escotay | C40: Fromagerie Lehman | D40: 2.85 | F40: =COUNTIF('Semaine 1'!C2:C55, 38) -> 0 | H40: =F40*D40+G40 -> 0 | I40: =COUNTIF('Semaine 2'!F38:F91, 2) -> 3 | K40: =D40*I40+J40 -> 8.55 | M40: =D40*L40 -> 0 | O40: =D40*N40 -> 0 | Q40: =D40*P40 -> 0 | S40: =D40*R40 -> 0 | U40: =T40*D40 -> 0 | W40: =V40*D40 -> 0 | Y40: =X40*D40 -> 0 | AA40: =Z40*D40 -> 0 | AC40: =AB40*D40 -> 0 | AE40: =AD40*D40 -> 0 | AG40: =AF40*D40 -> 0
...

Sheet Semaine 1
A1: order_number | B1: email | C1: sku | D1: name | E1: total | F1: quantity | G1: timestamp | H1: payment_method | I1: order_total | J1: Total
A2: 12 | B2: cote-david@hotmail.com | C2: 36 | D2: Valbert | E2: 3.15 | F2: 1 | G2: Jun 26, 2017 01:43 PM | H2: PayPal | I2: 8.65 | J2: =INDEX(I:I,MIN(IF(COUNTIF(J$1:J2,$I$2:$I$26)=0,ROW($I$2:$I$26))))&"" -> 0
A3: 12 | B3: cote-david@hotmail.com | C3: 15 | D3: Persil | E3: 0.5 | F3: 1 | G3: Jun 26, 2017 01:43 PM | H3: PayPal | I3: 8.65 | J3: =INDEX(I:I,MIN(IF(COUNTIF(J$1:J3,$I$2:$I$26)=0,ROW($I$2:$I$26))))&"" -> 0
A4: 12 | B4: cote-david@hotmail.com | C4: 12 | D4: Bouquet de Ciboulette | E4: 0.5 | F4: 1 | G4: Jun 26, 2017 01:43 PM | H4: PayPal | I4: 8.65 | J4: =INDEX(I:I,MIN(IF(COUNTIF(J$1:J4,$I$2:$I$26)=0,ROW($I$2:$I$26))))&"" -> 0
A5: 12 | B5: cote-david@hotmail.com | C5: 48 | D5: Laitue variÃ©e (piquante) | E5: 2.5 | F5: 1 | G5: Jun 26, 2017 01:43 PM | H5: PayPal | I5: 8.65 | J5: =INDEX(I:I,MIN(IF(COUNTIF(J$1:J5,$I$2:$I$26)=0,ROW($I$2:$I$26))))&"" -> 0 | K5: =SUM(J2:J200) -> 0 | L5: Vente total ($)
A6: 12 | B6: cote-david@hotmail.com | C6: 49 | D6: Roquette | E6: 2 | F6: 1 | G6: Jun 26, 2017 01:43 PM | H6: PayPal | I6: 8.65 | J6: =INDEX(I:I,MIN(IF(COUNTIF(J$1:J6,$I$2:$I$26)=0,ROW($I$2:$I$26))))&"" -> 0 | K6: =SUM(F2:F200) -> 29 | L6: Nb produits vendus
A7: 11 | B7: potvinvicky@hotmail.com | C7: 4 | D7: Rhubarbe | E7: 5 | F7: 2 | G7: Jun 26, 2017 10:12 AM | H7: PayPal | I7: 17.5 | J7: =INDEX(I:I,MIN(IF(COUNTIF(J$1:J7,$I$2:$I$26)=0,ROW($I$2:$I$26))))&"" -> 0
A8: 11 | B8: potvinvicky@hotmail.com | C8: 45 | D8: Fleurs d'ail | E8: 4 | F8: 2 | G8: Jun 26, 2017 10:12 AM | H8: PayPal | I8: 17.5 | J8: =INDEX(I:I,MIN(IF(COUNTIF(J$1:J8,$I$2:$I$26)=0,ROW($I$2:$I$26))))&"" -> 0
A9: 11 | B9: potvinvicky@hotmail.com | C9: 49 | D9: Roquette | E9: 2 | F9: 1 | G9: Jun 26, 2017 10:12 AM | H9: PayPal | I9: 17.5 | J9: =INDEX(I:I,MIN(IF(COUNTIF(J$1:J9,$I$2:$I$26)=0,ROW($I$2:$I$26))))&"" -> 0
A10: 11 | B10: potvinvicky@hotmail.com | C10: 48 | D10: Laitue variÃ©e (piquante) | E10: 2.5 | F10: 1 | G10: Jun 26, 2017 10:12 AM | H10: PayPal | I10: 17.5
A11: 11 | B11: potvinvicky@hotmail.com | C11: 47 | D11: Laitue variÃ©e | E11: 2.5 | F11: 1 | G11: Jun 26, 2017 10:12 AM | H11: PayPal | I11: 17.5
A12: 11 | B12: potvinvicky@hotmail.com | C12: 17 | D12: Thym | E12: 0.5 | F12: 1 | G12: Jun 26, 2017 10:12 AM | H12: PayPal | I12: 17.5
A13: 11 | B13: potvinvicky@hotmail.com | C13: 53 | D13: Bouquet de Cresson | E13: 1 | F13: 1 | G13: Jun 26, 2017 10:12 AM | H13: PayPal | I13: 17.5
A14: 10 | B14: anniemaltaistee@cegepjonquiere.ca | C14: 51 | D14: Radis (oeuf de pÃ¢ques) | E14: 1.5 | F14: 1 | G14: Jun 25, 2017 09:03 PM | H14: PayPal | I14: 9
A15: 10 | B15: anniemaltaistee@cegepjonquiere.ca | C15: 47 | D15: Laitue variÃ©e | E15: 5 | F15: 2 | G15: Jun 25, 2017 09:03 PM | H15: PayPal | I15: 9
A16: 10 | B16: anniemaltaistee@cegepjonquiere.ca | C16: 12 | D16: Bouquet de Ciboulette | E16: 0.5 | F16: 1 | G16: Jun 25, 2017 09:03 PM | H16: PayPal | I16: 9
A17: 10 | B17: anniemaltaistee@cegepjonquiere.ca | C17: 15 | D17: Persil | E17: 0.5 | F17: 1 | G17: Jun 25, 2017 09:03 PM | H17: PayPal | I17: 9
A18: 10 | B18: anniemaltaistee@cegepjonquiere.ca | C18: 14 | D18: Menthe | E18: 0.5 | F18: 1 | G18: Jun 25, 2017 09:03 PM | H18: PayPal | I18: 9
A19: 10 | B19: anniemaltaistee@cegepjonquiere.ca | C19: 53 | D19: Bouquet de Cresson | E19: 1 | F19: 1 | G19: Jun 25, 2017 09:03 PM | H19: PayPal | I19: 9
A20: 9 | B20: jenni005@hotmail.com | C20: 51 | D20: Radis (oeuf de pÃ¢ques) | E20: 1.5 | F20: 1 | G20: Jun 23, 2017 12:29 PM | H20: Carte de crÃ©dit | I20: 8.5
A21: 9 | B21: jenni005@hotmail.com | C21: 49 | D21: Roquette | E21: 2 | F21: 1 | G21: Jun 23, 2017 12:29 PM | H21: Carte de crÃ©dit | I21: 8.5
... A26: 8 | B26: leskat@digicom.qc.ca | C26: 52 | D26: Radis (French Breakfast) | E26: 1.5 | F26: 1 | G26: Jun 23, 2017 10:59 AM | H26: Carte de crÃ©dit | I26: 8

Sheet Semaine 2
A1: order_number | B1: email | C1: sku | D1: name | E1: total | F1: quantity | G1: timestamp | H1: payment_method | I1: order_total | J1: Total
A2: 23 | B2: potvinvicky@hotmail.com | C2: 39 | D2: Escotay | E2: 5.7 | F2: 2 | G2: Jul 12, 2017 02:56 PM | H2: PayPal | I2: 28.9
A3: 23 | B3: potvinvicky@hotmail.com | C3: 38 | D3: KÃ©nogami | E3: 5.7 | F3: 2 | G3: Jul 12, 2017 02:56 PM | H3: PayPal | I3: 28.9
A4: 23 | B4: potvinvicky@hotmail.com | C4: 37 | D4: Pikauba | E4: 2.95 | F4: 1 | G4: Jul 12, 2017 02:56 PM | H4: PayPal | I4: 28.9
A5: 23 | B5: potvinvicky@hotmail.com | C5: 36 | D5: Valbert | E5: 3.15 | F5: 1 | G5: Jul 12, 2017 02:56 PM | H5: PayPal | I5: 28.9 | K5: =SUM(J2:J55) -> 0 | L5: Vente total ($)
A6: 23 | B6: potvinvicky@hotmail.com | C6: 97 | D6: Oignons verts | E6: 0.9 | F6: 6 | G6: Jul 12, 2017 02:56 PM | H6: PayPal | I6: 28.9 | K6: =SUM(F2:F135) -> 97 | L6: Nb produits vendus
A7: 23 | B7: potvinvicky@hotmail.com | C7: 45 | D7: Fleurs d'ail 10 | E7: 2 | F7: 1 | G7: Jul 12, 2017 02:56 PM | H7: PayPal | I7: 28.9
A8: 23 | B8: potvinvicky@hotmail.com | C8: 48 | D8: Laitue variÃ©e (piquante) | E8: 2.5 | F8: 1 | G8: Jul 12, 2017 02:56 PM | H8: PayPal | I8: 28.9
A9: 23 | B9: potvinvicky@hotmail.com | C9: 49 | D9: Roquette | E9: 2 | F9: 1 | G9: Jul 12, 2017 02:56 PM | H9: PayPal | I9: 28.9
A10: 23 | B10: potvinvicky@hotmail.com | C10: 15 | D10: Persil | E10: 1 | F10: 2 | G10: Jul 12, 2017 02:56 PM | H10: PayPal | I10: 28.9
A11: 23 | B11: potvinvicky@hotmail.com | C11: 17 | D11: Thym | E11: 0.5 | F11: 1 | G11: Jul 12, 2017 02:56 PM | H11: PayPal | I11: 28.9
A12: 23 | B12: potvinvicky@hotmail.com | C12: 53 | D12: Cresson | E12: 1 | F12: 1 | G12: Jul 12, 2017 02:56 PM | H12: PayPal | I12: 28.9
A13: 23 | B13: potvinvicky@hotmail.com | C13: 57 | D13: Coriandre | E13: 1.5 | F13: 3 | G13: Jul 12, 2017 02:56 PM | H13: PayPal | I13: 28.9
A14: 22 | B14: pluneln@videotron.ca | C14: 100 | D14: Fraises 500 ml | E14: 7.5 | F14: 3 | G14: Jul 11, 2017 10:41 PM | H14: Paiement Ã la livraison | I14: 21.5
A15: 22 | B15: pluneln@videotron.ca | C15: 97 | D15: Oignons verts | E15: 1.5 | F15: 10 | G15: Jul 11, 2017 10:41 PM | H15: Paiement Ã la livraison | I15: 21.5
A16: 22 | B16: pluneln@videotron.ca | C16: 46 | D16: Fleurs d'ail 30 | E16: 5 | F16: 1 | G16: Jul 11, 2017 10:41 PM | H16: Paiement Ã la livraison | I16: 21.5
A17: 22 | B17: pluneln@videotron.ca | C17: 48 | D17: Laitue variÃ©e (piquante) | E17: 2.5 | F17: 1 | G17: Jul 11, 2017 10:41 PM | H17: Paiement Ã la livraison | I17: 21.5
A18: 22 | B18: pluneln@videotron.ca | C18: 49 | D18: Roquette | E18: 2 | F18: 1 | G18: Jul 11, 2017 10:41 PM | H18: Paiement Ã la livraison | I18: 21.5
... A56: 14 | B56: tranemmanuelle@gmail.com | C56: 38 | D56: KÃ©nogami | E56: 2.85 | F56: 1 | G56: Jul 10, 2017 07:04 PM | H56: Paiement Ã la livraison | I56: 22.8

Sheet Semaine 3
A1: order_number | B1: email | C1: sku | D1: name | E1: total | F1: quantity | G1: timestamp | H1: payment_method | I1: order_total | J1: Total
K5: =SUM(J2:J55) -> 0 | L5: Vente total ($)
K6: =SUM(F2:F55) -> 0 | L6: Nb produits vendus

Sheet Semaine 4
A1: order_number | B1: email | C1: sku | D1: name | E1: total | F1: quantity | G1: timestamp | H1: payment_method | I1: order_total | J1: Total
K5: =SUM(J2:J55) -> 0 | L5: Vente total ($)
K6: =SUM(F2:F55) -> 0 | L6: Nb produits vendus

Sheet Semaine 5
A1: order_number | B1: email | C1: sku | D1: name | E1: total | F1: quantity | G1: timestamp | H1: payment_method | I1: order_total | J1: Total
K5: =SUM(J2:J55) -> 0 | L5: Vente total ($)
K6: =SUM(F2:F55) -> 0 | L6: Nb produits vendus

Sheet Semaine 6
A1: order_number | B1: email | C1: sku | D1: name | E1: total | F1: quantity | G1: timestamp | H1: payment_method | I1: order_total | J1: Total
K5: =SUM(J2:J55) -> 0 | L5: Vente total ($)
K6: =SUM(F2:F55) -> 0 | L6: Nb produits vendus

Sheet Semaine 7
A1: order_number | B1: email | C1: sku | D1: name | E1: total | F1: quantity | G1: timestamp | H1: payment_method | I1: order_total | J1: Total
K5: =SUM(J2:J55) -> 0 | L5: Vente total ($)
K6: =SUM(F2:F55) -> 0 | L6: Nb produits vendus

Sheet Semaine 8
A1: order_number | B1: email | C1: sku | D1: name | E1: total | F1: quantity | G1: timestamp | H1: payment_method | I1: order_total | J1: Total
K5: =SUM(J2:J55) -> 0 | L5: Vente total ($)
K6: =SUM(F2:F55) -> 0 | L6: Nb produits vendus

Sheet Semaine 9
A1: order_number | B1: email | C1: sku | D1: name | E1: total | F1: quantity | G1: timestamp | H1: payment_method | I1: order_total | J1: Total
K5: =SUM(J2:J55) -> 0 | L5: Vente total ($)
K6: =SUM(F2:F55) -> 0 | L6: Nb produits vendus

Sheet Semaine 10
A1: order_number | B1: email | C1: sku | D1: name | E1: total | F1: quantity | G1: timestamp | H1: payment_method | I1: order_total | J1: Total
K5: =SUM(J2:J55) -> 0 | L5: Vente total ($)
K6: =SUM(F2:F55) -> 0 | L6: Nb produits vendus

Sheet Semaine 11
A1: order_number | B1: email | C1: sku | D1: name | E1: total | F1: quantity | G1: timestamp | H1: payment_method | I1: order_total | J1: Total
K5: =SUM(J2:J55) -> 0 | L5: Vente total ($)
K6: =SUM(F2:F55) -> 0 | L6: Nb produits vendus

Sheet Semaine 12
A1: order_number | B1: email | C1: sku | D1: name | E1: total | F1: quantity | G1: timestamp | H1: payment_method | I1: order_total | J1: Total
K5: =SUM(J2:J55) -> 0 | L5: Vente total ($)
K6: =SUM(F2:F55) -> 0 | L6: Nb produits vendus

Sheet Semaine 13
A1: order_number | B1: email | C1: sku | D1: name | E1: total | F1: quantity | G1: timestamp | H1: payment_method | I1: order_total | J1: Total
K5: =SUM(J2:J55) -> 0 | L5: Vente total ($)
K6: =SUM(F2:F55) -> 0 | L6: Nb produits vendus
