Workbook

Sheet Compilation
A8: Ficher de compilation
A9: Paniers année 2017
E10: Vente ($) | G10: Nb produits vendus
A11: Panier du 29 juin | C11: Semaine | D11: 1 | E11: ='Semaine 1'!K5 -> 51.65 | G11: ='Semaine 1'!K6 -> 29
A12: Panier du 13 juillet | C12: Semaine | D12: 2 | E12: ='Semaine 2'!K5 -> 154.15 | G12: ='Semaine 2'!K6 -> 97
A13: Panier du 20 juillet | C13: Semaine | D13: 3 | E13: ='Semaine 3'!K5 -> 91.65 | G13: ='Semaine 3'!K6 -> 63
A14: Panier du 27 juillet | C14: Semaine | D14: 4 | E14: ='Semaine 4'!K5 -> 0 | G14: ='Semaine 4'!K6 -> 0
A15: Panier du 3 août | C15: Semaine | D15: 5 | E15: ='Semaine 5'!K5 -> 0 | G15: ='Semaine 5'!K6 -> 0
A16: Panier du 10 août | C16: Semaine | D16: 6 | E16: ='Semaine 6'!K5 -> 0 | G16: ='Semaine 6'!K6 -> 0
A17: Panier du 17 août | C17: Semaine | D17: 7 | E17: ='Semaine 7'!K5 -> 0 | G17: ='Semaine 7'!K6 -> 0
A18: Panier du 24 août | C18: Semaine | D18: 8 | E18: ='Semaine 8'!K5 -> 0 | G18: ='Semaine 8'!K6 -> 0
A19: Panier du 3 septembre | C19: Semaine | D19: 9 | E19: ='Semaine 9'!K5 -> 0 | G19: ='Semaine 9'!K6 -> 0
A20: Panier du 10 septembre | C20: Semaine | D20: 10 | E20: ='Semaine 10'!K5 -> 0 | G20: ='Semaine 10'!K6 -> 0
A21: Panier du 17 septembre | C21: Semaine | D21: 11 | E21: ='Semaine 11'!K5 -> 0 | G21: ='Semaine 11'!K6 -> 0
A22: Panier du 24 septembre | C22: Semaine | D22: 12 | E22: ='Semaine 12'!K5 -> 0 | G22: ='Semaine 12'!K6 -> 0
A23: Panier du 1 octobre | C23: Semaine | D23: 13 | E23: ='Semaine 13'!K5 -> 0 | G23: ='Semaine 13'!K6 -> 0
C25: Grands totaux: | E25: =SUM(E11:E24) -> 297.45 | G25: =SUM(G11:G24) -> 189

Sheet Produits
A1: Codes de produit (sku) | B1: Produits | C1: Catégories | D1: Prix | E1: G-Total: | F1: Semaine 1 | G1: Semaine 2 | H1: Semaine 3 | I1: Semaine 4 | J1: Semaine 5 | K1: Semaine 6 | L1: Semaine 7 | M1: Semaine 8 | N1: Semaine 9 | O1: Semaine 10 | P1: Semaine 11 | Q1: Semaine 12 | R1: Semaine 13 | T1: Produits
A2: 0 | B2: Framboises 500 ml | C2: Fruits | D2: 2.5 | E2: =F2+G2+H2+I2+K2+J2+L2+M2+N2+O2+P2+Q2+R2 -> 116 | F2: =SUMPRODUCT((INDIRECT("'"&F$1&"'!C2:C200")=$A2)*(INDIRECT("'"&F$1&"'!F2:F200"))) -> 0 | G2: =SUMPRODUCT((INDIRECT("'"&G$1&"'!C2:C200")=$A2)*(INDIRECT("'"&G$1&"'!F2:F200"))) -> 0 | H2: =SUMPRODUCT((INDIRECT("'"&H$1&"'!C2:C200")=$A2)*(INDIRECT("'"&G$1&"'!F2:F200"))) -> 19 | I2: =SUMPRODUCT((INDIRECT("'"&I$1&"'!C2:C200")=$A2)*(INDIRECT("'"&G$1&"'!F2:F200"))) -> 97 | J2: =SUMPRODUCT((INDIRECT("'"&G$1&"'!C2:C200")=$A2)*(INDIRECT("'"&G$1&"'!F2:F200"))) -> 0 | K2: =SUMPRODUCT((INDIRECT("'"&G$1&"'!C2:C200")=$A2)*(INDIRECT("'"&G$1&"'!F2:F200"))) -> 0 | L2: =SUMPRODUCT((INDIRECT("'"&G$1&"'!C2:C200")=$A2)*(INDIRECT("'"&G$1&"'!F2:F200"))) -> 0 | M2: =SUMPRODUCT((INDIRECT("'"&G$1&"'!C2:C200")=$A2)*(INDIRECT("'"&G$1&"'!F2:F200"))) -> 0 | N2: =SUMPRODUCT((INDIRECT("'"&G$1&"'!C2:C200")=$A2)*(INDIRECT("'"&G$1&"'!F2:F200"))) -> 0 | O2: =SUMPRODUCT((INDIRECT("'"&G$1&"'!C2:C200")=$A2)*(INDIRECT("'"&G$1&"'!F2:F200"))) -> 0 | P2: =SUMPRODUCT((INDIRECT("'"&G$1&"'!C2:C200")=$A2)*(INDIRECT("'"&G$1&"'!F2:F200"))) -> 0 | Q2: =SUMPRODUCT((INDIRECT("'"&G$1&"'!C2:C200")=$A2)*(INDIRECT("'"&G$1&"'!F2:F200"))) -> 0 | R2: =SUMPRODUCT((INDIRECT("'"&G$1&"'!C2:C200")=$A2)*(INDIRECT("'"&G$1&"'!F2:F200"))) -> 0 | S2: =F2+G2+H2+I2+K2+J2+L2+M2+N2+O2+P2+Q2+R2 -> 116 | T2: Framboises 500 ml
A3: 1 | B3: Framboises jaunes 500 ml | C3: Fruits | D3: 2.5 | E3: =F3+G3+H3+I3+K3+J3+L3+M3+N3+O3+P3+Q3+R3 -> 0 | F3: =SUMPRODUCT((INDIRECT("'"&F$1&"'!C2:C200")=$A3)*(INDIRECT("'"&F$1&"'!F2:F200"))) -> 0 | G3: =SUMPRODUCT((INDIRECT("'"&G$1&"'!C2:C200")=$A3)*(INDIRECT("'"&G$1&"'!F2:F200"))) -> 0 | H3: =SUMPRODUCT((INDIRECT("'"&H$1&"'!C2:C200")=$A3)*(INDIRECT("'"&G$1&"'!F2:F200"))) -> 0 | I3: =SUMPRODUCT((INDIRECT("'"&I$1&"'!C2:C200")=$A3)*(INDIRECT("'"&G$1&"'!F2:F200"))) -> 0 | J3: =SUMPRODUCT((INDIRECT("'"&G$1&"'!C2:C200")=$A3)*(INDIRECT("'"&G$1&"'!F2:F200"))) -> 0 | K3: =SUMPRODUCT((INDIRECT("'"&G$1&"'!C2:C200")=$A3)*(INDIRECT("'"&G$1&"'!F2:F200"))) -> 0 | L3: =SUMPRODUCT((INDIRECT("'"&G$1&"'!C2:C200")=$A3)*(INDIRECT("'"&G$1&"'!F2:F200"))) -> 0 | M3: =SUMPRODUCT((INDIRECT("'"&G$1&"'!C2:C200")=$A3)*(INDIRECT("'"&G$1&"'!F2:F200"))) -> 0 | N3: =SUMPRODUCT((INDIRECT("'"&G$1&"'!C2:C200")=$A3)*(INDIRECT("'"&G$1&"'!F2:F200"))) -> 0 | O3: =SUMPRODUCT((INDIRECT("'"&G$1&"'!C2:C200")=$A3)*(INDIRECT("'"&G$1&"'!F2:F200"))) -> 0 | P3: =SUMPRODUCT((INDIRECT("'"&G$1&"'!C2:C200")=$A3)*(INDIRECT("'"&G$1&"'!F2:F200"))) -> 0 | Q3: =SUMPRODUCT((INDIRECT("'"&G$1&"'!C2:C200")=$A3)*(INDIRECT("'"&G$1&"'!F2:F200"))) -> 0 | R3: =SUMPRODUCT((INDIRECT("'"&G$1&"'!C2:C200")=$A3)*(INDIRECT("'"&G$1&"'!F2:F200"))) -> 0 | S3: =F3+G3+H3+I3+K3+J3+L3+M3+N3+O3+P3+Q3+R3 -> 0 | T3: Framboises jaunes 500 ml
A4: 2 | B4: Framboises 2 L | C4: Fruits | D4: 9 | E4: =F4+G4+H4+I4+K4+J4+L4+M4+N4+O4+P4+Q4+R4 -> 0 | F4: =SUMPRODUCT((INDIRECT("'"&F$1&"'!C2:C200")=$A4)*(INDIRECT("'"&F$1&"'!F2:F200"))) -> 0 | G4: =SUMPRODUCT((INDIRECT("'"&G$1&"'!C2:C200")=$A4)*(INDIRECT("'"&G$1&"'!F2:F200"))) -> 0 | H4: =SUMPRODUCT((INDIRECT("'"&H$1&"'!C2:C200")=$A4)*(INDIRECT("'"&G$1&"'!F2:F200"))) -> 0 | I4: =SUMPRODUCT((INDIRECT("'"&I$1&"'!C2:C200")=$A4)*(INDIRECT("'"&G$1&"'!F2:F200"))) -> 0 | J4: =SUMPRODUCT((INDIRECT("'"&G$1&"'!C2:C200")=$A4)*(INDIRECT("'"&G$1&"'!F2:F200"))) -> 0 | K4: =SUMPRODUCT((INDIRECT("'"&G$1&"'!C2:C200")=$A4)*(INDIRECT("'"&G$1&"'!F2:F200"))) -> 0 | L4: =SUMPRODUCT((INDIRECT("'"&G$1&"'!C2:C200")=$A4)*(INDIRECT("'"&G$1&"'!F2:F200"))) -> 0 | M4: =SUMPRODUCT((INDIRECT("'"&G$1&"'!C2:C200")=$A4)*(INDIRECT("'"&G$1&"'!F2:F200"))) -> 0 | N4: =SUMPRODUCT((INDIRECT("'"&G$1&"'!C2:C200")=$A4)*(INDIRECT("'"&G$1&"'!F2:F200"))) -> 0 | O4: =SUMPRODUCT((INDIRECT("'"&G$1&"'!C2:C200")=$A4)*(INDIRECT("'"&G$1&"'!F2:F200"))) -> 0 | P4: =SUMPRODUCT((INDIRECT("'"&G$1&"'!C2:C200")=$A4)*(INDIRECT("'"&G$1&"'!F2:F200"))) -> 0 | Q4: =SUMPRODUCT((INDIRECT("'"&G$1&"'!C2:C200")=$A4)*(INDIRECT("'"&G$1&"'!F2:F200"))) -> 0 | R4: =SUMPRODUCT((INDIRECT("'"&G$1&"'!C2:C200")=$A4)*(INDIRECT("'"&G$1&"'!F2:F200"))) -> 0 | S4: =F4+G4+H4+I4+K4+J4+L4+M4+N4+O4+P4+Q4+R4 -> 0 | T4: Framboises 2 L
A5: 3 | B5: Framboises 6 L | C5: Fruits | D5: 24 | E5: =F5+G5+H5+I5+K5+J5+L5+M5+N5+O5+P5+Q5+R5 -> 0 | F5: =SUMPRODUCT((INDIRECT("'"&F$1&"'!C2:C200")=$A5)*(INDIRECT("'"&F$1&"'!F2:F200"))) -> 0 | G5: =SUMPRODUCT((INDIRECT("'"&G$1&"'!C2:C200")=$A5)*(INDIRECT("'"&G$1&"'!F2:F200"))) -> 0 | H5: =SUMPRODUCT((INDIRECT("'"&H$1&"'!C2:C200")=$A5)*(INDIRECT("'"&G$1&"'!F2:F200"))) -> 0 | I5: =SUMPRODUCT((INDIRECT("'"&I$1&"'!C2:C200")=$A5)*(INDIRECT("'"&G$1&"'!F2:F200"))) -> 0 | J5: =SUMPRODUCT((INDIRECT("'"&G$1&"'!C2:C200")=$A5)*(INDIRECT("'"&G$1&"'!F2:F200"))) -> 0 | K5: =SUMPRODUCT((INDIRECT("'"&G$1&"'!C2:C200")=$A5)*(INDIRECT("'"&G$1&"'!F2:F200"))) -> 0 | L5: =SUMPRODUCT((INDIRECT("'"&G$1&"'!C2:C200")=$A5)*(INDIRECT("'"&G$1&"'!F2:F200"))) -> 0 | M5: =SUMPRODUCT((INDIRECT("'"&G$1&"'!C2:C200")=$A5)*(INDIRECT("'"&G$1&"'!F2:F200"))) -> 0 | N5: =SUMPRODUCT((INDIRECT("'"&G$1&"'!C2:C200")=$A5)*(INDIRECT("'"&G$1&"'!F2:F200"))) -> 0 | O5: =SUMPRODUCT((INDIRECT("'"&G$1&"'!C2:C200")=$A5)*(INDIRECT("'"&G$1&"'!F2:F200"))) -> 0 | P5: =SUMPRODUCT((INDIRECT("'"&G$1&"'!C2:C200")=$A5)*(INDIRECT("'"&G$1&"'!F2:F200"))) -> 0 | Q5: =SUMPRODUCT((INDIRECT("'"&G$1&"'!C2:C200")=$A5)*(INDIRECT("'"&G$1&"'!F2:F200"))) -> 0 | R5: =SUMPRODUCT((INDIRECT("'"&G$1&"'!C2:C200")=$A5)*(INDIRECT("'"&G$1&"'!F2:F200"))) -> 0 | S5: =F5+G5+H5+I5+K5+J5+L5+M5+N5+O5+P5+Q5+R5 -> 0 | T5: Framboises 6 L
A6: 4 | B6: Rhubarbe | C6: Fruits | D6: 2.5 | E6: =F6+G6+H6+I6+K6+J6+L6+M6+N6+O6+P6+Q6+R6 -> 37 | F6: =SUMPRODUCT((INDIRECT("'"&F$1&"'!C2:C200")=$A6)*(INDIRECT("'"&F$1&"'!F2:F200"))) -> 5 | G6: =SUMPRODUCT((INDIRECT("'"&G$1&"'!C2:C200")=$A6)*(INDIRECT("'"&G$1&"'!F2:F200"))) -> 3 | H6: =SUMPRODUCT((INDIRECT("'"&H$1&"'!C2:C200")=$A6)*(INDIRECT("'"&G$1&"'!F2:F200"))) -> 2 | I6: =SUMPRODUCT((INDIRECT("'"&I$1&"'!C2:C200")=$A6)*(INDIRECT("'"&G$1&"'!F2:F200"))) -> 0 | J6: =SUMPRODUCT((INDIRECT("'"&G$1&"'!C2:C200")=$A6)*(INDIRECT("'"&G$1&"'!F2:F200"))) -> 3 | K6: =SUMPRODUCT((INDIRECT("'"&G$1&"'!C2:C200")=$A6)*(INDIRECT("'"&G$1&"'!F2:F200"))) -> 3 | L6: =SUMPRODUCT((INDIRECT("'"&G$1&"'!C2:C200")=$A6)*(INDIRECT("'"&G$1&"'!F2:F200"))) -> 3 | M6: =SUMPRODUCT((INDIRECT("'"&G$1&"'!C2:C200")=$A6)*(INDIRECT("'"&G$1&"'!F2:F200"))) -> 3 | N6: =SUMPRODUCT((INDIRECT("'"&G$1&"'!C2:C200")=$A6)*(INDIRECT("'"&G$1&"'!F2:F200"))) -> 3 | O6: =SUMPRODUCT((INDIRECT("'"&G$1&"'!C2:C200")=$A6)*(INDIRECT("'"&G$1&"'!F2:F200"))) -> 3 | P6: =SUMPRODUCT((INDIRECT("'"&G$1&"'!C2:C200")=$A6)*(INDIRECT("'"&G$1&"'!F2:F200"))) -> 3 | Q6: =SUMPRODUCT((INDIRECT("'"&G$1&"'!C2:C200")=$A6)*(INDIRECT("'"&G$1&"'!F2:F200"))) -> 3 | R6: =SUMPRODUCT((INDIRECT("'"&G$1&"'!C2:C200")=$A6)*(INDIRECT("'"&G$1&"'!F2:F200"))) -> 3 | S6: =F6+G6+H6+I6+K6+J6+L6+M6+N6+O6+P6+Q6+R6 -> 37 | T6: Rhubarbe
A7: 5 | B7: Ail (gros bulbe) | C7: LÃ©gumes / Ail | D7: 1 | E7: =F7+G7+H7+I7+K7+J7+L7+M7+N7+O7+P7+Q7+R7 -> 0 | F7: =SUMPRODUCT((INDIRECT("'"&F$1&"'!C2:C200")=$A7)*(INDIRECT("'"&F$1&"'!F2:F200"))) -> 0 | G7: =SUMPRODUCT((INDIRECT("'"&G$1&"'!C2:C200")=$A7)*(INDIRECT("'"&G$1&"'!F2:F200"))) -> 0 | H7: =SUMPRODUCT((INDIRECT("'"&H$1&"'!C2:C200")=$A7)*(INDIRECT("'"&G$1&"'!F2:F200"))) -> 0 | I7: =SUMPRODUCT((INDIRECT("'"&I$1&"'!C2:C200")=$A7)*(INDIRECT("'"&G$1&"'!F2:F200"))) -> 0 | J7: =SUMPRODUCT((INDIRECT("'"&G$1&"'!C2:C200")=$A7)*(INDIRECT("'"&G$1&"'!F2:F200"))) -> 0 | K7: =SUMPRODUCT((INDIRECT("'"&G$1&"'!C2:C200")=$A7)*(INDIRECT("'"&G$1&"'!F2:F200"))) -> 0 | L7: =SUMPRODUCT((INDIRECT("'"&G$1&"'!C2:C200")=$A7)*(INDIRECT("'"&G$1&"'!F2:F200"))) -> 0 | M7: =SUMPRODUCT((INDIRECT("'"&G$1&"'!C2:C200")=$A7)*(INDIRECT("'"&G$1&"'!F2:F200"))) -> 0 | N7: =SUMPRODUCT((INDIRECT("'"&G$1&"'!C2:C200")=$A7)*(INDIRECT("'"&G$1&"'!F2:F200"))) -> 0 | O7: =SUMPRODUCT((INDIRECT("'"&G$1&"'!C2:C200")=$A7)*(INDIRECT("'"&G$1&"'!F2:F200"))) -> 0 | P7: =SUMPRODUCT((INDIRECT("'"&G$1&"'!C2:C200")=$A7)*(INDIRECT("'"&G$1&"'!F2:F200"))) -> 0 | Q7: =SUMPRODUCT((INDIRECT("'"&G$1&"'!C2:C200")=$A7)*(INDIRECT("'"&G$1&"'!F2:F200"))) -> 0 | R7: =SUMPRODUCT((INDIRECT("'"&G$1&"'!C2:C200")=$A7)*(INDIRECT("'"&G$1&"'!F2:F200"))) -> 0 | S7: =F7+G7+H7+I7+K7+J7+L7+M7+N7+O7+P7+Q7+R7 -> 0 | T7: Ail (gros bulbe)
A8: 6 | B8: Ail (petit bulbe) | C8: LÃ©gumes / Ail | D8: 0.5 | E8: =F8+G8+H8+I8+K8+J8+L8+M8+N8+O8+P8+Q8+R8 -> 0 | F8: =SUMPRODUCT((INDIRECT("'"&F$1&"'!C2:C200")=$A8)*(INDIRECT("'"&F$1&"'!F2:F200"))) -> 0 | G8: =SUMPRODUCT((INDIRECT("'"&G$1&"'!C2:C200")=$A8)*(INDIRECT("'"&G$1&"'!F2:F200"))) -> 0 | H8: =SUMPRODUCT((INDIRECT("'"&H$1&"'!C2:C200")=$A8)*(INDIRECT("'"&G$1&"'!F2:F200"))) -> 0 | I8: =SUMPRODUCT((INDIRECT("'"&I$1&"'!C2:C200")=$A8)*(INDIRECT("'"&G$1&"'!F2:F200"))) -> 0 | J8: =SUMPRODUCT((INDIRECT("'"&G$1&"'!C2:C200")=$A8)*(INDIRECT("'"&G$1&"'!F2:F200"))) -> 0 | K8: =SUMPRODUCT((INDIRECT("'"&G$1&"'!C2:C200")=$A8)*(INDIRECT("'"&G$1&"'!F2:F200"))) -> 0 | L8: =SUMPRODUCT((INDIRECT("'"&G$1&"'!C2:C200")=$A8)*(INDIRECT("'"&G$1&"'!F2:F200"))) -> 0 | M8: =SUMPRODUCT((INDIRECT("'"&G$1&"'!C2:C200")=$A8)*(INDIRECT("'"&G$1&"'!F2:F200"))) -> 0 | N8: =SUMPRODUCT((INDIRECT("'"&G$1&"'!C2:C200")=$A8)*(INDIRECT("'"&G$1&"'!F2:F200"))) -> 0 | O8: =SUMPRODUCT((INDIRECT("'"&G$1&"'!C2:C200")=$A8)*(INDIRECT("'"&G$1&"'!F2:F200"))) -> 0 | P8: =SUMPRODUCT((INDIRECT("'"&G$1&"'!C2:C200")=$A8)*(INDIRECT("'"&G$1&"'!F2:F200"))) -> 0 | Q8: =SUMPRODUCT((INDIRECT("'"&G$1&"'!C2:C200")=$A8)*(INDIRECT("'"&G$1&"'!F2:F200"))) -> 0 | R8: =SUMPRODUCT((INDIRECT("'"&G$1&"'!C2:C200")=$A8)*(INDIRECT("'"&G$1&"'!F2:F200"))) -> 0 | S8: =F8+G8+H8+I8+K8+J8+L8+M8+N8+O8+P8+Q8+R8 -> 0 | T8: Ail (petit bulbe)
A9: 7 | B9: Ail (gros bulbe) paquet de 12 | C9: LÃ©gumes / Ail | D9: 10 | E9: =F9+G9+H9+I9+K9+J9+L9+M9+N9+O9+P9+Q9+R9 -> 0 | F9: =SUMPRODUCT((INDIRECT("'"&F$1&"'!C2:C200")=$A9)*(INDIRECT("'"&F$1&"'!F2:F200"))) -> 0 | G9: =SUMPRODUCT((INDIRECT("'"&G$1&"'!C2:C200")=$A9)*(INDIRECT("'"&G$1&"'!F2:F200"))) -> 0 | H9: =SUMPRODUCT((INDIRECT("'"&H$1&"'!C2:C200")=$A9)*(INDIRECT("'"&G$1&"'!F2:F200"))) -> 0 | I9: =SUMPRODUCT((INDIRECT("'"&I$1&"'!C2:C200")=$A9)*(INDIRECT("'"&G$1&"'!F2:F200"))) -> 0 | J9: =SUMPRODUCT((INDIRECT("'"&G$1&"'!C2:C200")=$A9)*(INDIRECT("'"&G$1&"'!F2:F200"))) -> 0 | K9: =SUMPRODUCT((INDIRECT("'"&G$1&"'!C2:C200")=$A9)*(INDIRECT("'"&G$1&"'!F2:F200"))) -> 0 | L9: =SUMPRODUCT((INDIRECT("'"&G$1&"'!C2:C200")=$A9)*(INDIRECT("'"&G$1&"'!F2:F200"))) -> 0 | M9: =SUMPRODUCT((INDIRECT("'"&G$1&"'!C2:C200")=$A9)*(INDIRECT("'"&G$1&"'!F2:F200"))) -> 0 | N9: =SUMPRODUCT((INDIRECT("'"&G$1&"'!C2:C200")=$A9)*(INDIRECT("'"&G$1&"'!F2:F200"))) -> 0 | O9: =SUMPRODUCT((INDIRECT("'"&G$1&"'!C2:C200")=$A9)*(INDIRECT("'"&G$1&"'!F2:F200"))) -> 0 | P9: =SUMPRODUCT((INDIRECT("'"&G$1&"'!C2:C200")=$A9)*(INDIRECT("'"&G$1&"'!F2:F200"))) -> 0 | Q9: =SUMPRODUCT((INDIRECT("'"&G$1&"'!C2:C200")=$A9)*(INDIRECT("'"&G$1&"'!F2:F200"))) -> 0 | R9: =SUMPRODUCT((INDIRECT("'"&G$1&"'!C2:C200")=$A9)*(INDIRECT("'"&G$1&"'!F2:F200"))) -> 0 | S9: =F9+G9+H9+I9+K9+J9+L9+M9+N9+O9+P9+Q9+R9 -> 0 | T9: Ail (gros bulbe) paquet de 12
A10: 8 | B10: Origan jaune | C10: Herbes | D10: 0.5 | E10: =F10+G10+H10+I10+K10+J10+L10+M10+N10+O10+P10+Q10+R10 -> 10 | F10: =SUMPRODUCT((INDIRECT("'"&F$1&"'!C2:C200")=$A10)*(INDIRECT("'"&F$1&"'!F2:F200"))) -> 0 | G10: =SUMPRODUCT((INDIRECT("'"&G$1&"'!C2:C200")=$A10)*(INDIRECT("'"&G$1&"'!F2:F200"))) -> 1 | H10: =SUMPRODUCT((INDIRECT("'"&H$1&"'!C2:C200")=$A10)*(INDIRECT("'"&G$1&"'!F2:F200"))) -> 0 | I10: =SUMPRODUCT((INDIRECT("'"&I$1&"'!C2:C200")=$A10)*(INDIRECT("'"&G$1&"'!F2:F200"))) -> 0 | J10: =SUMPRODUCT((INDIRECT("'"&G$1&"'!C2:C200")=$A10)*(INDIRECT("'"&G$1&"'!F2:F200"))) -> 1 | K10: =SUMPRODUCT((INDIRECT("'"&G$1&"'!C2:C200")=$A10)*(INDIRECT("'"&G$1&"'!F2:F200"))) -> 1 | L10: =SUMPRODUCT((INDIRECT("'"&G$1&"'!C2:C200")=$A10)*(INDIRECT("'"&G$1&"'!F2:F200"))) -> 1 | M10: =SUMPRODUCT((INDIRECT("'"&G$1&"'!C2:C200")=$A10)*(INDIRECT("'"&G$1&"'!F2:F200"))) -> 1 | N10: =SUMPRODUCT((INDIRECT("'"&G$1&"'!C2:C200")=$A10)*(INDIRECT("'"&G$1&"'!F2:F200"))) -> 1 | O10: =SUMPRODUCT((INDIRECT("'"&G$1&"'!C2:C200")=$A10)*(INDIRECT("'"&G$1&"'!F2:F200"))) -> 1 | P10: =SUMPRODUCT((INDIRECT("'"&G$1&"'!C2:C200")=$A10)*(INDIRECT("'"&G$1&"'!F2:F200"))) -> 1 | Q10: =SUMPRODUCT((INDIRECT("'"&G$1&"'!C2:C200")=$A10)*(INDIRECT("'"&G$1&"'!F2:F200"))) -> 1 | R10: =SUMPRODUCT((INDIRECT("'"&G$1&"'!C2:C200")=$A10)*(INDIRECT("'"&G$1&"'!F2:F200"))) -> 1 | S10: =F10+G10+H10+I10+K10+J10+L10+M10+N10+O10+P10+Q10+R10 -> 10 | T10: Origan jaune
A11: 9 | B11: Estragon russe | C11: Herbes | D11: 0.5 | E11: =F11+G11+H11+I11+K11+J11+L11+M11+N11+O11+P11+Q11+R11 -> 0 | F11: =SUMPRODUCT((INDIRECT("'"&F$1&"'!C2:C200")=$A11)*(INDIRECT("'"&F$1&"'!F2:F200"))) -> 0 | G11: =SUMPRODUCT((INDIRECT("'"&G$1&"'!C2:C200")=$A11)*(INDIRECT("'"&G$1&"'!F2:F200"))) -> 0 | H11: =SUMPRODUCT((INDIRECT("'"&H$1&"'!C2:C200")=$A11)*(INDIRECT("'"&G$1&"'!F2:F200"))) -> 0 | I11: =SUMPRODUCT((INDIRECT("'"&I$1&"'!C2:C200")=$A11)*(INDIRECT("'"&G$1&"'!F2:F200"))) -> 0 | J11: =SUMPRODUCT((INDIRECT("'"&G$1&"'!C2:C200")=$A11)*(INDIRECT("'"&G$1&"'!F2:F200"))) -> 0 | K11: =SUMPRODUCT((INDIRECT("'"&G$1&"'!C2:C200")=$A11)*(INDIRECT("'"&G$1&"'!F2:F200"))) -> 0 | L11: =SUMPRODUCT((INDIRECT("'"&G$1&"'!C2:C200")=$A11)*(INDIRECT("'"&G$1&"'!F2:F200"))) -> 0 | M11: =SUMPRODUCT((INDIRECT("'"&G$1&"'!C2:C200")=$A11)*(INDIRECT("'"&G$1&"'!F2:F200"))) -> 0 | N11: =SUMPRODUCT((INDIRECT("'"&G$1&"'!C2:C200")=$A11)*(INDIRECT("'"&G$1&"'!F2:F200"))) -> 0 | O11: =SUMPRODUCT((INDIRECT("'"&G$1&"'!C2:C200")=$A11)*(INDIRECT("'"&G$1&"'!F2:F200"))) -> 0 | P11: =SUMPRODUCT((INDIRECT("'"&G$1&"'!C2:C200")=$A11)*(INDIRECT("'"&G$1&"'!F2:F200"))) -> 0 | Q11: =SUMPRODUCT((INDIRECT("'"&G$1&"'!C2:C200")=$A11)*(INDIRECT("'"&G$1&"'!F2:F200"))) -> 0 | R11: =SUMPRODUCT((INDIRECT("'"&G$1&"'!C2:C200")=$A11)*(INDIRECT("'"&G$1&"'!F2:F200"))) -> 0 | S11: =F11+G11+H11+I11+K11+J11+L11+M11+N11+O11+P11+Q11+R11 -> 0 | T11: Estragon russe
A12: 10 | B12: LivÃ¨che | C12: Herbes | D12: 0.5 | E12: =F12+G12+H12+I12+K12+J12+L12+M12+N12+O12+P12+Q12+R12 -> 0 | F12: =SUMPRODUCT((INDIRECT("'"&F$1&"'!C2:C200")=$A12)*(INDIRECT("'"&F$1&"'!F2:F200"))) -> 0 | G12: =SUMPRODUCT((INDIRECT("'"&G$1&"'!C2:C200")=$A12)*(INDIRECT("'"&G$1&"'!F2:F200"))) -> 0 | H12: =SUMPRODUCT((INDIRECT("'"&H$1&"'!C2:C200")=$A12)*(INDIRECT("'"&G$1&"'!F2:F200"))) -> 0 | I12: =SUMPRODUCT((INDIRECT("'"&I$1&"'!C2:C200")=$A12)*(INDIRECT("'"&G$1&"'!F2:F200"))) -> 0 | J12: =SUMPRODUCT((INDIRECT("'"&G$1&"'!C2:C200")=$A12)*(INDIRECT("'"&G$1&"'!F2:F200"))) -> 0 | K12: =SUMPRODUCT((INDIRECT("'"&G$1&"'!C2:C200")=$A12)*(INDIRECT("'"&G$1&"'!F2:F200"))) -> 0 | L12: =SUMPRODUCT((INDIRECT("'"&G$1&"'!C2:C200")=$A12)*(INDIRECT("'"&G$1&"'!F2:F200"))) -> 0 | M12: =SUMPRODUCT((INDIRECT("'"&G$1&"'!C2:C200")=$A12)*(INDIRECT("'"&G$1&"'!F2:F200"))) -> 0 | N12: =SUMPRODUCT((INDIRECT("'"&G$1&"'!C2:C200")=$A12)*(INDIRECT("'"&G$1&"'!F2:F200"))) -> 0 | O12: =SUMPRODUCT((INDIRECT("'"&G$1&"'!C2:C200")=$A12)*(INDIRECT("'"&G$1&"'!F2:F200"))) -> 0 | P12: =SUMPRODUCT((INDIRECT("'"&G$1&"'!C2:C200")=$A12)*(INDIRECT("'"&G$1&"'!F2:F200"))) -> 0 | Q12: =SUMPRODUCT((INDIRECT("'"&G$1&"'!C2:C200")=$A12)*(INDIRECT("'"&G$1&"'!F2:F200"))) -> 0 | R12: =SUMPRODUCT((INDIRECT("'"&G$1&"'!C2:C200")=$A12)*(INDIRECT("'"&G$1&"'!F2:F200"))) -> 0 | S12: =F12+G12+H12+I12+K12+J12+L12+M12+N12+O12+P12+Q12+R12 -> 0 | T12: LivÃ¨che
A13: 11 | B13: Sariette | C13: Herbes | D13: 0.5 | E13: =F13+G13+H13+I13+K13+J13+L13+M13+N13+O13+P13+Q13+R13 -> 0 | F13: =SUMPRODUCT((INDIRECT("'"&F$1&"'!C2:C200")=$A13)*(INDIRECT("'"&F$1&"'!F2:F200"))) -> 0 | G13: =SUMPRODUCT((INDIRECT("'"&G$1&"'!C2:C200")=$A13)*(INDIRECT("'"&G$1&"'!F2:F200"))) -> 0 | H13: =SUMPRODUCT((INDIRECT("'"&H$1&"'!C2:C200")=$A13)*(INDIRECT("'"&G$1&"'!F2:F200"))) -> 0 | I13: =SUMPRODUCT((INDIRECT("'"&I$1&"'!C2:C200")=$A13)*(INDIRECT("'"&G$1&"'!F2:F200"))) -> 0 | J13: =SUMPRODUCT((INDIRECT("'"&G$1&"'!C2:C200")=$A13)*(INDIRECT("'"&G$1&"'!F2:F200"))) -> 0 | K13: =SUMPRODUCT((INDIRECT("'"&G$1&"'!C2:C200")=$A13)*(INDIRECT("'"&G$1&"'!F2:F200"))) -> 0 | L13: =SUMPRODUCT((INDIRECT("'"&G$1&"'!C2:C200")=$A13)*(INDIRECT("'"&G$1&"'!F2:F200"))) -> 0 | M13: =SUMPRODUCT((INDIRECT("'"&G$1&"'!C2:C200")=$A13)*(INDIRECT("'"&G$1&"'!F2:F200"))) -> 0 | N13: =SUMPRODUCT((INDIRECT("'"&G$1&"'!C2:C200")=$A13)*(INDIRECT("'"&G$1&"'!F2:F200"))) -> 0 | O13: =SUMPRODUCT((INDIRECT("'"&G$1&"'!C2:C200")=$A13)*(INDIRECT("'"&G$1&"'!F2:F200"))) -> 0 | P13: =SUMPRODUCT((INDIRECT("'"&G$1&"'!C2:C200")=$A13)*(INDIRECT("'"&G$1&"'!F2:F200"))) -> 0 | Q13: =SUMPRODUCT((INDIRECT("'"&G$1&"'!C2:C200")=$A13)*(INDIRECT("'"&G$1&"'!F2:F200"))) -> 0 | R13: =SUMPRODUCT((INDIRECT("'"&G$1&"'!C2:C200")=$A13)*(INDIRECT("'"&G$1&"'!F2:F200"))) -> 0 | S13: =F13+G13+H13+I13+K13+J13+L13+M13+N13+O13+P13+Q13+R13 -> 0 | T13: Sariette
... A136: 138 | B136: Radis melon d'eau | C136: LÃ©gumes / Radis | D136: 1.5 | E136: =F136+G136+H136+I136+K136+J136+L136+M136+N136+O136+P136+Q136+R136 -> 6 | F136: =SUMPRODUCT((INDIRECT("'"&F$1&"'!C2:C200")=$A136)*(INDIRECT("'"&F$1&"'!F2:F200"))) -> 0 | G136: =SUMPRODUCT((INDIRECT("'"&G$1&"'!C2:C200")=$A136)*(INDIRECT("'"&G$1&"'!F2:F200"))) -> 0 | H136: =SUMPRODUCT((INDIRECT("'"&H$1&"'!C2:C200")=$A136)*(INDIRECT("'"&G$1&"'!F2:F200"))) -> 6 | I136: =SUMPRODUCT((INDIRECT("'"&I$1&"'!C2:C200")=$A136)*(INDIRECT("'"&G$1&"'!F2:F200"))) -> 0 | J136: =SUMPRODUCT((INDIRECT("'"&G$1&"'!C2:C200")=$A136)*(INDIRECT("'"&G$1&"'!F2:F200"))) -> 0 | K136: =SUMPRODUCT((INDIRECT("'"&G$1&"'!C2:C200")=$A136)*(INDIRECT("'"&G$1&"'!F2:F200"))) -> 0 | L136: =SUMPRODUCT((INDIRECT("'"&G$1&"'!C2:C200")=$A136)*(INDIRECT("'"&G$1&"'!F2:F200"))) -> 0 | M136: =SUMPRODUCT((INDIRECT("'"&G$1&"'!C2:C200")=$A136)*(INDIRECT("'"&G$1&"'!F2:F200"))) -> 0 | N136: =SUMPRODUCT((INDIRECT("'"&G$1&"'!C2:C200")=$A136)*(INDIRECT("'"&G$1&"'!F2:F200"))) -> 0 | O136: =SUMPRODUCT((INDIRECT("'"&G$1&"'!C2:C200")=$A136)*(INDIRECT("'"&G$1&"'!F2:F200"))) -> 0 | P136: =SUMPRODUCT((INDIRECT("'"&G$1&"'!C2:C200")=$A136)*(INDIRECT("'"&G$1&"'!F2:F200"))) -> 0 | Q136: =SUMPRODUCT((INDIRECT("'"&G$1&"'!C2:C200")=$A136)*(INDIRECT("'"&G$1&"'!F2:F200"))) -> 0 | R136: =SUMPRODUCT((INDIRECT("'"&G$1&"'!C2:C200")=$A136)*(INDIRECT("'"&G$1&"'!F2:F200"))) -> 0 | S136: =F136+G136+H136+I136+K136+J136+L136+M136+N136+O136+P136+Q136+R136 -> 6 | T136: Radis melon d'eau
E137: =F137+G137+H137+I137+K137+J137+L137+M137+N137+O137+P137+Q137+R137 -> 0
E138: =F138+G138+H138+I138+K138+J138+L138+M138+N138+O138+P138+Q138+R138 -> 0
E139: =F139+G139+H139+I139+K139+J139+L139+M139+N139+O139+P139+Q139+R139 -> 0
E140: =F140+G140+H140+I140+K140+J140+L140+M140+N140+O140+P140+Q140+R140 -> 0
E141: =F141+G141+H141+I141+K141+J141+L141+M141+N141+O141+P141+Q141+R141 -> 0
E142: =F142+G142+H142+I142+K142+J142+L142+M142+N142+O142+P142+Q142+R142 -> 0
E143: =F143+G143+H143+I143+K143+J143+L143+M143+N143+O143+P143+Q143+R143 -> 0
E144: =F144+G144+H144+I144+K144+J144+L144+M144+N144+O144+P144+Q144+R144 -> 0
E145: =F145+G145+H145+I145+K145+J145+L145+M145+N145+O145+P145+Q145+R145 -> 0
E146: =F146+G146+H146+I146+K146+J146+L146+M146+N146+O146+P146+Q146+R146 -> 0
E147: =F147+G147+H147+I147+K147+J147+L147+M147+N147+O147+P147+Q147+R147 -> 0
E148: =F148+G148+H148+I148+K148+J148+L148+M148+N148+O148+P148+Q148+R148 -> 0
E149: =F149+G149+H149+I149+K149+J149+L149+M149+N149+O149+P149+Q149+R149 -> 0
F150: =SUM(F2:F149) -> 29 | G150: =SUM(G2:G149) -> 97
A157: 25 | B157: Produit inexisatant
A158: 28 | B158: Produit inexisatant
A159: 78 | B159: Produit inexisatant

Sheet Semaine 1
A1: order_number | B1: email | C1: sku | D1: name | E1: total | F1: quantity | G1: timestamp | H1: payment_method | I1: order_total | J1: Total
A2: 12 | B2: cote-david@hotmail.com | C2: 36 | D2: Valbert | E2: 3.15 | F2: 1 | G2: Jun 26, 2017 01:43 PM | H2: PayPal | I2: 8.65 | J2: =IF($A3<>$A2,SUM($E$2:$E2)-SUM(I$1:I1),"")
A3: 12 | B3: cote-david@hotmail.com | C3: 15 | D3: Persil | E3: 0.5 | F3: 1 | G3: Jun 26, 2017 01:43 PM | H3: PayPal | I3: 8.65 | J3: =IF($A4<>$A3,SUM($E$2:$E3)-SUM(J$1:J2),"")
A4: 12 | B4: cote-david@hotmail.com | C4: 12 | D4: Bouquet de Ciboulette | E4: 0.5 | F4: 1 | G4: Jun 26, 2017 01:43 PM | H4: PayPal | I4: 8.65 | J4: =IF($A5<>$A4,SUM($E$2:$E4)-SUM(J$1:J3),"")
A5: 12 | B5: cote-david@hotmail.com | C5: 48 | D5: Laitue variÃ©e (piquante) | E5: 2.5 | F5: 1 | G5: Jun 26, 2017 01:43 PM | H5: PayPal | I5: 8.65 | J5: =IF($A6<>$A5,SUM($E$2:$E5)-SUM(J$1:J4),"") | K5: =SUM(J2:J200) -> 51.65 | L5: Vente total ($)
A6: 12 | B6: cote-david@hotmail.com | C6: 49 | D6: Roquette | E6: 2 | F6: 1 | G6: Jun 26, 2017 01:43 PM | H6: PayPal | I6: 8.65 | J6: =IF($A7<>$A6,SUM($E$2:$E6)-SUM(J$1:J5),"") -> 8.65 | K6: =SUM(F2:F200) -> 29 | L6: Nb produits vendus
A7: 11 | B7: potvinvicky@hotmail.com | C7: 4 | D7: Rhubarbe | E7: 5 | F7: 2 | G7: Jun 26, 2017 10:12 AM | H7: PayPal | I7: 17.5 | J7: =IF($A8<>$A7,SUM($E$2:$E7)-SUM(J$1:J6),"")
A8: 11 | B8: potvinvicky@hotmail.com | C8: 45 | D8: Fleurs d'ail | E8: 4 | F8: 2 | G8: Jun 26, 2017 10:12 AM | H8: PayPal | I8: 17.5 | J8: =IF($A9<>$A8,SUM($E$2:$E8)-SUM(J$1:J7),"")
A9: 11 | B9: potvinvicky@hotmail.com | C9: 49 | D9: Roquette | E9: 2 | F9: 1 | G9: Jun 26, 2017 10:12 AM | H9: PayPal | I9: 17.5 | J9: =IF($A10<>$A9,SUM($E$2:$E9)-SUM(J$1:J8),"")
A10: 11 | B10: potvinvicky@hotmail.com | C10: 48 | D10: Laitue variÃ©e (piquante) | E10: 2.5 | F10: 1 | G10: Jun 26, 2017 10:12 AM | H10: PayPal | I10: 17.5 | J10: =IF($A11<>$A10,SUM($E$2:$E10)-SUM(J$1:J9),"")
A11: 11 | B11: potvinvicky@hotmail.com | C11: 47 | D11: Laitue variÃ©e | E11: 2.5 | F11: 1 | G11: Jun 26, 2017 10:12 AM | H11: PayPal | I11: 17.5 | J11: =IF($A12<>$A11,SUM($E$2:$E11)-SUM(J$1:J10),"")
A12: 11 | B12: potvinvicky@hotmail.com | C12: 17 | D12: Thym | E12: 0.5 | F12: 1 | G12: Jun 26, 2017 10:12 AM | H12: PayPal | I12: 17.5 | J12: =IF($A13<>$A12,SUM($E$2:$E12)-SUM(J$1:J11),"")
A13: 11 | B13: potvinvicky@hotmail.com | C13: 53 | D13: Bouquet de Cresson | E13: 1 | F13: 1 | G13: Jun 26, 2017 10:12 AM | H13: PayPal | I13: 17.5 | J13: =IF($A14<>$A13,SUM($E$2:$E13)-SUM(J$1:J12),"") -> 17.5
A14: 10 | B14: anniemaltaistee@cegepjonquiere.ca | C14: 51 | D14: Radis (oeuf de pÃ¢ques) | E14: 1.5 | F14: 1 | G14: Jun 25, 2017 09:03 PM | H14: PayPal | I14: 9 | J14: =IF($A15<>$A14,SUM($E$2:$E14)-SUM(J$1:J13),"")
A15: 10 | B15: anniemaltaistee@cegepjonquiere.ca | C15: 47 | D15: Laitue variÃ©e | E15: 5 | F15: 2 | G15: Jun 25, 2017 09:03 PM | H15: PayPal | I15: 9 | J15: =IF($A16<>$A15,SUM($E$2:$E15)-SUM(J$1:J14),"")
A16: 10 | B16: anniemaltaistee@cegepjonquiere.ca | C16: 12 | D16: Bouquet de Ciboulette | E16: 0.5 | F16: 1 | G16: Jun 25, 2017 09:03 PM | H16: PayPal | I16: 9 | J16: =IF($A17<>$A16,SUM($E$2:$E16)-SUM(J$1:J15),"")
A17: 10 | B17: anniemaltaistee@cegepjonquiere.ca | C17: 15 | D17: Persil | E17: 0.5 | F17: 1 | G17: Jun 25, 2017 09:03 PM | H17: PayPal | I17: 9 | J17: =IF($A18<>$A17,SUM($E$2:$E17)-SUM(J$1:J16),"")
A18: 10 | B18: anniemaltaistee@cegepjonquiere.ca | C18: 14 | D18: Menthe | E18: 0.5 | F18: 1 | G18: Jun 25, 2017 09:03 PM | H18: PayPal | I18: 9 | J18: =IF($A19<>$A18,SUM($E$2:$E18)-SUM(J$1:J17),"")
... A26: 8 | B26: leskat@digicom.qc.ca | C26: 52 | D26: Radis (French Breakfast) | E26: 1.5 | F26: 1 | G26: Jun 23, 2017 10:59 AM | H26: Carte de crÃ©dit | I26: 8 | J26: =IF($A27<>$A26,SUM($E$2:$E26)-SUM(J$1:J25),"") -> 8
J27: =IF($A28<>$A27,SUM($E$2:$E27)-SUM(J$1:J26),"")
J28: =IF($A29<>$A28,SUM($E$2:$E28)-SUM(J$1:J27),"")
J29: =IF($A30<>$A29,SUM($E$2:$E29)-SUM(J$1:J28),"")
J30: =IF($A31<>$A30,SUM($E$2:$E30)-SUM(J$1:J29),"")
J31: =IF($A32<>$A31,SUM($E$2:$E31)-SUM(J$1:J30),"")
J32: =IF($A33<>$A32,SUM($E$2:$E32)-SUM(J$1:J31),"")
J33: =IF($A34<>$A33,SUM($E$2:$E33)-SUM(J$1:J32),"")
J34: =IF($A35<>$A34,SUM($E$2:$E34)-SUM(J$1:J33),"")
J35: =IF($A36<>$A35,SUM($E$2:$E35)-SUM(J$1:J34),"")
J36: =IF($A37<>$A36,SUM($E$2:$E36)-SUM(J$1:J35),"")
J37: =IF($A38<>$A37,SUM($E$2:$E37)-SUM(J$1:J36),"")
J38: =IF($A39<>$A38,SUM($E$2:$E38)-SUM(J$1:J37),"")
... J200: =IF($A201<>$A200,SUM($E$2:$E200)-SUM(J$1:J199),"")

Sheet Semaine 2
A1: order_number | B1: email | C1: sku | D1: name | E1: total | F1: quantity | G1: timestamp | H1: payment_method | I1: order_total | J1: Total
A2: 23 | B2: potvinvicky@hotmail.com | C2: 39 | D2: Escotay | E2: 5.7 | F2: 2 | G2: Jul 12, 2017 02:56 PM | H2: PayPal | I2: 28.9 | J2: =IF($A3<>$A2,SUM($E$2:$E2)-SUM(I$1:I1),"")
A3: 23 | B3: potvinvicky@hotmail.com | C3: 38 | D3: KÃ©nogami | E3: 5.7 | F3: 2 | G3: Jul 12, 2017 02:56 PM | H3: PayPal | I3: 28.9 | J3: =IF($A4<>$A3,SUM($E$2:$E3)-SUM(J$1:J2),"")
A4: 23 | B4: potvinvicky@hotmail.com | C4: 37 | D4: Pikauba | E4: 2.95 | F4: 1 | G4: Jul 12, 2017 02:56 PM | H4: PayPal | I4: 28.9 | J4: =IF($A5<>$A4,SUM($E$2:$E4)-SUM(J$1:J3),"")
A5: 23 | B5: potvinvicky@hotmail.com | C5: 36 | D5: Valbert | E5: 3.15 | F5: 1 | G5: Jul 12, 2017 02:56 PM | H5: PayPal | I5: 28.9 | J5: =IF($A6<>$A5,SUM($E$2:$E5)-SUM(J$1:J4),"") | K5: =SUM(J2:J55) -> 154.15 | L5: Vente total ($)
A6: 23 | B6: potvinvicky@hotmail.com | C6: 97 | D6: Oignons verts | E6: 0.9 | F6: 6 | G6: Jul 12, 2017 02:56 PM | H6: PayPal | I6: 28.9 | J6: =IF($A7<>$A6,SUM($E$2:$E6)-SUM(J$1:J5),"") | K6: =SUM(F2:F135) -> 97 | L6: Nb produits vendus
A7: 23 | B7: potvinvicky@hotmail.com | C7: 45 | D7: Fleurs d'ail 10 | E7: 2 | F7: 1 | G7: Jul 12, 2017 02:56 PM | H7: PayPal | I7: 28.9 | J7: =IF($A8<>$A7,SUM($E$2:$E7)-SUM(J$1:J6),"")
A8: 23 | B8: potvinvicky@hotmail.com | C8: 48 | D8: Laitue variÃ©e (piquante) | E8: 2.5 | F8: 1 | G8: Jul 12, 2017 02:56 PM | H8: PayPal | I8: 28.9 | J8: =IF($A9<>$A8,SUM($E$2:$E8)-SUM(J$1:J7),"")
A9: 23 | B9: potvinvicky@hotmail.com | C9: 49 | D9: Roquette | E9: 2 | F9: 1 | G9: Jul 12, 2017 02:56 PM | H9: PayPal | I9: 28.9 | J9: =IF($A10<>$A9,SUM($E$2:$E9)-SUM(J$1:J8),"")
A10: 23 | B10: potvinvicky@hotmail.com | C10: 15 | D10: Persil | E10: 1 | F10: 2 | G10: Jul 12, 2017 02:56 PM | H10: PayPal | I10: 28.9 | J10: =IF($A11<>$A10,SUM($E$2:$E10)-SUM(J$1:J9),"")
A11: 23 | B11: potvinvicky@hotmail.com | C11: 17 | D11: Thym | E11: 0.5 | F11: 1 | G11: Jul 12, 2017 02:56 PM | H11: PayPal | I11: 28.9 | J11: =IF($A12<>$A11,SUM($E$2:$E11)-SUM(J$1:J10),"")
A12: 23 | B12: potvinvicky@hotmail.com | C12: 53 | D12: Cresson | E12: 1 | F12: 1 | G12: Jul 12, 2017 02:56 PM | H12: PayPal | I12: 28.9 | J12: =IF($A13<>$A12,SUM($E$2:$E12)-SUM(J$1:J11),"")
A13: 23 | B13: potvinvicky@hotmail.com | C13: 57 | D13: Coriandre | E13: 1.5 | F13: 3 | G13: Jul 12, 2017 02:56 PM | H13: PayPal | I13: 28.9 | J13: =IF($A14<>$A13,SUM($E$2:$E13)-SUM(J$1:J12),"") -> 28.9
A14: 22 | B14: pluneln@videotron.ca | C14: 100 | D14: Fraises 500 ml | E14: 7.5 | F14: 3 | G14: Jul 11, 2017 10:41 PM | H14: Paiement Ã la livraison | I14: 21.5 | J14: =IF($A15<>$A14,SUM($E$2:$E14)-SUM(J$1:J13),"")
A15: 22 | B15: pluneln@videotron.ca | C15: 97 | D15: Oignons verts | E15: 1.5 | F15: 10 | G15: Jul 11, 2017 10:41 PM | H15: Paiement Ã la livraison | I15: 21.5 | J15: =IF($A16<>$A15,SUM($E$2:$E15)-SUM(J$1:J14),"")
A16: 22 | B16: pluneln@videotron.ca | C16: 46 | D16: Fleurs d'ail 30 | E16: 5 | F16: 1 | G16: Jul 11, 2017 10:41 PM | H16: Paiement Ã la livraison | I16: 21.5 | J16: =IF($A17<>$A16,SUM($E$2:$E16)-SUM(J$1:J15),"")
A17: 22 | B17: pluneln@videotron.ca | C17: 48 | D17: Laitue variÃ©e (piquante) | E17: 2.5 | F17: 1 | G17: Jul 11, 2017 10:41 PM | H17: Paiement Ã la livraison | I17: 21.5 | J17: =IF($A18<>$A17,SUM($E$2:$E17)-SUM(J$1:J16),"")
A18: 22 | B18: pluneln@videotron.ca | C18: 49 | D18: Roquette | E18: 2 | F18: 1 | G18: Jul 11, 2017 10:41 PM | H18: Paiement Ã la livraison | I18: 21.5 | J18: =IF($A19<>$A18,SUM($E$2:$E18)-SUM(J$1:J17),"")
... A25: 21 | B25: cote-david@hotmail.com | C25: 57 | D25: Coriandre | E25: 0.5 | F25: 1 | G25: Jul 11, 2017 08:30 PM | H25: PayPal | I25: 13.7 | J25: =IF($A26<>$A25,SUM($E$2:$E25)-SUM(J$1:J24),"") -> 13.7
A26: 19 | B26: pascale.beaudoin@mapaq.gouv.qc.ca | C26: 36 | D26: Valbert | E26: 6.3 | F26: 2 | G26: Jul 11, 2017 08:05 PM | H26: Paiement Ã la livraison | I26: 26.15 | J26: =IF($A27<>$A26,SUM($E$2:$E26)-SUM(I$1:I25),"")
A27: 19 | B27: pascale.beaudoin@mapaq.gouv.qc.ca | C27: 38 | D27: KÃ©nogami | E27: 2.85 | F27: 1 | G27: Jul 11, 2017 08:05 PM | H27: Paiement Ã la livraison | I27: 26.15 | J27: =IF($A28<>$A27,SUM($E$2:$E27)-SUM(J$1:J26),"")
A28: 19 | B28: pascale.beaudoin@mapaq.gouv.qc.ca | C28: 95 | D28: Radis variÃ©s | E28: 1.5 | F28: 1 | G28: Jul 11, 2017 08:05 PM | H28: Paiement Ã la livraison | I28: 26.15 | J28: =IF($A29<>$A28,SUM($E$2:$E28)-SUM(J$1:J27),"")
A29: 19 | B29: pascale.beaudoin@mapaq.gouv.qc.ca | C29: 47 | D29: Laitue variÃ©e | E29: 2.5 | F29: 1 | G29: Jul 11, 2017 08:05 PM | H29: Paiement Ã la livraison | I29: 26.15 | J29: =IF($A30<>$A29,SUM($E$2:$E29)-SUM(J$1:J28),"")
A30: 19 | B30: pascale.beaudoin@mapaq.gouv.qc.ca | C30: 48 | D30: Laitue variÃ©e (piquante) | E30: 2.5 | F30: 1 | G30: Jul 11, 2017 08:05 PM | H30: Paiement Ã la livraison | I30: 26.15 | J30: =IF($A31<>$A30,SUM($E$2:$E30)-SUM(J$1:J29),"")
A31: 19 | B31: pascale.beaudoin@mapaq.gouv.qc.ca | C31: 49 | D31: Roquette | E31: 2 | F31: 1 | G31: Jul 11, 2017 08:05 PM | H31: Paiement Ã la livraison | I31: 26.15 | J31: =IF($A32<>$A31,SUM($E$2:$E31)-SUM(J$1:J30),"")
A32: 19 | B32: pascale.beaudoin@mapaq.gouv.qc.ca | C32: 96 | D32: Ã‰pinards | E32: 4 | F32: 1 | G32: Jul 11, 2017 08:05 PM | H32: Paiement Ã la livraison | I32: 26.15 | J32: =IF($A33<>$A32,SUM($E$2:$E32)-SUM(J$1:J31),"")
A33: 19 | B33: pascale.beaudoin@mapaq.gouv.qc.ca | C33: 98 | D33: Navets d'Ã©tÃ© (rabiole) | E33: 4.5 | F33: 3 | G33: Jul 11, 2017 08:05 PM | H33: Paiement Ã la livraison | I33: 26.15 | J33: =IF($A34<>$A33,SUM($E$2:$E33)-SUM(J$1:J32),"") -> 26.15
A34: 18 | B34: jacinthe.bisson@gmail.com | C34: 101 | D34: Fraises 2 L | E34: 6 | F34: 1 | G34: Jul 11, 2017 07:34 PM | H34: PayPal | I34: 11.15 | J34: =IF($A35<>$A34,SUM($E$2:$E34)-SUM(J$1:J33),"")
A35: 18 | B35: jacinthe.bisson@gmail.com | C35: 97 | D35: Oignons verts | E35: 0.15 | F35: 1 | G35: Jul 11, 2017 07:34 PM | H35: PayPal | I35: 11.15 | J35: =IF($A36<>$A35,SUM($E$2:$E35)-SUM(J$1:J34),"")
A36: 18 | B36: jacinthe.bisson@gmail.com | C36: 46 | D36: Fleurs d'ail 30 | E36: 5 | F36: 1 | G36: Jul 11, 2017 07:34 PM | H36: PayPal | I36: 11.15 | J36: =IF($A37<>$A36,SUM($E$2:$E36)-SUM(J$1:J35),"") -> 11.15
A37: 17 | B37: rejean.villeneuve@cgocable.ca | C37: 101 | D37: Fraises 2 L | E37: 6 | F37: 1 | G37: Jul 11, 2017 10:56 AM | H37: Paiement Ã la livraison | I37: 6 | J37: =IF($A38<>$A37,SUM($E$2:$E37)-SUM(J$1:J36),"") -> 6
A38: 16 | B38: anniemaltaistee@cegepjonquiere.ca | C38: 101 | D38: Fraises 2 L | E38: 12 | F38: 2 | G38: Jul 11, 2017 07:49 AM | H38: PayPal | I38: 29.25 | J38: =IF($A39<>$A38,SUM($E$2:$E38)-SUM(J$1:J37),"")
... A49: 15 | B49: leskat@digicom.qc.ca | C49: 98 | D49: Navets d'Ã©tÃ© (rabiole) | E49: 1.5 | F49: 1 | G49: Jul 10, 2017 10:50 PM | H49: PayPal | I49: 17.5 | J49: =IF($A50<>$A49,SUM($E$2:$E49)-SUM(J$1:J48),"") -> 17.5
A50: 14 | B50: tranemmanuelle@gmail.com | C50: 101 | D50: Fraises 2 L | E50: 6 | F50: 1 | G50: Jul 10, 2017 07:04 PM | H50: Paiement Ã la livraison | I50: 22.8 | J50: =IF($A51<>$A50,SUM($E$2:$E50)-SUM(I$1:I49),"")
A51: 14 | B51: tranemmanuelle@gmail.com | C51: 47 | D51: Laitue variÃ©e | E51: 2.5 | F51: 1 | G51: Jul 10, 2017 07:04 PM | H51: Paiement Ã la livraison | I51: 22.8 | J51: =IF($A52<>$A51,SUM($E$2:$E51)-SUM(J$1:J50),"")
A52: 14 | B52: tranemmanuelle@gmail.com | C52: 48 | D52: Laitue variÃ©e (piquante) | E52: 2.5 | F52: 1 | G52: Jul 10, 2017 07:04 PM | H52: Paiement Ã la livraison | I52: 22.8 | J52: =IF($A53<>$A52,SUM($E$2:$E52)-SUM(J$1:J51),"")
A53: 14 | B53: tranemmanuelle@gmail.com | C53: 39 | D53: Escotay | E53: 2.85 | F53: 1 | G53: Jul 10, 2017 07:04 PM | H53: Paiement Ã la livraison | I53: 22.8 | J53: =IF($A54<>$A53,SUM($E$2:$E53)-SUM(J$1:J52),"")
A54: 14 | B54: tranemmanuelle@gmail.com | C54: 36 | D54: Valbert | E54: 3.15 | F54: 1 | G54: Jul 10, 2017 07:04 PM | H54: Paiement Ã la livraison | I54: 22.8 | J54: =IF($A55<>$A54,SUM($E$2:$E54)-SUM(J$1:J53),"")
A55: 14 | B55: tranemmanuelle@gmail.com | C55: 37 | D55: Pikauba | E55: 2.95 | F55: 1 | G55: Jul 10, 2017 07:04 PM | H55: Paiement Ã la livraison | I55: 22.8 | J55: =IF($A56<>$A55,SUM($E$2:$E55)-SUM(J$1:J54),"")
A56: 14 | B56: tranemmanuelle@gmail.com | C56: 38 | D56: KÃ©nogami | E56: 2.85 | F56: 1 | G56: Jul 10, 2017 07:04 PM | H56: Paiement Ã la livraison | I56: 22.8 | J56: =IF($A57<>$A56,SUM($E$2:$E56)-SUM(J$1:J55),"") -> 22.8
J57: =IF($A58<>$A57,SUM($E$2:$E57)-SUM(J$1:J56),"")
J58: =IF($A59<>$A58,SUM($E$2:$E58)-SUM(J$1:J57),"")
J59: =IF($A60<>$A59,SUM($E$2:$E59)-SUM(J$1:J58),"")
J60: =IF($A61<>$A60,SUM($E$2:$E60)-SUM(J$1:J59),"")
J61: =IF($A62<>$A61,SUM($E$2:$E61)-SUM(J$1:J60),"")
J62: =IF($A63<>$A62,SUM($E$2:$E62)-SUM(J$1:J61),"")
J63: =IF($A64<>$A63,SUM($E$2:$E63)-SUM(J$1:J62),"")
J64: =IF($A65<>$A64,SUM($E$2:$E64)-SUM(J$1:J63),"")
J65: =IF($A66<>$A65,SUM($E$2:$E65)-SUM(J$1:J64),"")
J66: =IF($A67<>$A66,SUM($E$2:$E66)-SUM(J$1:J65),"")
J67: =IF($A68<>$A67,SUM($E$2:$E67)-SUM(J$1:J66),"")
J68: =IF($A69<>$A68,SUM($E$2:$E68)-SUM(J$1:J67),"")
... J74: =IF($A75<>$A74,SUM($E$2:$E74)-SUM(J$1:J73),"")
J75: =IF($A76<>$A75,SUM($E$2:$E75)-SUM(I$1:I74),"")
J76: =IF($A77<>$A76,SUM($E$2:$E76)-SUM(J$1:J75),"")
J77: =IF($A78<>$A77,SUM($E$2:$E77)-SUM(J$1:J76),"")
J78: =IF($A79<>$A78,SUM($E$2:$E78)-SUM(J$1:J77),"")
J79: =IF($A80<>$A79,SUM($E$2:$E79)-SUM(J$1:J78),"")
J80: =IF($A81<>$A80,SUM($E$2:$E80)-SUM(J$1:J79),"")
J81: =IF($A82<>$A81,SUM($E$2:$E81)-SUM(J$1:J80),"")
J82: =IF($A83<>$A82,SUM($E$2:$E82)-SUM(J$1:J81),"")
J83: =IF($A84<>$A83,SUM($E$2:$E83)-SUM(J$1:J82),"")
J84: =IF($A85<>$A84,SUM($E$2:$E84)-SUM(J$1:J83),"")
J85: =IF($A86<>$A85,SUM($E$2:$E85)-SUM(J$1:J84),"")
J86: =IF($A87<>$A86,SUM($E$2:$E86)-SUM(J$1:J85),"")
J87: =IF($A88<>$A87,SUM($E$2:$E87)-SUM(J$1:J86),"")
... J99: =IF($A100<>$A99,SUM($E$2:$E99)-SUM(J$1:J98),"")
J100: =IF($A101<>$A100,SUM($E$2:$E100)-SUM(I$1:I99),"")
J101: =IF($A102<>$A101,SUM($E$2:$E101)-SUM(J$1:J100),"")
J102: =IF($A103<>$A102,SUM($E$2:$E102)-SUM(J$1:J101),"")
J103: =IF($A104<>$A103,SUM($E$2:$E103)-SUM(J$1:J102),"")
J104: =IF($A105<>$A104,SUM($E$2:$E104)-SUM(J$1:J103),"")
J105: =IF($A106<>$A105,SUM($E$2:$E105)-SUM(J$1:J104),"")
J106: =IF($A107<>$A106,SUM($E$2:$E106)-SUM(J$1:J105),"")
J107: =IF($A108<>$A107,SUM($E$2:$E107)-SUM(J$1:J106),"")
J108: =IF($A109<>$A108,SUM($E$2:$E108)-SUM(J$1:J107),"")
J109: =IF($A110<>$A109,SUM($E$2:$E109)-SUM(J$1:J108),"")
J110: =IF($A111<>$A110,SUM($E$2:$E110)-SUM(J$1:J109),"")
J111: =IF($A112<>$A111,SUM($E$2:$E111)-SUM(J$1:J110),"")
J112: =IF($A113<>$A112,SUM($E$2:$E112)-SUM(J$1:J111),"")
... J124: =IF($A125<>$A124,SUM($E$2:$E124)-SUM(J$1:J123),"")
J125: =IF($A126<>$A125,SUM($E$2:$E125)-SUM(I$1:I124),"")
J126: =IF($A127<>$A126,SUM($E$2:$E126)-SUM(J$1:J125),"")
J127: =IF($A128<>$A127,SUM($E$2:$E127)-SUM(J$1:J126),"")
J128: =IF($A129<>$A128,SUM($E$2:$E128)-SUM(J$1:J127),"")
J129: =IF($A130<>$A129,SUM($E$2:$E129)-SUM(J$1:J128),"")
J130: =IF($A131<>$A130,SUM($E$2:$E130)-SUM(J$1:J129),"")
J131: =IF($A132<>$A131,SUM($E$2:$E131)-SUM(J$1:J130),"")
J132: =IF($A133<>$A132,SUM($E$2:$E132)-SUM(J$1:J131),"")
J133: =IF($A134<>$A133,SUM($E$2:$E133)-SUM(J$1:J132),"")
J134: =IF($A135<>$A134,SUM($E$2:$E134)-SUM(J$1:J133),"")
J135: =IF($A136<>$A135,SUM($E$2:$E135)-SUM(J$1:J134),"")
J136: =IF($A137<>$A136,SUM($E$2:$E136)-SUM(J$1:J135),"")
J137: =IF($A138<>$A137,SUM($E$2:$E137)-SUM(J$1:J136),"")
... J149: =IF($A150<>$A149,SUM($E$2:$E149)-SUM(J$1:J148),"")
J150: =IF($A151<>$A150,SUM($E$2:$E150)-SUM(I$1:I149),"")
J151: =IF($A152<>$A151,SUM($E$2:$E151)-SUM(J$1:J150),"")
J152: =IF($A153<>$A152,SUM($E$2:$E152)-SUM(J$1:J151),"")
J153: =IF($A154<>$A153,SUM($E$2:$E153)-SUM(J$1:J152),"")
J154: =IF($A155<>$A154,SUM($E$2:$E154)-SUM(J$1:J153),"")
...

Sheet Semaine 3
A1: order_number | B1: email | C1: sku | D1: name | E1: total | F1: quantity | G1: timestamp | H1: payment_method | I1: order_total | J1: Total
A2: 30 | B2: prisci12@hotmail.com | C2: 99 | D2: Piments Hungarian Wax | E2: 1 | F2: 2 | G2: Jul 19, 2017 04:52 PM | H2: PayPal | I2: 11.15 | J2: =IF($A3<>$A2,SUM($E$2:$E2)-SUM(I$1:I1),"")
A3: 30 | B3: prisci12@hotmail.com | C3: 97 | D3: Oignons verts | E3: 0.15 | F3: 1 | G3: Jul 19, 2017 04:52 PM | H3: PayPal | I3: 11.15 | J3: =IF($A4<>$A3,SUM($E$2:$E3)-SUM(J$1:J2),"")
A4: 30 | B4: prisci12@hotmail.com | C4: 72 | D4: Ail frais | E4: 1.5 | F4: 3 | G4: Jul 19, 2017 04:52 PM | H4: PayPal | I4: 11.15 | J4: =IF($A5<>$A4,SUM($E$2:$E4)-SUM(J$1:J3),"")
A5: 30 | B5: prisci12@hotmail.com | C5: 138 | D5: Radis melon d'eau | E5: 1.5 | F5: 1 | G5: Jul 19, 2017 04:52 PM | H5: PayPal | I5: 11.15 | J5: =IF($A6<>$A5,SUM($E$2:$E5)-SUM(J$1:J4),"") | K5: =SUM(J2:J55) -> 91.65 | L5: Vente total ($)
A6: 30 | B6: prisci12@hotmail.com | C6: 47 | D6: Laitue variÃ©e | E6: 2.5 | F6: 1 | G6: Jul 19, 2017 04:52 PM | H6: PayPal | I6: 11.15 | J6: =IF($A7<>$A6,SUM($E$2:$E6)-SUM(J$1:J5),"") | K6: =SUM(F2:F135) -> 63 | L6: Nb produits vendus
A7: 30 | B7: prisci12@hotmail.com | C7: 137 | D7: Laitue en pomme "Edox" | E7: 2.5 | F7: 1 | G7: Jul 19, 2017 04:52 PM | H7: PayPal | I7: 11.15 | J7: =IF($A8<>$A7,SUM($E$2:$E7)-SUM(J$1:J6),"")
A8: 30 | B8: prisci12@hotmail.com | C8: 57 | D8: Coriandre | E8: 0.5 | F8: 1 | G8: Jul 19, 2017 04:52 PM | H8: PayPal | I8: 11.15 | J8: =IF($A9<>$A8,SUM($E$2:$E8)-SUM(J$1:J7),"")
A9: 30 | B9: prisci12@hotmail.com | C9: 98 | D9: Navets d'Ã©tÃ© (rabiole) | E9: 1.5 | F9: 1 | G9: Jul 19, 2017 04:52 PM | H9: PayPal | I9: 11.15 | J9: =IF($A10<>$A9,SUM($E$2:$E9)-SUM(J$1:J8),"") -> 11.15
A10: 29 | B10: mariloulaprise@yahoo.com | C10: 97 | D10: Oignons verts | E10: 0.75 | F10: 5 | G10: Jul 19, 2017 02:27 PM | H10: Paiement Ã la livraison | I10: 16.25 | J10: =IF($A11<>$A10,SUM($E$2:$E10)-SUM(J$1:J9),"")
A11: 29 | B11: mariloulaprise@yahoo.com | C11: 138 | D11: Radis melon d'eau | E11: 3 | F11: 2 | G11: Jul 19, 2017 02:27 PM | H11: Paiement Ã la livraison | I11: 16.25 | J11: =IF($A12<>$A11,SUM($E$2:$E11)-SUM(J$1:J10),"")
A12: 29 | B12: mariloulaprise@yahoo.com | C12: 96 | D12: Ã‰pinards | E12: 4 | F12: 1 | G12: Jul 19, 2017 02:27 PM | H12: Paiement Ã la livraison | I12: 16.25 | J12: =IF($A13<>$A12,SUM($E$2:$E12)-SUM(J$1:J11),"")
A13: 29 | B13: mariloulaprise@yahoo.com | C13: 136 | D13: Laitue en pomme "New Red Fire" | E13: 2.5 | F13: 1 | G13: Jul 19, 2017 02:27 PM | H13: Paiement Ã la livraison | I13: 16.25 | J13: =IF($A14<>$A13,SUM($E$2:$E13)-SUM(J$1:J12),"")
A14: 29 | B14: mariloulaprise@yahoo.com | C14: 49 | D14: Roquette | E14: 2 | F14: 1 | G14: Jul 19, 2017 02:27 PM | H14: Paiement Ã la livraison | I14: 16.25 | J14: =IF($A15<>$A14,SUM($E$2:$E14)-SUM(J$1:J13),"")
A15: 29 | B15: mariloulaprise@yahoo.com | C15: 47 | D15: Laitue variÃ©e | E15: 2.5 | F15: 1 | G15: Jul 19, 2017 02:27 PM | H15: Paiement Ã la livraison | I15: 16.25 | J15: =IF($A16<>$A15,SUM($E$2:$E15)-SUM(J$1:J14),"")
A16: 29 | B16: mariloulaprise@yahoo.com | C16: 98 | D16: Navets d'Ã©tÃ© (rabiole) | E16: 1.5 | F16: 1 | G16: Jul 19, 2017 02:27 PM | H16: Paiement Ã la livraison | I16: 16.25 | J16: =IF($A17<>$A16,SUM($E$2:$E16)-SUM(J$1:J15),"") -> 16.25
A17: 28 | B17: cote-david@hotmail.com | C17: 138 | D17: Radis melon d'eau | E17: 3 | F17: 2 | G17: Jul 18, 2017 09:58 PM | H17: PayPal | I17: 8.9 | J17: =IF($A18<>$A17,SUM($E$2:$E17)-SUM(J$1:J16),"")
A18: 28 | B18: cote-david@hotmail.com | C18: 97 | D18: Oignons verts | E18: 0.9 | F18: 6 | G18: Jul 18, 2017 09:58 PM | H18: PayPal | I18: 8.9 | J18: =IF($A19<>$A18,SUM($E$2:$E18)-SUM(J$1:J17),"")
... A25: 27 | B25: anniemaltaistee@cegepjonquiere.ca | C25: 138 | D25: Radis melon d'eau | E25: 3 | F25: 2 | G25: Jul 18, 2017 04:13 PM | H25: Paiement Ã la livraison | I25: 25.4 | J25: =IF($A26<>$A25,SUM($E$2:$E25)-SUM(J$1:J24),"")
A26: 27 | B26: anniemaltaistee@cegepjonquiere.ca | C26: 135 | D26: Laitue en pomme "Relay" | E26: 2.5 | F26: 1 | G26: Jul 18, 2017 04:13 PM | H26: Paiement Ã la livraison | I26: 25.4 | J26: =IF($A27<>$A26,SUM($E$2:$E26)-SUM(I$1:I25),"")
A27: 27 | B27: anniemaltaistee@cegepjonquiere.ca | C27: 12 | D27: Ciboulette | E27: 0.5 | F27: 1 | G27: Jul 18, 2017 04:13 PM | H27: Paiement Ã la livraison | I27: 25.4 | J27: =IF($A28<>$A27,SUM($E$2:$E27)-SUM(J$1:J26),"")
A28: 27 | B28: anniemaltaistee@cegepjonquiere.ca | C28: 15 | D28: Persil | E28: 0.5 | F28: 1 | G28: Jul 18, 2017 04:13 PM | H28: Paiement Ã la livraison | I28: 25.4 | J28: =IF($A29<>$A28,SUM($E$2:$E28)-SUM(J$1:J27),"") -> 25.4
A29: 25 | B29: jenni005@hotmail.com | C29: 24 | D29: Courgettes variÃ©es | E29: 3 | F29: 2 | G29: Jul 17, 2017 07:53 PM | H29: Paiement Ã la livraison | I29: 9.45 | J29: =IF($A30<>$A29,SUM($E$2:$E29)-SUM(J$1:J28),"")
A30: 25 | B30: jenni005@hotmail.com | C30: 97 | D30: Oignons verts | E30: 0.45 | F30: 3 | G30: Jul 17, 2017 07:53 PM | H30: Paiement Ã la livraison | I30: 9.45 | J30: =IF($A31<>$A30,SUM($E$2:$E30)-SUM(J$1:J29),"")
A31: 25 | B31: jenni005@hotmail.com | C31: 138 | D31: Radis melon d'eau | E31: 1.5 | F31: 1 | G31: Jul 17, 2017 07:53 PM | H31: Paiement Ã la livraison | I31: 9.45 | J31: =IF($A32<>$A31,SUM($E$2:$E31)-SUM(J$1:J30),"")
A32: 25 | B32: jenni005@hotmail.com | C32: 49 | D32: Roquette | E32: 2 | F32: 1 | G32: Jul 17, 2017 07:53 PM | H32: Paiement Ã la livraison | I32: 9.45 | J32: =IF($A33<>$A32,SUM($E$2:$E32)-SUM(J$1:J31),"")
A33: 25 | B33: jenni005@hotmail.com | C33: 47 | D33: Laitue variÃ©e | E33: 2.5 | F33: 1 | G33: Jul 17, 2017 07:53 PM | H33: Paiement Ã la livraison | I33: 9.45 | J33: =IF($A34<>$A33,SUM($E$2:$E33)-SUM(J$1:J32),"") -> 9.45
A34: 24 | B34: carolore@live.ca | C34: 0 | D34: Framboises 500 ml | E34: 2.5 | F34: 1 | G34: Jul 17, 2017 09:21 AM | H34: PayPal | I34: 20.5 | J34: =IF($A35<>$A34,SUM($E$2:$E34)-SUM(J$1:J33),"")
A35: 24 | B35: carolore@live.ca | C35: 24 | D35: Courgettes variÃ©es | E35: 1.5 | F35: 1 | G35: Jul 17, 2017 09:21 AM | H35: PayPal | I35: 20.5 | J35: =IF($A36<>$A35,SUM($E$2:$E35)-SUM(J$1:J34),"")
A36: 24 | B36: carolore@live.ca | C36: 45 | D36: Fleurs d'ail 10 | E36: 2 | F36: 1 | G36: Jul 17, 2017 09:21 AM | H36: PayPal | I36: 20.5 | J36: =IF($A37<>$A36,SUM($E$2:$E36)-SUM(J$1:J35),"")
A37: 24 | B37: carolore@live.ca | C37: 138 | D37: Radis melon d'eau | E37: 1.5 | F37: 1 | G37: Jul 17, 2017 09:21 AM | H37: PayPal | I37: 20.5 | J37: =IF($A38<>$A37,SUM($E$2:$E37)-SUM(J$1:J36),"")
A38: 24 | B38: carolore@live.ca | C38: 47 | D38: Laitue variÃ©e | E38: 2.5 | F38: 1 | G38: Jul 17, 2017 09:21 AM | H38: PayPal | I38: 20.5 | J38: =IF($A39<>$A38,SUM($E$2:$E38)-SUM(J$1:J37),"")
... A42: 24 | B42: carolore@live.ca | C42: 4 | D42: Rhubarbe | E42: 2.5 | F42: 1 | G42: Jul 17, 2017 09:21 AM | H42: PayPal | I42: 20.5 | J42: =IF($A43<>$A42,SUM($E$2:$E42)-SUM(J$1:J41),"") -> 20.5
J43: =IF($A44<>$A43,SUM($E$2:$E43)-SUM(J$1:J42),"")
J44: =IF($A45<>$A44,SUM($E$2:$E44)-SUM(J$1:J43),"")
J45: =IF($A46<>$A45,SUM($E$2:$E45)-SUM(J$1:J44),"")
J46: =IF($A47<>$A46,SUM($E$2:$E46)-SUM(J$1:J45),"")
J47: =IF($A48<>$A47,SUM($E$2:$E47)-SUM(J$1:J46),"")
J48: =IF($A49<>$A48,SUM($E$2:$E48)-SUM(J$1:J47),"")
J49: =IF($A50<>$A49,SUM($E$2:$E49)-SUM(J$1:J48),"")
J50: =IF($A51<>$A50,SUM($E$2:$E50)-SUM(I$1:I49),"")
J51: =IF($A52<>$A51,SUM($E$2:$E51)-SUM(J$1:J50),"")
J52: =IF($A53<>$A52,SUM($E$2:$E52)-SUM(J$1:J51),"")
J53: =IF($A54<>$A53,SUM($E$2:$E53)-SUM(J$1:J52),"")
J54: =IF($A55<>$A54,SUM($E$2:$E54)-SUM(J$1:J53),"")
J55: =IF($A56<>$A55,SUM($E$2:$E55)-SUM(J$1:J54),"")
J56: =IF($A57<>$A56,SUM($E$2:$E56)-SUM(J$1:J55),"")
J57: =IF($A58<>$A57,SUM($E$2:$E57)-SUM(J$1:J56),"")
J58: =IF($A59<>$A58,SUM($E$2:$E58)-SUM(J$1:J57),"")
J59: =IF($A60<>$A59,SUM($E$2:$E59)-SUM(J$1:J58),"")
J60: =IF($A61<>$A60,SUM($E$2:$E60)-SUM(J$1:J59),"")
J61: =IF($A62<>$A61,SUM($E$2:$E61)-SUM(J$1:J60),"")
J62: =IF($A63<>$A62,SUM($E$2:$E62)-SUM(J$1:J61),"")
... J74: =IF($A75<>$A74,SUM($E$2:$E74)-SUM(J$1:J73),"")
J75: =IF($A76<>$A75,SUM($E$2:$E75)-SUM(I$1:I74),"")
J76: =IF($A77<>$A76,SUM($E$2:$E76)-SUM(J$1:J75),"")
J77: =IF($A78<>$A77,SUM($E$2:$E77)-SUM(J$1:J76),"")
J78: =IF($A79<>$A78,SUM($E$2:$E78)-SUM(J$1:J77),"")
J79: =IF($A80<>$A79,SUM($E$2:$E79)-SUM(J$1:J78),"")
J80: =IF($A81<>$A80,SUM($E$2:$E80)-SUM(J$1:J79),"")
J81: =IF($A82<>$A81,SUM($E$2:$E81)-SUM(J$1:J80),"")
J82: =IF($A83<>$A82,SUM($E$2:$E82)-SUM(J$1:J81),"")
J83: =IF($A84<>$A83,SUM($E$2:$E83)-SUM(J$1:J82),"")
J84: =IF($A85<>$A84,SUM($E$2:$E84)-SUM(J$1:J83),"")
J85: =IF($A86<>$A85,SUM($E$2:$E85)-SUM(J$1:J84),"")
J86: =IF($A87<>$A86,SUM($E$2:$E86)-SUM(J$1:J85),"")
J87: =IF($A88<>$A87,SUM($E$2:$E87)-SUM(J$1:J86),"")
... J99: =IF($A100<>$A99,SUM($E$2:$E99)-SUM(J$1:J98),"")
J100: =IF($A101<>$A100,SUM($E$2:$E100)-SUM(I$1:I99),"")
J101: =IF($A102<>$A101,SUM($E$2:$E101)-SUM(J$1:J100),"")
J102: =IF($A103<>$A102,SUM($E$2:$E102)-SUM(J$1:J101),"")
J103: =IF($A104<>$A103,SUM($E$2:$E103)-SUM(J$1:J102),"")
J104: =IF($A105<>$A104,SUM($E$2:$E104)-SUM(J$1:J103),"")
J105: =IF($A106<>$A105,SUM($E$2:$E105)-SUM(J$1:J104),"")
J106: =IF($A107<>$A106,SUM($E$2:$E106)-SUM(J$1:J105),"")
J107: =IF($A108<>$A107,SUM($E$2:$E107)-SUM(J$1:J106),"")
J108: =IF($A109<>$A108,SUM($E$2:$E108)-SUM(J$1:J107),"")
J109: =IF($A110<>$A109,SUM($E$2:$E109)-SUM(J$1:J108),"")
J110: =IF($A111<>$A110,SUM($E$2:$E110)-SUM(J$1:J109),"")
J111: =IF($A112<>$A111,SUM($E$2:$E111)-SUM(J$1:J110),"")
J112: =IF($A113<>$A112,SUM($E$2:$E112)-SUM(J$1:J111),"")
... J124: =IF($A125<>$A124,SUM($E$2:$E124)-SUM(J$1:J123),"")
J125: =IF($A126<>$A125,SUM($E$2:$E125)-SUM(I$1:I124),"")
J126: =IF($A127<>$A126,SUM($E$2:$E126)-SUM(J$1:J125),"")
J127: =IF($A128<>$A127,SUM($E$2:$E127)-SUM(J$1:J126),"")
J128: =IF($A129<>$A128,SUM($E$2:$E128)-SUM(J$1:J127),"")
J129: =IF($A130<>$A129,SUM($E$2:$E129)-SUM(J$1:J128),"")
J130: =IF($A131<>$A130,SUM($E$2:$E130)-SUM(J$1:J129),"")
J131: =IF($A132<>$A131,SUM($E$2:$E131)-SUM(J$1:J130),"")
J132: =IF($A133<>$A132,SUM($E$2:$E132)-SUM(J$1:J131),"")
J133: =IF($A134<>$A133,SUM($E$2:$E133)-SUM(J$1:J132),"")
J134: =IF($A135<>$A134,SUM($E$2:$E134)-SUM(J$1:J133),"")
J135: =IF($A136<>$A135,SUM($E$2:$E135)-SUM(J$1:J134),"")
J136: =IF($A137<>$A136,SUM($E$2:$E136)-SUM(J$1:J135),"")
J137: =IF($A138<>$A137,SUM($E$2:$E137)-SUM(J$1:J136),"")
... J149: =IF($A150<>$A149,SUM($E$2:$E149)-SUM(J$1:J148),"")
J150: =IF($A151<>$A150,SUM($E$2:$E150)-SUM(I$1:I149),"")
J151: =IF($A152<>$A151,SUM($E$2:$E151)-SUM(J$1:J150),"")
J152: =IF($A153<>$A152,SUM($E$2:$E152)-SUM(J$1:J151),"")
J153: =IF($A154<>$A153,SUM($E$2:$E153)-SUM(J$1:J152),"")
...

Sheet Semaine 4
A1: order_number | B1: email | C1: sku | D1: name | E1: total | F1: quantity | G1: timestamp | H1: payment_method | I1: order_total | J1: Total
J2: =IF($A3<>$A2,SUM($E$2:$E2)-SUM(I$1:I1),"")
J3: =IF($A4<>$A3,SUM($E$2:$E3)-SUM(J$1:J2),"")
J4: =IF($A5<>$A4,SUM($E$2:$E4)-SUM(J$1:J3),"")
J5: =IF($A6<>$A5,SUM($E$2:$E5)-SUM(J$1:J4),"") | K5: =SUM(J2:J55) -> 0 | L5: Vente total ($)
J6: =IF($A7<>$A6,SUM($E$2:$E6)-SUM(J$1:J5),"") | K6: =SUM(F2:F135) -> 0 | L6: Nb produits vendus
J7: =IF($A8<>$A7,SUM($E$2:$E7)-SUM(J$1:J6),"")
J8: =IF($A9<>$A8,SUM($E$2:$E8)-SUM(J$1:J7),"")
J9: =IF($A10<>$A9,SUM($E$2:$E9)-SUM(J$1:J8),"")
J10: =IF($A11<>$A10,SUM($E$2:$E10)-SUM(J$1:J9),"")
J11: =IF($A12<>$A11,SUM($E$2:$E11)-SUM(J$1:J10),"")
J12: =IF($A13<>$A12,SUM($E$2:$E12)-SUM(J$1:J11),"")
J13: =IF($A14<>$A13,SUM($E$2:$E13)-SUM(J$1:J12),"")
J14: =IF($A15<>$A14,SUM($E$2:$E14)-SUM(J$1:J13),"")
J15: =IF($A16<>$A15,SUM($E$2:$E15)-SUM(J$1:J14),"")
J16: =IF($A17<>$A16,SUM($E$2:$E16)-SUM(J$1:J15),"")
J17: =IF($A18<>$A17,SUM($E$2:$E17)-SUM(J$1:J16),"")
J18: =IF($A19<>$A18,SUM($E$2:$E18)-SUM(J$1:J17),"")
... J25: =IF($A26<>$A25,SUM($E$2:$E25)-SUM(J$1:J24),"")
J26: =IF($A27<>$A26,SUM($E$2:$E26)-SUM(I$1:I25),"")
J27: =IF($A28<>$A27,SUM($E$2:$E27)-SUM(J$1:J26),"")
J28: =IF($A29<>$A28,SUM($E$2:$E28)-SUM(J$1:J27),"")
J29: =IF($A30<>$A29,SUM($E$2:$E29)-SUM(J$1:J28),"")
J30: =IF($A31<>$A30,SUM($E$2:$E30)-SUM(J$1:J29),"")
J31: =IF($A32<>$A31,SUM($E$2:$E31)-SUM(J$1:J30),"")
J32: =IF($A33<>$A32,SUM($E$2:$E32)-SUM(J$1:J31),"")
J33: =IF($A34<>$A33,SUM($E$2:$E33)-SUM(J$1:J32),"")
J34: =IF($A35<>$A34,SUM($E$2:$E34)-SUM(J$1:J33),"")
J35: =IF($A36<>$A35,SUM($E$2:$E35)-SUM(J$1:J34),"")
J36: =IF($A37<>$A36,SUM($E$2:$E36)-SUM(J$1:J35),"")
J37: =IF($A38<>$A37,SUM($E$2:$E37)-SUM(J$1:J36),"")
J38: =IF($A39<>$A38,SUM($E$2:$E38)-SUM(J$1:J37),"")
... J49: =IF($A50<>$A49,SUM($E$2:$E49)-SUM(J$1:J48),"")
J50: =IF($A51<>$A50,SUM($E$2:$E50)-SUM(I$1:I49),"")
J51: =IF($A52<>$A51,SUM($E$2:$E51)-SUM(J$1:J50),"")
J52: =IF($A53<>$A52,SUM($E$2:$E52)-SUM(J$1:J51),"")
J53: =IF($A54<>$A53,SUM($E$2:$E53)-SUM(J$1:J52),"")
J54: =IF($A55<>$A54,SUM($E$2:$E54)-SUM(J$1:J53),"")
J55: =IF($A56<>$A55,SUM($E$2:$E55)-SUM(J$1:J54),"")
J56: =IF($A57<>$A56,SUM($E$2:$E56)-SUM(J$1:J55),"")
J57: =IF($A58<>$A57,SUM($E$2:$E57)-SUM(J$1:J56),"")
J58: =IF($A59<>$A58,SUM($E$2:$E58)-SUM(J$1:J57),"")
J59: =IF($A60<>$A59,SUM($E$2:$E59)-SUM(J$1:J58),"")
J60: =IF($A61<>$A60,SUM($E$2:$E60)-SUM(J$1:J59),"")
J61: =IF($A62<>$A61,SUM($E$2:$E61)-SUM(J$1:J60),"")
J62: =IF($A63<>$A62,SUM($E$2:$E62)-SUM(J$1:J61),"")
... J74: =IF($A75<>$A74,SUM($E$2:$E74)-SUM(J$1:J73),"")
J75: =IF($A76<>$A75,SUM($E$2:$E75)-SUM(I$1:I74),"")
J76: =IF($A77<>$A76,SUM($E$2:$E76)-SUM(J$1:J75),"")
J77: =IF($A78<>$A77,SUM($E$2:$E77)-SUM(J$1:J76),"")
J78: =IF($A79<>$A78,SUM($E$2:$E78)-SUM(J$1:J77),"")
J79: =IF($A80<>$A79,SUM($E$2:$E79)-SUM(J$1:J78),"")
J80: =IF($A81<>$A80,SUM($E$2:$E80)-SUM(J$1:J79),"")
J81: =IF($A82<>$A81,SUM($E$2:$E81)-SUM(J$1:J80),"")
J82: =IF($A83<>$A82,SUM($E$2:$E82)-SUM(J$1:J81),"")
J83: =IF($A84<>$A83,SUM($E$2:$E83)-SUM(J$1:J82),"")
J84: =IF($A85<>$A84,SUM($E$2:$E84)-SUM(J$1:J83),"")
J85: =IF($A86<>$A85,SUM($E$2:$E85)-SUM(J$1:J84),"")
J86: =IF($A87<>$A86,SUM($E$2:$E86)-SUM(J$1:J85),"")
J87: =IF($A88<>$A87,SUM($E$2:$E87)-SUM(J$1:J86),"")
... J99: =IF($A100<>$A99,SUM($E$2:$E99)-SUM(J$1:J98),"")
J100: =IF($A101<>$A100,SUM($E$2:$E100)-SUM(I$1:I99),"")
J101: =IF($A102<>$A101,SUM($E$2:$E101)-SUM(J$1:J100),"")
J102: =IF($A103<>$A102,SUM($E$2:$E102)-SUM(J$1:J101),"")
J103: =IF($A104<>$A103,SUM($E$2:$E103)-SUM(J$1:J102),"")
J104: =IF($A105<>$A104,SUM($E$2:$E104)-SUM(J$1:J103),"")
J105: =IF($A106<>$A105,SUM($E$2:$E105)-SUM(J$1:J104),"")
J106: =IF($A107<>$A106,SUM($E$2:$E106)-SUM(J$1:J105),"")
J107: =IF($A108<>$A107,SUM($E$2:$E107)-SUM(J$1:J106),"")
J108: =IF($A109<>$A108,SUM($E$2:$E108)-SUM(J$1:J107),"")
J109: =IF($A110<>$A109,SUM($E$2:$E109)-SUM(J$1:J108),"")
J110: =IF($A111<>$A110,SUM($E$2:$E110)-SUM(J$1:J109),"")
J111: =IF($A112<>$A111,SUM($E$2:$E111)-SUM(J$1:J110),"")
J112: =IF($A113<>$A112,SUM($E$2:$E112)-SUM(J$1:J111),"")
... J124: =IF($A125<>$A124,SUM($E$2:$E124)-SUM(J$1:J123),"")
J125: =IF($A126<>$A125,SUM($E$2:$E125)-SUM(I$1:I124),"")
J126: =IF($A127<>$A126,SUM($E$2:$E126)-SUM(J$1:J125),"")
J127: =IF($A128<>$A127,SUM($E$2:$E127)-SUM(J$1:J126),"")
J128: =IF($A129<>$A128,SUM($E$2:$E128)-SUM(J$1:J127),"")
J129: =IF($A130<>$A129,SUM($E$2:$E129)-SUM(J$1:J128),"")
J130: =IF($A131<>$A130,SUM($E$2:$E130)-SUM(J$1:J129),"")
J131: =IF($A132<>$A131,SUM($E$2:$E131)-SUM(J$1:J130),"")
J132: =IF($A133<>$A132,SUM($E$2:$E132)-SUM(J$1:J131),"")
J133: =IF($A134<>$A133,SUM($E$2:$E133)-SUM(J$1:J132),"")
J134: =IF($A135<>$A134,SUM($E$2:$E134)-SUM(J$1:J133),"")
J135: =IF($A136<>$A135,SUM($E$2:$E135)-SUM(J$1:J134),"")
J136: =IF($A137<>$A136,SUM($E$2:$E136)-SUM(J$1:J135),"")
J137: =IF($A138<>$A137,SUM($E$2:$E137)-SUM(J$1:J136),"")
... J149: =IF($A150<>$A149,SUM($E$2:$E149)-SUM(J$1:J148),"")
J150: =IF($A151<>$A150,SUM($E$2:$E150)-SUM(I$1:I149),"")
J151: =IF($A152<>$A151,SUM($E$2:$E151)-SUM(J$1:J150),"")
J152: =IF($A153<>$A152,SUM($E$2:$E152)-SUM(J$1:J151),"")
J153: =IF($A154<>$A153,SUM($E$2:$E153)-SUM(J$1:J152),"")
J154: =IF($A155<>$A154,SUM($E$2:$E154)-SUM(J$1:J153),"")
J155: =IF($A156<>$A155,SUM($E$2:$E155)-SUM(J$1:J154),"")
J156: =IF($A157<>$A156,SUM($E$2:$E156)-SUM(J$1:J155),"")
J157: =IF($A158<>$A157,SUM($E$2:$E157)-SUM(J$1:J156),"")
J158: =IF($A159<>$A158,SUM($E$2:$E158)-SUM(J$1:J157),"")
J159: =IF($A160<>$A159,SUM($E$2:$E159)-SUM(J$1:J158),"")
J160: =IF($A161<>$A160,SUM($E$2:$E160)-SUM(J$1:J159),"")
...

Sheet Semaine 5
A1: order_number | B1: email | C1: sku | D1: name | E1: total | F1: quantity | G1: timestamp | H1: payment_method | I1: order_total | J1: Total
J2: =IF($A3<>$A2,SUM($E$2:$E2)-SUM(I$1:I1),"")
J3: =IF($A4<>$A3,SUM($E$2:$E3)-SUM(J$1:J2),"")
J4: =IF($A5<>$A4,SUM($E$2:$E4)-SUM(J$1:J3),"")
J5: =IF($A6<>$A5,SUM($E$2:$E5)-SUM(J$1:J4),"") | K5: =SUM(J2:J55) -> 0 | L5: Vente total ($)
J6: =IF($A7<>$A6,SUM($E$2:$E6)-SUM(J$1:J5),"") | K6: =SUM(F2:F135) -> 0 | L6: Nb produits vendus
J7: =IF($A8<>$A7,SUM($E$2:$E7)-SUM(J$1:J6),"")
J8: =IF($A9<>$A8,SUM($E$2:$E8)-SUM(J$1:J7),"")
J9: =IF($A10<>$A9,SUM($E$2:$E9)-SUM(J$1:J8),"")
J10: =IF($A11<>$A10,SUM($E$2:$E10)-SUM(J$1:J9),"")
J11: =IF($A12<>$A11,SUM($E$2:$E11)-SUM(J$1:J10),"")
J12: =IF($A13<>$A12,SUM($E$2:$E12)-SUM(J$1:J11),"")
J13: =IF($A14<>$A13,SUM($E$2:$E13)-SUM(J$1:J12),"")
J14: =IF($A15<>$A14,SUM($E$2:$E14)-SUM(J$1:J13),"")
J15: =IF($A16<>$A15,SUM($E$2:$E15)-SUM(J$1:J14),"")
J16: =IF($A17<>$A16,SUM($E$2:$E16)-SUM(J$1:J15),"")
J17: =IF($A18<>$A17,SUM($E$2:$E17)-SUM(J$1:J16),"")
J18: =IF($A19<>$A18,SUM($E$2:$E18)-SUM(J$1:J17),"")
... J25: =IF($A26<>$A25,SUM($E$2:$E25)-SUM(J$1:J24),"")
J26: =IF($A27<>$A26,SUM($E$2:$E26)-SUM(I$1:I25),"")
J27: =IF($A28<>$A27,SUM($E$2:$E27)-SUM(J$1:J26),"")
J28: =IF($A29<>$A28,SUM($E$2:$E28)-SUM(J$1:J27),"")
J29: =IF($A30<>$A29,SUM($E$2:$E29)-SUM(J$1:J28),"")
J30: =IF($A31<>$A30,SUM($E$2:$E30)-SUM(J$1:J29),"")
J31: =IF($A32<>$A31,SUM($E$2:$E31)-SUM(J$1:J30),"")
J32: =IF($A33<>$A32,SUM($E$2:$E32)-SUM(J$1:J31),"")
J33: =IF($A34<>$A33,SUM($E$2:$E33)-SUM(J$1:J32),"")
J34: =IF($A35<>$A34,SUM($E$2:$E34)-SUM(J$1:J33),"")
J35: =IF($A36<>$A35,SUM($E$2:$E35)-SUM(J$1:J34),"")
J36: =IF($A37<>$A36,SUM($E$2:$E36)-SUM(J$1:J35),"")
J37: =IF($A38<>$A37,SUM($E$2:$E37)-SUM(J$1:J36),"")
J38: =IF($A39<>$A38,SUM($E$2:$E38)-SUM(J$1:J37),"")
... J49: =IF($A50<>$A49,SUM($E$2:$E49)-SUM(J$1:J48),"")
J50: =IF($A51<>$A50,SUM($E$2:$E50)-SUM(I$1:I49),"")
J51: =IF($A52<>$A51,SUM($E$2:$E51)-SUM(J$1:J50),"")
J52: =IF($A53<>$A52,SUM($E$2:$E52)-SUM(J$1:J51),"")
J53: =IF($A54<>$A53,SUM($E$2:$E53)-SUM(J$1:J52),"")
J54: =IF($A55<>$A54,SUM($E$2:$E54)-SUM(J$1:J53),"")
J55: =IF($A56<>$A55,SUM($E$2:$E55)-SUM(J$1:J54),"")
J56: =IF($A57<>$A56,SUM($E$2:$E56)-SUM(J$1:J55),"")
J57: =IF($A58<>$A57,SUM($E$2:$E57)-SUM(J$1:J56),"")
J58: =IF($A59<>$A58,SUM($E$2:$E58)-SUM(J$1:J57),"")
J59: =IF($A60<>$A59,SUM($E$2:$E59)-SUM(J$1:J58),"")
J60: =IF($A61<>$A60,SUM($E$2:$E60)-SUM(J$1:J59),"")
J61: =IF($A62<>$A61,SUM($E$2:$E61)-SUM(J$1:J60),"")
J62: =IF($A63<>$A62,SUM($E$2:$E62)-SUM(J$1:J61),"")
... J74: =IF($A75<>$A74,SUM($E$2:$E74)-SUM(J$1:J73),"")
J75: =IF($A76<>$A75,SUM($E$2:$E75)-SUM(I$1:I74),"")
J76: =IF($A77<>$A76,SUM($E$2:$E76)-SUM(J$1:J75),"")
J77: =IF($A78<>$A77,SUM($E$2:$E77)-SUM(J$1:J76),"")
J78: =IF($A79<>$A78,SUM($E$2:$E78)-SUM(J$1:J77),"")
J79: =IF($A80<>$A79,SUM($E$2:$E79)-SUM(J$1:J78),"")
J80: =IF($A81<>$A80,SUM($E$2:$E80)-SUM(J$1:J79),"")
J81: =IF($A82<>$A81,SUM($E$2:$E81)-SUM(J$1:J80),"")
J82: =IF($A83<>$A82,SUM($E$2:$E82)-SUM(J$1:J81),"")
J83: =IF($A84<>$A83,SUM($E$2:$E83)-SUM(J$1:J82),"")
J84: =IF($A85<>$A84,SUM($E$2:$E84)-SUM(J$1:J83),"")
J85: =IF($A86<>$A85,SUM($E$2:$E85)-SUM(J$1:J84),"")
J86: =IF($A87<>$A86,SUM($E$2:$E86)-SUM(J$1:J85),"")
J87: =IF($A88<>$A87,SUM($E$2:$E87)-SUM(J$1:J86),"")
... J99: =IF($A100<>$A99,SUM($E$2:$E99)-SUM(J$1:J98),"")
J100: =IF($A101<>$A100,SUM($E$2:$E100)-SUM(I$1:I99),"")
J101: =IF($A102<>$A101,SUM($E$2:$E101)-SUM(J$1:J100),"")
J102: =IF($A103<>$A102,SUM($E$2:$E102)-SUM(J$1:J101),"")
J103: =IF($A104<>$A103,SUM($E$2:$E103)-SUM(J$1:J102),"")
J104: =IF($A105<>$A104,SUM($E$2:$E104)-SUM(J$1:J103),"")
J105: =IF($A106<>$A105,SUM($E$2:$E105)-SUM(J$1:J104),"")
J106: =IF($A107<>$A106,SUM($E$2:$E106)-SUM(J$1:J105),"")
J107: =IF($A108<>$A107,SUM($E$2:$E107)-SUM(J$1:J106),"")
J108: =IF($A109<>$A108,SUM($E$2:$E108)-SUM(J$1:J107),"")
J109: =IF($A110<>$A109,SUM($E$2:$E109)-SUM(J$1:J108),"")
J110: =IF($A111<>$A110,SUM($E$2:$E110)-SUM(J$1:J109),"")
J111: =IF($A112<>$A111,SUM($E$2:$E111)-SUM(J$1:J110),"")
J112: =IF($A113<>$A112,SUM($E$2:$E112)-SUM(J$1:J111),"")
... J124: =IF($A125<>$A124,SUM($E$2:$E124)-SUM(J$1:J123),"")
J125: =IF($A126<>$A125,SUM($E$2:$E125)-SUM(I$1:I124),"")
J126: =IF($A127<>$A126,SUM($E$2:$E126)-SUM(J$1:J125),"")
J127: =IF($A128<>$A127,SUM($E$2:$E127)-SUM(J$1:J126),"")
J128: =IF($A129<>$A128,SUM($E$2:$E128)-SUM(J$1:J127),"")
J129: =IF($A130<>$A129,SUM($E$2:$E129)-SUM(J$1:J128),"")
J130: =IF($A131<>$A130,SUM($E$2:$E130)-SUM(J$1:J129),"")
J131: =IF($A132<>$A131,SUM($E$2:$E131)-SUM(J$1:J130),"")
J132: =IF($A133<>$A132,SUM($E$2:$E132)-SUM(J$1:J131),"")
J133: =IF($A134<>$A133,SUM($E$2:$E133)-SUM(J$1:J132),"")
J134: =IF($A135<>$A134,SUM($E$2:$E134)-SUM(J$1:J133),"")
J135: =IF($A136<>$A135,SUM($E$2:$E135)-SUM(J$1:J134),"")
J136: =IF($A137<>$A136,SUM($E$2:$E136)-SUM(J$1:J135),"")
J137: =IF($A138<>$A137,SUM($E$2:$E137)-SUM(J$1:J136),"")
... J149: =IF($A150<>$A149,SUM($E$2:$E149)-SUM(J$1:J148),"")
J150: =IF($A151<>$A150,SUM($E$2:$E150)-SUM(I$1:I149),"")
J151: =IF($A152<>$A151,SUM($E$2:$E151)-SUM(J$1:J150),"")
J152: =IF($A153<>$A152,SUM($E$2:$E152)-SUM(J$1:J151),"")
J153: =IF($A154<>$A153,SUM($E$2:$E153)-SUM(J$1:J152),"")
J154: =IF($A155<>$A154,SUM($E$2:$E154)-SUM(J$1:J153),"")
J155: =IF($A156<>$A155,SUM($E$2:$E155)-SUM(J$1:J154),"")
J156: =IF($A157<>$A156,SUM($E$2:$E156)-SUM(J$1:J155),"")
J157: =IF($A158<>$A157,SUM($E$2:$E157)-SUM(J$1:J156),"")
J158: =IF($A159<>$A158,SUM($E$2:$E158)-SUM(J$1:J157),"")
J159: =IF($A160<>$A159,SUM($E$2:$E159)-SUM(J$1:J158),"")
J160: =IF($A161<>$A160,SUM($E$2:$E160)-SUM(J$1:J159),"")
...

Sheet Semaine 6
A1: order_number | B1: email | C1: sku | D1: name | E1: total | F1: quantity | G1: timestamp | H1: payment_method | I1: order_total | J1: Total
J2: =IF($A3<>$A2,SUM($E$2:$E2)-SUM(I$1:I1),"")
J3: =IF($A4<>$A3,SUM($E$2:$E3)-SUM(J$1:J2),"")
J4: =IF($A5<>$A4,SUM($E$2:$E4)-SUM(J$1:J3),"")
J5: =IF($A6<>$A5,SUM($E$2:$E5)-SUM(J$1:J4),"") | K5: =SUM(J2:J55) -> 0 | L5: Vente total ($)
J6: =IF($A7<>$A6,SUM($E$2:$E6)-SUM(J$1:J5),"") | K6: =SUM(F2:F135) -> 0 | L6: Nb produits vendus
J7: =IF($A8<>$A7,SUM($E$2:$E7)-SUM(J$1:J6),"")
J8: =IF($A9<>$A8,SUM($E$2:$E8)-SUM(J$1:J7),"")
J9: =IF($A10<>$A9,SUM($E$2:$E9)-SUM(J$1:J8),"")
J10: =IF($A11<>$A10,SUM($E$2:$E10)-SUM(J$1:J9),"")
J11: =IF($A12<>$A11,SUM($E$2:$E11)-SUM(J$1:J10),"")
J12: =IF($A13<>$A12,SUM($E$2:$E12)-SUM(J$1:J11),"")
J13: =IF($A14<>$A13,SUM($E$2:$E13)-SUM(J$1:J12),"")
J14: =IF($A15<>$A14,SUM($E$2:$E14)-SUM(J$1:J13),"")
J15: =IF($A16<>$A15,SUM($E$2:$E15)-SUM(J$1:J14),"")
J16: =IF($A17<>$A16,SUM($E$2:$E16)-SUM(J$1:J15),"")
J17: =IF($A18<>$A17,SUM($E$2:$E17)-SUM(J$1:J16),"")
J18: =IF($A19<>$A18,SUM($E$2:$E18)-SUM(J$1:J17),"")
... J25: =IF($A26<>$A25,SUM($E$2:$E25)-SUM(J$1:J24),"")
J26: =IF($A27<>$A26,SUM($E$2:$E26)-SUM(I$1:I25),"")
J27: =IF($A28<>$A27,SUM($E$2:$E27)-SUM(J$1:J26),"")
J28: =IF($A29<>$A28,SUM($E$2:$E28)-SUM(J$1:J27),"")
J29: =IF($A30<>$A29,SUM($E$2:$E29)-SUM(J$1:J28),"")
J30: =IF($A31<>$A30,SUM($E$2:$E30)-SUM(J$1:J29),"")
J31: =IF($A32<>$A31,SUM($E$2:$E31)-SUM(J$1:J30),"")
J32: =IF($A33<>$A32,SUM($E$2:$E32)-SUM(J$1:J31),"")
J33: =IF($A34<>$A33,SUM($E$2:$E33)-SUM(J$1:J32),"")
J34: =IF($A35<>$A34,SUM($E$2:$E34)-SUM(J$1:J33),"")
J35: =IF($A36<>$A35,SUM($E$2:$E35)-SUM(J$1:J34),"")
J36: =IF($A37<>$A36,SUM($E$2:$E36)-SUM(J$1:J35),"")
J37: =IF($A38<>$A37,SUM($E$2:$E37)-SUM(J$1:J36),"")
J38: =IF($A39<>$A38,SUM($E$2:$E38)-SUM(J$1:J37),"")
... J49: =IF($A50<>$A49,SUM($E$2:$E49)-SUM(J$1:J48),"")
J50: =IF($A51<>$A50,SUM($E$2:$E50)-SUM(I$1:I49),"")
J51: =IF($A52<>$A51,SUM($E$2:$E51)-SUM(J$1:J50),"")
J52: =IF($A53<>$A52,SUM($E$2:$E52)-SUM(J$1:J51),"")
J53: =IF($A54<>$A53,SUM($E$2:$E53)-SUM(J$1:J52),"")
J54: =IF($A55<>$A54,SUM($E$2:$E54)-SUM(J$1:J53),"")
J55: =IF($A56<>$A55,SUM($E$2:$E55)-SUM(J$1:J54),"")
J56: =IF($A57<>$A56,SUM($E$2:$E56)-SUM(J$1:J55),"")
J57: =IF($A58<>$A57,SUM($E$2:$E57)-SUM(J$1:J56),"")
J58: =IF($A59<>$A58,SUM($E$2:$E58)-SUM(J$1:J57),"")
J59: =IF($A60<>$A59,SUM($E$2:$E59)-SUM(J$1:J58),"")
J60: =IF($A61<>$A60,SUM($E$2:$E60)-SUM(J$1:J59),"")
J61: =IF($A62<>$A61,SUM($E$2:$E61)-SUM(J$1:J60),"")
J62: =IF($A63<>$A62,SUM($E$2:$E62)-SUM(J$1:J61),"")
... J74: =IF($A75<>$A74,SUM($E$2:$E74)-SUM(J$1:J73),"")
J75: =IF($A76<>$A75,SUM($E$2:$E75)-SUM(I$1:I74),"")
J76: =IF($A77<>$A76,SUM($E$2:$E76)-SUM(J$1:J75),"")
J77: =IF($A78<>$A77,SUM($E$2:$E77)-SUM(J$1:J76),"")
J78: =IF($A79<>$A78,SUM($E$2:$E78)-SUM(J$1:J77),"")
J79: =IF($A80<>$A79,SUM($E$2:$E79)-SUM(J$1:J78),"")
J80: =IF($A81<>$A80,SUM($E$2:$E80)-SUM(J$1:J79),"")
J81: =IF($A82<>$A81,SUM($E$2:$E81)-SUM(J$1:J80),"")
J82: =IF($A83<>$A82,SUM($E$2:$E82)-SUM(J$1:J81),"")
J83: =IF($A84<>$A83,SUM($E$2:$E83)-SUM(J$1:J82),"")
J84: =IF($A85<>$A84,SUM($E$2:$E84)-SUM(J$1:J83),"")
J85: =IF($A86<>$A85,SUM($E$2:$E85)-SUM(J$1:J84),"")
J86: =IF($A87<>$A86,SUM($E$2:$E86)-SUM(J$1:J85),"")
J87: =IF($A88<>$A87,SUM($E$2:$E87)-SUM(J$1:J86),"")
... J99: =IF($A100<>$A99,SUM($E$2:$E99)-SUM(J$1:J98),"")
J100: =IF($A101<>$A100,SUM($E$2:$E100)-SUM(I$1:I99),"")
J101: =IF($A102<>$A101,SUM($E$2:$E101)-SUM(J$1:J100),"")
J102: =IF($A103<>$A102,SUM($E$2:$E102)-SUM(J$1:J101),"")
J103: =IF($A104<>$A103,SUM($E$2:$E103)-SUM(J$1:J102),"")
J104: =IF($A105<>$A104,SUM($E$2:$E104)-SUM(J$1:J103),"")
J105: =IF($A106<>$A105,SUM($E$2:$E105)-SUM(J$1:J104),"")
J106: =IF($A107<>$A106,SUM($E$2:$E106)-SUM(J$1:J105),"")
J107: =IF($A108<>$A107,SUM($E$2:$E107)-SUM(J$1:J106),"")
J108: =IF($A109<>$A108,SUM($E$2:$E108)-SUM(J$1:J107),"")
J109: =IF($A110<>$A109,SUM($E$2:$E109)-SUM(J$1:J108),"")
J110: =IF($A111<>$A110,SUM($E$2:$E110)-SUM(J$1:J109),"")
J111: =IF($A112<>$A111,SUM($E$2:$E111)-SUM(J$1:J110),"")
J112: =IF($A113<>$A112,SUM($E$2:$E112)-SUM(J$1:J111),"")
... J124: =IF($A125<>$A124,SUM($E$2:$E124)-SUM(J$1:J123),"")
J125: =IF($A126<>$A125,SUM($E$2:$E125)-SUM(I$1:I124),"")
J126: =IF($A127<>$A126,SUM($E$2:$E126)-SUM(J$1:J125),"")
J127: =IF($A128<>$A127,SUM($E$2:$E127)-SUM(J$1:J126),"")
J128: =IF($A129<>$A128,SUM($E$2:$E128)-SUM(J$1:J127),"")
J129: =IF($A130<>$A129,SUM($E$2:$E129)-SUM(J$1:J128),"")
J130: =IF($A131<>$A130,SUM($E$2:$E130)-SUM(J$1:J129),"")
J131: =IF($A132<>$A131,SUM($E$2:$E131)-SUM(J$1:J130),"")
J132: =IF($A133<>$A132,SUM($E$2:$E132)-SUM(J$1:J131),"")
J133: =IF($A134<>$A133,SUM($E$2:$E133)-SUM(J$1:J132),"")
J134: =IF($A135<>$A134,SUM($E$2:$E134)-SUM(J$1:J133),"")
J135: =IF($A136<>$A135,SUM($E$2:$E135)-SUM(J$1:J134),"")
J136: =IF($A137<>$A136,SUM($E$2:$E136)-SUM(J$1:J135),"")
J137: =IF($A138<>$A137,SUM($E$2:$E137)-SUM(J$1:J136),"")
... J149: =IF($A150<>$A149,SUM($E$2:$E149)-SUM(J$1:J148),"")
J150: =IF($A151<>$A150,SUM($E$2:$E150)-SUM(I$1:I149),"")
J151: =IF($A152<>$A151,SUM($E$2:$E151)-SUM(J$1:J150),"")
J152: =IF($A153<>$A152,SUM($E$2:$E152)-SUM(J$1:J151),"")
J153: =IF($A154<>$A153,SUM($E$2:$E153)-SUM(J$1:J152),"")
J154: =IF($A155<>$A154,SUM($E$2:$E154)-SUM(J$1:J153),"")
J155: =IF($A156<>$A155,SUM($E$2:$E155)-SUM(J$1:J154),"")
J156: =IF($A157<>$A156,SUM($E$2:$E156)-SUM(J$1:J155),"")
J157: =IF($A158<>$A157,SUM($E$2:$E157)-SUM(J$1:J156),"")
J158: =IF($A159<>$A158,SUM($E$2:$E158)-SUM(J$1:J157),"")
J159: =IF($A160<>$A159,SUM($E$2:$E159)-SUM(J$1:J158),"")
J160: =IF($A161<>$A160,SUM($E$2:$E160)-SUM(J$1:J159),"")
...

Sheet Semaine 7
A1: order_number | B1: email | C1: sku | D1: name | E1: total | F1: quantity | G1: timestamp | H1: payment_method | I1: order_total | J1: Total
J2: =IF($A3<>$A2,SUM($E$2:$E2)-SUM(I$1:I1),"")
J3: =IF($A4<>$A3,SUM($E$2:$E3)-SUM(J$1:J2),"")
J4: =IF($A5<>$A4,SUM($E$2:$E4)-SUM(J$1:J3),"")
J5: =IF($A6<>$A5,SUM($E$2:$E5)-SUM(J$1:J4),"") | K5: =SUM(J2:J55) -> 0 | L5: Vente total ($)
J6: =IF($A7<>$A6,SUM($E$2:$E6)-SUM(J$1:J5),"") | K6: =SUM(F2:F135) -> 0 | L6: Nb produits vendus
J7: =IF($A8<>$A7,SUM($E$2:$E7)-SUM(J$1:J6),"")
J8: =IF($A9<>$A8,SUM($E$2:$E8)-SUM(J$1:J7),"")
J9: =IF($A10<>$A9,SUM($E$2:$E9)-SUM(J$1:J8),"")
J10: =IF($A11<>$A10,SUM($E$2:$E10)-SUM(J$1:J9),"")
J11: =IF($A12<>$A11,SUM($E$2:$E11)-SUM(J$1:J10),"")
J12: =IF($A13<>$A12,SUM($E$2:$E12)-SUM(J$1:J11),"")
J13: =IF($A14<>$A13,SUM($E$2:$E13)-SUM(J$1:J12),"")
J14: =IF($A15<>$A14,SUM($E$2:$E14)-SUM(J$1:J13),"")
J15: =IF($A16<>$A15,SUM($E$2:$E15)-SUM(J$1:J14),"")
J16: =IF($A17<>$A16,SUM($E$2:$E16)-SUM(J$1:J15),"")
J17: =IF($A18<>$A17,SUM($E$2:$E17)-SUM(J$1:J16),"")
J18: =IF($A19<>$A18,SUM($E$2:$E18)-SUM(J$1:J17),"")
... J25: =IF($A26<>$A25,SUM($E$2:$E25)-SUM(J$1:J24),"")
J26: =IF($A27<>$A26,SUM($E$2:$E26)-SUM(I$1:I25),"")
J27: =IF($A28<>$A27,SUM($E$2:$E27)-SUM(J$1:J26),"")
J28: =IF($A29<>$A28,SUM($E$2:$E28)-SUM(J$1:J27),"")
J29: =IF($A30<>$A29,SUM($E$2:$E29)-SUM(J$1:J28),"")
J30: =IF($A31<>$A30,SUM($E$2:$E30)-SUM(J$1:J29),"")
J31: =IF($A32<>$A31,SUM($E$2:$E31)-SUM(J$1:J30),"")
J32: =IF($A33<>$A32,SUM($E$2:$E32)-SUM(J$1:J31),"")
J33: =IF($A34<>$A33,SUM($E$2:$E33)-SUM(J$1:J32),"")
J34: =IF($A35<>$A34,SUM($E$2:$E34)-SUM(J$1:J33),"")
J35: =IF($A36<>$A35,SUM($E$2:$E35)-SUM(J$1:J34),"")
J36: =IF($A37<>$A36,SUM($E$2:$E36)-SUM(J$1:J35),"")
J37: =IF($A38<>$A37,SUM($E$2:$E37)-SUM(J$1:J36),"")
J38: =IF($A39<>$A38,SUM($E$2:$E38)-SUM(J$1:J37),"")
... J49: =IF($A50<>$A49,SUM($E$2:$E49)-SUM(J$1:J48),"")
J50: =IF($A51<>$A50,SUM($E$2:$E50)-SUM(I$1:I49),"")
J51: =IF($A52<>$A51,SUM($E$2:$E51)-SUM(J$1:J50),"")
J52: =IF($A53<>$A52,SUM($E$2:$E52)-SUM(J$1:J51),"")
J53: =IF($A54<>$A53,SUM($E$2:$E53)-SUM(J$1:J52),"")
J54: =IF($A55<>$A54,SUM($E$2:$E54)-SUM(J$1:J53),"")
J55: =IF($A56<>$A55,SUM($E$2:$E55)-SUM(J$1:J54),"")
J56: =IF($A57<>$A56,SUM($E$2:$E56)-SUM(J$1:J55),"")
J57: =IF($A58<>$A57,SUM($E$2:$E57)-SUM(J$1:J56),"")
J58: =IF($A59<>$A58,SUM($E$2:$E58)-SUM(J$1:J57),"")
J59: =IF($A60<>$A59,SUM($E$2:$E59)-SUM(J$1:J58),"")
J60: =IF($A61<>$A60,SUM($E$2:$E60)-SUM(J$1:J59),"")
J61: =IF($A62<>$A61,SUM($E$2:$E61)-SUM(J$1:J60),"")
J62: =IF($A63<>$A62,SUM($E$2:$E62)-SUM(J$1:J61),"")
... J74: =IF($A75<>$A74,SUM($E$2:$E74)-SUM(J$1:J73),"")
J75: =IF($A76<>$A75,SUM($E$2:$E75)-SUM(I$1:I74),"")
J76: =IF($A77<>$A76,SUM($E$2:$E76)-SUM(J$1:J75),"")
J77: =IF($A78<>$A77,SUM($E$2:$E77)-SUM(J$1:J76),"")
J78: =IF($A79<>$A78,SUM($E$2:$E78)-SUM(J$1:J77),"")
J79: =IF($A80<>$A79,SUM($E$2:$E79)-SUM(J$1:J78),"")
J80: =IF($A81<>$A80,SUM($E$2:$E80)-SUM(J$1:J79),"")
J81: =IF($A82<>$A81,SUM($E$2:$E81)-SUM(J$1:J80),"")
J82: =IF($A83<>$A82,SUM($E$2:$E82)-SUM(J$1:J81),"")
J83: =IF($A84<>$A83,SUM($E$2:$E83)-SUM(J$1:J82),"")
J84: =IF($A85<>$A84,SUM($E$2:$E84)-SUM(J$1:J83),"")
J85: =IF($A86<>$A85,SUM($E$2:$E85)-SUM(J$1:J84),"")
J86: =IF($A87<>$A86,SUM($E$2:$E86)-SUM(J$1:J85),"")
J87: =IF($A88<>$A87,SUM($E$2:$E87)-SUM(J$1:J86),"")
... J99: =IF($A100<>$A99,SUM($E$2:$E99)-SUM(J$1:J98),"")
J100: =IF($A101<>$A100,SUM($E$2:$E100)-SUM(I$1:I99),"")
J101: =IF($A102<>$A101,SUM($E$2:$E101)-SUM(J$1:J100),"")
J102: =IF($A103<>$A102,SUM($E$2:$E102)-SUM(J$1:J101),"")
J103: =IF($A104<>$A103,SUM($E$2:$E103)-SUM(J$1:J102),"")
J104: =IF($A105<>$A104,SUM($E$2:$E104)-SUM(J$1:J103),"")
J105: =IF($A106<>$A105,SUM($E$2:$E105)-SUM(J$1:J104),"")
J106: =IF($A107<>$A106,SUM($E$2:$E106)-SUM(J$1:J105),"")
J107: =IF($A108<>$A107,SUM($E$2:$E107)-SUM(J$1:J106),"")
J108: =IF($A109<>$A108,SUM($E$2:$E108)-SUM(J$1:J107),"")
J109: =IF($A110<>$A109,SUM($E$2:$E109)-SUM(J$1:J108),"")
J110: =IF($A111<>$A110,SUM($E$2:$E110)-SUM(J$1:J109),"")
J111: =IF($A112<>$A111,SUM($E$2:$E111)-SUM(J$1:J110),"")
J112: =IF($A113<>$A112,SUM($E$2:$E112)-SUM(J$1:J111),"")
... J124: =IF($A125<>$A124,SUM($E$2:$E124)-SUM(J$1:J123),"")
J125: =IF($A126<>$A125,SUM($E$2:$E125)-SUM(I$1:I124),"")
J126: =IF($A127<>$A126,SUM($E$2:$E126)-SUM(J$1:J125),"")
J127: =IF($A128<>$A127,SUM($E$2:$E127)-SUM(J$1:J126),"")
J128: =IF($A129<>$A128,SUM($E$2:$E128)-SUM(J$1:J127),"")
J129: =IF($A130<>$A129,SUM($E$2:$E129)-SUM(J$1:J128),"")
J130: =IF($A131<>$A130,SUM($E$2:$E130)-SUM(J$1:J129),"")
J131: =IF($A132<>$A131,SUM($E$2:$E131)-SUM(J$1:J130),"")
J132: =IF($A133<>$A132,SUM($E$2:$E132)-SUM(J$1:J131),"")
J133: =IF($A134<>$A133,SUM($E$2:$E133)-SUM(J$1:J132),"")
J134: =IF($A135<>$A134,SUM($E$2:$E134)-SUM(J$1:J133),"")
J135: =IF($A136<>$A135,SUM($E$2:$E135)-SUM(J$1:J134),"")
J136: =IF($A137<>$A136,SUM($E$2:$E136)-SUM(J$1:J135),"")
J137: =IF($A138<>$A137,SUM($E$2:$E137)-SUM(J$1:J136),"")
... J149: =IF($A150<>$A149,SUM($E$2:$E149)-SUM(J$1:J148),"")
J150: =IF($A151<>$A150,SUM($E$2:$E150)-SUM(I$1:I149),"")
J151: =IF($A152<>$A151,SUM($E$2:$E151)-SUM(J$1:J150),"")
J152: =IF($A153<>$A152,SUM($E$2:$E152)-SUM(J$1:J151),"")
J153: =IF($A154<>$A153,SUM($E$2:$E153)-SUM(J$1:J152),"")
J154: =IF($A155<>$A154,SUM($E$2:$E154)-SUM(J$1:J153),"")
J155: =IF($A156<>$A155,SUM($E$2:$E155)-SUM(J$1:J154),"")
J156: =IF($A157<>$A156,SUM($E$2:$E156)-SUM(J$1:J155),"")
J157: =IF($A158<>$A157,SUM($E$2:$E157)-SUM(J$1:J156),"")
J158: =IF($A159<>$A158,SUM($E$2:$E158)-SUM(J$1:J157),"")
J159: =IF($A160<>$A159,SUM($E$2:$E159)-SUM(J$1:J158),"")
J160: =IF($A161<>$A160,SUM($E$2:$E160)-SUM(J$1:J159),"")
...

Sheet Semaine 8
A1: order_number | B1: email | C1: sku | D1: name | E1: total | F1: quantity | G1: timestamp | H1: payment_method | I1: order_total | J1: Total
J2: =IF($A3<>$A2,SUM($E$2:$E2)-SUM(I$1:I1),"")
J3: =IF($A4<>$A3,SUM($E$2:$E3)-SUM(J$1:J2),"")
J4: =IF($A5<>$A4,SUM($E$2:$E4)-SUM(J$1:J3),"")
J5: =IF($A6<>$A5,SUM($E$2:$E5)-SUM(J$1:J4),"") | K5: =SUM(J2:J55) -> 0 | L5: Vente total ($)
J6: =IF($A7<>$A6,SUM($E$2:$E6)-SUM(J$1:J5),"") | K6: =SUM(F2:F135) -> 0 | L6: Nb produits vendus
J7: =IF($A8<>$A7,SUM($E$2:$E7)-SUM(J$1:J6),"")
J8: =IF($A9<>$A8,SUM($E$2:$E8)-SUM(J$1:J7),"")
J9: =IF($A10<>$A9,SUM($E$2:$E9)-SUM(J$1:J8),"")
J10: =IF($A11<>$A10,SUM($E$2:$E10)-SUM(J$1:J9),"")
J11: =IF($A12<>$A11,SUM($E$2:$E11)-SUM(J$1:J10),"")
J12: =IF($A13<>$A12,SUM($E$2:$E12)-SUM(J$1:J11),"")
J13: =IF($A14<>$A13,SUM($E$2:$E13)-SUM(J$1:J12),"")
J14: =IF($A15<>$A14,SUM($E$2:$E14)-SUM(J$1:J13),"")
J15: =IF($A16<>$A15,SUM($E$2:$E15)-SUM(J$1:J14),"")
J16: =IF($A17<>$A16,SUM($E$2:$E16)-SUM(J$1:J15),"")
J17: =IF($A18<>$A17,SUM($E$2:$E17)-SUM(J$1:J16),"")
J18: =IF($A19<>$A18,SUM($E$2:$E18)-SUM(J$1:J17),"")
... J25: =IF($A26<>$A25,SUM($E$2:$E25)-SUM(J$1:J24),"")
J26: =IF($A27<>$A26,SUM($E$2:$E26)-SUM(I$1:I25),"")
J27: =IF($A28<>$A27,SUM($E$2:$E27)-SUM(J$1:J26),"")
J28: =IF($A29<>$A28,SUM($E$2:$E28)-SUM(J$1:J27),"")
J29: =IF($A30<>$A29,SUM($E$2:$E29)-SUM(J$1:J28),"")
J30: =IF($A31<>$A30,SUM($E$2:$E30)-SUM(J$1:J29),"")
J31: =IF($A32<>$A31,SUM($E$2:$E31)-SUM(J$1:J30),"")
J32: =IF($A33<>$A32,SUM($E$2:$E32)-SUM(J$1:J31),"")
J33: =IF($A34<>$A33,SUM($E$2:$E33)-SUM(J$1:J32),"")
J34: =IF($A35<>$A34,SUM($E$2:$E34)-SUM(J$1:J33),"")
J35: =IF($A36<>$A35,SUM($E$2:$E35)-SUM(J$1:J34),"")
J36: =IF($A37<>$A36,SUM($E$2:$E36)-SUM(J$1:J35),"")
J37: =IF($A38<>$A37,SUM($E$2:$E37)-SUM(J$1:J36),"")
J38: =IF($A39<>$A38,SUM($E$2:$E38)-SUM(J$1:J37),"")
... J49: =IF($A50<>$A49,SUM($E$2:$E49)-SUM(J$1:J48),"")
J50: =IF($A51<>$A50,SUM($E$2:$E50)-SUM(I$1:I49),"")
J51: =IF($A52<>$A51,SUM($E$2:$E51)-SUM(J$1:J50),"")
J52: =IF($A53<>$A52,SUM($E$2:$E52)-SUM(J$1:J51),"")
J53: =IF($A54<>$A53,SUM($E$2:$E53)-SUM(J$1:J52),"")
J54: =IF($A55<>$A54,SUM($E$2:$E54)-SUM(J$1:J53),"")
J55: =IF($A56<>$A55,SUM($E$2:$E55)-SUM(J$1:J54),"")
J56: =IF($A57<>$A56,SUM($E$2:$E56)-SUM(J$1:J55),"")
J57: =IF($A58<>$A57,SUM($E$2:$E57)-SUM(J$1:J56),"")
J58: =IF($A59<>$A58,SUM($E$2:$E58)-SUM(J$1:J57),"")
J59: =IF($A60<>$A59,SUM($E$2:$E59)-SUM(J$1:J58),"")
J60: =IF($A61<>$A60,SUM($E$2:$E60)-SUM(J$1:J59),"")
J61: =IF($A62<>$A61,SUM($E$2:$E61)-SUM(J$1:J60),"")
J62: =IF($A63<>$A62,SUM($E$2:$E62)-SUM(J$1:J61),"")
... J74: =IF($A75<>$A74,SUM($E$2:$E74)-SUM(J$1:J73),"")
J75: =IF($A76<>$A75,SUM($E$2:$E75)-SUM(I$1:I74),"")
J76: =IF($A77<>$A76,SUM($E$2:$E76)-SUM(J$1:J75),"")
J77: =IF($A78<>$A77,SUM($E$2:$E77)-SUM(J$1:J76),"")
J78: =IF($A79<>$A78,SUM($E$2:$E78)-SUM(J$1:J77),"")
J79: =IF($A80<>$A79,SUM($E$2:$E79)-SUM(J$1:J78),"")
J80: =IF($A81<>$A80,SUM($E$2:$E80)-SUM(J$1:J79),"")
J81: =IF($A82<>$A81,SUM($E$2:$E81)-SUM(J$1:J80),"")
J82: =IF($A83<>$A82,SUM($E$2:$E82)-SUM(J$1:J81),"")
J83: =IF($A84<>$A83,SUM($E$2:$E83)-SUM(J$1:J82),"")
J84: =IF($A85<>$A84,SUM($E$2:$E84)-SUM(J$1:J83),"")
J85: =IF($A86<>$A85,SUM($E$2:$E85)-SUM(J$1:J84),"")
J86: =IF($A87<>$A86,SUM($E$2:$E86)-SUM(J$1:J85),"")
J87: =IF($A88<>$A87,SUM($E$2:$E87)-SUM(J$1:J86),"")
... J99: =IF($A100<>$A99,SUM($E$2:$E99)-SUM(J$1:J98),"")
J100: =IF($A101<>$A100,SUM($E$2:$E100)-SUM(I$1:I99),"")
J101: =IF($A102<>$A101,SUM($E$2:$E101)-SUM(J$1:J100),"")
J102: =IF($A103<>$A102,SUM($E$2:$E102)-SUM(J$1:J101),"")
J103: =IF($A104<>$A103,SUM($E$2:$E103)-SUM(J$1:J102),"")
J104: =IF($A105<>$A104,SUM($E$2:$E104)-SUM(J$1:J103),"")
J105: =IF($A106<>$A105,SUM($E$2:$E105)-SUM(J$1:J104),"")
J106: =IF($A107<>$A106,SUM($E$2:$E106)-SUM(J$1:J105),"")
J107: =IF($A108<>$A107,SUM($E$2:$E107)-SUM(J$1:J106),"")
J108: =IF($A109<>$A108,SUM($E$2:$E108)-SUM(J$1:J107),"")
J109: =IF($A110<>$A109,SUM($E$2:$E109)-SUM(J$1:J108),"")
J110: =IF($A111<>$A110,SUM($E$2:$E110)-SUM(J$1:J109),"")
J111: =IF($A112<>$A111,SUM($E$2:$E111)-SUM(J$1:J110),"")
J112: =IF($A113<>$A112,SUM($E$2:$E112)-SUM(J$1:J111),"")
... J124: =IF($A125<>$A124,SUM($E$2:$E124)-SUM(J$1:J123),"")
J125: =IF($A126<>$A125,SUM($E$2:$E125)-SUM(I$1:I124),"")
J126: =IF($A127<>$A126,SUM($E$2:$E126)-SUM(J$1:J125),"")
J127: =IF($A128<>$A127,SUM($E$2:$E127)-SUM(J$1:J126),"")
J128: =IF($A129<>$A128,SUM($E$2:$E128)-SUM(J$1:J127),"")
J129: =IF($A130<>$A129,SUM($E$2:$E129)-SUM(J$1:J128),"")
J130: =IF($A131<>$A130,SUM($E$2:$E130)-SUM(J$1:J129),"")
J131: =IF($A132<>$A131,SUM($E$2:$E131)-SUM(J$1:J130),"")
J132: =IF($A133<>$A132,SUM($E$2:$E132)-SUM(J$1:J131),"")
J133: =IF($A134<>$A133,SUM($E$2:$E133)-SUM(J$1:J132),"")
J134: =IF($A135<>$A134,SUM($E$2:$E134)-SUM(J$1:J133),"")
J135: =IF($A136<>$A135,SUM($E$2:$E135)-SUM(J$1:J134),"")
J136: =IF($A137<>$A136,SUM($E$2:$E136)-SUM(J$1:J135),"")
J137: =IF($A138<>$A137,SUM($E$2:$E137)-SUM(J$1:J136),"")
... J149: =IF($A150<>$A149,SUM($E$2:$E149)-SUM(J$1:J148),"")
J150: =IF($A151<>$A150,SUM($E$2:$E150)-SUM(I$1:I149),"")
J151: =IF($A152<>$A151,SUM($E$2:$E151)-SUM(J$1:J150),"")
J152: =IF($A153<>$A152,SUM($E$2:$E152)-SUM(J$1:J151),"")
J153: =IF($A154<>$A153,SUM($E$2:$E153)-SUM(J$1:J152),"")
J154: =IF($A155<>$A154,SUM($E$2:$E154)-SUM(J$1:J153),"")
J155: =IF($A156<>$A155,SUM($E$2:$E155)-SUM(J$1:J154),"")
J156: =IF($A157<>$A156,SUM($E$2:$E156)-SUM(J$1:J155),"")
J157: =IF($A158<>$A157,SUM($E$2:$E157)-SUM(J$1:J156),"")
J158: =IF($A159<>$A158,SUM($E$2:$E158)-SUM(J$1:J157),"")
J159: =IF($A160<>$A159,SUM($E$2:$E159)-SUM(J$1:J158),"")
J160: =IF($A161<>$A160,SUM($E$2:$E160)-SUM(J$1:J159),"")
...

Sheet Semaine 9
A1: order_number | B1: email | C1: sku | D1: name | E1: total | F1: quantity | G1: timestamp | H1: payment_method | I1: order_total | J1: Total
J2: =IF($A3<>$A2,SUM($E$2:$E2)-SUM(I$1:I1),"")
J3: =IF($A4<>$A3,SUM($E$2:$E3)-SUM(J$1:J2),"")
J4: =IF($A5<>$A4,SUM($E$2:$E4)-SUM(J$1:J3),"")
J5: =IF($A6<>$A5,SUM($E$2:$E5)-SUM(J$1:J4),"") | K5: =SUM(J2:J55) -> 0 | L5: Vente total ($)
J6: =IF($A7<>$A6,SUM($E$2:$E6)-SUM(J$1:J5),"") | K6: =SUM(F2:F135) -> 0 | L6: Nb produits vendus
J7: =IF($A8<>$A7,SUM($E$2:$E7)-SUM(J$1:J6),"")
J8: =IF($A9<>$A8,SUM($E$2:$E8)-SUM(J$1:J7),"")
J9: =IF($A10<>$A9,SUM($E$2:$E9)-SUM(J$1:J8),"")
J10: =IF($A11<>$A10,SUM($E$2:$E10)-SUM(J$1:J9),"")
J11: =IF($A12<>$A11,SUM($E$2:$E11)-SUM(J$1:J10),"")
J12: =IF($A13<>$A12,SUM($E$2:$E12)-SUM(J$1:J11),"")
J13: =IF($A14<>$A13,SUM($E$2:$E13)-SUM(J$1:J12),"")
J14: =IF($A15<>$A14,SUM($E$2:$E14)-SUM(J$1:J13),"")
J15: =IF($A16<>$A15,SUM($E$2:$E15)-SUM(J$1:J14),"")
J16: =IF($A17<>$A16,SUM($E$2:$E16)-SUM(J$1:J15),"")
J17: =IF($A18<>$A17,SUM($E$2:$E17)-SUM(J$1:J16),"")
J18: =IF($A19<>$A18,SUM($E$2:$E18)-SUM(J$1:J17),"")
... J25: =IF($A26<>$A25,SUM($E$2:$E25)-SUM(J$1:J24),"")
J26: =IF($A27<>$A26,SUM($E$2:$E26)-SUM(I$1:I25),"")
J27: =IF($A28<>$A27,SUM($E$2:$E27)-SUM(J$1:J26),"")
J28: =IF($A29<>$A28,SUM($E$2:$E28)-SUM(J$1:J27),"")
J29: =IF($A30<>$A29,SUM($E$2:$E29)-SUM(J$1:J28),"")
J30: =IF($A31<>$A30,SUM($E$2:$E30)-SUM(J$1:J29),"")
J31: =IF($A32<>$A31,SUM($E$2:$E31)-SUM(J$1:J30),"")
J32: =IF($A33<>$A32,SUM($E$2:$E32)-SUM(J$1:J31),"")
J33: =IF($A34<>$A33,SUM($E$2:$E33)-SUM(J$1:J32),"")
J34: =IF($A35<>$A34,SUM($E$2:$E34)-SUM(J$1:J33),"")
J35: =IF($A36<>$A35,SUM($E$2:$E35)-SUM(J$1:J34),"")
J36: =IF($A37<>$A36,SUM($E$2:$E36)-SUM(J$1:J35),"")
J37: =IF($A38<>$A37,SUM($E$2:$E37)-SUM(J$1:J36),"")
J38: =IF($A39<>$A38,SUM($E$2:$E38)-SUM(J$1:J37),"")
... J49: =IF($A50<>$A49,SUM($E$2:$E49)-SUM(J$1:J48),"")
J50: =IF($A51<>$A50,SUM($E$2:$E50)-SUM(I$1:I49),"")
J51: =IF($A52<>$A51,SUM($E$2:$E51)-SUM(J$1:J50),"")
J52: =IF($A53<>$A52,SUM($E$2:$E52)-SUM(J$1:J51),"")
J53: =IF($A54<>$A53,SUM($E$2:$E53)-SUM(J$1:J52),"")
J54: =IF($A55<>$A54,SUM($E$2:$E54)-SUM(J$1:J53),"")
J55: =IF($A56<>$A55,SUM($E$2:$E55)-SUM(J$1:J54),"")
J56: =IF($A57<>$A56,SUM($E$2:$E56)-SUM(J$1:J55),"")
J57: =IF($A58<>$A57,SUM($E$2:$E57)-SUM(J$1:J56),"")
J58: =IF($A59<>$A58,SUM($E$2:$E58)-SUM(J$1:J57),"")
J59: =IF($A60<>$A59,SUM($E$2:$E59)-SUM(J$1:J58),"")
J60: =IF($A61<>$A60,SUM($E$2:$E60)-SUM(J$1:J59),"")
J61: =IF($A62<>$A61,SUM($E$2:$E61)-SUM(J$1:J60),"")
J62: =IF($A63<>$A62,SUM($E$2:$E62)-SUM(J$1:J61),"")
... J74: =IF($A75<>$A74,SUM($E$2:$E74)-SUM(J$1:J73),"")
J75: =IF($A76<>$A75,SUM($E$2:$E75)-SUM(I$1:I74),"")
J76: =IF($A77<>$A76,SUM($E$2:$E76)-SUM(J$1:J75),"")
J77: =IF($A78<>$A77,SUM($E$2:$E77)-SUM(J$1:J76),"")
J78: =IF($A79<>$A78,SUM($E$2:$E78)-SUM(J$1:J77),"")
J79: =IF($A80<>$A79,SUM($E$2:$E79)-SUM(J$1:J78),"")
J80: =IF($A81<>$A80,SUM($E$2:$E80)-SUM(J$1:J79),"")
J81: =IF($A82<>$A81,SUM($E$2:$E81)-SUM(J$1:J80),"")
J82: =IF($A83<>$A82,SUM($E$2:$E82)-SUM(J$1:J81),"")
J83: =IF($A84<>$A83,SUM($E$2:$E83)-SUM(J$1:J82),"")
J84: =IF($A85<>$A84,SUM($E$2:$E84)-SUM(J$1:J83),"")
J85: =IF($A86<>$A85,SUM($E$2:$E85)-SUM(J$1:J84),"")
J86: =IF($A87<>$A86,SUM($E$2:$E86)-SUM(J$1:J85),"")
J87: =IF($A88<>$A87,SUM($E$2:$E87)-SUM(J$1:J86),"")
... J99: =IF($A100<>$A99,SUM($E$2:$E99)-SUM(J$1:J98),"")
J100: =IF($A101<>$A100,SUM($E$2:$E100)-SUM(I$1:I99),"")
J101: =IF($A102<>$A101,SUM($E$2:$E101)-SUM(J$1:J100),"")
J102: =IF($A103<>$A102,SUM($E$2:$E102)-SUM(J$1:J101),"")
J103: =IF($A104<>$A103,SUM($E$2:$E103)-SUM(J$1:J102),"")
J104: =IF($A105<>$A104,SUM($E$2:$E104)-SUM(J$1:J103),"")
J105: =IF($A106<>$A105,SUM($E$2:$E105)-SUM(J$1:J104),"")
J106: =IF($A107<>$A106,SUM($E$2:$E106)-SUM(J$1:J105),"")
J107: =IF($A108<>$A107,SUM($E$2:$E107)-SUM(J$1:J106),"")
J108: =IF($A109<>$A108,SUM($E$2:$E108)-SUM(J$1:J107),"")
J109: =IF($A110<>$A109,SUM($E$2:$E109)-SUM(J$1:J108),"")
J110: =IF($A111<>$A110,SUM($E$2:$E110)-SUM(J$1:J109),"")
J111: =IF($A112<>$A111,SUM($E$2:$E111)-SUM(J$1:J110),"")
J112: =IF($A113<>$A112,SUM($E$2:$E112)-SUM(J$1:J111),"")
... J124: =IF($A125<>$A124,SUM($E$2:$E124)-SUM(J$1:J123),"")
J125: =IF($A126<>$A125,SUM($E$2:$E125)-SUM(I$1:I124),"")
J126: =IF($A127<>$A126,SUM($E$2:$E126)-SUM(J$1:J125),"")
J127: =IF($A128<>$A127,SUM($E$2:$E127)-SUM(J$1:J126),"")
J128: =IF($A129<>$A128,SUM($E$2:$E128)-SUM(J$1:J127),"")
J129: =IF($A130<>$A129,SUM($E$2:$E129)-SUM(J$1:J128),"")
J130: =IF($A131<>$A130,SUM($E$2:$E130)-SUM(J$1:J129),"")
J131: =IF($A132<>$A131,SUM($E$2:$E131)-SUM(J$1:J130),"")
J132: =IF($A133<>$A132,SUM($E$2:$E132)-SUM(J$1:J131),"")
J133: =IF($A134<>$A133,SUM($E$2:$E133)-SUM(J$1:J132),"")
J134: =IF($A135<>$A134,SUM($E$2:$E134)-SUM(J$1:J133),"")
J135: =IF($A136<>$A135,SUM($E$2:$E135)-SUM(J$1:J134),"")
J136: =IF($A137<>$A136,SUM($E$2:$E136)-SUM(J$1:J135),"")
J137: =IF($A138<>$A137,SUM($E$2:$E137)-SUM(J$1:J136),"")
... J149: =IF($A150<>$A149,SUM($E$2:$E149)-SUM(J$1:J148),"")
J150: =IF($A151<>$A150,SUM($E$2:$E150)-SUM(I$1:I149),"")
J151: =IF($A152<>$A151,SUM($E$2:$E151)-SUM(J$1:J150),"")
J152: =IF($A153<>$A152,SUM($E$2:$E152)-SUM(J$1:J151),"")
J153: =IF($A154<>$A153,SUM($E$2:$E153)-SUM(J$1:J152),"")
J154: =IF($A155<>$A154,SUM($E$2:$E154)-SUM(J$1:J153),"")
J155: =IF($A156<>$A155,SUM($E$2:$E155)-SUM(J$1:J154),"")
J156: =IF($A157<>$A156,SUM($E$2:$E156)-SUM(J$1:J155),"")
J157: =IF($A158<>$A157,SUM($E$2:$E157)-SUM(J$1:J156),"")
J158: =IF($A159<>$A158,SUM($E$2:$E158)-SUM(J$1:J157),"")
J159: =IF($A160<>$A159,SUM($E$2:$E159)-SUM(J$1:J158),"")
J160: =IF($A161<>$A160,SUM($E$2:$E160)-SUM(J$1:J159),"")
...

Sheet Semaine 10
A1: order_number | B1: email | C1: sku | D1: name | E1: total | F1: quantity | G1: timestamp | H1: payment_method | I1: order_total | J1: Total
J2: =IF($A3<>$A2,SUM($E$2:$E2)-SUM(I$1:I1),"")
J3: =IF($A4<>$A3,SUM($E$2:$E3)-SUM(J$1:J2),"")
J4: =IF($A5<>$A4,SUM($E$2:$E4)-SUM(J$1:J3),"")
J5: =IF($A6<>$A5,SUM($E$2:$E5)-SUM(J$1:J4),"") | K5: =SUM(J2:J55) -> 0 | L5: Vente total ($)
J6: =IF($A7<>$A6,SUM($E$2:$E6)-SUM(J$1:J5),"") | K6: =SUM(F2:F135) -> 0 | L6: Nb produits vendus
J7: =IF($A8<>$A7,SUM($E$2:$E7)-SUM(J$1:J6),"")
J8: =IF($A9<>$A8,SUM($E$2:$E8)-SUM(J$1:J7),"")
J9: =IF($A10<>$A9,SUM($E$2:$E9)-SUM(J$1:J8),"")
J10: =IF($A11<>$A10,SUM($E$2:$E10)-SUM(J$1:J9),"")
J11: =IF($A12<>$A11,SUM($E$2:$E11)-SUM(J$1:J10),"")
J12: =IF($A13<>$A12,SUM($E$2:$E12)-SUM(J$1:J11),"")
J13: =IF($A14<>$A13,SUM($E$2:$E13)-SUM(J$1:J12),"")
J14: =IF($A15<>$A14,SUM($E$2:$E14)-SUM(J$1:J13),"")
J15: =IF($A16<>$A15,SUM($E$2:$E15)-SUM(J$1:J14),"")
J16: =IF($A17<>$A16,SUM($E$2:$E16)-SUM(J$1:J15),"")
J17: =IF($A18<>$A17,SUM($E$2:$E17)-SUM(J$1:J16),"")
J18: =IF($A19<>$A18,SUM($E$2:$E18)-SUM(J$1:J17),"")
... J25: =IF($A26<>$A25,SUM($E$2:$E25)-SUM(J$1:J24),"")
J26: =IF($A27<>$A26,SUM($E$2:$E26)-SUM(I$1:I25),"")
J27: =IF($A28<>$A27,SUM($E$2:$E27)-SUM(J$1:J26),"")
J28: =IF($A29<>$A28,SUM($E$2:$E28)-SUM(J$1:J27),"")
J29: =IF($A30<>$A29,SUM($E$2:$E29)-SUM(J$1:J28),"")
J30: =IF($A31<>$A30,SUM($E$2:$E30)-SUM(J$1:J29),"")
J31: =IF($A32<>$A31,SUM($E$2:$E31)-SUM(J$1:J30),"")
J32: =IF($A33<>$A32,SUM($E$2:$E32)-SUM(J$1:J31),"")
J33: =IF($A34<>$A33,SUM($E$2:$E33)-SUM(J$1:J32),"")
J34: =IF($A35<>$A34,SUM($E$2:$E34)-SUM(J$1:J33),"")
J35: =IF($A36<>$A35,SUM($E$2:$E35)-SUM(J$1:J34),"")
J36: =IF($A37<>$A36,SUM($E$2:$E36)-SUM(J$1:J35),"")
J37: =IF($A38<>$A37,SUM($E$2:$E37)-SUM(J$1:J36),"")
J38: =IF($A39<>$A38,SUM($E$2:$E38)-SUM(J$1:J37),"")
... J49: =IF($A50<>$A49,SUM($E$2:$E49)-SUM(J$1:J48),"")
J50: =IF($A51<>$A50,SUM($E$2:$E50)-SUM(I$1:I49),"")
J51: =IF($A52<>$A51,SUM($E$2:$E51)-SUM(J$1:J50),"")
J52: =IF($A53<>$A52,SUM($E$2:$E52)-SUM(J$1:J51),"")
J53: =IF($A54<>$A53,SUM($E$2:$E53)-SUM(J$1:J52),"")
J54: =IF($A55<>$A54,SUM($E$2:$E54)-SUM(J$1:J53),"")
J55: =IF($A56<>$A55,SUM($E$2:$E55)-SUM(J$1:J54),"")
J56: =IF($A57<>$A56,SUM($E$2:$E56)-SUM(J$1:J55),"")
J57: =IF($A58<>$A57,SUM($E$2:$E57)-SUM(J$1:J56),"")
J58: =IF($A59<>$A58,SUM($E$2:$E58)-SUM(J$1:J57),"")
J59: =IF($A60<>$A59,SUM($E$2:$E59)-SUM(J$1:J58),"")
J60: =IF($A61<>$A60,SUM($E$2:$E60)-SUM(J$1:J59),"")
J61: =IF($A62<>$A61,SUM($E$2:$E61)-SUM(J$1:J60),"")
J62: =IF($A63<>$A62,SUM($E$2:$E62)-SUM(J$1:J61),"")
... J74: =IF($A75<>$A74,SUM($E$2:$E74)-SUM(J$1:J73),"")
J75: =IF($A76<>$A75,SUM($E$2:$E75)-SUM(I$1:I74),"")
J76: =IF($A77<>$A76,SUM($E$2:$E76)-SUM(J$1:J75),"")
J77: =IF($A78<>$A77,SUM($E$2:$E77)-SUM(J$1:J76),"")
J78: =IF($A79<>$A78,SUM($E$2:$E78)-SUM(J$1:J77),"")
J79: =IF($A80<>$A79,SUM($E$2:$E79)-SUM(J$1:J78),"")
J80: =IF($A81<>$A80,SUM($E$2:$E80)-SUM(J$1:J79),"")
J81: =IF($A82<>$A81,SUM($E$2:$E81)-SUM(J$1:J80),"")
J82: =IF($A83<>$A82,SUM($E$2:$E82)-SUM(J$1:J81),"")
J83: =IF($A84<>$A83,SUM($E$2:$E83)-SUM(J$1:J82),"")
J84: =IF($A85<>$A84,SUM($E$2:$E84)-SUM(J$1:J83),"")
J85: =IF($A86<>$A85,SUM($E$2:$E85)-SUM(J$1:J84),"")
J86: =IF($A87<>$A86,SUM($E$2:$E86)-SUM(J$1:J85),"")
J87: =IF($A88<>$A87,SUM($E$2:$E87)-SUM(J$1:J86),"")
... J99: =IF($A100<>$A99,SUM($E$2:$E99)-SUM(J$1:J98),"")
J100: =IF($A101<>$A100,SUM($E$2:$E100)-SUM(I$1:I99),"")
J101: =IF($A102<>$A101,SUM($E$2:$E101)-SUM(J$1:J100),"")
J102: =IF($A103<>$A102,SUM($E$2:$E102)-SUM(J$1:J101),"")
J103: =IF($A104<>$A103,SUM($E$2:$E103)-SUM(J$1:J102),"")
J104: =IF($A105<>$A104,SUM($E$2:$E104)-SUM(J$1:J103),"")
J105: =IF($A106<>$A105,SUM($E$2:$E105)-SUM(J$1:J104),"")
J106: =IF($A107<>$A106,SUM($E$2:$E106)-SUM(J$1:J105),"")
J107: =IF($A108<>$A107,SUM($E$2:$E107)-SUM(J$1:J106),"")
J108: =IF($A109<>$A108,SUM($E$2:$E108)-SUM(J$1:J107),"")
J109: =IF($A110<>$A109,SUM($E$2:$E109)-SUM(J$1:J108),"")
J110: =IF($A111<>$A110,SUM($E$2:$E110)-SUM(J$1:J109),"")
J111: =IF($A112<>$A111,SUM($E$2:$E111)-SUM(J$1:J110),"")
J112: =IF($A113<>$A112,SUM($E$2:$E112)-SUM(J$1:J111),"")
... J124: =IF($A125<>$A124,SUM($E$2:$E124)-SUM(J$1:J123),"")
J125: =IF($A126<>$A125,SUM($E$2:$E125)-SUM(I$1:I124),"")
J126: =IF($A127<>$A126,SUM($E$2:$E126)-SUM(J$1:J125),"")
J127: =IF($A128<>$A127,SUM($E$2:$E127)-SUM(J$1:J126),"")
J128: =IF($A129<>$A128,SUM($E$2:$E128)-SUM(J$1:J127),"")
J129: =IF($A130<>$A129,SUM($E$2:$E129)-SUM(J$1:J128),"")
J130: =IF($A131<>$A130,SUM($E$2:$E130)-SUM(J$1:J129),"")
J131: =IF($A132<>$A131,SUM($E$2:$E131)-SUM(J$1:J130),"")
J132: =IF($A133<>$A132,SUM($E$2:$E132)-SUM(J$1:J131),"")
J133: =IF($A134<>$A133,SUM($E$2:$E133)-SUM(J$1:J132),"")
J134: =IF($A135<>$A134,SUM($E$2:$E134)-SUM(J$1:J133),"")
J135: =IF($A136<>$A135,SUM($E$2:$E135)-SUM(J$1:J134),"")
J136: =IF($A137<>$A136,SUM($E$2:$E136)-SUM(J$1:J135),"")
J137: =IF($A138<>$A137,SUM($E$2:$E137)-SUM(J$1:J136),"")
... J149: =IF($A150<>$A149,SUM($E$2:$E149)-SUM(J$1:J148),"")
J150: =IF($A151<>$A150,SUM($E$2:$E150)-SUM(I$1:I149),"")
J151: =IF($A152<>$A151,SUM($E$2:$E151)-SUM(J$1:J150),"")
J152: =IF($A153<>$A152,SUM($E$2:$E152)-SUM(J$1:J151),"")
J153: =IF($A154<>$A153,SUM($E$2:$E153)-SUM(J$1:J152),"")
J154: =IF($A155<>$A154,SUM($E$2:$E154)-SUM(J$1:J153),"")
J155: =IF($A156<>$A155,SUM($E$2:$E155)-SUM(J$1:J154),"")
J156: =IF($A157<>$A156,SUM($E$2:$E156)-SUM(J$1:J155),"")
J157: =IF($A158<>$A157,SUM($E$2:$E157)-SUM(J$1:J156),"")
J158: =IF($A159<>$A158,SUM($E$2:$E158)-SUM(J$1:J157),"")
J159: =IF($A160<>$A159,SUM($E$2:$E159)-SUM(J$1:J158),"")
J160: =IF($A161<>$A160,SUM($E$2:$E160)-SUM(J$1:J159),"")
...

Sheet Semaine 11
A1: order_number | B1: email | C1: sku | D1: name | E1: total | F1: quantity | G1: timestamp | H1: payment_method | I1: order_total | J1: Total
J2: =IF($A3<>$A2,SUM($E$2:$E2)-SUM(I$1:I1),"")
J3: =IF($A4<>$A3,SUM($E$2:$E3)-SUM(J$1:J2),"")
J4: =IF($A5<>$A4,SUM($E$2:$E4)-SUM(J$1:J3),"")
J5: =IF($A6<>$A5,SUM($E$2:$E5)-SUM(J$1:J4),"") | K5: =SUM(J2:J55) -> 0 | L5: Vente total ($)
J6: =IF($A7<>$A6,SUM($E$2:$E6)-SUM(J$1:J5),"") | K6: =SUM(F2:F135) -> 0 | L6: Nb produits vendus
J7: =IF($A8<>$A7,SUM($E$2:$E7)-SUM(J$1:J6),"")
J8: =IF($A9<>$A8,SUM($E$2:$E8)-SUM(J$1:J7),"")
J9: =IF($A10<>$A9,SUM($E$2:$E9)-SUM(J$1:J8),"")
J10: =IF($A11<>$A10,SUM($E$2:$E10)-SUM(J$1:J9),"")
J11: =IF($A12<>$A11,SUM($E$2:$E11)-SUM(J$1:J10),"")
J12: =IF($A13<>$A12,SUM($E$2:$E12)-SUM(J$1:J11),"")
J13: =IF($A14<>$A13,SUM($E$2:$E13)-SUM(J$1:J12),"")
J14: =IF($A15<>$A14,SUM($E$2:$E14)-SUM(J$1:J13),"")
J15: =IF($A16<>$A15,SUM($E$2:$E15)-SUM(J$1:J14),"")
J16: =IF($A17<>$A16,SUM($E$2:$E16)-SUM(J$1:J15),"")
J17: =IF($A18<>$A17,SUM($E$2:$E17)-SUM(J$1:J16),"")
J18: =IF($A19<>$A18,SUM($E$2:$E18)-SUM(J$1:J17),"")
... J25: =IF($A26<>$A25,SUM($E$2:$E25)-SUM(J$1:J24),"")
J26: =IF($A27<>$A26,SUM($E$2:$E26)-SUM(I$1:I25),"")
J27: =IF($A28<>$A27,SUM($E$2:$E27)-SUM(J$1:J26),"")
J28: =IF($A29<>$A28,SUM($E$2:$E28)-SUM(J$1:J27),"")
J29: =IF($A30<>$A29,SUM($E$2:$E29)-SUM(J$1:J28),"")
J30: =IF($A31<>$A30,SUM($E$2:$E30)-SUM(J$1:J29),"")
J31: =IF($A32<>$A31,SUM($E$2:$E31)-SUM(J$1:J30),"")
J32: =IF($A33<>$A32,SUM($E$2:$E32)-SUM(J$1:J31),"")
J33: =IF($A34<>$A33,SUM($E$2:$E33)-SUM(J$1:J32),"")
J34: =IF($A35<>$A34,SUM($E$2:$E34)-SUM(J$1:J33),"")
J35: =IF($A36<>$A35,SUM($E$2:$E35)-SUM(J$1:J34),"")
J36: =IF($A37<>$A36,SUM($E$2:$E36)-SUM(J$1:J35),"")
J37: =IF($A38<>$A37,SUM($E$2:$E37)-SUM(J$1:J36),"")
J38: =IF($A39<>$A38,SUM($E$2:$E38)-SUM(J$1:J37),"")
... J49: =IF($A50<>$A49,SUM($E$2:$E49)-SUM(J$1:J48),"")
J50: =IF($A51<>$A50,SUM($E$2:$E50)-SUM(I$1:I49),"")
J51: =IF($A52<>$A51,SUM($E$2:$E51)-SUM(J$1:J50),"")
J52: =IF($A53<>$A52,SUM($E$2:$E52)-SUM(J$1:J51),"")
J53: =IF($A54<>$A53,SUM($E$2:$E53)-SUM(J$1:J52),"")
J54: =IF($A55<>$A54,SUM($E$2:$E54)-SUM(J$1:J53),"")
J55: =IF($A56<>$A55,SUM($E$2:$E55)-SUM(J$1:J54),"")
J56: =IF($A57<>$A56,SUM($E$2:$E56)-SUM(J$1:J55),"")
J57: =IF($A58<>$A57,SUM($E$2:$E57)-SUM(J$1:J56),"")
J58: =IF($A59<>$A58,SUM($E$2:$E58)-SUM(J$1:J57),"")
J59: =IF($A60<>$A59,SUM($E$2:$E59)-SUM(J$1:J58),"")
J60: =IF($A61<>$A60,SUM($E$2:$E60)-SUM(J$1:J59),"")
J61: =IF($A62<>$A61,SUM($E$2:$E61)-SUM(J$1:J60),"")
J62: =IF($A63<>$A62,SUM($E$2:$E62)-SUM(J$1:J61),"")
... J74: =IF($A75<>$A74,SUM($E$2:$E74)-SUM(J$1:J73),"")
J75: =IF($A76<>$A75,SUM($E$2:$E75)-SUM(I$1:I74),"")
J76: =IF($A77<>$A76,SUM($E$2:$E76)-SUM(J$1:J75),"")
J77: =IF($A78<>$A77,SUM($E$2:$E77)-SUM(J$1:J76),"")
J78: =IF($A79<>$A78,SUM($E$2:$E78)-SUM(J$1:J77),"")
J79: =IF($A80<>$A79,SUM($E$2:$E79)-SUM(J$1:J78),"")
J80: =IF($A81<>$A80,SUM($E$2:$E80)-SUM(J$1:J79),"")
J81: =IF($A82<>$A81,SUM($E$2:$E81)-SUM(J$1:J80),"")
J82: =IF($A83<>$A82,SUM($E$2:$E82)-SUM(J$1:J81),"")
J83: =IF($A84<>$A83,SUM($E$2:$E83)-SUM(J$1:J82),"")
J84: =IF($A85<>$A84,SUM($E$2:$E84)-SUM(J$1:J83),"")
J85: =IF($A86<>$A85,SUM($E$2:$E85)-SUM(J$1:J84),"")
J86: =IF($A87<>$A86,SUM($E$2:$E86)-SUM(J$1:J85),"")
J87: =IF($A88<>$A87,SUM($E$2:$E87)-SUM(J$1:J86),"")
... J99: =IF($A100<>$A99,SUM($E$2:$E99)-SUM(J$1:J98),"")
J100: =IF($A101<>$A100,SUM($E$2:$E100)-SUM(I$1:I99),"")
J101: =IF($A102<>$A101,SUM($E$2:$E101)-SUM(J$1:J100),"")
J102: =IF($A103<>$A102,SUM($E$2:$E102)-SUM(J$1:J101),"")
J103: =IF($A104<>$A103,SUM($E$2:$E103)-SUM(J$1:J102),"")
J104: =IF($A105<>$A104,SUM($E$2:$E104)-SUM(J$1:J103),"")
J105: =IF($A106<>$A105,SUM($E$2:$E105)-SUM(J$1:J104),"")
J106: =IF($A107<>$A106,SUM($E$2:$E106)-SUM(J$1:J105),"")
J107: =IF($A108<>$A107,SUM($E$2:$E107)-SUM(J$1:J106),"")
J108: =IF($A109<>$A108,SUM($E$2:$E108)-SUM(J$1:J107),"")
J109: =IF($A110<>$A109,SUM($E$2:$E109)-SUM(J$1:J108),"")
J110: =IF($A111<>$A110,SUM($E$2:$E110)-SUM(J$1:J109),"")
J111: =IF($A112<>$A111,SUM($E$2:$E111)-SUM(J$1:J110),"")
J112: =IF($A113<>$A112,SUM($E$2:$E112)-SUM(J$1:J111),"")
... J124: =IF($A125<>$A124,SUM($E$2:$E124)-SUM(J$1:J123),"")
J125: =IF($A126<>$A125,SUM($E$2:$E125)-SUM(I$1:I124),"")
J126: =IF($A127<>$A126,SUM($E$2:$E126)-SUM(J$1:J125),"")
J127: =IF($A128<>$A127,SUM($E$2:$E127)-SUM(J$1:J126),"")
J128: =IF($A129<>$A128,SUM($E$2:$E128)-SUM(J$1:J127),"")
J129: =IF($A130<>$A129,SUM($E$2:$E129)-SUM(J$1:J128),"")
J130: =IF($A131<>$A130,SUM($E$2:$E130)-SUM(J$1:J129),"")
J131: =IF($A132<>$A131,SUM($E$2:$E131)-SUM(J$1:J130),"")
J132: =IF($A133<>$A132,SUM($E$2:$E132)-SUM(J$1:J131),"")
J133: =IF($A134<>$A133,SUM($E$2:$E133)-SUM(J$1:J132),"")
J134: =IF($A135<>$A134,SUM($E$2:$E134)-SUM(J$1:J133),"")
J135: =IF($A136<>$A135,SUM($E$2:$E135)-SUM(J$1:J134),"")
J136: =IF($A137<>$A136,SUM($E$2:$E136)-SUM(J$1:J135),"")
J137: =IF($A138<>$A137,SUM($E$2:$E137)-SUM(J$1:J136),"")
... J149: =IF($A150<>$A149,SUM($E$2:$E149)-SUM(J$1:J148),"")
J150: =IF($A151<>$A150,SUM($E$2:$E150)-SUM(I$1:I149),"")
J151: =IF($A152<>$A151,SUM($E$2:$E151)-SUM(J$1:J150),"")
J152: =IF($A153<>$A152,SUM($E$2:$E152)-SUM(J$1:J151),"")
J153: =IF($A154<>$A153,SUM($E$2:$E153)-SUM(J$1:J152),"")
J154: =IF($A155<>$A154,SUM($E$2:$E154)-SUM(J$1:J153),"")
J155: =IF($A156<>$A155,SUM($E$2:$E155)-SUM(J$1:J154),"")
J156: =IF($A157<>$A156,SUM($E$2:$E156)-SUM(J$1:J155),"")
J157: =IF($A158<>$A157,SUM($E$2:$E157)-SUM(J$1:J156),"")
J158: =IF($A159<>$A158,SUM($E$2:$E158)-SUM(J$1:J157),"")
J159: =IF($A160<>$A159,SUM($E$2:$E159)-SUM(J$1:J158),"")
J160: =IF($A161<>$A160,SUM($E$2:$E160)-SUM(J$1:J159),"")
...

Sheet Semaine 12
A1: order_number | B1: email | C1: sku | D1: name | E1: total | F1: quantity | G1: timestamp | H1: payment_method | I1: order_total | J1: Total
J2: =IF($A3<>$A2,SUM($E$2:$E2)-SUM(I$1:I1),"")
J3: =IF($A4<>$A3,SUM($E$2:$E3)-SUM(J$1:J2),"")
J4: =IF($A5<>$A4,SUM($E$2:$E4)-SUM(J$1:J3),"")
J5: =IF($A6<>$A5,SUM($E$2:$E5)-SUM(J$1:J4),"") | K5: =SUM(J2:J55) -> 0 | L5: Vente total ($)
J6: =IF($A7<>$A6,SUM($E$2:$E6)-SUM(J$1:J5),"") | K6: =SUM(F2:F135) -> 0 | L6: Nb produits vendus
J7: =IF($A8<>$A7,SUM($E$2:$E7)-SUM(J$1:J6),"")
J8: =IF($A9<>$A8,SUM($E$2:$E8)-SUM(J$1:J7),"")
J9: =IF($A10<>$A9,SUM($E$2:$E9)-SUM(J$1:J8),"")
J10: =IF($A11<>$A10,SUM($E$2:$E10)-SUM(J$1:J9),"")
J11: =IF($A12<>$A11,SUM($E$2:$E11)-SUM(J$1:J10),"")
J12: =IF($A13<>$A12,SUM($E$2:$E12)-SUM(J$1:J11),"")
J13: =IF($A14<>$A13,SUM($E$2:$E13)-SUM(J$1:J12),"")
J14: =IF($A15<>$A14,SUM($E$2:$E14)-SUM(J$1:J13),"")
J15: =IF($A16<>$A15,SUM($E$2:$E15)-SUM(J$1:J14),"")
J16: =IF($A17<>$A16,SUM($E$2:$E16)-SUM(J$1:J15),"")
J17: =IF($A18<>$A17,SUM($E$2:$E17)-SUM(J$1:J16),"")
J18: =IF($A19<>$A18,SUM($E$2:$E18)-SUM(J$1:J17),"")
... J25: =IF($A26<>$A25,SUM($E$2:$E25)-SUM(J$1:J24),"")
J26: =IF($A27<>$A26,SUM($E$2:$E26)-SUM(I$1:I25),"")
J27: =IF($A28<>$A27,SUM($E$2:$E27)-SUM(J$1:J26),"")
J28: =IF($A29<>$A28,SUM($E$2:$E28)-SUM(J$1:J27),"")
J29: =IF($A30<>$A29,SUM($E$2:$E29)-SUM(J$1:J28),"")
J30: =IF($A31<>$A30,SUM($E$2:$E30)-SUM(J$1:J29),"")
J31: =IF($A32<>$A31,SUM($E$2:$E31)-SUM(J$1:J30),"")
J32: =IF($A33<>$A32,SUM($E$2:$E32)-SUM(J$1:J31),"")
J33: =IF($A34<>$A33,SUM($E$2:$E33)-SUM(J$1:J32),"")
J34: =IF($A35<>$A34,SUM($E$2:$E34)-SUM(J$1:J33),"")
J35: =IF($A36<>$A35,SUM($E$2:$E35)-SUM(J$1:J34),"")
J36: =IF($A37<>$A36,SUM($E$2:$E36)-SUM(J$1:J35),"")
J37: =IF($A38<>$A37,SUM($E$2:$E37)-SUM(J$1:J36),"")
J38: =IF($A39<>$A38,SUM($E$2:$E38)-SUM(J$1:J37),"")
... J49: =IF($A50<>$A49,SUM($E$2:$E49)-SUM(J$1:J48),"")
J50: =IF($A51<>$A50,SUM($E$2:$E50)-SUM(I$1:I49),"")
J51: =IF($A52<>$A51,SUM($E$2:$E51)-SUM(J$1:J50),"")
J52: =IF($A53<>$A52,SUM($E$2:$E52)-SUM(J$1:J51),"")
J53: =IF($A54<>$A53,SUM($E$2:$E53)-SUM(J$1:J52),"")
J54: =IF($A55<>$A54,SUM($E$2:$E54)-SUM(J$1:J53),"")
J55: =IF($A56<>$A55,SUM($E$2:$E55)-SUM(J$1:J54),"")
J56: =IF($A57<>$A56,SUM($E$2:$E56)-SUM(J$1:J55),"")
J57: =IF($A58<>$A57,SUM($E$2:$E57)-SUM(J$1:J56),"")
J58: =IF($A59<>$A58,SUM($E$2:$E58)-SUM(J$1:J57),"")
J59: =IF($A60<>$A59,SUM($E$2:$E59)-SUM(J$1:J58),"")
J60: =IF($A61<>$A60,SUM($E$2:$E60)-SUM(J$1:J59),"")
J61: =IF($A62<>$A61,SUM($E$2:$E61)-SUM(J$1:J60),"")
J62: =IF($A63<>$A62,SUM($E$2:$E62)-SUM(J$1:J61),"")
... J74: =IF($A75<>$A74,SUM($E$2:$E74)-SUM(J$1:J73),"")
J75: =IF($A76<>$A75,SUM($E$2:$E75)-SUM(I$1:I74),"")
J76: =IF($A77<>$A76,SUM($E$2:$E76)-SUM(J$1:J75),"")
J77: =IF($A78<>$A77,SUM($E$2:$E77)-SUM(J$1:J76),"")
J78: =IF($A79<>$A78,SUM($E$2:$E78)-SUM(J$1:J77),"")
J79: =IF($A80<>$A79,SUM($E$2:$E79)-SUM(J$1:J78),"")
J80: =IF($A81<>$A80,SUM($E$2:$E80)-SUM(J$1:J79),"")
J81: =IF($A82<>$A81,SUM($E$2:$E81)-SUM(J$1:J80),"")
J82: =IF($A83<>$A82,SUM($E$2:$E82)-SUM(J$1:J81),"")
J83: =IF($A84<>$A83,SUM($E$2:$E83)-SUM(J$1:J82),"")
J84: =IF($A85<>$A84,SUM($E$2:$E84)-SUM(J$1:J83),"")
J85: =IF($A86<>$A85,SUM($E$2:$E85)-SUM(J$1:J84),"")
J86: =IF($A87<>$A86,SUM($E$2:$E86)-SUM(J$1:J85),"")
J87: =IF($A88<>$A87,SUM($E$2:$E87)-SUM(J$1:J86),"")
... J99: =IF($A100<>$A99,SUM($E$2:$E99)-SUM(J$1:J98),"")
J100: =IF($A101<>$A100,SUM($E$2:$E100)-SUM(I$1:I99),"")
J101: =IF($A102<>$A101,SUM($E$2:$E101)-SUM(J$1:J100),"")
J102: =IF($A103<>$A102,SUM($E$2:$E102)-SUM(J$1:J101),"")
J103: =IF($A104<>$A103,SUM($E$2:$E103)-SUM(J$1:J102),"")
J104: =IF($A105<>$A104,SUM($E$2:$E104)-SUM(J$1:J103),"")
J105: =IF($A106<>$A105,SUM($E$2:$E105)-SUM(J$1:J104),"")
J106: =IF($A107<>$A106,SUM($E$2:$E106)-SUM(J$1:J105),"")
J107: =IF($A108<>$A107,SUM($E$2:$E107)-SUM(J$1:J106),"")
J108: =IF($A109<>$A108,SUM($E$2:$E108)-SUM(J$1:J107),"")
J109: =IF($A110<>$A109,SUM($E$2:$E109)-SUM(J$1:J108),"")
J110: =IF($A111<>$A110,SUM($E$2:$E110)-SUM(J$1:J109),"")
J111: =IF($A112<>$A111,SUM($E$2:$E111)-SUM(J$1:J110),"")
J112: =IF($A113<>$A112,SUM($E$2:$E112)-SUM(J$1:J111),"")
... J124: =IF($A125<>$A124,SUM($E$2:$E124)-SUM(J$1:J123),"")
J125: =IF($A126<>$A125,SUM($E$2:$E125)-SUM(I$1:I124),"")
J126: =IF($A127<>$A126,SUM($E$2:$E126)-SUM(J$1:J125),"")
J127: =IF($A128<>$A127,SUM($E$2:$E127)-SUM(J$1:J126),"")
J128: =IF($A129<>$A128,SUM($E$2:$E128)-SUM(J$1:J127),"")
J129: =IF($A130<>$A129,SUM($E$2:$E129)-SUM(J$1:J128),"")
J130: =IF($A131<>$A130,SUM($E$2:$E130)-SUM(J$1:J129),"")
J131: =IF($A132<>$A131,SUM($E$2:$E131)-SUM(J$1:J130),"")
J132: =IF($A133<>$A132,SUM($E$2:$E132)-SUM(J$1:J131),"")
J133: =IF($A134<>$A133,SUM($E$2:$E133)-SUM(J$1:J132),"")
J134: =IF($A135<>$A134,SUM($E$2:$E134)-SUM(J$1:J133),"")
J135: =IF($A136<>$A135,SUM($E$2:$E135)-SUM(J$1:J134),"")
J136: =IF($A137<>$A136,SUM($E$2:$E136)-SUM(J$1:J135),"")
J137: =IF($A138<>$A137,SUM($E$2:$E137)-SUM(J$1:J136),"")
... J149: =IF($A150<>$A149,SUM($E$2:$E149)-SUM(J$1:J148),"")
J150: =IF($A151<>$A150,SUM($E$2:$E150)-SUM(I$1:I149),"")
J151: =IF($A152<>$A151,SUM($E$2:$E151)-SUM(J$1:J150),"")
J152: =IF($A153<>$A152,SUM($E$2:$E152)-SUM(J$1:J151),"")
J153: =IF($A154<>$A153,SUM($E$2:$E153)-SUM(J$1:J152),"")
J154: =IF($A155<>$A154,SUM($E$2:$E154)-SUM(J$1:J153),"")
J155: =IF($A156<>$A155,SUM($E$2:$E155)-SUM(J$1:J154),"")
J156: =IF($A157<>$A156,SUM($E$2:$E156)-SUM(J$1:J155),"")
J157: =IF($A158<>$A157,SUM($E$2:$E157)-SUM(J$1:J156),"")
J158: =IF($A159<>$A158,SUM($E$2:$E158)-SUM(J$1:J157),"")
J159: =IF($A160<>$A159,SUM($E$2:$E159)-SUM(J$1:J158),"")
J160: =IF($A161<>$A160,SUM($E$2:$E160)-SUM(J$1:J159),"")
...

Sheet Semaine 13
A1: order_number | B1: email | C1: sku | D1: name | E1: total | F1: quantity | G1: timestamp | H1: payment_method | I1: order_total | J1: Total
J2: =IF($A3<>$A2,SUM($E$2:$E2)-SUM(I$1:I1),"")
J3: =IF($A4<>$A3,SUM($E$2:$E3)-SUM(J$1:J2),"")
J4: =IF($A5<>$A4,SUM($E$2:$E4)-SUM(J$1:J3),"")
J5: =IF($A6<>$A5,SUM($E$2:$E5)-SUM(J$1:J4),"") | K5: =SUM(J2:J55) -> 0 | L5: Vente total ($)
J6: =IF($A7<>$A6,SUM($E$2:$E6)-SUM(J$1:J5),"") | K6: =SUM(F2:F135) -> 0 | L6: Nb produits vendus
J7: =IF($A8<>$A7,SUM($E$2:$E7)-SUM(J$1:J6),"")
J8: =IF($A9<>$A8,SUM($E$2:$E8)-SUM(J$1:J7),"")
J9: =IF($A10<>$A9,SUM($E$2:$E9)-SUM(J$1:J8),"")
J10: =IF($A11<>$A10,SUM($E$2:$E10)-SUM(J$1:J9),"")
J11: =IF($A12<>$A11,SUM($E$2:$E11)-SUM(J$1:J10),"")
J12: =IF($A13<>$A12,SUM($E$2:$E12)-SUM(J$1:J11),"")
J13: =IF($A14<>$A13,SUM($E$2:$E13)-SUM(J$1:J12),"")
J14: =IF($A15<>$A14,SUM($E$2:$E14)-SUM(J$1:J13),"")
J15: =IF($A16<>$A15,SUM($E$2:$E15)-SUM(J$1:J14),"")
J16: =IF($A17<>$A16,SUM($E$2:$E16)-SUM(J$1:J15),"")
J17: =IF($A18<>$A17,SUM($E$2:$E17)-SUM(J$1:J16),"")
J18: =IF($A19<>$A18,SUM($E$2:$E18)-SUM(J$1:J17),"")
... J25: =IF($A26<>$A25,SUM($E$2:$E25)-SUM(J$1:J24),"")
J26: =IF($A27<>$A26,SUM($E$2:$E26)-SUM(I$1:I25),"")
J27: =IF($A28<>$A27,SUM($E$2:$E27)-SUM(J$1:J26),"")
J28: =IF($A29<>$A28,SUM($E$2:$E28)-SUM(J$1:J27),"")
J29: =IF($A30<>$A29,SUM($E$2:$E29)-SUM(J$1:J28),"")
J30: =IF($A31<>$A30,SUM($E$2:$E30)-SUM(J$1:J29),"")
J31: =IF($A32<>$A31,SUM($E$2:$E31)-SUM(J$1:J30),"")
J32: =IF($A33<>$A32,SUM($E$2:$E32)-SUM(J$1:J31),"")
J33: =IF($A34<>$A33,SUM($E$2:$E33)-SUM(J$1:J32),"")
J34: =IF($A35<>$A34,SUM($E$2:$E34)-SUM(J$1:J33),"")
J35: =IF($A36<>$A35,SUM($E$2:$E35)-SUM(J$1:J34),"")
J36: =IF($A37<>$A36,SUM($E$2:$E36)-SUM(J$1:J35),"")
J37: =IF($A38<>$A37,SUM($E$2:$E37)-SUM(J$1:J36),"")
J38: =IF($A39<>$A38,SUM($E$2:$E38)-SUM(J$1:J37),"")
... J49: =IF($A50<>$A49,SUM($E$2:$E49)-SUM(J$1:J48),"")
J50: =IF($A51<>$A50,SUM($E$2:$E50)-SUM(I$1:I49),"")
J51: =IF($A52<>$A51,SUM($E$2:$E51)-SUM(J$1:J50),"")
J52: =IF($A53<>$A52,SUM($E$2:$E52)-SUM(J$1:J51),"")
J53: =IF($A54<>$A53,SUM($E$2:$E53)-SUM(J$1:J52),"")
J54: =IF($A55<>$A54,SUM($E$2:$E54)-SUM(J$1:J53),"")
J55: =IF($A56<>$A55,SUM($E$2:$E55)-SUM(J$1:J54),"")
J56: =IF($A57<>$A56,SUM($E$2:$E56)-SUM(J$1:J55),"")
J57: =IF($A58<>$A57,SUM($E$2:$E57)-SUM(J$1:J56),"")
J58: =IF($A59<>$A58,SUM($E$2:$E58)-SUM(J$1:J57),"")
J59: =IF($A60<>$A59,SUM($E$2:$E59)-SUM(J$1:J58),"")
J60: =IF($A61<>$A60,SUM($E$2:$E60)-SUM(J$1:J59),"")
J61: =IF($A62<>$A61,SUM($E$2:$E61)-SUM(J$1:J60),"")
J62: =IF($A63<>$A62,SUM($E$2:$E62)-SUM(J$1:J61),"")
... J74: =IF($A75<>$A74,SUM($E$2:$E74)-SUM(J$1:J73),"")
J75: =IF($A76<>$A75,SUM($E$2:$E75)-SUM(I$1:I74),"")
J76: =IF($A77<>$A76,SUM($E$2:$E76)-SUM(J$1:J75),"")
J77: =IF($A78<>$A77,SUM($E$2:$E77)-SUM(J$1:J76),"")
J78: =IF($A79<>$A78,SUM($E$2:$E78)-SUM(J$1:J77),"")
J79: =IF($A80<>$A79,SUM($E$2:$E79)-SUM(J$1:J78),"")
J80: =IF($A81<>$A80,SUM($E$2:$E80)-SUM(J$1:J79),"")
J81: =IF($A82<>$A81,SUM($E$2:$E81)-SUM(J$1:J80),"")
J82: =IF($A83<>$A82,SUM($E$2:$E82)-SUM(J$1:J81),"")
J83: =IF($A84<>$A83,SUM($E$2:$E83)-SUM(J$1:J82),"")
J84: =IF($A85<>$A84,SUM($E$2:$E84)-SUM(J$1:J83),"")
J85: =IF($A86<>$A85,SUM($E$2:$E85)-SUM(J$1:J84),"")
J86: =IF($A87<>$A86,SUM($E$2:$E86)-SUM(J$1:J85),"")
J87: =IF($A88<>$A87,SUM($E$2:$E87)-SUM(J$1:J86),"")
... J99: =IF($A100<>$A99,SUM($E$2:$E99)-SUM(J$1:J98),"")
J100: =IF($A101<>$A100,SUM($E$2:$E100)-SUM(I$1:I99),"")
J101: =IF($A102<>$A101,SUM($E$2:$E101)-SUM(J$1:J100),"")
J102: =IF($A103<>$A102,SUM($E$2:$E102)-SUM(J$1:J101),"")
J103: =IF($A104<>$A103,SUM($E$2:$E103)-SUM(J$1:J102),"")
J104: =IF($A105<>$A104,SUM($E$2:$E104)-SUM(J$1:J103),"")
J105: =IF($A106<>$A105,SUM($E$2:$E105)-SUM(J$1:J104),"")
J106: =IF($A107<>$A106,SUM($E$2:$E106)-SUM(J$1:J105),"")
J107: =IF($A108<>$A107,SUM($E$2:$E107)-SUM(J$1:J106),"")
J108: =IF($A109<>$A108,SUM($E$2:$E108)-SUM(J$1:J107),"")
J109: =IF($A110<>$A109,SUM($E$2:$E109)-SUM(J$1:J108),"")
J110: =IF($A111<>$A110,SUM($E$2:$E110)-SUM(J$1:J109),"")
J111: =IF($A112<>$A111,SUM($E$2:$E111)-SUM(J$1:J110),"")
J112: =IF($A113<>$A112,SUM($E$2:$E112)-SUM(J$1:J111),"")
... J124: =IF($A125<>$A124,SUM($E$2:$E124)-SUM(J$1:J123),"")
J125: =IF($A126<>$A125,SUM($E$2:$E125)-SUM(I$1:I124),"")
J126: =IF($A127<>$A126,SUM($E$2:$E126)-SUM(J$1:J125),"")
J127: =IF($A128<>$A127,SUM($E$2:$E127)-SUM(J$1:J126),"")
J128: =IF($A129<>$A128,SUM($E$2:$E128)-SUM(J$1:J127),"")
J129: =IF($A130<>$A129,SUM($E$2:$E129)-SUM(J$1:J128),"")
J130: =IF($A131<>$A130,SUM($E$2:$E130)-SUM(J$1:J129),"")
J131: =IF($A132<>$A131,SUM($E$2:$E131)-SUM(J$1:J130),"")
J132: =IF($A133<>$A132,SUM($E$2:$E132)-SUM(J$1:J131),"")
J133: =IF($A134<>$A133,SUM($E$2:$E133)-SUM(J$1:J132),"")
J134: =IF($A135<>$A134,SUM($E$2:$E134)-SUM(J$1:J133),"")
J135: =IF($A136<>$A135,SUM($E$2:$E135)-SUM(J$1:J134),"")
J136: =IF($A137<>$A136,SUM($E$2:$E136)-SUM(J$1:J135),"")
J137: =IF($A138<>$A137,SUM($E$2:$E137)-SUM(J$1:J136),"")
... J149: =IF($A150<>$A149,SUM($E$2:$E149)-SUM(J$1:J148),"")
J150: =IF($A151<>$A150,SUM($E$2:$E150)-SUM(I$1:I149),"")
J151: =IF($A152<>$A151,SUM($E$2:$E151)-SUM(J$1:J150),"")
J152: =IF($A153<>$A152,SUM($E$2:$E152)-SUM(J$1:J151),"")
J153: =IF($A154<>$A153,SUM($E$2:$E153)-SUM(J$1:J152),"")
J154: =IF($A155<>$A154,SUM($E$2:$E154)-SUM(J$1:J153),"")
J155: =IF($A156<>$A155,SUM($E$2:$E155)-SUM(J$1:J154),"")
J156: =IF($A157<>$A156,SUM($E$2:$E156)-SUM(J$1:J155),"")
J157: =IF($A158<>$A157,SUM($E$2:$E157)-SUM(J$1:J156),"")
J158: =IF($A159<>$A158,SUM($E$2:$E158)-SUM(J$1:J157),"")
J159: =IF($A160<>$A159,SUM($E$2:$E159)-SUM(J$1:J158),"")
J160: =IF($A161<>$A160,SUM($E$2:$E160)-SUM(J$1:J159),"")
...
