Workbook

Sheet LISTE
A1: CLASSE | B1: SEXE | C1: NOM Prénom | D1: OM | E1: TP | F1: CI | G1: CP | H1: MALUS | I1: PO | J1: IC | K1: DM | L1: TS | M1: BONUS | O1: REMARQUES
D2: Oubli de matériel | E2: Travail personnel non fait | F2: Comportement inadapté | G2: Consultation portable | I2: Participation orale | J2: Investissement cours | K2: Devoir maison complet | L2: Travail supplémentaire | N2: NOTE SUR 20
A3: 2DE1 | B3: G | C3: ALBERT | H3: =IF(ISBLANK(D3),"",SUM(D3:G3)) | M3: =IF(ISBLANK(I3),"",SUM(I3:L3)) | N3: {=PLAN_2DE1!AW56} -> 7
A4: 2DE1 | B4: G | C4: BENOIT | H4: =IF(ISBLANK(D4),"",SUM(D4:G4)) | M4: =IF(ISBLANK(I4),"",SUM(I4:L4)) | N4: {=PLAN_2DE1!AR56} -> 16
A5: 2DE1 | B5: F | C5: CAROLINE | H5: =IF(ISBLANK(D5),"",SUM(D5:G5)) | M5: =IF(ISBLANK(I5),"",SUM(I5:L5)) | N5: {=PLAN_2DE1!AW45} -> 18
A6: 2DE1 | B6: F | C6: LUCIE | H6: =IF(ISBLANK(D6),"",SUM(D6:G6)) | M6: =IF(ISBLANK(I6),"",SUM(I6:L6)) | N6: {=PLAN_2DE1!AR56} -> 16
A7: 2DE1 | B7: G | C7: SAMUEL | H7: =IF(ISBLANK(D7),"",SUM(D7:G7)) | M7: =IF(ISBLANK(I7),"",SUM(I7:L7)) | N7: {=PLAN_2DE1!AW34} -> 14
A8: 2DE1 | B8: G | C8: THEODORE | H8: =IF(ISBLANK(D8),"",SUM(D8:G8)) | M8: =IF(ISBLANK(I8),"",SUM(I8:L8)) | N8: {=PLAN_2DE1!AR34} -> 20
A9: 2DE1 | B9: G | C9: RODOLPH | H9: =IF(ISBLANK(D9),"",SUM(D9:G9)) | M9: =IF(ISBLANK(I9),"",SUM(I9:L9)) | N9: {=PLAN_2DE1!AH56} -> 14
H10: =IF(ISBLANK(D10),"",SUM(D10:G10)) | M10: =IF(ISBLANK(I10),"",SUM(I10:L10))
H11: =IF(ISBLANK(D11),"",SUM(D11:G11)) | M11: =IF(ISBLANK(I11),"",SUM(I11:L11))
H12: =IF(ISBLANK(D12),"",SUM(D12:G12)) | M12: =IF(ISBLANK(I12),"",SUM(I12:L12))
H13: =IF(ISBLANK(D13),"",SUM(D13:G13)) | M13: =IF(ISBLANK(I13),"",SUM(I13:L13))
H14: =IF(ISBLANK(D14),"",SUM(D14:G14)) | M14: =IF(ISBLANK(I14),"",SUM(I14:L14))
H15: =IF(ISBLANK(D15),"",SUM(D15:G15)) | M15: =IF(ISBLANK(I15),"",SUM(I15:L15))
H16: =IF(ISBLANK(D16),"",SUM(D16:G16)) | M16: =IF(ISBLANK(I16),"",SUM(I16:L16))
H17: =IF(ISBLANK(D17),"",SUM(D17:G17)) | M17: =IF(ISBLANK(I17),"",SUM(I17:L17))
H18: =IF(ISBLANK(D18),"",SUM(D18:G18)) | M18: =IF(ISBLANK(I18),"",SUM(I18:L18))
H19: =IF(ISBLANK(D19),"",SUM(D19:G19)) | M19: =IF(ISBLANK(I19),"",SUM(I19:L19))
H20: =IF(ISBLANK(D20),"",SUM(D20:G20)) | M20: =IF(ISBLANK(I20),"",SUM(I20:L20))
H21: =IF(ISBLANK(D21),"",SUM(D21:G21)) | M21: =IF(ISBLANK(I21),"",SUM(I21:L21))
... H548: =IF(ISBLANK(D548),"",SUM(D548:G548)) | M548: =IF(ISBLANK(I548),"",SUM(I548:L548))

Sheet PLAN_2DE1
A1: PLAN DE CLASSE ET SUIVI 2DE1
B2: Allée 1 | G2: Allée 2 | L2: Allée 3 | Q2: Allée 4 | V2: Allée 5 | AA2: Allée 6 | AF2: Allée 7 | AK2: Allée 8 | AP2: Allée 9 | AU2: Allée 10
A3: Rangée 5 | B3: OM | C3: CP | E3: DM | F3: TP | G3: OM | H3: CP | J3: DM | K3: TP | L3: OM | M3: CP | O3: DM | P3: TP | Q3: OM | R3: CP | T3: DM | U3: TP | V3: OM | W3: CP | Y3: DM | Z3: TP | AA3: OM | AB3: CP | AD3: DM | AE3: TP | AF3: OM | AG3: CP | AI3: DM | AJ3: TP | AK3: OM | AL3: CP | AN3: DM | AO3: TP | AP3: OM | AQ3: CP | AS3: DM | AT3: TP | AU3: OM | AV3: CP | AX3: DM | AY3: TP | BB3: OM | BC3: CP | BE3: DM | BF3: TP
B12: TP | C12: CI | D12: =IF(ISBLANK(D4),"",IF((10-B4-C4-B11-C11+E4+F4+E11+F11)>20,20,IF((10-B4-C4-B11-C11+E4+F4+E11+F11)<0,0,10-B4-C4-B11-C11+E4+F4+E11+F11))) | E12: PO | F12: IC | G12: TP | H12: CI | I12: =IF(ISBLANK(I4),"",IF((10-G4-H4-G11-H11+J4+K4+J11+K11)>20,20,IF((10-G4-H4-G11-H11+J4+K4+J11+K11)<0,0,10-G4-H4-G11-H11+J4+K4+J11+K11))) | J12: PO | K12: IC | L12: TP | M12: CI | N12: =IF(ISBLANK(N4),"",IF((10-L4-M4-L11-M11+O4+P4+O11+P11)>20,20,IF((10-L4-M4-L11-M11+O4+P4+O11+P11)<0,0,10-L4-M4-L11-M11+O4+P4+O11+P11))) | O12: PO | P12: IC | Q12: TP | R12: CI | S12: =IF(ISBLANK(S4),"",IF((10-Q4-R4-Q11-R11+T4+U4+T11+U11)>20,20,IF((10-Q4-R4-Q11-R11+T4+U4+T11+U11)<0,0,10-Q4-R4-Q11-R11+T4+U4+T11+U11))) | T12: PO | U12: IC | V12: TP | W12: CI | X12: =IF(ISBLANK(X4),"",IF((10-V4-W4-V11-W11+Y4+Z4+Y11+Z11)>20,20,IF((10-V4-W4-V11-W11+Y4+Z4+Y11+Z11)<0,0,10-V4-W4-V11-W11+Y4+Z4+Y11+Z11))) | Y12: PO | Z12: IC | AA12: TP | AB12: CI | AC12: =IF(ISBLANK(AC4),"",IF((10-AA4-AB4-AA11-AB11+AD4+AE4+AD11+AE11)>20,20,IF((10-AA4-AB4-AA11-AB11+AD4+AE4+AD11+AE11)<0,0,10-AA4-AB4-AA11-AB11+AD4+AE4+AD11+AE11))) | AD12: PO | AE12: IC | AF12: TP | AG12: CI | AH12: =IF(ISBLANK(AH4),"",IF((10-AF4-AG4-AF11-AG11+AI4+AJ4+AI11+AJ11)>20,20,IF((10-AF4-AG4-AF11-AG11+AI4+AJ4+AI11+AJ11)<0,0,10-AF4-AG4-AF11-AG11+AI4+AJ4+AI11+AJ11))) | AI12: PO | AJ12: IC | AK12: TP | AL12: CI | AM12: =IF(ISBLANK(AM4),"",IF((10-AK4-AL4-AK11-AL11+AN4+AO4+AN11+AO11)>20,20,IF((10-AK4-AL4-AK11-AL11+AN4+AO4+AN11+AO11)<0,0,10-AK4-AL4-AK11-AL11+AN4+AO4+AN11+AO11))) | AN12: PO | AO12: IC | AP12: TP | AQ12: CI | AR12: =IF(ISBLANK(AR4),"",IF((10-AP4-AQ4-AP11-AQ11+AS4+AT4+AS11+AT11)>20,20,IF((10-AP4-AQ4-AP11-AQ11+AS4+AT4+AS11+AT11)<0,0,10-AP4-AQ4-AP11-AQ11+AS4+AT4+AS11+AT11))) | AS12: PO | AT12: IC | AU12: TP | AV12: CI | AW12: =IF(ISBLANK(AW4),"",IF((10-AU4-AV4-AU11-AV11+AX4+AY4+AX11+AY11)>20,20,IF((10-AU4-AV4-AU11-AV11+AX4+AY4+AX11+AY11)<0,0,10-AU4-AV4-AU11-AV11+AX4+AY4+AX11+AY11))) | AX12: PO | AY12: IC | BB12: TP | BC12: CI | BD12: =IF(ISBLANK(BD4),"",IF((10-BB4-BC4-BB11-BC11+BE4+BF4+BE11+BF11)>20,20,IF((10-BB4-BC4-BB11-BC11+BE4+BF4+BE11+BF11)<0,0,10-BB4-BC4-BB11-BC11+BE4+BF4+BE11+BF11))) | BE12: PO | BF12: IC
A13: Rangée 4
B14: OM | C14: CP | E14: DM | F14: TP | G14: OM | H14: CP | J14: DM | K14: TP | L14: OM | M14: CP | O14: DM | P14: TP | Q14: OM | R14: CP | T14: DM | U14: TP | V14: OM | W14: CP | Y14: DM | Z14: TP | AA14: OM | AB14: CP | AD14: DM | AE14: TP | AF14: OM | AG14: CP | AI14: DM | AJ14: TP | AK14: OM | AL14: CP | AN14: DM | AO14: TP | AP14: OM | AQ14: CP | AS14: DM | AT14: TP | AU14: OM | AV14: CP | AX14: DM | AY14: TP | BB14: OM | BC14: CP | BE14: DM | BF14: TP
B23: TP | C23: CI | D23: =IF(ISBLANK(D15),"",IF((10-B15-C15-B22-C22+E15+F15+E22+F22)>20,20,IF((10-B15-C15-B22-C22+E15+F15+E22+F22)<0,0,10-B15-C15-B22-C22+E15+F15+E22+F22))) | E23: PO | F23: IC | G23: TP | H23: CI | I23: =IF(ISBLANK(I15),"",IF((10-G15-H15-G22-H22+J15+K15+J22+K22)>20,20,IF((10-G15-H15-G22-H22+J15+K15+J22+K22)<0,0,10-G15-H15-G22-H22+J15+K15+J22+K22))) | J23: PO | K23: IC | L23: TP | M23: CI | N23: =IF(ISBLANK(N15),"",IF((10-L15-M15-L22-M22+O15+P15+O22+P22)>20,20,IF((10-L15-M15-L22-M22+O15+P15+O22+P22)<0,0,10-L15-M15-L22-M22+O15+P15+O22+P22))) | O23: PO | P23: IC | Q23: TP | R23: CI | S23: =IF(ISBLANK(S15),"",IF((10-Q15-R15-Q22-R22+T15+U15+T22+U22)>20,20,IF((10-Q15-R15-Q22-R22+T15+U15+T22+U22)<0,0,10-Q15-R15-Q22-R22+T15+U15+T22+U22))) | T23: PO | U23: IC | V23: TP | W23: CI | X23: =IF(ISBLANK(X15),"",IF((10-V15-W15-V22-W22+Y15+Z15+Y22+Z22)>20,20,IF((10-V15-W15-V22-W22+Y15+Z15+Y22+Z22)<0,0,10-V15-W15-V22-W22+Y15+Z15+Y22+Z22))) | Y23: PO | Z23: IC | AA23: TP | AB23: CI | AC23: =IF(ISBLANK(AC15),"",IF((10-AA15-AB15-AA22-AB22+AD15+AE15+AD22+AE22)>20,20,IF((10-AA15-AB15-AA22-AB22+AD15+AE15+AD22+AE22)<0,0,10-AA15-AB15-AA22-AB22+AD15+AE15+AD22+AE22))) | AD23: PO | AE23: IC | AF23: TP | AG23: CI | AH23: =IF(ISBLANK(AH15),"",IF((10-AF15-AG15-AF22-AG22+AI15+AJ15+AI22+AJ22)>20,20,IF((10-AF15-AG15-AF22-AG22+AI15+AJ15+AI22+AJ22)<0,0,10-AF15-AG15-AF22-AG22+AI15+AJ15+AI22+AJ22))) | AI23: PO | AJ23: IC | AK23: TP | AL23: CI | AM23: =IF(ISBLANK(AM15),"",IF((10-AK15-AL15-AK22-AL22+AN15+AO15+AN22+AO22)>20,20,IF((10-AK15-AL15-AK22-AL22+AN15+AO15+AN22+AO22)<0,0,10-AK15-AL15-AK22-AL22+AN15+AO15+AN22+AO22))) | AN23: PO | AO23: IC | AP23: TP | AQ23: CI | AR23: =IF(ISBLANK(AR15),"",IF((10-AP15-AQ15-AP22-AQ22+AS15+AT15+AS22+AT22)>20,20,IF((10-AP15-AQ15-AP22-AQ22+AS15+AT15+AS22+AT22)<0,0,10-AP15-AQ15-AP22-AQ22+AS15+AT15+AS22+AT22))) | AS23: PO | AT23: IC | AU23: TP | AV23: CI | AW23: =IF(ISBLANK(AW15),"",IF((10-AU15-AV15-AU22-AV22+AX15+AY15+AX22+AY22)>20,20,IF((10-AU15-AV15-AU22-AV22+AX15+AY15+AX22+AY22)<0,0,10-AU15-AV15-AU22-AV22+AX15+AY15+AX22+AY22))) | AX23: PO | AY23: IC | BB23: TP | BC23: CI | BD23: =IF(ISBLANK(BD15),"",IF((10-BB15-BC15-BB22-BC22+BE15+BF15+BE22+BF22)>20,20,IF((10-BB15-BC15-BB22-BC22+BE15+BF15+BE22+BF22)<0,0,10-BB15-BC15-BB22-BC22+BE15+BF15+BE22+BF22))) | BE23: PO | BF23: IC
A24: Rangée 3
B25: OM | C25: CP | E25: DM | F25: TP | G25: OM | H25: CP | J25: DM | K25: TP | L25: OM | M25: CP | O25: DM | P25: TP | Q25: OM | R25: CP | T25: DM | U25: TP | V25: OM | W25: CP | Y25: DM | Z25: TP | AA25: OM | AB25: CP | AD25: DM | AE25: TP | AF25: OM | AG25: CP | AI25: DM | AJ25: TP | AK25: OM | AL25: CP | AN25: DM | AO25: TP | AP25: OM | AQ25: CP | AS25: DM | AT25: TP | AU25: OM | AV25: CP | AX25: DM | AY25: TP | BB25: OM | BC25: CP | BE25: DM | BF25: TP
AQ26: 4 | AR26: =LISTE!C8 -> THEODORE | AT26: 5 | AW26: =LISTE!C7 -> SAMUEL | AX26: 8
AS33: 10 | AU33: 4 | AV33: 2 | AY33: 2
B34: TP | C34: CI | D34: =IF(ISBLANK(D26),"",IF((10-B26-C26-B33-C33+E26+F26+E33+F33)>20,20,IF((10-B26-C26-B33-C33+E26+F26+E33+F33)<0,0,10-B26-C26-B33-C33+E26+F26+E33+F33))) | E34: PO | F34: IC | G34: TP | H34: CI | I34: =IF(ISBLANK(I26),"",IF((10-G26-H26-G33-H33+J26+K26+J33+K33)>20,20,IF((10-G26-H26-G33-H33+J26+K26+J33+K33)<0,0,10-G26-H26-G33-H33+J26+K26+J33+K33))) | J34: PO | K34: IC | L34: TP | M34: CI | N34: =IF(ISBLANK(N26),"",IF((10-L26-M26-L33-M33+O26+P26+O33+P33)>20,20,IF((10-L26-M26-L33-M33+O26+P26+O33+P33)<0,0,10-L26-M26-L33-M33+O26+P26+O33+P33))) | O34: PO | P34: IC | Q34: TP | R34: CI | S34: =IF(ISBLANK(S26),"",IF((10-Q26-R26-Q33-R33+T26+U26+T33+U33)>20,20,IF((10-Q26-R26-Q33-R33+T26+U26+T33+U33)<0,0,10-Q26-R26-Q33-R33+T26+U26+T33+U33))) | T34: PO | U34: IC | V34: TP | W34: CI | X34: =IF(ISBLANK(X26),"",IF((10-V26-W26-V33-W33+Y26+Z26+Y33+Z33)>20,20,IF((10-V26-W26-V33-W33+Y26+Z26+Y33+Z33)<0,0,10-V26-W26-V33-W33+Y26+Z26+Y33+Z33))) | Y34: PO | Z34: IC | AA34: TP | AB34: CI | AC34: =IF(ISBLANK(AC26),"",IF((10-AA26-AB26-AA33-AB33+AD26+AE26+AD33+AE33)>20,20,IF((10-AA26-AB26-AA33-AB33+AD26+AE26+AD33+AE33)<0,0,10-AA26-AB26-AA33-AB33+AD26+AE26+AD33+AE33))) | AD34: PO | AE34: IC | AF34: TP | AG34: CI | AH34: =IF(ISBLANK(AH26),"",IF((10-AF26-AG26-AF33-AG33+AI26+AJ26+AI33+AJ33)>20,20,IF((10-AF26-AG26-AF33-AG33+AI26+AJ26+AI33+AJ33)<0,0,10-AF26-AG26-AF33-AG33+AI26+AJ26+AI33+AJ33))) | AI34: PO | AJ34: IC | AK34: TP | AL34: CI | AM34: =IF(ISBLANK(AM26),"",IF((10-AK26-AL26-AK33-AL33+AN26+AO26+AN33+AO33)>20,20,IF((10-AK26-AL26-AK33-AL33+AN26+AO26+AN33+AO33)<0,0,10-AK26-AL26-AK33-AL33+AN26+AO26+AN33+AO33))) | AN34: PO | AO34: IC | AP34: TP | AQ34: CI | AR34: =IF(ISBLANK(AR26),"",IF((10-AP26-AQ26-AP33-AQ33+AS26+AT26+AS33+AT33)>20,20,IF((10-AP26-AQ26-AP33-AQ33+AS26+AT26+AS33+AT33)<0,0,10-AP26-AQ26-AP33-AQ33+AS26+AT26+AS33+AT33))) -> 20 | AS34: PO | AT34: IC | AU34: TP | AV34: CI | AW34: =IF(ISBLANK(AW26),"",IF((10-AU26-AV26-AU33-AV33+AX26+AY26+AX33+AY33)>20,20,IF((10-AU26-AV26-AU33-AV33+AX26+AY26+AX33+AY33)<0,0,10-AU26-AV26-AU33-AV33+AX26+AY26+AX33+AY33))) -> 14 | AX34: PO | AY34: IC | BB34: TP | BC34: CI | BD34: =IF(ISBLANK(BD26),"",IF((10-BB26-BC26-BB33-BC33+BE26+BF26+BE33+BF33)>20,20,IF((10-BB26-BC26-BB33-BC33+BE26+BF26+BE33+BF33)<0,0,10-BB26-BC26-BB33-BC33+BE26+BF26+BE33+BF33))) | BE34: PO | BF34: IC
A35: Rangée 2
B36: OM | C36: CP | E36: DM | F36: TP | G36: OM | H36: CP | J36: DM | K36: TP | L36: OM | M36: CP | O36: DM | P36: TP | Q36: OM | R36: CP | T36: DM | U36: TP | V36: OM | W36: CP | Y36: DM | Z36: TP | AA36: OM | AB36: CP | AD36: DM | AE36: TP | AF36: OM | AG36: CP | AI36: DM | AJ36: TP | AK36: OM | AL36: CP | AN36: DM | AO36: TP | AP36: OM | AQ36: CP | AS36: DM | AT36: TP | AU36: OM | AV36: CP | AX36: DM | AY36: TP | BB36: OM | BC36: CP | BE36: DM | BF36: TP
AP37: 5 | AR37: =LISTE!C6 -> LUCIE | AV37: 5 | AW37: =LISTE!C5 -> CAROLINE | AX37: 7
AS44: 3 | AX44: 6
B45: TP | C45: CI | D45: =IF(ISBLANK(D37),"",IF((10-B37-C37-B44-C44+E37+F37+E44+F44)>20,20,IF((10-B37-C37-B44-C44+E37+F37+E44+F44)<0,0,10-B37-C37-B44-C44+E37+F37+E44+F44))) | E45: PO | F45: IC | G45: TP | H45: CI | I45: =IF(ISBLANK(I37),"",IF((10-G37-H37-G44-H44+J37+K37+J44+K44)>20,20,IF((10-G37-H37-G44-H44+J37+K37+J44+K44)<0,0,10-G37-H37-G44-H44+J37+K37+J44+K44))) | J45: PO | K45: IC | L45: TP | M45: CI | N45: =IF(ISBLANK(N37),"",IF((10-L37-M37-L44-M44+O37+P37+O44+P44)>20,20,IF((10-L37-M37-L44-M44+O37+P37+O44+P44)<0,0,10-L37-M37-L44-M44+O37+P37+O44+P44))) | O45: PO | P45: IC | Q45: TP | R45: CI | S45: =IF(ISBLANK(S37),"",IF((10-Q37-R37-Q44-R44+T37+U37+T44+U44)>20,20,IF((10-Q37-R37-Q44-R44+T37+U37+T44+U44)<0,0,10-Q37-R37-Q44-R44+T37+U37+T44+U44))) | T45: PO | U45: IC | V45: TP | W45: CI | X45: =IF(ISBLANK(X37),"",IF((10-V37-W37-V44-W44+Y37+Z37+Y44+Z44)>20,20,IF((10-V37-W37-V44-W44+Y37+Z37+Y44+Z44)<0,0,10-V37-W37-V44-W44+Y37+Z37+Y44+Z44))) | Y45: PO | Z45: IC | AA45: TP | AB45: CI | AC45: =IF(ISBLANK(AC37),"",IF((10-AA37-AB37-AA44-AB44+AD37+AE37+AD44+AE44)>20,20,IF((10-AA37-AB37-AA44-AB44+AD37+AE37+AD44+AE44)<0,0,10-AA37-AB37-AA44-AB44+AD37+AE37+AD44+AE44))) | AD45: PO | AE45: IC | AF45: TP | AG45: CI | AH45: =IF(ISBLANK(AH37),"",IF((10-AF37-AG37-AF44-AG44+AI37+AJ37+AI44+AJ44)>20,20,IF((10-AF37-AG37-AF44-AG44+AI37+AJ37+AI44+AJ44)<0,0,10-AF37-AG37-AF44-AG44+AI37+AJ37+AI44+AJ44))) | AI45: PO | AJ45: IC | AK45: TP | AL45: CI | AM45: =IF(ISBLANK(AM37),"",IF((10-AK37-AL37-AK44-AL44+AN37+AO37+AN44+AO44)>20,20,IF((10-AK37-AL37-AK44-AL44+AN37+AO37+AN44+AO44)<0,0,10-AK37-AL37-AK44-AL44+AN37+AO37+AN44+AO44))) | AN45: PO | AO45: IC | AP45: TP | AQ45: CI | AR45: =IF(ISBLANK(AR37),"",IF((10-AP37-AQ37-AP44-AQ44+AS37+AT37+AS44+AT44)>20,20,IF((10-AP37-AQ37-AP44-AQ44+AS37+AT37+AS44+AT44)<0,0,10-AP37-AQ37-AP44-AQ44+AS37+AT37+AS44+AT44))) -> 8 | AS45: PO | AT45: IC | AU45: TP | AV45: CI | AW45: =IF(ISBLANK(AW37),"",IF((10-AU37-AV37-AU44-AV44+AX37+AY37+AX44+AY44)>20,20,IF((10-AU37-AV37-AU44-AV44+AX37+AY37+AX44+AY44)<0,0,10-AU37-AV37-AU44-AV44+AX37+AY37+AX44+AY44))) -> 18 | AX45: PO | AY45: IC | BB45: TP | BC45: CI | BD45: =IF(ISBLANK(BD37),"",IF((10-BB37-BC37-BB44-BC44+BE37+BF37+BE44+BF44)>20,20,IF((10-BB37-BC37-BB44-BC44+BE37+BF37+BE44+BF44)<0,0,10-BB37-BC37-BB44-BC44+BE37+BF37+BE44+BF44))) | BE45: PO | BF45: IC
A46: Rangée 1
B47: OM | C47: CP | E47: DM | F47: TP | G47: OM | H47: CP | J47: DM | K47: TP | L47: OM | M47: CP | O47: DM | P47: TP | Q47: OM | R47: CP | T47: DM | U47: TP | V47: OM | W47: CP | Y47: DM | Z47: TP | AA47: OM | AB47: CP | AD47: DM | AE47: TP | AF47: OM | AG47: CP | AI47: DM | AJ47: TP | AK47: OM | AL47: CP | AN47: DM | AO47: TP | AP47: OM | AQ47: CP | AS47: DM | AT47: TP | AU47: OM | AV47: CP | AX47: DM | AY47: TP | BB47: OM | BC47: CP | BE47: DM | BF47: TP
AH48: =LISTE!C9 -> RODOLPH | AJ48: 4 | AQ48: 4 | AR48: =LISTE!C4 -> BENOIT | AS48: 8 | AV48: 3 | AW48: =LISTE!C3 -> ALBERT
AT55: 2
B56: TP | C56: CI | D56: =IF(ISBLANK(D48),"",IF((10-B48-C48-B55-C55+E48+F48+E55+F55)>20,20,IF((10-B48-C48-B55-C55+E48+F48+E55+F55)<0,0,10-B48-C48-B55-C55+E48+F48+E55+F55))) | E56: PO | F56: IC | G56: TP | H56: CI | I56: =IF(ISBLANK(I48),"",IF((10-G48-H48-G55-H55+J48+K48+J55+K55)>20,20,IF((10-G48-H48-G55-H55+J48+K48+J55+K55)<0,0,10-G48-H48-G55-H55+J48+K48+J55+K55))) | J56: PO | K56: IC | L56: TP | M56: CI | N56: =IF(ISBLANK(N48),"",IF((10-L48-M48-L55-M55+O48+P48+O55+P55)>20,20,IF((10-L48-M48-L55-M55+O48+P48+O55+P55)<0,0,10-L48-M48-L55-M55+O48+P48+O55+P55))) | O56: PO | P56: IC | Q56: TP | R56: CI | S56: =IF(ISBLANK(S48),"",IF((10-Q48-R48-Q55-R55+T48+U48+T55+U55)>20,20,IF((10-Q48-R48-Q55-R55+T48+U48+T55+U55)<0,0,10-Q48-R48-Q55-R55+T48+U48+T55+U55))) | T56: PO | U56: IC | V56: TP | W56: CI | X56: =IF(ISBLANK(X48),"",IF((10-V48-W48-V55-W55+Y48+Z48+Y55+Z55)>20,20,IF((10-V48-W48-V55-W55+Y48+Z48+Y55+Z55)<0,0,10-V48-W48-V55-W55+Y48+Z48+Y55+Z55))) | Y56: PO | Z56: IC | AA56: TP | AB56: CI | AC56: =IF(ISBLANK(AC48),"",IF((10-AA48-AB48-AA55-AB55+AD48+AE48+AD55+AE55)>20,20,IF((10-AA48-AB48-AA55-AB55+AD48+AE48+AD55+AE55)<0,0,10-AA48-AB48-AA55-AB55+AD48+AE48+AD55+AE55))) | AD56: PO | AE56: IC | AF56: TP | AG56: CI | AH56: =IF(ISBLANK(AH48),"",IF((10-AF48-AG48-AF55-AG55+AI48+AJ48+AI55+AJ55)>20,20,IF((10-AF48-AG48-AF55-AG55+AI48+AJ48+AI55+AJ55)<0,0,10-AF48-AG48-AF55-AG55+AI48+AJ48+AI55+AJ55))) -> 14 | AI56: PO | AJ56: IC | AK56: TP | AL56: CI | AM56: =IF(ISBLANK(AM48),"",IF((10-AK48-AL48-AK55-AL55+AN48+AO48+AN55+AO55)>20,20,IF((10-AK48-AL48-AK55-AL55+AN48+AO48+AN55+AO55)<0,0,10-AK48-AL48-AK55-AL55+AN48+AO48+AN55+AO55))) | AN56: PO | AO56: IC | AP56: TP | AQ56: CI | AR56: =IF(ISBLANK(AR48),"",IF((10-AP48-AQ48-AP55-AQ55+AS48+AT48+AS55+AT55)>20,20,IF((10-AP48-AQ48-AP55-AQ55+AS48+AT48+AS55+AT55)<0,0,10-AP48-AQ48-AP55-AQ55+AS48+AT48+AS55+AT55))) -> 16 | AS56: PO | AT56: IC | AU56: TP | AV56: CI | AW56: =IF(ISBLANK(AW48),"",IF((10-AU48-AV48-AU55-AV55+AX48+AY48+AX55+AY55)>20,20,IF((10-AU48-AV48-AU55-AV55+AX48+AY48+AX55+AY55)<0,0,10-AU48-AV48-AU55-AV55+AX48+AY48+AX55+AY55))) -> 7 | AX56: PO | AY56: IC | BB56: TP | BC56: CI | BD56: =IF(ISBLANK(BD48),"",IF((10-BB48-BC48-BB55-BC55+BE48+BF48+BE55+BF55)>20,20,IF((10-BB48-BC48-BB55-BC55+BE48+BF48+BE55+BF55)<0,0,10-BB48-BC48-BB55-BC55+BE48+BF48+BE55+BF55))) | BE56: PO | BF56: IC
V58: BUREAU PROFESSEUR
A60: MALUS | E60: OM : | G60: Oubli de Matériel (livre, calculatrice, polycopié, …) | Q60: CI : | S60: Comportement Inadapté en classe | AA60: BONUS | AD60: PO : | AF60: Participation orale question (réponse juste) | AN60: DM : | AP60: Devoir maison rendu complet à l'échéance donnée
E61: TP : | G61: Travail Personnel non fait (questions maison ou classe …) | Q61: CP : | S61: Consultation Portable en cours | AD61: IC : | AF61: Investissement cours (passage tableau ,,,) | AN61: TS : | AP61: Travail supplémentaire (fiches, exercices, …)
