Workbook
Name choisis: Feuil1!$D$2:$D$19
Name Reste: OFFSET(Feuil2!$D$2,,,COUNT(Feuil2!$D$2:$D$19))

Sheet Feuil1
A1: No poste | B1: Abr. SServ. | C1: Titre d'emploi | D1: Priorité
A2: 1615 | B2: Équipe volante | C2: Préposé(e) aux bénéficiaires | D2: 4
A3: 5711 | B3: Adm. des soins | C3: Préposé(e) aux bénéficiaires | D3: 5
A4: 5712 | B4: Adm. des soins | C4: Préposé(e) aux bénéficiaires
A5: 1616 | B5: Équipe volante | C5: Préposé(e) aux bénéficiaires
A6: 5150 | B6: Santé CV-Méd de jour | C6: Préposé(e) aux bénéficiaires
A7: 8160 | B7: Admission | C7: Préposé(e) aux bénéficiaires
A8: 4791 | B8: Arch.med. | C8: Préposé(e) aux bénéficiaires
A9: 2001 | B9: Installations matéri | C9: Préposé(e) aux bénéficiaires | D9: 10
A10: 2020 | B10: Plomberie | C10: Préposé(e) aux bénéficiaires
A11: 3397 | B11: Urgence | C11: Préposé(e) aux bénéficiaires
A12: 5887 | B12: Équipe volante | C12: Préposé(e) aux bénéficiaires
A13: 5887 | B13: Urgence | C13: Préposé(e) aux bénéficiaires | D13: 8
A14: 0138 | B14: physio. respiratoire | C14: Préposé(e) aux bénéficiaires
A15: 4214 | B15: Trans. des dictées m | C15: Préposé(e) aux bénéficiaires
A16: 1617 | B16: Électrocardiographie | C16: Préposé(e) aux bénéficiaires
A17: 1618 | B17: Électrocardiographie | C17: Préposé(e) aux bénéficiaires
A18: 1619 | B18: Électrocardiographie | C18: Préposé(e) aux bénéficiaires
A19: 2023 | B19: Énergie(vent.clim.) | C19: Préposé(e) aux bénéficiaires
A20: =SUBTOTAL(103,Feuil1!$A$2:$A$19) -> 18 | B20: =SUBTOTAL(103,Feuil1!$B$2:$B$19) -> 18 | C20: =SUBTOTAL(103,Feuil1!$C$2:$C$19) -> 18 | D20: =SUBTOTAL(103,Feuil1!D2:D19) -> 4

Sheet Feuil2
B1: 1 | D1: reste
B2: 2 | D2: {=IF(ROWS(Feuil1!1:1)<=18-COUNT(choisis),SMALL(IF((COUNTIF(choisis,ROW(INDIRECT("1:18")))=0),ROW(INDIRECT("1:18"))),ROWS($1:1)),"")} -> 1
B3: 3 | D3: {=IF(ROWS(Feuil1!2:2)<=18-COUNT(choisis),SMALL(IF((COUNTIF(choisis,ROW(INDIRECT("1:18")))=0),ROW(INDIRECT("1:18"))),ROWS($1:2)),"")} -> 2
B4: 4 | D4: {=IF(ROWS(Feuil1!3:3)<=18-COUNT(choisis),SMALL(IF((COUNTIF(choisis,ROW(INDIRECT("1:18")))=0),ROW(INDIRECT("1:18"))),ROWS($1:3)),"")} -> 3
B5: 5 | D5: {=IF(ROWS(Feuil1!4:4)<=18-COUNT(choisis),SMALL(IF((COUNTIF(choisis,ROW(INDIRECT("1:18")))=0),ROW(INDIRECT("1:18"))),ROWS($1:4)),"")} -> 6
B6: 6 | D6: {=IF(ROWS(Feuil1!5:5)<=18-COUNT(choisis),SMALL(IF((COUNTIF(choisis,ROW(INDIRECT("1:18")))=0),ROW(INDIRECT("1:18"))),ROWS($1:5)),"")} -> 7
B7: 7 | D7: {=IF(ROWS(Feuil1!6:6)<=18-COUNT(choisis),SMALL(IF((COUNTIF(choisis,ROW(INDIRECT("1:18")))=0),ROW(INDIRECT("1:18"))),ROWS($1:6)),"")} -> 9
B8: 8 | D8: {=IF(ROWS(Feuil1!7:7)<=18-COUNT(choisis),SMALL(IF((COUNTIF(choisis,ROW(INDIRECT("1:18")))=0),ROW(INDIRECT("1:18"))),ROWS($1:7)),"")} -> 11
B9: 9 | D9: {=IF(ROWS(Feuil1!8:8)<=18-COUNT(choisis),SMALL(IF((COUNTIF(choisis,ROW(INDIRECT("1:18")))=0),ROW(INDIRECT("1:18"))),ROWS($1:8)),"")} -> 12
B10: 10 | D10: {=IF(ROWS(Feuil1!9:9)<=18-COUNT(choisis),SMALL(IF((COUNTIF(choisis,ROW(INDIRECT("1:18")))=0),ROW(INDIRECT("1:18"))),ROWS($1:9)),"")} -> 13
B11: 11 | D11: {=IF(ROWS(Feuil1!10:10)<=18-COUNT(choisis),SMALL(IF((COUNTIF(choisis,ROW(INDIRECT("1:18")))=0),ROW(INDIRECT("1:18"))),ROWS($1:10)),"")} -> 14
B12: 12 | D12: {=IF(ROWS(Feuil1!11:11)<=18-COUNT(choisis),SMALL(IF((COUNTIF(choisis,ROW(INDIRECT("1:18")))=0),ROW(INDIRECT("1:18"))),ROWS($1:11)),"")} -> 15
B13: 13 | D13: {=IF(ROWS(Feuil1!12:12)<=18-COUNT(choisis),SMALL(IF((COUNTIF(choisis,ROW(INDIRECT("1:18")))=0),ROW(INDIRECT("1:18"))),ROWS($1:12)),"")} -> 16
B14: 14 | D14: {=IF(ROWS(Feuil1!13:13)<=18-COUNT(choisis),SMALL(IF((COUNTIF(choisis,ROW(INDIRECT("1:18")))=0),ROW(INDIRECT("1:18"))),ROWS($1:13)),"")} -> 17
B15: 15 | D15: {=IF(ROWS(Feuil1!14:14)<=18-COUNT(choisis),SMALL(IF((COUNTIF(choisis,ROW(INDIRECT("1:18")))=0),ROW(INDIRECT("1:18"))),ROWS($1:14)),"")} -> 18
B16: 16 | D16: {=IF(ROWS(Feuil1!15:15)<=18-COUNT(choisis),SMALL(IF((COUNTIF(choisis,ROW(INDIRECT("1:18")))=0),ROW(INDIRECT("1:18"))),ROWS($1:15)),"")} -> #NUM!
B17: 17 | D17: {=IF(ROWS(Feuil1!16:16)<=18-COUNT(choisis),SMALL(IF((COUNTIF(choisis,ROW(INDIRECT("1:18")))=0),ROW(INDIRECT("1:18"))),ROWS($1:16)),"")} -> #NUM!
B18: 18 | D18: {=IF(ROWS(Feuil1!17:17)<=18-COUNT(choisis),SMALL(IF((COUNTIF(choisis,ROW(INDIRECT("1:18")))=0),ROW(INDIRECT("1:18"))),ROWS($1:17)),"")} -> #NUM!
D19: {=IF(ROWS(Feuil1!18:18)<=18-COUNT(choisis),SMALL(IF((COUNTIF(choisis,ROW(INDIRECT("1:18")))=0),ROW(INDIRECT("1:18"))),ROWS($1:18)),"")} -> #NUM!
