Workbook
Name champ: 'CalculBimestre 1'!$E$2:$E$21,'CalculBimestre 1'!$G$2:$G$21
Name matriculeE: OFFSET('CalculBimestre 1'!$E$2,,,COUNT('CalculBimestre 1'!$E:$E))
Name matriculeG: OFFSET('CalculBimestre 1'!$G$2,,,COUNT('CalculBimestre 1'!$G:$G))
Name nbE: OFFSET(matriculeE,,1,)
Name nbG: OFFSET(matriculeG,,1,)

Sheet Copier Janvier
A1: 1 | B1: 1 | C1: 20 | D1: 25
A2: 1 | B2: 100 | C2: 380000 | D2: 0.00
A3: 1 | B3: 100 | C3: 380000 | D3: 0.00
A4: 1 | B4: 100 | C4: 30200 | D4: 8
A5: 1 | B5: 100 | C5: 20 | D5: 19
A6: 1 | B6: 100 | C6: 997200 | D6: 8.63
A7: 1 | B7: 102 | C7: 30200 | D7: 8
A8: 1 | B8: 102 | C8: 20 | D8: 25
A9: 1 | B9: 102 | C9: 997200 | D9: 6.63
A10: 1 | B10: 386 | C10: 30200 | D10: 8
A11: 1 | B11: 386 | C11: 20 | D11: 25
A12: 1 | B12: 386 | C12: 997200 | D12: 20.88
A13: 1 | B13: 453 | C13: 30200 | D13: 8
A14: 1 | B14: 453 | C14: 30500 | D14: 1
A15: 1 | B15: 453 | C15: 20 | D15: 26
... A29: 1 | B29: 660 | C29: 997200 | D29: 11.63
A30: 1 | B30: 713 | C30: 380000 | D30: 0.00
A31: 1 | B31: 713 | C31: 30200 | D31: 8
A32: 1 | B32: 713 | C32: 20 | D32: 24
A33: 1 | B33: 713 | C33: 997200 | D33: 27.38
A34: 1 | B34: 715 | C34: 30200 | D34: 8
A35: 1 | B35: 715 | C35: 20 | D35: 25
A36: 1 | B36: 715 | C36: 997200 | D36: 6.63
A37: 1 | B37: 733 | C37: 30200 | D37: 5
A38: 1 | B38: 733 | C38: 20 | D38: 20
A39: 1 | B39: 733 | C39: 997200 | D39: 6.5
A40: 1 | B40: 744 | C40: 30200 | D40: 8
A41: 1 | B41: 744 | C41: 20 | D41: 24
A42: 1 | B42: 744 | C42: 997200 | D42: 6.63
A43: 1 | B43: 749 | C43: 380000 | D43: 0.00
A44: 1 | B44: 749 | C44: 30200 | D44: 8
A45: 1 | B45: 749 | C45: 20 | D45: 23
A46: 1 | B46: 749 | C46: 997200 | D46: 6.63
A47: 1 | B47: 776 | C47: 20 | D47: 24
A48: 1 | B48: 776 | C48: 997200 | D48: 4.63
A49: 1 | B49: 783 | C49: 30200 | D49: 8
A50: 1 | B50: 783 | C50: 30500 | D50: 1
A51: 1 | B51: 783 | C51: 20 | D51: 26
A52: 1 | B52: 783 | C52: 997200 | D52: 11.63
A53: 1 | B53: 784 | C53: 30200 | D53: 8
A54: 1 | B54: 784 | C54: 20 | D54: 25
A55: 1 | B55: 784 | C55: 997200 | D55: 24.75

Sheet Copier Fevrier
A1: 1 | B1: 1 | C1: 20 | D1: 19
A2: 1 | B2: 101 | C2: 380000 | D2: 0.00
A3: 1 | B3: 101 | C3: 380000 | D3: 0.00
A4: 1 | B4: 101 | C4: 30200 | D4: 8
A5: 1 | B5: 101 | C5: 20 | D5: 18
A6: 1 | B6: 101 | C6: 997200 | D6: 8.63
A7: 1 | B7: 279 | C7: 30200 | D7: 8
A8: 1 | B8: 279 | C8: 20 | D8: 15
A9: 1 | B9: 279 | C9: 997200 | D9: 6.63
A10: 1 | B10: 386 | C10: 30200 | D10: 8
A11: 1 | B11: 386 | C11: 20 | D11: 32
A12: 1 | B12: 386 | C12: 997200 | D12: 20.88
A13: 1 | B13: 453 | C13: 30200 | D13: 8
A14: 1 | B14: 453 | C14: 30500 | D14: 1
A15: 1 | B15: 453 | C15: 20 | D15: 22
... A29: 1 | B29: 660 | C29: 997200 | D29: 11.63
A30: 1 | B30: 713 | C30: 380000 | D30: 0.00
A31: 1 | B31: 713 | C31: 30200 | D31: 8
A32: 1 | B32: 713 | C32: 20 | D32: 24
A33: 1 | B33: 713 | C33: 997200 | D33: 27.38
A34: 1 | B34: 715 | C34: 30200 | D34: 8
A35: 1 | B35: 715 | C35: 20 | D35: 25
A36: 1 | B36: 715 | C36: 997200 | D36: 6.63
A37: 1 | B37: 733 | C37: 30200 | D37: 5
A38: 1 | B38: 733 | C38: 20 | D38: 20
A39: 1 | B39: 733 | C39: 997200 | D39: 6.5
A40: 1 | B40: 744 | C40: 30200 | D40: 8
A41: 1 | B41: 744 | C41: 20 | D41: 24
A42: 1 | B42: 744 | C42: 997200 | D42: 6.63
A43: 1 | B43: 749 | C43: 380000 | D43: 0.00
A44: 1 | B44: 749 | C44: 30200 | D44: 8
A45: 1 | B45: 749 | C45: 20 | D45: 23
A46: 1 | B46: 749 | C46: 997200 | D46: 6.63
A47: 1 | B47: 776 | C47: 20 | D47: 24
A48: 1 | B48: 776 | C48: 997200 | D48: 4.63
A49: 1 | B49: 783 | C49: 30200 | D49: 8
A50: 1 | B50: 783 | C50: 30500 | D50: 1
A51: 1 | B51: 783 | C51: 20 | D51: 26
A52: 1 | B52: 783 | C52: 997200 | D52: 11.63
A53: 1 | B53: 784 | C53: 30200 | D53: 8
A54: 1 | B54: 784 | C54: 20 | D54: 25
A55: 1 | B55: 784 | C55: 997200 | D55: 24.75
... A57: 1 | B57: 785 | C57: 997200 | D57: 8.77
A58: 1 | B58: 787 | C58: 380000 | D58: 0.00
A59: 1 | B59: 787 | C59: 30200 | D59: 8
A60: 1 | B60: 787 | C60: 20 | D60: 14
A61: 1 | B61: 787 | C61: 997200 | D61: 5.25
A62: 1 | B62: 788 | C62: 30500 | D62: 1
A63: 1 | B63: 788 | C63: 20 | D63: 25
A64: 1 | B64: 788 | C64: 997200 | D64: 8.88

Sheet CalculBimestre 1
E1: matriculeE | F1: nbE | G1: matriculeG | H1: nbG | K1: Matricule | L1: NB
A2: =IF('Copier Janvier'!C1=20,'Copier Janvier'!B1,"") -> 1 | B2: =IF('Copier Janvier'!C1=20,'Copier Janvier'!D1,"") -> 25 | C2: =IF('Copier Fevrier'!C1=20,'Copier Fevrier'!B1,"") -> 1 | D2: =IF('Copier Fevrier'!C1=20,'Copier Fevrier'!D1,"") -> 19 | E2: {=IFERROR(IF(ROW(A1)>COUNTA(A:A),"",INDEX($A$1:$A$200,SMALL(IF($A$1:$A$200<>"",ROW($1:$200)),ROW(A1)),1)),"")} -> 1 | F2: {=IFERROR(INDEX($B$2:$B$200,MATCH(E2,$A$2:$A$200,0)),"")} -> 25 | G2: {=IFERROR(IF(ROW(C1)>COUNTA(C:C),"",INDEX($C$1:$C$200,SMALL(IF($C$1:$C$200<>"",ROW($1:$200)),ROW(C1)),1)),"")} -> 1 | H2: {=IFERROR(INDEX($D$2:$D$200,MATCH(G2,$C$2:$C$200,0)),"")} -> 19 | K2: {=IFERROR(SMALL(IF(MATCH(SMALL(CHOOSE({1,2},matriculeE,matriculeG),ROW(INDIRECT("$1:"&COUNT(matriculeE,matriculeG)))),SMALL(CHOOSE({1,2},matriculeE,matriculeG),ROW(INDIRECT("$1:"&COUNT(matriculeE,matriculeG)))),0)=ROW(INDIRECT("$1:"&COUNT(matriculeE,matriculeG))),SMALL(CHOOSE({1,2},matriculeE,matriculeG),ROW(INDIRECT("$1:"&COUNT(matriculeE,matriculeG)))),""),ROW(A1)),"")} | L2: {=IFERROR(SUMPRODUCT((matriculeE=K2)*(nbE)+(matriculeG=K2)*(nbG)),"")}
A3: =IF('Copier Janvier'!C2=20,'Copier Janvier'!B2,"") | B3: =IF('Copier Janvier'!C2=20,'Copier Janvier'!D2,"") | C3: =IF('Copier Fevrier'!C2=20,'Copier Fevrier'!B2,"") | D3: =IF('Copier Fevrier'!C2=20,'Copier Fevrier'!D2,"") | E3: {=IFERROR(IF(ROW(A2)>COUNTA(A:A),"",INDEX($A$1:$A$200,SMALL(IF($A$1:$A$200<>"",ROW($1:$200)),ROW(A2)),1)),"")} -> 100 | F3: {=IFERROR(INDEX($B$2:$B$200,MATCH(E3,$A$2:$A$200,0)),"")} -> 19 | G3: {=IFERROR(IF(ROW(C2)>COUNTA(C:C),"",INDEX($C$1:$C$200,SMALL(IF($C$1:$C$200<>"",ROW($1:$200)),ROW(C2)),1)),"")} -> 101 | H3: {=IFERROR(INDEX($D$2:$D$200,MATCH(G3,$C$2:$C$200,0)),"")} -> 18 | K3: {=IFERROR(SMALL(IF(MATCH(SMALL(CHOOSE({1,2},matriculeE,matriculeG),ROW(INDIRECT("$1:"&COUNT(matriculeE,matriculeG)))),SMALL(CHOOSE({1,2},matriculeE,matriculeG),ROW(INDIRECT("$1:"&COUNT(matriculeE,matriculeG)))),0)=ROW(INDIRECT("$1:"&COUNT(matriculeE,matriculeG))),SMALL(CHOOSE({1,2},matriculeE,matriculeG),ROW(INDIRECT("$1:"&COUNT(matriculeE,matriculeG)))),""),ROW(A2)),"")} | L3: {=IFERROR(SUMPRODUCT((matriculeE=K3)*(nbE)+(matriculeG=K3)*(nbG)),"")}
A4: =IF('Copier Janvier'!C3=20,'Copier Janvier'!B3,"") | B4: =IF('Copier Janvier'!C3=20,'Copier Janvier'!D3,"") | C4: =IF('Copier Fevrier'!C3=20,'Copier Fevrier'!B3,"") | D4: =IF('Copier Fevrier'!C3=20,'Copier Fevrier'!D3,"") | E4: {=IFERROR(IF(ROW(A3)>COUNTA(A:A),"",INDEX($A$1:$A$200,SMALL(IF($A$1:$A$200<>"",ROW($1:$200)),ROW(A3)),1)),"")} -> 102 | F4: {=IFERROR(INDEX($B$2:$B$200,MATCH(E4,$A$2:$A$200,0)),"")} -> 25 | G4: {=IFERROR(IF(ROW(C3)>COUNTA(C:C),"",INDEX($C$1:$C$200,SMALL(IF($C$1:$C$200<>"",ROW($1:$200)),ROW(C3)),1)),"")} -> 279 | H4: {=IFERROR(INDEX($D$2:$D$200,MATCH(G4,$C$2:$C$200,0)),"")} -> 15 | K4: {=IFERROR(SMALL(IF(MATCH(SMALL(CHOOSE({1,2},matriculeE,matriculeG),ROW(INDIRECT("$1:"&COUNT(matriculeE,matriculeG)))),SMALL(CHOOSE({1,2},matriculeE,matriculeG),ROW(INDIRECT("$1:"&COUNT(matriculeE,matriculeG)))),0)=ROW(INDIRECT("$1:"&COUNT(matriculeE,matriculeG))),SMALL(CHOOSE({1,2},matriculeE,matriculeG),ROW(INDIRECT("$1:"&COUNT(matriculeE,matriculeG)))),""),ROW(A3)),"")} | L4: {=IFERROR(SUMPRODUCT((matriculeE=K4)*(nbE)+(matriculeG=K4)*(nbG)),"")}
A5: =IF('Copier Janvier'!C4=20,'Copier Janvier'!B4,"") | B5: =IF('Copier Janvier'!C4=20,'Copier Janvier'!D4,"") | C5: =IF('Copier Fevrier'!C4=20,'Copier Fevrier'!B4,"") | D5: =IF('Copier Fevrier'!C4=20,'Copier Fevrier'!D4,"") | E5: {=IFERROR(IF(ROW(A4)>COUNTA(A:A),"",INDEX($A$1:$A$200,SMALL(IF($A$1:$A$200<>"",ROW($1:$200)),ROW(A4)),1)),"")} -> 386 | F5: {=IFERROR(INDEX($B$2:$B$200,MATCH(E5,$A$2:$A$200,0)),"")} -> 25 | G5: {=IFERROR(IF(ROW(C4)>COUNTA(C:C),"",INDEX($C$1:$C$200,SMALL(IF($C$1:$C$200<>"",ROW($1:$200)),ROW(C4)),1)),"")} -> 386 | H5: {=IFERROR(INDEX($D$2:$D$200,MATCH(G5,$C$2:$C$200,0)),"")} -> 32 | K5: {=IFERROR(SMALL(IF(MATCH(SMALL(CHOOSE({1,2},matriculeE,matriculeG),ROW(INDIRECT("$1:"&COUNT(matriculeE,matriculeG)))),SMALL(CHOOSE({1,2},matriculeE,matriculeG),ROW(INDIRECT("$1:"&COUNT(matriculeE,matriculeG)))),0)=ROW(INDIRECT("$1:"&COUNT(matriculeE,matriculeG))),SMALL(CHOOSE({1,2},matriculeE,matriculeG),ROW(INDIRECT("$1:"&COUNT(matriculeE,matriculeG)))),""),ROW(A4)),"")} | L5: {=IFERROR(SUMPRODUCT((matriculeE=K5)*(nbE)+(matriculeG=K5)*(nbG)),"")}
A6: =IF('Copier Janvier'!C5=20,'Copier Janvier'!B5,"") -> 100 | B6: =IF('Copier Janvier'!C5=20,'Copier Janvier'!D5,"") -> 19 | C6: =IF('Copier Fevrier'!C5=20,'Copier Fevrier'!B5,"") -> 101 | D6: =IF('Copier Fevrier'!C5=20,'Copier Fevrier'!D5,"") -> 18 | E6: {=IFERROR(IF(ROW(A5)>COUNTA(A:A),"",INDEX($A$1:$A$200,SMALL(IF($A$1:$A$200<>"",ROW($1:$200)),ROW(A5)),1)),"")} -> 453 | F6: {=IFERROR(INDEX($B$2:$B$200,MATCH(E6,$A$2:$A$200,0)),"")} -> 26 | G6: {=IFERROR(IF(ROW(C5)>COUNTA(C:C),"",INDEX($C$1:$C$200,SMALL(IF($C$1:$C$200<>"",ROW($1:$200)),ROW(C5)),1)),"")} -> 453 | H6: {=IFERROR(INDEX($D$2:$D$200,MATCH(G6,$C$2:$C$200,0)),"")} -> 22 | K6: {=IFERROR(SMALL(IF(MATCH(SMALL(CHOOSE({1,2},matriculeE,matriculeG),ROW(INDIRECT("$1:"&COUNT(matriculeE,matriculeG)))),SMALL(CHOOSE({1,2},matriculeE,matriculeG),ROW(INDIRECT("$1:"&COUNT(matriculeE,matriculeG)))),0)=ROW(INDIRECT("$1:"&COUNT(matriculeE,matriculeG))),SMALL(CHOOSE({1,2},matriculeE,matriculeG),ROW(INDIRECT("$1:"&COUNT(matriculeE,matriculeG)))),""),ROW(A5)),"")} | L6: {=IFERROR(SUMPRODUCT((matriculeE=K6)*(nbE)+(matriculeG=K6)*(nbG)),"")}
A7: =IF('Copier Janvier'!C6=20,'Copier Janvier'!B6,"") | B7: =IF('Copier Janvier'!C6=20,'Copier Janvier'!D6,"") | C7: =IF('Copier Fevrier'!C6=20,'Copier Fevrier'!B6,"") | D7: =IF('Copier Fevrier'!C6=20,'Copier Fevrier'!D6,"") | E7: {=IFERROR(IF(ROW(A6)>COUNTA(A:A),"",INDEX($A$1:$A$200,SMALL(IF($A$1:$A$200<>"",ROW($1:$200)),ROW(A6)),1)),"")} -> 483 | F7: {=IFERROR(INDEX($B$2:$B$200,MATCH(E7,$A$2:$A$200,0)),"")} -> 25 | G7: {=IFERROR(IF(ROW(C6)>COUNTA(C:C),"",INDEX($C$1:$C$200,SMALL(IF($C$1:$C$200<>"",ROW($1:$200)),ROW(C6)),1)),"")} -> 483 | H7: {=IFERROR(INDEX($D$2:$D$200,MATCH(G7,$C$2:$C$200,0)),"")} -> 28 | K7: {=IFERROR(SMALL(IF(MATCH(SMALL(CHOOSE({1,2},matriculeE,matriculeG),ROW(INDIRECT("$1:"&COUNT(matriculeE,matriculeG)))),SMALL(CHOOSE({1,2},matriculeE,matriculeG),ROW(INDIRECT("$1:"&COUNT(matriculeE,matriculeG)))),0)=ROW(INDIRECT("$1:"&COUNT(matriculeE,matriculeG))),SMALL(CHOOSE({1,2},matriculeE,matriculeG),ROW(INDIRECT("$1:"&COUNT(matriculeE,matriculeG)))),""),ROW(A6)),"")} | L7: {=IFERROR(SUMPRODUCT((matriculeE=K7)*(nbE)+(matriculeG=K7)*(nbG)),"")}
A8: =IF('Copier Janvier'!C7=20,'Copier Janvier'!B7,"") | B8: =IF('Copier Janvier'!C7=20,'Copier Janvier'!D7,"") | C8: =IF('Copier Fevrier'!C7=20,'Copier Fevrier'!B7,"") | D8: =IF('Copier Fevrier'!C7=20,'Copier Fevrier'!D7,"") | E8: {=IFERROR(IF(ROW(A7)>COUNTA(A:A),"",INDEX($A$1:$A$200,SMALL(IF($A$1:$A$200<>"",ROW($1:$200)),ROW(A7)),1)),"")} -> 639 | F8: {=IFERROR(INDEX($B$2:$B$200,MATCH(E8,$A$2:$A$200,0)),"")} -> 24 | G8: {=IFERROR(IF(ROW(C7)>COUNTA(C:C),"",INDEX($C$1:$C$200,SMALL(IF($C$1:$C$200<>"",ROW($1:$200)),ROW(C7)),1)),"")} -> 639 | H8: {=IFERROR(INDEX($D$2:$D$200,MATCH(G8,$C$2:$C$200,0)),"")} -> 24 | K8: {=IFERROR(SMALL(IF(MATCH(SMALL(CHOOSE({1,2},matriculeE,matriculeG),ROW(INDIRECT("$1:"&COUNT(matriculeE,matriculeG)))),SMALL(CHOOSE({1,2},matriculeE,matriculeG),ROW(INDIRECT("$1:"&COUNT(matriculeE,matriculeG)))),0)=ROW(INDIRECT("$1:"&COUNT(matriculeE,matriculeG))),SMALL(CHOOSE({1,2},matriculeE,matriculeG),ROW(INDIRECT("$1:"&COUNT(matriculeE,matriculeG)))),""),ROW(A7)),"")} | L8: {=IFERROR(SUMPRODUCT((matriculeE=K8)*(nbE)+(matriculeG=K8)*(nbG)),"")}
A9: =IF('Copier Janvier'!C8=20,'Copier Janvier'!B8,"") -> 102 | B9: =IF('Copier Janvier'!C8=20,'Copier Janvier'!D8,"") -> 25 | C9: =IF('Copier Fevrier'!C8=20,'Copier Fevrier'!B8,"") -> 279 | D9: =IF('Copier Fevrier'!C8=20,'Copier Fevrier'!D8,"") -> 15 | E9: {=IFERROR(IF(ROW(A8)>COUNTA(A:A),"",INDEX($A$1:$A$200,SMALL(IF($A$1:$A$200<>"",ROW($1:$200)),ROW(A8)),1)),"")} -> 646 | F9: {=IFERROR(INDEX($B$2:$B$200,MATCH(E9,$A$2:$A$200,0)),"")} -> 25 | G9: {=IFERROR(IF(ROW(C8)>COUNTA(C:C),"",INDEX($C$1:$C$200,SMALL(IF($C$1:$C$200<>"",ROW($1:$200)),ROW(C8)),1)),"")} -> 646 | H9: {=IFERROR(INDEX($D$2:$D$200,MATCH(G9,$C$2:$C$200,0)),"")} -> 25 | K9: {=IFERROR(SMALL(IF(MATCH(SMALL(CHOOSE({1,2},matriculeE,matriculeG),ROW(INDIRECT("$1:"&COUNT(matriculeE,matriculeG)))),SMALL(CHOOSE({1,2},matriculeE,matriculeG),ROW(INDIRECT("$1:"&COUNT(matriculeE,matriculeG)))),0)=ROW(INDIRECT("$1:"&COUNT(matriculeE,matriculeG))),SMALL(CHOOSE({1,2},matriculeE,matriculeG),ROW(INDIRECT("$1:"&COUNT(matriculeE,matriculeG)))),""),ROW(A8)),"")} | L9: {=IFERROR(SUMPRODUCT((matriculeE=K9)*(nbE)+(matriculeG=K9)*(nbG)),"")}
A10: =IF('Copier Janvier'!C9=20,'Copier Janvier'!B9,"") | B10: =IF('Copier Janvier'!C9=20,'Copier Janvier'!D9,"") | C10: =IF('Copier Fevrier'!C9=20,'Copier Fevrier'!B9,"") | D10: =IF('Copier Fevrier'!C9=20,'Copier Fevrier'!D9,"") | E10: {=IFERROR(IF(ROW(A9)>COUNTA(A:A),"",INDEX($A$1:$A$200,SMALL(IF($A$1:$A$200<>"",ROW($1:$200)),ROW(A9)),1)),"")} -> 660 | F10: {=IFERROR(INDEX($B$2:$B$200,MATCH(E10,$A$2:$A$200,0)),"")} -> 26 | G10: {=IFERROR(IF(ROW(C9)>COUNTA(C:C),"",INDEX($C$1:$C$200,SMALL(IF($C$1:$C$200<>"",ROW($1:$200)),ROW(C9)),1)),"")} -> 660 | H10: {=IFERROR(INDEX($D$2:$D$200,MATCH(G10,$C$2:$C$200,0)),"")} -> 26 | K10: {=IFERROR(SMALL(IF(MATCH(SMALL(CHOOSE({1,2},matriculeE,matriculeG),ROW(INDIRECT("$1:"&COUNT(matriculeE,matriculeG)))),SMALL(CHOOSE({1,2},matriculeE,matriculeG),ROW(INDIRECT("$1:"&COUNT(matriculeE,matriculeG)))),0)=ROW(INDIRECT("$1:"&COUNT(matriculeE,matriculeG))),SMALL(CHOOSE({1,2},matriculeE,matriculeG),ROW(INDIRECT("$1:"&COUNT(matriculeE,matriculeG)))),""),ROW(A9)),"")} | L10: {=IFERROR(SUMPRODUCT((matriculeE=K10)*(nbE)+(matriculeG=K10)*(nbG)),"")}
A11: =IF('Copier Janvier'!C10=20,'Copier Janvier'!B10,"") | B11: =IF('Copier Janvier'!C10=20,'Copier Janvier'!D10,"") | C11: =IF('Copier Fevrier'!C10=20,'Copier Fevrier'!B10,"") | D11: =IF('Copier Fevrier'!C10=20,'Copier Fevrier'!D10,"") | E11: {=IFERROR(IF(ROW(A10)>COUNTA(A:A),"",INDEX($A$1:$A$200,SMALL(IF($A$1:$A$200<>"",ROW($1:$200)),ROW(A10)),1)),"")} -> 713 | F11: {=IFERROR(INDEX($B$2:$B$200,MATCH(E11,$A$2:$A$200,0)),"")} -> 24 | G11: {=IFERROR(IF(ROW(C10)>COUNTA(C:C),"",INDEX($C$1:$C$200,SMALL(IF($C$1:$C$200<>"",ROW($1:$200)),ROW(C10)),1)),"")} -> 713 | H11: {=IFERROR(INDEX($D$2:$D$200,MATCH(G11,$C$2:$C$200,0)),"")} -> 24 | K11: {=IFERROR(SMALL(IF(MATCH(SMALL(CHOOSE({1,2},matriculeE,matriculeG),ROW(INDIRECT("$1:"&COUNT(matriculeE,matriculeG)))),SMALL(CHOOSE({1,2},matriculeE,matriculeG),ROW(INDIRECT("$1:"&COUNT(matriculeE,matriculeG)))),0)=ROW(INDIRECT("$1:"&COUNT(matriculeE,matriculeG))),SMALL(CHOOSE({1,2},matriculeE,matriculeG),ROW(INDIRECT("$1:"&COUNT(matriculeE,matriculeG)))),""),ROW(A10)),"")} | L11: {=IFERROR(SUMPRODUCT((matriculeE=K11)*(nbE)+(matriculeG=K11)*(nbG)),"")}
A12: =IF('Copier Janvier'!C11=20,'Copier Janvier'!B11,"") -> 386 | B12: =IF('Copier Janvier'!C11=20,'Copier Janvier'!D11,"") -> 25 | C12: =IF('Copier Fevrier'!C11=20,'Copier Fevrier'!B11,"") -> 386 | D12: =IF('Copier Fevrier'!C11=20,'Copier Fevrier'!D11,"") -> 32 | E12: {=IFERROR(IF(ROW(A11)>COUNTA(A:A),"",INDEX($A$1:$A$200,SMALL(IF($A$1:$A$200<>"",ROW($1:$200)),ROW(A11)),1)),"")} -> 715 | F12: {=IFERROR(INDEX($B$2:$B$200,MATCH(E12,$A$2:$A$200,0)),"")} -> 25 | G12: {=IFERROR(IF(ROW(C11)>COUNTA(C:C),"",INDEX($C$1:$C$200,SMALL(IF($C$1:$C$200<>"",ROW($1:$200)),ROW(C11)),1)),"")} -> 715 | H12: {=IFERROR(INDEX($D$2:$D$200,MATCH(G12,$C$2:$C$200,0)),"")} -> 25 | K12: {=IFERROR(SMALL(IF(MATCH(SMALL(CHOOSE({1,2},matriculeE,matriculeG),ROW(INDIRECT("$1:"&COUNT(matriculeE,matriculeG)))),SMALL(CHOOSE({1,2},matriculeE,matriculeG),ROW(INDIRECT("$1:"&COUNT(matriculeE,matriculeG)))),0)=ROW(INDIRECT("$1:"&COUNT(matriculeE,matriculeG))),SMALL(CHOOSE({1,2},matriculeE,matriculeG),ROW(INDIRECT("$1:"&COUNT(matriculeE,matriculeG)))),""),ROW(A11)),"")} | L12: {=IFERROR(SUMPRODUCT((matriculeE=K12)*(nbE)+(matriculeG=K12)*(nbG)),"")}
A13: =IF('Copier Janvier'!C12=20,'Copier Janvier'!B12,"") | B13: =IF('Copier Janvier'!C12=20,'Copier Janvier'!D12,"") | C13: =IF('Copier Fevrier'!C12=20,'Copier Fevrier'!B12,"") | D13: =IF('Copier Fevrier'!C12=20,'Copier Fevrier'!D12,"") | E13: {=IFERROR(IF(ROW(A12)>COUNTA(A:A),"",INDEX($A$1:$A$200,SMALL(IF($A$1:$A$200<>"",ROW($1:$200)),ROW(A12)),1)),"")} -> 733 | F13: {=IFERROR(INDEX($B$2:$B$200,MATCH(E13,$A$2:$A$200,0)),"")} -> 20 | G13: {=IFERROR(IF(ROW(C12)>COUNTA(C:C),"",INDEX($C$1:$C$200,SMALL(IF($C$1:$C$200<>"",ROW($1:$200)),ROW(C12)),1)),"")} -> 733 | H13: {=IFERROR(INDEX($D$2:$D$200,MATCH(G13,$C$2:$C$200,0)),"")} -> 20 | K13: {=IFERROR(SMALL(IF(MATCH(SMALL(CHOOSE({1,2},matriculeE,matriculeG),ROW(INDIRECT("$1:"&COUNT(matriculeE,matriculeG)))),SMALL(CHOOSE({1,2},matriculeE,matriculeG),ROW(INDIRECT("$1:"&COUNT(matriculeE,matriculeG)))),0)=ROW(INDIRECT("$1:"&COUNT(matriculeE,matriculeG))),SMALL(CHOOSE({1,2},matriculeE,matriculeG),ROW(INDIRECT("$1:"&COUNT(matriculeE,matriculeG)))),""),ROW(A12)),"")} | L13: {=IFERROR(SUMPRODUCT((matriculeE=K13)*(nbE)+(matriculeG=K13)*(nbG)),"")}
... A56: =IF('Copier Janvier'!C55=20,'Copier Janvier'!B55,"") | B56: =IF('Copier Janvier'!C55=20,'Copier Janvier'!D55,"") | C56: =IF('Copier Fevrier'!C55=20,'Copier Fevrier'!B55,"") | D56: =IF('Copier Fevrier'!C55=20,'Copier Fevrier'!D55,"") | E56: {=IFERROR(IF(ROW(A55)>COUNTA(A:A),"",INDEX($A$1:$A$200,SMALL(IF($A$1:$A$200<>"",ROW($1:$200)),ROW(A55)),1)),"")} | F56: {=IFERROR(INDEX($B$2:$B$200,MATCH(E56,$A$2:$A$200,0)),"")} | G56: {=IFERROR(IF(ROW(C55)>COUNTA(C:C),"",INDEX($C$1:$C$200,SMALL(IF($C$1:$C$200<>"",ROW($1:$200)),ROW(C55)),1)),"")} | H56: {=IFERROR(INDEX($D$2:$D$200,MATCH(G56,$C$2:$C$200,0)),"")} | K56: {=IFERROR(SMALL(IF(MATCH(SMALL(CHOOSE({1,2},matriculeE,matriculeG),ROW(INDIRECT("$1:"&COUNT(matriculeE,matriculeG)))),SMALL(CHOOSE({1,2},matriculeE,matriculeG),ROW(INDIRECT("$1:"&COUNT(matriculeE,matriculeG)))),0)=ROW(INDIRECT("$1:"&COUNT(matriculeE,matriculeG))),SMALL(CHOOSE({1,2},matriculeE,matriculeG),ROW(INDIRECT("$1:"&COUNT(matriculeE,matriculeG)))),""),ROW(A55)),"")} | L56: {=IFERROR(SUMPRODUCT((matriculeE=K56)*(nbE)+(matriculeG=K56)*(nbG)),"")}
A57: =IF('Copier Janvier'!C56=20,'Copier Janvier'!B56,"") | B57: =IF('Copier Janvier'!C56=20,'Copier Janvier'!D56,"") | C57: =IF('Copier Fevrier'!C56=20,'Copier Fevrier'!B56,"") -> 785 | D57: =IF('Copier Fevrier'!C56=20,'Copier Fevrier'!D56,"") -> 17 | E57: {=IFERROR(IF(ROW(A56)>COUNTA(A:A),"",INDEX($A$1:$A$200,SMALL(IF($A$1:$A$200<>"",ROW($1:$200)),ROW(A56)),1)),"")} | F57: {=IFERROR(INDEX($B$2:$B$200,MATCH(E57,$A$2:$A$200,0)),"")} | G57: {=IFERROR(IF(ROW(C56)>COUNTA(C:C),"",INDEX($C$1:$C$200,SMALL(IF($C$1:$C$200<>"",ROW($1:$200)),ROW(C56)),1)),"")} | H57: {=IFERROR(INDEX($D$2:$D$200,MATCH(G57,$C$2:$C$200,0)),"")}
A58: =IF('Copier Janvier'!C57=20,'Copier Janvier'!B57,"") | B58: =IF('Copier Janvier'!C57=20,'Copier Janvier'!D57,"") | C58: =IF('Copier Fevrier'!C57=20,'Copier Fevrier'!B57,"") | D58: =IF('Copier Fevrier'!C57=20,'Copier Fevrier'!D57,"") | E58: {=IFERROR(IF(ROW(A57)>COUNTA(A:A),"",INDEX($A$1:$A$200,SMALL(IF($A$1:$A$200<>"",ROW($1:$200)),ROW(A57)),1)),"")} | F58: {=IFERROR(INDEX($B$2:$B$200,MATCH(E58,$A$2:$A$200,0)),"")} | G58: {=IFERROR(IF(ROW(C57)>COUNTA(C:C),"",INDEX($C$1:$C$200,SMALL(IF($C$1:$C$200<>"",ROW($1:$200)),ROW(C57)),1)),"")} | H58: {=IFERROR(INDEX($D$2:$D$200,MATCH(G58,$C$2:$C$200,0)),"")}
A59: =IF('Copier Janvier'!C58=20,'Copier Janvier'!B58,"") | B59: =IF('Copier Janvier'!C58=20,'Copier Janvier'!D58,"") | C59: =IF('Copier Fevrier'!C58=20,'Copier Fevrier'!B58,"") | D59: =IF('Copier Fevrier'!C58=20,'Copier Fevrier'!D58,"") | E59: {=IFERROR(IF(ROW(A58)>COUNTA(A:A),"",INDEX($A$1:$A$200,SMALL(IF($A$1:$A$200<>"",ROW($1:$200)),ROW(A58)),1)),"")} | F59: {=IFERROR(INDEX($B$2:$B$200,MATCH(E59,$A$2:$A$200,0)),"")} | G59: {=IFERROR(IF(ROW(C58)>COUNTA(C:C),"",INDEX($C$1:$C$200,SMALL(IF($C$1:$C$200<>"",ROW($1:$200)),ROW(C58)),1)),"")} | H59: {=IFERROR(INDEX($D$2:$D$200,MATCH(G59,$C$2:$C$200,0)),"")}
A60: =IF('Copier Janvier'!C59=20,'Copier Janvier'!B59,"") | B60: =IF('Copier Janvier'!C59=20,'Copier Janvier'!D59,"") | C60: =IF('Copier Fevrier'!C59=20,'Copier Fevrier'!B59,"") | D60: =IF('Copier Fevrier'!C59=20,'Copier Fevrier'!D59,"") | E60: {=IFERROR(IF(ROW(A59)>COUNTA(A:A),"",INDEX($A$1:$A$200,SMALL(IF($A$1:$A$200<>"",ROW($1:$200)),ROW(A59)),1)),"")} | F60: {=IFERROR(INDEX($B$2:$B$200,MATCH(E60,$A$2:$A$200,0)),"")} | G60: {=IFERROR(IF(ROW(C59)>COUNTA(C:C),"",INDEX($C$1:$C$200,SMALL(IF($C$1:$C$200<>"",ROW($1:$200)),ROW(C59)),1)),"")} | H60: {=IFERROR(INDEX($D$2:$D$200,MATCH(G60,$C$2:$C$200,0)),"")}
A61: =IF('Copier Janvier'!C60=20,'Copier Janvier'!B60,"") | B61: =IF('Copier Janvier'!C60=20,'Copier Janvier'!D60,"") | C61: =IF('Copier Fevrier'!C60=20,'Copier Fevrier'!B60,"") -> 787 | D61: =IF('Copier Fevrier'!C60=20,'Copier Fevrier'!D60,"") -> 14 | E61: {=IFERROR(IF(ROW(A60)>COUNTA(A:A),"",INDEX($A$1:$A$200,SMALL(IF($A$1:$A$200<>"",ROW($1:$200)),ROW(A60)),1)),"")} | F61: {=IFERROR(INDEX($B$2:$B$200,MATCH(E61,$A$2:$A$200,0)),"")} | G61: {=IFERROR(IF(ROW(C60)>COUNTA(C:C),"",INDEX($C$1:$C$200,SMALL(IF($C$1:$C$200<>"",ROW($1:$200)),ROW(C60)),1)),"")} | H61: {=IFERROR(INDEX($D$2:$D$200,MATCH(G61,$C$2:$C$200,0)),"")}
A62: =IF('Copier Janvier'!C61=20,'Copier Janvier'!B61,"") | B62: =IF('Copier Janvier'!C61=20,'Copier Janvier'!D61,"") | C62: =IF('Copier Fevrier'!C61=20,'Copier Fevrier'!B61,"") | D62: =IF('Copier Fevrier'!C61=20,'Copier Fevrier'!D61,"") | E62: {=IFERROR(IF(ROW(A61)>COUNTA(A:A),"",INDEX($A$1:$A$200,SMALL(IF($A$1:$A$200<>"",ROW($1:$200)),ROW(A61)),1)),"")} | F62: {=IFERROR(INDEX($B$2:$B$200,MATCH(E62,$A$2:$A$200,0)),"")} | G62: {=IFERROR(IF(ROW(C61)>COUNTA(C:C),"",INDEX($C$1:$C$200,SMALL(IF($C$1:$C$200<>"",ROW($1:$200)),ROW(C61)),1)),"")} | H62: {=IFERROR(INDEX($D$2:$D$200,MATCH(G62,$C$2:$C$200,0)),"")}
A63: =IF('Copier Janvier'!C62=20,'Copier Janvier'!B62,"") | B63: =IF('Copier Janvier'!C62=20,'Copier Janvier'!D62,"") | C63: =IF('Copier Fevrier'!C62=20,'Copier Fevrier'!B62,"") | D63: =IF('Copier Fevrier'!C62=20,'Copier Fevrier'!D62,"") | E63: {=IFERROR(IF(ROW(A62)>COUNTA(A:A),"",INDEX($A$1:$A$200,SMALL(IF($A$1:$A$200<>"",ROW($1:$200)),ROW(A62)),1)),"")} | F63: {=IFERROR(INDEX($B$2:$B$200,MATCH(E63,$A$2:$A$200,0)),"")} | G63: {=IFERROR(IF(ROW(C62)>COUNTA(C:C),"",INDEX($C$1:$C$200,SMALL(IF($C$1:$C$200<>"",ROW($1:$200)),ROW(C62)),1)),"")} | H63: {=IFERROR(INDEX($D$2:$D$200,MATCH(G63,$C$2:$C$200,0)),"")}
A64: =IF('Copier Janvier'!C63=20,'Copier Janvier'!B63,"") | B64: =IF('Copier Janvier'!C63=20,'Copier Janvier'!D63,"") | C64: =IF('Copier Fevrier'!C63=20,'Copier Fevrier'!B63,"") -> 788 | D64: =IF('Copier Fevrier'!C63=20,'Copier Fevrier'!D63,"") -> 25 | E64: {=IFERROR(IF(ROW(A63)>COUNTA(A:A),"",INDEX($A$1:$A$200,SMALL(IF($A$1:$A$200<>"",ROW($1:$200)),ROW(A63)),1)),"")} | F64: {=IFERROR(INDEX($B$2:$B$200,MATCH(E64,$A$2:$A$200,0)),"")} | G64: {=IFERROR(IF(ROW(C63)>COUNTA(C:C),"",INDEX($C$1:$C$200,SMALL(IF($C$1:$C$200<>"",ROW($1:$200)),ROW(C63)),1)),"")} | H64: {=IFERROR(INDEX($D$2:$D$200,MATCH(G64,$C$2:$C$200,0)),"")}
A65: =IF('Copier Janvier'!C64=20,'Copier Janvier'!B64,"") | B65: =IF('Copier Janvier'!C64=20,'Copier Janvier'!D64,"") | C65: =IF('Copier Fevrier'!C64=20,'Copier Fevrier'!B64,"") | D65: =IF('Copier Fevrier'!C64=20,'Copier Fevrier'!D64,"") | E65: {=IFERROR(IF(ROW(A64)>COUNTA(A:A),"",INDEX($A$1:$A$200,SMALL(IF($A$1:$A$200<>"",ROW($1:$200)),ROW(A64)),1)),"")} | F65: {=IFERROR(INDEX($B$2:$B$200,MATCH(E65,$A$2:$A$200,0)),"")} | G65: {=IFERROR(IF(ROW(C64)>COUNTA(C:C),"",INDEX($C$1:$C$200,SMALL(IF($C$1:$C$200<>"",ROW($1:$200)),ROW(C64)),1)),"")} | H65: {=IFERROR(INDEX($D$2:$D$200,MATCH(G65,$C$2:$C$200,0)),"")}
A66: =IF('Copier Janvier'!C65=20,'Copier Janvier'!B65,"") | B66: =IF('Copier Janvier'!C65=20,'Copier Janvier'!D65,"") | C66: =IF('Copier Fevrier'!C65=20,'Copier Fevrier'!B65,"") | D66: =IF('Copier Fevrier'!C65=20,'Copier Fevrier'!D65,"") | E66: {=IFERROR(IF(ROW(A65)>COUNTA(A:A),"",INDEX($A$1:$A$200,SMALL(IF($A$1:$A$200<>"",ROW($1:$200)),ROW(A65)),1)),"")} | F66: {=IFERROR(INDEX($B$2:$B$200,MATCH(E66,$A$2:$A$200,0)),"")} | G66: {=IFERROR(IF(ROW(C65)>COUNTA(C:C),"",INDEX($C$1:$C$200,SMALL(IF($C$1:$C$200<>"",ROW($1:$200)),ROW(C65)),1)),"")} | H66: {=IFERROR(INDEX($D$2:$D$200,MATCH(G66,$C$2:$C$200,0)),"")}
A67: =IF('Copier Janvier'!C66=20,'Copier Janvier'!B66,"") | B67: =IF('Copier Janvier'!C66=20,'Copier Janvier'!D66,"") | C67: =IF('Copier Fevrier'!C66=20,'Copier Fevrier'!B66,"") | D67: =IF('Copier Fevrier'!C66=20,'Copier Fevrier'!D66,"") | E67: {=IFERROR(IF(ROW(A66)>COUNTA(A:A),"",INDEX($A$1:$A$200,SMALL(IF($A$1:$A$200<>"",ROW($1:$200)),ROW(A66)),1)),"")} | F67: {=IFERROR(INDEX($B$2:$B$200,MATCH(E67,$A$2:$A$200,0)),"")} | G67: {=IFERROR(IF(ROW(C66)>COUNTA(C:C),"",INDEX($C$1:$C$200,SMALL(IF($C$1:$C$200<>"",ROW($1:$200)),ROW(C66)),1)),"")} | H67: {=IFERROR(INDEX($D$2:$D$200,MATCH(G67,$C$2:$C$200,0)),"")}
A68: =IF('Copier Janvier'!C67=20,'Copier Janvier'!B67,"") | B68: =IF('Copier Janvier'!C67=20,'Copier Janvier'!D67,"") | C68: =IF('Copier Fevrier'!C67=20,'Copier Fevrier'!B67,"") | D68: =IF('Copier Fevrier'!C67=20,'Copier Fevrier'!D67,"") | E68: {=IFERROR(IF(ROW(A67)>COUNTA(A:A),"",INDEX($A$1:$A$200,SMALL(IF($A$1:$A$200<>"",ROW($1:$200)),ROW(A67)),1)),"")} | F68: {=IFERROR(INDEX($B$2:$B$200,MATCH(E68,$A$2:$A$200,0)),"")} | G68: {=IFERROR(IF(ROW(C67)>COUNTA(C:C),"",INDEX($C$1:$C$200,SMALL(IF($C$1:$C$200<>"",ROW($1:$200)),ROW(C67)),1)),"")} | H68: {=IFERROR(INDEX($D$2:$D$200,MATCH(G68,$C$2:$C$200,0)),"")}
... A80: =IF('Copier Janvier'!C79=20,'Copier Janvier'!B79,"") | B80: =IF('Copier Janvier'!C79=20,'Copier Janvier'!D79,"") | C80: =IF('Copier Fevrier'!C79=20,'Copier Fevrier'!B79,"") | D80: =IF('Copier Fevrier'!C79=20,'Copier Fevrier'!D79,"") | E80: {=IFERROR(IF(ROW(A79)>COUNTA(A:A),"",INDEX($A$1:$A$200,SMALL(IF($A$1:$A$200<>"",ROW($1:$200)),ROW(A79)),1)),"")} | F80: {=IFERROR(INDEX($B$2:$B$200,MATCH(E80,$A$2:$A$200,0)),"")} | G80: {=IFERROR(IF(ROW(C79)>COUNTA(C:C),"",INDEX($C$1:$C$200,SMALL(IF($C$1:$C$200<>"",ROW($1:$200)),ROW(C79)),1)),"")} | H80: {=IFERROR(INDEX($D$2:$D$200,MATCH(G80,$C$2:$C$200,0)),"")}
A81: =IF('Copier Janvier'!C71=20,'Copier Janvier'!B71,"") | B81: =IF('Copier Janvier'!C71=20,'Copier Janvier'!D71,"") | C81: =IF('Copier Fevrier'!C80=20,'Copier Fevrier'!B80,"") | D81: =IF('Copier Fevrier'!C80=20,'Copier Fevrier'!D80,"") | E81: {=IFERROR(IF(ROW(A80)>COUNTA(A:A),"",INDEX($A$1:$A$200,SMALL(IF($A$1:$A$200<>"",ROW($1:$200)),ROW(A80)),1)),"")} | F81: {=IFERROR(INDEX($B$2:$B$200,MATCH(E81,$A$2:$A$200,0)),"")} | G81: {=IFERROR(IF(ROW(C80)>COUNTA(C:C),"",INDEX($C$1:$C$200,SMALL(IF($C$1:$C$200<>"",ROW($1:$200)),ROW(C80)),1)),"")} | H81: {=IFERROR(INDEX($D$2:$D$200,MATCH(G81,$C$2:$C$200,0)),"")}
A82: =IF('Copier Janvier'!C72=20,'Copier Janvier'!B72,"") | B82: =IF('Copier Janvier'!C72=20,'Copier Janvier'!D72,"") | C82: =IF('Copier Fevrier'!C81=20,'Copier Fevrier'!B81,"") | D82: =IF('Copier Fevrier'!C81=20,'Copier Fevrier'!D81,"") | E82: {=IFERROR(IF(ROW(A81)>COUNTA(A:A),"",INDEX($A$1:$A$200,SMALL(IF($A$1:$A$200<>"",ROW($1:$200)),ROW(A81)),1)),"")} | F82: {=IFERROR(INDEX($B$2:$B$200,MATCH(E82,$A$2:$A$200,0)),"")} | G82: {=IFERROR(IF(ROW(C81)>COUNTA(C:C),"",INDEX($C$1:$C$200,SMALL(IF($C$1:$C$200<>"",ROW($1:$200)),ROW(C81)),1)),"")} | H82: {=IFERROR(INDEX($D$2:$D$200,MATCH(G82,$C$2:$C$200,0)),"")}
A83: =IF('Copier Janvier'!C73=20,'Copier Janvier'!B73,"") | B83: =IF('Copier Janvier'!C73=20,'Copier Janvier'!D73,"") | C83: =IF('Copier Fevrier'!C82=20,'Copier Fevrier'!B82,"") | D83: =IF('Copier Fevrier'!C82=20,'Copier Fevrier'!D82,"") | E83: {=IFERROR(IF(ROW(A82)>COUNTA(A:A),"",INDEX($A$1:$A$200,SMALL(IF($A$1:$A$200<>"",ROW($1:$200)),ROW(A82)),1)),"")} | F83: {=IFERROR(INDEX($B$2:$B$200,MATCH(E83,$A$2:$A$200,0)),"")} | G83: {=IFERROR(IF(ROW(C82)>COUNTA(C:C),"",INDEX($C$1:$C$200,SMALL(IF($C$1:$C$200<>"",ROW($1:$200)),ROW(C82)),1)),"")} | H83: {=IFERROR(INDEX($D$2:$D$200,MATCH(G83,$C$2:$C$200,0)),"")}
A84: =IF('Copier Janvier'!C74=20,'Copier Janvier'!B74,"") | B84: =IF('Copier Janvier'!C74=20,'Copier Janvier'!D74,"") | C84: =IF('Copier Fevrier'!C83=20,'Copier Fevrier'!B83,"") | D84: =IF('Copier Fevrier'!C83=20,'Copier Fevrier'!D83,"") | E84: {=IFERROR(IF(ROW(A83)>COUNTA(A:A),"",INDEX($A$1:$A$200,SMALL(IF($A$1:$A$200<>"",ROW($1:$200)),ROW(A83)),1)),"")} | F84: {=IFERROR(INDEX($B$2:$B$200,MATCH(E84,$A$2:$A$200,0)),"")} | G84: {=IFERROR(IF(ROW(C83)>COUNTA(C:C),"",INDEX($C$1:$C$200,SMALL(IF($C$1:$C$200<>"",ROW($1:$200)),ROW(C83)),1)),"")} | H84: {=IFERROR(INDEX($D$2:$D$200,MATCH(G84,$C$2:$C$200,0)),"")}
A85: =IF('Copier Janvier'!C75=20,'Copier Janvier'!B75,"") | B85: =IF('Copier Janvier'!C75=20,'Copier Janvier'!D75,"") | C85: =IF('Copier Fevrier'!C84=20,'Copier Fevrier'!B84,"") | D85: =IF('Copier Fevrier'!C84=20,'Copier Fevrier'!D84,"") | E85: {=IFERROR(IF(ROW(A84)>COUNTA(A:A),"",INDEX($A$1:$A$200,SMALL(IF($A$1:$A$200<>"",ROW($1:$200)),ROW(A84)),1)),"")} | F85: {=IFERROR(INDEX($B$2:$B$200,MATCH(E85,$A$2:$A$200,0)),"")} | G85: {=IFERROR(IF(ROW(C84)>COUNTA(C:C),"",INDEX($C$1:$C$200,SMALL(IF($C$1:$C$200<>"",ROW($1:$200)),ROW(C84)),1)),"")} | H85: {=IFERROR(INDEX($D$2:$D$200,MATCH(G85,$C$2:$C$200,0)),"")}
A86: =IF('Copier Janvier'!C76=20,'Copier Janvier'!B76,"") | B86: =IF('Copier Janvier'!C76=20,'Copier Janvier'!D76,"") | C86: =IF('Copier Fevrier'!C85=20,'Copier Fevrier'!B85,"") | D86: =IF('Copier Fevrier'!C85=20,'Copier Fevrier'!D85,"") | E86: {=IFERROR(IF(ROW(A85)>COUNTA(A:A),"",INDEX($A$1:$A$200,SMALL(IF($A$1:$A$200<>"",ROW($1:$200)),ROW(A85)),1)),"")} | F86: {=IFERROR(INDEX($B$2:$B$200,MATCH(E86,$A$2:$A$200,0)),"")} | G86: {=IFERROR(IF(ROW(C85)>COUNTA(C:C),"",INDEX($C$1:$C$200,SMALL(IF($C$1:$C$200<>"",ROW($1:$200)),ROW(C85)),1)),"")} | H86: {=IFERROR(INDEX($D$2:$D$200,MATCH(G86,$C$2:$C$200,0)),"")}
A87: =IF('Copier Janvier'!C77=20,'Copier Janvier'!B77,"") | B87: =IF('Copier Janvier'!C77=20,'Copier Janvier'!D77,"") | C87: =IF('Copier Fevrier'!C86=20,'Copier Fevrier'!B86,"") | D87: =IF('Copier Fevrier'!C86=20,'Copier Fevrier'!D86,"") | E87: {=IFERROR(IF(ROW(A86)>COUNTA(A:A),"",INDEX($A$1:$A$200,SMALL(IF($A$1:$A$200<>"",ROW($1:$200)),ROW(A86)),1)),"")} | F87: {=IFERROR(INDEX($B$2:$B$200,MATCH(E87,$A$2:$A$200,0)),"")} | G87: {=IFERROR(IF(ROW(C86)>COUNTA(C:C),"",INDEX($C$1:$C$200,SMALL(IF($C$1:$C$200<>"",ROW($1:$200)),ROW(C86)),1)),"")} | H87: {=IFERROR(INDEX($D$2:$D$200,MATCH(G87,$C$2:$C$200,0)),"")}
A88: =IF('Copier Janvier'!C78=20,'Copier Janvier'!B78,"") | B88: =IF('Copier Janvier'!C78=20,'Copier Janvier'!D78,"") | C88: =IF('Copier Fevrier'!C87=20,'Copier Fevrier'!B87,"") | D88: =IF('Copier Fevrier'!C87=20,'Copier Fevrier'!D87,"") | E88: {=IFERROR(IF(ROW(A87)>COUNTA(A:A),"",INDEX($A$1:$A$200,SMALL(IF($A$1:$A$200<>"",ROW($1:$200)),ROW(A87)),1)),"")} | F88: {=IFERROR(INDEX($B$2:$B$200,MATCH(E88,$A$2:$A$200,0)),"")} | G88: {=IFERROR(IF(ROW(C87)>COUNTA(C:C),"",INDEX($C$1:$C$200,SMALL(IF($C$1:$C$200<>"",ROW($1:$200)),ROW(C87)),1)),"")} | H88: {=IFERROR(INDEX($D$2:$D$200,MATCH(G88,$C$2:$C$200,0)),"")}
A89: =IF('Copier Janvier'!C79=20,'Copier Janvier'!B79,"") | B89: =IF('Copier Janvier'!C79=20,'Copier Janvier'!D79,"") | C89: =IF('Copier Fevrier'!C88=20,'Copier Fevrier'!B88,"") | D89: =IF('Copier Fevrier'!C88=20,'Copier Fevrier'!D88,"") | E89: {=IFERROR(IF(ROW(A88)>COUNTA(A:A),"",INDEX($A$1:$A$200,SMALL(IF($A$1:$A$200<>"",ROW($1:$200)),ROW(A88)),1)),"")} | F89: {=IFERROR(INDEX($B$2:$B$200,MATCH(E89,$A$2:$A$200,0)),"")} | G89: {=IFERROR(IF(ROW(C88)>COUNTA(C:C),"",INDEX($C$1:$C$200,SMALL(IF($C$1:$C$200<>"",ROW($1:$200)),ROW(C88)),1)),"")} | H89: {=IFERROR(INDEX($D$2:$D$200,MATCH(G89,$C$2:$C$200,0)),"")}
A90: =IF('Copier Janvier'!C80=20,'Copier Janvier'!B80,"") | B90: =IF('Copier Janvier'!C80=20,'Copier Janvier'!D80,"") | C90: =IF('Copier Fevrier'!C89=20,'Copier Fevrier'!B89,"") | D90: =IF('Copier Fevrier'!C89=20,'Copier Fevrier'!D89,"") | E90: {=IFERROR(IF(ROW(A89)>COUNTA(A:A),"",INDEX($A$1:$A$200,SMALL(IF($A$1:$A$200<>"",ROW($1:$200)),ROW(A89)),1)),"")} | F90: {=IFERROR(INDEX($B$2:$B$200,MATCH(E90,$A$2:$A$200,0)),"")} | G90: {=IFERROR(IF(ROW(C89)>COUNTA(C:C),"",INDEX($C$1:$C$200,SMALL(IF($C$1:$C$200<>"",ROW($1:$200)),ROW(C89)),1)),"")} | H90: {=IFERROR(INDEX($D$2:$D$200,MATCH(G90,$C$2:$C$200,0)),"")}
A91: =IF('Copier Janvier'!C81=20,'Copier Janvier'!B81,"") | B91: =IF('Copier Janvier'!C81=20,'Copier Janvier'!D81,"") | C91: =IF('Copier Fevrier'!C90=20,'Copier Fevrier'!B90,"") | D91: =IF('Copier Fevrier'!C90=20,'Copier Fevrier'!D90,"") | E91: {=IFERROR(IF(ROW(A90)>COUNTA(A:A),"",INDEX($A$1:$A$200,SMALL(IF($A$1:$A$200<>"",ROW($1:$200)),ROW(A90)),1)),"")} | F91: {=IFERROR(INDEX($B$2:$B$200,MATCH(E91,$A$2:$A$200,0)),"")} | G91: {=IFERROR(IF(ROW(C90)>COUNTA(C:C),"",INDEX($C$1:$C$200,SMALL(IF($C$1:$C$200<>"",ROW($1:$200)),ROW(C90)),1)),"")} | H91: {=IFERROR(INDEX($D$2:$D$200,MATCH(G91,$C$2:$C$200,0)),"")}
A92: =IF('Copier Janvier'!C82=20,'Copier Janvier'!B82,"") | B92: =IF('Copier Janvier'!C82=20,'Copier Janvier'!D82,"") | C92: =IF('Copier Fevrier'!C91=20,'Copier Fevrier'!B91,"") | D92: =IF('Copier Fevrier'!C91=20,'Copier Fevrier'!D91,"") | E92: {=IFERROR(IF(ROW(A91)>COUNTA(A:A),"",INDEX($A$1:$A$200,SMALL(IF($A$1:$A$200<>"",ROW($1:$200)),ROW(A91)),1)),"")} | F92: {=IFERROR(INDEX($B$2:$B$200,MATCH(E92,$A$2:$A$200,0)),"")} | G92: {=IFERROR(IF(ROW(C91)>COUNTA(C:C),"",INDEX($C$1:$C$200,SMALL(IF($C$1:$C$200<>"",ROW($1:$200)),ROW(C91)),1)),"")} | H92: {=IFERROR(INDEX($D$2:$D$200,MATCH(G92,$C$2:$C$200,0)),"")}
... A200: =IF('Copier Janvier'!C190=20,'Copier Janvier'!B190,"") | B200: =IF('Copier Janvier'!C190=20,'Copier Janvier'!D190,"") | C200: =IF('Copier Fevrier'!C199=20,'Copier Fevrier'!B199,"") | D200: =IF('Copier Fevrier'!C199=20,'Copier Fevrier'!D199,"") | E200: {=IFERROR(IF(ROW(A199)>COUNTA(A:A),"",INDEX($A$1:$A$200,SMALL(IF($A$1:$A$200<>"",ROW($1:$200)),ROW(A199)),1)),"")} | F200: {=IFERROR(INDEX($B$2:$B$200,MATCH(E200,$A$2:$A$200,0)),"")} | G200: {=IFERROR(IF(ROW(C199)>COUNTA(C:C),"",INDEX($C$1:$C$200,SMALL(IF($C$1:$C$200<>"",ROW($1:$200)),ROW(C199)),1)),"")} | H200: {=IFERROR(INDEX($D$2:$D$200,MATCH(G200,$C$2:$C$200,0)),"")}
