Workbook
Name ANNEES: parametre!$Q$1:$Q$172
Name CATAGORIE1: parametre!$H$1:$H$4
Name CATEGORIE2: parametre!$I$1:$I$4
Name CATEGORIE3: parametre!$J$1:$J$4
Name CATEGORIE4: parametre!$K$1:$K$4
Name CATEGORIE5: parametre!$L$1:$L$4
Name CATEGORIE6: parametre!$M$1:$M$4
Name CATEGORIES7: parametre!$N$1:$N$4
Name CATEGORIES8: parametre!$O$1:$O$4
Name DATE: parametre!$G$1

Sheet BD
K1: changement de date
A2: cat1 | B2: cat2 | C2: cat3 | D2: cat4 | E2: cat5 | F2: cat6 | G2: cat7 | H2: cat8
A3: {=SUM(IF(ISNA(A4:A11),0,A4:A11))} -> 0 | B3: {=SUM(IF(ISNA(B4:B11),0,B4:B11))} -> 1 | C3: {=SUM(IF(ISNA(C4:C11),0,C4:C11))} -> 1 | D3: {=SUM(IF(ISNA(D4:D11),0,D4:D11))} -> 1 | E3: {=SUM(IF(ISNA(E4:E11),0,E4:E11))} -> 1 | F3: {=SUM(IF(ISNA(F4:F11),0,F4:F11))} -> 1 | G3: {=SUM(IF(ISNA(G4:G11),0,G4:G11))} -> 1 | H3: {=SUM(IF(ISNA(H4:H11),0,H4:H11))} -> 2 | I3: NOM | J3: Prénom | K3: Date de naissance | L3: ANNÉE
A4: =IF($L4,VLOOKUP(Tableau1[[#This Row],[ANNÉE]],parametre!$I$1:$I$5,1,FALSE)+1)-Tableau1[[#This Row],[ANNÉE]] -> #N/A | B4: =IF($L4,VLOOKUP(Tableau1[[#This Row],[ANNÉE]],parametre!$J$1:$J$5,1,FALSE)+1)-Tableau1[[#This Row],[ANNÉE]] -> #N/A | C4: =IF($L4,VLOOKUP(Tableau1[[#This Row],[ANNÉE]],parametre!$J$1:$J$5,1,FALSE)+1)-Tableau1[[#This Row],[ANNÉE]] -> #N/A | D4: =IF($L4,VLOOKUP(Tableau1[[#This Row],[ANNÉE]],parametre!$K$1:$K$5,1,FALSE)+1)-Tableau1[[#This Row],[ANNÉE]] -> #N/A | E4: =IF($L4,VLOOKUP(Tableau1[[#This Row],[ANNÉE]],parametre!$L$1:$L$5,1,FALSE)+1)-Tableau1[[#This Row],[ANNÉE]] -> #N/A | F4: =IF($L4,VLOOKUP(Tableau1[[#This Row],[ANNÉE]],parametre!$M$1:$M$5,1,FALSE)+1)-Tableau1[[#This Row],[ANNÉE]] -> 1 | G4: =IF($L4,VLOOKUP(Tableau1[[#This Row],[ANNÉE]],parametre!$N$1:$N$5,1,FALSE)+1)-Tableau1[[#This Row],[ANNÉE]] -> #N/A | H4: =IF($L4,VLOOKUP(Tableau1[[#This Row],[ANNÉE]],parametre!$O$1:$O$5,1,FALSE)+1)-Tableau1[[#This Row],[ANNÉE]] -> 1 | I4: UNTEL | J4: Lambda | K4: 44016 | L4: =YEAR($K4) -> 2020 | M4: <==ne pas supprimer | N4: =ANNEE($K4)
A5: =IF($L5,VLOOKUP(Tableau1[[#This Row],[ANNÉE]],parametre!$I$1:$I$5,1,FALSE)+1)-Tableau1[[#This Row],[ANNÉE]] -> #N/A | B5: =IF($L5,VLOOKUP(Tableau1[[#This Row],[ANNÉE]],parametre!$J$1:$J$5,1,FALSE)+1)-Tableau1[[#This Row],[ANNÉE]] -> #N/A | C5: =IF($L5,VLOOKUP(Tableau1[[#This Row],[ANNÉE]],parametre!$J$1:$J$5,1,FALSE)+1)-Tableau1[[#This Row],[ANNÉE]] -> #N/A | D5: =IF($L5,VLOOKUP(Tableau1[[#This Row],[ANNÉE]],parametre!$K$1:$K$5,1,FALSE)+1)-Tableau1[[#This Row],[ANNÉE]] -> #N/A | E5: =IF($L5,VLOOKUP(Tableau1[[#This Row],[ANNÉE]],parametre!$L$1:$L$5,1,FALSE)+1)-Tableau1[[#This Row],[ANNÉE]] -> 1 | F5: =IF($L5,VLOOKUP(Tableau1[[#This Row],[ANNÉE]],parametre!$M$1:$M$5,1,FALSE)+1)-Tableau1[[#This Row],[ANNÉE]] -> #N/A | G5: =IF($L5,VLOOKUP(Tableau1[[#This Row],[ANNÉE]],parametre!$N$1:$N$5,1,FALSE)+1)-Tableau1[[#This Row],[ANNÉE]] -> #N/A | H5: =IF($L5,VLOOKUP(Tableau1[[#This Row],[ANNÉE]],parametre!$O$1:$O$5,1,FALSE)+1)-Tableau1[[#This Row],[ANNÉE]] -> #N/A | I5: MATHEUX | J5: Excel | K5: 42819 | L5: =YEAR($K5) -> 2017 | M5: <==ne pas supprimer
A6: =IF($L6,VLOOKUP(Tableau1[[#This Row],[ANNÉE]],parametre!$I$1:$I$5,1,FALSE)+1)-Tableau1[[#This Row],[ANNÉE]] -> #N/A | B6: =IF($L6,VLOOKUP(Tableau1[[#This Row],[ANNÉE]],parametre!$J$1:$J$5,1,FALSE)+1)-Tableau1[[#This Row],[ANNÉE]] -> #N/A | C6: =IF($L6,VLOOKUP(Tableau1[[#This Row],[ANNÉE]],parametre!$J$1:$J$5,1,FALSE)+1)-Tableau1[[#This Row],[ANNÉE]] -> #N/A | D6: =IF($L6,VLOOKUP(Tableau1[[#This Row],[ANNÉE]],parametre!$K$1:$K$5,1,FALSE)+1)-Tableau1[[#This Row],[ANNÉE]] -> 1 | E6: =IF($L6,VLOOKUP(Tableau1[[#This Row],[ANNÉE]],parametre!$L$1:$L$5,1,FALSE)+1)-Tableau1[[#This Row],[ANNÉE]] -> #N/A | F6: =IF($L6,VLOOKUP(Tableau1[[#This Row],[ANNÉE]],parametre!$M$1:$M$5,1,FALSE)+1)-Tableau1[[#This Row],[ANNÉE]] -> #N/A | G6: =IF($L6,VLOOKUP(Tableau1[[#This Row],[ANNÉE]],parametre!$N$1:$N$5,1,FALSE)+1)-Tableau1[[#This Row],[ANNÉE]] -> #N/A | H6: =IF($L6,VLOOKUP(Tableau1[[#This Row],[ANNÉE]],parametre!$O$1:$O$5,1,FALSE)+1)-Tableau1[[#This Row],[ANNÉE]] -> 1 | I6: CELLULE | J6: Colonne | K6: 42535 | L6: =YEAR($K6) -> 2016 | M6: <==ne pas supprimer
A7: =IF($L7,VLOOKUP(Tableau1[[#This Row],[ANNÉE]],parametre!$I$1:$I$5,1,FALSE)+1)-Tableau1[[#This Row],[ANNÉE]] -> #N/A | B7: =IF($L7,VLOOKUP(Tableau1[[#This Row],[ANNÉE]],parametre!$J$1:$J$5,1,FALSE)+1)-Tableau1[[#This Row],[ANNÉE]] -> #N/A | C7: =IF($L7,VLOOKUP(Tableau1[[#This Row],[ANNÉE]],parametre!$J$1:$J$5,1,FALSE)+1)-Tableau1[[#This Row],[ANNÉE]] -> #N/A | D7: =IF($L7,VLOOKUP(Tableau1[[#This Row],[ANNÉE]],parametre!$K$1:$K$5,1,FALSE)+1)-Tableau1[[#This Row],[ANNÉE]] -> #N/A | E7: =IF($L7,VLOOKUP(Tableau1[[#This Row],[ANNÉE]],parametre!$L$1:$L$5,1,FALSE)+1)-Tableau1[[#This Row],[ANNÉE]] -> #N/A | F7: =IF($L7,VLOOKUP(Tableau1[[#This Row],[ANNÉE]],parametre!$M$1:$M$5,1,FALSE)+1)-Tableau1[[#This Row],[ANNÉE]] -> #N/A | G7: =IF($L7,VLOOKUP(Tableau1[[#This Row],[ANNÉE]],parametre!$N$1:$N$5,1,FALSE)+1)-Tableau1[[#This Row],[ANNÉE]] -> 1 | H7: =IF($L7,VLOOKUP(Tableau1[[#This Row],[ANNÉE]],parametre!$O$1:$O$5,1,FALSE)+1)-Tableau1[[#This Row],[ANNÉE]] -> #N/A | I7: MACRO | J7: Range | K7: 44818 | L7: =YEAR($K7) -> 2022 | M7: <==ne pas supprimer
A8: =IF($L8,VLOOKUP(Tableau1[[#This Row],[ANNÉE]],parametre!$I$1:$I$5,1,FALSE)+1)-Tableau1[[#This Row],[ANNÉE]] -> #N/A | B8: =IF($L8,VLOOKUP(Tableau1[[#This Row],[ANNÉE]],parametre!$J$1:$J$5,1,FALSE)+1)-Tableau1[[#This Row],[ANNÉE]] -> 1 | C8: =IF($L8,VLOOKUP(Tableau1[[#This Row],[ANNÉE]],parametre!$J$1:$J$5,1,FALSE)+1)-Tableau1[[#This Row],[ANNÉE]] -> 1 | D8: =IF($L8,VLOOKUP(Tableau1[[#This Row],[ANNÉE]],parametre!$K$1:$K$5,1,FALSE)+1)-Tableau1[[#This Row],[ANNÉE]] -> #N/A | E8: =IF($L8,VLOOKUP(Tableau1[[#This Row],[ANNÉE]],parametre!$L$1:$L$5,1,FALSE)+1)-Tableau1[[#This Row],[ANNÉE]] -> #N/A | F8: =IF($L8,VLOOKUP(Tableau1[[#This Row],[ANNÉE]],parametre!$M$1:$M$5,1,FALSE)+1)-Tableau1[[#This Row],[ANNÉE]] -> #N/A | G8: =IF($L8,VLOOKUP(Tableau1[[#This Row],[ANNÉE]],parametre!$N$1:$N$5,1,FALSE)+1)-Tableau1[[#This Row],[ANNÉE]] -> #N/A | H8: =IF($L8,VLOOKUP(Tableau1[[#This Row],[ANNÉE]],parametre!$O$1:$O$5,1,FALSE)+1)-Tableau1[[#This Row],[ANNÉE]] -> #N/A | I8: TEST | J8: Test | K8: 41604 | L8: =YEAR($K8) -> 2013 | M8: <==ne pas supprimer
A9: =IF($L9,VLOOKUP(Tableau1[[#This Row],[ANNÉE]],parametre!$I$1:$I$5,1,FALSE)+1)-Tableau1[[#This Row],[ANNÉE]] -> #N/A | B9: =IF($L9,VLOOKUP(Tableau1[[#This Row],[ANNÉE]],parametre!$J$1:$J$5,1,FALSE)+1)-Tableau1[[#This Row],[ANNÉE]] -> #N/A | C9: =IF($L9,VLOOKUP(Tableau1[[#This Row],[ANNÉE]],parametre!$J$1:$J$5,1,FALSE)+1)-Tableau1[[#This Row],[ANNÉE]] -> #N/A | D9: =IF($L9,VLOOKUP(Tableau1[[#This Row],[ANNÉE]],parametre!$K$1:$K$5,1,FALSE)+1)-Tableau1[[#This Row],[ANNÉE]] -> #N/A | E9: =IF($L9,VLOOKUP(Tableau1[[#This Row],[ANNÉE]],parametre!$L$1:$L$5,1,FALSE)+1)-Tableau1[[#This Row],[ANNÉE]] -> #N/A | F9: =IF($L9,VLOOKUP(Tableau1[[#This Row],[ANNÉE]],parametre!$M$1:$M$5,1,FALSE)+1)-Tableau1[[#This Row],[ANNÉE]] -> #N/A | G9: =IF($L9,VLOOKUP(Tableau1[[#This Row],[ANNÉE]],parametre!$N$1:$N$5,1,FALSE)+1)-Tableau1[[#This Row],[ANNÉE]] -> #N/A | H9: =IF($L9,VLOOKUP(Tableau1[[#This Row],[ANNÉE]],parametre!$O$1:$O$5,1,FALSE)+1)-Tableau1[[#This Row],[ANNÉE]] -> #N/A | I9: MC | J9: Enroe | K9: 39858 | L9: =YEAR($K9) -> 2009 | M9: <==ne pas supprimer
A12: mfc | H12: h3 avec les touches CTRL+ Majuscule + entrée
H13: {=SOMME(SI(ESTNA(H4:H11);0;H4:H11))} | K13: on peut changer les dates

Sheet parametre
A1: cat1 | B1: 2008 | C1: =B1+1 -> 2009 | D1: =C1+1 -> 2010 | G1: 2008 | H1: cat1 | I1: cat2 | J1: cat3 | K1: cat4 | L1: cat5 | M1: cat6 | N1: cat7 | O1: cat8 | Q1: 1930
A2: cat2 | B2: =B1+3 -> 2011 | C2: =B2+1 -> 2012 | H2: 2008 | I2: 2011 | J2: 2013 | K2: 2015 | L2: 2017 | M2: 2019 | N2: 2021 | O2: 2020 | Q2: 1931
A3: cat3 | B3: =B2+2 -> 2013 | C3: =B3+1 -> 2014 | H3: 2009 | I3: 2012 | J3: 2014 | K3: 2016 | L3: 2018 | M3: 2020 | N3: 2022 | O3: 2016 | Q3: 1932
A4: cat4 | B4: =B3+2 -> 2015 | C4: =B4+1 -> 2016 | H4: 2010 | O4: 2018 | Q4: 1933
A5: cat5 | B5: =B4+2 -> 2017 | C5: =B5+1 -> 2018 | Q5: 1934
A6: cat6 | B6: =B5+2 -> 2019 | C6: =B6+1 -> 2020 | Q6: 1935
A7: cat7 | B7: =B6+2 -> 2021 | C7: =B7+1 -> 2022 | Q7: 1936
A8: cat8 | M8: <==ne pas supprimer==> | Q8: 1937
Q9: 1938
Q10: 1939
A11: en jaune on choisi une année les autres cellules se remplissent automatiquement | Q11: 1940
Q12: 1941
Q13: 1942
Q14: 1943
Q15: 1944
Q16: 1945
Q17: 1946
Q18: 1947
Q19: 1948
Q20: 1949
Q21: 1950
Q22: 1951
Q23: 1952
... Q172: 2101

Sheet Feuil1
