Workbook

Sheet Synthèse
AZ1: 2017 | BA1: 2017 | BB1: 2017 | BC1: 2017 | BD1: 2017 | BE1: 2018 | BF1: 2018 | BG1: 2018 | BH1: 2018 | BI1: 2018 | BJ1: 2018 | BK1: 2018 | BL1: 2018 | BM1: 2018 | BN1: 2018 | BO1: 2018 | BP1: 2018 | BQ1: 2018 | BR1: 2018 | BS1: 2018 | BT1: 2018 | BU1: 2018 | BV1: 2018 | BW1: 2018 | BX1: 2018 | BY1: 2018 | BZ1: 2018 | CA1: 2018 | CB1: 2018 | CC1: 2018 | CD1: 2018 | CE1: 2018 | CF1: 2018 | CG1: 2018 | CH1: 2018 | CI1: 2018 | CJ1: 2018 | CK1: 2018 | CL1: 2018 | CM1: 2018 | CN1: 2018 | CO1: 2018 | CP1: 2018 | CQ1: 2018 | CR1: 2018 | CS1: 2018 | CT1: 2018 | CU1: 2018 | CV1: 2018 | CW1: 2018 | CX1: 2018 | CY1: 2018 | CZ1: 2018 | DA1: 2018 | DB1: 2018 | DC1: 2018 | DD1: 2018 | DE1: 2019 | DF1: 2019 | DG1: 2019 | DH1: 2019 | DI1: 2019 | DJ1: 2019 | DK1: 2019 | DL1: 2019 | DM1: 2019 | DN1: 2019 | DO1: 2019 | DP1: 2019 | DQ1: 2019 | DR1: 2019 | DS1: 2019 | DT1: 2019 | DU1: 2019 | DV1: 2019 | DW1: 2019 | DX1: 2019 | DY1: 2019 | DZ1: 2019 | EA1: 2019 | EB1: 2019 | EC1: 2019 | ED1: 2019 | EE1: 2019 | EF1: 2019 | EG1: 2019 | EH1: 2019 | EI1: 2019 | EJ1: 2019 | EK1: 2019 | EL1: 2019 | EM1: 2019 | EN1: 2019 | EO1: 2019 | EP1: 2019 | EQ1: 2019 | ER1: 2019 | ES1: 2019 | ET1: 2019 | EU1: 2019 | EV1: 2019 | EW1: 2019 | EX1: 2019 | EY1: 2019 | EZ1: 2019 | FA1: 2019 | FB1: 2019 | FC1: 2019 | FD1: 2019
AZ2: 2017 | BE2: 2018 | DE2: 2019
AZ3: Décembre | BE3: janvier | BI3: février | BM3: mars | BR3: avril | BV3: mai | BZ3: juin | CE3: juillet | CI3: aout | CN3: septembre | CR3: octobre | CV3: novembre | DA3: décembre | DE3: janvier | DJ3: février | DN3: mars | DR3: avril | DV3: mai | EA3: juin | EE3: juillet | EJ3: aout | EN3: septembre | ER3: octobre | EW3: novembre | FA3: décembre
A4: 2015 | B4: 2016 | C4: 2017 | D4: 2018 | E4: 2019 | F4: Série Machine : | G4: N° Affaire : | H4: Client : | I4: Pays : | J4: PAL : | K4: Type de machine : | L4: Configuration : | M4: RI | N4: OS d'installation | O4: Date début (pose rails) : | P4: date début install PAL | Q4: Début install PAL | R4: Durée install + presta | S4: Date début installation (machine) | T4: MAD | U4: transp + douane | V4: Début Install | W4: durée install | X4: durée formation | Y4: SPL | Z4: FST | AA4: LYON | AB4: BES | AC4: BAM | AD4: BGL | AE4: BIS | AF4: BOG | AG4: BBR | AH4: BEE | AI4: BGV | AJ4: BBN | AK4: BSL | AL4: BIN | AM4: BLN | AN4: BNA | AO4: LE | AP4: G+Z 1 | AQ4: G+Z 2 | AR4: A3C | AS4: Socaps | AT4: WR | AU4: Interstate | AV4: Nassau | AW4: PAL Socaps | AX4: PREST | AY4: Commentaires : | AZ4: 48 | BA4: 49 | BB4: 50 | BC4: 51 | BD4: 52 | BE4: 1 | BF4: 2 | BG4: 3 | BH4: 4 | BI4: 5 | BJ4: 6 | BK4: 7 | BL4: 8 | BM4: 9 | BN4: 10 | BO4: 11 | BP4: 12 | BQ4: 13 | BR4: 14 | BS4: 15 | BT4: 16 | BU4: 17 | BV4: 18 | BW4: 19 | BX4: 20 | BY4: 21 | BZ4: 22 | CA4: 23 | CB4: 24 | CC4: 25 | CD4: 26 | CE4: 27 | CF4: 28 | CG4: 29 | CH4: 30 | CI4: 31 | CJ4: 32 | CK4: 33 | CL4: 34 | CM4: 35 | CN4: 36 | CO4: 37 | CP4: 38 | CQ4: 39 | CR4: 40 | CS4: 41 | CT4: 42 | CU4: 43 | CV4: 44 | CW4: 45 | CX4: 46 | CY4: 47 | CZ4: 48 | DA4: 49 | DB4: 50 | DC4: 51 | DD4: 52 | DE4: 1 | DF4: 2 | DG4: 3 | DH4: 4 | DI4: 5 | DJ4: 6 | DK4: 7 | DL4: 8 | DM4: 9 | DN4: 10 | DO4: 11 | DP4: 12 | DQ4: 13 | DR4: 14 | DS4: 15 | DT4: 16 | DU4: 17 | DV4: 18 | DW4: 19 | DX4: 20 | DY4: 21 | DZ4: 22 | EA4: 23 | EB4: 24 | EC4: 25 | ED4: 26 | EE4: 27 | EF4: 28 | EG4: 29 | EH4: 30 | EI4: 31 | EJ4: 32 | EK4: 33 | EL4: 34 | EM4: 35 | EN4: 36 | EO4: 37 | EP4: 38 | EQ4: 39 | ER4: 40 | ES4: 41 | ET4: 42 | EU4: 43 | EV4: 44 | EW4: 45 | EX4: 46 | EY4: 47 | EZ4: 48 | FA4: 49 | FB4: 50 | FC4: 51 | FD4: 52
A5: 1 | F5: 820 | G5: A-1876 | H5: ONDULYS-ST QUENTIN | I5: FRA | K5: FFG 8.20 Expertline | M5: FG | N5: 41111827 | O5: 42324 | S5: 42324 | AG5: 1 | AS5: F | AY5: BBR -> MC Brandao + EL Rocha / David Galet en formation AA
A6: 1 | F6: 444 DRO | G6: A-1837 | H6: ONDULOR-SANTA GIUSTA | I6: ITAL | K6: DRO 16xx NT HBL | M6: FG | N6: 41106727 | O6: 42331 | S6: 42331
A7: 1 | F7: 924 NT | G7: A-1869 | H7: TOP THIMM-TICHY | I7: POL | K7: FFG 924 NT | M7: EP | N7: 41110191 | O7: 42331 | S7: 42331 | AQ7: 1 | AY7: DA G&Z 4130996503
A8: 1 | F8: Masterflex | G8: A-1859 | H8: GP-SPARTENBURG-SC | I8: USA | K8: Masterflex-XL Inline | M8: GG | N8: 41109933 | O8: 42338 | S8: 42338 | AY8: MC BGNA + EL FIELD
A9: 1 | F9: 820 | G9: A-1847 | H9: MITCHEL-ST LAURENT | I9: CAN | K9: FFG 8.20 Expertline | M9: GG | N9: 41108563 | O9: 42358 | S9: 42358 | Y9: 1 | AN9: 1
B10: 1 | F10: 444 DRO | G10: A-1828 | H10: MONDI-KARAMAN | I10: TUR | K10: DRO 16xx NT | M10: NP | N10: 41113879 | O10: 42373 | S10: 42373 | AE10: 1 | AY10: demande faite auprès de FEYZI sauf RMC (Touzet) et formation (Bobst Lyon)
B11: 1 | F11: 944 RS | G11: A-1836 | H11: STRACCIA-COLONELLA | I11: ITAL | K11: FFG 924 NT Rapidset | M11: FG | N11: 41107735 | O11: 42373 | S11: 42373 | AT11: F | AY11: si repoussée en début 2016 / Federico Castelli en formation machine / Puente et Navarro (Alfema) en formation sur rails
B12: 1 | F12: 820 | G12: A-1854 | H12: ADDA-ANNONE BRIANZA | I12: ITAL | K12: FFG 8.20 Expertline | M12: FG | N12: 41111006 | O12: 42373 | S12: 42373 | Z12: 1 | AI12: F | AY12: Vitaliy Borovskyy (elec) et frederic Briand ( meca) en formation machine + démarrage / David Galet Adda en formation AA
B13: 1 | F13: Masterflex | G13: A-1862 | H13: DE JONG DE LIER | I13: NL | K13: Masterflex-XL Inline | M13: NP | N13: 41110180 | O13: 42373 | S13: 42373 | Y13: 1
B14: 1 | F14: 618 | G14: A-1871 | H14: SMURFIT HANAU | I14: ALL | J14: 1 | K14: FFG 618 | L14: MSU-RS4-DRB-D-S-PC-CEHNT-MPC + Pal FFG | M14: EP | N14: 41111373 | O14: 42373 | P14: 42383 | S14: 42373 | Y14: 1 | Z14: 1
B15: 1 | F15: 444 FFG | G15: A-1852 | H15: ASTRON-AHMEDABAD | I15: INDE | J15: 1 | K15: FFG 12xx NT Rapidset | M15: FG | N15: 41110125 | O15: 42374 | P15: 42412 | S15: 42374 | Z15: 1 | AL15: F | AY15: présence de 2 techs BIN (méca + élec) … noms ? + Lalit BONDRE (TSS PCR) en formation
B16: 1 | F16: 444 DRO | G16: A-1853 | H16: TOPPAZZINI-VILLANOVA | I16: ITAL | K16: DRO 16xx NT HBL | M16: FG | N16: 41108051 | O16: 42374 | S16: 42374 | AR16: F | AY16: Décalage sur janvier 2016 / Joly de A3C seulement
B17: 1 | F17: 444 FFG | G17: A-1794 | H17: GENERAL-SETIF | I17: ALG | K17: FFG 16xx NT | M17: NP | N17: 41103754 | O17: 42375 | S17: 42375 | Y17: 1 | AC17: 1 | AY17: formation de 2 BAM (Ahmed Barrani & Houssem Tounsi)
B18: 1 | F18: 944 RS | G18: A-1893 | H18: SAICA HARTLEPOOL | I18: GB | K18: FFG 924 NT Rapidset | L18: NT RS 6CL | M18: NP | N18: 41113255 | O18: 42376 | S18: 42376 | AD18: F | AP18: 1 | AY18: Said Messaoudi en formation sur Rails / 1 new tech méca BGL (Jerry Yusuf) en formation perso sur install. Frédéric Briand en formation perso avec Dormont sur formation opérateur
B19: 1 | F19: 618 | G19: A-1912 | H19: DS SMITH PESSIONE | I19: ITAL | J19: 1 | K19: FFG 618 | L19: MSU-RS4-DRB-D-S-PC-CEHNT-MPC + Pal FFG | M19: FG | N19: 41112701 | O19: 42380 | P19: 42396 | S19: 42380 | Y19: 1 | Z19: 1 | AY19: kemal kucuk en formation perso sur PAL avec Perrugini
B20: 1 | F20: 444 FFG | G20: A-1846 | H20: TORKUT-GAZIANTEP | I20: TUR | K20: FFG 12xx NT Rapidset | M20: PG | N20: 41113871 | O20: 42382 | S20: 42382 | AE20: 1 | AY20: Eritler (Méca) - Niyazi (Elec) + Mehmet (en formation perso) sauf RMC (Garin) RQ: test avec Feyzi seul pour formation des opérateurs
B21: 1 | F21: 944 RS | G21: A-1867 | H21: EMBALLAGES LAURENT (IP) | I21: FRA | J21: 1 | K21: FFG 924 NT Rapidset | L21: M-6IRS-2TS-S5500-IQ300-CTR-S4-DT-VIB-PCD-CEH-MPC-DEP-INS + Pal FFG + Multiloader + sécheurs Duo Technik 4 inter + 2 finaux IR | M21: FG | N21: 41112059 | O21: 42382 | P21: 42417 | S21: 42382 | Y21: 1 | Z21: 1 | AY21: présence d'Alain Firmin (tout au long) et E. Coelho (rails OK et chariot ?) / Formation perso sur Méca PAL de A. Sebai (SCMI)
B22: 1 | F22: 618 | G22: A-1880 | H22: THIMM NORTHEIM | I22: ALL | J22: 1 | K22: FFG 618 | L22: MSU-RS4-DRB-D-S-PC-CEHNT-MPC-INS + Pal FFG | M22: EP | N22: 41111653 | O22: 42387 | P22: 42398 | S22: 42387 | Y22: 1 | AF22: 1 | AY22: M. Perret en formation perso sur PAL avec Manas
B23: 1 | F23: 444 DRO | G23: A-1881 | H23: MODEL WEINFELDEN | I23: CH | K23: DRO 16xx NT | L23: M-2F-TS-D-RNT-MPC-INS-DEP + Multiloader | M23: EP | N23: 41111642 | O23: 42387 | S23: 42387 | Z23: 1 | AF23: 1 | AY23: DIEBOLD pour la RMC / Bryan Schone (Elec) en formation perso au contact de Fred Montagut
B24: 1 | F24: 820 | G24: A-1866 | H24: DONAUWELL NAARN | I24: AUT | J24: 1 | K24: FFG 8.20 Discovery | L24: Discovery: M-IRS2-SD-PA-CH-MPC + Pal FFG | M24: EP | N24: 41111359 | O24: 42391 | P24: 42402 | S24: 42391 | Y24: 1 | Z24: 1 | AS24: F
B25: 1 | F25: 820 | G25: A-1860 | H25: ACME-HATBORO-PS | I25: USA | J25: 1 | K25: FFG 8.20 Expertline | M25: GG | N25: 41108546 | O25: 42394 | P25: 42406 | S25: 42394 | AN25: 1 | AV25: F | AY25: Vérifier si présence simultanée de Deramaix et BNA ==> voir planning / 1 BNA en formation perso sur machine et 1 BNA en formation perso sur PAL
B26: 1 | F26: 924 NT | G26: A-1890 | H26: DENTAS DENIZLI | I26: TUR | K26: FFG 924 NT | L26: M-5F-TS-S-D-PCD-CEH-MPC-DEP + Sécheur IR et UV Duo Technik | M26: PG | N26: 41113306 | O26: 42400 | S26: 42400 | AE26: 1 | AY26: installation and training par FEYZI (même équipe que Karaman)
B27: 1 | F27: 944 RS | G27: A-1887 | H27: SAICA-SEVILLA | I27: ESP | K27: FFG 924 NT Rapidset | M27: PG | N27: 41111973 | O27: 42409 | S27: 42409 | Z27: 1 | AR27: 1 | AY27: PEAUDECERF autonome puis en formation perso pendant RMC (1/3 au 6/3)
B28: 1 | F28: 820 | G28: A-1875 | H28: PACIFIC SANTA ANA | I28: USA | K28: FFG 8.20 Discovery | L28: M-RS2-SD-PA-CH-MPC4-MMPC (DISCOVERY) | M28: GG | N28: 41110199 | O28: 42415 | S28: 42415 | AN28: 1 | AU28: F | AY28: Chaze en superviseur avec Jeff (Elec Interstate) qui tire les cables
B29: 1 | F29: 444 DRO | G29: A-1888 | H29: DUNAPACK RODINA-PLOVDIV | I29: BULG | K29: DRO 16xx NT | M29: EP | N29: 41111632 | O29: 42416 | S29: 42416
B30: 1 | F30: 820 | G30: A-1763 | H30: Magrheb emballage (ex SES SFAX) | I30: ALG | K30: FFG 8.20 Discovery | L30: Discovery: M-IRS2-IRS2-SD-P-CEH | M30: NP | N30: 41101850 | O30: 42418 | S30: 42418 | Y30: 1 | AC30: F | AY30: 2 BAM (Ahmed Barrani et SlahEddine Zarrouki) en formation + Kemal KUKUC en formation
B31: 1 | F31: 618 | G31: A-1835 | H31: STRACCIA COLONNELLA | I31: ITAL | J31: 1 | K31: FFG 618 | L31: MSU-RS4-D-S-PC-CEHNT-MPC +Pal FFG | M31: FG | N31: 41107724 | O31: 42415 | P31: 42432 | S31: 42426 | Z31: 1 | AQ31: 1 | AY31: G+Z supervisé par Aldo Cianchetti puis appui RMC par Laubron / participation stagiaire Guillaume PERRON (BE) sur S11 à 14 (confirmé) / Formation d'un Elec PAL (Johan BARTY - société Mounier) en doublon de Thibaut ROMAND
B32: 1 | F32: 444 DRO | G32: A-1920 | H32: SAICA VALENCIA | I32: ESP | K32: DRO 16xx NT Rapidset | L32: DRO 1628 NT RS miroir | M32: PG | N32: 41113264 | O32: 42428 | S32: 42428 | Y32: 1 | Z32: 1 | AY32: Uiliam Molina (BBR) en formation perso
B33: 1 | F33: 444 DRO | G33: A-1907 | H33: PETIT PARETS | I33: ESP | J33: 1 | K33: DRO 16xx NT Rapidset | L33: M-5IRS-TS-D-RNT-MPC-DEP-INS + Pal DRO + Multiloader | M33: PG | N33: 41113270 | O33: 42435 | P33: 42425 | S33: 42435 | Y33: 1 | Z33: 1 | AB33: F | AY33: Formation perso de 3 BES (Puente - Ferre - méca / Oliviera - élec) en doublon de nos techs.
B34: 1 | F34: 820 | G34: A-1885 | H34: ONDABAT LA MORRA | I34: ITAL | J34: 1 | K34: FFG 8.20 Expert | L34: Expert: M-IRS2-IRS2-IRS2-SD-PA-CH-MPC + Pal FFG | M34: FG | N34: 41113746 | O34: 42436 | P34: 42450 | S34: 42436 | Z34: 1 | AS34: 1 | AW34: F | AY34: Superviseur Méca = Flavien Hubert
B35: 1 | F35: 820 | G35: A-1916 | H35: MPP SYCAMORE | I35: USA | K35: FFG 8.20 Discovery | L35: Discovery | M35: GG | N35: 41112797 | O35: 42452 | S35: 42452 | AV35: 1 | AY35: Deramaix en superviseur / Vérifier si présence simultanée de Deramaix et BNA ==> voir planning
B36: 1 | F36: 820 | G36: A-1915 | H36: SAICA WARRENPOINT | I36: GB | J36: 1 | K36: FFG 8.20 Expertline | L36: 820 EXPERTLINE | M36: NP | N36: 41113246 | O36: 42453 | P36: 42464 | S36: 42453 | Y36: 1 | Z36: 1 | AD36: F | AY36: Simon SHEWARD (méca) en renfort additionnel pdt install puis Andrew Colley (formateur) en renfort additionnel prestation (utilisable par la suite si besoin). / Brice Dronier en formation perso pour démarrage Prefeeder / Patrice MORRIN sur semaine de tests (compteurs)
B37: 1 | F37: 444 DRO | G37: A-1886 | H37: SK Inspirepac (ex -SAICA SEVILLA (ex VELILLA)) | I37: GB | K37: DRO 16xx NT Rapidset | L37: DRO 1628 NT RS | M37: NP | N37: 41111983 | O37: 42455 | S37: 42455 | Z37: 1 | AY37: Steeve + Schone et Chamerat en renfort sur ce chantier difficile (du coup pas d'A3C) / Sean Amos (élec BGL en formation perso)
B38: 1 | F38: 820 | G38: A-1894 | H38: SEYFERT REIMS | I38: FRA | K38: FFG 8.20 Expertline | L38: Expertline : M-IRS2-IRS2-IRS1-SD-PA-CEH + Expertloader | M38: FG | N38: 41117812 | O38: 42466 | S38: 42466 | Y38: 1 | Z38: 1 | AE38: F | AS38: 1 | AY38: OK JFB pour avoir 2 Feyzi en formation
B39: 1 | F39: 444 DRO | G39: A-1899 | H39: GREEN BAY PACKAGING, GREEN BAY | I39: USA | K39: DRO 16xx NT | L39: M-6I-TS-D-MPC3 + sécheurs JB | M39: GG | N39: 41113236 | O39: 42466 | S39: 42466 | Z39: 1 | AN39: 1 | AV39: F | AY39: 1° mobile pour Nassau / 1° 446 aux US
B40: 1 | F40: 924 NT | G40: A-1902 | H40: LAMMERANT LEUZE | I40: BEL | J40: 1 | K40: FFG 924 NT | L40: M-4I-S-D-DV-PCD-CEH-MPC-INS + Pal FFG + Multiloader + Contrôle de viscosité Duo Technik | M40: NP | N40: 41114526 | O40: 42450 | P40: 42478 | S40: 42466 | Y40: 1 | AQ40: 1 | AY40: impératif d'avoir Mécanicien Bobst (Stéphane Charles) + Omar autonome
...

Sheet Feuil1
G1: AOUT | AL1: SEPTEMBRE | BP1: OCTOBRE | BQ1: OCTOBRE | CT1: NOVEMBRE | CV1: NOVEMBRE | DZ1: DECEMBRE
G2: 31 | M2: 32 | T2: Semaine 33 | AA2: Semaine 34 | AH2: Semaine 35 | AO2: Semaine 36 | AV2: Semaine 37 | BC2: Semaine 38 | BJ2: Semaine 39 | BQ2: Semaine 40 | BX2: Semaine 41 | CE2: Semaine 42 | CL2: Semaine 43 | CS2: Semaine 44 | CZ2: Semaine 44 | DG2: Semaine 44 | DN2: Semaine 44 | DU2: Semaine 44 | EB2: Semaine 44 | EI2: Semaine 44 | EP2: Semaine 44 | EW2: Semaine 44
G3: M | H3: M | I3: J | J3: V | K3: S | L3: D | M3: L | N3: M | O3: M | P3: J | Q3: V | R3: S | S3: D | T3: L | U3: M | V3: M | W3: J | X3: V | Y3: S | Z3: D | AA3: L | AB3: M | AC3: M | AD3: J | AE3: V | AF3: S | AG3: D | AH3: L | AI3: M | AJ3: M | AK3: J | AL3: V | AM3: S | AN3: D | AO3: L | AP3: M | AQ3: M | AR3: J | AS3: V | AT3: S | AU3: D | AV3: L | AW3: M | AX3: M | AY3: J | AZ3: V | BA3: S | BB3: D | BC3: L | BD3: M | BE3: M | BF3: J | BG3: V | BH3: S | BI3: D | BJ3: L | BK3: M | BL3: M | BM3: J | BN3: V | BO3: S | BP3: D | BQ3: L | BR3: M | BS3: M | BT3: J | BU3: V | BV3: S | BW3: D | BX3: L | BY3: M | BZ3: M | CA3: J | CB3: V | CC3: S | CD3: D | CE3: L | CF3: M | CG3: M | CH3: J | CI3: V | CJ3: S | CK3: D | CL3: L | CM3: M | CN3: M | CO3: J | CP3: V | CQ3: S | CR3: D | CS3: L | CT3: M | CU3: M | CV3: J | CW3: V | CX3: S | CY3: D | CZ3: L | DA3: M | DB3: M | DC3: J | DD3: V | DE3: S | DF3: D | DG3: L | DH3: M | DI3: M | DJ3: J | DK3: V | DL3: S | DM3: D | DN3: L | DO3: M | DP3: M | DQ3: J | DR3: V | DS3: S | DT3: D | DU3: L | DV3: M | DW3: M | DX3: J | DY3: V | DZ3: S | EA3: D | EB3: L | EC3: M | ED3: M | EE3: J | EF3: V | EG3: S | EH3: D | EI3: L | EJ3: M | EK3: M | EL3: J | EM3: V | EN3: S | EO3: D | EP3: L | EQ3: M | ER3: M | ES3: J | ET3: V | EU3: S | EV3: D | EW3: L | EX3: M | EY3: M | EZ3: J | FA3: V | FB3: S | FC3: D
B4: N° Affaire : | C4: Client : | D4: Pays : | E4: Type de machine : | F4: PAL : | G4: 42948 | H4: 42949 | I4: 42950 | J4: 42951 | K4: 42952 | L4: 42953 | M4: 42954 | N4: 42955 | O4: 42956 | P4: 42957 | Q4: 42958 | R4: 42959 | S4: 42960 | T4: 42961 | U4: 42962 | V4: 42963 | W4: 42964 | X4: 42965 | Y4: 42966 | Z4: 42967 | AA4: 42968 | AB4: 42969 | AC4: 42970 | AD4: 42971 | AE4: 42972 | AF4: 42973 | AG4: 42974 | AH4: 42975 | AI4: 42976 | AJ4: 42977 | AK4: 42978 | AL4: 42979 | AM4: 42980 | AN4: 42981 | AO4: 42982 | AP4: 42983 | AQ4: 42984 | AR4: 42985 | AS4: 42986 | AT4: 42987 | AU4: 42988 | AV4: 42989 | AW4: 42990 | AX4: 42991 | AY4: 42992 | AZ4: 42993 | BA4: 42994 | BB4: 42995 | BC4: 42996 | BD4: 42997 | BE4: 42998 | BF4: 42999 | BG4: 43000 | BH4: 43001 | BI4: 43002 | BJ4: 43003 | BK4: 43004 | BL4: 43005 | BM4: 43006 | BN4: 43007 | BO4: 43008 | BP4: 43009 | BQ4: 43010 | BR4: 43011 | BS4: 43012 | BT4: 43013 | BU4: 43014 | BV4: 43015 | BW4: 43016 | BX4: 43017 | BY4: 43018 | BZ4: 43019 | CA4: 43020 | CB4: 43021 | CC4: 43022 | CD4: 43023 | CE4: 43024 | CF4: 43025 | CG4: 43026 | CH4: 43027 | CI4: 43028 | CJ4: 43029 | CK4: 43030 | CL4: 43031 | CM4: 43032 | CN4: 43033 | CO4: 43034 | CP4: 43035 | CQ4: 43036 | CR4: 43037 | CS4: 43038 | CT4: 43039 | CU4: 43040 | CV4: 43041 | CW4: 43042 | CX4: 43043 | CY4: 43044 | CZ4: 43045 | DA4: 43046 | DB4: 43047 | DC4: 43048 | DD4: 43049 | DE4: 43050 | DF4: 43051 | DG4: 43052 | DH4: 43053 | DI4: 43054 | DJ4: 43055 | DK4: 43056 | DL4: 43057 | DM4: 43058 | DN4: 43059 | DO4: 43060 | DP4: 43061 | DQ4: 43062 | DR4: 43063 | DS4: 43064 | DT4: 43065 | DU4: 43066 | DV4: 43067 | DW4: 43068 | DX4: 43069 | DY4: 43070 | DZ4: 43071 | EA4: 43072 | EB4: 43073 | EC4: 43074 | ED4: 43075 | EE4: 43076 | EF4: 43077 | EG4: 43078 | EH4: 43079 | EI4: 43080 | EJ4: 43081 | EK4: 43082 | EL4: 43083 | EM4: 43084 | EN4: 43085 | EO4: 43086 | EP4: 43087 | EQ4: 43088 | ER4: 43089 | ES4: 43090 | ET4: 43091 | EU4: 43092 | EV4: 43093 | EW4: 43094 | EX4: 43095 | EY4: 43096 | EZ4: 43097 | FA4: 43098 | FB4: 43099 | FC4: 43100
A5: FFG 618 | B5: A-2069 | C5: CHARTA-AUCKLAND | D5: NZ | E5: FFG 618
B6: A-2120 | C6: KLABIN PIRACICABA | D6: BRESIL | E6: FFG 618
B7: A-2119 | C7: KLABIN ITAJAI | D7: BRESIL | E7: FFG 618
B8: A-2118 | C8: BART-SWIECE | D8: PL | E8: FFG 618
A9: FFG 8.20 | B9: A-2044 | C9: ORORA-AUCKLAND | D9: NZ | E9: FFG 8.20 Expertline | F9: 1
B10: A-2042 | C10: VIJAY ANAND-HYDERABAD | D10: INDE | E10: FFG 8.20 Discovery
B11: A-2057 | C11: PRESIDENT-MIDDLETOWN | D11: USA | E11: FFG 8.20 Expertline | F11: 1
B12: A-2090 | C12: WELCH-BRIDGEVIEW-IL | D12: USA | E12: FFG 8.20 Discovery
B13: A-2084 | C13: KRUGER-Lasalle | D13: CAN | E13: FFG 8.20 Expertline | F13: 1
B14: A-2062 | C14: UNIVERSAL | D14: UAE | E14: FFG 8.20 Expert
B15: A-2116 | C15: MONDI Bupack | D15: TCH | E15: FFG 8.20 Expertline | F15: 1
B16: A-2095 | C16: ARKHBUM-PAVLOVO | D16: RUSS | E16: FFG 8.20 Expertline
B17: A-2117 | C17: MONDI Simet | D17: POL | E17: FFG 8.20 Expertline
B18: A-2125 | C18: KAPSTONE-SPANISH FORK | D18: USA | E18: FFG 8.20 Expertline | F18: 1
B19: A-2045 | C19: JP CARTON | D19: CAN | E19: FFG 8.20 Discovery
B20: A-2143 | C20: AVEA-ALGE | D20: ALGE | E20: FFG 8.20 Discovery | F20: ?
B21: A-2132 | C21: DAN UN-HEFEI | D21: CHINE | E21: FFG 8.20 Discovery
B22: A-2144 | C22: KAPSTONE AURORA | D22: USA | E22: FFG 8.20 Expertline | F22: ?
B23: A-2115 | C23: E. SMITH-CONYERS | D23: USA | E23: FFG 8.20 Discovery
B24: A-2113 | C24: JASH-VADODARA | D24: INDE | E24: FFG 8.20 Discovery
B25: A-2126 | C25: GIERLICHS-LEVERKUSEN | D25: DE | E25: FFG 8.20 Expert | F25: ?
B26: A-2134 | C26: ORORA-REVESBY | D26: AU | E26: FFG 8.20 Expertline | F26: ?
A27: 924 NT | B27: A-2049 | C27: LIBERTY-HALTOM CITY | D27: USA | E27: FFG 924 NT Rapidset
B28: A-2078 | C28: SMURFIT Camposanto | D28: ITAL | E28: FFG 924 NT | F28: 1
B29: A-2071 | C29: BIO PAPPEL-CHIHUAHUA | D29: MEX | E29: FFG 924 NT Rapidset
B30: A-2072 | C30: SAICA El prat | D30: ESP | E30: FFG 924 NT Rapidset
B31: A-1950 | C31: HIANG SENG-BANGKOK | D31: THAI | E31: FFG 924 NT Rapidset
B32: A-1956 | C32: AL WATANIA-JEDDAH N°4 | D32: ARAB | E32: FFG 924 NT Rapidset
B33: A-2070 | C33: MEDICINESE | D33: ITAL | E33: FFG 924 NT Rapidset | F33: 1
B34: A-2073 | C34: BIOPAPPEL MP-CHIHUAHUA | D34: MEX | E34: FFG 924 NT Rapidset
B35: A-2112 | C35: PETIT-SAN FELIU | D35: ESP | E35: FFG 924 NT RS | F35: 1
B36: A-2106 | C36: CARTIMBALLO AZZANO DECIMO | D36: ITAL | E36: FFG 924 NT Rapidset | F36: 1
B37: A-2089 | C37: INTERSTATE-LOWELL | D37: USA | E37: FFG 924 NT Rapidset | F37: 1
B38: A-2087 | C38: JELLCO | D38: USA | E38: FFG 924 NT
B39: A-2033 | C39: IMA-DN ASHERAT | D39: ISR | E39: FFG 924 NT Rapidset | F39: 1
B40: A-2142 | C40: SAN GAETANO-LONIGO | D40: ITAL | E40: FFG 924 NT
...

Sheet RI
B4: Nombre de N° Affaire : | C4: Étiquettes de colonnes
B5: Étiquettes de lignes | C5: EP | D5: FG | E5: GG | F5: NP | G5: PG | H5: Total général
B6: 2015 | C6: 1 | D6: 2 | E6: 2 | H6: 5
B7: 11 | C7: 1 | D7: 2 | E7: 1 | H7: 4
B8: 12 | E8: 1 | H8: 1
B9: 2016 | C9: 11 | D9: 15 | E9: 16 | F9: 24 | G9: 22 | H9: 88
B10: 1 | C10: 4 | D10: 6 | E10: 1 | F10: 4 | G10: 2 | H10: 17
B11: 2 | C11: 1 | D11: 1 | E11: 1 | F11: 1 | G11: 2 | H11: 6
B12: 3 | D12: 1 | E12: 1 | F12: 2 | G12: 1 | H12: 5
B13: 4 | C13: 2 | D13: 2 | E13: 1 | F13: 3 | G13: 1 | H13: 9
B14: 5 | E14: 1 | F14: 3 | G14: 3 | H14: 7
B15: 6 | E15: 2 | F15: 1 | G15: 1 | H15: 4
B16: 7 | C16: 1 | E16: 1 | F16: 1 | G16: 4 | H16: 7
B17: 8 | C17: 1 | D17: 1 | E17: 1 | F17: 3 | G17: 2 | H17: 8
B18: 9 | D18: 1 | G18: 2 | H18: 3
B19: 10 | C19: 2 | D19: 2 | E19: 3 | F19: 2 | G19: 1 | H19: 10
B20: 11 | E20: 2 | F20: 2 | G20: 2 | H20: 6
B21: 12 | D21: 1 | E21: 2 | F21: 2 | G21: 1 | H21: 6
B22: 2017 | C22: 11 | D22: 10 | E22: 12 | F22: 14 | G22: 11 | H22: 58
B23: 1 | C23: 1 | D23: 1 | E23: 1 | F23: 3 | G23: 2 | H23: 8
B24: 2 | D24: 4 | E24: 1 | F24: 3 | H24: 8
B25: 3 | C25: 2 | D25: 2 | E25: 2 | F25: 1 | G25: 1 | H25: 8
B26: 4 | C26: 2 | E26: 3 | F26: 3 | G26: 1 | H26: 9
B27: 5 | C27: 1 | D27: 3 | E27: 2 | F27: 4 | G27: 1 | H27: 11
B28: 6 | C28: 2 | E28: 1 | G28: 2 | H28: 5
B29: 7 | C29: 2 | E29: 1 | G29: 3 | H29: 6
B30: 8 | C30: 1 | G30: 1 | H30: 2
B31: 10 | E31: 1 | H31: 1
B32: Total général | C32: 23 | D32: 27 | E32: 30 | F32: 38 | G32: 33 | H32: 151
