Workbook

Sheet REFERENCES
A1: REFERENCES | B1: QUANTITES
A2: 70128805 | B2: =IF(COUNTIF(STOCK!$A$2:$A$7999,A2)>0,TRUE,FALSE) -> FALSE
A3: 70129006 | B3: =IF(COUNTIF(STOCK!$A$2:$A$7999,A3)>0,TRUE,FALSE) -> FALSE
A4: 70129007 | B4: =IF(COUNTIF(STOCK!$A$2:$A$7999,A4)>0,TRUE,FALSE) -> FALSE
A5: 70128357 | B5: =IF(COUNTIF(STOCK!$A$2:$A$7999,A5)>0,TRUE,FALSE) -> FALSE
A6: 94317615 | B6: =IF(COUNTIF(STOCK!$A$2:$A$7999,A6)>0,TRUE,FALSE) -> FALSE
A7: 94317261 | B7: =IF(COUNTIF(STOCK!$A$2:$A$7999,A7)>0,TRUE,FALSE) -> FALSE
A8: 33100047 | B8: =IF(COUNTIF(STOCK!$A$2:$A$7999,A8)>0,TRUE,FALSE) -> FALSE
A9: 97100565 | B9: =IF(COUNTIF(STOCK!$A$2:$A$7999,A9)>0,TRUE,FALSE) -> FALSE
A10: 94318049 | B10: =IF(COUNTIF(STOCK!$A$2:$A$7999,A10)>0,TRUE,FALSE) -> FALSE
A11: 10900103 | B11: =IF(COUNTIF(STOCK!$A$2:$A$7999,A11)>0,TRUE,FALSE) -> FALSE
A12: 94317265 | B12: =IF(COUNTIF(STOCK!$A$2:$A$7999,A12)>0,TRUE,FALSE) -> FALSE
A13: 94317389 | B13: =IF(COUNTIF(STOCK!$A$2:$A$7999,A13)>0,TRUE,FALSE) -> FALSE
... A68: 42860013 | B68: =IF(COUNTIF(STOCK!$A$2:$A$7999,A68)>0,TRUE,FALSE) -> FALSE
A69: 1701305B | B69: =IF(COUNTIF(STOCK!$A$2:$A$7999,A69)>0,TRUE,FALSE) -> FALSE
A70: 42860116 | B70: =IF(COUNTIF(STOCK!$A$2:$A$7999,A70)>0,TRUE,FALSE) -> FALSE
A71: 94317153 | B71: =IF(COUNTIF(STOCK!$A$2:$A$7999,A71)>0,TRUE,FALSE) -> FALSE
A72: 42860100 | B72: =IF(COUNTIF(STOCK!$A$2:$A$7999,A72)>0,TRUE,FALSE) -> FALSE
A73: 42861110 | B73: =IF(COUNTIF(STOCK!$A$2:$A$7999,A73)>0,TRUE,FALSE) -> FALSE
A74: 42860118 | B74: =IF(COUNTIF(STOCK!$A$2:$A$7999,A74)>0,TRUE,FALSE) -> FALSE
A75: 67000833 | B75: =IF(COUNTIF(STOCK!$A$2:$A$7999,A75)>0,TRUE,FALSE) -> FALSE
A76: 91140457 | B76: =IF(COUNTIF(STOCK!$A$2:$A$7999,A76)>0,TRUE,FALSE) -> TRUE
A77: 67005127 | B77: =IF(COUNTIF(STOCK!$A$2:$A$7999,A77)>0,TRUE,FALSE) -> TRUE
A78: 94317611 | B78: =IF(COUNTIF(STOCK!$A$2:$A$7999,A78)>0,TRUE,FALSE) -> TRUE
A79: 94317613 | B79: =IF(COUNTIF(STOCK!$A$2:$A$7999,A79)>0,TRUE,FALSE) -> TRUE
A80: 11300116 | B80: =IF(COUNTIF(STOCK!$A$2:$A$7999,A80)>0,TRUE,FALSE) -> TRUE
A81: 70128906 | B81: =IF(COUNTIF(STOCK!$A$2:$A$7999,A81)>0,TRUE,FALSE) -> TRUE
... A228: 70128900 | B228: =IF(COUNTIF(STOCK!$A$2:$A$7999,A228)>0,TRUE,FALSE) -> FALSE

Sheet STOCK
A1: REFERENCES | B1: Quantité
A2: 94317270 | B2: 3
A3: 94317130 | B3: 6
A4: 94314122 | B4: 1
A5: 94318334 | B5: 7
A6: 94319564 | B6: 2
A7: 94310640 | B7: 2
A8: 94319003 | B8: 4
A9: 94845104 | B9: 6
A10: 70128347 | B10: 4
A11: 91140457 | B11: 3
A12: 67005127 | B12: 9
A13: 94317611 | B13: 11
... A17: 56349865 | B17: 6
