Workbook

Sheet CJP
C1: 1 | D1: 2 | E1: 3 | F1: 4 | G1: 5 | H1: 6 | I1: 7 | J1: 8 | K1: 9 | L1: 10 | M1: 11 | N1: 12 | O1: 13 | P1: 14 | Q1: 15 | R1: 16 | S1: 17 | T1: 18 | U1: 19 | V1: 20 | W1: 21 | X1: 22 | Y1: 23 | Z1: 24 | AA1: 25 | AB1: 26 | AC1: 27 | AD1: 28 | AE1: 29 | AF1: 30 | AG1: 31 | AH1: 32 | AI1: 33 | AJ1: 34 | AK1: 35 | AL1: 36 | AM1: 37 | AN1: 38 | AO1: 39 | AP1: 40 | AQ1: 41 | AR1: 42 | AS1: 43 | AT1: 44 | AU1: 45 | AV1: 46 | AW1: 47 | AX1: 48 | AY1: 49 | AZ1: 50 | BA1: 51 | BB1: 52 | BC1: 53
B2: Temps standard | C2: 43101 | D2: 43108 | E2: 43115 | F2: 43122 | G2: 43129 | H2: 43136 | I2: 43143 | J2: 43150 | K2: 43157 | L2: 43164 | M2: 43171 | N2: 43178 | O2: 43185 | P2: 43192 | Q2: 43199 | R2: 43206 | S2: 43213 | T2: 43220 | U2: 43227 | V2: 43234 | W2: 43241 | X2: 43248 | Y2: 43255 | Z2: 43262 | AA2: 43269 | AB2: 43276 | AC2: 43283 | AD2: 43290 | AE2: 43297 | AF2: 43304 | AG2: 43311 | AH2: 43318 | AI2: 43325 | AJ2: 43332 | AK2: 43339 | AL2: 43346 | AM2: 43353 | AN2: 43360 | AO2: 43367 | AP2: 43374 | AQ2: 43381 | AR2: 43388 | AS2: 43395 | AT2: 43402 | AU2: 43409 | AV2: 43416 | AW2: 43423 | AX2: 43430 | AY2: 43437 | AZ2: 43444 | BA2: 43451 | BB2: 43458 | BC2: 43465
A3: =[1]CJP!$A3 -> PILOTAGE CRÉANCIER/LOCATEUR - Ajout reconnu | B3: =IF(ISNA(VLOOKUP(A3,'Temps standard'!$A$3:$B$54,2,TRUE)),"",VLOOKUP(A3,'Temps standard'!$A$3:$B$54,2,TRUE)) -> 5 | C3: =IFERROR((SUMIFS([1]CJP!$B3:$JB3,[1]CJP!$B$2:$JB$2,C$1))*$B3,"") | D3: =IFERROR((SUMIFS([1]CJP!$B3:$JB3,[1]CJP!$B$2:$JB$2,D$1))*$B3,"") | E3: =IFERROR((SUMIFS([1]CJP!$B3:$JB3,[1]CJP!$B$2:$JB$2,E$1))*$B3,"") | F3: =IFERROR((SUMIFS([1]CJP!$B3:$JB3,[1]CJP!$B$2:$JB$2,F$1))*$B3,"") | G3: =IFERROR((SUMIFS([1]CJP!$B3:$JB3,[1]CJP!$B$2:$JB$2,G$1))*$B3,"") | H3: =IFERROR((SUMIFS([1]CJP!$B3:$JB3,[1]CJP!$B$2:$JB$2,H$1))*$B3,"") | I3: =IFERROR((SUMIFS([1]CJP!$B3:$JB3,[1]CJP!$B$2:$JB$2,I$1))*$B3,"") | J3: =IFERROR((SUMIFS([1]CJP!$B3:$JB3,[1]CJP!$B$2:$JB$2,J$1))*$B3,"") | ... BC3: =IFERROR((SUMIFS([1]CJP!$B3:$JB3,[1]CJP!$B$2:$JB$2,BC$1))*$B3,"")
A4: =[1]CJP!$A4 -> PILOTAGE CRÉANCIER/LOCATEUR - Modification caisse | B4: =IF(ISNA(VLOOKUP(A4,'Temps standard'!$A$3:$B$54,2,TRUE)),"",VLOOKUP(A4,'Temps standard'!$A$3:$B$54,2,TRUE)) -> 5 | C4: =IFERROR((SUMIFS([1]CJP!$B4:$JB4,[1]CJP!$B$2:$JB$2,C$1))*$B4,"") | D4: =IFERROR((SUMIFS([1]CJP!$B4:$JB4,[1]CJP!$B$2:$JB$2,D$1))*$B4,"") | E4: =IFERROR((SUMIFS([1]CJP!$B4:$JB4,[1]CJP!$B$2:$JB$2,E$1))*$B4,"") | F4: =IFERROR((SUMIFS([1]CJP!$B4:$JB4,[1]CJP!$B$2:$JB$2,F$1))*$B4,"") | G4: =IFERROR((SUMIFS([1]CJP!$B4:$JB4,[1]CJP!$B$2:$JB$2,G$1))*$B4,"") | H4: =IFERROR((SUMIFS([1]CJP!$B4:$JB4,[1]CJP!$B$2:$JB$2,H$1))*$B4,"") | I4: =IFERROR((SUMIFS([1]CJP!$B4:$JB4,[1]CJP!$B$2:$JB$2,I$1))*$B4,"") | J4: =IFERROR((SUMIFS([1]CJP!$B4:$JB4,[1]CJP!$B$2:$JB$2,J$1))*$B4,"") | ... BC4: =IFERROR((SUMIFS([1]CJP!$B4:$JB4,[1]CJP!$B$2:$JB$2,BC$1))*$B4,"")
A5: =[1]CJP!$A5 -> SOUTIEN APPLICATIF - RAMMG | B5: =IF(ISNA(VLOOKUP(A5,'Temps standard'!$A$3:$B$54,2,TRUE)),"",VLOOKUP(A5,'Temps standard'!$A$3:$B$54,2,TRUE)) -> 5 | C5: =IFERROR((SUMIFS([1]CJP!$B5:$JB5,[1]CJP!$B$2:$JB$2,C$1))*$B5,"") | D5: =IFERROR((SUMIFS([1]CJP!$B5:$JB5,[1]CJP!$B$2:$JB$2,D$1))*$B5,"") | E5: =IFERROR((SUMIFS([1]CJP!$B5:$JB5,[1]CJP!$B$2:$JB$2,E$1))*$B5,"") | F5: =IFERROR((SUMIFS([1]CJP!$B5:$JB5,[1]CJP!$B$2:$JB$2,F$1))*$B5,"") | G5: =IFERROR((SUMIFS([1]CJP!$B5:$JB5,[1]CJP!$B$2:$JB$2,G$1))*$B5,"") | H5: =IFERROR((SUMIFS([1]CJP!$B5:$JB5,[1]CJP!$B$2:$JB$2,H$1))*$B5,"") | I5: =IFERROR((SUMIFS([1]CJP!$B5:$JB5,[1]CJP!$B$2:$JB$2,I$1))*$B5,"") | J5: =IFERROR((SUMIFS([1]CJP!$B5:$JB5,[1]CJP!$B$2:$JB$2,J$1))*$B5,"") | ... BC5: =IFERROR((SUMIFS([1]CJP!$B5:$JB5,[1]CJP!$B$2:$JB$2,BC$1))*$B5,"")
A6: =[1]CJP!$A6 -> APPI - Clavardage | B6: =IF(ISNA(VLOOKUP(A6,'Temps standard'!$A$3:$B$54,2,TRUE)),"",VLOOKUP(A6,'Temps standard'!$A$3:$B$54,2,TRUE)) | C6: =IFERROR((SUMIFS([1]CJP!$B6:$JB6,[1]CJP!$B$2:$JB$2,C$1))*$B6,"") | D6: =IFERROR((SUMIFS([1]CJP!$B6:$JB6,[1]CJP!$B$2:$JB$2,D$1))*$B6,"") | E6: =IFERROR((SUMIFS([1]CJP!$B6:$JB6,[1]CJP!$B$2:$JB$2,E$1))*$B6,"") | F6: =IFERROR((SUMIFS([1]CJP!$B6:$JB6,[1]CJP!$B$2:$JB$2,F$1))*$B6,"") | G6: =IFERROR((SUMIFS([1]CJP!$B6:$JB6,[1]CJP!$B$2:$JB$2,G$1))*$B6,"") | H6: =IFERROR((SUMIFS([1]CJP!$B6:$JB6,[1]CJP!$B$2:$JB$2,H$1))*$B6,"") | I6: =IFERROR((SUMIFS([1]CJP!$B6:$JB6,[1]CJP!$B$2:$JB$2,I$1))*$B6,"") | J6: =IFERROR((SUMIFS([1]CJP!$B6:$JB6,[1]CJP!$B$2:$JB$2,J$1))*$B6,"") | ... BC6: =IFERROR((SUMIFS([1]CJP!$B6:$JB6,[1]CJP!$B$2:$JB$2,BC$1))*$B6,"")
A7: =[1]CJP!$A7 -> 0 | B7: =IF(ISNA(VLOOKUP(A7,'Temps standard'!$A$3:$B$54,2,TRUE)),"",VLOOKUP(A7,'Temps standard'!$A$3:$B$54,2,TRUE)) | C7: =IFERROR((SUMIFS([1]CJP!$B7:$JB7,[1]CJP!$B$2:$JB$2,C$1))*$B7,"") | D7: =IFERROR((SUMIFS([1]CJP!$B7:$JB7,[1]CJP!$B$2:$JB$2,D$1))*$B7,"") | E7: =IFERROR((SUMIFS([1]CJP!$B7:$JB7,[1]CJP!$B$2:$JB$2,E$1))*$B7,"") | F7: =IFERROR((SUMIFS([1]CJP!$B7:$JB7,[1]CJP!$B$2:$JB$2,F$1))*$B7,"") | G7: =IFERROR((SUMIFS([1]CJP!$B7:$JB7,[1]CJP!$B$2:$JB$2,G$1))*$B7,"") | H7: =IFERROR((SUMIFS([1]CJP!$B7:$JB7,[1]CJP!$B$2:$JB$2,H$1))*$B7,"") | I7: =IFERROR((SUMIFS([1]CJP!$B7:$JB7,[1]CJP!$B$2:$JB$2,I$1))*$B7,"") | J7: =IFERROR((SUMIFS([1]CJP!$B7:$JB7,[1]CJP!$B$2:$JB$2,J$1))*$B7,"") | ... BC7: =IFERROR((SUMIFS([1]CJP!$B7:$JB7,[1]CJP!$B$2:$JB$2,BC$1))*$B7,"")
A8: =[1]CJP!$A8 -> 0 | B8: =IF(ISNA(VLOOKUP(A8,'Temps standard'!$A$3:$B$54,2,TRUE)),"",VLOOKUP(A8,'Temps standard'!$A$3:$B$54,2,TRUE)) | C8: =IFERROR((SUMIFS([1]CJP!$B8:$JB8,[1]CJP!$B$2:$JB$2,C$1))*$B8,"") | D8: =IFERROR((SUMIFS([1]CJP!$B8:$JB8,[1]CJP!$B$2:$JB$2,D$1))*$B8,"") | E8: =IFERROR((SUMIFS([1]CJP!$B8:$JB8,[1]CJP!$B$2:$JB$2,E$1))*$B8,"") | F8: =IFERROR((SUMIFS([1]CJP!$B8:$JB8,[1]CJP!$B$2:$JB$2,F$1))*$B8,"") | G8: =IFERROR((SUMIFS([1]CJP!$B8:$JB8,[1]CJP!$B$2:$JB$2,G$1))*$B8,"") | H8: =IFERROR((SUMIFS([1]CJP!$B8:$JB8,[1]CJP!$B$2:$JB$2,H$1))*$B8,"") | I8: =IFERROR((SUMIFS([1]CJP!$B8:$JB8,[1]CJP!$B$2:$JB$2,I$1))*$B8,"") | J8: =IFERROR((SUMIFS([1]CJP!$B8:$JB8,[1]CJP!$B$2:$JB$2,J$1))*$B8,"") | ... BC8: =IFERROR((SUMIFS([1]CJP!$B8:$JB8,[1]CJP!$B$2:$JB$2,BC$1))*$B8,"")
A9: =[1]CJP!$A9 -> 0 | B9: =IF(ISNA(VLOOKUP(A9,'Temps standard'!$A$3:$B$54,2,TRUE)),"",VLOOKUP(A9,'Temps standard'!$A$3:$B$54,2,TRUE)) | C9: =IFERROR((SUMIFS([1]CJP!$B9:$JB9,[1]CJP!$B$2:$JB$2,C$1))*$B9,"") | D9: =IFERROR((SUMIFS([1]CJP!$B9:$JB9,[1]CJP!$B$2:$JB$2,D$1))*$B9,"") | E9: =IFERROR((SUMIFS([1]CJP!$B9:$JB9,[1]CJP!$B$2:$JB$2,E$1))*$B9,"") | F9: =IFERROR((SUMIFS([1]CJP!$B9:$JB9,[1]CJP!$B$2:$JB$2,F$1))*$B9,"") | G9: =IFERROR((SUMIFS([1]CJP!$B9:$JB9,[1]CJP!$B$2:$JB$2,G$1))*$B9,"") | H9: =IFERROR((SUMIFS([1]CJP!$B9:$JB9,[1]CJP!$B$2:$JB$2,H$1))*$B9,"") | I9: =IFERROR((SUMIFS([1]CJP!$B9:$JB9,[1]CJP!$B$2:$JB$2,I$1))*$B9,"") | J9: =IFERROR((SUMIFS([1]CJP!$B9:$JB9,[1]CJP!$B$2:$JB$2,J$1))*$B9,"") | ... BC9: =IFERROR((SUMIFS([1]CJP!$B9:$JB9,[1]CJP!$B$2:$JB$2,BC$1))*$B9,"")
A10: =[1]CJP!$A10 -> 0 | B10: =IF(ISNA(VLOOKUP(A10,'Temps standard'!$A$3:$B$54,2,TRUE)),"",VLOOKUP(A10,'Temps standard'!$A$3:$B$54,2,TRUE)) | C10: =IFERROR((SUMIFS([1]CJP!$B10:$JB10,[1]CJP!$B$2:$JB$2,C$1))*$B10,"") | D10: =IFERROR((SUMIFS([1]CJP!$B10:$JB10,[1]CJP!$B$2:$JB$2,D$1))*$B10,"") | E10: =IFERROR((SUMIFS([1]CJP!$B10:$JB10,[1]CJP!$B$2:$JB$2,E$1))*$B10,"") | F10: =IFERROR((SUMIFS([1]CJP!$B10:$JB10,[1]CJP!$B$2:$JB$2,F$1))*$B10,"") | G10: =IFERROR((SUMIFS([1]CJP!$B10:$JB10,[1]CJP!$B$2:$JB$2,G$1))*$B10,"") | H10: =IFERROR((SUMIFS([1]CJP!$B10:$JB10,[1]CJP!$B$2:$JB$2,H$1))*$B10,"") | I10: =IFERROR((SUMIFS([1]CJP!$B10:$JB10,[1]CJP!$B$2:$JB$2,I$1))*$B10,"") | J10: =IFERROR((SUMIFS([1]CJP!$B10:$JB10,[1]CJP!$B$2:$JB$2,J$1))*$B10,"") | ... BC10: =IFERROR((SUMIFS([1]CJP!$B10:$JB10,[1]CJP!$B$2:$JB$2,BC$1))*$B10,"")
A11: =[1]CJP!$A11 -> 0 | B11: =IF(ISNA(VLOOKUP(A11,'Temps standard'!$A$3:$B$54,2,TRUE)),"",VLOOKUP(A11,'Temps standard'!$A$3:$B$54,2,TRUE)) | C11: =IFERROR((SUMIFS([1]CJP!$B11:$JB11,[1]CJP!$B$2:$JB$2,C$1))*$B11,"") | D11: =IFERROR((SUMIFS([1]CJP!$B11:$JB11,[1]CJP!$B$2:$JB$2,D$1))*$B11,"") | E11: =IFERROR((SUMIFS([1]CJP!$B11:$JB11,[1]CJP!$B$2:$JB$2,E$1))*$B11,"") | F11: =IFERROR((SUMIFS([1]CJP!$B11:$JB11,[1]CJP!$B$2:$JB$2,F$1))*$B11,"") | G11: =IFERROR((SUMIFS([1]CJP!$B11:$JB11,[1]CJP!$B$2:$JB$2,G$1))*$B11,"") | H11: =IFERROR((SUMIFS([1]CJP!$B11:$JB11,[1]CJP!$B$2:$JB$2,H$1))*$B11,"") | I11: =IFERROR((SUMIFS([1]CJP!$B11:$JB11,[1]CJP!$B$2:$JB$2,I$1))*$B11,"") | J11: =IFERROR((SUMIFS([1]CJP!$B11:$JB11,[1]CJP!$B$2:$JB$2,J$1))*$B11,"") | ... BC11: =IFERROR((SUMIFS([1]CJP!$B11:$JB11,[1]CJP!$B$2:$JB$2,BC$1))*$B11,"")
A12: =[1]CJP!$A12 -> 0 | B12: =IF(ISNA(VLOOKUP(A12,'Temps standard'!$A$3:$B$54,2,TRUE)),"",VLOOKUP(A12,'Temps standard'!$A$3:$B$54,2,TRUE)) | C12: =IFERROR((SUMIFS([1]CJP!$B12:$JB12,[1]CJP!$B$2:$JB$2,C$1))*$B12,"") | D12: =IFERROR((SUMIFS([1]CJP!$B12:$JB12,[1]CJP!$B$2:$JB$2,D$1))*$B12,"") | E12: =IFERROR((SUMIFS([1]CJP!$B12:$JB12,[1]CJP!$B$2:$JB$2,E$1))*$B12,"") | F12: =IFERROR((SUMIFS([1]CJP!$B12:$JB12,[1]CJP!$B$2:$JB$2,F$1))*$B12,"") | G12: =IFERROR((SUMIFS([1]CJP!$B12:$JB12,[1]CJP!$B$2:$JB$2,G$1))*$B12,"") | H12: =IFERROR((SUMIFS([1]CJP!$B12:$JB12,[1]CJP!$B$2:$JB$2,H$1))*$B12,"") | I12: =IFERROR((SUMIFS([1]CJP!$B12:$JB12,[1]CJP!$B$2:$JB$2,I$1))*$B12,"") | J12: =IFERROR((SUMIFS([1]CJP!$B12:$JB12,[1]CJP!$B$2:$JB$2,J$1))*$B12,"") | ... BC12: =IFERROR((SUMIFS([1]CJP!$B12:$JB12,[1]CJP!$B$2:$JB$2,BC$1))*$B12,"")
A13: =[1]CJP!$A13 -> 0 | B13: =IF(ISNA(VLOOKUP(A13,'Temps standard'!$A$3:$B$54,2,TRUE)),"",VLOOKUP(A13,'Temps standard'!$A$3:$B$54,2,TRUE)) | C13: =IFERROR((SUMIFS([1]CJP!$B13:$JB13,[1]CJP!$B$2:$JB$2,C$1))*$B13,"") | D13: =IFERROR((SUMIFS([1]CJP!$B13:$JB13,[1]CJP!$B$2:$JB$2,D$1))*$B13,"") | E13: =IFERROR((SUMIFS([1]CJP!$B13:$JB13,[1]CJP!$B$2:$JB$2,E$1))*$B13,"") | F13: =IFERROR((SUMIFS([1]CJP!$B13:$JB13,[1]CJP!$B$2:$JB$2,F$1))*$B13,"") | G13: =IFERROR((SUMIFS([1]CJP!$B13:$JB13,[1]CJP!$B$2:$JB$2,G$1))*$B13,"") | H13: =IFERROR((SUMIFS([1]CJP!$B13:$JB13,[1]CJP!$B$2:$JB$2,H$1))*$B13,"") | I13: =IFERROR((SUMIFS([1]CJP!$B13:$JB13,[1]CJP!$B$2:$JB$2,I$1))*$B13,"") | J13: =IFERROR((SUMIFS([1]CJP!$B13:$JB13,[1]CJP!$B$2:$JB$2,J$1))*$B13,"") | ... BC13: =IFERROR((SUMIFS([1]CJP!$B13:$JB13,[1]CJP!$B$2:$JB$2,BC$1))*$B13,"")
A14: =[1]CJP!$A14 -> 0 | B14: =IF(ISNA(VLOOKUP(A14,'Temps standard'!$A$3:$B$54,2,TRUE)),"",VLOOKUP(A14,'Temps standard'!$A$3:$B$54,2,TRUE)) | C14: =IFERROR((SUMIFS([1]CJP!$B14:$JB14,[1]CJP!$B$2:$JB$2,C$1))*$B14,"") | D14: =IFERROR((SUMIFS([1]CJP!$B14:$JB14,[1]CJP!$B$2:$JB$2,D$1))*$B14,"") | E14: =IFERROR((SUMIFS([1]CJP!$B14:$JB14,[1]CJP!$B$2:$JB$2,E$1))*$B14,"") | F14: =IFERROR((SUMIFS([1]CJP!$B14:$JB14,[1]CJP!$B$2:$JB$2,F$1))*$B14,"") | G14: =IFERROR((SUMIFS([1]CJP!$B14:$JB14,[1]CJP!$B$2:$JB$2,G$1))*$B14,"") | H14: =IFERROR((SUMIFS([1]CJP!$B14:$JB14,[1]CJP!$B$2:$JB$2,H$1))*$B14,"") | I14: =IFERROR((SUMIFS([1]CJP!$B14:$JB14,[1]CJP!$B$2:$JB$2,I$1))*$B14,"") | J14: =IFERROR((SUMIFS([1]CJP!$B14:$JB14,[1]CJP!$B$2:$JB$2,J$1))*$B14,"") | ... BC14: =IFERROR((SUMIFS([1]CJP!$B14:$JB14,[1]CJP!$B$2:$JB$2,BC$1))*$B14,"")
... A31: =[1]CJP!$A31 -> 0 | B31: =IF(ISNA(VLOOKUP(A31,'Temps standard'!$A$3:$B$54,2,TRUE)),"",VLOOKUP(A31,'Temps standard'!$A$3:$B$54,2,TRUE)) | C31: =IFERROR((SUMIFS([1]CJP!$B31:$JB31,[1]CJP!$B$2:$JB$2,C$1))*$B31,"") | D31: =IFERROR((SUMIFS([1]CJP!$B31:$JB31,[1]CJP!$B$2:$JB$2,D$1))*$B31,"") | E31: =IFERROR((SUMIFS([1]CJP!$B31:$JB31,[1]CJP!$B$2:$JB$2,E$1))*$B31,"") | F31: =IFERROR((SUMIFS([1]CJP!$B31:$JB31,[1]CJP!$B$2:$JB$2,F$1))*$B31,"") | G31: =IFERROR((SUMIFS([1]CJP!$B31:$JB31,[1]CJP!$B$2:$JB$2,G$1))*$B31,"") | H31: =IFERROR((SUMIFS([1]CJP!$B31:$JB31,[1]CJP!$B$2:$JB$2,H$1))*$B31,"") | I31: =IFERROR((SUMIFS([1]CJP!$B31:$JB31,[1]CJP!$B$2:$JB$2,I$1))*$B31,"") | J31: =IFERROR((SUMIFS([1]CJP!$B31:$JB31,[1]CJP!$B$2:$JB$2,J$1))*$B31,"") | ... BC31: =IFERROR((SUMIFS([1]CJP!$B31:$JB31,[1]CJP!$B$2:$JB$2,BC$1))*$B31,"")
A32: =[1]CJP!$A33 -> 0 | B32: =IF(ISNA(VLOOKUP(A32,'Temps standard'!$A$3:$B$54,2,TRUE)),"",VLOOKUP(A32,'Temps standard'!$A$3:$B$54,2,TRUE)) | C32: =IFERROR((SUMIFS([1]CJP!$B33:$JB33,[1]CJP!$B$2:$JB$2,C$1))*$B32,"") | D32: =IFERROR((SUMIFS([1]CJP!$B33:$JB33,[1]CJP!$B$2:$JB$2,D$1))*$B32,"") | E32: =IFERROR((SUMIFS([1]CJP!$B33:$JB33,[1]CJP!$B$2:$JB$2,E$1))*$B32,"") | F32: =IFERROR((SUMIFS([1]CJP!$B33:$JB33,[1]CJP!$B$2:$JB$2,F$1))*$B32,"") | G32: =IFERROR((SUMIFS([1]CJP!$B33:$JB33,[1]CJP!$B$2:$JB$2,G$1))*$B32,"") | H32: =IFERROR((SUMIFS([1]CJP!$B33:$JB33,[1]CJP!$B$2:$JB$2,H$1))*$B32,"") | I32: =IFERROR((SUMIFS([1]CJP!$B33:$JB33,[1]CJP!$B$2:$JB$2,I$1))*$B32,"") | J32: =IFERROR((SUMIFS([1]CJP!$B33:$JB33,[1]CJP!$B$2:$JB$2,J$1))*$B32,"") | ... BC32: =IFERROR((SUMIFS([1]CJP!$B33:$JB33,[1]CJP!$B$2:$JB$2,BC$1))*$B32,"")
A33: Heures travaillées réelles | C33: =SUMIFS([1]CJP!$B$39:$JB$39,[1]CJP!$B$2:$JB$2,C$1) -> #VALUE! | D33: =SUMIFS([1]CJP!$B$39:$JB$39,[1]CJP!$B$2:$JB$2,D$1) -> #VALUE! | E33: =SUMIFS([1]CJP!$B$39:$JB$39,[1]CJP!$B$2:$JB$2,E$1) -> #VALUE! | F33: =SUMIFS([1]CJP!$B$39:$JB$39,[1]CJP!$B$2:$JB$2,F$1) -> #VALUE! | G33: =SUMIFS([1]CJP!$B$39:$JB$39,[1]CJP!$B$2:$JB$2,G$1) -> #VALUE! | H33: =SUMIFS([1]CJP!$B$39:$JB$39,[1]CJP!$B$2:$JB$2,H$1) -> #VALUE! | I33: =SUMIFS([1]CJP!$B$39:$JB$39,[1]CJP!$B$2:$JB$2,I$1) -> #VALUE! | J33: =SUMIFS([1]CJP!$B$39:$JB$39,[1]CJP!$B$2:$JB$2,J$1) -> #VALUE! | ... BC33: =SUMIFS([1]CJP!$B$39:$JB$39,[1]CJP!$B$2:$JB$2,BC$1) -> #VALUE!
A34: Heures calculées selon temps standard | C34: =SUM(C3:C32)/60 -> 0 | D34: =SUM(D3:D32)/60 -> 0 | E34: =SUM(E3:E32)/60 -> 0 | F34: =SUM(F3:F32)/60 -> 0 | G34: =SUM(G3:G32)/60 -> 0 | H34: =SUM(H3:H32)/60 -> 0 | I34: =SUM(I3:I32)/60 -> 0 | J34: =SUM(J3:J32)/60 -> 0 | ... BC34: =SUM(BC3:BC32)/60 -> 0
A35: Performance | C35: =C34/C33 -> #VALUE! | D35: =D34/D33 -> #VALUE! | E35: =E34/E33 -> #VALUE! | F35: =F34/F33 -> #VALUE! | G35: =G34/G33 -> #VALUE! | H35: =H34/H33 -> #VALUE! | I35: =I34/I33 -> #VALUE! | J35: =J34/J33 -> #VALUE! | ... BC35: =BC34/BC33 -> #VALUE!

Sheet CP
C1: 1 | D1: 2 | E1: 3 | F1: 4 | G1: 5 | H1: 6 | I1: 7 | J1: 8 | K1: 9 | L1: 10 | M1: 11 | N1: 12 | O1: 13 | P1: 14 | Q1: 15 | R1: 16 | S1: 17 | T1: 18 | U1: 19 | V1: 20 | W1: 21 | X1: 22 | Y1: 23 | Z1: 24 | AA1: 25 | AB1: 26 | AC1: 27 | AD1: 28 | AE1: 29 | AF1: 30 | AG1: 31 | AH1: 32 | AI1: 33 | AJ1: 34 | AK1: 35 | AL1: 36 | AM1: 37 | AN1: 38 | AO1: 39 | AP1: 40 | AQ1: 41 | AR1: 42 | AS1: 43 | AT1: 44 | AU1: 45 | AV1: 46 | AW1: 47 | AX1: 48 | AY1: 49 | AZ1: 50 | BA1: 51 | BB1: 52 | BC1: 53
B2: Temps standard | C2: 43101 | D2: 43108 | E2: 43115 | F2: 43122 | G2: 43129 | H2: 43136 | I2: 43143 | J2: 43150 | K2: 43157 | L2: 43164 | M2: 43171 | N2: 43178 | O2: 43185 | P2: 43192 | Q2: 43199 | R2: 43206 | S2: 43213 | T2: 43220 | U2: 43227 | V2: 43234 | W2: 43241 | X2: 43248 | Y2: 43255 | Z2: 43262 | AA2: 43269 | AB2: 43276 | AC2: 43283 | AD2: 43290 | AE2: 43297 | AF2: 43304 | AG2: 43311 | AH2: 43318 | AI2: 43325 | AJ2: 43332 | AK2: 43339 | AL2: 43346 | AM2: 43353 | AN2: 43360 | AO2: 43367 | AP2: 43374 | AQ2: 43381 | AR2: 43388 | AS2: 43395 | AT2: 43402 | AU2: 43409 | AV2: 43416 | AW2: 43423 | AX2: 43430 | AY2: 43437 | AZ2: 43444 | BA2: 43451 | BB2: 43458 | BC2: 43465
A3: =[1]CP!$A3 -> 0 | B3: =IF(ISNA(VLOOKUP(A3,'Temps standard'!$A$3:$B$54,2,TRUE)),"",VLOOKUP(A3,'Temps standard'!$A$3:$B$54,2,TRUE)) | C3: =IFERROR((SUMIFS([1]CP!$B3:$JB3,[1]CP!$B$2:$JB$2,C$1))*$B3,"") | D3: =IFERROR((SUMIFS([1]CP!$B3:$JB3,[1]CP!$B$2:$JB$2,D$1))*$B3,"") | E3: =IFERROR((SUMIFS([1]CP!$B3:$JB3,[1]CP!$B$2:$JB$2,E$1))*$B3,"") | F3: =IFERROR((SUMIFS([1]CP!$B3:$JB3,[1]CP!$B$2:$JB$2,F$1))*$B3,"") | G3: =IFERROR((SUMIFS([1]CP!$B3:$JB3,[1]CP!$B$2:$JB$2,G$1))*$B3,"") | H3: =IFERROR((SUMIFS([1]CP!$B3:$JB3,[1]CP!$B$2:$JB$2,H$1))*$B3,"") | I3: =IFERROR((SUMIFS([1]CP!$B3:$JB3,[1]CP!$B$2:$JB$2,I$1))*$B3,"") | J3: =IFERROR((SUMIFS([1]CP!$B3:$JB3,[1]CP!$B$2:$JB$2,J$1))*$B3,"") | ... BC3: =IFERROR((SUMIFS([1]CP!$B3:$JB3,[1]CP!$B$2:$JB$2,BC$1))*$B3,"")
A4: =[1]CP!$A4 -> 0 | B4: =IF(ISNA(VLOOKUP(A4,'Temps standard'!$A$3:$B$54,2,TRUE)),"",VLOOKUP(A4,'Temps standard'!$A$3:$B$54,2,TRUE)) | C4: =IFERROR((SUMIFS([1]CP!$B4:$JB4,[1]CP!$B$2:$JB$2,C$1))*$B4,"") | D4: =IFERROR((SUMIFS([1]CP!$B4:$JB4,[1]CP!$B$2:$JB$2,D$1))*$B4,"") | E4: =IFERROR((SUMIFS([1]CP!$B4:$JB4,[1]CP!$B$2:$JB$2,E$1))*$B4,"") | F4: =IFERROR((SUMIFS([1]CP!$B4:$JB4,[1]CP!$B$2:$JB$2,F$1))*$B4,"") | G4: =IFERROR((SUMIFS([1]CP!$B4:$JB4,[1]CP!$B$2:$JB$2,G$1))*$B4,"") | H4: =IFERROR((SUMIFS([1]CP!$B4:$JB4,[1]CP!$B$2:$JB$2,H$1))*$B4,"") | I4: =IFERROR((SUMIFS([1]CP!$B4:$JB4,[1]CP!$B$2:$JB$2,I$1))*$B4,"") | J4: =IFERROR((SUMIFS([1]CP!$B4:$JB4,[1]CP!$B$2:$JB$2,J$1))*$B4,"") | ... BC4: =IFERROR((SUMIFS([1]CP!$B4:$JB4,[1]CP!$B$2:$JB$2,BC$1))*$B4,"")
A5: =[1]CP!$A5 -> 0 | B5: =IF(ISNA(VLOOKUP(A5,'Temps standard'!$A$3:$B$54,2,TRUE)),"",VLOOKUP(A5,'Temps standard'!$A$3:$B$54,2,TRUE)) | C5: =IFERROR((SUMIFS([1]CP!$B5:$JB5,[1]CP!$B$2:$JB$2,C$1))*$B5,"") | D5: =IFERROR((SUMIFS([1]CP!$B5:$JB5,[1]CP!$B$2:$JB$2,D$1))*$B5,"") | E5: =IFERROR((SUMIFS([1]CP!$B5:$JB5,[1]CP!$B$2:$JB$2,E$1))*$B5,"") | F5: =IFERROR((SUMIFS([1]CP!$B5:$JB5,[1]CP!$B$2:$JB$2,F$1))*$B5,"") | G5: =IFERROR((SUMIFS([1]CP!$B5:$JB5,[1]CP!$B$2:$JB$2,G$1))*$B5,"") | H5: =IFERROR((SUMIFS([1]CP!$B5:$JB5,[1]CP!$B$2:$JB$2,H$1))*$B5,"") | I5: =IFERROR((SUMIFS([1]CP!$B5:$JB5,[1]CP!$B$2:$JB$2,I$1))*$B5,"") | J5: =IFERROR((SUMIFS([1]CP!$B5:$JB5,[1]CP!$B$2:$JB$2,J$1))*$B5,"") | ... BC5: =IFERROR((SUMIFS([1]CP!$B5:$JB5,[1]CP!$B$2:$JB$2,BC$1))*$B5,"")
A6: =[1]CP!$A6 -> 0 | B6: =IF(ISNA(VLOOKUP(A6,'Temps standard'!$A$3:$B$54,2,TRUE)),"",VLOOKUP(A6,'Temps standard'!$A$3:$B$54,2,TRUE)) | C6: =IFERROR((SUMIFS([1]CP!$B6:$JB6,[1]CP!$B$2:$JB$2,C$1))*$B6,"") | D6: =IFERROR((SUMIFS([1]CP!$B6:$JB6,[1]CP!$B$2:$JB$2,D$1))*$B6,"") | E6: =IFERROR((SUMIFS([1]CP!$B6:$JB6,[1]CP!$B$2:$JB$2,E$1))*$B6,"") | F6: =IFERROR((SUMIFS([1]CP!$B6:$JB6,[1]CP!$B$2:$JB$2,F$1))*$B6,"") | G6: =IFERROR((SUMIFS([1]CP!$B6:$JB6,[1]CP!$B$2:$JB$2,G$1))*$B6,"") | H6: =IFERROR((SUMIFS([1]CP!$B6:$JB6,[1]CP!$B$2:$JB$2,H$1))*$B6,"") | I6: =IFERROR((SUMIFS([1]CP!$B6:$JB6,[1]CP!$B$2:$JB$2,I$1))*$B6,"") | J6: =IFERROR((SUMIFS([1]CP!$B6:$JB6,[1]CP!$B$2:$JB$2,J$1))*$B6,"") | ... BC6: =IFERROR((SUMIFS([1]CP!$B6:$JB6,[1]CP!$B$2:$JB$2,BC$1))*$B6,"")
A7: =[1]CP!$A7 -> 0 | B7: =IF(ISNA(VLOOKUP(A7,'Temps standard'!$A$3:$B$54,2,TRUE)),"",VLOOKUP(A7,'Temps standard'!$A$3:$B$54,2,TRUE)) | C7: =IFERROR((SUMIFS([1]CP!$B7:$JB7,[1]CP!$B$2:$JB$2,C$1))*$B7,"") | D7: =IFERROR((SUMIFS([1]CP!$B7:$JB7,[1]CP!$B$2:$JB$2,D$1))*$B7,"") | E7: =IFERROR((SUMIFS([1]CP!$B7:$JB7,[1]CP!$B$2:$JB$2,E$1))*$B7,"") | F7: =IFERROR((SUMIFS([1]CP!$B7:$JB7,[1]CP!$B$2:$JB$2,F$1))*$B7,"") | G7: =IFERROR((SUMIFS([1]CP!$B7:$JB7,[1]CP!$B$2:$JB$2,G$1))*$B7,"") | H7: =IFERROR((SUMIFS([1]CP!$B7:$JB7,[1]CP!$B$2:$JB$2,H$1))*$B7,"") | I7: =IFERROR((SUMIFS([1]CP!$B7:$JB7,[1]CP!$B$2:$JB$2,I$1))*$B7,"") | J7: =IFERROR((SUMIFS([1]CP!$B7:$JB7,[1]CP!$B$2:$JB$2,J$1))*$B7,"") | ... BC7: =IFERROR((SUMIFS([1]CP!$B7:$JB7,[1]CP!$B$2:$JB$2,BC$1))*$B7,"")
A8: =[1]CP!$A8 -> 0 | B8: =IF(ISNA(VLOOKUP(A8,'Temps standard'!$A$3:$B$54,2,TRUE)),"",VLOOKUP(A8,'Temps standard'!$A$3:$B$54,2,TRUE)) | C8: =IFERROR((SUMIFS([1]CP!$B8:$JB8,[1]CP!$B$2:$JB$2,C$1))*$B8,"") | D8: =IFERROR((SUMIFS([1]CP!$B8:$JB8,[1]CP!$B$2:$JB$2,D$1))*$B8,"") | E8: =IFERROR((SUMIFS([1]CP!$B8:$JB8,[1]CP!$B$2:$JB$2,E$1))*$B8,"") | F8: =IFERROR((SUMIFS([1]CP!$B8:$JB8,[1]CP!$B$2:$JB$2,F$1))*$B8,"") | G8: =IFERROR((SUMIFS([1]CP!$B8:$JB8,[1]CP!$B$2:$JB$2,G$1))*$B8,"") | H8: =IFERROR((SUMIFS([1]CP!$B8:$JB8,[1]CP!$B$2:$JB$2,H$1))*$B8,"") | I8: =IFERROR((SUMIFS([1]CP!$B8:$JB8,[1]CP!$B$2:$JB$2,I$1))*$B8,"") | J8: =IFERROR((SUMIFS([1]CP!$B8:$JB8,[1]CP!$B$2:$JB$2,J$1))*$B8,"") | ... BC8: =IFERROR((SUMIFS([1]CP!$B8:$JB8,[1]CP!$B$2:$JB$2,BC$1))*$B8,"")
A9: =[1]CP!$A9 -> 0 | B9: =IF(ISNA(VLOOKUP(A9,'Temps standard'!$A$3:$B$54,2,TRUE)),"",VLOOKUP(A9,'Temps standard'!$A$3:$B$54,2,TRUE)) | C9: =IFERROR((SUMIFS([1]CP!$B9:$JB9,[1]CP!$B$2:$JB$2,C$1))*$B9,"") | D9: =IFERROR((SUMIFS([1]CP!$B9:$JB9,[1]CP!$B$2:$JB$2,D$1))*$B9,"") | E9: =IFERROR((SUMIFS([1]CP!$B9:$JB9,[1]CP!$B$2:$JB$2,E$1))*$B9,"") | F9: =IFERROR((SUMIFS([1]CP!$B9:$JB9,[1]CP!$B$2:$JB$2,F$1))*$B9,"") | G9: =IFERROR((SUMIFS([1]CP!$B9:$JB9,[1]CP!$B$2:$JB$2,G$1))*$B9,"") | H9: =IFERROR((SUMIFS([1]CP!$B9:$JB9,[1]CP!$B$2:$JB$2,H$1))*$B9,"") | I9: =IFERROR((SUMIFS([1]CP!$B9:$JB9,[1]CP!$B$2:$JB$2,I$1))*$B9,"") | J9: =IFERROR((SUMIFS([1]CP!$B9:$JB9,[1]CP!$B$2:$JB$2,J$1))*$B9,"") | ... BC9: =IFERROR((SUMIFS([1]CP!$B9:$JB9,[1]CP!$B$2:$JB$2,BC$1))*$B9,"")
A10: =[1]CP!$A10 -> 0 | B10: =IF(ISNA(VLOOKUP(A10,'Temps standard'!$A$3:$B$54,2,TRUE)),"",VLOOKUP(A10,'Temps standard'!$A$3:$B$54,2,TRUE)) | C10: =IFERROR((SUMIFS([1]CP!$B10:$JB10,[1]CP!$B$2:$JB$2,C$1))*$B10,"") | D10: =IFERROR((SUMIFS([1]CP!$B10:$JB10,[1]CP!$B$2:$JB$2,D$1))*$B10,"") | E10: =IFERROR((SUMIFS([1]CP!$B10:$JB10,[1]CP!$B$2:$JB$2,E$1))*$B10,"") | F10: =IFERROR((SUMIFS([1]CP!$B10:$JB10,[1]CP!$B$2:$JB$2,F$1))*$B10,"") | G10: =IFERROR((SUMIFS([1]CP!$B10:$JB10,[1]CP!$B$2:$JB$2,G$1))*$B10,"") | H10: =IFERROR((SUMIFS([1]CP!$B10:$JB10,[1]CP!$B$2:$JB$2,H$1))*$B10,"") | I10: =IFERROR((SUMIFS([1]CP!$B10:$JB10,[1]CP!$B$2:$JB$2,I$1))*$B10,"") | J10: =IFERROR((SUMIFS([1]CP!$B10:$JB10,[1]CP!$B$2:$JB$2,J$1))*$B10,"") | ... BC10: =IFERROR((SUMIFS([1]CP!$B10:$JB10,[1]CP!$B$2:$JB$2,BC$1))*$B10,"")
A11: =[1]CP!$A11 -> 0 | B11: =IF(ISNA(VLOOKUP(A11,'Temps standard'!$A$3:$B$54,2,TRUE)),"",VLOOKUP(A11,'Temps standard'!$A$3:$B$54,2,TRUE)) | C11: =IFERROR((SUMIFS([1]CP!$B11:$JB11,[1]CP!$B$2:$JB$2,C$1))*$B11,"") | D11: =IFERROR((SUMIFS([1]CP!$B11:$JB11,[1]CP!$B$2:$JB$2,D$1))*$B11,"") | E11: =IFERROR((SUMIFS([1]CP!$B11:$JB11,[1]CP!$B$2:$JB$2,E$1))*$B11,"") | F11: =IFERROR((SUMIFS([1]CP!$B11:$JB11,[1]CP!$B$2:$JB$2,F$1))*$B11,"") | G11: =IFERROR((SUMIFS([1]CP!$B11:$JB11,[1]CP!$B$2:$JB$2,G$1))*$B11,"") | H11: =IFERROR((SUMIFS([1]CP!$B11:$JB11,[1]CP!$B$2:$JB$2,H$1))*$B11,"") | I11: =IFERROR((SUMIFS([1]CP!$B11:$JB11,[1]CP!$B$2:$JB$2,I$1))*$B11,"") | J11: =IFERROR((SUMIFS([1]CP!$B11:$JB11,[1]CP!$B$2:$JB$2,J$1))*$B11,"") | ... BC11: =IFERROR((SUMIFS([1]CP!$B11:$JB11,[1]CP!$B$2:$JB$2,BC$1))*$B11,"")
A12: =[1]CP!$A12 -> 0 | B12: =IF(ISNA(VLOOKUP(A12,'Temps standard'!$A$3:$B$54,2,TRUE)),"",VLOOKUP(A12,'Temps standard'!$A$3:$B$54,2,TRUE)) | C12: =IFERROR((SUMIFS([1]CP!$B12:$JB12,[1]CP!$B$2:$JB$2,C$1))*$B12,"") | D12: =IFERROR((SUMIFS([1]CP!$B12:$JB12,[1]CP!$B$2:$JB$2,D$1))*$B12,"") | E12: =IFERROR((SUMIFS([1]CP!$B12:$JB12,[1]CP!$B$2:$JB$2,E$1))*$B12,"") | F12: =IFERROR((SUMIFS([1]CP!$B12:$JB12,[1]CP!$B$2:$JB$2,F$1))*$B12,"") | G12: =IFERROR((SUMIFS([1]CP!$B12:$JB12,[1]CP!$B$2:$JB$2,G$1))*$B12,"") | H12: =IFERROR((SUMIFS([1]CP!$B12:$JB12,[1]CP!$B$2:$JB$2,H$1))*$B12,"") | I12: =IFERROR((SUMIFS([1]CP!$B12:$JB12,[1]CP!$B$2:$JB$2,I$1))*$B12,"") | J12: =IFERROR((SUMIFS([1]CP!$B12:$JB12,[1]CP!$B$2:$JB$2,J$1))*$B12,"") | ... BC12: =IFERROR((SUMIFS([1]CP!$B12:$JB12,[1]CP!$B$2:$JB$2,BC$1))*$B12,"")
A13: =[1]CP!$A13 -> 0 | B13: =IF(ISNA(VLOOKUP(A13,'Temps standard'!$A$3:$B$54,2,TRUE)),"",VLOOKUP(A13,'Temps standard'!$A$3:$B$54,2,TRUE)) | C13: =IFERROR((SUMIFS([1]CP!$B13:$JB13,[1]CP!$B$2:$JB$2,C$1))*$B13,"") | D13: =IFERROR((SUMIFS([1]CP!$B13:$JB13,[1]CP!$B$2:$JB$2,D$1))*$B13,"") | E13: =IFERROR((SUMIFS([1]CP!$B13:$JB13,[1]CP!$B$2:$JB$2,E$1))*$B13,"") | F13: =IFERROR((SUMIFS([1]CP!$B13:$JB13,[1]CP!$B$2:$JB$2,F$1))*$B13,"") | G13: =IFERROR((SUMIFS([1]CP!$B13:$JB13,[1]CP!$B$2:$JB$2,G$1))*$B13,"") | H13: =IFERROR((SUMIFS([1]CP!$B13:$JB13,[1]CP!$B$2:$JB$2,H$1))*$B13,"") | I13: =IFERROR((SUMIFS([1]CP!$B13:$JB13,[1]CP!$B$2:$JB$2,I$1))*$B13,"") | J13: =IFERROR((SUMIFS([1]CP!$B13:$JB13,[1]CP!$B$2:$JB$2,J$1))*$B13,"") | ... BC13: =IFERROR((SUMIFS([1]CP!$B13:$JB13,[1]CP!$B$2:$JB$2,BC$1))*$B13,"")
A14: =[1]CP!$A14 -> 0 | B14: =IF(ISNA(VLOOKUP(A14,'Temps standard'!$A$3:$B$54,2,TRUE)),"",VLOOKUP(A14,'Temps standard'!$A$3:$B$54,2,TRUE)) | C14: =IFERROR((SUMIFS([1]CP!$B14:$JB14,[1]CP!$B$2:$JB$2,C$1))*$B14,"") | D14: =IFERROR((SUMIFS([1]CP!$B14:$JB14,[1]CP!$B$2:$JB$2,D$1))*$B14,"") | E14: =IFERROR((SUMIFS([1]CP!$B14:$JB14,[1]CP!$B$2:$JB$2,E$1))*$B14,"") | F14: =IFERROR((SUMIFS([1]CP!$B14:$JB14,[1]CP!$B$2:$JB$2,F$1))*$B14,"") | G14: =IFERROR((SUMIFS([1]CP!$B14:$JB14,[1]CP!$B$2:$JB$2,G$1))*$B14,"") | H14: =IFERROR((SUMIFS([1]CP!$B14:$JB14,[1]CP!$B$2:$JB$2,H$1))*$B14,"") | I14: =IFERROR((SUMIFS([1]CP!$B14:$JB14,[1]CP!$B$2:$JB$2,I$1))*$B14,"") | J14: =IFERROR((SUMIFS([1]CP!$B14:$JB14,[1]CP!$B$2:$JB$2,J$1))*$B14,"") | ... BC14: =IFERROR((SUMIFS([1]CP!$B14:$JB14,[1]CP!$B$2:$JB$2,BC$1))*$B14,"")
... A31: =[1]CP!$A31 -> 0 | B31: =IF(ISNA(VLOOKUP(A31,'Temps standard'!$A$3:$B$54,2,TRUE)),"",VLOOKUP(A31,'Temps standard'!$A$3:$B$54,2,TRUE)) | C31: =IFERROR((SUMIFS([1]CP!$B31:$JB31,[1]CP!$B$2:$JB$2,C$1))*$B31,"") | D31: =IFERROR((SUMIFS([1]CP!$B31:$JB31,[1]CP!$B$2:$JB$2,D$1))*$B31,"") | E31: =IFERROR((SUMIFS([1]CP!$B31:$JB31,[1]CP!$B$2:$JB$2,E$1))*$B31,"") | F31: =IFERROR((SUMIFS([1]CP!$B31:$JB31,[1]CP!$B$2:$JB$2,F$1))*$B31,"") | G31: =IFERROR((SUMIFS([1]CP!$B31:$JB31,[1]CP!$B$2:$JB$2,G$1))*$B31,"") | H31: =IFERROR((SUMIFS([1]CP!$B31:$JB31,[1]CP!$B$2:$JB$2,H$1))*$B31,"") | I31: =IFERROR((SUMIFS([1]CP!$B31:$JB31,[1]CP!$B$2:$JB$2,I$1))*$B31,"") | J31: =IFERROR((SUMIFS([1]CP!$B31:$JB31,[1]CP!$B$2:$JB$2,J$1))*$B31,"") | ... BC31: =IFERROR((SUMIFS([1]CP!$B31:$JB31,[1]CP!$B$2:$JB$2,BC$1))*$B31,"")
A32: =[1]CP!$A33 -> 0 | B32: =IF(ISNA(VLOOKUP(A32,'Temps standard'!$A$3:$B$54,2,TRUE)),"",VLOOKUP(A32,'Temps standard'!$A$3:$B$54,2,TRUE)) | C32: =IFERROR((SUMIFS([1]CP!$B33:$JB33,[1]CP!$B$2:$JB$2,C$1))*$B32,"") | D32: =IFERROR((SUMIFS([1]CP!$B33:$JB33,[1]CP!$B$2:$JB$2,D$1))*$B32,"") | E32: =IFERROR((SUMIFS([1]CP!$B33:$JB33,[1]CP!$B$2:$JB$2,E$1))*$B32,"") | F32: =IFERROR((SUMIFS([1]CP!$B33:$JB33,[1]CP!$B$2:$JB$2,F$1))*$B32,"") | G32: =IFERROR((SUMIFS([1]CP!$B33:$JB33,[1]CP!$B$2:$JB$2,G$1))*$B32,"") | H32: =IFERROR((SUMIFS([1]CP!$B33:$JB33,[1]CP!$B$2:$JB$2,H$1))*$B32,"") | I32: =IFERROR((SUMIFS([1]CP!$B33:$JB33,[1]CP!$B$2:$JB$2,I$1))*$B32,"") | J32: =IFERROR((SUMIFS([1]CP!$B33:$JB33,[1]CP!$B$2:$JB$2,J$1))*$B32,"") | ... BC32: =IFERROR((SUMIFS([1]CP!$B33:$JB33,[1]CP!$B$2:$JB$2,BC$1))*$B32,"")
A33: Heures travaillées réelles | C33: =SUMIFS([1]CP!$B$39:$JB$39,[1]CP!$B$2:$JB$2,C$1) -> #VALUE! | D33: =SUMIFS([1]CP!$B$39:$JB$39,[1]CP!$B$2:$JB$2,D$1) -> #VALUE! | E33: =SUMIFS([1]CP!$B$39:$JB$39,[1]CP!$B$2:$JB$2,E$1) -> #VALUE! | F33: =SUMIFS([1]CP!$B$39:$JB$39,[1]CP!$B$2:$JB$2,F$1) -> #VALUE! | G33: =SUMIFS([1]CP!$B$39:$JB$39,[1]CP!$B$2:$JB$2,G$1) -> #VALUE! | H33: =SUMIFS([1]CP!$B$39:$JB$39,[1]CP!$B$2:$JB$2,H$1) -> #VALUE! | I33: =SUMIFS([1]CP!$B$39:$JB$39,[1]CP!$B$2:$JB$2,I$1) -> #VALUE! | J33: =SUMIFS([1]CP!$B$39:$JB$39,[1]CP!$B$2:$JB$2,J$1) -> #VALUE! | ... BC33: =SUMIFS([1]CP!$B$39:$JB$39,[1]CP!$B$2:$JB$2,BC$1) -> #VALUE!
A34: Heures calculées selon temps standard | C34: =SUM(C3:C32)/60 -> 0 | D34: =SUM(D3:D32)/60 -> 0 | E34: =SUM(E3:E32)/60 -> 0 | F34: =SUM(F3:F32)/60 -> 0 | G34: =SUM(G3:G32)/60 -> 0 | H34: =SUM(H3:H32)/60 -> 0 | I34: =SUM(I3:I32)/60 -> 0 | J34: =SUM(J3:J32)/60 -> 0 | ... BC34: =SUM(BC3:BC32)/60 -> 0
A35: Performance | C35: =C34/C33 -> #VALUE! | D35: =D34/D33 -> #VALUE! | E35: =E34/E33 -> #VALUE! | F35: =F34/F33 -> #VALUE! | G35: =G34/G33 -> #VALUE! | H35: =H34/H33 -> #VALUE! | I35: =I34/I33 -> #VALUE! | J35: =J34/J33 -> #VALUE! | ... BC35: =BC34/BC33 -> #VALUE!

Sheet FG
C1: 1 | D1: 2 | E1: 3 | F1: 4 | G1: 5 | H1: 6 | I1: 7 | J1: 8 | K1: 9 | L1: 10 | M1: 11 | N1: 12 | O1: 13 | P1: 14 | Q1: 15 | R1: 16 | S1: 17 | T1: 18 | U1: 19 | V1: 20 | W1: 21 | X1: 22 | Y1: 23 | Z1: 24 | AA1: 25 | AB1: 26 | AC1: 27 | AD1: 28 | AE1: 29 | AF1: 30 | AG1: 31 | AH1: 32 | AI1: 33 | AJ1: 34 | AK1: 35 | AL1: 36 | AM1: 37 | AN1: 38 | AO1: 39 | AP1: 40 | AQ1: 41 | AR1: 42 | AS1: 43 | AT1: 44 | AU1: 45 | AV1: 46 | AW1: 47 | AX1: 48 | AY1: 49 | AZ1: 50 | BA1: 51 | BB1: 52 | BC1: 53
B2: Temps standard | C2: 43101 | D2: 43108 | E2: 43115 | F2: 43122 | G2: 43129 | H2: 43136 | I2: 43143 | J2: 43150 | K2: 43157 | L2: 43164 | M2: 43171 | N2: 43178 | O2: 43185 | P2: 43192 | Q2: 43199 | R2: 43206 | S2: 43213 | T2: 43220 | U2: 43227 | V2: 43234 | W2: 43241 | X2: 43248 | Y2: 43255 | Z2: 43262 | AA2: 43269 | AB2: 43276 | AC2: 43283 | AD2: 43290 | AE2: 43297 | AF2: 43304 | AG2: 43311 | AH2: 43318 | AI2: 43325 | AJ2: 43332 | AK2: 43339 | AL2: 43346 | AM2: 43353 | AN2: 43360 | AO2: 43367 | AP2: 43374 | AQ2: 43381 | AR2: 43388 | AS2: 43395 | AT2: 43402 | AU2: 43409 | AV2: 43416 | AW2: 43423 | AX2: 43430 | AY2: 43437 | AZ2: 43444 | BA2: 43451 | BB2: 43458 | BC2: 43465
A3: =[1]FG!$A3 -> 0 | B3: =IF(ISNA(VLOOKUP(A3,'Temps standard'!$A$3:$B$54,2,TRUE)),"",VLOOKUP(A3,'Temps standard'!$A$3:$B$54,2,TRUE)) | C3: =IFERROR((SUMIFS([1]FG!$B3:$JB3,[1]FG!$B$2:$JB$2,C$1))*$B3,"") | D3: =IFERROR((SUMIFS([1]FG!$B3:$JB3,[1]FG!$B$2:$JB$2,D$1))*$B3,"") | E3: =IFERROR((SUMIFS([1]FG!$B3:$JB3,[1]FG!$B$2:$JB$2,E$1))*$B3,"") | F3: =IFERROR((SUMIFS([1]FG!$B3:$JB3,[1]FG!$B$2:$JB$2,F$1))*$B3,"") | G3: =IFERROR((SUMIFS([1]FG!$B3:$JB3,[1]FG!$B$2:$JB$2,G$1))*$B3,"") | H3: =IFERROR((SUMIFS([1]FG!$B3:$JB3,[1]FG!$B$2:$JB$2,H$1))*$B3,"") | I3: =IFERROR((SUMIFS([1]FG!$B3:$JB3,[1]FG!$B$2:$JB$2,I$1))*$B3,"") | J3: =IFERROR((SUMIFS([1]FG!$B3:$JB3,[1]FG!$B$2:$JB$2,J$1))*$B3,"") | ... BC3: =IFERROR((SUMIFS([1]FG!$B3:$JB3,[1]FG!$B$2:$JB$2,BC$1))*$B3,"")
A4: =[1]FG!$A4 -> 0 | B4: =IF(ISNA(VLOOKUP(A4,'Temps standard'!$A$3:$B$54,2,TRUE)),"",VLOOKUP(A4,'Temps standard'!$A$3:$B$54,2,TRUE)) | C4: =IFERROR((SUMIFS([1]FG!$B4:$JB4,[1]FG!$B$2:$JB$2,C$1))*$B4,"") | D4: =IFERROR((SUMIFS([1]FG!$B4:$JB4,[1]FG!$B$2:$JB$2,D$1))*$B4,"") | E4: =IFERROR((SUMIFS([1]FG!$B4:$JB4,[1]FG!$B$2:$JB$2,E$1))*$B4,"") | F4: =IFERROR((SUMIFS([1]FG!$B4:$JB4,[1]FG!$B$2:$JB$2,F$1))*$B4,"") | G4: =IFERROR((SUMIFS([1]FG!$B4:$JB4,[1]FG!$B$2:$JB$2,G$1))*$B4,"") | H4: =IFERROR((SUMIFS([1]FG!$B4:$JB4,[1]FG!$B$2:$JB$2,H$1))*$B4,"") | I4: =IFERROR((SUMIFS([1]FG!$B4:$JB4,[1]FG!$B$2:$JB$2,I$1))*$B4,"") | J4: =IFERROR((SUMIFS([1]FG!$B4:$JB4,[1]FG!$B$2:$JB$2,J$1))*$B4,"") | ... BC4: =IFERROR((SUMIFS([1]FG!$B4:$JB4,[1]FG!$B$2:$JB$2,BC$1))*$B4,"")
A5: =[1]FG!$A5 -> 0 | B5: =IF(ISNA(VLOOKUP(A5,'Temps standard'!$A$3:$B$54,2,TRUE)),"",VLOOKUP(A5,'Temps standard'!$A$3:$B$54,2,TRUE)) | C5: =IFERROR((SUMIFS([1]FG!$B5:$JB5,[1]FG!$B$2:$JB$2,C$1))*$B5,"") | D5: =IFERROR((SUMIFS([1]FG!$B5:$JB5,[1]FG!$B$2:$JB$2,D$1))*$B5,"") | E5: =IFERROR((SUMIFS([1]FG!$B5:$JB5,[1]FG!$B$2:$JB$2,E$1))*$B5,"") | F5: =IFERROR((SUMIFS([1]FG!$B5:$JB5,[1]FG!$B$2:$JB$2,F$1))*$B5,"") | G5: =IFERROR((SUMIFS([1]FG!$B5:$JB5,[1]FG!$B$2:$JB$2,G$1))*$B5,"") | H5: =IFERROR((SUMIFS([1]FG!$B5:$JB5,[1]FG!$B$2:$JB$2,H$1))*$B5,"") | I5: =IFERROR((SUMIFS([1]FG!$B5:$JB5,[1]FG!$B$2:$JB$2,I$1))*$B5,"") | J5: =IFERROR((SUMIFS([1]FG!$B5:$JB5,[1]FG!$B$2:$JB$2,J$1))*$B5,"") | ... BC5: =IFERROR((SUMIFS([1]FG!$B5:$JB5,[1]FG!$B$2:$JB$2,BC$1))*$B5,"")
A6: =[1]FG!$A6 -> 0 | B6: =IF(ISNA(VLOOKUP(A6,'Temps standard'!$A$3:$B$54,2,TRUE)),"",VLOOKUP(A6,'Temps standard'!$A$3:$B$54,2,TRUE)) | C6: =IFERROR((SUMIFS([1]FG!$B6:$JB6,[1]FG!$B$2:$JB$2,C$1))*$B6,"") | D6: =IFERROR((SUMIFS([1]FG!$B6:$JB6,[1]FG!$B$2:$JB$2,D$1))*$B6,"") | E6: =IFERROR((SUMIFS([1]FG!$B6:$JB6,[1]FG!$B$2:$JB$2,E$1))*$B6,"") | F6: =IFERROR((SUMIFS([1]FG!$B6:$JB6,[1]FG!$B$2:$JB$2,F$1))*$B6,"") | G6: =IFERROR((SUMIFS([1]FG!$B6:$JB6,[1]FG!$B$2:$JB$2,G$1))*$B6,"") | H6: =IFERROR((SUMIFS([1]FG!$B6:$JB6,[1]FG!$B$2:$JB$2,H$1))*$B6,"") | I6: =IFERROR((SUMIFS([1]FG!$B6:$JB6,[1]FG!$B$2:$JB$2,I$1))*$B6,"") | J6: =IFERROR((SUMIFS([1]FG!$B6:$JB6,[1]FG!$B$2:$JB$2,J$1))*$B6,"") | ... BC6: =IFERROR((SUMIFS([1]FG!$B6:$JB6,[1]FG!$B$2:$JB$2,BC$1))*$B6,"")
A7: =[1]FG!$A7 -> 0 | B7: =IF(ISNA(VLOOKUP(A7,'Temps standard'!$A$3:$B$54,2,TRUE)),"",VLOOKUP(A7,'Temps standard'!$A$3:$B$54,2,TRUE)) | C7: =IFERROR((SUMIFS([1]FG!$B7:$JB7,[1]FG!$B$2:$JB$2,C$1))*$B7,"") | D7: =IFERROR((SUMIFS([1]FG!$B7:$JB7,[1]FG!$B$2:$JB$2,D$1))*$B7,"") | E7: =IFERROR((SUMIFS([1]FG!$B7:$JB7,[1]FG!$B$2:$JB$2,E$1))*$B7,"") | F7: =IFERROR((SUMIFS([1]FG!$B7:$JB7,[1]FG!$B$2:$JB$2,F$1))*$B7,"") | G7: =IFERROR((SUMIFS([1]FG!$B7:$JB7,[1]FG!$B$2:$JB$2,G$1))*$B7,"") | H7: =IFERROR((SUMIFS([1]FG!$B7:$JB7,[1]FG!$B$2:$JB$2,H$1))*$B7,"") | I7: =IFERROR((SUMIFS([1]FG!$B7:$JB7,[1]FG!$B$2:$JB$2,I$1))*$B7,"") | J7: =IFERROR((SUMIFS([1]FG!$B7:$JB7,[1]FG!$B$2:$JB$2,J$1))*$B7,"") | ... BC7: =IFERROR((SUMIFS([1]FG!$B7:$JB7,[1]FG!$B$2:$JB$2,BC$1))*$B7,"")
A8: =[1]FG!$A8 -> 0 | B8: =IF(ISNA(VLOOKUP(A8,'Temps standard'!$A$3:$B$54,2,TRUE)),"",VLOOKUP(A8,'Temps standard'!$A$3:$B$54,2,TRUE)) | C8: =IFERROR((SUMIFS([1]FG!$B8:$JB8,[1]FG!$B$2:$JB$2,C$1))*$B8,"") | D8: =IFERROR((SUMIFS([1]FG!$B8:$JB8,[1]FG!$B$2:$JB$2,D$1))*$B8,"") | E8: =IFERROR((SUMIFS([1]FG!$B8:$JB8,[1]FG!$B$2:$JB$2,E$1))*$B8,"") | F8: =IFERROR((SUMIFS([1]FG!$B8:$JB8,[1]FG!$B$2:$JB$2,F$1))*$B8,"") | G8: =IFERROR((SUMIFS([1]FG!$B8:$JB8,[1]FG!$B$2:$JB$2,G$1))*$B8,"") | H8: =IFERROR((SUMIFS([1]FG!$B8:$JB8,[1]FG!$B$2:$JB$2,H$1))*$B8,"") | I8: =IFERROR((SUMIFS([1]FG!$B8:$JB8,[1]FG!$B$2:$JB$2,I$1))*$B8,"") | J8: =IFERROR((SUMIFS([1]FG!$B8:$JB8,[1]FG!$B$2:$JB$2,J$1))*$B8,"") | ... BC8: =IFERROR((SUMIFS([1]FG!$B8:$JB8,[1]FG!$B$2:$JB$2,BC$1))*$B8,"")
A9: =[1]FG!$A9 -> 0 | B9: =IF(ISNA(VLOOKUP(A9,'Temps standard'!$A$3:$B$54,2,TRUE)),"",VLOOKUP(A9,'Temps standard'!$A$3:$B$54,2,TRUE)) | C9: =IFERROR((SUMIFS([1]FG!$B9:$JB9,[1]FG!$B$2:$JB$2,C$1))*$B9,"") | D9: =IFERROR((SUMIFS([1]FG!$B9:$JB9,[1]FG!$B$2:$JB$2,D$1))*$B9,"") | E9: =IFERROR((SUMIFS([1]FG!$B9:$JB9,[1]FG!$B$2:$JB$2,E$1))*$B9,"") | F9: =IFERROR((SUMIFS([1]FG!$B9:$JB9,[1]FG!$B$2:$JB$2,F$1))*$B9,"") | G9: =IFERROR((SUMIFS([1]FG!$B9:$JB9,[1]FG!$B$2:$JB$2,G$1))*$B9,"") | H9: =IFERROR((SUMIFS([1]FG!$B9:$JB9,[1]FG!$B$2:$JB$2,H$1))*$B9,"") | I9: =IFERROR((SUMIFS([1]FG!$B9:$JB9,[1]FG!$B$2:$JB$2,I$1))*$B9,"") | J9: =IFERROR((SUMIFS([1]FG!$B9:$JB9,[1]FG!$B$2:$JB$2,J$1))*$B9,"") | ... BC9: =IFERROR((SUMIFS([1]FG!$B9:$JB9,[1]FG!$B$2:$JB$2,BC$1))*$B9,"")
A10: =[1]FG!$A10 -> 0 | B10: =IF(ISNA(VLOOKUP(A10,'Temps standard'!$A$3:$B$54,2,TRUE)),"",VLOOKUP(A10,'Temps standard'!$A$3:$B$54,2,TRUE)) | C10: =IFERROR((SUMIFS([1]FG!$B10:$JB10,[1]FG!$B$2:$JB$2,C$1))*$B10,"") | D10: =IFERROR((SUMIFS([1]FG!$B10:$JB10,[1]FG!$B$2:$JB$2,D$1))*$B10,"") | E10: =IFERROR((SUMIFS([1]FG!$B10:$JB10,[1]FG!$B$2:$JB$2,E$1))*$B10,"") | F10: =IFERROR((SUMIFS([1]FG!$B10:$JB10,[1]FG!$B$2:$JB$2,F$1))*$B10,"") | G10: =IFERROR((SUMIFS([1]FG!$B10:$JB10,[1]FG!$B$2:$JB$2,G$1))*$B10,"") | H10: =IFERROR((SUMIFS([1]FG!$B10:$JB10,[1]FG!$B$2:$JB$2,H$1))*$B10,"") | I10: =IFERROR((SUMIFS([1]FG!$B10:$JB10,[1]FG!$B$2:$JB$2,I$1))*$B10,"") | J10: =IFERROR((SUMIFS([1]FG!$B10:$JB10,[1]FG!$B$2:$JB$2,J$1))*$B10,"") | ... BC10: =IFERROR((SUMIFS([1]FG!$B10:$JB10,[1]FG!$B$2:$JB$2,BC$1))*$B10,"")
A11: =[1]FG!$A11 -> 0 | B11: =IF(ISNA(VLOOKUP(A11,'Temps standard'!$A$3:$B$54,2,TRUE)),"",VLOOKUP(A11,'Temps standard'!$A$3:$B$54,2,TRUE)) | C11: =IFERROR((SUMIFS([1]FG!$B11:$JB11,[1]FG!$B$2:$JB$2,C$1))*$B11,"") | D11: =IFERROR((SUMIFS([1]FG!$B11:$JB11,[1]FG!$B$2:$JB$2,D$1))*$B11,"") | E11: =IFERROR((SUMIFS([1]FG!$B11:$JB11,[1]FG!$B$2:$JB$2,E$1))*$B11,"") | F11: =IFERROR((SUMIFS([1]FG!$B11:$JB11,[1]FG!$B$2:$JB$2,F$1))*$B11,"") | G11: =IFERROR((SUMIFS([1]FG!$B11:$JB11,[1]FG!$B$2:$JB$2,G$1))*$B11,"") | H11: =IFERROR((SUMIFS([1]FG!$B11:$JB11,[1]FG!$B$2:$JB$2,H$1))*$B11,"") | I11: =IFERROR((SUMIFS([1]FG!$B11:$JB11,[1]FG!$B$2:$JB$2,I$1))*$B11,"") | J11: =IFERROR((SUMIFS([1]FG!$B11:$JB11,[1]FG!$B$2:$JB$2,J$1))*$B11,"") | ... BC11: =IFERROR((SUMIFS([1]FG!$B11:$JB11,[1]FG!$B$2:$JB$2,BC$1))*$B11,"")
A12: =[1]FG!$A12 -> 0 | B12: =IF(ISNA(VLOOKUP(A12,'Temps standard'!$A$3:$B$54,2,TRUE)),"",VLOOKUP(A12,'Temps standard'!$A$3:$B$54,2,TRUE)) | C12: =IFERROR((SUMIFS([1]FG!$B12:$JB12,[1]FG!$B$2:$JB$2,C$1))*$B12,"") | D12: =IFERROR((SUMIFS([1]FG!$B12:$JB12,[1]FG!$B$2:$JB$2,D$1))*$B12,"") | E12: =IFERROR((SUMIFS([1]FG!$B12:$JB12,[1]FG!$B$2:$JB$2,E$1))*$B12,"") | F12: =IFERROR((SUMIFS([1]FG!$B12:$JB12,[1]FG!$B$2:$JB$2,F$1))*$B12,"") | G12: =IFERROR((SUMIFS([1]FG!$B12:$JB12,[1]FG!$B$2:$JB$2,G$1))*$B12,"") | H12: =IFERROR((SUMIFS([1]FG!$B12:$JB12,[1]FG!$B$2:$JB$2,H$1))*$B12,"") | I12: =IFERROR((SUMIFS([1]FG!$B12:$JB12,[1]FG!$B$2:$JB$2,I$1))*$B12,"") | J12: =IFERROR((SUMIFS([1]FG!$B12:$JB12,[1]FG!$B$2:$JB$2,J$1))*$B12,"") | ... BC12: =IFERROR((SUMIFS([1]FG!$B12:$JB12,[1]FG!$B$2:$JB$2,BC$1))*$B12,"")
A13: =[1]FG!$A13 -> 0 | B13: =IF(ISNA(VLOOKUP(A13,'Temps standard'!$A$3:$B$54,2,TRUE)),"",VLOOKUP(A13,'Temps standard'!$A$3:$B$54,2,TRUE)) | C13: =IFERROR((SUMIFS([1]FG!$B13:$JB13,[1]FG!$B$2:$JB$2,C$1))*$B13,"") | D13: =IFERROR((SUMIFS([1]FG!$B13:$JB13,[1]FG!$B$2:$JB$2,D$1))*$B13,"") | E13: =IFERROR((SUMIFS([1]FG!$B13:$JB13,[1]FG!$B$2:$JB$2,E$1))*$B13,"") | F13: =IFERROR((SUMIFS([1]FG!$B13:$JB13,[1]FG!$B$2:$JB$2,F$1))*$B13,"") | G13: =IFERROR((SUMIFS([1]FG!$B13:$JB13,[1]FG!$B$2:$JB$2,G$1))*$B13,"") | H13: =IFERROR((SUMIFS([1]FG!$B13:$JB13,[1]FG!$B$2:$JB$2,H$1))*$B13,"") | I13: =IFERROR((SUMIFS([1]FG!$B13:$JB13,[1]FG!$B$2:$JB$2,I$1))*$B13,"") | J13: =IFERROR((SUMIFS([1]FG!$B13:$JB13,[1]FG!$B$2:$JB$2,J$1))*$B13,"") | ... BC13: =IFERROR((SUMIFS([1]FG!$B13:$JB13,[1]FG!$B$2:$JB$2,BC$1))*$B13,"")
A14: =[1]FG!$A14 -> 0 | B14: =IF(ISNA(VLOOKUP(A14,'Temps standard'!$A$3:$B$54,2,TRUE)),"",VLOOKUP(A14,'Temps standard'!$A$3:$B$54,2,TRUE)) | C14: =IFERROR((SUMIFS([1]FG!$B14:$JB14,[1]FG!$B$2:$JB$2,C$1))*$B14,"") | D14: =IFERROR((SUMIFS([1]FG!$B14:$JB14,[1]FG!$B$2:$JB$2,D$1))*$B14,"") | E14: =IFERROR((SUMIFS([1]FG!$B14:$JB14,[1]FG!$B$2:$JB$2,E$1))*$B14,"") | F14: =IFERROR((SUMIFS([1]FG!$B14:$JB14,[1]FG!$B$2:$JB$2,F$1))*$B14,"") | G14: =IFERROR((SUMIFS([1]FG!$B14:$JB14,[1]FG!$B$2:$JB$2,G$1))*$B14,"") | H14: =IFERROR((SUMIFS([1]FG!$B14:$JB14,[1]FG!$B$2:$JB$2,H$1))*$B14,"") | I14: =IFERROR((SUMIFS([1]FG!$B14:$JB14,[1]FG!$B$2:$JB$2,I$1))*$B14,"") | J14: =IFERROR((SUMIFS([1]FG!$B14:$JB14,[1]FG!$B$2:$JB$2,J$1))*$B14,"") | ... BC14: =IFERROR((SUMIFS([1]FG!$B14:$JB14,[1]FG!$B$2:$JB$2,BC$1))*$B14,"")
... A31: =[1]FG!$A31 -> 0 | B31: =IF(ISNA(VLOOKUP(A31,'Temps standard'!$A$3:$B$54,2,TRUE)),"",VLOOKUP(A31,'Temps standard'!$A$3:$B$54,2,TRUE)) | C31: =IFERROR((SUMIFS([1]FG!$B31:$JB31,[1]FG!$B$2:$JB$2,C$1))*$B31,"") | D31: =IFERROR((SUMIFS([1]FG!$B31:$JB31,[1]FG!$B$2:$JB$2,D$1))*$B31,"") | E31: =IFERROR((SUMIFS([1]FG!$B31:$JB31,[1]FG!$B$2:$JB$2,E$1))*$B31,"") | F31: =IFERROR((SUMIFS([1]FG!$B31:$JB31,[1]FG!$B$2:$JB$2,F$1))*$B31,"") | G31: =IFERROR((SUMIFS([1]FG!$B31:$JB31,[1]FG!$B$2:$JB$2,G$1))*$B31,"") | H31: =IFERROR((SUMIFS([1]FG!$B31:$JB31,[1]FG!$B$2:$JB$2,H$1))*$B31,"") | I31: =IFERROR((SUMIFS([1]FG!$B31:$JB31,[1]FG!$B$2:$JB$2,I$1))*$B31,"") | J31: =IFERROR((SUMIFS([1]FG!$B31:$JB31,[1]FG!$B$2:$JB$2,J$1))*$B31,"") | ... BC31: =IFERROR((SUMIFS([1]FG!$B31:$JB31,[1]FG!$B$2:$JB$2,BC$1))*$B31,"")
A32: =[1]FG!$A33 -> 0 | B32: =IF(ISNA(VLOOKUP(A32,'Temps standard'!$A$3:$B$54,2,TRUE)),"",VLOOKUP(A32,'Temps standard'!$A$3:$B$54,2,TRUE)) | C32: =IFERROR((SUMIFS([1]FG!$B33:$JB33,[1]FG!$B$2:$JB$2,C$1))*$B32,"") | D32: =IFERROR((SUMIFS([1]FG!$B33:$JB33,[1]FG!$B$2:$JB$2,D$1))*$B32,"") | E32: =IFERROR((SUMIFS([1]FG!$B33:$JB33,[1]FG!$B$2:$JB$2,E$1))*$B32,"") | F32: =IFERROR((SUMIFS([1]FG!$B33:$JB33,[1]FG!$B$2:$JB$2,F$1))*$B32,"") | G32: =IFERROR((SUMIFS([1]FG!$B33:$JB33,[1]FG!$B$2:$JB$2,G$1))*$B32,"") | H32: =IFERROR((SUMIFS([1]FG!$B33:$JB33,[1]FG!$B$2:$JB$2,H$1))*$B32,"") | I32: =IFERROR((SUMIFS([1]FG!$B33:$JB33,[1]FG!$B$2:$JB$2,I$1))*$B32,"") | J32: =IFERROR((SUMIFS([1]FG!$B33:$JB33,[1]FG!$B$2:$JB$2,J$1))*$B32,"") | ... BC32: =IFERROR((SUMIFS([1]FG!$B33:$JB33,[1]FG!$B$2:$JB$2,BC$1))*$B32,"")
A33: Heures travaillées réelles | C33: =SUMIFS([1]FG!$B$39:$JB$39,[1]FG!$B$2:$JB$2,C$1) -> #VALUE! | D33: =SUMIFS([1]FG!$B$39:$JB$39,[1]FG!$B$2:$JB$2,D$1) -> #VALUE! | E33: =SUMIFS([1]FG!$B$39:$JB$39,[1]FG!$B$2:$JB$2,E$1) -> #VALUE! | F33: =SUMIFS([1]FG!$B$39:$JB$39,[1]FG!$B$2:$JB$2,F$1) -> #VALUE! | G33: =SUMIFS([1]FG!$B$39:$JB$39,[1]FG!$B$2:$JB$2,G$1) -> #VALUE! | H33: =SUMIFS([1]FG!$B$39:$JB$39,[1]FG!$B$2:$JB$2,H$1) -> #VALUE! | I33: =SUMIFS([1]FG!$B$39:$JB$39,[1]FG!$B$2:$JB$2,I$1) -> #VALUE! | J33: =SUMIFS([1]FG!$B$39:$JB$39,[1]FG!$B$2:$JB$2,J$1) -> #VALUE! | ... BC33: =SUMIFS([1]FG!$B$39:$JB$39,[1]FG!$B$2:$JB$2,BC$1) -> #VALUE!
A34: Heures calculées selon temps standard | C34: =SUM(C3:C32)/60 -> 0 | D34: =SUM(D3:D32)/60 -> 0 | E34: =SUM(E3:E32)/60 -> 0 | F34: =SUM(F3:F32)/60 -> 0 | G34: =SUM(G3:G32)/60 -> 0 | H34: =SUM(H3:H32)/60 -> 0 | I34: =SUM(I3:I32)/60 -> 0 | J34: =SUM(J3:J32)/60 -> 0 | ... BC34: =SUM(BC3:BC32)/60 -> 0
A35: Performance | C35: =C34/C33 -> #VALUE! | D35: =D34/D33 -> #VALUE! | E35: =E34/E33 -> #VALUE! | F35: =F34/F33 -> #VALUE! | G35: =G34/G33 -> #VALUE! | H35: =H34/H33 -> #VALUE! | I35: =I34/I33 -> #VALUE! | J35: =J34/J33 -> #VALUE! | ... BC35: =BC34/BC33 -> #VALUE!

Sheet LE
C1: 1 | D1: 2 | E1: 3 | F1: 4 | G1: 5 | H1: 6 | I1: 7 | J1: 8 | K1: 9 | L1: 10 | M1: 11 | N1: 12 | O1: 13 | P1: 14 | Q1: 15 | R1: 16 | S1: 17 | T1: 18 | U1: 19 | V1: 20 | W1: 21 | X1: 22 | Y1: 23 | Z1: 24 | AA1: 25 | AB1: 26 | AC1: 27 | AD1: 28 | AE1: 29 | AF1: 30 | AG1: 31 | AH1: 32 | AI1: 33 | AJ1: 34 | AK1: 35 | AL1: 36 | AM1: 37 | AN1: 38 | AO1: 39 | AP1: 40 | AQ1: 41 | AR1: 42 | AS1: 43 | AT1: 44 | AU1: 45 | AV1: 46 | AW1: 47 | AX1: 48 | AY1: 49 | AZ1: 50 | BA1: 51 | BB1: 52 | BC1: 53
B2: Temps standard | C2: 43101 | D2: 43108 | E2: 43115 | F2: 43122 | G2: 43129 | H2: 43136 | I2: 43143 | J2: 43150 | K2: 43157 | L2: 43164 | M2: 43171 | N2: 43178 | O2: 43185 | P2: 43192 | Q2: 43199 | R2: 43206 | S2: 43213 | T2: 43220 | U2: 43227 | V2: 43234 | W2: 43241 | X2: 43248 | Y2: 43255 | Z2: 43262 | AA2: 43269 | AB2: 43276 | AC2: 43283 | AD2: 43290 | AE2: 43297 | AF2: 43304 | AG2: 43311 | AH2: 43318 | AI2: 43325 | AJ2: 43332 | AK2: 43339 | AL2: 43346 | AM2: 43353 | AN2: 43360 | AO2: 43367 | AP2: 43374 | AQ2: 43381 | AR2: 43388 | AS2: 43395 | AT2: 43402 | AU2: 43409 | AV2: 43416 | AW2: 43423 | AX2: 43430 | AY2: 43437 | AZ2: 43444 | BA2: 43451 | BB2: 43458 | BC2: 43465
A3: =[1]LE!$A3 -> PILOTAGE UTILISATEUR - Arrivée | B3: =IF(ISNA(VLOOKUP(A3,'Temps standard'!$A$3:$B$54,2,TRUE)),"",VLOOKUP(A3,'Temps standard'!$A$3:$B$54,2,TRUE)) -> 20 | C3: =IFERROR((SUMIFS([1]LE!$B3:$JB3,[1]LE!$B$2:$JB$2,C$1))*$B3,"") | D3: =IFERROR((SUMIFS([1]LE!$B3:$JB3,[1]LE!$B$2:$JB$2,D$1))*$B3,"") | E3: =IFERROR((SUMIFS([1]LE!$B3:$JB3,[1]LE!$B$2:$JB$2,E$1))*$B3,"") | F3: =IFERROR((SUMIFS([1]LE!$B3:$JB3,[1]LE!$B$2:$JB$2,F$1))*$B3,"") | G3: =IFERROR((SUMIFS([1]LE!$B3:$JB3,[1]LE!$B$2:$JB$2,G$1))*$B3,"") | H3: =IFERROR((SUMIFS([1]LE!$B3:$JB3,[1]LE!$B$2:$JB$2,H$1))*$B3,"") | I3: =IFERROR((SUMIFS([1]LE!$B3:$JB3,[1]LE!$B$2:$JB$2,I$1))*$B3,"") | J3: =IFERROR((SUMIFS([1]LE!$B3:$JB3,[1]LE!$B$2:$JB$2,J$1))*$B3,"") | ... BC3: =IFERROR((SUMIFS([1]LE!$B3:$JB3,[1]LE!$B$2:$JB$2,BC$1))*$B3,"")
A4: =[1]LE!$A4 -> PILOTAGE CRÉANCIER/LOCATEUR - Modification | B4: =IF(ISNA(VLOOKUP(A4,'Temps standard'!$A$3:$B$54,2,TRUE)),"",VLOOKUP(A4,'Temps standard'!$A$3:$B$54,2,TRUE)) -> 5 | C4: =IFERROR((SUMIFS([1]LE!$B4:$JB4,[1]LE!$B$2:$JB$2,C$1))*$B4,"") | D4: =IFERROR((SUMIFS([1]LE!$B4:$JB4,[1]LE!$B$2:$JB$2,D$1))*$B4,"") | E4: =IFERROR((SUMIFS([1]LE!$B4:$JB4,[1]LE!$B$2:$JB$2,E$1))*$B4,"") | F4: =IFERROR((SUMIFS([1]LE!$B4:$JB4,[1]LE!$B$2:$JB$2,F$1))*$B4,"") | G4: =IFERROR((SUMIFS([1]LE!$B4:$JB4,[1]LE!$B$2:$JB$2,G$1))*$B4,"") | H4: =IFERROR((SUMIFS([1]LE!$B4:$JB4,[1]LE!$B$2:$JB$2,H$1))*$B4,"") | I4: =IFERROR((SUMIFS([1]LE!$B4:$JB4,[1]LE!$B$2:$JB$2,I$1))*$B4,"") | J4: =IFERROR((SUMIFS([1]LE!$B4:$JB4,[1]LE!$B$2:$JB$2,J$1))*$B4,"") | ... BC4: =IFERROR((SUMIFS([1]LE!$B4:$JB4,[1]LE!$B$2:$JB$2,BC$1))*$B4,"")
A5: =[1]LE!$A5 -> SOUTIEN APPLICATIF - OGS | B5: =IF(ISNA(VLOOKUP(A5,'Temps standard'!$A$3:$B$54,2,TRUE)),"",VLOOKUP(A5,'Temps standard'!$A$3:$B$54,2,TRUE)) -> 5 | C5: =IFERROR((SUMIFS([1]LE!$B5:$JB5,[1]LE!$B$2:$JB$2,C$1))*$B5,"") | D5: =IFERROR((SUMIFS([1]LE!$B5:$JB5,[1]LE!$B$2:$JB$2,D$1))*$B5,"") | E5: =IFERROR((SUMIFS([1]LE!$B5:$JB5,[1]LE!$B$2:$JB$2,E$1))*$B5,"") | F5: =IFERROR((SUMIFS([1]LE!$B5:$JB5,[1]LE!$B$2:$JB$2,F$1))*$B5,"") | G5: =IFERROR((SUMIFS([1]LE!$B5:$JB5,[1]LE!$B$2:$JB$2,G$1))*$B5,"") | H5: =IFERROR((SUMIFS([1]LE!$B5:$JB5,[1]LE!$B$2:$JB$2,H$1))*$B5,"") | I5: =IFERROR((SUMIFS([1]LE!$B5:$JB5,[1]LE!$B$2:$JB$2,I$1))*$B5,"") | J5: =IFERROR((SUMIFS([1]LE!$B5:$JB5,[1]LE!$B$2:$JB$2,J$1))*$B5,"") | ... BC5: =IFERROR((SUMIFS([1]LE!$B5:$JB5,[1]LE!$B$2:$JB$2,BC$1))*$B5,"")
A6: =[1]LE!$A6 -> PILOTAGE REPRÉSENTANT - Ajout | B6: =IF(ISNA(VLOOKUP(A6,'Temps standard'!$A$3:$B$54,2,TRUE)),"",VLOOKUP(A6,'Temps standard'!$A$3:$B$54,2,TRUE)) -> 15 | C6: =IFERROR((SUMIFS([1]LE!$B6:$JB6,[1]LE!$B$2:$JB$2,C$1))*$B6,"") | D6: =IFERROR((SUMIFS([1]LE!$B6:$JB6,[1]LE!$B$2:$JB$2,D$1))*$B6,"") | E6: =IFERROR((SUMIFS([1]LE!$B6:$JB6,[1]LE!$B$2:$JB$2,E$1))*$B6,"") | F6: =IFERROR((SUMIFS([1]LE!$B6:$JB6,[1]LE!$B$2:$JB$2,F$1))*$B6,"") | G6: =IFERROR((SUMIFS([1]LE!$B6:$JB6,[1]LE!$B$2:$JB$2,G$1))*$B6,"") | H6: =IFERROR((SUMIFS([1]LE!$B6:$JB6,[1]LE!$B$2:$JB$2,H$1))*$B6,"") | I6: =IFERROR((SUMIFS([1]LE!$B6:$JB6,[1]LE!$B$2:$JB$2,I$1))*$B6,"") | J6: =IFERROR((SUMIFS([1]LE!$B6:$JB6,[1]LE!$B$2:$JB$2,J$1))*$B6,"") | ... BC6: =IFERROR((SUMIFS([1]LE!$B6:$JB6,[1]LE!$B$2:$JB$2,BC$1))*$B6,"")
A7: =[1]LE!$A7 -> PILOTAGE CRÉANCIER/LOCATEUR - Fusion institution | B7: =IF(ISNA(VLOOKUP(A7,'Temps standard'!$A$3:$B$54,2,TRUE)),"",VLOOKUP(A7,'Temps standard'!$A$3:$B$54,2,TRUE)) -> 5 | C7: =IFERROR((SUMIFS([1]LE!$B7:$JB7,[1]LE!$B$2:$JB$2,C$1))*$B7,"") | D7: =IFERROR((SUMIFS([1]LE!$B7:$JB7,[1]LE!$B$2:$JB$2,D$1))*$B7,"") | E7: =IFERROR((SUMIFS([1]LE!$B7:$JB7,[1]LE!$B$2:$JB$2,E$1))*$B7,"") | F7: =IFERROR((SUMIFS([1]LE!$B7:$JB7,[1]LE!$B$2:$JB$2,F$1))*$B7,"") | G7: =IFERROR((SUMIFS([1]LE!$B7:$JB7,[1]LE!$B$2:$JB$2,G$1))*$B7,"") | H7: =IFERROR((SUMIFS([1]LE!$B7:$JB7,[1]LE!$B$2:$JB$2,H$1))*$B7,"") | I7: =IFERROR((SUMIFS([1]LE!$B7:$JB7,[1]LE!$B$2:$JB$2,I$1))*$B7,"") | J7: =IFERROR((SUMIFS([1]LE!$B7:$JB7,[1]LE!$B$2:$JB$2,J$1))*$B7,"") | ... BC7: =IFERROR((SUMIFS([1]LE!$B7:$JB7,[1]LE!$B$2:$JB$2,BC$1))*$B7,"")
A8: =[1]LE!$A8 -> PILOTAGE CRÉANCIER/LOCATEUR - Modification caisse | B8: =IF(ISNA(VLOOKUP(A8,'Temps standard'!$A$3:$B$54,2,TRUE)),"",VLOOKUP(A8,'Temps standard'!$A$3:$B$54,2,TRUE)) -> 5 | C8: =IFERROR((SUMIFS([1]LE!$B8:$JB8,[1]LE!$B$2:$JB$2,C$1))*$B8,"") | D8: =IFERROR((SUMIFS([1]LE!$B8:$JB8,[1]LE!$B$2:$JB$2,D$1))*$B8,"") | E8: =IFERROR((SUMIFS([1]LE!$B8:$JB8,[1]LE!$B$2:$JB$2,E$1))*$B8,"") | F8: =IFERROR((SUMIFS([1]LE!$B8:$JB8,[1]LE!$B$2:$JB$2,F$1))*$B8,"") | G8: =IFERROR((SUMIFS([1]LE!$B8:$JB8,[1]LE!$B$2:$JB$2,G$1))*$B8,"") | H8: =IFERROR((SUMIFS([1]LE!$B8:$JB8,[1]LE!$B$2:$JB$2,H$1))*$B8,"") | I8: =IFERROR((SUMIFS([1]LE!$B8:$JB8,[1]LE!$B$2:$JB$2,I$1))*$B8,"") | J8: =IFERROR((SUMIFS([1]LE!$B8:$JB8,[1]LE!$B$2:$JB$2,J$1))*$B8,"") | ... BC8: =IFERROR((SUMIFS([1]LE!$B8:$JB8,[1]LE!$B$2:$JB$2,BC$1))*$B8,"")
A9: =[1]LE!$A9 -> PILOTAGE NUMÉRO DE SÉRIE - Véhicule incomplet | B9: =IF(ISNA(VLOOKUP(A9,'Temps standard'!$A$3:$B$54,2,TRUE)),"",VLOOKUP(A9,'Temps standard'!$A$3:$B$54,2,TRUE)) -> 15 | C9: =IFERROR((SUMIFS([1]LE!$B9:$JB9,[1]LE!$B$2:$JB$2,C$1))*$B9,"") | D9: =IFERROR((SUMIFS([1]LE!$B9:$JB9,[1]LE!$B$2:$JB$2,D$1))*$B9,"") | E9: =IFERROR((SUMIFS([1]LE!$B9:$JB9,[1]LE!$B$2:$JB$2,E$1))*$B9,"") | F9: =IFERROR((SUMIFS([1]LE!$B9:$JB9,[1]LE!$B$2:$JB$2,F$1))*$B9,"") | G9: =IFERROR((SUMIFS([1]LE!$B9:$JB9,[1]LE!$B$2:$JB$2,G$1))*$B9,"") | H9: =IFERROR((SUMIFS([1]LE!$B9:$JB9,[1]LE!$B$2:$JB$2,H$1))*$B9,"") | I9: =IFERROR((SUMIFS([1]LE!$B9:$JB9,[1]LE!$B$2:$JB$2,I$1))*$B9,"") | J9: =IFERROR((SUMIFS([1]LE!$B9:$JB9,[1]LE!$B$2:$JB$2,J$1))*$B9,"") | ... BC9: =IFERROR((SUMIFS([1]LE!$B9:$JB9,[1]LE!$B$2:$JB$2,BC$1))*$B9,"")
A10: =[1]LE!$A10 -> SOUTIEN APPLICATIF - SADg | B10: =IF(ISNA(VLOOKUP(A10,'Temps standard'!$A$3:$B$54,2,TRUE)),"",VLOOKUP(A10,'Temps standard'!$A$3:$B$54,2,TRUE)) -> 5 | C10: =IFERROR((SUMIFS([1]LE!$B10:$JB10,[1]LE!$B$2:$JB$2,C$1))*$B10,"") | D10: =IFERROR((SUMIFS([1]LE!$B10:$JB10,[1]LE!$B$2:$JB$2,D$1))*$B10,"") | E10: =IFERROR((SUMIFS([1]LE!$B10:$JB10,[1]LE!$B$2:$JB$2,E$1))*$B10,"") | F10: =IFERROR((SUMIFS([1]LE!$B10:$JB10,[1]LE!$B$2:$JB$2,F$1))*$B10,"") | G10: =IFERROR((SUMIFS([1]LE!$B10:$JB10,[1]LE!$B$2:$JB$2,G$1))*$B10,"") | H10: =IFERROR((SUMIFS([1]LE!$B10:$JB10,[1]LE!$B$2:$JB$2,H$1))*$B10,"") | I10: =IFERROR((SUMIFS([1]LE!$B10:$JB10,[1]LE!$B$2:$JB$2,I$1))*$B10,"") | J10: =IFERROR((SUMIFS([1]LE!$B10:$JB10,[1]LE!$B$2:$JB$2,J$1))*$B10,"") | ... BC10: =IFERROR((SUMIFS([1]LE!$B10:$JB10,[1]LE!$B$2:$JB$2,BC$1))*$B10,"")
A11: =[1]LE!$A11 -> PILOTAGE CRÉANCIER/LOCATEUR - Ajout reconnu | B11: =IF(ISNA(VLOOKUP(A11,'Temps standard'!$A$3:$B$54,2,TRUE)),"",VLOOKUP(A11,'Temps standard'!$A$3:$B$54,2,TRUE)) -> 5 | C11: =IFERROR((SUMIFS([1]LE!$B11:$JB11,[1]LE!$B$2:$JB$2,C$1))*$B11,"") | D11: =IFERROR((SUMIFS([1]LE!$B11:$JB11,[1]LE!$B$2:$JB$2,D$1))*$B11,"") | E11: =IFERROR((SUMIFS([1]LE!$B11:$JB11,[1]LE!$B$2:$JB$2,E$1))*$B11,"") | F11: =IFERROR((SUMIFS([1]LE!$B11:$JB11,[1]LE!$B$2:$JB$2,F$1))*$B11,"") | G11: =IFERROR((SUMIFS([1]LE!$B11:$JB11,[1]LE!$B$2:$JB$2,G$1))*$B11,"") | H11: =IFERROR((SUMIFS([1]LE!$B11:$JB11,[1]LE!$B$2:$JB$2,H$1))*$B11,"") | I11: =IFERROR((SUMIFS([1]LE!$B11:$JB11,[1]LE!$B$2:$JB$2,I$1))*$B11,"") | J11: =IFERROR((SUMIFS([1]LE!$B11:$JB11,[1]LE!$B$2:$JB$2,J$1))*$B11,"") | ... BC11: =IFERROR((SUMIFS([1]LE!$B11:$JB11,[1]LE!$B$2:$JB$2,BC$1))*$B11,"")
A12: =[1]LE!$A12 -> 0 | B12: =IF(ISNA(VLOOKUP(A12,'Temps standard'!$A$3:$B$54,2,TRUE)),"",VLOOKUP(A12,'Temps standard'!$A$3:$B$54,2,TRUE)) | C12: =IFERROR((SUMIFS([1]LE!$B12:$JB12,[1]LE!$B$2:$JB$2,C$1))*$B12,"") | D12: =IFERROR((SUMIFS([1]LE!$B12:$JB12,[1]LE!$B$2:$JB$2,D$1))*$B12,"") | E12: =IFERROR((SUMIFS([1]LE!$B12:$JB12,[1]LE!$B$2:$JB$2,E$1))*$B12,"") | F12: =IFERROR((SUMIFS([1]LE!$B12:$JB12,[1]LE!$B$2:$JB$2,F$1))*$B12,"") | G12: =IFERROR((SUMIFS([1]LE!$B12:$JB12,[1]LE!$B$2:$JB$2,G$1))*$B12,"") | H12: =IFERROR((SUMIFS([1]LE!$B12:$JB12,[1]LE!$B$2:$JB$2,H$1))*$B12,"") | I12: =IFERROR((SUMIFS([1]LE!$B12:$JB12,[1]LE!$B$2:$JB$2,I$1))*$B12,"") | J12: =IFERROR((SUMIFS([1]LE!$B12:$JB12,[1]LE!$B$2:$JB$2,J$1))*$B12,"") | ... BC12: =IFERROR((SUMIFS([1]LE!$B12:$JB12,[1]LE!$B$2:$JB$2,BC$1))*$B12,"")
A13: =[1]LE!$A13 -> 0 | B13: =IF(ISNA(VLOOKUP(A13,'Temps standard'!$A$3:$B$54,2,TRUE)),"",VLOOKUP(A13,'Temps standard'!$A$3:$B$54,2,TRUE)) | C13: =IFERROR((SUMIFS([1]LE!$B13:$JB13,[1]LE!$B$2:$JB$2,C$1))*$B13,"") | D13: =IFERROR((SUMIFS([1]LE!$B13:$JB13,[1]LE!$B$2:$JB$2,D$1))*$B13,"") | E13: =IFERROR((SUMIFS([1]LE!$B13:$JB13,[1]LE!$B$2:$JB$2,E$1))*$B13,"") | F13: =IFERROR((SUMIFS([1]LE!$B13:$JB13,[1]LE!$B$2:$JB$2,F$1))*$B13,"") | G13: =IFERROR((SUMIFS([1]LE!$B13:$JB13,[1]LE!$B$2:$JB$2,G$1))*$B13,"") | H13: =IFERROR((SUMIFS([1]LE!$B13:$JB13,[1]LE!$B$2:$JB$2,H$1))*$B13,"") | I13: =IFERROR((SUMIFS([1]LE!$B13:$JB13,[1]LE!$B$2:$JB$2,I$1))*$B13,"") | J13: =IFERROR((SUMIFS([1]LE!$B13:$JB13,[1]LE!$B$2:$JB$2,J$1))*$B13,"") | ... BC13: =IFERROR((SUMIFS([1]LE!$B13:$JB13,[1]LE!$B$2:$JB$2,BC$1))*$B13,"")
A14: =[1]LE!$A14 -> 0 | B14: =IF(ISNA(VLOOKUP(A14,'Temps standard'!$A$3:$B$54,2,TRUE)),"",VLOOKUP(A14,'Temps standard'!$A$3:$B$54,2,TRUE)) | C14: =IFERROR((SUMIFS([1]LE!$B14:$JB14,[1]LE!$B$2:$JB$2,C$1))*$B14,"") | D14: =IFERROR((SUMIFS([1]LE!$B14:$JB14,[1]LE!$B$2:$JB$2,D$1))*$B14,"") | E14: =IFERROR((SUMIFS([1]LE!$B14:$JB14,[1]LE!$B$2:$JB$2,E$1))*$B14,"") | F14: =IFERROR((SUMIFS([1]LE!$B14:$JB14,[1]LE!$B$2:$JB$2,F$1))*$B14,"") | G14: =IFERROR((SUMIFS([1]LE!$B14:$JB14,[1]LE!$B$2:$JB$2,G$1))*$B14,"") | H14: =IFERROR((SUMIFS([1]LE!$B14:$JB14,[1]LE!$B$2:$JB$2,H$1))*$B14,"") | I14: =IFERROR((SUMIFS([1]LE!$B14:$JB14,[1]LE!$B$2:$JB$2,I$1))*$B14,"") | J14: =IFERROR((SUMIFS([1]LE!$B14:$JB14,[1]LE!$B$2:$JB$2,J$1))*$B14,"") | ... BC14: =IFERROR((SUMIFS([1]LE!$B14:$JB14,[1]LE!$B$2:$JB$2,BC$1))*$B14,"")
... A31: =[1]LE!$A31 -> 0 | B31: =IF(ISNA(VLOOKUP(A31,'Temps standard'!$A$3:$B$54,2,TRUE)),"",VLOOKUP(A31,'Temps standard'!$A$3:$B$54,2,TRUE)) | C31: =IFERROR((SUMIFS([1]LE!$B31:$JB31,[1]LE!$B$2:$JB$2,C$1))*$B31,"") | D31: =IFERROR((SUMIFS([1]LE!$B31:$JB31,[1]LE!$B$2:$JB$2,D$1))*$B31,"") | E31: =IFERROR((SUMIFS([1]LE!$B31:$JB31,[1]LE!$B$2:$JB$2,E$1))*$B31,"") | F31: =IFERROR((SUMIFS([1]LE!$B31:$JB31,[1]LE!$B$2:$JB$2,F$1))*$B31,"") | G31: =IFERROR((SUMIFS([1]LE!$B31:$JB31,[1]LE!$B$2:$JB$2,G$1))*$B31,"") | H31: =IFERROR((SUMIFS([1]LE!$B31:$JB31,[1]LE!$B$2:$JB$2,H$1))*$B31,"") | I31: =IFERROR((SUMIFS([1]LE!$B31:$JB31,[1]LE!$B$2:$JB$2,I$1))*$B31,"") | J31: =IFERROR((SUMIFS([1]LE!$B31:$JB31,[1]LE!$B$2:$JB$2,J$1))*$B31,"") | ... BC31: =IFERROR((SUMIFS([1]LE!$B31:$JB31,[1]LE!$B$2:$JB$2,BC$1))*$B31,"")
A32: =[1]LE!$A33 -> 0 | B32: =IF(ISNA(VLOOKUP(A32,'Temps standard'!$A$3:$B$54,2,TRUE)),"",VLOOKUP(A32,'Temps standard'!$A$3:$B$54,2,TRUE)) | C32: =IFERROR((SUMIFS([1]LE!$B33:$JB33,[1]LE!$B$2:$JB$2,C$1))*$B32,"") | D32: =IFERROR((SUMIFS([1]LE!$B33:$JB33,[1]LE!$B$2:$JB$2,D$1))*$B32,"") | E32: =IFERROR((SUMIFS([1]LE!$B33:$JB33,[1]LE!$B$2:$JB$2,E$1))*$B32,"") | F32: =IFERROR((SUMIFS([1]LE!$B33:$JB33,[1]LE!$B$2:$JB$2,F$1))*$B32,"") | G32: =IFERROR((SUMIFS([1]LE!$B33:$JB33,[1]LE!$B$2:$JB$2,G$1))*$B32,"") | H32: =IFERROR((SUMIFS([1]LE!$B33:$JB33,[1]LE!$B$2:$JB$2,H$1))*$B32,"") | I32: =IFERROR((SUMIFS([1]LE!$B33:$JB33,[1]LE!$B$2:$JB$2,I$1))*$B32,"") | J32: =IFERROR((SUMIFS([1]LE!$B33:$JB33,[1]LE!$B$2:$JB$2,J$1))*$B32,"") | ... BC32: =IFERROR((SUMIFS([1]LE!$B33:$JB33,[1]LE!$B$2:$JB$2,BC$1))*$B32,"")
A33: Heures travaillées réelles | C33: =SUMIFS([1]LE!$B$39:$JB$39,[1]LE!$B$2:$JB$2,C$1) -> #VALUE! | D33: =SUMIFS([1]LE!$B$39:$JB$39,[1]LE!$B$2:$JB$2,D$1) -> #VALUE! | E33: =SUMIFS([1]LE!$B$39:$JB$39,[1]LE!$B$2:$JB$2,E$1) -> #VALUE! | F33: =SUMIFS([1]LE!$B$39:$JB$39,[1]LE!$B$2:$JB$2,F$1) -> #VALUE! | G33: =SUMIFS([1]LE!$B$39:$JB$39,[1]LE!$B$2:$JB$2,G$1) -> #VALUE! | H33: =SUMIFS([1]LE!$B$39:$JB$39,[1]LE!$B$2:$JB$2,H$1) -> #VALUE! | I33: =SUMIFS([1]LE!$B$39:$JB$39,[1]LE!$B$2:$JB$2,I$1) -> #VALUE! | J33: =SUMIFS([1]LE!$B$39:$JB$39,[1]LE!$B$2:$JB$2,J$1) -> #VALUE! | ... BC33: =SUMIFS([1]LE!$B$39:$JB$39,[1]LE!$B$2:$JB$2,BC$1) -> #VALUE!
A34: Heures calculées selon temps standard | C34: =SUM(C3:C32)/60 -> 0 | D34: =SUM(D3:D32)/60 -> 0 | E34: =SUM(E3:E32)/60 -> 0 | F34: =SUM(F3:F32)/60 -> 0 | G34: =SUM(G3:G32)/60 -> 0 | H34: =SUM(H3:H32)/60 -> 0 | I34: =SUM(I3:I32)/60 -> 0 | J34: =SUM(J3:J32)/60 -> 0 | ... BC34: =SUM(BC3:BC32)/60 -> 0
A35: Performance | C35: =C34/C33 -> #VALUE! | D35: =D34/D33 -> #VALUE! | E35: =E34/E33 -> #VALUE! | F35: =F34/F33 -> #VALUE! | G35: =G34/G33 -> #VALUE! | H35: =H34/H33 -> #VALUE! | I35: =I34/I33 -> #VALUE! | J35: =J34/J33 -> #VALUE! | ... BC35: =BC34/BC33 -> #VALUE!

Sheet NB
C1: 1 | D1: 2 | E1: 3 | F1: 4 | G1: 5 | H1: 6 | I1: 7 | J1: 8 | K1: 9 | L1: 10 | M1: 11 | N1: 12 | O1: 13 | P1: 14 | Q1: 15 | R1: 16 | S1: 17 | T1: 18 | U1: 19 | V1: 20 | W1: 21 | X1: 22 | Y1: 23 | Z1: 24 | AA1: 25 | AB1: 26 | AC1: 27 | AD1: 28 | AE1: 29 | AF1: 30 | AG1: 31 | AH1: 32 | AI1: 33 | AJ1: 34 | AK1: 35 | AL1: 36 | AM1: 37 | AN1: 38 | AO1: 39 | AP1: 40 | AQ1: 41 | AR1: 42 | AS1: 43 | AT1: 44 | AU1: 45 | AV1: 46 | AW1: 47 | AX1: 48 | AY1: 49 | AZ1: 50 | BA1: 51 | BB1: 52 | BC1: 53
B2: Temps standard | C2: 43101 | D2: 43108 | E2: 43115 | F2: 43122 | G2: 43129 | H2: 43136 | I2: 43143 | J2: 43150 | K2: 43157 | L2: 43164 | M2: 43171 | N2: 43178 | O2: 43185 | P2: 43192 | Q2: 43199 | R2: 43206 | S2: 43213 | T2: 43220 | U2: 43227 | V2: 43234 | W2: 43241 | X2: 43248 | Y2: 43255 | Z2: 43262 | AA2: 43269 | AB2: 43276 | AC2: 43283 | AD2: 43290 | AE2: 43297 | AF2: 43304 | AG2: 43311 | AH2: 43318 | AI2: 43325 | AJ2: 43332 | AK2: 43339 | AL2: 43346 | AM2: 43353 | AN2: 43360 | AO2: 43367 | AP2: 43374 | AQ2: 43381 | AR2: 43388 | AS2: 43395 | AT2: 43402 | AU2: 43409 | AV2: 43416 | AW2: 43423 | AX2: 43430 | AY2: 43437 | AZ2: 43444 | BA2: 43451 | BB2: 43458 | BC2: 43465
A3: =[1]NB!$A3 -> 0 | B3: =IF(ISNA(VLOOKUP(A3,'Temps standard'!$A$3:$B$54,2,TRUE)),"",VLOOKUP(A3,'Temps standard'!$A$3:$B$54,2,TRUE)) | C3: =IFERROR((SUMIFS([1]NB!$B3:$JB3,[1]NB!$B$2:$JB$2,C$1))*$B3,"") | D3: =IFERROR((SUMIFS([1]NB!$B3:$JB3,[1]NB!$B$2:$JB$2,D$1))*$B3,"") | E3: =IFERROR((SUMIFS([1]NB!$B3:$JB3,[1]NB!$B$2:$JB$2,E$1))*$B3,"") | F3: =IFERROR((SUMIFS([1]NB!$B3:$JB3,[1]NB!$B$2:$JB$2,F$1))*$B3,"") | G3: =IFERROR((SUMIFS([1]NB!$B3:$JB3,[1]NB!$B$2:$JB$2,G$1))*$B3,"") | H3: =IFERROR((SUMIFS([1]NB!$B3:$JB3,[1]NB!$B$2:$JB$2,H$1))*$B3,"") | I3: =IFERROR((SUMIFS([1]NB!$B3:$JB3,[1]NB!$B$2:$JB$2,I$1))*$B3,"") | J3: =IFERROR((SUMIFS([1]NB!$B3:$JB3,[1]NB!$B$2:$JB$2,J$1))*$B3,"") | ... BC3: =IFERROR((SUMIFS([1]NB!$B3:$JB3,[1]NB!$B$2:$JB$2,BC$1))*$B3,"")
A4: =[1]NB!$A4 -> 0 | B4: =IF(ISNA(VLOOKUP(A4,'Temps standard'!$A$3:$B$54,2,TRUE)),"",VLOOKUP(A4,'Temps standard'!$A$3:$B$54,2,TRUE)) | C4: =IFERROR((SUMIFS([1]NB!$B4:$JB4,[1]NB!$B$2:$JB$2,C$1))*$B4,"") | D4: =IFERROR((SUMIFS([1]NB!$B4:$JB4,[1]NB!$B$2:$JB$2,D$1))*$B4,"") | E4: =IFERROR((SUMIFS([1]NB!$B4:$JB4,[1]NB!$B$2:$JB$2,E$1))*$B4,"") | F4: =IFERROR((SUMIFS([1]NB!$B4:$JB4,[1]NB!$B$2:$JB$2,F$1))*$B4,"") | G4: =IFERROR((SUMIFS([1]NB!$B4:$JB4,[1]NB!$B$2:$JB$2,G$1))*$B4,"") | H4: =IFERROR((SUMIFS([1]NB!$B4:$JB4,[1]NB!$B$2:$JB$2,H$1))*$B4,"") | I4: =IFERROR((SUMIFS([1]NB!$B4:$JB4,[1]NB!$B$2:$JB$2,I$1))*$B4,"") | J4: =IFERROR((SUMIFS([1]NB!$B4:$JB4,[1]NB!$B$2:$JB$2,J$1))*$B4,"") | ... BC4: =IFERROR((SUMIFS([1]NB!$B4:$JB4,[1]NB!$B$2:$JB$2,BC$1))*$B4,"")
A5: =[1]NB!$A5 -> 0 | B5: =IF(ISNA(VLOOKUP(A5,'Temps standard'!$A$3:$B$54,2,TRUE)),"",VLOOKUP(A5,'Temps standard'!$A$3:$B$54,2,TRUE)) | C5: =IFERROR((SUMIFS([1]NB!$B5:$JB5,[1]NB!$B$2:$JB$2,C$1))*$B5,"") | D5: =IFERROR((SUMIFS([1]NB!$B5:$JB5,[1]NB!$B$2:$JB$2,D$1))*$B5,"") | E5: =IFERROR((SUMIFS([1]NB!$B5:$JB5,[1]NB!$B$2:$JB$2,E$1))*$B5,"") | F5: =IFERROR((SUMIFS([1]NB!$B5:$JB5,[1]NB!$B$2:$JB$2,F$1))*$B5,"") | G5: =IFERROR((SUMIFS([1]NB!$B5:$JB5,[1]NB!$B$2:$JB$2,G$1))*$B5,"") | H5: =IFERROR((SUMIFS([1]NB!$B5:$JB5,[1]NB!$B$2:$JB$2,H$1))*$B5,"") | I5: =IFERROR((SUMIFS([1]NB!$B5:$JB5,[1]NB!$B$2:$JB$2,I$1))*$B5,"") | J5: =IFERROR((SUMIFS([1]NB!$B5:$JB5,[1]NB!$B$2:$JB$2,J$1))*$B5,"") | ... BC5: =IFERROR((SUMIFS([1]NB!$B5:$JB5,[1]NB!$B$2:$JB$2,BC$1))*$B5,"")
A6: =[1]NB!$A6 -> 0 | B6: =IF(ISNA(VLOOKUP(A6,'Temps standard'!$A$3:$B$54,2,TRUE)),"",VLOOKUP(A6,'Temps standard'!$A$3:$B$54,2,TRUE)) | C6: =IFERROR((SUMIFS([1]NB!$B6:$JB6,[1]NB!$B$2:$JB$2,C$1))*$B6,"") | D6: =IFERROR((SUMIFS([1]NB!$B6:$JB6,[1]NB!$B$2:$JB$2,D$1))*$B6,"") | E6: =IFERROR((SUMIFS([1]NB!$B6:$JB6,[1]NB!$B$2:$JB$2,E$1))*$B6,"") | F6: =IFERROR((SUMIFS([1]NB!$B6:$JB6,[1]NB!$B$2:$JB$2,F$1))*$B6,"") | G6: =IFERROR((SUMIFS([1]NB!$B6:$JB6,[1]NB!$B$2:$JB$2,G$1))*$B6,"") | H6: =IFERROR((SUMIFS([1]NB!$B6:$JB6,[1]NB!$B$2:$JB$2,H$1))*$B6,"") | I6: =IFERROR((SUMIFS([1]NB!$B6:$JB6,[1]NB!$B$2:$JB$2,I$1))*$B6,"") | J6: =IFERROR((SUMIFS([1]NB!$B6:$JB6,[1]NB!$B$2:$JB$2,J$1))*$B6,"") | ... BC6: =IFERROR((SUMIFS([1]NB!$B6:$JB6,[1]NB!$B$2:$JB$2,BC$1))*$B6,"")
A7: =[1]NB!$A7 -> 0 | B7: =IF(ISNA(VLOOKUP(A7,'Temps standard'!$A$3:$B$54,2,TRUE)),"",VLOOKUP(A7,'Temps standard'!$A$3:$B$54,2,TRUE)) | C7: =IFERROR((SUMIFS([1]NB!$B7:$JB7,[1]NB!$B$2:$JB$2,C$1))*$B7,"") | D7: =IFERROR((SUMIFS([1]NB!$B7:$JB7,[1]NB!$B$2:$JB$2,D$1))*$B7,"") | E7: =IFERROR((SUMIFS([1]NB!$B7:$JB7,[1]NB!$B$2:$JB$2,E$1))*$B7,"") | F7: =IFERROR((SUMIFS([1]NB!$B7:$JB7,[1]NB!$B$2:$JB$2,F$1))*$B7,"") | G7: =IFERROR((SUMIFS([1]NB!$B7:$JB7,[1]NB!$B$2:$JB$2,G$1))*$B7,"") | H7: =IFERROR((SUMIFS([1]NB!$B7:$JB7,[1]NB!$B$2:$JB$2,H$1))*$B7,"") | I7: =IFERROR((SUMIFS([1]NB!$B7:$JB7,[1]NB!$B$2:$JB$2,I$1))*$B7,"") | J7: =IFERROR((SUMIFS([1]NB!$B7:$JB7,[1]NB!$B$2:$JB$2,J$1))*$B7,"") | ... BC7: =IFERROR((SUMIFS([1]NB!$B7:$JB7,[1]NB!$B$2:$JB$2,BC$1))*$B7,"")
A8: =[1]NB!$A8 -> 0 | B8: =IF(ISNA(VLOOKUP(A8,'Temps standard'!$A$3:$B$54,2,TRUE)),"",VLOOKUP(A8,'Temps standard'!$A$3:$B$54,2,TRUE)) | C8: =IFERROR((SUMIFS([1]NB!$B8:$JB8,[1]NB!$B$2:$JB$2,C$1))*$B8,"") | D8: =IFERROR((SUMIFS([1]NB!$B8:$JB8,[1]NB!$B$2:$JB$2,D$1))*$B8,"") | E8: =IFERROR((SUMIFS([1]NB!$B8:$JB8,[1]NB!$B$2:$JB$2,E$1))*$B8,"") | F8: =IFERROR((SUMIFS([1]NB!$B8:$JB8,[1]NB!$B$2:$JB$2,F$1))*$B8,"") | G8: =IFERROR((SUMIFS([1]NB!$B8:$JB8,[1]NB!$B$2:$JB$2,G$1))*$B8,"") | H8: =IFERROR((SUMIFS([1]NB!$B8:$JB8,[1]NB!$B$2:$JB$2,H$1))*$B8,"") | I8: =IFERROR((SUMIFS([1]NB!$B8:$JB8,[1]NB!$B$2:$JB$2,I$1))*$B8,"") | J8: =IFERROR((SUMIFS([1]NB!$B8:$JB8,[1]NB!$B$2:$JB$2,J$1))*$B8,"") | ... BC8: =IFERROR((SUMIFS([1]NB!$B8:$JB8,[1]NB!$B$2:$JB$2,BC$1))*$B8,"")
A9: =[1]NB!$A9 -> 0 | B9: =IF(ISNA(VLOOKUP(A9,'Temps standard'!$A$3:$B$54,2,TRUE)),"",VLOOKUP(A9,'Temps standard'!$A$3:$B$54,2,TRUE)) | C9: =IFERROR((SUMIFS([1]NB!$B9:$JB9,[1]NB!$B$2:$JB$2,C$1))*$B9,"") | D9: =IFERROR((SUMIFS([1]NB!$B9:$JB9,[1]NB!$B$2:$JB$2,D$1))*$B9,"") | E9: =IFERROR((SUMIFS([1]NB!$B9:$JB9,[1]NB!$B$2:$JB$2,E$1))*$B9,"") | F9: =IFERROR((SUMIFS([1]NB!$B9:$JB9,[1]NB!$B$2:$JB$2,F$1))*$B9,"") | G9: =IFERROR((SUMIFS([1]NB!$B9:$JB9,[1]NB!$B$2:$JB$2,G$1))*$B9,"") | H9: =IFERROR((SUMIFS([1]NB!$B9:$JB9,[1]NB!$B$2:$JB$2,H$1))*$B9,"") | I9: =IFERROR((SUMIFS([1]NB!$B9:$JB9,[1]NB!$B$2:$JB$2,I$1))*$B9,"") | J9: =IFERROR((SUMIFS([1]NB!$B9:$JB9,[1]NB!$B$2:$JB$2,J$1))*$B9,"") | ... BC9: =IFERROR((SUMIFS([1]NB!$B9:$JB9,[1]NB!$B$2:$JB$2,BC$1))*$B9,"")
A10: =[1]NB!$A10 -> 0 | B10: =IF(ISNA(VLOOKUP(A10,'Temps standard'!$A$3:$B$54,2,TRUE)),"",VLOOKUP(A10,'Temps standard'!$A$3:$B$54,2,TRUE)) | C10: =IFERROR((SUMIFS([1]NB!$B10:$JB10,[1]NB!$B$2:$JB$2,C$1))*$B10,"") | D10: =IFERROR((SUMIFS([1]NB!$B10:$JB10,[1]NB!$B$2:$JB$2,D$1))*$B10,"") | E10: =IFERROR((SUMIFS([1]NB!$B10:$JB10,[1]NB!$B$2:$JB$2,E$1))*$B10,"") | F10: =IFERROR((SUMIFS([1]NB!$B10:$JB10,[1]NB!$B$2:$JB$2,F$1))*$B10,"") | G10: =IFERROR((SUMIFS([1]NB!$B10:$JB10,[1]NB!$B$2:$JB$2,G$1))*$B10,"") | H10: =IFERROR((SUMIFS([1]NB!$B10:$JB10,[1]NB!$B$2:$JB$2,H$1))*$B10,"") | I10: =IFERROR((SUMIFS([1]NB!$B10:$JB10,[1]NB!$B$2:$JB$2,I$1))*$B10,"") | J10: =IFERROR((SUMIFS([1]NB!$B10:$JB10,[1]NB!$B$2:$JB$2,J$1))*$B10,"") | ... BC10: =IFERROR((SUMIFS([1]NB!$B10:$JB10,[1]NB!$B$2:$JB$2,BC$1))*$B10,"")
A11: =[1]NB!$A11 -> 0 | B11: =IF(ISNA(VLOOKUP(A11,'Temps standard'!$A$3:$B$54,2,TRUE)),"",VLOOKUP(A11,'Temps standard'!$A$3:$B$54,2,TRUE)) | C11: =IFERROR((SUMIFS([1]NB!$B11:$JB11,[1]NB!$B$2:$JB$2,C$1))*$B11,"") | D11: =IFERROR((SUMIFS([1]NB!$B11:$JB11,[1]NB!$B$2:$JB$2,D$1))*$B11,"") | E11: =IFERROR((SUMIFS([1]NB!$B11:$JB11,[1]NB!$B$2:$JB$2,E$1))*$B11,"") | F11: =IFERROR((SUMIFS([1]NB!$B11:$JB11,[1]NB!$B$2:$JB$2,F$1))*$B11,"") | G11: =IFERROR((SUMIFS([1]NB!$B11:$JB11,[1]NB!$B$2:$JB$2,G$1))*$B11,"") | H11: =IFERROR((SUMIFS([1]NB!$B11:$JB11,[1]NB!$B$2:$JB$2,H$1))*$B11,"") | I11: =IFERROR((SUMIFS([1]NB!$B11:$JB11,[1]NB!$B$2:$JB$2,I$1))*$B11,"") | J11: =IFERROR((SUMIFS([1]NB!$B11:$JB11,[1]NB!$B$2:$JB$2,J$1))*$B11,"") | ... BC11: =IFERROR((SUMIFS([1]NB!$B11:$JB11,[1]NB!$B$2:$JB$2,BC$1))*$B11,"")
A12: =[1]NB!$A12 -> 0 | B12: =IF(ISNA(VLOOKUP(A12,'Temps standard'!$A$3:$B$54,2,TRUE)),"",VLOOKUP(A12,'Temps standard'!$A$3:$B$54,2,TRUE)) | C12: =IFERROR((SUMIFS([1]NB!$B12:$JB12,[1]NB!$B$2:$JB$2,C$1))*$B12,"") | D12: =IFERROR((SUMIFS([1]NB!$B12:$JB12,[1]NB!$B$2:$JB$2,D$1))*$B12,"") | E12: =IFERROR((SUMIFS([1]NB!$B12:$JB12,[1]NB!$B$2:$JB$2,E$1))*$B12,"") | F12: =IFERROR((SUMIFS([1]NB!$B12:$JB12,[1]NB!$B$2:$JB$2,F$1))*$B12,"") | G12: =IFERROR((SUMIFS([1]NB!$B12:$JB12,[1]NB!$B$2:$JB$2,G$1))*$B12,"") | H12: =IFERROR((SUMIFS([1]NB!$B12:$JB12,[1]NB!$B$2:$JB$2,H$1))*$B12,"") | I12: =IFERROR((SUMIFS([1]NB!$B12:$JB12,[1]NB!$B$2:$JB$2,I$1))*$B12,"") | J12: =IFERROR((SUMIFS([1]NB!$B12:$JB12,[1]NB!$B$2:$JB$2,J$1))*$B12,"") | ... BC12: =IFERROR((SUMIFS([1]NB!$B12:$JB12,[1]NB!$B$2:$JB$2,BC$1))*$B12,"")
A13: =[1]NB!$A13 -> 0 | B13: =IF(ISNA(VLOOKUP(A13,'Temps standard'!$A$3:$B$54,2,TRUE)),"",VLOOKUP(A13,'Temps standard'!$A$3:$B$54,2,TRUE)) | C13: =IFERROR((SUMIFS([1]NB!$B13:$JB13,[1]NB!$B$2:$JB$2,C$1))*$B13,"") | D13: =IFERROR((SUMIFS([1]NB!$B13:$JB13,[1]NB!$B$2:$JB$2,D$1))*$B13,"") | E13: =IFERROR((SUMIFS([1]NB!$B13:$JB13,[1]NB!$B$2:$JB$2,E$1))*$B13,"") | F13: =IFERROR((SUMIFS([1]NB!$B13:$JB13,[1]NB!$B$2:$JB$2,F$1))*$B13,"") | G13: =IFERROR((SUMIFS([1]NB!$B13:$JB13,[1]NB!$B$2:$JB$2,G$1))*$B13,"") | H13: =IFERROR((SUMIFS([1]NB!$B13:$JB13,[1]NB!$B$2:$JB$2,H$1))*$B13,"") | I13: =IFERROR((SUMIFS([1]NB!$B13:$JB13,[1]NB!$B$2:$JB$2,I$1))*$B13,"") | J13: =IFERROR((SUMIFS([1]NB!$B13:$JB13,[1]NB!$B$2:$JB$2,J$1))*$B13,"") | ... BC13: =IFERROR((SUMIFS([1]NB!$B13:$JB13,[1]NB!$B$2:$JB$2,BC$1))*$B13,"")
A14: =[1]NB!$A14 -> 0 | B14: =IF(ISNA(VLOOKUP(A14,'Temps standard'!$A$3:$B$54,2,TRUE)),"",VLOOKUP(A14,'Temps standard'!$A$3:$B$54,2,TRUE)) | C14: =IFERROR((SUMIFS([1]NB!$B14:$JB14,[1]NB!$B$2:$JB$2,C$1))*$B14,"") | D14: =IFERROR((SUMIFS([1]NB!$B14:$JB14,[1]NB!$B$2:$JB$2,D$1))*$B14,"") | E14: =IFERROR((SUMIFS([1]NB!$B14:$JB14,[1]NB!$B$2:$JB$2,E$1))*$B14,"") | F14: =IFERROR((SUMIFS([1]NB!$B14:$JB14,[1]NB!$B$2:$JB$2,F$1))*$B14,"") | G14: =IFERROR((SUMIFS([1]NB!$B14:$JB14,[1]NB!$B$2:$JB$2,G$1))*$B14,"") | H14: =IFERROR((SUMIFS([1]NB!$B14:$JB14,[1]NB!$B$2:$JB$2,H$1))*$B14,"") | I14: =IFERROR((SUMIFS([1]NB!$B14:$JB14,[1]NB!$B$2:$JB$2,I$1))*$B14,"") | J14: =IFERROR((SUMIFS([1]NB!$B14:$JB14,[1]NB!$B$2:$JB$2,J$1))*$B14,"") | ... BC14: =IFERROR((SUMIFS([1]NB!$B14:$JB14,[1]NB!$B$2:$JB$2,BC$1))*$B14,"")
... A31: =[1]NB!$A31 -> 0 | B31: =IF(ISNA(VLOOKUP(A31,'Temps standard'!$A$3:$B$54,2,TRUE)),"",VLOOKUP(A31,'Temps standard'!$A$3:$B$54,2,TRUE)) | C31: =IFERROR((SUMIFS([1]NB!$B31:$JB31,[1]NB!$B$2:$JB$2,C$1))*$B31,"") | D31: =IFERROR((SUMIFS([1]NB!$B31:$JB31,[1]NB!$B$2:$JB$2,D$1))*$B31,"") | E31: =IFERROR((SUMIFS([1]NB!$B31:$JB31,[1]NB!$B$2:$JB$2,E$1))*$B31,"") | F31: =IFERROR((SUMIFS([1]NB!$B31:$JB31,[1]NB!$B$2:$JB$2,F$1))*$B31,"") | G31: =IFERROR((SUMIFS([1]NB!$B31:$JB31,[1]NB!$B$2:$JB$2,G$1))*$B31,"") | H31: =IFERROR((SUMIFS([1]NB!$B31:$JB31,[1]NB!$B$2:$JB$2,H$1))*$B31,"") | I31: =IFERROR((SUMIFS([1]NB!$B31:$JB31,[1]NB!$B$2:$JB$2,I$1))*$B31,"") | J31: =IFERROR((SUMIFS([1]NB!$B31:$JB31,[1]NB!$B$2:$JB$2,J$1))*$B31,"") | ... BC31: =IFERROR((SUMIFS([1]NB!$B31:$JB31,[1]NB!$B$2:$JB$2,BC$1))*$B31,"")
A32: =[1]NB!$A33 -> 0 | B32: =IF(ISNA(VLOOKUP(A32,'Temps standard'!$A$3:$B$54,2,TRUE)),"",VLOOKUP(A32,'Temps standard'!$A$3:$B$54,2,TRUE)) | C32: =IFERROR((SUMIFS([1]NB!$B33:$JB33,[1]NB!$B$2:$JB$2,C$1))*$B32,"") | D32: =IFERROR((SUMIFS([1]NB!$B33:$JB33,[1]NB!$B$2:$JB$2,D$1))*$B32,"") | E32: =IFERROR((SUMIFS([1]NB!$B33:$JB33,[1]NB!$B$2:$JB$2,E$1))*$B32,"") | F32: =IFERROR((SUMIFS([1]NB!$B33:$JB33,[1]NB!$B$2:$JB$2,F$1))*$B32,"") | G32: =IFERROR((SUMIFS([1]NB!$B33:$JB33,[1]NB!$B$2:$JB$2,G$1))*$B32,"") | H32: =IFERROR((SUMIFS([1]NB!$B33:$JB33,[1]NB!$B$2:$JB$2,H$1))*$B32,"") | I32: =IFERROR((SUMIFS([1]NB!$B33:$JB33,[1]NB!$B$2:$JB$2,I$1))*$B32,"") | J32: =IFERROR((SUMIFS([1]NB!$B33:$JB33,[1]NB!$B$2:$JB$2,J$1))*$B32,"") | ... BC32: =IFERROR((SUMIFS([1]NB!$B33:$JB33,[1]NB!$B$2:$JB$2,BC$1))*$B32,"")
A33: Heures travaillées réelles | C33: =SUMIFS([1]NB!$B$39:$JB$39,[1]NB!$B$2:$JB$2,C$1) -> #VALUE! | D33: =SUMIFS([1]NB!$B$39:$JB$39,[1]NB!$B$2:$JB$2,D$1) -> #VALUE! | E33: =SUMIFS([1]NB!$B$39:$JB$39,[1]NB!$B$2:$JB$2,E$1) -> #VALUE! | F33: =SUMIFS([1]NB!$B$39:$JB$39,[1]NB!$B$2:$JB$2,F$1) -> #VALUE! | G33: =SUMIFS([1]NB!$B$39:$JB$39,[1]NB!$B$2:$JB$2,G$1) -> #VALUE! | H33: =SUMIFS([1]NB!$B$39:$JB$39,[1]NB!$B$2:$JB$2,H$1) -> #VALUE! | I33: =SUMIFS([1]NB!$B$39:$JB$39,[1]NB!$B$2:$JB$2,I$1) -> #VALUE! | J33: =SUMIFS([1]NB!$B$39:$JB$39,[1]NB!$B$2:$JB$2,J$1) -> #VALUE! | ... BC33: =SUMIFS([1]NB!$B$39:$JB$39,[1]NB!$B$2:$JB$2,BC$1) -> #VALUE!
A34: Heures calculées selon temps standard | C34: =SUM(C3:C32)/60 -> 0 | D34: =SUM(D3:D32)/60 -> 0 | E34: =SUM(E3:E32)/60 -> 0 | F34: =SUM(F3:F32)/60 -> 0 | G34: =SUM(G3:G32)/60 -> 0 | H34: =SUM(H3:H32)/60 -> 0 | I34: =SUM(I3:I32)/60 -> 0 | J34: =SUM(J3:J32)/60 -> 0 | ... BC34: =SUM(BC3:BC32)/60 -> 0
A35: Performance | C35: =C34/C33 -> #VALUE! | D35: =D34/D33 -> #VALUE! | E35: =E34/E33 -> #VALUE! | F35: =F34/F33 -> #VALUE! | G35: =G34/G33 -> #VALUE! | H35: =H34/H33 -> #VALUE! | I35: =I34/I33 -> #VALUE! | J35: =J34/J33 -> #VALUE! | ... BC35: =BC34/BC33 -> #VALUE!

Sheet SR
C1: 1 | D1: 2 | E1: 3 | F1: 4 | G1: 5 | H1: 6 | I1: 7 | J1: 8 | K1: 9 | L1: 10 | M1: 11 | N1: 12 | O1: 13 | P1: 14 | Q1: 15 | R1: 16 | S1: 17 | T1: 18 | U1: 19 | V1: 20 | W1: 21 | X1: 22 | Y1: 23 | Z1: 24 | AA1: 25 | AB1: 26 | AC1: 27 | AD1: 28 | AE1: 29 | AF1: 30 | AG1: 31 | AH1: 32 | AI1: 33 | AJ1: 34 | AK1: 35 | AL1: 36 | AM1: 37 | AN1: 38 | AO1: 39 | AP1: 40 | AQ1: 41 | AR1: 42 | AS1: 43 | AT1: 44 | AU1: 45 | AV1: 46 | AW1: 47 | AX1: 48 | AY1: 49 | AZ1: 50 | BA1: 51 | BB1: 52 | BC1: 53
B2: Temps standard | C2: 43101 | D2: 43108 | E2: 43115 | F2: 43122 | G2: 43129 | H2: 43136 | I2: 43143 | J2: 43150 | K2: 43157 | L2: 43164 | M2: 43171 | N2: 43178 | O2: 43185 | P2: 43192 | Q2: 43199 | R2: 43206 | S2: 43213 | T2: 43220 | U2: 43227 | V2: 43234 | W2: 43241 | X2: 43248 | Y2: 43255 | Z2: 43262 | AA2: 43269 | AB2: 43276 | AC2: 43283 | AD2: 43290 | AE2: 43297 | AF2: 43304 | AG2: 43311 | AH2: 43318 | AI2: 43325 | AJ2: 43332 | AK2: 43339 | AL2: 43346 | AM2: 43353 | AN2: 43360 | AO2: 43367 | AP2: 43374 | AQ2: 43381 | AR2: 43388 | AS2: 43395 | AT2: 43402 | AU2: 43409 | AV2: 43416 | AW2: 43423 | AX2: 43430 | AY2: 43437 | AZ2: 43444 | BA2: 43451 | BB2: 43458 | BC2: 43465
A3: =[1]SR!$A3 -> SOUTIEN APPLICATIF - OGP lignes personnelles | B3: =IF(ISNA(VLOOKUP(A3,'Temps standard'!$A$3:$B$54,2,TRUE)),"",VLOOKUP(A3,'Temps standard'!$A$3:$B$54,2,TRUE)) -> 5 | C3: =IFERROR((SUMIFS([1]SR!$B3:$JB3,[1]SR!$B$2:$JB$2,C$1))*$B3,"") | D3: =IFERROR((SUMIFS([1]SR!$B3:$JB3,[1]SR!$B$2:$JB$2,D$1))*$B3,"") | E3: =IFERROR((SUMIFS([1]SR!$B3:$JB3,[1]SR!$B$2:$JB$2,E$1))*$B3,"") | F3: =IFERROR((SUMIFS([1]SR!$B3:$JB3,[1]SR!$B$2:$JB$2,F$1))*$B3,"") | G3: =IFERROR((SUMIFS([1]SR!$B3:$JB3,[1]SR!$B$2:$JB$2,G$1))*$B3,"") | H3: =IFERROR((SUMIFS([1]SR!$B3:$JB3,[1]SR!$B$2:$JB$2,H$1))*$B3,"") | I3: =IFERROR((SUMIFS([1]SR!$B3:$JB3,[1]SR!$B$2:$JB$2,I$1))*$B3,"") | J3: =IFERROR((SUMIFS([1]SR!$B3:$JB3,[1]SR!$B$2:$JB$2,J$1))*$B3,"") | ... BC3: =IFERROR((SUMIFS([1]SR!$B3:$JB3,[1]SR!$B$2:$JB$2,BC$1))*$B3,"")
A4: =[1]SR!$A4 -> 0 | B4: =IF(ISNA(VLOOKUP(A4,'Temps standard'!$A$3:$B$54,2,TRUE)),"",VLOOKUP(A4,'Temps standard'!$A$3:$B$54,2,TRUE)) | C4: =IFERROR((SUMIFS([1]SR!$B4:$JB4,[1]SR!$B$2:$JB$2,C$1))*$B4,"") | D4: =IFERROR((SUMIFS([1]SR!$B4:$JB4,[1]SR!$B$2:$JB$2,D$1))*$B4,"") | E4: =IFERROR((SUMIFS([1]SR!$B4:$JB4,[1]SR!$B$2:$JB$2,E$1))*$B4,"") | F4: =IFERROR((SUMIFS([1]SR!$B4:$JB4,[1]SR!$B$2:$JB$2,F$1))*$B4,"") | G4: =IFERROR((SUMIFS([1]SR!$B4:$JB4,[1]SR!$B$2:$JB$2,G$1))*$B4,"") | H4: =IFERROR((SUMIFS([1]SR!$B4:$JB4,[1]SR!$B$2:$JB$2,H$1))*$B4,"") | I4: =IFERROR((SUMIFS([1]SR!$B4:$JB4,[1]SR!$B$2:$JB$2,I$1))*$B4,"") | J4: =IFERROR((SUMIFS([1]SR!$B4:$JB4,[1]SR!$B$2:$JB$2,J$1))*$B4,"") | ... BC4: =IFERROR((SUMIFS([1]SR!$B4:$JB4,[1]SR!$B$2:$JB$2,BC$1))*$B4,"")
A5: =[1]SR!$A5 -> 0 | B5: =IF(ISNA(VLOOKUP(A5,'Temps standard'!$A$3:$B$54,2,TRUE)),"",VLOOKUP(A5,'Temps standard'!$A$3:$B$54,2,TRUE)) | C5: =IFERROR((SUMIFS([1]SR!$B5:$JB5,[1]SR!$B$2:$JB$2,C$1))*$B5,"") | D5: =IFERROR((SUMIFS([1]SR!$B5:$JB5,[1]SR!$B$2:$JB$2,D$1))*$B5,"") | E5: =IFERROR((SUMIFS([1]SR!$B5:$JB5,[1]SR!$B$2:$JB$2,E$1))*$B5,"") | F5: =IFERROR((SUMIFS([1]SR!$B5:$JB5,[1]SR!$B$2:$JB$2,F$1))*$B5,"") | G5: =IFERROR((SUMIFS([1]SR!$B5:$JB5,[1]SR!$B$2:$JB$2,G$1))*$B5,"") | H5: =IFERROR((SUMIFS([1]SR!$B5:$JB5,[1]SR!$B$2:$JB$2,H$1))*$B5,"") | I5: =IFERROR((SUMIFS([1]SR!$B5:$JB5,[1]SR!$B$2:$JB$2,I$1))*$B5,"") | J5: =IFERROR((SUMIFS([1]SR!$B5:$JB5,[1]SR!$B$2:$JB$2,J$1))*$B5,"") | ... BC5: =IFERROR((SUMIFS([1]SR!$B5:$JB5,[1]SR!$B$2:$JB$2,BC$1))*$B5,"")
A6: =[1]SR!$A6 -> 0 | B6: =IF(ISNA(VLOOKUP(A6,'Temps standard'!$A$3:$B$54,2,TRUE)),"",VLOOKUP(A6,'Temps standard'!$A$3:$B$54,2,TRUE)) | C6: =IFERROR((SUMIFS([1]SR!$B6:$JB6,[1]SR!$B$2:$JB$2,C$1))*$B6,"") | D6: =IFERROR((SUMIFS([1]SR!$B6:$JB6,[1]SR!$B$2:$JB$2,D$1))*$B6,"") | E6: =IFERROR((SUMIFS([1]SR!$B6:$JB6,[1]SR!$B$2:$JB$2,E$1))*$B6,"") | F6: =IFERROR((SUMIFS([1]SR!$B6:$JB6,[1]SR!$B$2:$JB$2,F$1))*$B6,"") | G6: =IFERROR((SUMIFS([1]SR!$B6:$JB6,[1]SR!$B$2:$JB$2,G$1))*$B6,"") | H6: =IFERROR((SUMIFS([1]SR!$B6:$JB6,[1]SR!$B$2:$JB$2,H$1))*$B6,"") | I6: =IFERROR((SUMIFS([1]SR!$B6:$JB6,[1]SR!$B$2:$JB$2,I$1))*$B6,"") | J6: =IFERROR((SUMIFS([1]SR!$B6:$JB6,[1]SR!$B$2:$JB$2,J$1))*$B6,"") | ... BC6: =IFERROR((SUMIFS([1]SR!$B6:$JB6,[1]SR!$B$2:$JB$2,BC$1))*$B6,"")
A7: =[1]SR!$A7 -> 0 | B7: =IF(ISNA(VLOOKUP(A7,'Temps standard'!$A$3:$B$54,2,TRUE)),"",VLOOKUP(A7,'Temps standard'!$A$3:$B$54,2,TRUE)) | C7: =IFERROR((SUMIFS([1]SR!$B7:$JB7,[1]SR!$B$2:$JB$2,C$1))*$B7,"") | D7: =IFERROR((SUMIFS([1]SR!$B7:$JB7,[1]SR!$B$2:$JB$2,D$1))*$B7,"") | E7: =IFERROR((SUMIFS([1]SR!$B7:$JB7,[1]SR!$B$2:$JB$2,E$1))*$B7,"") | F7: =IFERROR((SUMIFS([1]SR!$B7:$JB7,[1]SR!$B$2:$JB$2,F$1))*$B7,"") | G7: =IFERROR((SUMIFS([1]SR!$B7:$JB7,[1]SR!$B$2:$JB$2,G$1))*$B7,"") | H7: =IFERROR((SUMIFS([1]SR!$B7:$JB7,[1]SR!$B$2:$JB$2,H$1))*$B7,"") | I7: =IFERROR((SUMIFS([1]SR!$B7:$JB7,[1]SR!$B$2:$JB$2,I$1))*$B7,"") | J7: =IFERROR((SUMIFS([1]SR!$B7:$JB7,[1]SR!$B$2:$JB$2,J$1))*$B7,"") | ... BC7: =IFERROR((SUMIFS([1]SR!$B7:$JB7,[1]SR!$B$2:$JB$2,BC$1))*$B7,"")
A8: =[1]SR!$A8 -> 0 | B8: =IF(ISNA(VLOOKUP(A8,'Temps standard'!$A$3:$B$54,2,TRUE)),"",VLOOKUP(A8,'Temps standard'!$A$3:$B$54,2,TRUE)) | C8: =IFERROR((SUMIFS([1]SR!$B8:$JB8,[1]SR!$B$2:$JB$2,C$1))*$B8,"") | D8: =IFERROR((SUMIFS([1]SR!$B8:$JB8,[1]SR!$B$2:$JB$2,D$1))*$B8,"") | E8: =IFERROR((SUMIFS([1]SR!$B8:$JB8,[1]SR!$B$2:$JB$2,E$1))*$B8,"") | F8: =IFERROR((SUMIFS([1]SR!$B8:$JB8,[1]SR!$B$2:$JB$2,F$1))*$B8,"") | G8: =IFERROR((SUMIFS([1]SR!$B8:$JB8,[1]SR!$B$2:$JB$2,G$1))*$B8,"") | H8: =IFERROR((SUMIFS([1]SR!$B8:$JB8,[1]SR!$B$2:$JB$2,H$1))*$B8,"") | I8: =IFERROR((SUMIFS([1]SR!$B8:$JB8,[1]SR!$B$2:$JB$2,I$1))*$B8,"") | J8: =IFERROR((SUMIFS([1]SR!$B8:$JB8,[1]SR!$B$2:$JB$2,J$1))*$B8,"") | ... BC8: =IFERROR((SUMIFS([1]SR!$B8:$JB8,[1]SR!$B$2:$JB$2,BC$1))*$B8,"")
A9: =[1]SR!$A9 -> 0 | B9: =IF(ISNA(VLOOKUP(A9,'Temps standard'!$A$3:$B$54,2,TRUE)),"",VLOOKUP(A9,'Temps standard'!$A$3:$B$54,2,TRUE)) | C9: =IFERROR((SUMIFS([1]SR!$B9:$JB9,[1]SR!$B$2:$JB$2,C$1))*$B9,"") | D9: =IFERROR((SUMIFS([1]SR!$B9:$JB9,[1]SR!$B$2:$JB$2,D$1))*$B9,"") | E9: =IFERROR((SUMIFS([1]SR!$B9:$JB9,[1]SR!$B$2:$JB$2,E$1))*$B9,"") | F9: =IFERROR((SUMIFS([1]SR!$B9:$JB9,[1]SR!$B$2:$JB$2,F$1))*$B9,"") | G9: =IFERROR((SUMIFS([1]SR!$B9:$JB9,[1]SR!$B$2:$JB$2,G$1))*$B9,"") | H9: =IFERROR((SUMIFS([1]SR!$B9:$JB9,[1]SR!$B$2:$JB$2,H$1))*$B9,"") | I9: =IFERROR((SUMIFS([1]SR!$B9:$JB9,[1]SR!$B$2:$JB$2,I$1))*$B9,"") | J9: =IFERROR((SUMIFS([1]SR!$B9:$JB9,[1]SR!$B$2:$JB$2,J$1))*$B9,"") | ... BC9: =IFERROR((SUMIFS([1]SR!$B9:$JB9,[1]SR!$B$2:$JB$2,BC$1))*$B9,"")
A10: =[1]SR!$A10 -> 0 | B10: =IF(ISNA(VLOOKUP(A10,'Temps standard'!$A$3:$B$54,2,TRUE)),"",VLOOKUP(A10,'Temps standard'!$A$3:$B$54,2,TRUE)) | C10: =IFERROR((SUMIFS([1]SR!$B10:$JB10,[1]SR!$B$2:$JB$2,C$1))*$B10,"") | D10: =IFERROR((SUMIFS([1]SR!$B10:$JB10,[1]SR!$B$2:$JB$2,D$1))*$B10,"") | E10: =IFERROR((SUMIFS([1]SR!$B10:$JB10,[1]SR!$B$2:$JB$2,E$1))*$B10,"") | F10: =IFERROR((SUMIFS([1]SR!$B10:$JB10,[1]SR!$B$2:$JB$2,F$1))*$B10,"") | G10: =IFERROR((SUMIFS([1]SR!$B10:$JB10,[1]SR!$B$2:$JB$2,G$1))*$B10,"") | H10: =IFERROR((SUMIFS([1]SR!$B10:$JB10,[1]SR!$B$2:$JB$2,H$1))*$B10,"") | I10: =IFERROR((SUMIFS([1]SR!$B10:$JB10,[1]SR!$B$2:$JB$2,I$1))*$B10,"") | J10: =IFERROR((SUMIFS([1]SR!$B10:$JB10,[1]SR!$B$2:$JB$2,J$1))*$B10,"") | ... BC10: =IFERROR((SUMIFS([1]SR!$B10:$JB10,[1]SR!$B$2:$JB$2,BC$1))*$B10,"")
A11: =[1]SR!$A11 -> 0 | B11: =IF(ISNA(VLOOKUP(A11,'Temps standard'!$A$3:$B$54,2,TRUE)),"",VLOOKUP(A11,'Temps standard'!$A$3:$B$54,2,TRUE)) | C11: =IFERROR((SUMIFS([1]SR!$B11:$JB11,[1]SR!$B$2:$JB$2,C$1))*$B11,"") | D11: =IFERROR((SUMIFS([1]SR!$B11:$JB11,[1]SR!$B$2:$JB$2,D$1))*$B11,"") | E11: =IFERROR((SUMIFS([1]SR!$B11:$JB11,[1]SR!$B$2:$JB$2,E$1))*$B11,"") | F11: =IFERROR((SUMIFS([1]SR!$B11:$JB11,[1]SR!$B$2:$JB$2,F$1))*$B11,"") | G11: =IFERROR((SUMIFS([1]SR!$B11:$JB11,[1]SR!$B$2:$JB$2,G$1))*$B11,"") | H11: =IFERROR((SUMIFS([1]SR!$B11:$JB11,[1]SR!$B$2:$JB$2,H$1))*$B11,"") | I11: =IFERROR((SUMIFS([1]SR!$B11:$JB11,[1]SR!$B$2:$JB$2,I$1))*$B11,"") | J11: =IFERROR((SUMIFS([1]SR!$B11:$JB11,[1]SR!$B$2:$JB$2,J$1))*$B11,"") | ... BC11: =IFERROR((SUMIFS([1]SR!$B11:$JB11,[1]SR!$B$2:$JB$2,BC$1))*$B11,"")
A12: =[1]SR!$A12 -> 0 | B12: =IF(ISNA(VLOOKUP(A12,'Temps standard'!$A$3:$B$54,2,TRUE)),"",VLOOKUP(A12,'Temps standard'!$A$3:$B$54,2,TRUE)) | C12: =IFERROR((SUMIFS([1]SR!$B12:$JB12,[1]SR!$B$2:$JB$2,C$1))*$B12,"") | D12: =IFERROR((SUMIFS([1]SR!$B12:$JB12,[1]SR!$B$2:$JB$2,D$1))*$B12,"") | E12: =IFERROR((SUMIFS([1]SR!$B12:$JB12,[1]SR!$B$2:$JB$2,E$1))*$B12,"") | F12: =IFERROR((SUMIFS([1]SR!$B12:$JB12,[1]SR!$B$2:$JB$2,F$1))*$B12,"") | G12: =IFERROR((SUMIFS([1]SR!$B12:$JB12,[1]SR!$B$2:$JB$2,G$1))*$B12,"") | H12: =IFERROR((SUMIFS([1]SR!$B12:$JB12,[1]SR!$B$2:$JB$2,H$1))*$B12,"") | I12: =IFERROR((SUMIFS([1]SR!$B12:$JB12,[1]SR!$B$2:$JB$2,I$1))*$B12,"") | J12: =IFERROR((SUMIFS([1]SR!$B12:$JB12,[1]SR!$B$2:$JB$2,J$1))*$B12,"") | ... BC12: =IFERROR((SUMIFS([1]SR!$B12:$JB12,[1]SR!$B$2:$JB$2,BC$1))*$B12,"")
A13: =[1]SR!$A13 -> 0 | B13: =IF(ISNA(VLOOKUP(A13,'Temps standard'!$A$3:$B$54,2,TRUE)),"",VLOOKUP(A13,'Temps standard'!$A$3:$B$54,2,TRUE)) | C13: =IFERROR((SUMIFS([1]SR!$B13:$JB13,[1]SR!$B$2:$JB$2,C$1))*$B13,"") | D13: =IFERROR((SUMIFS([1]SR!$B13:$JB13,[1]SR!$B$2:$JB$2,D$1))*$B13,"") | E13: =IFERROR((SUMIFS([1]SR!$B13:$JB13,[1]SR!$B$2:$JB$2,E$1))*$B13,"") | F13: =IFERROR((SUMIFS([1]SR!$B13:$JB13,[1]SR!$B$2:$JB$2,F$1))*$B13,"") | G13: =IFERROR((SUMIFS([1]SR!$B13:$JB13,[1]SR!$B$2:$JB$2,G$1))*$B13,"") | H13: =IFERROR((SUMIFS([1]SR!$B13:$JB13,[1]SR!$B$2:$JB$2,H$1))*$B13,"") | I13: =IFERROR((SUMIFS([1]SR!$B13:$JB13,[1]SR!$B$2:$JB$2,I$1))*$B13,"") | J13: =IFERROR((SUMIFS([1]SR!$B13:$JB13,[1]SR!$B$2:$JB$2,J$1))*$B13,"") | ... BC13: =IFERROR((SUMIFS([1]SR!$B13:$JB13,[1]SR!$B$2:$JB$2,BC$1))*$B13,"")
A14: =[1]SR!$A14 -> 0 | B14: =IF(ISNA(VLOOKUP(A14,'Temps standard'!$A$3:$B$54,2,TRUE)),"",VLOOKUP(A14,'Temps standard'!$A$3:$B$54,2,TRUE)) | C14: =IFERROR((SUMIFS([1]SR!$B14:$JB14,[1]SR!$B$2:$JB$2,C$1))*$B14,"") | D14: =IFERROR((SUMIFS([1]SR!$B14:$JB14,[1]SR!$B$2:$JB$2,D$1))*$B14,"") | E14: =IFERROR((SUMIFS([1]SR!$B14:$JB14,[1]SR!$B$2:$JB$2,E$1))*$B14,"") | F14: =IFERROR((SUMIFS([1]SR!$B14:$JB14,[1]SR!$B$2:$JB$2,F$1))*$B14,"") | G14: =IFERROR((SUMIFS([1]SR!$B14:$JB14,[1]SR!$B$2:$JB$2,G$1))*$B14,"") | H14: =IFERROR((SUMIFS([1]SR!$B14:$JB14,[1]SR!$B$2:$JB$2,H$1))*$B14,"") | I14: =IFERROR((SUMIFS([1]SR!$B14:$JB14,[1]SR!$B$2:$JB$2,I$1))*$B14,"") | J14: =IFERROR((SUMIFS([1]SR!$B14:$JB14,[1]SR!$B$2:$JB$2,J$1))*$B14,"") | ... BC14: =IFERROR((SUMIFS([1]SR!$B14:$JB14,[1]SR!$B$2:$JB$2,BC$1))*$B14,"")
... A31: =[1]SR!$A31 -> 0 | B31: =IF(ISNA(VLOOKUP(A31,'Temps standard'!$A$3:$B$54,2,TRUE)),"",VLOOKUP(A31,'Temps standard'!$A$3:$B$54,2,TRUE)) | C31: =IFERROR((SUMIFS([1]SR!$B31:$JB31,[1]SR!$B$2:$JB$2,C$1))*$B31,"") | D31: =IFERROR((SUMIFS([1]SR!$B31:$JB31,[1]SR!$B$2:$JB$2,D$1))*$B31,"") | E31: =IFERROR((SUMIFS([1]SR!$B31:$JB31,[1]SR!$B$2:$JB$2,E$1))*$B31,"") | F31: =IFERROR((SUMIFS([1]SR!$B31:$JB31,[1]SR!$B$2:$JB$2,F$1))*$B31,"") | G31: =IFERROR((SUMIFS([1]SR!$B31:$JB31,[1]SR!$B$2:$JB$2,G$1))*$B31,"") | H31: =IFERROR((SUMIFS([1]SR!$B31:$JB31,[1]SR!$B$2:$JB$2,H$1))*$B31,"") | I31: =IFERROR((SUMIFS([1]SR!$B31:$JB31,[1]SR!$B$2:$JB$2,I$1))*$B31,"") | J31: =IFERROR((SUMIFS([1]SR!$B31:$JB31,[1]SR!$B$2:$JB$2,J$1))*$B31,"") | ... BC31: =IFERROR((SUMIFS([1]SR!$B31:$JB31,[1]SR!$B$2:$JB$2,BC$1))*$B31,"")
A32: =[1]SR!$A33 -> 0 | B32: =IF(ISNA(VLOOKUP(A32,'Temps standard'!$A$3:$B$54,2,TRUE)),"",VLOOKUP(A32,'Temps standard'!$A$3:$B$54,2,TRUE)) | C32: =IFERROR((SUMIFS([1]SR!$B33:$JB33,[1]SR!$B$2:$JB$2,C$1))*$B32,"") | D32: =IFERROR((SUMIFS([1]SR!$B33:$JB33,[1]SR!$B$2:$JB$2,D$1))*$B32,"") | E32: =IFERROR((SUMIFS([1]SR!$B33:$JB33,[1]SR!$B$2:$JB$2,E$1))*$B32,"") | F32: =IFERROR((SUMIFS([1]SR!$B33:$JB33,[1]SR!$B$2:$JB$2,F$1))*$B32,"") | G32: =IFERROR((SUMIFS([1]SR!$B33:$JB33,[1]SR!$B$2:$JB$2,G$1))*$B32,"") | H32: =IFERROR((SUMIFS([1]SR!$B33:$JB33,[1]SR!$B$2:$JB$2,H$1))*$B32,"") | I32: =IFERROR((SUMIFS([1]SR!$B33:$JB33,[1]SR!$B$2:$JB$2,I$1))*$B32,"") | J32: =IFERROR((SUMIFS([1]SR!$B33:$JB33,[1]SR!$B$2:$JB$2,J$1))*$B32,"") | ... BC32: =IFERROR((SUMIFS([1]SR!$B33:$JB33,[1]SR!$B$2:$JB$2,BC$1))*$B32,"")
A33: Heures travaillées réelles | C33: =SUMIFS([1]SR!$B$39:$JB$39,[1]SR!$B$2:$JB$2,C$1) -> #VALUE! | D33: =SUMIFS([1]SR!$B$39:$JB$39,[1]SR!$B$2:$JB$2,D$1) -> #VALUE! | E33: =SUMIFS([1]SR!$B$39:$JB$39,[1]SR!$B$2:$JB$2,E$1) -> #VALUE! | F33: =SUMIFS([1]SR!$B$39:$JB$39,[1]SR!$B$2:$JB$2,F$1) -> #VALUE! | G33: =SUMIFS([1]SR!$B$39:$JB$39,[1]SR!$B$2:$JB$2,G$1) -> #VALUE! | H33: =SUMIFS([1]SR!$B$39:$JB$39,[1]SR!$B$2:$JB$2,H$1) -> #VALUE! | I33: =SUMIFS([1]SR!$B$39:$JB$39,[1]SR!$B$2:$JB$2,I$1) -> #VALUE! | J33: =SUMIFS([1]SR!$B$39:$JB$39,[1]SR!$B$2:$JB$2,J$1) -> #VALUE! | ... BC33: =SUMIFS([1]SR!$B$39:$JB$39,[1]SR!$B$2:$JB$2,BC$1) -> #VALUE!
A34: Heures calculées selon temps standard | C34: =SUM(C3:C32)/60 -> 0 | D34: =SUM(D3:D32)/60 -> 0 | E34: =SUM(E3:E32)/60 -> 0 | F34: =SUM(F3:F32)/60 -> 0 | G34: =SUM(G3:G32)/60 -> 0 | H34: =SUM(H3:H32)/60 -> 0 | I34: =SUM(I3:I32)/60 -> 0 | J34: =SUM(J3:J32)/60 -> 0 | ... BC34: =SUM(BC3:BC32)/60 -> 0
A35: Performance | C35: =C34/C33 -> #VALUE! | D35: =D34/D33 -> #VALUE! | E35: =E34/E33 -> #VALUE! | F35: =F34/F33 -> #VALUE! | G35: =G34/G33 -> #VALUE! | H35: =H34/H33 -> #VALUE! | I35: =I34/I33 -> #VALUE! | J35: =J34/J33 -> #VALUE! | ... BC35: =BC34/BC33 -> #VALUE!

Sheet SEG
C1: 1 | D1: 2 | E1: 3 | F1: 4 | G1: 5 | H1: 6 | I1: 7 | J1: 8 | K1: 9 | L1: 10 | M1: 11 | N1: 12 | O1: 13 | P1: 14 | Q1: 15 | R1: 16 | S1: 17 | T1: 18 | U1: 19 | V1: 20 | W1: 21 | X1: 22 | Y1: 23 | Z1: 24 | AA1: 25 | AB1: 26 | AC1: 27 | AD1: 28 | AE1: 29 | AF1: 30 | AG1: 31 | AH1: 32 | AI1: 33 | AJ1: 34 | AK1: 35 | AL1: 36 | AM1: 37 | AN1: 38 | AO1: 39 | AP1: 40 | AQ1: 41 | AR1: 42 | AS1: 43 | AT1: 44 | AU1: 45 | AV1: 46 | AW1: 47 | AX1: 48 | AY1: 49 | AZ1: 50 | BA1: 51 | BB1: 52 | BC1: 53
B2: Temps standard | C2: 43101 | D2: 43108 | E2: 43115 | F2: 43122 | G2: 43129 | H2: 43136 | I2: 43143 | J2: 43150 | K2: 43157 | L2: 43164 | M2: 43171 | N2: 43178 | O2: 43185 | P2: 43192 | Q2: 43199 | R2: 43206 | S2: 43213 | T2: 43220 | U2: 43227 | V2: 43234 | W2: 43241 | X2: 43248 | Y2: 43255 | Z2: 43262 | AA2: 43269 | AB2: 43276 | AC2: 43283 | AD2: 43290 | AE2: 43297 | AF2: 43304 | AG2: 43311 | AH2: 43318 | AI2: 43325 | AJ2: 43332 | AK2: 43339 | AL2: 43346 | AM2: 43353 | AN2: 43360 | AO2: 43367 | AP2: 43374 | AQ2: 43381 | AR2: 43388 | AS2: 43395 | AT2: 43402 | AU2: 43409 | AV2: 43416 | AW2: 43423 | AX2: 43430 | AY2: 43437 | AZ2: 43444 | BA2: 43451 | BB2: 43458 | BC2: 43465
A3: =[1]SEG!$A3 -> 0 | B3: =IF(ISNA(VLOOKUP(A3,'Temps standard'!$A$3:$B$54,2,TRUE)),"",VLOOKUP(A3,'Temps standard'!$A$3:$B$54,2,TRUE)) | C3: =IFERROR((SUMIFS([1]SEG!$B3:$JB3,[1]SEG!$B$2:$JB$2,C$1))*$B3,"") | D3: =IFERROR((SUMIFS([1]SEG!$B3:$JB3,[1]SEG!$B$2:$JB$2,D$1))*$B3,"") | E3: =IFERROR((SUMIFS([1]SEG!$B3:$JB3,[1]SEG!$B$2:$JB$2,E$1))*$B3,"") | F3: =IFERROR((SUMIFS([1]SEG!$B3:$JB3,[1]SEG!$B$2:$JB$2,F$1))*$B3,"") | G3: =IFERROR((SUMIFS([1]SEG!$B3:$JB3,[1]SEG!$B$2:$JB$2,G$1))*$B3,"") | H3: =IFERROR((SUMIFS([1]SEG!$B3:$JB3,[1]SEG!$B$2:$JB$2,H$1))*$B3,"") | I3: =IFERROR((SUMIFS([1]SEG!$B3:$JB3,[1]SEG!$B$2:$JB$2,I$1))*$B3,"") | J3: =IFERROR((SUMIFS([1]SEG!$B3:$JB3,[1]SEG!$B$2:$JB$2,J$1))*$B3,"") | ... BC3: =IFERROR((SUMIFS([1]SEG!$B3:$JB3,[1]SEG!$B$2:$JB$2,BC$1))*$B3,"")
A4: =[1]SEG!$A4 -> 0 | B4: =IF(ISNA(VLOOKUP(A4,'Temps standard'!$A$3:$B$54,2,TRUE)),"",VLOOKUP(A4,'Temps standard'!$A$3:$B$54,2,TRUE)) | C4: =IFERROR((SUMIFS([1]SEG!$B4:$JB4,[1]SEG!$B$2:$JB$2,C$1))*$B4,"") | D4: =IFERROR((SUMIFS([1]SEG!$B4:$JB4,[1]SEG!$B$2:$JB$2,D$1))*$B4,"") | E4: =IFERROR((SUMIFS([1]SEG!$B4:$JB4,[1]SEG!$B$2:$JB$2,E$1))*$B4,"") | F4: =IFERROR((SUMIFS([1]SEG!$B4:$JB4,[1]SEG!$B$2:$JB$2,F$1))*$B4,"") | G4: =IFERROR((SUMIFS([1]SEG!$B4:$JB4,[1]SEG!$B$2:$JB$2,G$1))*$B4,"") | H4: =IFERROR((SUMIFS([1]SEG!$B4:$JB4,[1]SEG!$B$2:$JB$2,H$1))*$B4,"") | I4: =IFERROR((SUMIFS([1]SEG!$B4:$JB4,[1]SEG!$B$2:$JB$2,I$1))*$B4,"") | J4: =IFERROR((SUMIFS([1]SEG!$B4:$JB4,[1]SEG!$B$2:$JB$2,J$1))*$B4,"") | ... BC4: =IFERROR((SUMIFS([1]SEG!$B4:$JB4,[1]SEG!$B$2:$JB$2,BC$1))*$B4,"")
A5: =[1]SEG!$A5 -> 0 | B5: =IF(ISNA(VLOOKUP(A5,'Temps standard'!$A$3:$B$54,2,TRUE)),"",VLOOKUP(A5,'Temps standard'!$A$3:$B$54,2,TRUE)) | C5: =IFERROR((SUMIFS([1]SEG!$B5:$JB5,[1]SEG!$B$2:$JB$2,C$1))*$B5,"") | D5: =IFERROR((SUMIFS([1]SEG!$B5:$JB5,[1]SEG!$B$2:$JB$2,D$1))*$B5,"") | E5: =IFERROR((SUMIFS([1]SEG!$B5:$JB5,[1]SEG!$B$2:$JB$2,E$1))*$B5,"") | F5: =IFERROR((SUMIFS([1]SEG!$B5:$JB5,[1]SEG!$B$2:$JB$2,F$1))*$B5,"") | G5: =IFERROR((SUMIFS([1]SEG!$B5:$JB5,[1]SEG!$B$2:$JB$2,G$1))*$B5,"") | H5: =IFERROR((SUMIFS([1]SEG!$B5:$JB5,[1]SEG!$B$2:$JB$2,H$1))*$B5,"") | I5: =IFERROR((SUMIFS([1]SEG!$B5:$JB5,[1]SEG!$B$2:$JB$2,I$1))*$B5,"") | J5: =IFERROR((SUMIFS([1]SEG!$B5:$JB5,[1]SEG!$B$2:$JB$2,J$1))*$B5,"") | ... BC5: =IFERROR((SUMIFS([1]SEG!$B5:$JB5,[1]SEG!$B$2:$JB$2,BC$1))*$B5,"")
A6: =[1]SEG!$A6 -> 0 | B6: =IF(ISNA(VLOOKUP(A6,'Temps standard'!$A$3:$B$54,2,TRUE)),"",VLOOKUP(A6,'Temps standard'!$A$3:$B$54,2,TRUE)) | C6: =IFERROR((SUMIFS([1]SEG!$B6:$JB6,[1]SEG!$B$2:$JB$2,C$1))*$B6,"") | D6: =IFERROR((SUMIFS([1]SEG!$B6:$JB6,[1]SEG!$B$2:$JB$2,D$1))*$B6,"") | E6: =IFERROR((SUMIFS([1]SEG!$B6:$JB6,[1]SEG!$B$2:$JB$2,E$1))*$B6,"") | F6: =IFERROR((SUMIFS([1]SEG!$B6:$JB6,[1]SEG!$B$2:$JB$2,F$1))*$B6,"") | G6: =IFERROR((SUMIFS([1]SEG!$B6:$JB6,[1]SEG!$B$2:$JB$2,G$1))*$B6,"") | H6: =IFERROR((SUMIFS([1]SEG!$B6:$JB6,[1]SEG!$B$2:$JB$2,H$1))*$B6,"") | I6: =IFERROR((SUMIFS([1]SEG!$B6:$JB6,[1]SEG!$B$2:$JB$2,I$1))*$B6,"") | J6: =IFERROR((SUMIFS([1]SEG!$B6:$JB6,[1]SEG!$B$2:$JB$2,J$1))*$B6,"") | ... BC6: =IFERROR((SUMIFS([1]SEG!$B6:$JB6,[1]SEG!$B$2:$JB$2,BC$1))*$B6,"")
A7: =[1]SEG!$A7 -> 0 | B7: =IF(ISNA(VLOOKUP(A7,'Temps standard'!$A$3:$B$54,2,TRUE)),"",VLOOKUP(A7,'Temps standard'!$A$3:$B$54,2,TRUE)) | C7: =IFERROR((SUMIFS([1]SEG!$B7:$JB7,[1]SEG!$B$2:$JB$2,C$1))*$B7,"") | D7: =IFERROR((SUMIFS([1]SEG!$B7:$JB7,[1]SEG!$B$2:$JB$2,D$1))*$B7,"") | E7: =IFERROR((SUMIFS([1]SEG!$B7:$JB7,[1]SEG!$B$2:$JB$2,E$1))*$B7,"") | F7: =IFERROR((SUMIFS([1]SEG!$B7:$JB7,[1]SEG!$B$2:$JB$2,F$1))*$B7,"") | G7: =IFERROR((SUMIFS([1]SEG!$B7:$JB7,[1]SEG!$B$2:$JB$2,G$1))*$B7,"") | H7: =IFERROR((SUMIFS([1]SEG!$B7:$JB7,[1]SEG!$B$2:$JB$2,H$1))*$B7,"") | I7: =IFERROR((SUMIFS([1]SEG!$B7:$JB7,[1]SEG!$B$2:$JB$2,I$1))*$B7,"") | J7: =IFERROR((SUMIFS([1]SEG!$B7:$JB7,[1]SEG!$B$2:$JB$2,J$1))*$B7,"") | ... BC7: =IFERROR((SUMIFS([1]SEG!$B7:$JB7,[1]SEG!$B$2:$JB$2,BC$1))*$B7,"")
A8: =[1]SEG!$A8 -> 0 | B8: =IF(ISNA(VLOOKUP(A8,'Temps standard'!$A$3:$B$54,2,TRUE)),"",VLOOKUP(A8,'Temps standard'!$A$3:$B$54,2,TRUE)) | C8: =IFERROR((SUMIFS([1]SEG!$B8:$JB8,[1]SEG!$B$2:$JB$2,C$1))*$B8,"") | D8: =IFERROR((SUMIFS([1]SEG!$B8:$JB8,[1]SEG!$B$2:$JB$2,D$1))*$B8,"") | E8: =IFERROR((SUMIFS([1]SEG!$B8:$JB8,[1]SEG!$B$2:$JB$2,E$1))*$B8,"") | F8: =IFERROR((SUMIFS([1]SEG!$B8:$JB8,[1]SEG!$B$2:$JB$2,F$1))*$B8,"") | G8: =IFERROR((SUMIFS([1]SEG!$B8:$JB8,[1]SEG!$B$2:$JB$2,G$1))*$B8,"") | H8: =IFERROR((SUMIFS([1]SEG!$B8:$JB8,[1]SEG!$B$2:$JB$2,H$1))*$B8,"") | I8: =IFERROR((SUMIFS([1]SEG!$B8:$JB8,[1]SEG!$B$2:$JB$2,I$1))*$B8,"") | J8: =IFERROR((SUMIFS([1]SEG!$B8:$JB8,[1]SEG!$B$2:$JB$2,J$1))*$B8,"") | ... BC8: =IFERROR((SUMIFS([1]SEG!$B8:$JB8,[1]SEG!$B$2:$JB$2,BC$1))*$B8,"")
A9: =[1]SEG!$A9 -> 0 | B9: =IF(ISNA(VLOOKUP(A9,'Temps standard'!$A$3:$B$54,2,TRUE)),"",VLOOKUP(A9,'Temps standard'!$A$3:$B$54,2,TRUE)) | C9: =IFERROR((SUMIFS([1]SEG!$B9:$JB9,[1]SEG!$B$2:$JB$2,C$1))*$B9,"") | D9: =IFERROR((SUMIFS([1]SEG!$B9:$JB9,[1]SEG!$B$2:$JB$2,D$1))*$B9,"") | E9: =IFERROR((SUMIFS([1]SEG!$B9:$JB9,[1]SEG!$B$2:$JB$2,E$1))*$B9,"") | F9: =IFERROR((SUMIFS([1]SEG!$B9:$JB9,[1]SEG!$B$2:$JB$2,F$1))*$B9,"") | G9: =IFERROR((SUMIFS([1]SEG!$B9:$JB9,[1]SEG!$B$2:$JB$2,G$1))*$B9,"") | H9: =IFERROR((SUMIFS([1]SEG!$B9:$JB9,[1]SEG!$B$2:$JB$2,H$1))*$B9,"") | I9: =IFERROR((SUMIFS([1]SEG!$B9:$JB9,[1]SEG!$B$2:$JB$2,I$1))*$B9,"") | J9: =IFERROR((SUMIFS([1]SEG!$B9:$JB9,[1]SEG!$B$2:$JB$2,J$1))*$B9,"") | ... BC9: =IFERROR((SUMIFS([1]SEG!$B9:$JB9,[1]SEG!$B$2:$JB$2,BC$1))*$B9,"")
A10: =[1]SEG!$A10 -> 0 | B10: =IF(ISNA(VLOOKUP(A10,'Temps standard'!$A$3:$B$54,2,TRUE)),"",VLOOKUP(A10,'Temps standard'!$A$3:$B$54,2,TRUE)) | C10: =IFERROR((SUMIFS([1]SEG!$B10:$JB10,[1]SEG!$B$2:$JB$2,C$1))*$B10,"") | D10: =IFERROR((SUMIFS([1]SEG!$B10:$JB10,[1]SEG!$B$2:$JB$2,D$1))*$B10,"") | E10: =IFERROR((SUMIFS([1]SEG!$B10:$JB10,[1]SEG!$B$2:$JB$2,E$1))*$B10,"") | F10: =IFERROR((SUMIFS([1]SEG!$B10:$JB10,[1]SEG!$B$2:$JB$2,F$1))*$B10,"") | G10: =IFERROR((SUMIFS([1]SEG!$B10:$JB10,[1]SEG!$B$2:$JB$2,G$1))*$B10,"") | H10: =IFERROR((SUMIFS([1]SEG!$B10:$JB10,[1]SEG!$B$2:$JB$2,H$1))*$B10,"") | I10: =IFERROR((SUMIFS([1]SEG!$B10:$JB10,[1]SEG!$B$2:$JB$2,I$1))*$B10,"") | J10: =IFERROR((SUMIFS([1]SEG!$B10:$JB10,[1]SEG!$B$2:$JB$2,J$1))*$B10,"") | ... BC10: =IFERROR((SUMIFS([1]SEG!$B10:$JB10,[1]SEG!$B$2:$JB$2,BC$1))*$B10,"")
A11: =[1]SEG!$A11 -> 0 | B11: =IF(ISNA(VLOOKUP(A11,'Temps standard'!$A$3:$B$54,2,TRUE)),"",VLOOKUP(A11,'Temps standard'!$A$3:$B$54,2,TRUE)) | C11: =IFERROR((SUMIFS([1]SEG!$B11:$JB11,[1]SEG!$B$2:$JB$2,C$1))*$B11,"") | D11: =IFERROR((SUMIFS([1]SEG!$B11:$JB11,[1]SEG!$B$2:$JB$2,D$1))*$B11,"") | E11: =IFERROR((SUMIFS([1]SEG!$B11:$JB11,[1]SEG!$B$2:$JB$2,E$1))*$B11,"") | F11: =IFERROR((SUMIFS([1]SEG!$B11:$JB11,[1]SEG!$B$2:$JB$2,F$1))*$B11,"") | G11: =IFERROR((SUMIFS([1]SEG!$B11:$JB11,[1]SEG!$B$2:$JB$2,G$1))*$B11,"") | H11: =IFERROR((SUMIFS([1]SEG!$B11:$JB11,[1]SEG!$B$2:$JB$2,H$1))*$B11,"") | I11: =IFERROR((SUMIFS([1]SEG!$B11:$JB11,[1]SEG!$B$2:$JB$2,I$1))*$B11,"") | J11: =IFERROR((SUMIFS([1]SEG!$B11:$JB11,[1]SEG!$B$2:$JB$2,J$1))*$B11,"") | ... BC11: =IFERROR((SUMIFS([1]SEG!$B11:$JB11,[1]SEG!$B$2:$JB$2,BC$1))*$B11,"")
A12: =[1]SEG!$A12 -> 0 | B12: =IF(ISNA(VLOOKUP(A12,'Temps standard'!$A$3:$B$54,2,TRUE)),"",VLOOKUP(A12,'Temps standard'!$A$3:$B$54,2,TRUE)) | C12: =IFERROR((SUMIFS([1]SEG!$B12:$JB12,[1]SEG!$B$2:$JB$2,C$1))*$B12,"") | D12: =IFERROR((SUMIFS([1]SEG!$B12:$JB12,[1]SEG!$B$2:$JB$2,D$1))*$B12,"") | E12: =IFERROR((SUMIFS([1]SEG!$B12:$JB12,[1]SEG!$B$2:$JB$2,E$1))*$B12,"") | F12: =IFERROR((SUMIFS([1]SEG!$B12:$JB12,[1]SEG!$B$2:$JB$2,F$1))*$B12,"") | G12: =IFERROR((SUMIFS([1]SEG!$B12:$JB12,[1]SEG!$B$2:$JB$2,G$1))*$B12,"") | H12: =IFERROR((SUMIFS([1]SEG!$B12:$JB12,[1]SEG!$B$2:$JB$2,H$1))*$B12,"") | I12: =IFERROR((SUMIFS([1]SEG!$B12:$JB12,[1]SEG!$B$2:$JB$2,I$1))*$B12,"") | J12: =IFERROR((SUMIFS([1]SEG!$B12:$JB12,[1]SEG!$B$2:$JB$2,J$1))*$B12,"") | ... BC12: =IFERROR((SUMIFS([1]SEG!$B12:$JB12,[1]SEG!$B$2:$JB$2,BC$1))*$B12,"")
A13: =[1]SEG!$A13 -> 0 | B13: =IF(ISNA(VLOOKUP(A13,'Temps standard'!$A$3:$B$54,2,TRUE)),"",VLOOKUP(A13,'Temps standard'!$A$3:$B$54,2,TRUE)) | C13: =IFERROR((SUMIFS([1]SEG!$B13:$JB13,[1]SEG!$B$2:$JB$2,C$1))*$B13,"") | D13: =IFERROR((SUMIFS([1]SEG!$B13:$JB13,[1]SEG!$B$2:$JB$2,D$1))*$B13,"") | E13: =IFERROR((SUMIFS([1]SEG!$B13:$JB13,[1]SEG!$B$2:$JB$2,E$1))*$B13,"") | F13: =IFERROR((SUMIFS([1]SEG!$B13:$JB13,[1]SEG!$B$2:$JB$2,F$1))*$B13,"") | G13: =IFERROR((SUMIFS([1]SEG!$B13:$JB13,[1]SEG!$B$2:$JB$2,G$1))*$B13,"") | H13: =IFERROR((SUMIFS([1]SEG!$B13:$JB13,[1]SEG!$B$2:$JB$2,H$1))*$B13,"") | I13: =IFERROR((SUMIFS([1]SEG!$B13:$JB13,[1]SEG!$B$2:$JB$2,I$1))*$B13,"") | J13: =IFERROR((SUMIFS([1]SEG!$B13:$JB13,[1]SEG!$B$2:$JB$2,J$1))*$B13,"") | ... BC13: =IFERROR((SUMIFS([1]SEG!$B13:$JB13,[1]SEG!$B$2:$JB$2,BC$1))*$B13,"")
A14: =[1]SEG!$A14 -> 0 | B14: =IF(ISNA(VLOOKUP(A14,'Temps standard'!$A$3:$B$54,2,TRUE)),"",VLOOKUP(A14,'Temps standard'!$A$3:$B$54,2,TRUE)) | C14: =IFERROR((SUMIFS([1]SEG!$B14:$JB14,[1]SEG!$B$2:$JB$2,C$1))*$B14,"") | D14: =IFERROR((SUMIFS([1]SEG!$B14:$JB14,[1]SEG!$B$2:$JB$2,D$1))*$B14,"") | E14: =IFERROR((SUMIFS([1]SEG!$B14:$JB14,[1]SEG!$B$2:$JB$2,E$1))*$B14,"") | F14: =IFERROR((SUMIFS([1]SEG!$B14:$JB14,[1]SEG!$B$2:$JB$2,F$1))*$B14,"") | G14: =IFERROR((SUMIFS([1]SEG!$B14:$JB14,[1]SEG!$B$2:$JB$2,G$1))*$B14,"") | H14: =IFERROR((SUMIFS([1]SEG!$B14:$JB14,[1]SEG!$B$2:$JB$2,H$1))*$B14,"") | I14: =IFERROR((SUMIFS([1]SEG!$B14:$JB14,[1]SEG!$B$2:$JB$2,I$1))*$B14,"") | J14: =IFERROR((SUMIFS([1]SEG!$B14:$JB14,[1]SEG!$B$2:$JB$2,J$1))*$B14,"") | ... BC14: =IFERROR((SUMIFS([1]SEG!$B14:$JB14,[1]SEG!$B$2:$JB$2,BC$1))*$B14,"")
... A31: =[1]SEG!$A31 -> 0 | B31: =IF(ISNA(VLOOKUP(A31,'Temps standard'!$A$3:$B$54,2,TRUE)),"",VLOOKUP(A31,'Temps standard'!$A$3:$B$54,2,TRUE)) | C31: =IFERROR((SUMIFS([1]SEG!$B31:$JB31,[1]SEG!$B$2:$JB$2,C$1))*$B31,"") | D31: =IFERROR((SUMIFS([1]SEG!$B31:$JB31,[1]SEG!$B$2:$JB$2,D$1))*$B31,"") | E31: =IFERROR((SUMIFS([1]SEG!$B31:$JB31,[1]SEG!$B$2:$JB$2,E$1))*$B31,"") | F31: =IFERROR((SUMIFS([1]SEG!$B31:$JB31,[1]SEG!$B$2:$JB$2,F$1))*$B31,"") | G31: =IFERROR((SUMIFS([1]SEG!$B31:$JB31,[1]SEG!$B$2:$JB$2,G$1))*$B31,"") | H31: =IFERROR((SUMIFS([1]SEG!$B31:$JB31,[1]SEG!$B$2:$JB$2,H$1))*$B31,"") | I31: =IFERROR((SUMIFS([1]SEG!$B31:$JB31,[1]SEG!$B$2:$JB$2,I$1))*$B31,"") | J31: =IFERROR((SUMIFS([1]SEG!$B31:$JB31,[1]SEG!$B$2:$JB$2,J$1))*$B31,"") | ... BC31: =IFERROR((SUMIFS([1]SEG!$B31:$JB31,[1]SEG!$B$2:$JB$2,BC$1))*$B31,"")
A32: =[1]SEG!$A33 -> 0 | B32: =IF(ISNA(VLOOKUP(A32,'Temps standard'!$A$3:$B$54,2,TRUE)),"",VLOOKUP(A32,'Temps standard'!$A$3:$B$54,2,TRUE)) | C32: =IFERROR((SUMIFS([1]SEG!$B33:$JB33,[1]SEG!$B$2:$JB$2,C$1))*$B32,"") | D32: =IFERROR((SUMIFS([1]SEG!$B33:$JB33,[1]SEG!$B$2:$JB$2,D$1))*$B32,"") | E32: =IFERROR((SUMIFS([1]SEG!$B33:$JB33,[1]SEG!$B$2:$JB$2,E$1))*$B32,"") | F32: =IFERROR((SUMIFS([1]SEG!$B33:$JB33,[1]SEG!$B$2:$JB$2,F$1))*$B32,"") | G32: =IFERROR((SUMIFS([1]SEG!$B33:$JB33,[1]SEG!$B$2:$JB$2,G$1))*$B32,"") | H32: =IFERROR((SUMIFS([1]SEG!$B33:$JB33,[1]SEG!$B$2:$JB$2,H$1))*$B32,"") | I32: =IFERROR((SUMIFS([1]SEG!$B33:$JB33,[1]SEG!$B$2:$JB$2,I$1))*$B32,"") | J32: =IFERROR((SUMIFS([1]SEG!$B33:$JB33,[1]SEG!$B$2:$JB$2,J$1))*$B32,"") | ... BC32: =IFERROR((SUMIFS([1]SEG!$B33:$JB33,[1]SEG!$B$2:$JB$2,BC$1))*$B32,"")
A33: Heures travaillées réelles | C33: =SUMIFS([1]SEG!$B$39:$JB$39,[1]SEG!$B$2:$JB$2,C$1) -> #VALUE! | D33: =SUMIFS([1]SEG!$B$39:$JB$39,[1]SEG!$B$2:$JB$2,D$1) -> #VALUE! | E33: =SUMIFS([1]SEG!$B$39:$JB$39,[1]SEG!$B$2:$JB$2,E$1) -> #VALUE! | F33: =SUMIFS([1]SEG!$B$39:$JB$39,[1]SEG!$B$2:$JB$2,F$1) -> #VALUE! | G33: =SUMIFS([1]SEG!$B$39:$JB$39,[1]SEG!$B$2:$JB$2,G$1) -> #VALUE! | H33: =SUMIFS([1]SEG!$B$39:$JB$39,[1]SEG!$B$2:$JB$2,H$1) -> #VALUE! | I33: =SUMIFS([1]SEG!$B$39:$JB$39,[1]SEG!$B$2:$JB$2,I$1) -> #VALUE! | J33: =SUMIFS([1]SEG!$B$39:$JB$39,[1]SEG!$B$2:$JB$2,J$1) -> #VALUE! | ... BC33: =SUMIFS([1]SEG!$B$39:$JB$39,[1]SEG!$B$2:$JB$2,BC$1) -> #VALUE!
A34: Heures calculées selon temps standard | C34: =SUM(C3:C32)/60 -> 0 | D34: =SUM(D3:D32)/60 -> 0 | E34: =SUM(E3:E32)/60 -> 0 | F34: =SUM(F3:F32)/60 -> 0 | G34: =SUM(G3:G32)/60 -> 0 | H34: =SUM(H3:H32)/60 -> 0 | I34: =SUM(I3:I32)/60 -> 0 | J34: =SUM(J3:J32)/60 -> 0 | ... BC34: =SUM(BC3:BC32)/60 -> 0
A35: Performance | C35: =C34/C33 -> #VALUE! | D35: =D34/D33 -> #VALUE! | E35: =E34/E33 -> #VALUE! | F35: =F34/F33 -> #VALUE! | G35: =G34/G33 -> #VALUE! | H35: =H34/H33 -> #VALUE! | I35: =I34/I33 -> #VALUE! | J35: =J34/J33 -> #VALUE! | ... BC35: =BC34/BC33 -> #VALUE!

Sheet Statistiques annuelles
A2: Conseiller | B2: Performance annuelle
B3: =IFERROR(AVERAGEIF(CJP!$C$35:$BC$35,"<>0"),"")
B4: =IFERROR(AVERAGEIF(CP!$C$35:$BC$35,"<>0"),"")
B5: =IFERROR(AVERAGEIF(FG!$C$35:$BC$35,"<>0"),"")
B6: =IFERROR(AVERAGEIF(LE!$C$35:$BC$35,"<>0"),"")
B7: =IFERROR(AVERAGEIF(NB!$C$35:$BC$35,"<>0"),"")
B8: =IFERROR(AVERAGEIF(SR!$C$35:$BC$35,"<>0"),"")
B9: =IFERROR(AVERAGEIF(SEG!$C$35:$BC$35,"<>0"),"")

Sheet Temps standard
A2: Tâche | B2: Temps moyen (en minute)
A3: Compuquote - Demande de branchement | B3: 5
A4: PILOTAGE - Bulletins du BAC | B4: 5
A5: PILOTAGE CEPA - Synchronisation de police | B5: 5
A6: PILOTAGE CRÉANCIER/LOCATEUR - Ajout reconnu | B6: 20
A7: PILOTAGE CRÉANCIER/LOCATEUR - Fusion institution | B7: 20
A8: PILOTAGE CRÉANCIER/LOCATEUR - Modification | B8: 20
A9: PILOTAGE CRÉANCIER/LOCATEUR - Modification caisse | B9: 35
A10: PILOTAGE CRÉANCIER/LOCATEUR - Non reconnu | B10: 15
A11: PILOTAGE FOURNISSEUR - Ajout | B11: 15
A12: PILOTAGE FOURNISSEUR - Désactivation | B12: 10
A13: PILOTAGE FOURNISSEUR - Modification | B13: 10
A14: MODALITÉ D'IMPRESSION - Changement signature | B14: 5
... A43: Espace client - Courriel | B43: 5

Sheet Courriel conseillers
A2: Évaluation temps standard | B2: CJP | C2: CP | D2: FG | E2: LE | F2: NB | G2: SR | H2: SEG | I2: CN
A3: Compuquote - Demande de branchement
A4: PILOTAGE - Bulletins du BAC
A5: PILOTAGE CEPA - Synchronisation de police
A6: PILOTAGE CRÉANCIER/LOCATEUR - Ajout reconnu | I6: 20
A7: PILOTAGE CRÉANCIER/LOCATEUR - Fusion institution | I7: 25
A8: PILOTAGE CRÉANCIER/LOCATEUR - Modification | I8: 20
A9: PILOTAGE CRÉANCIER/LOCATEUR - Modification caisse | I9: 35
A10: PILOTAGE CRÉANCIER/LOCATEUR - Non reconnu | I10: 15
A11: PILOTAGE FOURNISSEUR - Ajout | I11: 15
A12: PILOTAGE FOURNISSEUR - Désactivation | I12: 10
A13: PILOTAGE FOURNISSEUR - Modification | I13: 10
A14: MODALITÉ D'IMPRESSION - Changement signature
A15: MODALITÉ D'IMPRESSION - Paiement
A16: MODALITÉ D'IMPRESSION - Courtier en facturation directe
A17: PILOTAGE NUMÉRO DE SÉRIE - Caravane | I17: 15
A18: PILOTAGE NUMÉRO DE SÉRIE - Numéro standard | I18: 30
A19: PILOTAGE NUMÉRO DE SÉRIE - Numéro standard avec graduation | I19: 50
A20: PILOTAGE NUMÉRO DE SÉRIE - Véhicule divers | I20: 45
A21: PILOTAGE NUMÉRO DE SÉRIE - Véhicule incomplet | I21: 15
A22: PILOTAGE P3 - Formulaires
A23: PILOTAGE REPRÉSENTANT - Ajout
A24: PILOTAGE REPRÉSENTANT - Modification
A25: PILOTAGE REPRÉSENTANT - Transfert
A26: PILOTAGE UTILISATEUR - Arrivée | I26: 20
A27: PILOTAGE UTILISATEUR - Départ | I27: 15
A28: PILOTAGE UTILISATEUR - Modification | I28: 15
A29: SOUTIEN APPLICATIF - OGP lignes commerciales
A30: SOUTIEN APPLICATIF - OGP lignes personnelles
A31: SOUTIEN APPLICATIF - OGS
A32: SOUTIEN APPLICATIF - P3
A33: SOUTIEN APPLICATIF - SADg
A34: SOUTIEN APPLICATIF - TELg
A35: SOUTIEN APPLICATIF - RAMMG
A36: SOUTIEN APPLICATIF - RCT
A37: SOUTIEN APPLICATIF - Console agent
A38: APPI - Soutien applicatif
A39: APPI - Clavardage
A40: APPI - Courriel
... A43: Espace client - Courriel
