Workbook
Name Personnel: #REF!
Name SEUILFLORE: TDC!$B$24

Sheet Solution 2
A3: Somme de % Satisfaisant Flore
A4: Année | B4: Mois | C4: Total
A5: 2017 | B5: 1 | C5: 1
B6: 2 | C6: 0.76190476
B7: 3 | C7: 1
B8: 4 | C8: 0.95833333
A9: Total 2017 | C9: 0.93478261
A10: 2018 | B10: 1 | C10: 1
B11: 2 | C11: 0.88461538
B12: 3 | C12: 1
B13: 4 | C13: 1
A14: Total 2018 | C14: 0.96774194
A15: Total général | C15: 0.95135135
A21: An | B21: Année | C21: Mois | D21: OK | E21: KO | F21: Seuil
A22: 2017 | B22: 2017 | C22: 1 | D22: =IF(ISERROR(GETPIVOTDATA("% Satisfaisant Flore",$A$3,"Année",$A22,"Mois",$C22)),NA(),IF(GETPIVOTDATA("% Satisfaisant Flore",$A$3,"Année",$A22,"Mois",$C22)<90%,GETPIVOTDATA("% Satisfaisant Flore",$A$3,"Année",$A22,"Mois",$C22),0)) -> 0 | E22: =IF(ISERROR(GETPIVOTDATA("% Satisfaisant Flore",$A$3,"Année",$A22,"Mois",$C22)),NA(),IF(GETPIVOTDATA("% Satisfaisant Flore",$A$3,"Année",$A22,"Mois",$C22)>=90%,GETPIVOTDATA("% Satisfaisant Flore",$A$3,"Année",$A22,"Mois",$C22),0)) -> 1 | F22: 0.9
A23: 2017 | C23: 2 | D23: =IF(ISERROR(GETPIVOTDATA("% Satisfaisant Flore",$A$3,"Année",$A23,"Mois",$C23)),NA(),IF(GETPIVOTDATA("% Satisfaisant Flore",$A$3,"Année",$A23,"Mois",$C23)<90%,GETPIVOTDATA("% Satisfaisant Flore",$A$3,"Année",$A23,"Mois",$C23),0)) -> 0.76190476 | E23: =IF(ISERROR(GETPIVOTDATA("% Satisfaisant Flore",$A$3,"Année",$A23,"Mois",$C23)),NA(),IF(GETPIVOTDATA("% Satisfaisant Flore",$A$3,"Année",$A23,"Mois",$C23)>=90%,GETPIVOTDATA("% Satisfaisant Flore",$A$3,"Année",$A23,"Mois",$C23),0)) -> 0 | F23: 0.9
A24: 2017 | C24: 3 | D24: =IF(ISERROR(GETPIVOTDATA("% Satisfaisant Flore",$A$3,"Année",$A24,"Mois",$C24)),NA(),IF(GETPIVOTDATA("% Satisfaisant Flore",$A$3,"Année",$A24,"Mois",$C24)<90%,GETPIVOTDATA("% Satisfaisant Flore",$A$3,"Année",$A24,"Mois",$C24),0)) -> 0 | E24: =IF(ISERROR(GETPIVOTDATA("% Satisfaisant Flore",$A$3,"Année",$A24,"Mois",$C24)),NA(),IF(GETPIVOTDATA("% Satisfaisant Flore",$A$3,"Année",$A24,"Mois",$C24)>=90%,GETPIVOTDATA("% Satisfaisant Flore",$A$3,"Année",$A24,"Mois",$C24),0)) -> 1 | F24: 0.9
A25: 2017 | C25: 4 | D25: =IF(ISERROR(GETPIVOTDATA("% Satisfaisant Flore",$A$3,"Année",$A25,"Mois",$C25)),NA(),IF(GETPIVOTDATA("% Satisfaisant Flore",$A$3,"Année",$A25,"Mois",$C25)<90%,GETPIVOTDATA("% Satisfaisant Flore",$A$3,"Année",$A25,"Mois",$C25),0)) -> 0 | E25: =IF(ISERROR(GETPIVOTDATA("% Satisfaisant Flore",$A$3,"Année",$A25,"Mois",$C25)),NA(),IF(GETPIVOTDATA("% Satisfaisant Flore",$A$3,"Année",$A25,"Mois",$C25)>=90%,GETPIVOTDATA("% Satisfaisant Flore",$A$3,"Année",$A25,"Mois",$C25),0)) -> 0.95833333 | F25: 0.9
A26: 2017 | C26: 5 | D26: =IF(ISERROR(GETPIVOTDATA("% Satisfaisant Flore",$A$3,"Année",$A26,"Mois",$C26)),NA(),IF(GETPIVOTDATA("% Satisfaisant Flore",$A$3,"Année",$A26,"Mois",$C26)<90%,GETPIVOTDATA("% Satisfaisant Flore",$A$3,"Année",$A26,"Mois",$C26),0)) -> #N/A | E26: =IF(ISERROR(GETPIVOTDATA("% Satisfaisant Flore",$A$3,"Année",$A26,"Mois",$C26)),NA(),IF(GETPIVOTDATA("% Satisfaisant Flore",$A$3,"Année",$A26,"Mois",$C26)>=90%,GETPIVOTDATA("% Satisfaisant Flore",$A$3,"Année",$A26,"Mois",$C26),0)) -> #N/A | F26: 0.9
A27: 2017 | C27: 6 | D27: =IF(ISERROR(GETPIVOTDATA("% Satisfaisant Flore",$A$3,"Année",$A27,"Mois",$C27)),NA(),IF(GETPIVOTDATA("% Satisfaisant Flore",$A$3,"Année",$A27,"Mois",$C27)<90%,GETPIVOTDATA("% Satisfaisant Flore",$A$3,"Année",$A27,"Mois",$C27),0)) -> #N/A | E27: =IF(ISERROR(GETPIVOTDATA("% Satisfaisant Flore",$A$3,"Année",$A27,"Mois",$C27)),NA(),IF(GETPIVOTDATA("% Satisfaisant Flore",$A$3,"Année",$A27,"Mois",$C27)>=90%,GETPIVOTDATA("% Satisfaisant Flore",$A$3,"Année",$A27,"Mois",$C27),0)) -> #N/A | F27: 0.9
A28: 2017 | C28: 7 | D28: =IF(ISERROR(GETPIVOTDATA("% Satisfaisant Flore",$A$3,"Année",$A28,"Mois",$C28)),NA(),IF(GETPIVOTDATA("% Satisfaisant Flore",$A$3,"Année",$A28,"Mois",$C28)<90%,GETPIVOTDATA("% Satisfaisant Flore",$A$3,"Année",$A28,"Mois",$C28),0)) -> #N/A | E28: =IF(ISERROR(GETPIVOTDATA("% Satisfaisant Flore",$A$3,"Année",$A28,"Mois",$C28)),NA(),IF(GETPIVOTDATA("% Satisfaisant Flore",$A$3,"Année",$A28,"Mois",$C28)>=90%,GETPIVOTDATA("% Satisfaisant Flore",$A$3,"Année",$A28,"Mois",$C28),0)) -> #N/A | F28: 0.9
A29: 2017 | C29: 8 | D29: =IF(ISERROR(GETPIVOTDATA("% Satisfaisant Flore",$A$3,"Année",$A29,"Mois",$C29)),NA(),IF(GETPIVOTDATA("% Satisfaisant Flore",$A$3,"Année",$A29,"Mois",$C29)<90%,GETPIVOTDATA("% Satisfaisant Flore",$A$3,"Année",$A29,"Mois",$C29),0)) -> #N/A | E29: =IF(ISERROR(GETPIVOTDATA("% Satisfaisant Flore",$A$3,"Année",$A29,"Mois",$C29)),NA(),IF(GETPIVOTDATA("% Satisfaisant Flore",$A$3,"Année",$A29,"Mois",$C29)>=90%,GETPIVOTDATA("% Satisfaisant Flore",$A$3,"Année",$A29,"Mois",$C29),0)) -> #N/A | F29: 0.9
A30: 2017 | C30: 9 | D30: =IF(ISERROR(GETPIVOTDATA("% Satisfaisant Flore",$A$3,"Année",$A30,"Mois",$C30)),NA(),IF(GETPIVOTDATA("% Satisfaisant Flore",$A$3,"Année",$A30,"Mois",$C30)<90%,GETPIVOTDATA("% Satisfaisant Flore",$A$3,"Année",$A30,"Mois",$C30),0)) -> #N/A | E30: =IF(ISERROR(GETPIVOTDATA("% Satisfaisant Flore",$A$3,"Année",$A30,"Mois",$C30)),NA(),IF(GETPIVOTDATA("% Satisfaisant Flore",$A$3,"Année",$A30,"Mois",$C30)>=90%,GETPIVOTDATA("% Satisfaisant Flore",$A$3,"Année",$A30,"Mois",$C30),0)) -> #N/A | F30: 0.9
A31: 2017 | C31: 10 | D31: =IF(ISERROR(GETPIVOTDATA("% Satisfaisant Flore",$A$3,"Année",$A31,"Mois",$C31)),NA(),IF(GETPIVOTDATA("% Satisfaisant Flore",$A$3,"Année",$A31,"Mois",$C31)<90%,GETPIVOTDATA("% Satisfaisant Flore",$A$3,"Année",$A31,"Mois",$C31),0)) -> #N/A | E31: =IF(ISERROR(GETPIVOTDATA("% Satisfaisant Flore",$A$3,"Année",$A31,"Mois",$C31)),NA(),IF(GETPIVOTDATA("% Satisfaisant Flore",$A$3,"Année",$A31,"Mois",$C31)>=90%,GETPIVOTDATA("% Satisfaisant Flore",$A$3,"Année",$A31,"Mois",$C31),0)) -> #N/A | F31: 0.9
A32: 2017 | C32: 11 | D32: =IF(ISERROR(GETPIVOTDATA("% Satisfaisant Flore",$A$3,"Année",$A32,"Mois",$C32)),NA(),IF(GETPIVOTDATA("% Satisfaisant Flore",$A$3,"Année",$A32,"Mois",$C32)<90%,GETPIVOTDATA("% Satisfaisant Flore",$A$3,"Année",$A32,"Mois",$C32),0)) -> #N/A | E32: =IF(ISERROR(GETPIVOTDATA("% Satisfaisant Flore",$A$3,"Année",$A32,"Mois",$C32)),NA(),IF(GETPIVOTDATA("% Satisfaisant Flore",$A$3,"Année",$A32,"Mois",$C32)>=90%,GETPIVOTDATA("% Satisfaisant Flore",$A$3,"Année",$A32,"Mois",$C32),0)) -> #N/A | F32: 0.9
A33: 2017 | C33: 12 | D33: =IF(ISERROR(GETPIVOTDATA("% Satisfaisant Flore",$A$3,"Année",$A33,"Mois",$C33)),NA(),IF(GETPIVOTDATA("% Satisfaisant Flore",$A$3,"Année",$A33,"Mois",$C33)<90%,GETPIVOTDATA("% Satisfaisant Flore",$A$3,"Année",$A33,"Mois",$C33),0)) -> #N/A | E33: =IF(ISERROR(GETPIVOTDATA("% Satisfaisant Flore",$A$3,"Année",$A33,"Mois",$C33)),NA(),IF(GETPIVOTDATA("% Satisfaisant Flore",$A$3,"Année",$A33,"Mois",$C33)>=90%,GETPIVOTDATA("% Satisfaisant Flore",$A$3,"Année",$A33,"Mois",$C33),0)) -> #N/A | F33: 0.9
A34: 2018 | B34: 2018 | C34: 1 | D34: =IF(ISERROR(GETPIVOTDATA("% Satisfaisant Flore",$A$3,"Année",$A34,"Mois",$C34)),NA(),IF(GETPIVOTDATA("% Satisfaisant Flore",$A$3,"Année",$A34,"Mois",$C34)<90%,GETPIVOTDATA("% Satisfaisant Flore",$A$3,"Année",$A34,"Mois",$C34),0)) -> 0 | E34: =IF(ISERROR(GETPIVOTDATA("% Satisfaisant Flore",$A$3,"Année",$A34,"Mois",$C34)),NA(),IF(GETPIVOTDATA("% Satisfaisant Flore",$A$3,"Année",$A34,"Mois",$C34)>=90%,GETPIVOTDATA("% Satisfaisant Flore",$A$3,"Année",$A34,"Mois",$C34),0)) -> 1 | F34: 0.9
A35: 2018 | C35: 2 | D35: =IF(ISERROR(GETPIVOTDATA("% Satisfaisant Flore",$A$3,"Année",$A35,"Mois",$C35)),NA(),IF(GETPIVOTDATA("% Satisfaisant Flore",$A$3,"Année",$A35,"Mois",$C35)<90%,GETPIVOTDATA("% Satisfaisant Flore",$A$3,"Année",$A35,"Mois",$C35),0)) -> 0.88461538 | E35: =IF(ISERROR(GETPIVOTDATA("% Satisfaisant Flore",$A$3,"Année",$A35,"Mois",$C35)),NA(),IF(GETPIVOTDATA("% Satisfaisant Flore",$A$3,"Année",$A35,"Mois",$C35)>=90%,GETPIVOTDATA("% Satisfaisant Flore",$A$3,"Année",$A35,"Mois",$C35),0)) -> 0 | F35: 0.9
A36: 2018 | C36: 3 | D36: =IF(ISERROR(GETPIVOTDATA("% Satisfaisant Flore",$A$3,"Année",$A36,"Mois",$C36)),NA(),IF(GETPIVOTDATA("% Satisfaisant Flore",$A$3,"Année",$A36,"Mois",$C36)<90%,GETPIVOTDATA("% Satisfaisant Flore",$A$3,"Année",$A36,"Mois",$C36),0)) -> 0 | E36: =IF(ISERROR(GETPIVOTDATA("% Satisfaisant Flore",$A$3,"Année",$A36,"Mois",$C36)),NA(),IF(GETPIVOTDATA("% Satisfaisant Flore",$A$3,"Année",$A36,"Mois",$C36)>=90%,GETPIVOTDATA("% Satisfaisant Flore",$A$3,"Année",$A36,"Mois",$C36),0)) -> 1 | F36: 0.9
A37: 2018 | C37: 4 | D37: =IF(ISERROR(GETPIVOTDATA("% Satisfaisant Flore",$A$3,"Année",$A37,"Mois",$C37)),NA(),IF(GETPIVOTDATA("% Satisfaisant Flore",$A$3,"Année",$A37,"Mois",$C37)<90%,GETPIVOTDATA("% Satisfaisant Flore",$A$3,"Année",$A37,"Mois",$C37),0)) -> 0 | E37: =IF(ISERROR(GETPIVOTDATA("% Satisfaisant Flore",$A$3,"Année",$A37,"Mois",$C37)),NA(),IF(GETPIVOTDATA("% Satisfaisant Flore",$A$3,"Année",$A37,"Mois",$C37)>=90%,GETPIVOTDATA("% Satisfaisant Flore",$A$3,"Année",$A37,"Mois",$C37),0)) -> 1 | F37: 0.9
A38: 2018 | C38: 5 | D38: =IF(ISERROR(GETPIVOTDATA("% Satisfaisant Flore",$A$3,"Année",$A38,"Mois",$C38)),NA(),IF(GETPIVOTDATA("% Satisfaisant Flore",$A$3,"Année",$A38,"Mois",$C38)<90%,GETPIVOTDATA("% Satisfaisant Flore",$A$3,"Année",$A38,"Mois",$C38),0)) -> #N/A | E38: =IF(ISERROR(GETPIVOTDATA("% Satisfaisant Flore",$A$3,"Année",$A38,"Mois",$C38)),NA(),IF(GETPIVOTDATA("% Satisfaisant Flore",$A$3,"Année",$A38,"Mois",$C38)>=90%,GETPIVOTDATA("% Satisfaisant Flore",$A$3,"Année",$A38,"Mois",$C38),0)) -> #N/A | F38: 0.9
A39: 2018 | C39: 6 | D39: =IF(ISERROR(GETPIVOTDATA("% Satisfaisant Flore",$A$3,"Année",$A39,"Mois",$C39)),NA(),IF(GETPIVOTDATA("% Satisfaisant Flore",$A$3,"Année",$A39,"Mois",$C39)<90%,GETPIVOTDATA("% Satisfaisant Flore",$A$3,"Année",$A39,"Mois",$C39),0)) -> #N/A | E39: =IF(ISERROR(GETPIVOTDATA("% Satisfaisant Flore",$A$3,"Année",$A39,"Mois",$C39)),NA(),IF(GETPIVOTDATA("% Satisfaisant Flore",$A$3,"Année",$A39,"Mois",$C39)>=90%,GETPIVOTDATA("% Satisfaisant Flore",$A$3,"Année",$A39,"Mois",$C39),0)) -> #N/A | F39: 0.9
A40: 2018 | C40: 7 | D40: =IF(ISERROR(GETPIVOTDATA("% Satisfaisant Flore",$A$3,"Année",$A40,"Mois",$C40)),NA(),IF(GETPIVOTDATA("% Satisfaisant Flore",$A$3,"Année",$A40,"Mois",$C40)<90%,GETPIVOTDATA("% Satisfaisant Flore",$A$3,"Année",$A40,"Mois",$C40),0)) -> #N/A | E40: =IF(ISERROR(GETPIVOTDATA("% Satisfaisant Flore",$A$3,"Année",$A40,"Mois",$C40)),NA(),IF(GETPIVOTDATA("% Satisfaisant Flore",$A$3,"Année",$A40,"Mois",$C40)>=90%,GETPIVOTDATA("% Satisfaisant Flore",$A$3,"Année",$A40,"Mois",$C40),0)) -> #N/A | F40: 0.9
A41: 2018 | C41: 8 | D41: =IF(ISERROR(GETPIVOTDATA("% Satisfaisant Flore",$A$3,"Année",$A41,"Mois",$C41)),NA(),IF(GETPIVOTDATA("% Satisfaisant Flore",$A$3,"Année",$A41,"Mois",$C41)<90%,GETPIVOTDATA("% Satisfaisant Flore",$A$3,"Année",$A41,"Mois",$C41),0)) -> #N/A | E41: =IF(ISERROR(GETPIVOTDATA("% Satisfaisant Flore",$A$3,"Année",$A41,"Mois",$C41)),NA(),IF(GETPIVOTDATA("% Satisfaisant Flore",$A$3,"Année",$A41,"Mois",$C41)>=90%,GETPIVOTDATA("% Satisfaisant Flore",$A$3,"Année",$A41,"Mois",$C41),0)) -> #N/A | F41: 0.9
A42: 2018 | C42: 9 | D42: =IF(ISERROR(GETPIVOTDATA("% Satisfaisant Flore",$A$3,"Année",$A42,"Mois",$C42)),NA(),IF(GETPIVOTDATA("% Satisfaisant Flore",$A$3,"Année",$A42,"Mois",$C42)<90%,GETPIVOTDATA("% Satisfaisant Flore",$A$3,"Année",$A42,"Mois",$C42),0)) -> #N/A | E42: =IF(ISERROR(GETPIVOTDATA("% Satisfaisant Flore",$A$3,"Année",$A42,"Mois",$C42)),NA(),IF(GETPIVOTDATA("% Satisfaisant Flore",$A$3,"Année",$A42,"Mois",$C42)>=90%,GETPIVOTDATA("% Satisfaisant Flore",$A$3,"Année",$A42,"Mois",$C42),0)) -> #N/A | F42: 0.9
A43: 2018 | C43: 10 | D43: =IF(ISERROR(GETPIVOTDATA("% Satisfaisant Flore",$A$3,"Année",$A43,"Mois",$C43)),NA(),IF(GETPIVOTDATA("% Satisfaisant Flore",$A$3,"Année",$A43,"Mois",$C43)<90%,GETPIVOTDATA("% Satisfaisant Flore",$A$3,"Année",$A43,"Mois",$C43),0)) -> #N/A | E43: =IF(ISERROR(GETPIVOTDATA("% Satisfaisant Flore",$A$3,"Année",$A43,"Mois",$C43)),NA(),IF(GETPIVOTDATA("% Satisfaisant Flore",$A$3,"Année",$A43,"Mois",$C43)>=90%,GETPIVOTDATA("% Satisfaisant Flore",$A$3,"Année",$A43,"Mois",$C43),0)) -> #N/A | F43: 0.9
A44: 2018 | C44: 11 | D44: =IF(ISERROR(GETPIVOTDATA("% Satisfaisant Flore",$A$3,"Année",$A44,"Mois",$C44)),NA(),IF(GETPIVOTDATA("% Satisfaisant Flore",$A$3,"Année",$A44,"Mois",$C44)<90%,GETPIVOTDATA("% Satisfaisant Flore",$A$3,"Année",$A44,"Mois",$C44),0)) -> #N/A | E44: =IF(ISERROR(GETPIVOTDATA("% Satisfaisant Flore",$A$3,"Année",$A44,"Mois",$C44)),NA(),IF(GETPIVOTDATA("% Satisfaisant Flore",$A$3,"Année",$A44,"Mois",$C44)>=90%,GETPIVOTDATA("% Satisfaisant Flore",$A$3,"Année",$A44,"Mois",$C44),0)) -> #N/A | F44: 0.9
A45: 2018 | C45: 12 | D45: =IF(ISERROR(GETPIVOTDATA("% Satisfaisant Flore",$A$3,"Année",$A45,"Mois",$C45)),NA(),IF(GETPIVOTDATA("% Satisfaisant Flore",$A$3,"Année",$A45,"Mois",$C45)<90%,GETPIVOTDATA("% Satisfaisant Flore",$A$3,"Année",$A45,"Mois",$C45),0)) -> #N/A | E45: =IF(ISERROR(GETPIVOTDATA("% Satisfaisant Flore",$A$3,"Année",$A45,"Mois",$C45)),NA(),IF(GETPIVOTDATA("% Satisfaisant Flore",$A$3,"Année",$A45,"Mois",$C45)>=90%,GETPIVOTDATA("% Satisfaisant Flore",$A$3,"Année",$A45,"Mois",$C45),0)) -> #N/A | F45: 0.9

Sheet TDC
A1: Satifaisant Flore
A2: Atelier | B2: (Plusieurs éléments)
C4: Données
A5: Année | B5: Mois | C5: Somme de % Satisfaisant Flore OK | D5: Somme de Satisfaisant Flore KO | E5: Seuil
A6: 2017 | B6: 1 | C6: 0 | D6: 1 | E6: 0.9
B7: 2 | C7: 0.76190476 | D7: 0 | E7: 0.9
B8: 3 | C8: 0 | D8: 1 | E8: 0.9
B9: 4 | C9: 0 | D9: 0.95833333 | E9: 0.9
A10: Total 2017 | C10: 0.93478261 | D10: 0 | E10: 0.9
A11: 2018 | B11: 1 | C11: 0 | D11: 1 | E11: 0.9
B12: 2 | C12: 0.88461538 | D12: 0 | E12: 0.9
B13: 3 | C13: 0 | D13: 1 | E13: 0.9
B14: 4 | C14: 0 | D14: 1 | E14: 0.9
A15: Total 2018 | C15: 0.96774194 | D15: 0 | E15: 0.9
A16: Total Satifaisant Flore | C16: 0.95135135 | D16: 0 | E16: 0.9

Sheet Mains
A1: Année | B1: Mois | C1: Semaine | D1: Atelier | E1: Date | F1: Nom | G1: Flore (BLANC) | H1: RESULTAT FLORE | I1: NBS FLORE | J1: NBNS FLORE | K1: Critère | L1: Objectif Flore | M1: Objectif Entero | N1: Seuil
A2: =IF(E2="","",(YEAR(E2))) -> 2017 | B2: =IF(E2="","",(MONTH(E2))) -> 1 | C2: 1 | D2: Conditionnement | E2: 42740 | F2: M Aug | G2: 15 | H2: =IF(G2="","",IF(G2<=50,"S","NS")) -> S | I2: =IF(H2="S",COUNTA(H2),"") -> 1 | J2: =IF(H2="NS",COUNTA(H2),"") | K2: =IF(COUNTA(E2)=0,"",1) -> 1 | L2: 90 | M2: 100 | N2: =IF(COUNTIFS($A$2:A2,A2,Mains!$B$2:B2,Mains!B2)=1,Mains!L2,0)/100 -> 0.9
A3: =IF(E3="","",(YEAR(E3))) -> 2017 | B3: =IF(E3="","",(MONTH(E3))) -> 1 | C3: 1 | D3: Conditionnement | E3: 42740 | F3: M bris | G3: 31 | H3: =IF(G3="","",IF(G3<=50,"S","NS")) -> S | I3: =IF(H3="S",COUNTA(H3),"") -> 1 | J3: =IF(H3="NS",COUNTA(H3),"") | K3: =IF(COUNTA(E3)=0,"",1) -> 1 | L3: 90 | M3: 100 | N3: =IF(COUNTIFS($A$2:A3,A3,Mains!$B$2:B3,Mains!B3)=1,Mains!L3,0)/100 -> 0
A4: =IF(E4="","",(YEAR(E4))) -> 2017 | B4: =IF(E4="","",(MONTH(E4))) -> 1 | C4: 1 | D4: Pel | E4: 42740 | F4: M Cha | G4: 0 | H4: =IF(G4="","",IF(G4<=50,"S","NS")) -> S | I4: =IF(H4="S",COUNTA(H4),"") -> 1 | J4: =IF(H4="NS",COUNTA(H4),"") | K4: =IF(COUNTA(E4)=0,"",1) -> 1 | L4: 90 | M4: 100 | N4: =IF(COUNTIFS($A$2:A4,A4,Mains!$B$2:B4,Mains!B4)=1,Mains!L4,0)/100 -> 0
A5: =IF(E5="","",(YEAR(E5))) -> 2017 | B5: =IF(E5="","",(MONTH(E5))) -> 1 | C5: 1 | D5: Pel | E5: 42740 | F5: M Mor | G5: 35 | H5: =IF(G5="","",IF(G5<=50,"S","NS")) -> S | I5: =IF(H5="S",COUNTA(H5),"") -> 1 | J5: =IF(H5="NS",COUNTA(H5),"") | K5: =IF(COUNTA(E5)=0,"",1) -> 1 | L5: 90 | M5: 100 | N5: =IF(COUNTIFS($A$2:A5,A5,Mains!$B$2:B5,Mains!B5)=1,Mains!L5,0)/100 -> 0
A6: =IF(E6="","",(YEAR(E6))) -> 2017 | B6: =IF(E6="","",(MONTH(E6))) -> 1 | C6: 2 | D6: Abattage | E6: 42747 | F6: M Dur | G6: 28 | H6: =IF(G6="","",IF(G6<=50,"S","NS")) -> S | I6: =IF(H6="S",COUNTA(H6),"") -> 1 | J6: =IF(H6="NS",COUNTA(H6),"") | K6: =IF(COUNTA(E6)=0,"",1) -> 1 | L6: 90 | M6: 100 | N6: =IF(COUNTIFS($A$2:A6,A6,Mains!$B$2:B6,Mains!B6)=1,Mains!L6,0)/100 -> 0
A7: =IF(E7="","",(YEAR(E7))) -> 2017 | B7: =IF(E7="","",(MONTH(E7))) -> 1 | C7: 2 | D7: Abattage | E7: 42747 | F7: M Brin | G7: 4 | H7: =IF(G7="","",IF(G7<=50,"S","NS")) -> S | I7: =IF(H7="S",COUNTA(H7),"") -> 1 | J7: =IF(H7="NS",COUNTA(H7),"") | K7: =IF(COUNTA(E7)=0,"",1) -> 1 | L7: 90 | M7: 100 | N7: =IF(COUNTIFS($A$2:A7,A7,Mains!$B$2:B7,Mains!B7)=1,Mains!L7,0)/100 -> 0
A8: =IF(E8="","",(YEAR(E8))) -> 2017 | B8: =IF(E8="","",(MONTH(E8))) -> 1 | C8: 2 | D8: Conditionnement | E8: 42747 | F8: M Cha | G8: 0 | H8: =IF(G8="","",IF(G8<=50,"S","NS")) -> S | I8: =IF(H8="S",COUNTA(H8),"") -> 1 | J8: =IF(H8="NS",COUNTA(H8),"") | K8: =IF(COUNTA(E8)=0,"",1) -> 1 | L8: 90 | M8: 100 | N8: =IF(COUNTIFS($A$2:A8,A8,Mains!$B$2:B8,Mains!B8)=1,Mains!L8,0)/100 -> 0
A9: =IF(E9="","",(YEAR(E9))) -> 2017 | B9: =IF(E9="","",(MONTH(E9))) -> 1 | C9: 2 | D9: Conditionnement | E9: 42747 | F9: M Poin | G9: 0 | H9: =IF(G9="","",IF(G9<=50,"S","NS")) -> S | I9: =IF(H9="S",COUNTA(H9),"") -> 1 | J9: =IF(H9="NS",COUNTA(H9),"") | K9: =IF(COUNTA(E9)=0,"",1) -> 1 | L9: 90 | M9: 100 | N9: =IF(COUNTIFS($A$2:A9,A9,Mains!$B$2:B9,Mains!B9)=1,Mains!L9,0)/100 -> 0
A10: =IF(E10="","",(YEAR(E10))) -> 2017 | B10: =IF(E10="","",(MONTH(E10))) -> 1 | C10: 2 | D10: Conditionnement | E10: 42747 | F10: M Fau | G10: 0 | H10: =IF(G10="","",IF(G10<=50,"S","NS")) -> S | I10: =IF(H10="S",COUNTA(H10),"") -> 1 | J10: =IF(H10="NS",COUNTA(H10),"") | K10: =IF(COUNTA(E10)=0,"",1) -> 1 | L10: 90 | M10: 100 | N10: =IF(COUNTIFS($A$2:A10,A10,Mains!$B$2:B10,Mains!B10)=1,Mains!L10,0)/100 -> 0
A11: =IF(E11="","",(YEAR(E11))) -> 2017 | B11: =IF(E11="","",(MONTH(E11))) -> 1 | C11: 2 | D11: Pel | E11: 42747 | F11: M Gab | G11: 0 | H11: =IF(G11="","",IF(G11<=50,"S","NS")) -> S | I11: =IF(H11="S",COUNTA(H11),"") -> 1 | J11: =IF(H11="NS",COUNTA(H11),"") | K11: =IF(COUNTA(E11)=0,"",1) -> 1 | L11: 90 | M11: 100 | N11: =IF(COUNTIFS($A$2:A11,A11,Mains!$B$2:B11,Mains!B11)=1,Mains!L11,0)/100 -> 0
A12: =IF(E12="","",(YEAR(E12))) -> 2017 | B12: =IF(E12="","",(MONTH(E12))) -> 1 | C12: 2 | D12: Pel | E12: 42747 | F12: M Fau | G12: 2 | H12: =IF(G12="","",IF(G12<=50,"S","NS")) -> S | I12: =IF(H12="S",COUNTA(H12),"") -> 1 | J12: =IF(H12="NS",COUNTA(H12),"") | K12: =IF(COUNTA(E12)=0,"",1) -> 1 | L12: 90 | M12: 100 | N12: =IF(COUNTIFS($A$2:A12,A12,Mains!$B$2:B12,Mains!B12)=1,Mains!L12,0)/100 -> 0
A13: =IF(E13="","",(YEAR(E13))) -> 2017 | B13: =IF(E13="","",(MONTH(E13))) -> 1 | C13: 3 | D13: Abattage | E13: 42753 | F13: M Gob | G13: 36 | H13: =IF(G13="","",IF(G13<=50,"S","NS")) -> S | I13: =IF(H13="S",COUNTA(H13),"") -> 1 | J13: =IF(H13="NS",COUNTA(H13),"") | K13: =IF(COUNTA(E13)=0,"",1) -> 1 | L13: 90 | M13: 100 | N13: =IF(COUNTIFS($A$2:A13,A13,Mains!$B$2:B13,Mains!B13)=1,Mains!L13,0)/100 -> 0
... A26: =IF(E26="","",(YEAR(E26))) -> 2017 | B26: =IF(E26="","",(MONTH(E26))) -> 2 | C26: 5 | D26: Pel | E26: 42767 | F26: M Cha | G26: 0 | H26: =IF(G26="","",IF(G26<=50,"S","NS")) -> S | I26: =IF(H26="S",COUNTA(H26),"") -> 1 | J26: =IF(H26="NS",COUNTA(H26),"") | K26: =IF(COUNTA(E26)=0,"",1) -> 1 | L26: 90 | M26: 100 | N26: =IF(COUNTIFS($A$2:A26,A26,Mains!$B$2:B26,Mains!B26)=1,Mains!L26,0)/100 -> 0
A27: =IF(E27="","",(YEAR(E27))) -> 2017 | B27: =IF(E27="","",(MONTH(E27))) -> 2 | C27: 6 | D27: Abattage | E27: 42774 | F27: M Dra | G27: >50 | H27: =IF(G27="","",IF(G27<=50,"S","NS")) -> NS | I27: =IF(H27="S",COUNTA(H27),"") | J27: =IF(H27="NS",COUNTA(H27),"") -> 1 | K27: =IF(COUNTA(E27)=0,"",1) -> 1 | L27: 90 | M27: 100 | N27: =IF(COUNTIFS($A$2:A27,A27,Mains!$B$2:B27,Mains!B27)=1,Mains!L27,0)/100 -> 0
A28: =IF(E28="","",(YEAR(E28))) -> 2017 | B28: =IF(E28="","",(MONTH(E28))) -> 2 | C28: 6 | D28: Conditionnement | E28: 42774 | F28: M Aug | G28: 0 | H28: =IF(G28="","",IF(G28<=50,"S","NS")) -> S | I28: =IF(H28="S",COUNTA(H28),"") -> 1 | J28: =IF(H28="NS",COUNTA(H28),"") | K28: =IF(COUNTA(E28)=0,"",1) -> 1 | L28: 90 | M28: 100 | N28: =IF(COUNTIFS($A$2:A28,A28,Mains!$B$2:B28,Mains!B28)=1,Mains!L28,0)/100 -> 0
A29: =IF(E29="","",(YEAR(E29))) -> 2017 | B29: =IF(E29="","",(MONTH(E29))) -> 2 | C29: 6 | D29: Pel | E29: 42774 | F29: M Mor | G29: 5 | H29: =IF(G29="","",IF(G29<=50,"S","NS")) -> S | I29: =IF(H29="S",COUNTA(H29),"") -> 1 | J29: =IF(H29="NS",COUNTA(H29),"") | K29: =IF(COUNTA(E29)=0,"",1) -> 1 | L29: 90 | M29: 100 | N29: =IF(COUNTIFS($A$2:A29,A29,Mains!$B$2:B29,Mains!B29)=1,Mains!L29,0)/100 -> 0
A30: =IF(E30="","",(YEAR(E30))) -> 2017 | B30: =IF(E30="","",(MONTH(E30))) -> 2 | C30: 6 | D30: Pel | E30: 42774 | F30: M Blan | G30: >50 | H30: =IF(G30="","",IF(G30<=50,"S","NS")) -> NS | I30: =IF(H30="S",COUNTA(H30),"") | J30: =IF(H30="NS",COUNTA(H30),"") -> 1 | K30: =IF(COUNTA(E30)=0,"",1) -> 1 | L30: 90 | M30: 100 | N30: =IF(COUNTIFS($A$2:A30,A30,Mains!$B$2:B30,Mains!B30)=1,Mains!L30,0)/100 -> 0
A31: =IF(E31="","",(YEAR(E31))) -> 2017 | B31: =IF(E31="","",(MONTH(E31))) -> 2 | C31: 6 | D31: Maintenance | E31: 42774 | F31: M Elin | G31: 0 | H31: =IF(G31="","",IF(G31<=50,"S","NS")) -> S | I31: =IF(H31="S",COUNTA(H31),"") -> 1 | J31: =IF(H31="NS",COUNTA(H31),"") | K31: =IF(COUNTA(E31)=0,"",1) -> 1 | L31: 90 | M31: 100 | N31: =IF(COUNTIFS($A$2:A31,A31,Mains!$B$2:B31,Mains!B31)=1,Mains!L31,0)/100 -> 0
A32: =IF(E32="","",(YEAR(E32))) -> 2017 | B32: =IF(E32="","",(MONTH(E32))) -> 2 | C32: 7 | D32: Abattage | E32: 42781 | F32: M Dal | G32: 0 | H32: =IF(G32="","",IF(G32<=50,"S","NS")) -> S | I32: =IF(H32="S",COUNTA(H32),"") -> 1 | J32: =IF(H32="NS",COUNTA(H32),"") | K32: =IF(COUNTA(E32)=0,"",1) -> 1 | L32: 90 | M32: 100 | N32: =IF(COUNTIFS($A$2:A32,A32,Mains!$B$2:B32,Mains!B32)=1,Mains!L32,0)/100 -> 0
A33: =IF(E33="","",(YEAR(E33))) -> 2017 | B33: =IF(E33="","",(MONTH(E33))) -> 2 | C33: 7 | D33: Abattage | E33: 42781 | F33: M Rez | G33: >50 | H33: =IF(G33="","",IF(G33<=50,"S","NS")) -> NS | I33: =IF(H33="S",COUNTA(H33),"") | J33: =IF(H33="NS",COUNTA(H33),"") -> 1 | K33: =IF(COUNTA(E33)=0,"",1) -> 1 | L33: 90 | M33: 100 | N33: =IF(COUNTIFS($A$2:A33,A33,Mains!$B$2:B33,Mains!B33)=1,Mains!L33,0)/100 -> 0
A34: =IF(E34="","",(YEAR(E34))) -> 2017 | B34: =IF(E34="","",(MONTH(E34))) -> 2 | C34: 7 | D34: Conditionnement | E34: 42781 | F34: M Poin | G34: 0 | H34: =IF(G34="","",IF(G34<=50,"S","NS")) -> S | I34: =IF(H34="S",COUNTA(H34),"") -> 1 | J34: =IF(H34="NS",COUNTA(H34),"") | K34: =IF(COUNTA(E34)=0,"",1) -> 1 | L34: 90 | M34: 100 | N34: =IF(COUNTIFS($A$2:A34,A34,Mains!$B$2:B34,Mains!B34)=1,Mains!L34,0)/100 -> 0
A35: =IF(E35="","",(YEAR(E35))) -> 2017 | B35: =IF(E35="","",(MONTH(E35))) -> 2 | C35: 7 | D35: Conditionnement | E35: 42781 | F35: M Cor | G35: 0 | H35: =IF(G35="","",IF(G35<=50,"S","NS")) -> S | I35: =IF(H35="S",COUNTA(H35),"") -> 1 | J35: =IF(H35="NS",COUNTA(H35),"") | K35: =IF(COUNTA(E35)=0,"",1) -> 1 | L35: 90 | M35: 100 | N35: =IF(COUNTIFS($A$2:A35,A35,Mains!$B$2:B35,Mains!B35)=1,Mains!L35,0)/100 -> 0
A36: =IF(E36="","",(YEAR(E36))) -> 2017 | B36: =IF(E36="","",(MONTH(E36))) -> 2 | C36: 7 | D36: Pel | E36: 42781 | F36: M Gab | G36: 0 | H36: =IF(G36="","",IF(G36<=50,"S","NS")) -> S | I36: =IF(H36="S",COUNTA(H36),"") -> 1 | J36: =IF(H36="NS",COUNTA(H36),"") | K36: =IF(COUNTA(E36)=0,"",1) -> 1 | L36: 90 | M36: 100 | N36: =IF(COUNTIFS($A$2:A36,A36,Mains!$B$2:B36,Mains!B36)=1,Mains!L36,0)/100 -> 0
A37: =IF(E37="","",(YEAR(E37))) -> 2017 | B37: =IF(E37="","",(MONTH(E37))) -> 2 | C37: 7 | D37: Pel | E37: 42781 | F37: M Mor | G37: 2 | H37: =IF(G37="","",IF(G37<=50,"S","NS")) -> S | I37: =IF(H37="S",COUNTA(H37),"") -> 1 | J37: =IF(H37="NS",COUNTA(H37),"") | K37: =IF(COUNTA(E37)=0,"",1) -> 1 | L37: 90 | M37: 100 | N37: =IF(COUNTIFS($A$2:A37,A37,Mains!$B$2:B37,Mains!B37)=1,Mains!L37,0)/100 -> 0
A38: =IF(E38="","",(YEAR(E38))) -> 2017 | B38: =IF(E38="","",(MONTH(E38))) -> 2 | C38: 8 | D38: Abattage | E38: 42789 | F38: M Sic | G38: >50 | H38: =IF(G38="","",IF(G38<=50,"S","NS")) -> NS | I38: =IF(H38="S",COUNTA(H38),"") | J38: =IF(H38="NS",COUNTA(H38),"") -> 1 | K38: =IF(COUNTA(E38)=0,"",1) -> 1 | L38: 90 | M38: 100 | N38: =IF(COUNTIFS($A$2:A38,A38,Mains!$B$2:B38,Mains!B38)=1,Mains!L38,0)/100 -> 0
A39: =IF(E39="","",(YEAR(E39))) -> 2017 | B39: =IF(E39="","",(MONTH(E39))) -> 2 | C39: 8 | D39: Abattage | E39: 42789 | F39: M Dur | G39: 16 | H39: =IF(G39="","",IF(G39<=50,"S","NS")) -> S | I39: =IF(H39="S",COUNTA(H39),"") -> 1 | J39: =IF(H39="NS",COUNTA(H39),"") | K39: =IF(COUNTA(E39)=0,"",1) -> 1 | L39: 90 | M39: 100 | N39: =IF(COUNTIFS($A$2:A39,A39,Mains!$B$2:B39,Mains!B39)=1,Mains!L39,0)/100 -> 0
A40: =IF(E40="","",(YEAR(E40))) -> 2017 | B40: =IF(E40="","",(MONTH(E40))) -> 2 | C40: 8 | D40: Conditionnement | E40: 42788 | F40: M bris | G40: >50 | H40: =IF(G40="","",IF(G40<=50,"S","NS")) -> NS | I40: =IF(H40="S",COUNTA(H40),"") | J40: =IF(H40="NS",COUNTA(H40),"") -> 1 | K40: =IF(COUNTA(E40)=0,"",1) -> 1 | L40: 90 | M40: 100 | N40: =IF(COUNTIFS($A$2:A40,A40,Mains!$B$2:B40,Mains!B40)=1,Mains!L40,0)/100 -> 0
A41: =IF(E41="","",(YEAR(E41))) -> 2017 | B41: =IF(E41="","",(MONTH(E41))) -> 2 | C41: 8 | D41: Conditionnement | E41: 42788 | F41: M Cor | G41: 0 | H41: =IF(G41="","",IF(G41<=50,"S","NS")) -> S | I41: =IF(H41="S",COUNTA(H41),"") -> 1 | J41: =IF(H41="NS",COUNTA(H41),"") | K41: =IF(COUNTA(E41)=0,"",1) -> 1 | L41: 90 | M41: 100 | N41: =IF(COUNTIFS($A$2:A41,A41,Mains!$B$2:B41,Mains!B41)=1,Mains!L41,0)/100 -> 0
A42: =IF(E42="","",(YEAR(E42))) -> 2017 | B42: =IF(E42="","",(MONTH(E42))) -> 2 | C42: 8 | D42: Pel | E42: 42788 | F42: M Blan | G42: 20 | H42: =IF(G42="","",IF(G42<=50,"S","NS")) -> S | I42: =IF(H42="S",COUNTA(H42),"") -> 1 | J42: =IF(H42="NS",COUNTA(H42),"") | K42: =IF(COUNTA(E42)=0,"",1) -> 1 | L42: 90 | M42: 100 | N42: =IF(COUNTIFS($A$2:A42,A42,Mains!$B$2:B42,Mains!B42)=1,Mains!L42,0)/100 -> 0
A43: =IF(E43="","",(YEAR(E43))) -> 2017 | B43: =IF(E43="","",(MONTH(E43))) -> 2 | C43: 8 | D43: Maintenance | E43: 42789 | F43: M gab | G43: 0 | H43: =IF(G43="","",IF(G43<=50,"S","NS")) -> S | I43: =IF(H43="S",COUNTA(H43),"") -> 1 | J43: =IF(H43="NS",COUNTA(H43),"") | K43: =IF(COUNTA(E43)=0,"",1) -> 1 | L43: 90 | M43: 100 | N43: =IF(COUNTIFS($A$2:A43,A43,Mains!$B$2:B43,Mains!B43)=1,Mains!L43,0)/100 -> 0
A44: =IF(E44="","",(YEAR(E44))) -> 2017 | B44: =IF(E44="","",(MONTH(E44))) -> 3 | C44: 9 | D44: Abattage | E44: 42795 | F44: M Gob | G44: 0 | H44: =IF(G44="","",IF(G44<=50,"S","NS")) -> S | I44: =IF(H44="S",COUNTA(H44),"") -> 1 | J44: =IF(H44="NS",COUNTA(H44),"") | K44: =IF(COUNTA(E44)=0,"",1) -> 1 | L44: 90 | M44: 100 | N44: =IF(COUNTIFS($A$2:A44,A44,Mains!$B$2:B44,Mains!B44)=1,Mains!L44,0)/100 -> 0.9
A45: =IF(E45="","",(YEAR(E45))) -> 2017 | B45: =IF(E45="","",(MONTH(E45))) -> 3 | C45: 9 | D45: Abattage | E45: 42795 | F45: M Sic | G45: 0 | H45: =IF(G45="","",IF(G45<=50,"S","NS")) -> S | I45: =IF(H45="S",COUNTA(H45),"") -> 1 | J45: =IF(H45="NS",COUNTA(H45),"") | K45: =IF(COUNTA(E45)=0,"",1) -> 1 | L45: 90 | M45: 100 | N45: =IF(COUNTIFS($A$2:A45,A45,Mains!$B$2:B45,Mains!B45)=1,Mains!L45,0)/100 -> 0
A46: =IF(E46="","",(YEAR(E46))) -> 2017 | B46: =IF(E46="","",(MONTH(E46))) -> 3 | C46: 9 | D46: Conditionnement | E46: 42795 | F46: M Cha | G46: 42 | H46: =IF(G46="","",IF(G46<=50,"S","NS")) -> S | I46: =IF(H46="S",COUNTA(H46),"") -> 1 | J46: =IF(H46="NS",COUNTA(H46),"") | K46: =IF(COUNTA(E46)=0,"",1) -> 1 | L46: 90 | M46: 100 | N46: =IF(COUNTIFS($A$2:A46,A46,Mains!$B$2:B46,Mains!B46)=1,Mains!L46,0)/100 -> 0
A47: =IF(E47="","",(YEAR(E47))) -> 2017 | B47: =IF(E47="","",(MONTH(E47))) -> 3 | C47: 9 | D47: Conditionnement | E47: 42795 | F47: M Poin | G47: 0 | H47: =IF(G47="","",IF(G47<=50,"S","NS")) -> S | I47: =IF(H47="S",COUNTA(H47),"") -> 1 | J47: =IF(H47="NS",COUNTA(H47),"") | K47: =IF(COUNTA(E47)=0,"",1) -> 1 | L47: 90 | M47: 100 | N47: =IF(COUNTIFS($A$2:A47,A47,Mains!$B$2:B47,Mains!B47)=1,Mains!L47,0)/100 -> 0
A48: =IF(E48="","",(YEAR(E48))) -> 2017 | B48: =IF(E48="","",(MONTH(E48))) -> 3 | C48: 9 | D48: Conditionnement | E48: 42795 | F48: M Cor | G48: 0 | H48: =IF(G48="","",IF(G48<=50,"S","NS")) -> S | I48: =IF(H48="S",COUNTA(H48),"") -> 1 | J48: =IF(H48="NS",COUNTA(H48),"") | K48: =IF(COUNTA(E48)=0,"",1) -> 1 | L48: 90 | M48: 100 | N48: =IF(COUNTIFS($A$2:A48,A48,Mains!$B$2:B48,Mains!B48)=1,Mains!L48,0)/100 -> 0
A49: =IF(E49="","",(YEAR(E49))) -> 2017 | B49: =IF(E49="","",(MONTH(E49))) -> 3 | C49: 9 | D49: Pel | E49: 42795 | F49: M Cha | G49: 1 | H49: =IF(G49="","",IF(G49<=50,"S","NS")) -> S | I49: =IF(H49="S",COUNTA(H49),"") -> 1 | J49: =IF(H49="NS",COUNTA(H49),"") | K49: =IF(COUNTA(E49)=0,"",1) -> 1 | L49: 90 | M49: 100 | N49: =IF(COUNTIFS($A$2:A49,A49,Mains!$B$2:B49,Mains!B49)=1,Mains!L49,0)/100 -> 0
A50: =IF(E50="","",(YEAR(E50))) -> 2017 | B50: =IF(E50="","",(MONTH(E50))) -> 3 | C50: 9 | D50: Pel | E50: 42795 | F50: M Mor | G50: 46 | H50: =IF(G50="","",IF(G50<=50,"S","NS")) -> S | I50: =IF(H50="S",COUNTA(H50),"") -> 1 | J50: =IF(H50="NS",COUNTA(H50),"") | K50: =IF(COUNTA(E50)=0,"",1) -> 1 | L50: 90 | M50: 100 | N50: =IF(COUNTIFS($A$2:A50,A50,Mains!$B$2:B50,Mains!B50)=1,Mains!L50,0)/100 -> 0
A51: =IF(E51="","",(YEAR(E51))) -> 2017 | B51: =IF(E51="","",(MONTH(E51))) -> 3 | C51: 10 | D51: Abattage | E51: 42803 | F51: M Goui | G51: 0 | H51: =IF(G51="","",IF(G51<=50,"S","NS")) -> S | I51: =IF(H51="S",COUNTA(H51),"") -> 1 | J51: =IF(H51="NS",COUNTA(H51),"") | K51: =IF(COUNTA(E51)=0,"",1) -> 1 | L51: 90 | M51: 100 | N51: =IF(COUNTIFS($A$2:A51,A51,Mains!$B$2:B51,Mains!B51)=1,Mains!L51,0)/100 -> 0
A52: =IF(E52="","",(YEAR(E52))) -> 2017 | B52: =IF(E52="","",(MONTH(E52))) -> 3 | C52: 10 | D52: Conditionnement | E52: 42802 | F52: M Cor | G52: 0 | H52: =IF(G52="","",IF(G52<=50,"S","NS")) -> S | I52: =IF(H52="S",COUNTA(H52),"") -> 1 | J52: =IF(H52="NS",COUNTA(H52),"") | K52: =IF(COUNTA(E52)=0,"",1) -> 1 | L52: 90 | M52: 100 | N52: =IF(COUNTIFS($A$2:A52,A52,Mains!$B$2:B52,Mains!B52)=1,Mains!L52,0)/100 -> 0
... A79: =IF(E79="","",(YEAR(E79))) -> 2017 | B79: =IF(E79="","",(MONTH(E79))) -> 4 | C79: 15 | D79: Pel | E79: 42835 | F79: M Gab | G79: 22 | H79: =IF(G79="","",IF(G79<=50,"S","NS")) -> S | I79: =IF(H79="S",COUNTA(H79),"") -> 1 | J79: =IF(H79="NS",COUNTA(H79),"") | K79: =IF(COUNTA(E79)=0,"",1) -> 1 | L79: 90 | M79: 100 | N79: =IF(COUNTIFS($A$2:A79,A79,Mains!$B$2:B79,Mains!B79)=1,Mains!L79,0)/100 -> 0
A80: =IF(E80="","",(YEAR(E80))) -> 2017 | B80: =IF(E80="","",(MONTH(E80))) -> 4 | C80: 15 | D80: Pel | E80: 42835 | F80: M Blan | G80: >50 | H80: =IF(G80="","",IF(G80<=50,"S","NS")) -> NS | I80: =IF(H80="S",COUNTA(H80),"") | J80: =IF(H80="NS",COUNTA(H80),"") -> 1 | K80: =IF(COUNTA(E80)=0,"",1) -> 1 | L80: 90 | M80: 100 | N80: =IF(COUNTIFS($A$2:A80,A80,Mains!$B$2:B80,Mains!B80)=1,Mains!L80,0)/100 -> 0
A81: =IF(E81="","",(YEAR(E81))) -> 2017 | B81: =IF(E81="","",(MONTH(E81))) -> 4 | C81: 16 | D81: Abattage | E81: 42844 | F81: M Brin | G81: 0 | H81: =IF(G81="","",IF(G81<=50,"S","NS")) -> S | I81: =IF(H81="S",COUNTA(H81),"") -> 1 | J81: =IF(H81="NS",COUNTA(H81),"") | K81: =IF(COUNTA(E81)=0,"",1) -> 1 | L81: 90 | M81: 100 | N81: =IF(COUNTIFS($A$2:A81,A81,Mains!$B$2:B81,Mains!B81)=1,Mains!L81,0)/100 -> 0
A82: =IF(E82="","",(YEAR(E82))) -> 2017 | B82: =IF(E82="","",(MONTH(E82))) -> 4 | C82: 16 | D82: Abattage | E82: 42844 | F82: M Dur | G82: 0 | H82: =IF(G82="","",IF(G82<=50,"S","NS")) -> S | I82: =IF(H82="S",COUNTA(H82),"") -> 1 | J82: =IF(H82="NS",COUNTA(H82),"") | K82: =IF(COUNTA(E82)=0,"",1) -> 1 | L82: 90 | M82: 100 | N82: =IF(COUNTIFS($A$2:A82,A82,Mains!$B$2:B82,Mains!B82)=1,Mains!L82,0)/100 -> 0
A83: =IF(E83="","",(YEAR(E83))) -> 2017 | B83: =IF(E83="","",(MONTH(E83))) -> 4 | C83: 16 | D83: Conditionnement | E83: 42844 | F83: M Hera | G83: 0 | H83: =IF(G83="","",IF(G83<=50,"S","NS")) -> S | I83: =IF(H83="S",COUNTA(H83),"") -> 1 | J83: =IF(H83="NS",COUNTA(H83),"") | K83: =IF(COUNTA(E83)=0,"",1) -> 1 | L83: 90 | M83: 100 | N83: =IF(COUNTIFS($A$2:A83,A83,Mains!$B$2:B83,Mains!B83)=1,Mains!L83,0)/100 -> 0
A84: =IF(E84="","",(YEAR(E84))) -> 2017 | B84: =IF(E84="","",(MONTH(E84))) -> 4 | C84: 16 | D84: Pel | E84: 42844 | F84: M Fau | G84: 0 | H84: =IF(G84="","",IF(G84<=50,"S","NS")) -> S | I84: =IF(H84="S",COUNTA(H84),"") -> 1 | J84: =IF(H84="NS",COUNTA(H84),"") | K84: =IF(COUNTA(E84)=0,"",1) -> 1 | L84: 90 | M84: 100 | N84: =IF(COUNTIFS($A$2:A84,A84,Mains!$B$2:B84,Mains!B84)=1,Mains!L84,0)/100 -> 0
A85: =IF(E85="","",(YEAR(E85))) -> 2017 | B85: =IF(E85="","",(MONTH(E85))) -> 4 | C85: 16 | D85: Pel | E85: 42844 | F85: M Cha | G85: 0 | H85: =IF(G85="","",IF(G85<=50,"S","NS")) -> S | I85: =IF(H85="S",COUNTA(H85),"") -> 1 | J85: =IF(H85="NS",COUNTA(H85),"") | K85: =IF(COUNTA(E85)=0,"",1) -> 1 | L85: 90 | M85: 100 | N85: =IF(COUNTIFS($A$2:A85,A85,Mains!$B$2:B85,Mains!B85)=1,Mains!L85,0)/100 -> 0
A86: =IF(E86="","",(YEAR(E86))) -> 2017 | B86: =IF(E86="","",(MONTH(E86))) -> 4 | C86: 16 | D86: Maintenance | E86: 42844 | F86: M Elin | G86: 36 | H86: =IF(G86="","",IF(G86<=50,"S","NS")) -> S | I86: =IF(H86="S",COUNTA(H86),"") -> 1 | J86: =IF(H86="NS",COUNTA(H86),"") | K86: =IF(COUNTA(E86)=0,"",1) -> 1 | L86: 90 | M86: 100 | N86: =IF(COUNTIFS($A$2:A86,A86,Mains!$B$2:B86,Mains!B86)=1,Mains!L86,0)/100 -> 0
A87: =IF(E87="","",(YEAR(E87))) -> 2017 | B87: =IF(E87="","",(MONTH(E87))) -> 4 | C87: 17 | D87: Abattage | E87: 42852 | F87: M Goui | G87: 0 | H87: =IF(G87="","",IF(G87<=50,"S","NS")) -> S | I87: =IF(H87="S",COUNTA(H87),"") -> 1 | J87: =IF(H87="NS",COUNTA(H87),"") | K87: =IF(COUNTA(E87)=0,"",1) -> 1 | L87: 90 | M87: 100 | N87: =IF(COUNTIFS($A$2:A87,A87,Mains!$B$2:B87,Mains!B87)=1,Mains!L87,0)/100 -> 0
A88: =IF(E88="","",(YEAR(E88))) -> 2017 | B88: =IF(E88="","",(MONTH(E88))) -> 4 | C88: 17 | D88: Abattage | E88: 42852 | F88: M Char | G88: 0 | H88: =IF(G88="","",IF(G88<=50,"S","NS")) -> S | I88: =IF(H88="S",COUNTA(H88),"") -> 1 | J88: =IF(H88="NS",COUNTA(H88),"") | K88: =IF(COUNTA(E88)=0,"",1) -> 1 | L88: 90 | M88: 100 | N88: =IF(COUNTIFS($A$2:A88,A88,Mains!$B$2:B88,Mains!B88)=1,Mains!L88,0)/100 -> 0
A89: =IF(E89="","",(YEAR(E89))) -> 2017 | B89: =IF(E89="","",(MONTH(E89))) -> 4 | C89: 17 | D89: Conditionnement | E89: 42850 | F89: M Bod | G89: 5 | H89: =IF(G89="","",IF(G89<=50,"S","NS")) -> S | I89: =IF(H89="S",COUNTA(H89),"") -> 1 | J89: =IF(H89="NS",COUNTA(H89),"") | K89: =IF(COUNTA(E89)=0,"",1) -> 1 | L89: 90 | M89: 100 | N89: =IF(COUNTIFS($A$2:A89,A89,Mains!$B$2:B89,Mains!B89)=1,Mains!L89,0)/100 -> 0
A90: =IF(E90="","",(YEAR(E90))) -> 2017 | B90: =IF(E90="","",(MONTH(E90))) -> 4 | C90: 17 | D90: Conditionnement | E90: 42850 | F90: M Cor | G90: 1 | H90: =IF(G90="","",IF(G90<=50,"S","NS")) -> S | I90: =IF(H90="S",COUNTA(H90),"") -> 1 | J90: =IF(H90="NS",COUNTA(H90),"") | K90: =IF(COUNTA(E90)=0,"",1) -> 1 | L90: 90 | M90: 100 | N90: =IF(COUNTIFS($A$2:A90,A90,Mains!$B$2:B90,Mains!B90)=1,Mains!L90,0)/100 -> 0
A91: =IF(E91="","",(YEAR(E91))) -> 2017 | B91: =IF(E91="","",(MONTH(E91))) -> 4 | C91: 17 | D91: Conditionnement | E91: 42850 | F91: M Cha | G91: 22 | H91: =IF(G91="","",IF(G91<=50,"S","NS")) -> S | I91: =IF(H91="S",COUNTA(H91),"") -> 1 | J91: =IF(H91="NS",COUNTA(H91),"") | K91: =IF(COUNTA(E91)=0,"",1) -> 1 | L91: 90 | M91: 100 | N91: =IF(COUNTIFS($A$2:A91,A91,Mains!$B$2:B91,Mains!B91)=1,Mains!L91,0)/100 -> 0
A92: =IF(E92="","",(YEAR(E92))) -> 2017 | B92: =IF(E92="","",(MONTH(E92))) -> 4 | C92: 17 | D92: Pel | E92: 42850 | F92: M Blan | G92: 42 | H92: =IF(G92="","",IF(G92<=50,"S","NS")) -> S | I92: =IF(H92="S",COUNTA(H92),"") -> 1 | J92: =IF(H92="NS",COUNTA(H92),"") | K92: =IF(COUNTA(E92)=0,"",1) -> 1 | L92: 90 | M92: 100 | N92: =IF(COUNTIFS($A$2:A92,A92,Mains!$B$2:B92,Mains!B92)=1,Mains!L92,0)/100 -> 0
... A134: =IF(E134="","",(YEAR(E134))) -> 2018 | B134: =IF(E134="","",(MONTH(E134))) -> 2 | C134: 7 | D134: Abattage | E134: 43145 | F134: M Rez | G134: 0 | H134: =IF(G134="","",IF(G134<=50,"S","NS")) -> S | I134: =IF(H134="S",COUNTA(H134),"") -> 1 | J134: =IF(H134="NS",COUNTA(H134),"") | K134: =IF(COUNTA(E134)=0,"",1) -> 1 | L134: 90 | M134: 100 | N134: =IF(COUNTIFS($A$2:A134,A134,Mains!$B$2:B134,Mains!B134)=1,Mains!L134,0)/100 -> 0
A135: =IF(E135="","",(YEAR(E135))) -> 2018 | B135: =IF(E135="","",(MONTH(E135))) -> 2 | C135: 7 | D135: Conditionnement | E135: 43147 | F135: M bris | G135: >50 | H135: =IF(G135="","",IF(G135<=50,"S","NS")) -> NS | I135: =IF(H135="S",COUNTA(H135),"") | J135: =IF(H135="NS",COUNTA(H135),"") -> 1 | K135: =IF(COUNTA(E135)=0,"",1) -> 1 | L135: 90 | M135: 100 | N135: =IF(COUNTIFS($A$2:A135,A135,Mains!$B$2:B135,Mains!B135)=1,Mains!L135,0)/100 -> 0
A136: =IF(E136="","",(YEAR(E136))) -> 2018 | B136: =IF(E136="","",(MONTH(E136))) -> 2 | C136: 7 | D136: Conditionnement | E136: 43147 | F136: M Poin | G136: 0 | H136: =IF(G136="","",IF(G136<=50,"S","NS")) -> S | I136: =IF(H136="S",COUNTA(H136),"") -> 1 | J136: =IF(H136="NS",COUNTA(H136),"") | K136: =IF(COUNTA(E136)=0,"",1) -> 1 | L136: 90 | M136: 100 | N136: =IF(COUNTIFS($A$2:A136,A136,Mains!$B$2:B136,Mains!B136)=1,Mains!L136,0)/100 -> 0
A137: =IF(E137="","",(YEAR(E137))) -> 2018 | B137: =IF(E137="","",(MONTH(E137))) -> 2 | C137: 7 | D137: Pel | E137: 43146 | F137: M Gab | G137: <50 | H137: =IF(G137="","",IF(G137<=50,"S","NS")) -> NS | I137: =IF(H137="S",COUNTA(H137),"") | J137: =IF(H137="NS",COUNTA(H137),"") -> 1 | K137: =IF(COUNTA(E137)=0,"",1) -> 1 | L137: 90 | M137: 100 | N137: =IF(COUNTIFS($A$2:A137,A137,Mains!$B$2:B137,Mains!B137)=1,Mains!L137,0)/100 -> 0
A138: =IF(E138="","",(YEAR(E138))) -> 2018 | B138: =IF(E138="","",(MONTH(E138))) -> 2 | C138: 7 | D138: Pel | E138: 43146 | F138: M Blan | G138: <50 | H138: =IF(G138="","",IF(G138<=50,"S","NS")) -> NS | I138: =IF(H138="S",COUNTA(H138),"") | J138: =IF(H138="NS",COUNTA(H138),"") -> 1 | K138: =IF(COUNTA(E138)=0,"",1) -> 1 | L138: 90 | M138: 100 | N138: =IF(COUNTIFS($A$2:A138,A138,Mains!$B$2:B138,Mains!B138)=1,Mains!L138,0)/100 -> 0
A139: =IF(E139="","",(YEAR(E139))) -> 2018 | B139: =IF(E139="","",(MONTH(E139))) -> 2 | C139: 8 | D139: Abattage | E139: 43152 | F139: M Dra | G139: 0 | H139: =IF(G139="","",IF(G139<=50,"S","NS")) -> S | I139: =IF(H139="S",COUNTA(H139),"") -> 1 | J139: =IF(H139="NS",COUNTA(H139),"") | K139: =IF(COUNTA(E139)=0,"",1) -> 1 | L139: 90 | M139: 100 | N139: =IF(COUNTIFS($A$2:A139,A139,Mains!$B$2:B139,Mains!B139)=1,Mains!L139,0)/100 -> 0
A140: =IF(E140="","",(YEAR(E140))) -> 2018 | B140: =IF(E140="","",(MONTH(E140))) -> 2 | C140: 8 | D140: Conditionnement | E140: 43151 | F140: M bris | G140: 0 | H140: =IF(G140="","",IF(G140<=50,"S","NS")) -> S | I140: =IF(H140="S",COUNTA(H140),"") -> 1 | J140: =IF(H140="NS",COUNTA(H140),"") | K140: =IF(COUNTA(E140)=0,"",1) -> 1 | L140: 90 | M140: 100 | N140: =IF(COUNTIFS($A$2:A140,A140,Mains!$B$2:B140,Mains!B140)=1,Mains!L140,0)/100 -> 0
A141: =IF(E141="","",(YEAR(E141))) -> 2018 | B141: =IF(E141="","",(MONTH(E141))) -> 2 | C141: 8 | D141: Conditionnement | E141: 43152 | F141: M Chir | G141: 5 | H141: =IF(G141="","",IF(G141<=50,"S","NS")) -> S | I141: =IF(H141="S",COUNTA(H141),"") -> 1 | J141: =IF(H141="NS",COUNTA(H141),"") | K141: =IF(COUNTA(E141)=0,"",1) -> 1 | L141: 90 | M141: 100 | N141: =IF(COUNTIFS($A$2:A141,A141,Mains!$B$2:B141,Mains!B141)=1,Mains!L141,0)/100 -> 0
A142: =IF(E142="","",(YEAR(E142))) -> 2018 | B142: =IF(E142="","",(MONTH(E142))) -> 2 | C142: 8 | D142: Conditionnement | E142: 43152 | F142: M Tai | G142: 0 | H142: =IF(G142="","",IF(G142<=50,"S","NS")) -> S | I142: =IF(H142="S",COUNTA(H142),"") -> 1 | J142: =IF(H142="NS",COUNTA(H142),"") | K142: =IF(COUNTA(E142)=0,"",1) -> 1 | L142: 90 | M142: 100 | N142: =IF(COUNTIFS($A$2:A142,A142,Mains!$B$2:B142,Mains!B142)=1,Mains!L142,0)/100 -> 0
A143: =IF(E143="","",(YEAR(E143))) -> 2018 | B143: =IF(E143="","",(MONTH(E143))) -> 2 | C143: 8 | D143: Pel | E143: 43152 | F143: M Blan | G143: 0 | H143: =IF(G143="","",IF(G143<=50,"S","NS")) -> S | I143: =IF(H143="S",COUNTA(H143),"") -> 1 | J143: =IF(H143="NS",COUNTA(H143),"") | K143: =IF(COUNTA(E143)=0,"",1) -> 1 | L143: 90 | M143: 100 | N143: =IF(COUNTIFS($A$2:A143,A143,Mains!$B$2:B143,Mains!B143)=1,Mains!L143,0)/100 -> 0
A144: =IF(E144="","",(YEAR(E144))) -> 2018 | B144: =IF(E144="","",(MONTH(E144))) -> 2 | C144: 8 | D144: Pel | E144: 43152 | F144: M Gab | G144: 0 | H144: =IF(G144="","",IF(G144<=50,"S","NS")) -> S | I144: =IF(H144="S",COUNTA(H144),"") -> 1 | J144: =IF(H144="NS",COUNTA(H144),"") | K144: =IF(COUNTA(E144)=0,"",1) -> 1 | L144: 90 | M144: 100 | N144: =IF(COUNTIFS($A$2:A144,A144,Mains!$B$2:B144,Mains!B144)=1,Mains!L144,0)/100 -> 0
A145: =IF(E145="","",(YEAR(E145))) -> 2018 | B145: =IF(E145="","",(MONTH(E145))) -> 2 | C145: 8 | D145: Maintenance | E145: 43152 | F145: M gab | G145: 0 | H145: =IF(G145="","",IF(G145<=50,"S","NS")) -> S | I145: =IF(H145="S",COUNTA(H145),"") -> 1 | J145: =IF(H145="NS",COUNTA(H145),"") | K145: =IF(COUNTA(E145)=0,"",1) -> 1 | L145: 90 | M145: 100 | N145: =IF(COUNTIFS($A$2:A145,A145,Mains!$B$2:B145,Mains!B145)=1,Mains!L145,0)/100 -> 0
A146: =IF(E146="","",(YEAR(E146))) -> 2018 | B146: =IF(E146="","",(MONTH(E146))) -> 3 | C146: 9 | D146: Abattage | E146: 43161 | F146: M Char | G146: 0 | H146: =IF(G146="","",IF(G146<=50,"S","NS")) -> S | I146: =IF(H146="S",COUNTA(H146),"") -> 1 | J146: =IF(H146="NS",COUNTA(H146),"") | K146: =IF(COUNTA(E146)=0,"",1) -> 1 | L146: 90 | M146: 100 | N146: =IF(COUNTIFS($A$2:A146,A146,Mains!$B$2:B146,Mains!B146)=1,Mains!L146,0)/100 -> 0.9
A147: =IF(E147="","",(YEAR(E147))) -> 2018 | B147: =IF(E147="","",(MONTH(E147))) -> 3 | C147: 9 | D147: Abattage | E147: 43161 | F147: M Gob | G147: 0 | H147: =IF(G147="","",IF(G147<=50,"S","NS")) -> S | I147: =IF(H147="S",COUNTA(H147),"") -> 1 | J147: =IF(H147="NS",COUNTA(H147),"") | K147: =IF(COUNTA(E147)=0,"",1) -> 1 | L147: 90 | M147: 100 | N147: =IF(COUNTIFS($A$2:A147,A147,Mains!$B$2:B147,Mains!B147)=1,Mains!L147,0)/100 -> 0
A148: =IF(E148="","",(YEAR(E148))) -> 2018 | B148: =IF(E148="","",(MONTH(E148))) -> 3 | C148: 9 | D148: Conditionnement | E148: 43161 | F148: M Bel | G148: 0 | H148: =IF(G148="","",IF(G148<=50,"S","NS")) -> S | I148: =IF(H148="S",COUNTA(H148),"") -> 1 | J148: =IF(H148="NS",COUNTA(H148),"") | K148: =IF(COUNTA(E148)=0,"",1) -> 1 | L148: 90 | M148: 100 | N148: =IF(COUNTIFS($A$2:A148,A148,Mains!$B$2:B148,Mains!B148)=1,Mains!L148,0)/100 -> 0
A149: =IF(E149="","",(YEAR(E149))) -> 2018 | B149: =IF(E149="","",(MONTH(E149))) -> 3 | C149: 9 | D149: Conditionnement | E149: 43161 | F149: M Cha | G149: 0 | H149: =IF(G149="","",IF(G149<=50,"S","NS")) -> S | I149: =IF(H149="S",COUNTA(H149),"") -> 1 | J149: =IF(H149="NS",COUNTA(H149),"") | K149: =IF(COUNTA(E149)=0,"",1) -> 1 | L149: 90 | M149: 100 | N149: =IF(COUNTIFS($A$2:A149,A149,Mains!$B$2:B149,Mains!B149)=1,Mains!L149,0)/100 -> 0
A150: =IF(E150="","",(YEAR(E150))) -> 2018 | B150: =IF(E150="","",(MONTH(E150))) -> 3 | C150: 9 | D150: Conditionnement | E150: 43161 | F150: M Chir | G150: 0 | H150: =IF(G150="","",IF(G150<=50,"S","NS")) -> S | I150: =IF(H150="S",COUNTA(H150),"") -> 1 | J150: =IF(H150="NS",COUNTA(H150),"") | K150: =IF(COUNTA(E150)=0,"",1) -> 1 | L150: 90 | M150: 100 | N150: =IF(COUNTIFS($A$2:A150,A150,Mains!$B$2:B150,Mains!B150)=1,Mains!L150,0)/100 -> 0
... A186: =IF(E186="","",(YEAR(E186))) -> 2018 | B186: =IF(E186="","",(MONTH(E186))) -> 4 | C186: 16 | D186: Abattage | E186: 43208 | F186: M Dur | G186: 0 | H186: =IF(G186="","",IF(G186<=50,"S","NS")) -> S | I186: =IF(H186="S",COUNTA(H186),"") -> 1 | J186: =IF(H186="NS",COUNTA(H186),"") | K186: =IF(COUNTA(E186)=0,"",1) -> 1 | L186: 90 | M186: 100 | N186: =IF(COUNTIFS($A$2:A186,A186,Mains!$B$2:B186,Mains!B186)=1,Mains!L186,0)/100 -> 0

Sheet GRAPH MAIN
A2: Mains par Germes:
