Workbook
Name Personnel: #REF!
Name SEUILFLORE: TDC!$B$24

Sheet Solution 2
A3: Somme de % Satisfaisant Flore
A4: Année | B4: Mois | C4: Total
A5: 2017 | B5: 1 | C5: 1
B6: 2 | C6: 0.76190476
B7: 3 | C7: 1
B8: 4 | C8: 0.95833333
A9: Total 2017 | C9: 0.93478261
A10: 2018 | B10: 1 | C10: 1
B11: 2 | C11: 0.88461538
B12: 3 | C12: 1
B13: 4 | C13: 1
A14: Total 2018 | C14: 0.96774194
A15: Total général | C15: 0.95135135
A21: An | B21: Année | C21: Mois | D21: OK | E21: KO | F21: Seuil
A22: 2017 | B22: 2017 | C22: 1 | D22: =IF(ISERROR(GETPIVOTDATA("% Satisfaisant Flore",$A$3,"Année",$A22,"Mois",$C22)),NA(),IF(GETPIVOTDATA("% Satisfaisant Flore",$A$3,"Année",$A22,"Mois",$C22)<90%,GETPIVOTDATA("% Satisfaisant Flore",$A$3,"Année",$A22,"Mois",$C22),0)) -> 0 | E22: =IF(ISERROR(GETPIVOTDATA("% Satisfaisant Flore",$A$3,"Année",$A22,"Mois",$C22)),NA(),IF(GETPIVOTDATA("% Satisfaisant Flore",$A$3,"Année",$A22,"Mois",$C22)>=90%,GETPIVOTDATA("% Satisfaisant Flore",$A$3,"Année",$A22,"Mois",$C22),0)) -> 1 | F22: 0.9
A23: 2017 | C23: 2 | D23: =IF(ISERROR(GETPIVOTDATA("% Satisfaisant Flore",$A$3,"Année",$A23,"Mois",$C23)),NA(),IF(GETPIVOTDATA("% Satisfaisant Flore",$A$3,"Année",$A23,"Mois",$C23)<90%,GETPIVOTDATA("% Satisfaisant Flore",$A$3,"Année",$A23,"Mois",$C23),0)) -> 0.76190476 | E23: =IF(ISERROR(GETPIVOTDATA("% Satisfaisant Flore",$A$3,"Année",$A23,"Mois",$C23)),NA(),IF(GETPIVOTDATA("% Satisfaisant Flore",$A$3,"Année",$A23,"Mois",$C23)>=90%,GETPIVOTDATA("% Satisfaisant Flore",$A$3,"Année",$A23,"Mois",$C23),0)) -> 0 | F23: 0.9
A24: 2017 | C24: 3 | D24: =IF(ISERROR(GETPIVOTDATA("% Satisfaisant Flore",$A$3,"Année",$A24,"Mois",$C24)),NA(),IF(GETPIVOTDATA("% Satisfaisant Flore",$A$3,"Année",$A24,"Mois",$C24)<90%,GETPIVOTDATA("% Satisfaisant Flore",$A$3,"Année",$A24,"Mois",$C24),0)) -> 0 | E24: =IF(ISERROR(GETPIVOTDATA("% Satisfaisant Flore",$A$3,"Année",$A24,"Mois",$C24)),NA(),IF(GETPIVOTDATA("% Satisfaisant Flore",$A$3,"Année",$A24,"Mois",$C24)>=90%,GETPIVOTDATA("% Satisfaisant Flore",$A$3,"Année",$A24,"Mois",$C24),0)) -> 1 | F24: 0.9
A25: 2017 | C25: 4 | D25: =IF(ISERROR(GETPIVOTDATA("% Satisfaisant Flore",$A$3,"Année",$A25,"Mois",$C25)),NA(),IF(GETPIVOTDATA("% Satisfaisant Flore",$A$3,"Année",$A25,"Mois",$C25)<90%,GETPIVOTDATA("% Satisfaisant Flore",$A$3,"Année",$A25,"Mois",$C25),0)) -> 0 | E25: =IF(ISERROR(GETPIVOTDATA("% Satisfaisant Flore",$A$3,"Année",$A25,"Mois",$C25)),NA(),IF(GETPIVOTDATA("% Satisfaisant Flore",$A$3,"Année",$A25,"Mois",$C25)>=90%,GETPIVOTDATA("% Satisfaisant Flore",$A$3,"Année",$A25,"Mois",$C25),0)) -> 0.95833333 | F25: 0.9
A26: 2017 | C26: 5 | D26: =IF(ISERROR(GETPIVOTDATA("% Satisfaisant Flore",$A$3,"Année",$A26,"Mois",$C26)),NA(),IF(GETPIVOTDATA("% Satisfaisant Flore",$A$3,"Année",$A26,"Mois",$C26)<90%,GETPIVOTDATA("% Satisfaisant Flore",$A$3,"Année",$A26,"Mois",$C26),0)) -> #N/A | E26: =IF(ISERROR(GETPIVOTDATA("% Satisfaisant Flore",$A$3,"Année",$A26,"Mois",$C26)),NA(),IF(GETPIVOTDATA("% Satisfaisant Flore",$A$3,"Année",$A26,"Mois",$C26)>=90%,GETPIVOTDATA("% Satisfaisant Flore",$A$3,"Année",$A26,"Mois",$C26),0)) -> #N/A | F26: 0.9
A27: 2017 | C27: 6 | D27: =IF(ISERROR(GETPIVOTDATA("% Satisfaisant Flore",$A$3,"Année",$A27,"Mois",$C27)),NA(),IF(GETPIVOTDATA("% Satisfaisant Flore",$A$3,"Année",$A27,"Mois",$C27)<90%,GETPIVOTDATA("% Satisfaisant Flore",$A$3,"Année",$A27,"Mois",$C27),0)) -> #N/A | E27: =IF(ISERROR(GETPIVOTDATA("% Satisfaisant Flore",$A$3,"Année",$A27,"Mois",$C27)),NA(),IF(GETPIVOTDATA("% Satisfaisant Flore",$A$3,"Année",$A27,"Mois",$C27)>=90%,GETPIVOTDATA("% Satisfaisant Flore",$A$3,"Année",$A27,"Mois",$C27),0)) -> #N/A | F27: 0.9
A28: 2017 | C28: 7 | D28: =IF(ISERROR(GETPIVOTDATA("% Satisfaisant Flore",$A$3,"Année",$A28,"Mois",$C28)),NA(),IF(GETPIVOTDATA("% Satisfaisant Flore",$A$3,"Année",$A28,"Mois",$C28)<90%,GETPIVOTDATA("% Satisfaisant Flore",$A$3,"Année",$A28,"Mois",$C28),0)) -> #N/A | E28: =IF(ISERROR(GETPIVOTDATA("% Satisfaisant Flore",$A$3,"Année",$A28,"Mois",$C28)),NA(),IF(GETPIVOTDATA("% Satisfaisant Flore",$A$3,"Année",$A28,"Mois",$C28)>=90%,GETPIVOTDATA("% Satisfaisant Flore",$A$3,"Année",$A28,"Mois",$C28),0)) -> #N/A | F28: 0.9
A29: 2017 | C29: 8 | D29: =IF(ISERROR(GETPIVOTDATA("% Satisfaisant Flore",$A$3,"Année",$A29,"Mois",$C29)),NA(),IF(GETPIVOTDATA("% Satisfaisant Flore",$A$3,"Année",$A29,"Mois",$C29)<90%,GETPIVOTDATA("% Satisfaisant Flore",$A$3,"Année",$A29,"Mois",$C29),0)) -> #N/A | E29: =IF(ISERROR(GETPIVOTDATA("% Satisfaisant Flore",$A$3,"Année",$A29,"Mois",$C29)),NA(),IF(GETPIVOTDATA("% Satisfaisant Flore",$A$3,"Année",$A29,"Mois",$C29)>=90%,GETPIVOTDATA("% Satisfaisant Flore",$A$3,"Année",$A29,"Mois",$C29),0)) -> #N/A | F29: 0.9
A30: 2017 | C30: 9 | D30: =IF(ISERROR(GETPIVOTDATA("% Satisfaisant Flore",$A$3,"Année",$A30,"Mois",$C30)),NA(),IF(GETPIVOTDATA("% Satisfaisant Flore",$A$3,"Année",$A30,"Mois",$C30)<90%,GETPIVOTDATA("% Satisfaisant Flore",$A$3,"Année",$A30,"Mois",$C30),0)) -> #N/A | E30: =IF(ISERROR(GETPIVOTDATA("% Satisfaisant Flore",$A$3,"Année",$A30,"Mois",$C30)),NA(),IF(GETPIVOTDATA("% Satisfaisant Flore",$A$3,"Année",$A30,"Mois",$C30)>=90%,GETPIVOTDATA("% Satisfaisant Flore",$A$3,"Année",$A30,"Mois",$C30),0)) -> #N/A | F30: 0.9
A31: 2017 | C31: 10 | D31: =IF(ISERROR(GETPIVOTDATA("% Satisfaisant Flore",$A$3,"Année",$A31,"Mois",$C31)),NA(),IF(GETPIVOTDATA("% Satisfaisant Flore",$A$3,"Année",$A31,"Mois",$C31)<90%,GETPIVOTDATA("% Satisfaisant Flore",$A$3,"Année",$A31,"Mois",$C31),0)) -> #N/A | E31: =IF(ISERROR(GETPIVOTDATA("% Satisfaisant Flore",$A$3,"Année",$A31,"Mois",$C31)),NA(),IF(GETPIVOTDATA("% Satisfaisant Flore",$A$3,"Année",$A31,"Mois",$C31)>=90%,GETPIVOTDATA("% Satisfaisant Flore",$A$3,"Année",$A31,"Mois",$C31),0)) -> #N/A | F31: 0.9
A32: 2017 | C32: 11 | D32: =IF(ISERROR(GETPIVOTDATA("% Satisfaisant Flore",$A$3,"Année",$A32,"Mois",$C32)),NA(),IF(GETPIVOTDATA("% Satisfaisant Flore",$A$3,"Année",$A32,"Mois",$C32)<90%,GETPIVOTDATA("% Satisfaisant Flore",$A$3,"Année",$A32,"Mois",$C32),0)) -> #N/A | E32: =IF(ISERROR(GETPIVOTDATA("% Satisfaisant Flore",$A$3,"Année",$A32,"Mois",$C32)),NA(),IF(GETPIVOTDATA("% Satisfaisant Flore",$A$3,"Année",$A32,"Mois",$C32)>=90%,GETPIVOTDATA("% Satisfaisant Flore",$A$3,"Année",$A32,"Mois",$C32),0)) -> #N/A | F32: 0.9
A33: 2017 | C33: 12 | D33: =IF(ISERROR(GETPIVOTDATA("% Satisfaisant Flore",$A$3,"Année",$A33,"Mois",$C33)),NA(),IF(GETPIVOTDATA("% Satisfaisant Flore",$A$3,"Année",$A33,"Mois",$C33)<90%,GETPIVOTDATA("% Satisfaisant Flore",$A$3,"Année",$A33,"Mois",$C33),0)) -> #N/A | E33: =IF(ISERROR(GETPIVOTDATA("% Satisfaisant Flore",$A$3,"Année",$A33,"Mois",$C33)),NA(),IF(GETPIVOTDATA("% Satisfaisant Flore",$A$3,"Année",$A33,"Mois",$C33)>=90%,GETPIVOTDATA("% Satisfaisant Flore",$A$3,"Année",$A33,"Mois",$C33),0)) -> #N/A | F33: 0.9
A34: 2018 | B34: 2018 | C34: 1 | D34: =IF(ISERROR(GETPIVOTDATA("% Satisfaisant Flore",$A$3,"Année",$A34,"Mois",$C34)),NA(),IF(GETPIVOTDATA("% Satisfaisant Flore",$A$3,"Année",$A34,"Mois",$C34)<90%,GETPIVOTDATA("% Satisfaisant Flore",$A$3,"Année",$A34,"Mois",$C34),0)) -> 0 | E34: =IF(ISERROR(GETPIVOTDATA("% Satisfaisant Flore",$A$3,"Année",$A34,"Mois",$C34)),NA(),IF(GETPIVOTDATA("% Satisfaisant Flore",$A$3,"Année",$A34,"Mois",$C34)>=90%,GETPIVOTDATA("% Satisfaisant Flore",$A$3,"Année",$A34,"Mois",$C34),0)) -> 1 | F34: 0.9
A35: 2018 | C35: 2 | D35: =IF(ISERROR(GETPIVOTDATA("% Satisfaisant Flore",$A$3,"Année",$A35,"Mois",$C35)),NA(),IF(GETPIVOTDATA("% Satisfaisant Flore",$A$3,"Année",$A35,"Mois",$C35)<90%,GETPIVOTDATA("% Satisfaisant Flore",$A$3,"Année",$A35,"Mois",$C35),0)) -> 0.88461538 | E35: =IF(ISERROR(GETPIVOTDATA("% Satisfaisant Flore",$A$3,"Année",$A35,"Mois",$C35)),NA(),IF(GETPIVOTDATA("% Satisfaisant Flore",$A$3,"Année",$A35,"Mois",$C35)>=90%,GETPIVOTDATA("% Satisfaisant Flore",$A$3,"Année",$A35,"Mois",$C35),0)) -> 0 | F35: 0.9
A36: 2018 | C36: 3 | D36: =IF(ISERROR(GETPIVOTDATA("% Satisfaisant Flore",$A$3,"Année",$A36,"Mois",$C36)),NA(),IF(GETPIVOTDATA("% Satisfaisant Flore",$A$3,"Année",$A36,"Mois",$C36)<90%,GETPIVOTDATA("% Satisfaisant Flore",$A$3,"Année",$A36,"Mois",$C36),0)) -> 0 | E36: =IF(ISERROR(GETPIVOTDATA("% Satisfaisant Flore",$A$3,"Année",$A36,"Mois",$C36)),NA(),IF(GETPIVOTDATA("% Satisfaisant Flore",$A$3,"Année",$A36,"Mois",$C36)>=90%,GETPIVOTDATA("% Satisfaisant Flore",$A$3,"Année",$A36,"Mois",$C36),0)) -> 1 | F36: 0.9
A37: 2018 | C37: 4 | D37: =IF(ISERROR(GETPIVOTDATA("% Satisfaisant Flore",$A$3,"Année",$A37,"Mois",$C37)),NA(),IF(GETPIVOTDATA("% Satisfaisant Flore",$A$3,"Année",$A37,"Mois",$C37)<90%,GETPIVOTDATA("% Satisfaisant Flore",$A$3,"Année",$A37,"Mois",$C37),0)) -> 0 | E37: =IF(ISERROR(GETPIVOTDATA("% Satisfaisant Flore",$A$3,"Année",$A37,"Mois",$C37)),NA(),IF(GETPIVOTDATA("% Satisfaisant Flore",$A$3,"Année",$A37,"Mois",$C37)>=90%,GETPIVOTDATA("% Satisfaisant Flore",$A$3,"Année",$A37,"Mois",$C37),0)) -> 1 | F37: 0.9
A38: 2018 | C38: 5 | D38: =IF(ISERROR(GETPIVOTDATA("% Satisfaisant Flore",$A$3,"Année",$A38,"Mois",$C38)),NA(),IF(GETPIVOTDATA("% Satisfaisant Flore",$A$3,"Année",$A38,"Mois",$C38)<90%,GETPIVOTDATA("% Satisfaisant Flore",$A$3,"Année",$A38,"Mois",$C38),0)) -> #N/A | E38: =IF(ISERROR(GETPIVOTDATA("% Satisfaisant Flore",$A$3,"Année",$A38,"Mois",$C38)),NA(),IF(GETPIVOTDATA("% Satisfaisant Flore",$A$3,"Année",$A38,"Mois",$C38)>=90%,GETPIVOTDATA("% Satisfaisant Flore",$A$3,"Année",$A38,"Mois",$C38),0)) -> #N/A | F38: 0.9
A39: 2018 | C39: 6 | D39: =IF(ISERROR(GETPIVOTDATA("% Satisfaisant Flore",$A$3,"Année",$A39,"Mois",$C39)),NA(),IF(GETPIVOTDATA("% Satisfaisant Flore",$A$3,"Année",$A39,"Mois",$C39)<90%,GETPIVOTDATA("% Satisfaisant Flore",$A$3,"Année",$A39,"Mois",$C39),0)) -> #N/A | E39: =IF(ISERROR(GETPIVOTDATA("% Satisfaisant Flore",$A$3,"Année",$A39,"Mois",$C39)),NA(),IF(GETPIVOTDATA("% Satisfaisant Flore",$A$3,"Année",$A39,"Mois",$C39)>=90%,GETPIVOTDATA("% Satisfaisant Flore",$A$3,"Année",$A39,"Mois",$C39),0)) -> #N/A | F39: 0.9
A40: 2018 | C40: 7 | D40: =IF(ISERROR(GETPIVOTDATA("% Satisfaisant Flore",$A$3,"Année",$A40,"Mois",$C40)),NA(),IF(GETPIVOTDATA("% Satisfaisant Flore",$A$3,"Année",$A40,"Mois",$C40)<90%,GETPIVOTDATA("% Satisfaisant Flore",$A$3,"Année",$A40,"Mois",$C40),0)) -> #N/A | E40: =IF(ISERROR(GETPIVOTDATA("% Satisfaisant Flore",$A$3,"Année",$A40,"Mois",$C40)),NA(),IF(GETPIVOTDATA("% Satisfaisant Flore",$A$3,"Année",$A40,"Mois",$C40)>=90%,GETPIVOTDATA("% Satisfaisant Flore",$A$3,"Année",$A40,"Mois",$C40),0)) -> #N/A | F40: 0.9
A41: 2018 | C41: 8 | D41: =IF(ISERROR(GETPIVOTDATA("% Satisfaisant Flore",$A$3,"Année",$A41,"Mois",$C41)),NA(),IF(GETPIVOTDATA("% Satisfaisant Flore",$A$3,"Année",$A41,"Mois",$C41)<90%,GETPIVOTDATA("% Satisfaisant Flore",$A$3,"Année",$A41,"Mois",$C41),0)) -> #N/A | E41: =IF(ISERROR(GETPIVOTDATA("% Satisfaisant Flore",$A$3,"Année",$A41,"Mois",$C41)),NA(),IF(GETPIVOTDATA("% Satisfaisant Flore",$A$3,"Année",$A41,"Mois",$C41)>=90%,GETPIVOTDATA("% Satisfaisant Flore",$A$3,"Année",$A41,"Mois",$C41),0)) -> #N/A | F41: 0.9
A42: 2018 | C42: 9 | D42: =IF(ISERROR(GETPIVOTDATA("% Satisfaisant Flore",$A$3,"Année",$A42,"Mois",$C42)),NA(),IF(GETPIVOTDATA("% Satisfaisant Flore",$A$3,"Année",$A42,"Mois",$C42)<90%,GETPIVOTDATA("% Satisfaisant Flore",$A$3,"Année",$A42,"Mois",$C42),0)) -> #N/A | E42: =IF(ISERROR(GETPIVOTDATA("% Satisfaisant Flore",$A$3,"Année",$A42,"Mois",$C42)),NA(),IF(GETPIVOTDATA("% Satisfaisant Flore",$A$3,"Année",$A42,"Mois",$C42)>=90%,GETPIVOTDATA("% Satisfaisant Flore",$A$3,"Année",$A42,"Mois",$C42),0)) -> #N/A | F42: 0.9
A43: 2018 | C43: 10 | D43: =IF(ISERROR(GETPIVOTDATA("% Satisfaisant Flore",$A$3,"Année",$A43,"Mois",$C43)),NA(),IF(GETPIVOTDATA("% Satisfaisant Flore",$A$3,"Année",$A43,"Mois",$C43)<90%,GETPIVOTDATA("% Satisfaisant Flore",$A$3,"Année",$A43,"Mois",$C43),0)) -> #N/A | E43: =IF(ISERROR(GETPIVOTDATA("% Satisfaisant Flore",$A$3,"Année",$A43,"Mois",$C43)),NA(),IF(GETPIVOTDATA("% Satisfaisant Flore",$A$3,"Année",$A43,"Mois",$C43)>=90%,GETPIVOTDATA("% Satisfaisant Flore",$A$3,"Année",$A43,"Mois",$C43),0)) -> #N/A | F43: 0.9
A44: 2018 | C44: 11 | D44: =IF(ISERROR(GETPIVOTDATA("% Satisfaisant Flore",$A$3,"Année",$A44,"Mois",$C44)),NA(),IF(GETPIVOTDATA("% Satisfaisant Flore",$A$3,"Année",$A44,"Mois",$C44)<90%,GETPIVOTDATA("% Satisfaisant Flore",$A$3,"Année",$A44,"Mois",$C44),0)) -> #N/A | E44: =IF(ISERROR(GETPIVOTDATA("% Satisfaisant Flore",$A$3,"Année",$A44,"Mois",$C44)),NA(),IF(GETPIVOTDATA("% Satisfaisant Flore",$A$3,"Année",$A44,"Mois",$C44)>=90%,GETPIVOTDATA("% Satisfaisant Flore",$A$3,"Année",$A44,"Mois",$C44),0)) -> #N/A | F44: 0.9
A45: 2018 | C45: 12 | D45: =IF(ISERROR(GETPIVOTDATA("% Satisfaisant Flore",$A$3,"Année",$A45,"Mois",$C45)),NA(),IF(GETPIVOTDATA("% Satisfaisant Flore",$A$3,"Année",$A45,"Mois",$C45)<90%,GETPIVOTDATA("% Satisfaisant Flore",$A$3,"Année",$A45,"Mois",$C45),0)) -> #N/A | E45: =IF(ISERROR(GETPIVOTDATA("% Satisfaisant Flore",$A$3,"Année",$A45,"Mois",$C45)),NA(),IF(GETPIVOTDATA("% Satisfaisant Flore",$A$3,"Année",$A45,"Mois",$C45)>=90%,GETPIVOTDATA("% Satisfaisant Flore",$A$3,"Année",$A45,"Mois",$C45),0)) -> #N/A | F45: 0.9

Sheet TDC
A1: Satifaisant Flore
A2: Atelier | B2: (Plusieurs éléments)
C4: Données
A5: Année | B5: Mois | C5: Somme de % Satisfaisant Flore OK | D5: Somme de Satisfaisant Flore KO | E5: Seuil
A6: 2017 | B6: 1 | C6: 0 | D6: 1 | E6: 0.9
B7: 2 | C7: 0.76190476 | D7: 0 | E7: 0.9
B8: 3 | C8: 0 | D8: 1 | E8: 0.9
B9: 4 | C9: 0 | D9: 0.95833333 | E9: 0.9
A10: Total 2017 | C10: 0.93478261 | D10: 0 | E10: 0.9
A11: 2018 | B11: 1 | C11: 0 | D11: 1 | E11: 0.9
B12: 2 | C12: 0.88461538 | D12: 0 | E12: 0.9
B13: 3 | C13: 0 | D13: 1 | E13: 0.9
B14: 4 | C14: 0 | D14: 1 | E14: 0.9
A15: Total 2018 | C15: 0.96774194 | D15: 0 | E15: 0.9
A16: Total Satifaisant Flore | C16: 0.95135135 | D16: 0 | E16: 0.9

Sheet Mains
A1: Année | B1: Mois | C1: Semaine | D1: Atelier | E1: Date | F1: Nom | G1: Flore (BLANC) | H1: RESULTAT FLORE | I1: NBS FLORE | J1: NBNS FLORE | K1: Critère | L1: Objectif Flore | M1: Objectif Entero | N1: Seuil
A2: =IF(E2="","",(YEAR(E2))) -> 2017 | B2: =IF(E2="","",(MONTH(E2))) -> 1 | C2: 1 | D2: Conditionnement | E2: 42740 | F2: M Aug | G2: 15 | H2: =IF(G2="","",IF(G2<=50,"S","NS")) -> S | I2: =IF(H2="S",COUNTA(H2),"") -> 1 | J2: =IF(H2="NS",COUNTA(H2),"") | K2: =IF(COUNTA(E2)=0,"",1) -> 1 | L2: 90 | M2: 100 | N2: =IF(COUNTIFS($A$2:A2,A2,Mains!$B$2:B2,Mains!B2)=1,Mains!L2,0)/100 -> 0.9
A3: =IF(E3="","",(YEAR(E3))) -> 2017 | B3: =IF(E3="","",(MONTH(E3))) -> 1 | C3: 1 | D3: Conditionnement | E3: 42740 | F3: M bris | G3: 31 | H3: =IF(G3="","",IF(G3<=50,"S","NS")) -> S | I3: =IF(H3="S",COUNTA(H3),"") -> 1 | J3: =IF(H3="NS",COUNTA(H3),"") | K3: =IF(COUNTA(E3)=0,"",1) -> 1 | L3: 90 | M3: 100 | N3: =IF(COUNTIFS($A$2:A3,A3,Mains!$B$2:B3,Mains!B3)=1,Mains!L3,0)/100 -> 0
A4: =IF(E4="","",(YEAR(E4))) -> 2017 | B4: =IF(E4="","",(MONTH(E4))) -> 1 | C4: 1 | D4: Pel | E4: 42740 | F4: M Cha | G4: 0 | H4: =IF(G4="","",IF(G4<=50,"S","NS")) -> S | I4: =IF(H4="S",COUNTA(H4),"") -> 1 | J4: =IF(H4="NS",COUNTA(H4),"") | K4: =IF(COUNTA(E4)=0,"",1) -> 1 | L4: 90 | M4: 100 | N4: =IF(COUNTIFS($A$2:A4,A4,Mains!$B$2:B4,Mains!B4)=1,Mains!L4,0)/100 -> 0
A5: =IF(E5="","",(YEAR(E5))) -> 2017 | B5: =IF(E5="","",(MONTH(E5))) -> 1 | C5: 1 | D5: Pel | E5: 42740 | F5: M Mor | G5: 35 | H5: =IF(G5="","",IF(G5<=50,"S","NS")) -> S | I5: =IF(H5="S",COUNTA(H5),"") -> 1 | J5: =IF(H5="NS",COUNTA(H5),"") | K5: =IF(COUNTA(E5)=0,"",1) -> 1 | L5: 90 | M5: 100 | N5: =IF(COUNTIFS($A$2:A5,A5,Mains!$B$2:B5,Mains!B5)=1,Mains!L5,0)/100 -> 0
A6: =IF(E6="","",(YEAR(E6))) -> 2017 | B6: =IF(E6="","",(MONTH(E6))) -> 1 | C6: 2 | D6: Abattage | E6: 42747 | F6: M Dur | G6: 28 | H6: =IF(G6="","",IF(G6<=50,"S","NS")) -> S | I6: =IF(H6="S",COUNTA(H6),"") -> 1 | J6: =IF(H6="NS",COUNTA(H6),"") | K6: =IF(COUNTA(E6)=0,"",1) -> 1 | L6: 90 | M6: 100 | N6: =IF(COUNTIFS($A$2:A6,A6,Mains!$B$2:B6,Mains!B6)=1,Mains!L6,0)/100 -> 0
A7: =IF(E7="","",(YEAR(E7))) -> 2017 | B7: =IF(E7="","",(MONTH(E7))) -> 1 | C7: 2 | D7: Abattage | E7: 42747 | F7: M Brin | G7: 4 | H7: =IF(G7="","",IF(G7<=50,"S","NS")) -> S | I7: =IF(H7="S",COUNTA(H7),"") -> 1 | J7: =IF(H7="NS",COUNTA(H7),"") | K7: =IF(COUNTA(E7)=0,"",1) -> 1 | L7: 90 | M7: 100 | N7: =IF(COUNTIFS($A$2:A7,A7,Mains!$B$2:B7,Mains!B7)=1,Mains!L7,0)/100 -> 0
A8: =IF(E8="","",(YEAR(E8))) -> 2017 | B8: =IF(E8="","",(MONTH(E8))) -> 1 | C8: 2 | D8: Conditionnement | E8: 42747 | F8: M Cha | G8: 0 | H8: =IF(G8="","",IF(G8<=50,"S","NS")) -> S | I8: =IF(H8="S",COUNTA(H8),"") -> 1 | J8: =IF(H8="NS",COUNTA(H8),"") | K8: =IF(COUNTA(E8)=0,"",1) -> 1 | L8: 90 | M8: 100 | N8: =IF(COUNTIFS($A$2:A8,A8,Mains!$B$2:B8,Mains!B8)=1,Mains!L8,0)/100 -> 0
A9: =IF(E9="","",(YEAR(E9))) -> 2017 | B9: =IF(E9="","",(MONTH(E9))) -> 1 | C9: 2 | D9: Conditionnement | E9: 42747 | F9: M Poin | G9: 0 | H9: =IF(G9="","",IF(G9<=50,"S","NS")) -> S | I9: =IF(H9="S",COUNTA(H9),"") -> 1 | J9: =IF(H9="NS",COUNTA(H9),"") | K9: =IF(COUNTA(E9)=0,"",1) -> 1 | L9: 90 | M9: 100 | N9: =IF(COUNTIFS($A$2:A9,A9,Mains!$B$2:B9,Mains!B9)=1,Mains!L9,0)/100 -> 0
A10: =IF(E10="","",(YEAR(E10))) -> 2017 | B10: =IF(E10="","",(MONTH(E10))) -> 1 | C10: 2 | D10: Conditionnement | E10: 42747 | F10: M Fau | G10: 0 | H10: =IF(G10="","",IF(G10<=50,"S","NS")) -> S | I10: =IF(H10="S",COUNTA(H10),"") -> 1 | J10: =IF(H10="NS",COUNTA(H10),"") | K10: =IF(COUNTA(E10)=0,"",1) -> 1 | L10: 90 | M10: 100 | N10: =IF(COUNTIFS($A$2:A10,A10,Mains!$B$2:B10,Mains!B10)=1,Mains!L10,0)/100 -> 0
A11: =IF(E11="","",(YEAR(E11))) -> 2017 | B11: =IF(E11="","",(MONTH(E11))) -> 1 | C11: 2 | D11: Pel | E11: 42747 | F11: M Gab | G11: 0 | H11: =IF(G11="","",IF(G11<=50,"S","NS")) -> S | I11: =IF(H11="S",COUNTA(H11),"") -> 1 | J11: =IF(H11="NS",COUNTA(H11),"") | K11: =IF(COUNTA(E11)=0,"",1) -> 1 | L11: 90 | M11: 100 | N11: =IF(COUNTIFS($A$2:A11,A11,Mains!$B$2:B11,Mains!B11)=1,Mains!L11,0)/100 -> 0
A12: =IF(E12="","",(YEAR(E12))) -> 2017 | B12: =IF(E12="","",(MONTH(E12))) -> 1 | C12: 2 | D12: Pel | E12: 42747 | F12: M Fau | G12: 2 | H12: =IF(G12="","",IF(G12<=50,"S","NS")) -> S | I12: =IF(H12="S",COUNTA(H12),"") -> 1 | J12: =IF(H12="NS",COUNTA(H12),"") | K12: =IF(COUNTA(E12)=0,"",1) -> 1 | L12: 90 | M12: 100 | N12: =IF(COUNTIFS($A$2:A12,A12,Mains!$B$2:B12,Mains!B12)=1,Mains!L12,0)/100 -> 0
A13: =IF(E13="","",(YEAR(E13))) -> 2017 | B13: =IF(E13="","",(MONTH(E13))) -> 1 | C13: 3 | D13: Abattage | E13: 42753 | F13: M Gob | G13: 36 | H13: =IF(G13="","",IF(G13<=50,"S","NS")) -> S | I13: =IF(H13="S",COUNTA(H13),"") -> 1 | J13: =IF(H13="NS",COUNTA(H13),"") | K13: =IF(COUNTA(E13)=0,"",1) -> 1 | L13: 90 | M13: 100 | N13: =IF(COUNTIFS($A$2:A13,A13,Mains!$B$2:B13,Mains!B13)=1,Mains!L13,0)/100 -> 0
... A26: =IF(E26="","",(YEAR(E26))) -> 2017 | B26: =IF(E26="","",(MONTH(E26))) -> 2 | C26: 5 | D26: Pel | E26: 42767 | F26: M Cha | G26: 0 | H26: =IF(G26="","",IF(G26<=50,"S","NS")) -> S | I26: =IF(H26="S",COUNTA(H26),"") -> 1 | J26: =IF(H26="NS",COUNTA(H26),"") | K26: =IF(COUNTA(E26)=0,"",1) -> 1 | L26: 90 | M26: 100 | N26: =IF(COUNTIFS($A$2:A26,A26,Mains!$B$2:B26,Mains!B26)=1,Mains!L26,0)/100 -> 0
A27: =IF(E27="","",(YEAR(E27))) -> 2017 | B27: =IF(E27="","",(MONTH(E27))) -> 2 | C27: 6 | D27: Abattage | E27: 42774 | F27: M Dra | G27: >50 | H27: =IF(G27="","",IF(G27<=50,"S","NS")) -> NS | I27: =IF(H27="S",COUNTA(H27),"") | J27: =IF(H27="NS",COUNTA(H27),"") -> 1 | K27: =IF(COUNTA(E27)=0,"",1) -> 1 | L27: 90 | M27: 100 | N27: =IF(COUNTIFS($A$2:A27,A27,Mains!$B$2:B27,Mains!B27)=1,Mains!L27,0)/100 -> 0
A28: =IF(E28="","",(YEAR(E28))) -> 2017 | B28: =IF(E28="","",(MONTH(E28))) -> 2 | C28: 6 | D28: Conditionnement | E28: 42774 | F28: M Aug | G28: 0 | H28: =IF(G28="","",IF(G28<=50,"S","NS")) -> S | I28: =IF(H28="S",COUNTA(H28),"") -> 1 | J28: =IF(H28="NS",COUNTA(H28),"") | K28: =IF(COUNTA(E28)=0,"",1) -> 1 | L28: 90 | M28: 100 | N28: =IF(COUNTIFS($A$2:A28,A28,Mains!$B$2:B28,Mains!B28)=1,Mains!L28,0)/100 -> 0
A29: =IF(E29="","",(YEAR(E29))) -> 2017 | B29: =IF(E29="","",(MONTH(E29))) -> 2 | C29: 6 | D29: Pel | E29: 42774 | F29: M Mor | G29: 5 | H29: =IF(G29="","",IF(G29<=50,"S","NS")) -> S | I29: =IF(H29="S",COUNTA(H29),"") -> 1 | J29: =IF(H29="NS",COUNTA(H29),"") | K29: =IF(COUNTA(E29)=0,"",1) -> 1 | L29: 90 | M29: 100 | N29: =IF(COUNTIFS($A$2:A29,A29,Mains!$B$2:B29,Mains!B29)=1,Mains!L29,0)/100 -> 0
A30: =IF(E30="","",(YEAR(E30))) -> 2017 | B30: =IF(E30="","",(MONTH(E30))) -> 2 | C30: 6 | D30: Pel | E30: 42774 | F30: M Blan | G30: >50 | H30: =IF(G30="","",IF(G30<=50,"S","NS")) -> NS | I30: =IF(H30="S",COUNTA(H30),"") | J30: =IF(H30="NS",COUNTA(H30),"") -> 1 | K30: =IF(COUNTA(E30)=0,"",1) -> 1 | L30: 90 | M30: 100 | N30: =IF(COUNTIFS($A$2:A30,A30,Mains!$B$2:B30,Mains!B30)=1,Mains!L30,0)/100 -> 0
A31: =IF(E31="","",(YEAR(E31))) -> 2017 | B31: =IF(E31="","",(MONTH(E31))) -> 2 | C31: 6 | D31: Maintenance | E31: 42774 | F31: M Elin | G31: 0 | H31: =IF(G31="","",IF(G31<=50,"S","NS")) -> S | I31: =IF(H31="S",COUNTA(H31),"") -> 1 | J31: =IF(H31="NS",COUNTA(H31),"") | K31: =IF(COUNTA(E31)=0,"",1) -> 1 | L31: 90 | M31: 100 | N31: =IF(COUNTIFS($A$2:A31,A31,Mains!$B$2:B31,Mains!B31)=1,Mains!L31,0)/100 -> 0
A32: =IF(E32="","",(YEAR(E32))) -> 2017 | B32: =IF(E32="","",(MONTH(E32))) -> 2 | C32: 7 | D32: Abattage | E32: 42781 | F32: M Dal | G32: 0 | H32: =IF(G32="","",IF(G32<=50,"S","NS")) -> S | I32: =IF(H32="S",COUNTA(H32),"") -> 1 | J32: =IF(H32="NS",COUNTA(H32),"") | K32: =IF(COUNTA(E32)=0,"",1) -> 1 | L32: 90 | M32: 100 | N32: =IF(COUNTIFS($A$2:A32,A32,Mains!$B$2:B32,Mains!B32)=1,Mains!L32,0)/100 -> 0
A33: =IF(E33="","",(YEAR(E33))) -> 2017 | B33: =IF(E33="","",(MONTH(E33))) -> 2 | C33: 7 | D33: Abattage | E33: 42781 | F33: M Rez | G33: >50 | H33: =IF(G33="","",IF(G33<=50,"S","NS")) -> NS | I33: =IF(H33="S",COUNTA(H33),"") | J33: =IF(H33="NS",COUNTA(H33),"") -> 1 | K33: =IF(COUNTA(E33)=0,"",1) -> 1 | L33: 90 | M33: 100 | N33: =IF(COUNTIFS($A$2:A33,A33,Mains!$B$2:B33,Mains!B33)=1,Mains!L33,0)/100 -> 0
A34: =IF(E34="","",(YEAR(E34))) -> 2017 | B34: =IF(E34="","",(MONTH(E34))) -> 2 | C34: 7 | D34: Conditionnement | E34: 42781 | F34: M Poin | G34: 0 | H34: =IF(G34="","",IF(G34<=50,"S","NS")) -> S | I34: =IF(H34="S",COUNTA(H34),"") -> 1 | J34: =IF(H34="NS",COUNTA(H34),"") | K34: =IF(COUNTA(E34)=0,"",1) -> 1 | L34: 90 | M34: 100 | N34: =IF(COUNTIFS($A$2:A34,A34,Mains!$B$2:B34,Mains!B34)=1,Mains!L34,0)/100 -> 0
A35: =IF(E35="","",(YEAR(E35))) -> 2017 | B35: =IF(E35="","",(MONTH(E35))) -> 2 | C35: 7 | D35: Conditionnement | E35: 42781 | F35: M Cor | G35: 0 | H35: =IF(G35="","",IF(G35<=50,"S","NS")) -> S | I35: =IF(H35="S",COUNTA(H35),"") -> 1 | J35: =IF(H35="NS",COUNTA(H35),"") | K35: =IF(COUNTA(E35)=0,"",1) -> 1 | L35: 90 | M35: 100 | N35: =IF(COUNTIFS($A$2:A35,A35,Mains!$B$2:B35,Mains!B35)=1,Mains!L35,0)/100 -> 0
A36: =IF(E36="","",(YEAR(E36))) -> 2017 | B36: =IF(E36="","",(MONTH(E36))) -> 2 | C36: 7 | D36: Pel | E36: 42781 | F36: M Gab | G36: 0 | H36: =IF(G36="","",IF(G36<=50,"S","NS")) -> S | I36: =IF(H36="S",COUNTA(H36),"") -> 1 | J36: =IF(H36="NS",COUNTA(H36),"") | K36: =IF(COUNTA(E36)=0,"",1) -> 1 | L36: 90 | M36: 100 | N36: =IF(COUNTIFS($A$2:A36,A36,Mains!$B$2:B36,Mains!B36)=1,Mains!L36,0)/100 -> 0
A37: =IF(E37="","",(YEAR(E37))) -> 2017 | B37: =IF(E37="","",(MONTH(E37))) -> 2 | C37: 7 | D37: Pel | E37: 42781 | F37: M Mor | G37: 2 | H37: =IF(G37="","",IF(G37<=50,"S","NS")) -> S | I37: =IF(H37="S",COUNTA(H37),"") -> 1 | J37: =IF(H37="NS",COUNTA(H37),"") | K37: =IF(COUNTA(E37)=0,"",1) -> 1 | L37: 90 | M37: 100 | N37: =IF(COUNTIFS($A$2:A37,A37,Mains!$B$2:B37,Mains!B37)=1,Mains!L37,0)/100 -> 0
A38: =IF(E38="","",(YEAR(E38))) -> 2017 | B38: =IF(E38="","",(MONTH(E38))) -> 2 | C38: 8 | D38: Abattage | E38: 42789 | F38: M Sic | G38: >50 | H38: =IF(G38="","",IF(G38<=50,"S","NS")) -> NS | I38: =IF(H38="S",COUNTA(H38),"") | J38: =IF(H38="NS",COUNTA(H38),"") -> 1 | K38: =IF(COUNTA(E38)=0,"",1) -> 1 | L38: 90 | M38: 100 | N38: =IF(COUNTIFS($A$2:A38,A38,Mains!$B$2:B38,Mains!B38)=1,Mains!L38,0)/100 -> 0
A39: =IF(E39="","",(YEAR(E39))) -> 2017 | B39: =IF(E39="","",(MONTH(E39))) -> 2 | C39: 8 | D39: Abattage | E39: 42789 | F39: M Dur | G39: 16 | H39: =IF(G39="","",IF(G39<=50,"S","NS")) -> S | I39: =IF(H39="S",COUNTA(H39),"") -> 1 | J39: =IF(H39="NS",COUNTA(H39),"") | K39: =IF(COUNTA(E39)=0,"",1) -> 1 | L39: 90 | M39: 100 | N39: =IF(COUNTIFS($A$2:A39,A39,Mains!$B$2:B39,Mains!B39)=1,Mains!L39,0)/100 -> 0
A40: =IF(E40="","",(YEAR(E40))) -> 2017 | B40: =IF(E40="","",(MONTH(E40))) -> 2 | C40: 8 | D40: Conditionnement | E40: 42788 | F40: M bris | G40: >50 | H40: =IF(G40="","",IF(G40<=50,"S","NS")) -> NS | I40: =IF(H40="S",COUNTA(H40),"") | J40: =IF(H40="NS",COUNTA(H40),"") -> 1 | K40: =IF(COUNTA(E40)=0,"",1) -> 1 | L40: 90 | M40: 100 | N40: =IF(COUNTIFS($A$2:A40,A40,Mains!$B$2:B40,Mains!B40)=1,Mains!L40,0)/100 -> 0
A41: =IF(E41="","",(YEAR(E41))) -> 2017 | B41: =IF(E41="","",(MONTH(E41))) -> 2 | C41: 8 | D41: Conditionnement | E41: 42788 | F41: M Cor | G41: 0 | H41: =IF(G41="","",IF(G41<=50,"S","NS")) -> S | I41: =IF(H41="S",COUNTA(H41),"") -> 1 | J41: =IF(H41="NS",COUNTA(H41),"") | K41: =IF(COUNTA(E41)=0,"",1) -> 1 | L41: 90 | M41: 100 | N41: =IF(COUNTIFS($A$2:A41,A41,Mains!$B$2:B41,Mains!B41)=1,Mains!L41,0)/100 -> 0
A42: =IF(E42="","",(YEAR(E42))) -> 2017 | B42: =IF(E42="","",(MONTH(E42))) -> 2 | C42: 8 | D42: Pel | E42: 42788 | F42: M Blan | G42: 20 | H42: =IF(G42="","",IF(G42<=50,"S","NS")) -> S | I42: =IF(H42="S",COUNTA(H42),"") -> 1 | J42: =IF(H42="NS",COUNTA(H42),"") | K42: =IF(COUNTA(E42)=0,"",1) -> 1 | L42: 90 | M42: 100 | N42: =IF(COUNTIFS($A$2:A42,A42,Mains!$B$2:B42,Mains!B42)=1,Mains!L42,0)/100 -> 0
A43: =IF(E43="","",(YEAR(E43))) -> 2017 | B43: =IF(E43="","",(MONTH(E43))) -> 2 | C43: 8 | D43: Maintenance | E43: 42789 | F43: M gab | G43: 0 | H43: =IF(G43="","",IF(G43<=50,"S","NS")) -> S | I43: =IF(H43="S",COUNTA(H43),"") -> 1 | J43: =IF(H43="NS",COUNTA(H43),"") | K43: =IF(COUNTA(E43)=0,"",1) -> 1 | L43: 90 | M43: 100 | N43: =IF(COUNTIFS($A$2:A43,A43,Mains!$B$2:B43,Mains!B43)=1,Mains!L43,0)/100 -> 0
A44: =IF(E44="","",(YEAR(E44))) -> 2017 | B44: =IF(E44="","",(MONTH(E44))) -> 3 | C44: 9 | D44: Abattage | E44: 42795 | F44: M Gob | G44: 0 | H44: =IF(G44="","",IF(G44<=50,"S","NS")) -> S | I44: =IF(H44="S",COUNTA(H44),"") -> 1 | J44: =IF(H44="NS",COUNTA(H44),"") | K44: =IF(COUNTA(E44)=0,"",1) -> 1 | L44: 90 | M44: 100 | N44: =IF(COUNTIFS($A$2:A44,A44,Mains!$B$2:B44,Mains!B44)=1,Mains!L44,0)/100 -> 0.9
A45: =IF(E45="","",(YEAR(E45))) -> 2017 | B45: =IF(E45="","",(MONTH(E45))) -> 3 | C45: 9 | D45: Abattage | E45: 42795 | F45: M Sic | G45: 0 | H45: =IF(G45="","",IF(G45<=50,"S","NS")) -> S | I45: =IF(H45="S",COUNTA(H45),"") -> 1 | J45: =IF(H45="NS",COUNTA(H45),"") | K45: =IF(COUNTA(E45)=0,"",1) -> 1 | L45: 90 | M45: 100 | N45: =IF(COUNTIFS($A$2:A45,A45,Mains!$B$2:B45,Mains!B45)=1,Mains!L45,0)/100 -> 0
A46: =IF(E46="","",(YEAR(E46))) -> 2017 | B46: =IF(E46="","",(MONTH(E46))) -> 3 | C46: 9 | D46: Conditionnement | E46: 42795 | F46: M Cha | G46: 42 | H46: =IF(G46="","",IF(G46<=50,"S","NS")) -> S | I46: =IF(H46="S",COUNTA(H46),"") -> 1 | J46: =IF(H46="NS",COUNTA(H46),"") | K46: =IF(COUNTA(E46)=0,"",1) -> 1 | L46: 90 | M46: 100 | N46: =IF(COUNTIFS($A$2:A46,A46,Mains!$B$2:B46,Mains!B46)=1,Mains!L46,0)/100 -> 0
A47: =IF(E47="","",(YEAR(E47))) -> 2017 | B47: =IF(E47="","",(MONTH(E47))) -> 3 | C47: 9 | D47: Conditionnement | E47: 42795 | F47: M Poin | G47: 0 | H47: =IF(G47="","",IF(G47<=50,"S","NS")) -> S | I47: =IF(H47="S",COUNTA(H47),"") -> 1 | J47: =IF(H47="NS",COUNTA(H47),"") | K47: =IF(COUNTA(E47)=0,"",1) -> 1 | L47: 90 | M47: 100 | N47: =IF(COUNTIFS($A$2:A47,A47,Mains!$B$2:B47,Mains!B47)=1,Mains!L47,0)/100 -> 0
A48: =IF(E48="","",(YEAR(E48))) -> 2017 | B48: =IF(E48="","",(MONTH(E48))) -> 3 | C48: 9 | D48: Conditionnement | E48: 42795 | F48: M Cor | G48: 0 | H48: =IF(G48="","",IF(G48<=50,"S","NS")) -> S | I48: =IF(H48="S",COUNTA(H48),"") -> 1 | J48: =IF(H48="NS",COUNTA(H48),"") | K48: =IF(COUNTA(E48)=0,"",1) -> 1 | L48: 90 | M48: 100 | N48: =IF(COUNTIFS($A$2:A48,A48,Mains!$B$2:B48,Mains!B48)=1,Mains!L48,0)/100 -> 0
A49: =IF(E49="","",(YEAR(E49))) -> 2017 | B49: =IF(E49="","",(MONTH(E49))) -> 3 | C49: 9 | D49: Pel | E49: 42795 | F49: M Cha | G49: 1 | H49: =IF(G49="","",IF(G49<=50,"S","NS")) -> S | I49: =IF(H49="S",COUNTA(H49),"") -> 1 | J49: =IF(H49="NS",COUNTA(H49),"") | K49: =IF(COUNTA(E49)=0,"",1) -> 1 | L49: 90 | M49: 100 | N49: =IF(COUNTIFS($A$2:A49,A49,Mains!$B$2:B49,Mains!B49)=1,Mains!L49,0)/100 -> 0
A50: =IF(E50="","",(YEAR(E50))) -> 2017 | B50: =IF(E50="","",(MONTH(E50))) -> 3 | C50: 9 | D50: Pel | E50: 42795 | F50: M Mor | G50: 46 | H50: =IF(G50="","",IF(G50<=50,"S","NS")) -> S | I50: =IF(H50="S",COUNTA(H50),"") -> 1 | J50: =IF(H50="NS",COUNTA(H50),"") | K50: =IF(COUNTA(E50)=0,"",1) -> 1 | L50: 90 | M50: 100 | N50: =IF(COUNTIFS($A$2:A50,A50,Mains!$B$2:B50,Mains!B50)=1,Mains!L50,0)/100 -> 0
A51: =IF(E51="","",(YEAR(E51))) -> 2017 | B51: =IF(E51="","",(MONTH(E51))) -> 3 | C51: 10 | D51: Abattage | E51: 42803 | F51: M Goui | G51: 0 | H51: =IF(G51="","",IF(G51<=50,"S","NS")) -> S | I51: =IF(H51="S",COUNTA(H51),"") -> 1 | J51: =IF(H51="NS",COUNTA(H51),"") | K51: =IF(COUNTA(E51)=0,"",1) -> 1 | L51: 90 | M51: 100 | N51: =IF(COUNTIFS($A$2:A51,A51,Mains!$B$2:B51,Mains!B51)=1,Mains!L51,0)/100 -> 0
A52: =IF(E52="","",(YEAR(E52))) -> 2017 | B52: =IF(E52="","",(MONTH(E52))) -> 3 | C52: 10 | D52: Conditionnement | E52: 42802 | F52: M Cor | G52: 0 | H52: =IF(G52="","",IF(G52<=50,"S","NS")) -> S | I52: =IF(H52="S",COUNTA(H52),"") -> 1 | J52: =IF(H52="NS",COUNTA(H52),"") | K52: =IF(COUNTA(E52)=0,"",1) -> 1 | L52: 90 | M52: 100 | N52: =IF(COUNTIFS($A$2:A52,A52,Mains!$B$2:B52,Mains!B52)=1,Mains!L52,0)/100 -> 0
...

Sheet GRAPH MAIN
A2: Mains par Germes:
