Workbook
Name Segment_Class_Status: #N/A
Name Segment_Mois: #N/A

Sheet Stages
A1: Libellé | B1: Stage | C1: Etat du stage | D1: Libellé long du stage | E1: Sous domaine | F1: Domaine du stage
A2: Conduite EP Interne | B2: TT11010001 | C2: Ouvert | D2: Conduire un Entretien Professionnel - Interne | E2: Management des équipes | F2: Management
A3: Conduite EP Externe | B3: TT11010002 | C3: Ouvert | D3: Conduire un Entretien Professionnel - Profil Conseil & Formation | E3: Management des équipes | F3: Management
A4: Handicap | B4: TT11010003 | C4: Ouvert | D4: Handicap au quotidien (correspondant handicap & assistant de prévention) | E4: Management des équipes | F4: Management
A5: Handicap | B5: TT11010004 | C5: Ouvert | D5: Handicap au quotidien (manageur) | E5: Management stratégique | F5: Management
A6: Outils formation | B6: TT11020001 | C6: Ouvert | D6: Les outils législatifs de la formation | E6: Formations pédagogiques | F6: Ressources humaines
A7: Atelier carrière A | B7: TT11020002 | C7: Ouvert | D7: Atelier carrière catégorie A | E7: Développement individuel professionnel | F7: Parcours individualisé reconversion pro
A8: Atelier carrière B | B8: TT11020003 | C8: Ouvert | D8: Atelier carrière catégorie B | E8: Développement individuel professionnel | F8: Parcours individualisé reconversion pro
A9: Atelier carrière C | B9: TT11020004 | C9: Ouvert | D9: Atelier carrière catégorie C | E9: Développement individuel professionnel | F9: Parcours individualisé reconversion pro
A10: Départ Retraite | B10: TT11030001 | C10: Ouvert | D10: Comment préparer son Départ à la Retraite | E10: Statut des fonctionnaires | F10: Environnement professionnel
A11: Accomp. prepa SACN | B11: TT11040001 | C11: Ouvert | D11: Accompagnement à la préparation à l'admissibilité de l'examen professionnel de secrétaire administratif de classe normale (SACN) | E11: Préparation aux concours de catégorie B | F11: Prépa concours et examens pro
A12: Accomp. prépa SACS | B12: TT11040002 | C12: Ouvert | D12: Accompagnement à la préparation à l'admissibilité de l'examen professionnel de secrétaire administratif de classe supèrieure (SACS) | E12: Préparation aux concours de catégorie B | F12: Prépa concours et examens pro
... A64: Habilitat° Élec. BS | B64: TT11140039 | C64: Ouvert | D64: Habilitations Électriques - BS | E64: ANONYME | F64: Formations spécifiques missions ministères

Sheet Sessions
A1: Libellé | B1: Stage | C1: Session | D1: Class Status | E1: Date de début | F1: Date de fin | G1: Place disponible | H1: Nombre de participants inscrits | I1: Nombre de participants en attente | J1: Libellé stage | K1: Etat | L1: Libellé long du stage | M1: Sous domaine | N1: Domaine du stage
A2: UD95 AC / Module F | B2: TT11140037 | C2: SESS.8 | D2: Ouverte | E2: 42979.083 | F2: 43084.042 | G2: 15 | H2: 0 | I2: 0 | J2: =INDEX(Stages!$A:$F,MATCH($B2,Stages!$B:$B,0),1) -> AC / Module F | K2: =INDEX(Stages!$A:$F,MATCH($B2,Stages!$B:$B,0),3) -> Ouvert | L2: =INDEX(Stages!$A:$F,MATCH($B2,Stages!$B:$B,0),4) -> AC / Module F - Préparation et mise en oeuvre d'une action territoriale | M2: =INDEX(Stages!$A:$F,MATCH($B2,Stages!$B:$B,0),5) -> ANONYME | N2: =INDEX(Stages!$A:$F,MATCH($B2,Stages!$B:$B,0),6) -> Formations spécifiques missions ministères
A3: UD94 AC / Module F | B3: TT11140037 | C3: SESS.7 | D3: Ouverte | E3: 42979.083 | F3: 43084.042 | G3: 15 | H3: 0 | I3: 0 | J3: =INDEX(Stages!$A:$F,MATCH($B3,Stages!$B:$B,0),1) -> AC / Module F | K3: =INDEX(Stages!$A:$F,MATCH($B3,Stages!$B:$B,0),3) -> Ouvert | L3: =INDEX(Stages!$A:$F,MATCH($B3,Stages!$B:$B,0),4) -> AC / Module F - Préparation et mise en oeuvre d'une action territoriale | M3: =INDEX(Stages!$A:$F,MATCH($B3,Stages!$B:$B,0),5) -> ANONYME | N3: =INDEX(Stages!$A:$F,MATCH($B3,Stages!$B:$B,0),6) -> Formations spécifiques missions ministères
A4: UD93 AC / Module F | B4: TT11140037 | C4: SESS.6 | D4: Ouverte | E4: 42979.083 | F4: 43084.042 | G4: 15 | H4: 0 | I4: 0 | J4: =INDEX(Stages!$A:$F,MATCH($B4,Stages!$B:$B,0),1) -> AC / Module F | K4: =INDEX(Stages!$A:$F,MATCH($B4,Stages!$B:$B,0),3) -> Ouvert | L4: =INDEX(Stages!$A:$F,MATCH($B4,Stages!$B:$B,0),4) -> AC / Module F - Préparation et mise en oeuvre d'une action territoriale | M4: =INDEX(Stages!$A:$F,MATCH($B4,Stages!$B:$B,0),5) -> ANONYME | N4: =INDEX(Stages!$A:$F,MATCH($B4,Stages!$B:$B,0),6) -> Formations spécifiques missions ministères
A5: UD75 AC / Module F | B5: TT11140037 | C5: SESS.2 | D5: Ouverte | E5: 42979.083 | F5: 43084.042 | G5: 15 | H5: 0 | I5: 0 | J5: =INDEX(Stages!$A:$F,MATCH($B5,Stages!$B:$B,0),1) -> AC / Module F | K5: =INDEX(Stages!$A:$F,MATCH($B5,Stages!$B:$B,0),3) -> Ouvert | L5: =INDEX(Stages!$A:$F,MATCH($B5,Stages!$B:$B,0),4) -> AC / Module F - Préparation et mise en oeuvre d'une action territoriale | M5: =INDEX(Stages!$A:$F,MATCH($B5,Stages!$B:$B,0),5) -> ANONYME | N5: =INDEX(Stages!$A:$F,MATCH($B5,Stages!$B:$B,0),6) -> Formations spécifiques missions ministères
A6: UD92 AC / Module F | B6: TT11140037 | C6: SESS.5 | D6: Ouverte | E6: 42979.083 | F6: 43084.042 | G6: 15 | H6: 0 | I6: 0 | J6: =INDEX(Stages!$A:$F,MATCH($B6,Stages!$B:$B,0),1) -> AC / Module F | K6: =INDEX(Stages!$A:$F,MATCH($B6,Stages!$B:$B,0),3) -> Ouvert | L6: =INDEX(Stages!$A:$F,MATCH($B6,Stages!$B:$B,0),4) -> AC / Module F - Préparation et mise en oeuvre d'une action territoriale | M6: =INDEX(Stages!$A:$F,MATCH($B6,Stages!$B:$B,0),5) -> ANONYME | N6: =INDEX(Stages!$A:$F,MATCH($B6,Stages!$B:$B,0),6) -> Formations spécifiques missions ministères
A7: UD77 AC / Module F | B7: TT11140037 | C7: SESS.3 | D7: Ouverte | E7: 42979.083 | F7: 43084.042 | G7: 15 | H7: 0 | I7: 0 | J7: =INDEX(Stages!$A:$F,MATCH($B7,Stages!$B:$B,0),1) -> AC / Module F | K7: =INDEX(Stages!$A:$F,MATCH($B7,Stages!$B:$B,0),3) -> Ouvert | L7: =INDEX(Stages!$A:$F,MATCH($B7,Stages!$B:$B,0),4) -> AC / Module F - Préparation et mise en oeuvre d'une action territoriale | M7: =INDEX(Stages!$A:$F,MATCH($B7,Stages!$B:$B,0),5) -> ANONYME | N7: =INDEX(Stages!$A:$F,MATCH($B7,Stages!$B:$B,0),6) -> Formations spécifiques missions ministères
A8: UD91 AC / Module F | B8: TT11140037 | C8: SESS.4 | D8: Ouverte | E8: 42979.083 | F8: 43084.042 | G8: 15 | H8: 0 | I8: 0 | J8: =INDEX(Stages!$A:$F,MATCH($B8,Stages!$B:$B,0),1) -> AC / Module F | K8: =INDEX(Stages!$A:$F,MATCH($B8,Stages!$B:$B,0),3) -> Ouvert | L8: =INDEX(Stages!$A:$F,MATCH($B8,Stages!$B:$B,0),4) -> AC / Module F - Préparation et mise en oeuvre d'une action territoriale | M8: =INDEX(Stages!$A:$F,MATCH($B8,Stages!$B:$B,0),5) -> ANONYME | N8: =INDEX(Stages!$A:$F,MATCH($B8,Stages!$B:$B,0),6) -> Formations spécifiques missions ministères
A9: UD78 AC / Module F | B9: TT11140037 | C9: SESS.9 | D9: Ouverte | E9: 42979.083 | F9: 43084.042 | G9: 15 | H9: 0 | I9: 0 | J9: =INDEX(Stages!$A:$F,MATCH($B9,Stages!$B:$B,0),1) -> AC / Module F | K9: =INDEX(Stages!$A:$F,MATCH($B9,Stages!$B:$B,0),3) -> Ouvert | L9: =INDEX(Stages!$A:$F,MATCH($B9,Stages!$B:$B,0),4) -> AC / Module F - Préparation et mise en oeuvre d'une action territoriale | M9: =INDEX(Stages!$A:$F,MATCH($B9,Stages!$B:$B,0),5) -> ANONYME | N9: =INDEX(Stages!$A:$F,MATCH($B9,Stages!$B:$B,0),6) -> Formations spécifiques missions ministères
A10: UD93 AC / Module D | B10: TT11140036 | C10: SESS.6 | D10: Ouverte | E10: 42979.083 | F10: 43084.042 | G10: 15 | H10: 0 | I10: 0 | J10: =INDEX(Stages!$A:$F,MATCH($B10,Stages!$B:$B,0),1) -> AC / Module D | K10: =INDEX(Stages!$A:$F,MATCH($B10,Stages!$B:$B,0),3) -> Ouvert | L10: =INDEX(Stages!$A:$F,MATCH($B10,Stages!$B:$B,0),4) -> AC / Module D - Gestion administrative de la négociation administrée | M10: =INDEX(Stages!$A:$F,MATCH($B10,Stages!$B:$B,0),5) -> ANONYME | N10: =INDEX(Stages!$A:$F,MATCH($B10,Stages!$B:$B,0),6) -> Formations spécifiques missions ministères
A11: UD95 AC / Module D | B11: TT11140036 | C11: SESS.8 | D11: Ouverte | E11: 42979.083 | F11: 43084.042 | G11: 15 | H11: 0 | I11: 0 | J11: =INDEX(Stages!$A:$F,MATCH($B11,Stages!$B:$B,0),1) -> AC / Module D | K11: =INDEX(Stages!$A:$F,MATCH($B11,Stages!$B:$B,0),3) -> Ouvert | L11: =INDEX(Stages!$A:$F,MATCH($B11,Stages!$B:$B,0),4) -> AC / Module D - Gestion administrative de la négociation administrée | M11: =INDEX(Stages!$A:$F,MATCH($B11,Stages!$B:$B,0),5) -> ANONYME | N11: =INDEX(Stages!$A:$F,MATCH($B11,Stages!$B:$B,0),6) -> Formations spécifiques missions ministères
A12: UD91 AC / Module D | B12: TT11140036 | C12: SESS.4 | D12: Ouverte | E12: 42979.083 | F12: 43084.042 | G12: 15 | H12: 0 | I12: 0 | J12: =INDEX(Stages!$A:$F,MATCH($B12,Stages!$B:$B,0),1) -> AC / Module D | K12: =INDEX(Stages!$A:$F,MATCH($B12,Stages!$B:$B,0),3) -> Ouvert | L12: =INDEX(Stages!$A:$F,MATCH($B12,Stages!$B:$B,0),4) -> AC / Module D - Gestion administrative de la négociation administrée | M12: =INDEX(Stages!$A:$F,MATCH($B12,Stages!$B:$B,0),5) -> ANONYME | N12: =INDEX(Stages!$A:$F,MATCH($B12,Stages!$B:$B,0),6) -> Formations spécifiques missions ministères
A13: UD78 AC / Module D | B13: TT11140036 | C13: SESS.3 | D13: Ouverte | E13: 42979.083 | F13: 43084.042 | G13: 15 | H13: 0 | I13: 0 | J13: =INDEX(Stages!$A:$F,MATCH($B13,Stages!$B:$B,0),1) -> AC / Module D | K13: =INDEX(Stages!$A:$F,MATCH($B13,Stages!$B:$B,0),3) -> Ouvert | L13: =INDEX(Stages!$A:$F,MATCH($B13,Stages!$B:$B,0),4) -> AC / Module D - Gestion administrative de la négociation administrée | M13: =INDEX(Stages!$A:$F,MATCH($B13,Stages!$B:$B,0),5) -> ANONYME | N13: =INDEX(Stages!$A:$F,MATCH($B13,Stages!$B:$B,0),6) -> Formations spécifiques missions ministères
... A78: SI WORD Enrichisseme | B78: TT11120005 | C78: 1 | D78: Ouverte | E78: 43027.083 | F78: 43027.083 | G78: 8 | H78: 0 | I78: 0 | J78: =INDEX(Stages!$A:$F,MATCH($B78,Stages!$B:$B,0),1) -> WORD Enrichissement | K78: =INDEX(Stages!$A:$F,MATCH($B78,Stages!$B:$B,0),3) -> Ouvert | L78: =INDEX(Stages!$A:$F,MATCH($B78,Stages!$B:$B,0),4) -> WORD 2010 - Enrichissement de documents | M78: =INDEX(Stages!$A:$F,MATCH($B78,Stages!$B:$B,0),5) -> Bureautique - technique WEB | N78: =INDEX(Stages!$A:$F,MATCH($B78,Stages!$B:$B,0),6) -> Informatique et Bureautique
A79: WORD Modèles/publi | B79: TT11120004 | C79: SESS.3 | D79: En préparation | G79: 8 | H79: 0 | I79: 0 | J79: =INDEX(Stages!$A:$F,MATCH($B79,Stages!$B:$B,0),1) -> WORD Modèles/publi | K79: =INDEX(Stages!$A:$F,MATCH($B79,Stages!$B:$B,0),3) -> Ouvert | L79: =INDEX(Stages!$A:$F,MATCH($B79,Stages!$B:$B,0),4) -> WORD 2010 - Modèles et Publipostage | M79: =INDEX(Stages!$A:$F,MATCH($B79,Stages!$B:$B,0),5) -> Bureautique - technique WEB | N79: =INDEX(Stages!$A:$F,MATCH($B79,Stages!$B:$B,0),6) -> Informatique et Bureautique
A80: S1 WORD Mod./Publi | B80: TT11120004 | C80: 2 | D80: Ouverte | E80: 43034.083 | F80: 43034.083 | G80: 6 | H80: 2 | I80: 0 | J80: =INDEX(Stages!$A:$F,MATCH($B80,Stages!$B:$B,0),1) -> WORD Modèles/publi | K80: =INDEX(Stages!$A:$F,MATCH($B80,Stages!$B:$B,0),3) -> Ouvert | L80: =INDEX(Stages!$A:$F,MATCH($B80,Stages!$B:$B,0),4) -> WORD 2010 - Modèles et Publipostage | M80: =INDEX(Stages!$A:$F,MATCH($B80,Stages!$B:$B,0),5) -> Bureautique - technique WEB | N80: =INDEX(Stages!$A:$F,MATCH($B80,Stages!$B:$B,0),6) -> Informatique et Bureautique
A81: S1 WORD Docs longs | B81: TT11120003 | C81: SESS.1 | D81: Ouverte | E81: 42992.083 | F81: 42992.083 | G81: 7 | H81: 1 | I81: 0 | J81: =INDEX(Stages!$A:$F,MATCH($B81,Stages!$B:$B,0),1) -> WORD Documents longs | K81: =INDEX(Stages!$A:$F,MATCH($B81,Stages!$B:$B,0),3) -> Ouvert | L81: =INDEX(Stages!$A:$F,MATCH($B81,Stages!$B:$B,0),4) -> WORD 2010 ATELIER - Gestion des documents longs | M81: =INDEX(Stages!$A:$F,MATCH($B81,Stages!$B:$B,0),5) -> Bureautique - Suite office | N81: =INDEX(Stages!$A:$F,MATCH($B81,Stages!$B:$B,0),6) -> Informatique et Bureautique
A82: S1 WORD Création... | B82: TT11120002 | C82: SESS.1 | D82: Ouverte | E82: 42902.083 | F82: 42902.083 | G82: 3 | H82: 5 | I82: 0 | J82: =INDEX(Stages!$A:$F,MATCH($B82,Stages!$B:$B,0),1) -> WORD Formulaires etc | K82: =INDEX(Stages!$A:$F,MATCH($B82,Stages!$B:$B,0),3) -> Ouvert | L82: =INDEX(Stages!$A:$F,MATCH($B82,Stages!$B:$B,0),4) -> WORD 2010 ATELIER - Création de formulaires et suivis des modifications | M82: =INDEX(Stages!$A:$F,MATCH($B82,Stages!$B:$B,0),5) -> Bureautique - Suite office | N82: =INDEX(Stages!$A:$F,MATCH($B82,Stages!$B:$B,0),6) -> Informatique et Bureautique
A83: WORD 2010 INITIATION | B83: TT11120001 | C83: SESS.1 | D83: Ouverte | E83: 42915.083 | F83: 42916.083 | G83: 3 | H83: 5 | I83: 0 | J83: =INDEX(Stages!$A:$F,MATCH($B83,Stages!$B:$B,0),1) -> WORD 2010 INITIATION | K83: =INDEX(Stages!$A:$F,MATCH($B83,Stages!$B:$B,0),3) -> Ouvert | L83: =INDEX(Stages!$A:$F,MATCH($B83,Stages!$B:$B,0),4) -> WORD 2010 INITIATION - Utilisation au quotidien des fonctions de base | M83: =INDEX(Stages!$A:$F,MATCH($B83,Stages!$B:$B,0),5) -> Bureautique - Suite office | N83: =INDEX(Stages!$A:$F,MATCH($B83,Stages!$B:$B,0),6) -> Informatique et Bureautique
A84: Droit Soc.Assoc S1 | B84: TT11100001 | C84: SESS.1 | D84: Réalisée | E84: 42849.083 | F84: 42851.083 | G84: 0 | H84: 12 | I84: 0 | J84: =INDEX(Stages!$A:$F,MATCH($B84,Stages!$B:$B,0),1) -> Droit sociétés assos | K84: =INDEX(Stages!$A:$F,MATCH($B84,Stages!$B:$B,0),3) -> Ouvert | L84: =INDEX(Stages!$A:$F,MATCH($B84,Stages!$B:$B,0),4) -> Droit des sociétés et des associations | M84: =INDEX(Stages!$A:$F,MATCH($B84,Stages!$B:$B,0),5) -> Connaissance du droit | N84: =INDEX(Stages!$A:$F,MATCH($B84,Stages!$B:$B,0),6) -> Techniques juridiques
A85: S1- Intelligence éco | B85: TT11070001 | C85: 2 | D85: Ouverte | E85: 43010.083 | F85: 43010.083 | G85: 12 | H85: 0 | I85: 0 | J85: =INDEX(Stages!$A:$F,MATCH($B85,Stages!$B:$B,0),1) -> Intelligence éco | K85: =INDEX(Stages!$A:$F,MATCH($B85,Stages!$B:$B,0),3) -> Ouvert | L85: =INDEX(Stages!$A:$F,MATCH($B85,Stages!$B:$B,0),4) -> Intelligence économique : information, influence, et sécurité des données | M85: =INDEX(Stages!$A:$F,MATCH($B85,Stages!$B:$B,0),5) -> Evaluation des politiques publiques | N85: =INDEX(Stages!$A:$F,MATCH($B85,Stages!$B:$B,0),6) -> Politiques publiques nationales
A86: S1 - diversité & dis | B86: TT11050001 | C86: 1 | D86: Close | E86: 42915.083 | F86: 42915.083 | G86: 6 | H86: 6 | I86: 0 | J86: =INDEX(Stages!$A:$F,MATCH($B86,Stages!$B:$B,0),1) -> Diversité & discrimi | K86: =INDEX(Stages!$A:$F,MATCH($B86,Stages!$B:$B,0),3) -> Ouvert | L86: =INDEX(Stages!$A:$F,MATCH($B86,Stages!$B:$B,0),4) -> Diversité et lutte contre la discrimination | M86: =INDEX(Stages!$A:$F,MATCH($B86,Stages!$B:$B,0),5) -> Initiation aux marchés publics | N86: =INDEX(Stages!$A:$F,MATCH($B86,Stages!$B:$B,0),6) -> Achats publics
A87: Accomp. prépa SACS | B87: TT11040002 | C87: SESS.4 | D87: Ouverte | E87: 42824.083 | F87: 42824.083 | G87: 7 | H87: 3 | I87: 0 | J87: =INDEX(Stages!$A:$F,MATCH($B87,Stages!$B:$B,0),1) -> Accomp. prépa SACS | K87: =INDEX(Stages!$A:$F,MATCH($B87,Stages!$B:$B,0),3) -> Ouvert | L87: =INDEX(Stages!$A:$F,MATCH($B87,Stages!$B:$B,0),4) -> Accompagnement à la préparation à l'admissibilité de l'examen professionnel de secrétaire administratif de classe supèrieure (SACS) | M87: =INDEX(Stages!$A:$F,MATCH($B87,Stages!$B:$B,0),5) -> Préparation aux concours de catégorie B | N87: =INDEX(Stages!$A:$F,MATCH($B87,Stages!$B:$B,0),6) -> Prépa concours et examens pro
A88: Accomp. prépa SACN | B88: TT11040001 | C88: SESS.1 | D88: Réalisée | E88: 42822.083 | F88: 42822.083 | G88: 7 | H88: 3 | I88: 0 | J88: =INDEX(Stages!$A:$F,MATCH($B88,Stages!$B:$B,0),1) -> Accomp. prepa SACN | K88: =INDEX(Stages!$A:$F,MATCH($B88,Stages!$B:$B,0),3) -> Ouvert | L88: =INDEX(Stages!$A:$F,MATCH($B88,Stages!$B:$B,0),4) -> Accompagnement à la préparation à l'admissibilité de l'examen professionnel de secrétaire administratif de classe normale (SACN) | M88: =INDEX(Stages!$A:$F,MATCH($B88,Stages!$B:$B,0),5) -> Préparation aux concours de catégorie B | N88: =INDEX(Stages!$A:$F,MATCH($B88,Stages!$B:$B,0),6) -> Prépa concours et examens pro
A89: Accomp. prépa SACN | B89: TT11040001 | C89: SESS.3 | D89: Réalisée | E89: 42825.083 | F89: 42825.083 | G89: 3 | H89: 7 | I89: 0 | J89: =INDEX(Stages!$A:$F,MATCH($B89,Stages!$B:$B,0),1) -> Accomp. prepa SACN | K89: =INDEX(Stages!$A:$F,MATCH($B89,Stages!$B:$B,0),3) -> Ouvert | L89: =INDEX(Stages!$A:$F,MATCH($B89,Stages!$B:$B,0),4) -> Accompagnement à la préparation à l'admissibilité de l'examen professionnel de secrétaire administratif de classe normale (SACN) | M89: =INDEX(Stages!$A:$F,MATCH($B89,Stages!$B:$B,0),5) -> Préparation aux concours de catégorie B | N89: =INDEX(Stages!$A:$F,MATCH($B89,Stages!$B:$B,0),6) -> Prépa concours et examens pro
A90: Ateliers C S1 | B90: TT11020004 | C90: SESS.1 | D90: Ouverte | E90: 43024.083 | F90: 43046.042 | G90: 12 | H90: 0 | I90: 0 | J90: =INDEX(Stages!$A:$F,MATCH($B90,Stages!$B:$B,0),1) -> Atelier carrière C | K90: =INDEX(Stages!$A:$F,MATCH($B90,Stages!$B:$B,0),3) -> Ouvert | L90: =INDEX(Stages!$A:$F,MATCH($B90,Stages!$B:$B,0),4) -> Atelier carrière catégorie C | M90: =INDEX(Stages!$A:$F,MATCH($B90,Stages!$B:$B,0),5) -> Développement individuel professionnel | N90: =INDEX(Stages!$A:$F,MATCH($B90,Stages!$B:$B,0),6) -> Parcours individualisé reconversion pro
A91: Ateliers B S1 | B91: TT11020003 | C91: SESS.1 | D91: Ouverte | E91: 42992.083 | F91: 43007.083 | G91: 2 | H91: 10 | I91: 1 | J91: =INDEX(Stages!$A:$F,MATCH($B91,Stages!$B:$B,0),1) -> Atelier carrière B | K91: =INDEX(Stages!$A:$F,MATCH($B91,Stages!$B:$B,0),3) -> Ouvert | L91: =INDEX(Stages!$A:$F,MATCH($B91,Stages!$B:$B,0),4) -> Atelier carrière catégorie B | M91: =INDEX(Stages!$A:$F,MATCH($B91,Stages!$B:$B,0),5) -> Développement individuel professionnel | N91: =INDEX(Stages!$A:$F,MATCH($B91,Stages!$B:$B,0),6) -> Parcours individualisé reconversion pro
... A101: Conduite EP Int. | B101: TT11010001 | C101: SESS.3 | D101: Réalisée | E101: 42789.042 | F101: 42789.042 | G101: 4 | H101: 8 | I101: 0 | J101: =INDEX(Stages!$A:$F,MATCH($B101,Stages!$B:$B,0),1) -> Conduite EP Interne | K101: =INDEX(Stages!$A:$F,MATCH($B101,Stages!$B:$B,0),3) -> Ouvert | L101: =INDEX(Stages!$A:$F,MATCH($B101,Stages!$B:$B,0),4) -> Conduire un Entretien Professionnel - Interne | M101: =INDEX(Stages!$A:$F,MATCH($B101,Stages!$B:$B,0),5) -> Management des équipes | N101: =INDEX(Stages!$A:$F,MATCH($B101,Stages!$B:$B,0),6) -> Management

Sheet TCD
A5: Mois | B5: (Tous)
A7: Stage | B7: Libellé long du stage | C7: Session | D7: Class Status | E7: Date de début | F7: Date de fin | G7: Places disponibles | H7: Inscrits | I7: En attente
A8: TT11010001 | B8: Conduire un Entretien Professionnel - Interne
C9: SESS.1 | D9: Annulée | E9: 09-févr | F9: 42775.042 | G9: 12 | H9: 0 | I9: 0
C10: SESS.2 | D10: Annulée | E10: 16-févr | F10: 42782.042 | G10: 12 | H10: 0 | I10: 0
C11: SESS.3 | D11: Réalisée | E11: 23-févr | F11: 42789.042 | G11: 4 | H11: 8 | I11: 0
C12: SESS.4 | D12: Annulée | E12: 02-mars | F12: 42796.042 | G12: 12 | H12: 0 | I12: 0
A13: Total TT11010001 | G13: 40 | H13: 8 | I13: 0
A15: TT11010002 | B15: Conduire un Entretien Professionnel - Profil Conseil & Formation
C16: SESS.1 | D16: Ouverte | E16: 02-oct | F16: 43011.083 | G16: 7 | H16: 5 | I16: 0
C17: SESS.2 | D17: Ouverte | E17: 16-nov | F17: 43056.042 | G17: 9 | H17: 3 | I17: 0
A18: Total TT11010002 | G18: 16 | H18: 8 | I18: 0
A20: TT11010003 | B20: Handicap au quotidien (correspondant handicap & assistant de prévention)
C21: 1 | D21: Ouverte | E21: 02-oct | F21: 43011.083 | G21: 15 | H21: 0 | I21: 0
A22: Total TT11010003 | G22: 15 | H22: 0 | I22: 0
A24: TT11020001 | B24: Les outils législatifs de la formation
C25: SESS.1 | D25: Réalisée | E25: 31-mars | F25: 42825.083 | G25: 5 | H25: 7 | I25: 0
C26: SESS.2 | D26: Réalisée | E26: 07-juin | F26: 42893.083 | G26: 3 | H26: 9 | I26: 0
A27: Total TT11020001 | G27: 8 | H27: 16 | I27: 0
A29: TT11020002 | B29: Atelier carrière catégorie A
C30: SESS.1 | D30: Ouverte | E30: 19-oct | F30: 43049.042 | G30: 12 | H30: 0 | I30: 0
A31: Total TT11020002 | G31: 12 | H31: 0 | I31: 0
A33: TT11020003 | B33: Atelier carrière catégorie B
C34: SESS.1 | D34: Ouverte | E34: 14-sept | F34: 43007.083 | G34: 2 | H34: 10 | I34: 1
A35: Total TT11020003 | G35: 2 | H35: 10 | I35: 1
A37: TT11020004 | B37: Atelier carrière catégorie C
C38: SESS.1 | D38: Ouverte | E38: 16-oct | F38: 43046.042 | G38: 12 | H38: 0 | I38: 0
A39: Total TT11020004 | G39: 12 | H39: 0 | I39: 0
A41: TT11040001 | B41: Accompagnement à la préparation à l'admissibilité de l'examen professionnel de secrétaire administratif de classe normale (SACN)
C42: SESS.1 | D42: Réalisée | E42: 28-mars | F42: 42822.083 | G42: 7 | H42: 3 | I42: 0
C43: SESS.3 | D43: Réalisée | E43: 31-mars | F43: 42825.083 | G43: 3 | H43: 7 | I43: 0
A44: Total TT11040001 | G44: 10 | H44: 10 | I44: 0
A46: TT11040002 | B46: Accompagnement à la préparation à l'admissibilité de l'examen professionnel de secrétaire administratif de classe supèrieure (SACS)
C47: SESS.4 | D47: Ouverte | E47: 30-mars | F47: 42824.083 | G47: 7 | H47: 3 | I47: 0
A48: Total TT11040002 | G48: 7 | H48: 3 | I48: 0
A50: TT11050001 | B50: Diversité et lutte contre la discrimination
C51: 1 | D51: Close | E51: 29-juin | F51: 42915.083 | G51: 6 | H51: 6 | I51: 0
A52: Total TT11050001 | G52: 6 | H52: 6 | I52: 0
A54: TT11070001 | B54: Intelligence économique : information, influence, et sécurité des données
C55: 2 | D55: Ouverte | E55: 02-oct | F55: 43010.083 | G55: 12 | H55: 0 | I55: 0
...
