Workbook
Name Region: Régions[Région]

Sheet Mediane séjours
B1: GHF1 | C1: GHF2 | D1: GHF3 | E1: GHF4 | F1: GHF5 | G1: GHF6 | H1: GHF7 | I1: GHF8 | J1: GHF9 | K1: GHF10 | L1: GHF11 | M1: GHF12 | N1: GHF13 | O1: GHF14 | P1: GHF15 | Q1: GHF16 | R1: GHF17 | S1: GHF18 | T1: GHF19 | U1: GHF20 | V1: GHF21 | W1: GHF22 | X1: GHF23 | Y1: GHF24 | Z1: GHF25 | AA1: GHF26 | AB1: GHF27 | AC1: GHF28 | AD1: GHF29 | AE1: GHF30 | AF1: GHF31 | AG1: GHF32 | AH1: GHF33 | AI1: GHF34 | AJ1: GHF35
A2: Alsace-Champagne-Ardenne-Lorraine | B2: 435 | C2: 192 | D2: 940 | E2: 154 | F2: 463 | G2: 17 | H2: 319 | I2: 1150 | J2: 306 | K2: 233 | L2: 4724 | M2: 998 | N2: 1056 | O2: 732 | P2: 947 | Q2: 1356 | R2: 207 | S2: 2098 | T2: 3349 | U2: 1795 | V2: 139 | W2: 32 | X2: 774 | Y2: 5678 | Z2: 616 | AA2: 846 | AB2: 982 | AC2: 9682 | AD2: 9682 | AE2: 4773 | AF2: 987 | AG2: 24 | AH2: 4937 | AI2: 16
A3: GE-01 - n° 10 | B3: 938 | C3: 588 | D3: 1717 | E3: 194 | F3: 1161 | G3: 52 | H3: 378 | I3: 3238 | J3: 1047 | K3: 649 | L3: 9088 | M3: 4240 | N3: 1856 | O3: 1820 | P3: 2367 | Q3: 3376 | R3: 719 | S3: 3350 | T3: 7749 | U3: 2051 | V3: 1055 | W3: 108 | X3: 728 | Y3: 8112 | Z3: 2065 | AA3: 2330 | AB3: 1439 | AC3: 20183 | AD3: 20183 | AE3: 6188 | AF3: 271 | AG3: 52 | AH3: 11030 | AI3: 19
A4: GE-02 - Centre Alsace | B4: 45 | C4: 0 | D4: 0 | E4: 0 | F4: 189 | G4: 51 | H4: 267 | I4: -98 | J4: 280 | K4: 30 | L4: 0 | M4: -332 | N4: 118 | O4: 908 | P4: 0 | Q4: 0 | R4: 49 | S4: 1457 | T4: 2356 | U4: 1033 | V4: 0 | W4: 6 | X4: 649 | Y4: 0 | Z4: 346 | AA4: 0 | AB4: -39 | AC4: 2216 | AD4: 2216 | AE4: 0 | AF4: 825 | AG4: -8 | AH4: 0 | AI4: 39
A5: GE-03 - Haute Alsace | B5: -179 | C5: -138 | D5: -106 | E5: 169 | F5: 0 | G5: -3 | H5: 11 | I5: -107 | J5: 170 | K5: -49 | L5: -373 | M5: 1030 | N5: 0 | O5: 42 | P5: 243 | Q5: -316 | R5: 0 | S5: 70 | T5: -549 | U5: -233 | V5: 324 | W5: 0 | X5: 117 | Y5: -869 | Z5: 0 | AA5: 208 | AB5: 0 | AC5: 0 | AD5: 0 | AE5: -1074 | AF5: -498 | AG5: 8 | AH5: 1443 | AI5: -6
A6: GE-04 - Nord Ardennes | B6: -184 | C6: -124 | D6: -455 | E6: -118 | F6: -231 | G6: 0 | H6: -97 | I6: -300 | J6: -73 | K6: -96 | L6: -1533 | M6: -601 | N6: -175 | O6: -516 | P6: -323 | Q6: -762 | R6: -169 | S6: -2054 | T6: -1567 | U6: -199 | V6: -38 | W6: -6 | X6: -314 | Y6: -1665 | Z6: -106 | AA6: -299 | AB6: -558 | AC6: -2514 | AD6: -2514 | AE6: -2061 | AF6: -749 | AG6: -7 | AH6: -966 | AI6: -1
A7: GE-05 - Champagne | B7: 262 | C7: 37 | D7: 282 | E7: 261 | F7: 421 | G7: 33 | H7: 116 | I7: 542 | J7: 14 | K7: 245 | L7: 1734 | M7: 1069 | N7: 619 | O7: 0 | P7: 402 | Q7: 812 | R7: 197 | S7: 667 | T7: 2497 | U7: 906 | V7: 630 | W7: 38 | X7: 694 | Y7: 1561 | Z7: 996 | AA7: 113 | AB7: 649 | AC7: 8040 | AD7: 8040 | AE7: 1019 | AF7: 306 | AG7: 27 | AH7: 653 | AI7: 87
A8: GE-06 - Aube et Sézannais | B8: -123 | C8: -166 | D8: -258 | E8: -77 | F8: -230 | G8: -15 | H8: -194 | I8: -103 | J8: 0 | K8: -84 | L8: -1850 | M8: 0 | N8: -517 | O8: -358 | P8: -162 | Q8: -534 | R8: -90 | S8: -1775 | T8: -2159 | U8: -909 | V8: -21 | W8: -29 | X8: -503 | Y8: -3187 | Z8: -165 | AA8: -411 | AB8: -312 | AC8: -3063 | AD8: -3063 | AE8: -2235 | AF8: -587 | AG8: 0 | AH8: -274 | AI8: 114
A9: GE-07 - Moselle Est | B9: -264 | C9: -12 | D9: -106 | E9: 0 | F9: -157 | G9: -16 | H9: -90 | I9: -250 | J9: -248 | K9: -33 | L9: -1801 | M9: -604 | N9: -557 | O9: -516 | P9: -610 | Q9: -569 | R9: -177 | S9: -621 | T9: -2351 | U9: 0 | V9: -71 | W9: -30 | X9: -550 | Y9: -313 | Z9: -291 | AA9: -135 | AB9: -459 | AC9: -2574 | AD9: -2574 | AE9: -1645 | AF9: -370 | AG9: -14 | AH9: -1702 | AI9: -9
A10: GE-08 - Lorraine Nord | B10: 127 | C10: -32 | D10: 777 | E10: 79 | F10: 422 | G10: 5 | H10: 0 | I10: 907 | J10: 234 | K10: 112 | L10: 4586 | M10: 2896 | N10: 397 | O10: 452 | P10: 292 | Q10: 1533 | R10: 273 | S10: 0 | T10: 0 | U10: 609 | V10: 315 | W10: 33 | X10: 0 | Y10: 3059 | Z10: 713 | AA10: 1047 | AB10: 530 | AC10: 6730 | AD10: 6730 | AE10: 1907 | AF10: 1309 | AG10: 133 | AH10: 6136 | AI10: 0
A11: GE-09 - Marne Haute-Marne Meuse | B11: -102 | C11: 83 | D11: -233 | E11: -115 | F11: -153 | G11: -8 | H11: -12 | I11: 0 | J11: -97 | K11: -43 | L11: -1008 | M11: -493 | N11: -379 | O11: -463 | P11: -385 | Q11: -479 | R11: -109 | S11: -914 | T11: -1380 | U11: -301 | V11: -55 | W11: -16 | X11: -184 | Y11: -623 | Z11: -98 | AA11: -96 | AB11: -234 | AC11: -1994 | AD11: -1994 | AE11: -736 | AF11: -670 | AG11: -12 | AH11: -520 | AI11: -5
A12: GE-10 - Sud Lorraine | B12: 228 | C12: 22 | D12: 703 | E12: 57 | F12: 411 | G12: 83 | H12: 220 | I12: 787 | J12: -47 | K12: 234 | L12: 7425 | M12: 1638 | N12: 568 | O12: 733 | P12: 1067 | Q12: 1625 | R12: 280 | S12: 3405 | T12: 7325 | U12: 667 | V12: 827 | W12: 77 | X12: 132 | Y12: 2349 | Z12: 1965 | AA12: 217 | AB12: 407 | AC12: 17257 | AD12: 17257 | AE12: 1825 | AF12: 0 | AG12: 124 | AH12: 3637 | AI12: -3
A13: GE-11 - Vosges | B13: 0 | C13: 128 | D13: 92 | E13: -5 | F13: -30 | G13: -15 | H13: -197 | I13: 428 | J13: -114 | K13: 0 | L13: 1525 | M13: -332 | N13: -348 | O13: -195 | P13: -312 | Q13: 8 | R13: -114 | S13: -566 | T13: 383 | U13: -229 | V13: -2 | W13: -8 | X13: -326 | Y13: 33 | Z13: -40 | AA13: -232 | AB13: 6 | AC13: -1113 | AD13: -1113 | AE13: 40 | AF13: 338 | AG13: -4 | AH13: -743 | AI13: 27
... A88: GUA-02 - basse terre | B88: 7 | C88: 11 | D88: 52 | E88: 2.5 | F88: 29 | G88: 0 | H88: -9.5 | I88: 200.5 | J88: 3.5 | K88: 2 | L88: 47.5 | M88: -3 | N88: 13.5 | O88: 2.5 | P88: 36 | Q88: 38 | R88: 20.5 | S88: 193.5 | T88: 33 | U88: -6.5 | V88: 14 | W88: -10 | X88: 59.5 | Y88: 155.5 | Z88: 60 | AA88: 58 | AB88: 92.5 | AC88: 264.5 | AD88: 264.5 | AE88: 109 | AF88: 31.5 | AG88: -2.5 | AH88: 126 | AI88: 0
A89: Île-de-France | B89: 451 | C89: #N/A | D89: 947 | E89: 73.5 | F89: 299 | G89: 0 | H89: #N/A | I89: 939 | J89: #N/A | K89: #N/A | L89: 3748.5 | M89: #N/A | N89: 900.5 | O89: 413 | P89: 372 | Q89: 1081 | R89: 87.5 | S89: 982 | T89: 1620.5 | U89: 1225 | V89: 139 | W89: 48 | X89: 895 | Y89: 4354 | Z89: 679.5 | AA89: 779.5 | AB89: 1084.5 | AC89: 14347 | AD89: 14347 | AE89: 4928 | AF89: 769.5 | AG89: #N/A | AH89: #N/A | AI89: 34.5
A90: IDF-02 - 77 Sud | B90: -361 | C90: #N/A | D90: -721 | E90: -67.5 | F90: -196 | G90: 0 | H90: #N/A | I90: -532 | J90: #N/A | K90: #N/A | L90: -1202.5 | M90: #N/A | N90: -513.5 | O90: -359 | P90: -56 | Q90: -726 | R90: -40.5 | S90: -964 | T90: -1024.5 | U90: -848 | V90: -89 | W90: -22 | X90: -683 | Y90: -2699 | Z90: -451.5 | AA90: -575.5 | AB90: -707.5 | AC90: -8188 | AD90: -8188 | AE90: -2186 | AF90: -607.5 | AG90: #N/A | AH90: #N/A | AI90: -28.5
A91: IDF-03 - Yvelines Nord | B91: 12 | C91: #N/A | D91: 299 | E91: 193.5 | F91: 183 | G91: 0 | H91: #N/A | I91: 164 | J91: #N/A | K91: #N/A | L91: 489.5 | M91: #N/A | N91: 169.5 | O91: 278 | P91: 78 | Q91: 248 | R91: 114.5 | S91: 2742 | T91: 962.5 | U91: 79 | V91: 54 | W91: -8 | X91: 575 | Y91: 1546 | Z91: 246.5 | AA91: 1054.5 | AB91: 377.5 | AC91: 3149 | AD91: 3149 | AE91: 495 | AF91: 894.5 | AG91: #N/A | AH91: #N/A | AI91: 108.5
A92: IDF-04 - Yvelines Sud | B92: 51 | C92: #N/A | D92: 359 | E92: 3.5 | F92: 25 | G92: 0 | H92: #N/A | I92: 375 | J92: #N/A | K92: #N/A | L92: 268.5 | M92: #N/A | N92: 100.5 | O92: 26 | P92: 55 | Q92: 112 | R92: 141.5 | S92: 21 | T92: 1027.5 | U92: 143 | V92: 50 | W92: -10 | X92: -160 | Y92: 272 | Z92: 140.5 | AA92: -119.5 | AB92: -154.5 | AC92: -3974 | AD92: -3974 | AE92: -123 | AF92: 242.5 | AG92: #N/A | AH92: #N/A | AI92: 65.5
A93: IDF-05 - Nord Essonne | B93: -12 | C93: #N/A | D93: -224 | E93: -22.5 | F93: -91 | G93: 0 | H93: #N/A | I93: -147 | J93: #N/A | K93: #N/A | L93: -486.5 | M93: #N/A | N93: -304.5 | O93: -159 | P93: -89 | Q93: -49 | R93: -55.5 | S93: -527 | T93: -509.5 | U93: -391 | V93: -65 | W93: -27 | X93: -226 | Y93: -852 | Z93: -163.5 | AA93: -483.5 | AB93: -386.5 | AC93: -4605 | AD93: -4605 | AE93: -1486 | AF93: -586.5 | AG93: #N/A | AH93: #N/A | AI93: -19.5
A94: IDF-06 - Ile de France Sud | B94: 26 | C94: #N/A | D94: 412 | E94: 103.5 | F94: 248 | G94: 0 | H94: #N/A | I94: 486 | J94: #N/A | K94: #N/A | L94: 1042.5 | M94: #N/A | N94: 515.5 | O94: -71 | P94: 425 | Q94: 49 | R94: 308.5 | S94: -652 | T94: 765.5 | U94: 978 | V94: 28 | W94: 8 | X94: 162 | Y94: 1219 | Z94: 90.5 | AA94: 200.5 | AB94: 237.5 | AC94: 3902 | AD94: 3902 | AE94: 497 | AF94: -0.5 | AG94: #N/A | AH94: #N/A | AI94: -18.5
A95: IDF-07 - Hauts-de-Seine | B95: -338 | C95: #N/A | D95: -666 | E95: -18.5 | F95: -177 | G95: 0 | H95: #N/A | I95: -289 | J95: #N/A | K95: #N/A | L95: -1152.5 | M95: #N/A | N95: -403.5 | O95: -209 | P95: -62 | Q95: -796 | R95: -68.5 | S95: -797 | T95: -882.5 | U95: -622 | V95: -87 | W95: -40 | X95: -679 | Y95: -1788 | Z95: -297.5 | AA95: 654.5 | AB95: -651.5 | AC95: -6633 | AD95: -6633 | AE95: -2732 | AF95: -591.5 | AG95: #N/A | AH95: #N/A | AI95: -27.5
A96: IDF-08 - 93/95 | B96: -124 | C96: #N/A | D96: 225 | E96: -8.5 | F96: -25 | G96: 0 | H96: #N/A | I96: -315 | J96: #N/A | K96: #N/A | L96: -67.5 | M96: #N/A | N96: -121.5 | O96: 63 | P96: -84 | Q96: 202 | R96: -25.5 | S96: 379 | T96: -232.5 | U96: -181 | V96: -78 | W96: 248 | X96: 103 | Y96: -272 | Z96: -47.5 | AA96: 257.5 | AB96: 128.5 | AC96: 4160 | AD96: 4160 | AE96: 61 | AF96: -430.5 | AG96: #N/A | AH96: #N/A | AI96: -10.5
A97: IDF-09 - 93 Est | B97: 206 | C97: #N/A | D97: 16 | E97: 171.5 | F97: 60 | G97: 0 | H97: #N/A | I97: 1353 | J97: #N/A | K97: #N/A | L97: 67.5 | M97: #N/A | N97: 518.5 | O97: 219 | P97: 334 | Q97: 296 | R97: 25.5 | S97: 1530 | T97: 565.5 | U97: 227 | V97: 92 | W97: 60 | X97: 310 | Y97: 983 | Z97: 58.5 | AA97: -107.5 | AB97: 379.5 | AC97: 6422 | AD97: 6422 | AE97: 2750 | AF97: 0.5 | AG97: #N/A | AH97: #N/A | AI97: 10.5
A98: IDF-11 - 94 Est | B98: 84 | C98: #N/A | D98: -714 | E98: -3.5 | F98: 41 | G98: 0 | H98: #N/A | I98: -189 | J98: #N/A | K98: #N/A | L98: 906.5 | M98: #N/A | N98: -100.5 | O98: -334 | P98: -55 | Q98: -546 | R98: -25.5 | S98: 3810 | T98: -327.5 | U98: 525 | V98: -21 | W98: 41 | X98: 121 | Y98: 841 | Z98: 47.5 | AA98: 283.5 | AB98: 23.5 | AC98: 8727 | AD98: 8727 | AE98: 1677 | AF98: 336.5 | AG98: #N/A | AH98: #N/A | AI98: 36.5
A99: IDF-13 - Sud Val d'Oise Nord Hauts-de-Seine | B99: -167 | C99: #N/A | D99: -246 | E99: 92.5 | F99: 196 | G99: 0 | H99: #N/A | I99: 1206 | J99: #N/A | K99: #N/A | L99: 1157.5 | M99: #N/A | N99: 110.5 | O99: 619 | P99: 464 | Q99: 217 | R99: 161.5 | S99: 750 | T99: 1062.5 | U99: 467 | V99: 99 | W99: 8 | X99: 343 | Y99: 1166 | Z99: 254.5 | AA99: 52.5 | AB99: 226.5 | AC99: -255 | AD99: -255 | AE99: 55 | AF99: 38.5 | AG99: #N/A | AH99: #N/A | AI99: 35.5
A100: IDF-14 - Nord Ouest Val d'Oise | B100: 26 | C100: #N/A | D100: -16 | E100: 100.5 | F100: -41 | G100: 0 | H100: #N/A | I100: 147 | J100: #N/A | K100: #N/A | L100: -603.5 | M100: #N/A | N100: 264.5 | O100: -26 | P100: 491 | Q100: -307 | R100: 109.5 | S100: -21 | T100: 232.5 | U100: -79 | V100: 21 | W100: 24 | X100: -103 | Y100: -946 | Z100: -119.5 | AA100: -52.5 | AB100: -23.5 | AC100: 255 | AD100: 255 | AE100: -55 | AF100: 317.5 | AG100: #N/A | AH100: #N/A | AI100: 11.5
A101: IDF-15 - Paris psychiatrie et neurosciences | B101: -431 | C101: #N/A | D101: 209 | E101: -37.5 | F101: -299 | G101: 0 | H101: #N/A | I101: -939 | J101: #N/A | K101: #N/A | L101: -3643.5 | M101: #N/A | N101: -898.5 | O101: 290 | P101: -356 | Q101: -322 | R101: -69.5 | S101: -893 | T101: -1212.5 | U101: -1221 | V101: -138 | W101: -47 | X101: -894 | Y101: -4352 | Z101: -674.5 | AA101: -775.5 | AB101: -1082.5 | AC101: -14277 | AD101: -14277 | AE101: -4918 | AF101: -721.5 | AG101: #N/A | AH101: #N/A | AI101: -33.5
A102: Languedoc-Roussillon-Midi-Pyrénées | B102: 215 | C102: 195 | D102: 671 | E102: 60.5 | F102: 292 | G102: 0 | H102: 104 | I102: 821.5 | J102: 133 | K102: 99 | L102: 3122.5 | M102: 701 | N102: 436 | O102: 277.5 | P102: 465 | Q102: 904 | R102: 101.5 | S102: 1152 | T102: 1765 | U102: 735 | V102: 117 | W102: 10 | X102: 293 | Y102: 3672 | Z102: 360.5 | AA102: 457.5 | AB102: 536.5 | AC102: 4659.5 | AD102: 4659.5 | AE102: 2224.5 | AF102: 412.5 | AG102: 13 | AH102: 2830.5 | AI102: 30
A103: OCC-01 - GHT des CH de Perpignan-Narbonne-Lezignan-Corbières-Port-la-Nouvelle-Prades | B103: 88 | C103: 30 | D103: 1310 | E103: 125.5 | F103: 296 | G103: 0 | H103: 160 | I103: 233.5 | J103: 290 | K103: 206 | L103: 2291.5 | M103: 995 | N103: 922 | O103: 739.5 | P103: 464 | Q103: 1005 | R103: 151.5 | S103: 34 | T103: 1285 | U103: 149 | V103: 72 | W103: 22 | X103: 1336 | Y103: 1472 | Z103: 442.5 | AA103: 280.5 | AB103: 394.5 | AC103: 4960.5 | AD103: 4960.5 | AE103: 2018.5 | AF103: 1310.5 | AG103: 29 | AH103: 3284.5 | AI103: 27
A104: OCC-02 - Ouest audois | B104: -23 | C104: -76 | D104: -70 | E104: -34.5 | F104: 0 | G104: 0 | H104: -53 | I104: -82.5 | J104: -20 | K104: 49 | L104: -698.5 | M104: 239 | N104: 66 | O104: 250.5 | P104: 62 | Q104: 191 | R104: 1.5 | S104: -1069 | T104: -534 | U104: -393 | V104: -13 | W104: 1 | X104: -40 | Y104: -283 | Z104: 63.5 | AA104: -62.5 | AB104: 27.5 | AC104: -405.5 | AD104: -405.5 | AE104: -129.5 | AF104: -173.5 | AG104: 8 | AH104: 141.5 | AI104: 2
A105: OCC-03 - Cévennes Gard Camargue | B105: 365 | C105: -29 | D105: 837 | E105: 222.5 | F105: 629 | G105: 0 | H105: 591 | I105: 1032.5 | J105: 536 | K105: 244 | L105: 3508.5 | M105: 1955 | N105: 962 | O105: 1009.5 | P105: 680 | Q105: 1071 | R105: 149.5 | S105: 1082 | T105: 2793 | U105: 1917 | V105: 140 | W105: 16 | X105: 561 | Y105: 4885 | Z105: 895.5 | AA105: 770.5 | AB105: 819.5 | AC105: 9586.5 | AD105: 9586.5 | AE105: 3701.5 | AF105: 1658.5 | AG105: 31 | AH105: 5141.5 | AI105: 185
A106: OCC-04 - Est Hérault et Sud Aveyron | B106: 883 | C106: 59 | D106: 1476 | E106: 314.5 | F106: 895 | G106: 0 | H106: 840 | I106: 1458.5 | J106: 253 | K106: 665 | L106: 7301.5 | M106: 1773 | N106: 1563 | O106: 2301.5 | P106: 2012 | Q106: 3578 | R106: 636.5 | S106: 2648 | T106: 6694 | U106: 1643 | V106: 976 | W106: 71 | X106: 818 | Y106: 6344 | Z106: 1622.5 | AA106: 956.5 | AB106: 1333.5 | AC106: 24034.5 | AD106: 24034.5 | AE106: 6048.5 | AF106: 1898.5 | AG106: 321 | AH106: 5964.5 | AI106: 597
A107: OCC-05 - Ouest Hérault | B107: -62 | C107: 81 | D107: 293 | E107: -0.5 | F107: -53 | G107: 0 | H107: -48 | I107: 69.5 | J107: -40 | K107: 87 | L107: -146.5 | M107: -239 | N107: -54 | O107: -53.5 | P107: 499 | Q107: -125 | R107: 50.5 | S107: -1089 | T107: -752 | U107: -185 | V107: 12 | W107: 2 | X107: 31 | Y107: -1284 | Z107: -56.5 | AA107: -290.5 | AB107: -94.5 | AC107: 403.5 | AD107: 403.5 | AE107: -1.5 | AF107: 56.5 | AG107: -4 | AH107: -141.5 | AI107: 45
A108: OCC-06 - Lozère | B108: -108 | C108: -186 | D108: -517 | E108: 0.5 | F108: -177 | G108: 0 | H108: -28 | I108: -473.5 | J108: -101 | K108: -54 | L108: -1853.5 | M108: -593 | N108: -266 | O108: -219.5 | P108: -323 | Q108: -569 | R108: -92.5 | S108: -399 | T108: -892 | U108: -317 | V108: -97 | W108: -6 | X108: -229 | Y108: -2189 | Z108: -242.5 | AA108: -326.5 | AB108: -377.5 | AC108: -3082.5 | AD108: -3082.5 | AE108: -1170.5 | AF108: -289.5 | AG108: -12 | AH108: -1902.5 | AI108: -20
A109: OCC-07 - Haute-Garonne et Tarn Ouest | B109: 1103 | C109: 136 | D109: 2330 | E109: 515.5 | F109: 1443 | G109: 0 | H109: 1043 | I109: 2141.5 | J109: 1066 | K109: 700 | L109: 13192.5 | M109: 3494 | N109: 2564 | O109: 2118.5 | P109: 2148 | Q109: 4283 | R109: 1067.5 | S109: 3371 | T109: 7233 | U109: 2643 | V109: 1941 | W109: 193 | X109: 1007 | Y109: 8123 | Z109: 3384.5 | AA109: 1711.5 | AB109: 1816.5 | AC109: 38345.5 | AD109: 38345.5 | AE109: 9296.5 | AF109: 2076.5 | AG109: 324 | AH109: 8508.5 | AI109: 456
A110: OCC-08 - Pyrénées ariégeoises | B110: -72 | C110: 29 | D110: -290 | E110: -49.5 | F110: -95 | G110: 0 | H110: 8 | I110: -243.5 | J110: -12 | K110: -15 | L110: -722.5 | M110: -357 | N110: -55 | O110: -105.5 | P110: -250 | Q110: -408 | R110: -57.5 | S110: -34 | T110: -429 | U110: -249 | V110: -62 | W110: -9 | X110: -177 | Y110: 231 | Z110: -59.5 | AA110: -77.5 | AB110: -115.5 | AC110: -1663.5 | AD110: -1663.5 | AE110: -796.5 | AF110: -60.5 | AG110: -5 | AH110: -609.5 | AI110: -18
A111: OCC-09 - Hautes-Pyrénées | B111: -28 | C111: 163 | D111: 4 | E111: -26.5 | F111: 94 | G111: 0 | H111: -30 | I111: -31.5 | J111: -61 | K111: 2 | L111: 971.5 | M111: 246 | N111: 20 | O111: -9.5 | P111: -123 | Q111: -259 | R111: -22.5 | S111: 1019 | T111: 243 | U111: 103 | V111: 10 | W111: -1 | X111: 422 | Y111: 247 | Z111: 258.5 | AA111: -192.5 | AB111: 57.5 | AC111: -123.5 | AD111: -123.5 | AE111: 517.5 | AF111: -56.5 | AG111: 0 | AH111: -1001.5 | AI111: -2
A112: OCC-10 - Gers | B112: -140 | C112: -111 | D112: -226 | E112: -53.5 | F112: -73 | G112: 0 | H112: -88 | I112: -195.5 | J112: -79 | K112: -75 | L112: -1043.5 | M112: -324 | N112: -215 | O112: -34.5 | P112: -306 | Q112: -306 | R112: -31.5 | S112: -1113 | T112: -535 | U112: -483 | V112: -10 | W112: -2 | X112: -31 | Y112: -1666 | Z112: -151.5 | AA112: -254.5 | AB112: -135.5 | AC112: -2564.5 | AD112: -2564.5 | AE112: -1075.5 | AF112: -398.5 | AG112: -2 | AH112: -1349.5 | AI112: -16
A113: OCC-11 - Tarn-et-Garonne | B113: -75 | C113: 163 | D113: -177 | E113: -41.5 | F113: -109 | G113: 0 | H113: -100 | I113: -260.5 | J113: -101 | K113: -56 | L113: 131.5 | M113: -543 | N113: -229 | O113: -155.5 | P113: -301 | Q113: 21 | R113: -52.5 | S113: -737 | T113: -258 | U113: -504 | V113: -50 | W113: -5 | X113: -207 | Y113: -1543 | Z113: -159.5 | AA113: -201.5 | AB113: -203.5 | AC113: -1459.5 | AD113: -1459.5 | AE113: -624.5 | AF113: -221.5 | AG113: 0 | AH113: -1492.5 | AI113: 19
... A116: OCC-14 - Lot | B116: 25 | C116: -169 | D116: -4 | E116: 108.5 | F116: -4 | G116: 0 | H116: 85 | I116: 8.5 | J116: 12 | K116: -49 | L116: -513.5 | M116: -419 | N116: -35 | O116: 9.5 | P116: 1 | Q116: -21 | R116: -27.5 | S116: 50 | T116: 125 | U116: 290 | V116: -32 | W116: -5 | X116: -83 | Y116: -231 | Z116: -77.5 | AA116: 62.5 | AB116: -96.5 | AC116: -1996.5 | AD116: -1996.5 | AE116: -248.5 | AF116: 430.5 | AG116: -3 | AH116: -1420.5 | AI116: -23
A117: Martinique | B117: -395 | C117: 118 | D117: 24 | E117: -154 | F117: -437 | G117: 0 | H117: -315 | I117: -936 | J117: -302 | K117: #N/A | L117: -4682 | M117: -990 | N117: -1000 | O117: -678 | P117: -893 | Q117: -1304 | R117: -193 | S117: #N/A | T117: -3185 | U117: -1651 | V117: -135 | W117: -30 | X117: -622 | Y117: -5420 | Z117: -470 | AA117: -842 | AB117: -858 | AC117: -9676 | AD117: -9676 | AE117: -4445 | AF117: -985 | AG117: #N/A | AH117: #N/A | AI117: 0
A118: MAR-01 - centre sud | B118: 415 | C118: 0 | D118: 0 | E118: 154 | F118: 450 | G118: 0 | H118: 317 | I118: 1043 | J118: 304 | K118: #N/A | L118: 4703 | M118: 994 | N118: 1028 | O118: 705 | P118: 920 | Q118: 1330 | R118: 200 | S118: #N/A | T118: 3267 | U118: 1723 | V118: 137 | W118: 31 | X118: 698 | Y118: 5549 | Z118: 543 | AA118: 844 | AB118: 920 | AC118: 9679 | AD118: 9679 | AE118: 4609 | AF118: 986 | AG118: #N/A | AH118: #N/A | AI118: 0
A119: Nord-Pas-de-Calais-Picardie | B119: 252 | C119: 243 | D119: 686 | E119: 132 | F119: 277 | G119: 0 | H119: 145 | I119: 1088 | J119: 257 | K119: 153 | L119: 4789 | M119: 1063 | N119: 973 | O119: 278 | P119: 567 | Q119: 859 | R119: 151 | S119: 1292 | T119: 1701 | U119: 1238 | V119: 122 | W119: 14 | X119: 590 | Y119: 3678 | Z119: 608 | AA119: 693 | AB119: 711 | AC119: 9944 | AD119: 9944 | AE119: 4135 | AF119: 492 | AG119: 30 | AH119: 5227 | AI119: 17
A120: HF-01 - Aisne Nord | B120: 247 | C120: 78 | D120: 254 | E120: 113 | F120: 41 | G120: 0 | H120: 208 | I120: 355 | J120: 5 | K120: 61 | L120: 431 | M120: 820 | N120: 20 | O120: 140 | P120: 236 | Q120: 1092 | R120: 51 | S120: 659 | T120: 2576 | U120: 1007 | V120: 35 | W120: -8 | X120: -146 | Y120: 2812 | Z120: 260 | AA120: 188 | AB120: 414 | AC120: 113 | AD120: 113 | AE120: 2055 | AF120: 971 | AG120: 5 | AH120: 806 | AI120: 8
A121: HF-02 - Aisne Sud- saphir | B121: -121 | C121: -221 | D121: -237 | E121: -104 | F121: -72 | G121: 0 | H121: -33 | I121: -338 | J121: -132 | K121: -88 | L121: -2815 | M121: -362 | N121: -477 | O121: -128 | P121: -195 | Q121: -217 | R121: -100 | S121: -218 | T121: -174 | U121: -326 | V121: -70 | W121: 1 | X121: -162 | Y121: -645 | Z121: -157 | AA121: -214 | AB121: -6 | AC121: -5409 | AD121: -5409 | AE121: -1532 | AF121: -259 | AG121: -15 | AH121: -1931 | AI121: 0
A122: HF-03 - Artois | B122: 0 | C122: -146 | D122: 727 | E122: 58 | F122: 247 | G122: 0 | H122: -8 | I122: 318 | J122: -134 | K122: 0 | L122: 208 | M122: 747 | N122: 191 | O122: 938 | P122: 491 | Q122: 469 | R122: 42 | S122: 1928 | T122: 0 | U122: -84 | V122: 191 | W122: -6 | X122: 714 | Y122: 688 | Z122: 176 | AA122: -80 | AB122: 0 | AC122: 3095 | AD122: 3095 | AE122: 606 | AF122: -18 | AG122: 39 | AH122: 991 | AI122: -10
A123: HF-04 - Artois-Ternois | B123: -78 | C123: -135 | D123: 0 | E123: -71 | F123: -97 | G123: 0 | H123: -32 | I123: -427 | J123: -64 | K123: -102 | L123: -2545 | M123: -565 | N123: -472 | O123: -69 | P123: -41 | Q123: -193 | R123: 0 | S123: -1254 | T123: -598 | U123: -511 | V123: -35 | W123: 0 | X123: -150 | Y123: -1489 | Z123: -225 | AA123: -319 | AB123: -254 | AC123: -4014 | AD123: -4014 | AE123: -2353 | AF123: -269 | AG123: -20 | AH123: -895 | AI123: -14
A124: HF-05 - Douaisis | B124: -85 | C124: -203 | D124: -165 | E124: -127 | F124: -95 | G124: 0 | H124: -82 | I124: -438 | J124: -225 | K124: -44 | L124: -2020 | M124: -629 | N124: -408 | O124: -109 | P124: 94 | Q124: -255 | R124: -121 | S124: -833 | T124: -497 | U124: -550 | V124: -42 | W124: 0 | X124: 0 | Y124: -899 | Z124: -88 | AA124: -427 | AB124: -182 | AC124: -3936 | AD124: -3936 | AE124: -1284 | AF124: -9 | AG124: -20 | AH124: -1732 | AI124: 0
A125: HF-06 - Hainaut-Cambrésis | B125: 862 | C125: 2173 | D125: 1623 | E125: 52 | F125: 365 | G125: 0 | H125: 269 | I125: 1728 | J125: 529 | K125: 174 | L125: 8019 | M125: 1597 | N125: 1284 | O125: 1301 | P125: 1314 | Q125: 2714 | R125: 57 | S125: 631 | T125: 4515 | U125: 2301 | V125: 254 | W125: 11 | X125: 1110 | Y125: 8494 | Z125: 755 | AA125: 1199 | AB125: 1101 | AC125: 15180 | AD125: 15180 | AE125: 5303 | AF125: 2155 | AG125: 180 | AH125: 7960 | AI125: 79
A126: HF-07 - Lille Métropole Flandre Intérieure | B126: 2482 | C126: 688 | D126: 2273 | E126: 1001 | F126: 1864 | G126: 0 | H126: 820 | I126: 3286 | J126: 790 | K126: 634 | L126: 16833 | M126: 2733 | N126: 3677 | O126: 1549 | P126: 3652 | Q126: 4591 | R126: 709 | S126: 5675 | T126: 11838 | U126: 4883 | V126: 1853 | W126: 455 | X126: 2223 | Y126: 16899 | Z126: 3119 | AA126: 2686 | AB126: 2733 | AC126: 49737 | AD126: 49737 | AE126: 16263 | AF126: 3817 | AG126: 2099 | AH126: 20872 | AI126: 168
A127: HF-08 - Littoral Nord | B127: 221 | C127: 312 | D127: -17 | E127: -39 | F127: 34 | G127: 0 | H127: 106 | I127: 278 | J127: -84 | K127: 31 | L127: 503 | M127: -161 | N127: 259 | O127: 0 | P127: -108 | Q127: 0 | R127: 30 | S127: 235 | T127: 260 | U127: 547 | V127: 0 | W127: -4 | X127: 24 | Y127: 700 | Z127: 0 | AA127: 185 | AB127: 107 | AC127: 0 | AD127: 0 | AE127: 143 | AF127: 1 | AG127: 0 | AH127: -421 | AI127: 0
A128: HF-09 - Littoral Sud | B128: 497 | C128: 0 | D128: 523 | E128: 115 | F128: -20 | G128: 0 | H128: 135 | I128: 0 | J128: 117 | K128: 39 | L128: 0 | M128: 0 | N128: 0 | O128: 104 | P128: 0 | Q128: 496 | R128: -29 | S128: -358 | T128: 470 | U128: 318 | V128: 25 | W128: 14 | X128: 125 | Y128: 0 | Z128: 294 | AA128: 76 | AB128: -18 | AC128: 729 | AD128: 729 | AE128: 0 | AF128: -21 | AG128: 7 | AH128: 256 | AI128: 2
A129: HF-10 - Oise Ouest et Vexin | B129: -78 | C129: -172 | D129: -161 | E129: -104 | F129: 0 | G129: 0 | H129: -53 | I129: -263 | J129: 0 | K129: -79 | L129: -2301 | M129: -489 | N129: -541 | O129: -33 | P129: -266 | Q129: -196 | R129: -86 | S129: -575 | T129: -762 | U129: -586 | V129: -67 | W129: -10 | X129: -171 | Y129: -811 | Z129: -214 | AA129: -298 | AB129: 1 | AC129: -3305 | AD129: -3305 | AE129: -1621 | AF129: 539 | AG129: -14 | AH129: -1213 | AI129: 12
A130: HF-11 - Oise Sud | B130: -99 | C130: 64 | D130: -231 | E130: -120 | F130: -26 | G130: 0 | H130: 0 | I130: -163 | J130: 41 | K130: -86 | L130: -2923 | M130: 66 | N130: -511 | O130: -92 | P130: -298 | Q130: -313 | R130: -110 | S130: 0 | T130: -842 | U130: 0 | V130: -7 | W130: -6 | X130: -213 | Y130: -1078 | Z130: -388 | AA130: 0 | AB130: -318 | AC130: -1949 | AD130: -1949 | AE130: -1665 | AF130: -392 | AG130: -4 | AH130: 0 | AI130: -2
... A147: OI-01 - Océan indien | B147: 0 | C147: 0 | D147: 0 | E147: 0 | F147: 0 | G147: 0 | H147: 0 | I147: 0 | J147: 0 | K147: 0 | L147: 0 | M147: 0 | N147: 0 | O147: 0 | P147: 0 | Q147: 0 | R147: 0 | S147: 0 | T147: 0 | U147: 0 | V147: 0 | W147: 0 | X147: 0 | Y147: 0 | Z147: 0 | AA147: 0 | AB147: 0 | AC147: 0 | AD147: 0 | AE147: 0 | AF147: 0 | AG147: 0 | AH147: 0 | AI147: 0

Sheet Graphs mediane séjours

Sheet Mediane morta
B1: GHF1 | C1: GHF2 | D1: GHF3 | E1: GHF4 | F1: GHF5 | G1: GHF6 | H1: GHF7 | I1: GHF8 | J1: GHF9 | K1: GHF10 | L1: GHF11 | M1: GHF12 | N1: GHF13 | O1: GHF14 | P1: GHF15 | Q1: GHF16 | R1: GHF17 | S1: GHF18 | T1: GHF19 | U1: GHF20 | V1: GHF21 | W1: GHF22 | X1: GHF23 | Y1: GHF24 | Z1: GHF25 | AA1: GHF26 | AB1: GHF27 | AC1: GHF28 | AD1: GHF29 | AE1: GHF30 | AF1: GHF31 | AG1: GHF32 | AH1: GHF33 | AI1: GHF34 | AJ1: GHF35
A2: Alsace-Champagne-Ardenne-Lorraine | B2: 0 | C2: 0 | D2: 0.09476662 | E2: 0.0064935065 | F2: 0.12526998 | G2: 0 | H2: 0.032183908 | I2: 0.080481622 | J2: 0.040625 | K2: 0.225 | L2: 0.012848637 | M2: 0.028072838 | N2: 0.033251232 | O2: 0.011824324 | P2: 0.03907075 | Q2: 0.0097282791 | R2: 0.11111111 | S2: 0.00036166365 | T2: 0.0050761421 | U2: 0.0056390977 | V2: 0.032397408 | W2: 0 | X2: 0.0086551265 | Y2: 0.017964072 | Z2: 0.028957529 | AA2: 0 | AB2: 0.014846235 | AC2: 0.0044642857 | AE2: 0.058047893 | AF2: 0.007154213 | AG2: 0 | AH2: 0.0052071542 | AI2: 0
A3: GE-01 - n° 10 | B3: 0.00072833212 | C3: 0.0012820513 | D3: -0.025891949 | E3: 0.031609195 | F3: 0.099137931 | G3: 0.057971014 | H3: 0.043041607 | I3: 0.057657247 | J3: 0.018477458 | K3: 0.1462585 | L3: 0.011439328 | M3: 0.017945781 | N3: -0.073818817 | O3: -0.091239974 | P3: -0.064591604 | Q3: -0.086736188 | R3: -0.018092753 | S3: -0.094399512 | T3: -0.091432685 | U3: -0.089566412 | V3: -0.06796595 | W3: -0.087623762 | X3: -0.086111493 | Y3: -0.07605741 | Z3: -0.075370872 | AA3: -0.093822035 | AB3: -0.083201151 | AC3: -0.088337689 | AE3: -0.043128995 | AF3: -0.087612406 | AG3: -0.09476662 | AH3: -0.087814781 | AI3: -0.09476662
A4: GE-02 - Centre Alsace | B4: 0.0041666667 | C4: 0 | D4: -0.002213428 | E4: 0.0064935065 | F4: 0.10276074 | G4: 0 | H4: 0.015358362 | I4: 0.087452471 | J4: 0.0221843 | K4: 0.15969582 | L4: 0.015664691 | M4: 0.046546547 | N4: -0.059843281 | O4: -0.090498327 | P4: -0.05569587 | Q4: -0.077804968 | R4: -0.02836037 | S4: -0.094204032 | T4: -0.091786777 | U4: -0.089108911 | V4: -0.087572375 | W4: -0.09476662 | X4: -0.091252916 | Y4: -0.076802548 | Z4: -0.080213605 | AA4: -0.09476662 | AB4: -0.079920384 | AC4: -0.093337808 | AE4: -0.050140598 | AF4: -0.092559114 | AG4: -0.09476662 | AH4: -0.091728337 | AI4: -0.09476662
A5: GE-03 - Haute Alsace | B5: 0 | C5: 0 | D5: 0.017943213 | E5: 0.0030959752 | F5: 0.12526998 | G5: 0.071428571 | H5: 0.057575758 | I5: 0.071907958 | J5: 0.039915966 | K5: 0.25543478 | L5: 0.017926913 | M5: 0.016272189 | N5: -0.074880256 | O5: -0.083138713 | P5: -0.061153174 | Q5: -0.085151235 | R5: 0.016344492 | S5: -0.09476662 | T5: -0.089409477 | U5: -0.090285185 | V5: -0.062369211 | W5: -0.09476662 | X5: -0.091399616 | Y5: -0.075219936 | Z5: -0.057428957 | AA5: -0.09476662 | AB5: -0.08661998 | AC5: -0.089499113 | AE5: -0.043942072 | AF5: -0.084541671 | AG5: -0.09476662 | AH5: -0.089594206 | AI5: -0.09476662
A6: GE-04 - Nord Ardennes | B6: 0 | C6: 0 | D6: 0.0062643083 | E6: 0 | F6: 0.19396552 | G6: 0 | H6: 0.022522523 | I6: 0.10588235 | J6: 0.0472103 | K6: 0.34306569 | L6: 0.012848637 | M6: 0.025188917 | N6: -0.051633816 | O6: -0.066988842 | P6: -0.061112773 | Q6: -0.084665609 | R6: 0.036812328 | S6: -0.09476662 | T6: -0.087471446 | U6: -0.089127522 | V6: -0.065063649 | W6: -0.09476662 | X6: -0.086070967 | Y6: -0.080313592 | Z6: -0.075158776 | AA6: -0.092938466 | AB6: -0.075898695 | AC6: -0.090302334 | AE6: -0.025813817 | AF6: -0.082161578 | AG6: -0.09476662 | AH6: -0.087715499 | AI6: -0.09476662
A7: GE-05 - Champagne | B7: 0.0014347202 | C7: 0 | D7: 0.01325302 | E7: 0.03373494 | F7: 0.13235294 | G7: 0.02 | H7: 0.032183908 | I7: 0.10165485 | J7: 0.040625 | K7: 0.21338912 | L7: 0.018117064 | M7: 0.029511369 | N7: -0.067303933 | O7: -0.064711975 | P7: -0.048806649 | Q7: -0.083235254 | R7: 0.0091937765 | S7: -0.094404956 | T7: -0.089121734 | U7: -0.082548922 | V7: -0.064857647 | W7: -0.080480905 | X7: -0.089317028 | Y7: -0.07501251 | Z7: -0.073674808 | AA7: -0.093723867 | AB7: -0.080664841 | AC7: -0.08827751 | AE7: -0.025878498 | AF7: -0.087806063 | AG7: -0.09476662 | AH7: -0.082065367 | AI7: -0.09476662
A8: GE-06 - Aube et Sézannais | B8: 0 | C8: 0 | D8: 0.010805228 | E8: 0 | F8: 0.24034335 | G8: 0 | H8: 0.104 | I8: 0.11365807 | J8: 0.055555556 | K8: 0.30201342 | L8: 0.02052888 | M8: 0.024048096 | N8: -0.057660868 | O8: -0.076050042 | P8: -0.046358976 | Q8: -0.081384624 | R8: 0.10181458 | S8: -0.091670644 | T8: -0.087203594 | U8: -0.080093933 | V8: -0.043919162 | W8: -0.09476662 | X8: -0.080006472 | Y8: -0.060242332 | Z8: -0.014944003 | AA8: -0.092467769 | AB8: -0.061930799 | AC8: -0.089932052 | AE8: 0.00019003927 | AF8: -0.06726662 | AG8: -0.09476662 | AH8: -0.088761902 | AI8: -0.09476662
A9: GE-07 - Moselle Est | B9: 0 | C9: 0 | D9: -0.013231847 | E9: 0.0064935065 | F9: 0.12091503 | G9: 0 | H9: 0.017467249 | I9: 0.097777778 | J9: 0.086206897 | K9: 0.225 | L9: 0.013000342 | M9: 0.063451777 | N9: -0.072722531 | O9: -0.066988842 | P9: -0.06212567 | Q9: -0.085872083 | R9: 0.13856671 | S9: -0.09476662 | T9: -0.090758603 | U9: -0.090309795 | V9: -0.065354855 | W9: -0.09476662 | X9: -0.076909477 | Y9: -0.084142202 | Z9: -0.042458927 | AA9: -0.09476662 | AB9: -0.062261839 | AC9: -0.093500441 | AE9: -0.044574804 | AF9: -0.093145874 | AG9: -0.09476662 | AH9: -0.092293667 | AI9: -0.09476662
A10: GE-08 - Lorraine Nord | B10: 0 | C10: 0.00625 | D10: -0.014976288 | E10: 0.0042918455 | F10: 0.066666667 | G10: 0 | H10: 0.015673981 | I10: 0.051045211 | J10: 0.018518519 | K10: 0.13043478 | L10: 0.0088077336 | M10: 0.015665126 | N10: -0.065172676 | O10: -0.082942295 | P10: -0.056025699 | Q10: -0.086805387 | R10: -0.030183286 | S10: -0.09476662 | T10: -0.089690477 | U10: -0.092270779 | V10: -0.048511113 | W10: -0.09476662 | X10: -0.089598661 | Y10: -0.081031928 | Z10: -0.058649238 | AA10: -0.09476662 | AB10: -0.088152863 | AC10: -0.091354482 | AE10: -0.033389374 | AF10: -0.092153379 | AG10: -0.050180632 | AH10: -0.090070512 | AI10: -0.03226662
A11: GE-09 - Marne Haute-Marne Meuse | B11: 0 | C11: 0 | D11: 0 | E11: 0.076923077 | F11: 0.23548387 | G11: 0.11111111 | H11: 0.058631922 | I11: 0.072173913 | J11: 0.066985646 | K11: 0.25789474 | L11: 0.011302476 | M11: 0.02970297 | N11: -0.054884788 | O11: -0.068744315 | P11: -0.050282634 | Q11: -0.084504362 | R11: 0.12972318 | S11: -0.09476662 | T11: -0.089180027 | U11: -0.089411867 | V11: -0.03524281 | W11: 0.03023338 | X11: -0.081207297 | Y11: -0.079336352 | Z11: -0.065809091 | AA11: -0.09476662 | AB11: -0.076050042 | AC11: -0.091774944 | AE11: -0.038784455 | AF11: -0.075839175 | AG11: -0.011433286 | AH11: -0.089559465 | AI11: -0.09476662
A12: GE-10 - Sud Lorraine | B12: 0 | C12: 0 | D12: 0.00018164585 | E12: 0 | F12: 0.090389016 | G12: 0 | H12: 0.020408163 | I12: 0.074858028 | J12: 0.027027027 | K12: 0.10706638 | L12: 0.011276648 | M12: 0.028072838 | N12: -0.061515388 | O12: -0.088623275 | P12: -0.04660376 | Q12: -0.08503834 | R12: -0.012631096 | S12: -0.094403181 | T12: -0.092705537 | U12: -0.085830795 | V12: -0.048182769 | W12: -0.09476662 | X12: -0.089247856 | Y12: -0.075830529 | Z12: -0.07345705 | AA12: -0.09476662 | AB12: -0.078207944 | AC12: -0.089124242 | AE12: -0.036718726 | AF12: -0.085648078 | AG12: -0.09476662 | AH12: -0.084269769 | AI12: -0.09476662
A13: GE-11 - Vosges | B13: 0 | C13: 0 | D13: -0.026937162 | E13: 0.033557047 | F13: 0.18706697 | G13: 0 | H13: 0.14754098 | I13: 0.080481622 | J13: 0.067708333 | K13: 0.30472103 | L13: 0.011521843 | M13: 0.03003003 | N13: -0.04815645 | O13: -0.085455633 | P13: -0.042798116 | Q13: -0.085968966 | R13: 0.077276391 | S13: -0.094113878 | T13: -0.090479374 | U13: -0.083272367 | V13: -0.058270269 | W13: -0.09476662 | X13: -0.081373762 | Y13: -0.080758565 | Z13: -0.060044397 | AA13: -0.091509291 | AB13: -0.080596579 | AC13: -0.093016124 | AE13: -0.031812121 | AF13: -0.089483601 | AG13: -0.09476662 | AH13: -0.091666953 | AI13: -0.09476662
... A54: NOR-11 - Groupe hospitalier Mont Saint Michel | B54: 0 | C54: 0 | D54: 0.001776452 | E54: 0.16129032 | F54: 0.18716578 | G54: 0 | H54: 0.036885246 | I54: 0.082130966 | J54: 0.09375 | K54: 0.32653061 | L54: 0.011737089 | M54: 0.036190476 | N54: -0.079441748 | O54: -0.013706453 | P54: -0.057606772 | Q54: -0.065292533 | R54: 0.27583603 | S54: -0.10194175 | T54: -0.090296915 | U54: -0.094502853 | V54: -0.085812715 | W54: -0.10194175 | X54: -0.076941748 | Y54: -0.084282817 | Z54: -0.075393075 | AA54: -0.10194175 | AB54: -0.087358414 | AC54: -0.099084605 | AE54: -0.029687412 | AF54: -0.09487461 | AG54: -0.10194175 | AH54: -0.097722338 | AI54: -0.10194175
A55: Bourgogne-Franche-Comté | B55: 0 | C55: 0 | D55: 0.09178744 | E55: 0.012244898 | F55: 0.15158924 | G55: 0 | H55: 0.077777778 | I55: 0.086170213 | J55: 0.055016181 | K55: 0.27118644 | L55: 0.015116942 | M55: 0.030405405 | N55: 0.0375 | O55: 0.036764706 | P55: 0.039940828 | Q55: 0.014563107 | R55: 0.15 | S55: 0 | T55: 0.0043948614 | U55: 0.0083932854 | V55: 0.025641026 | W55: #N/A | X55: 0.014134276 | Y55: 0.016895459 | Z55: 0.04009434 | AA55: 0 | AB55: 0.022255193 | AC55: 0.0019390093 | AE55: 0.058149194 | AF55: 0.018867925 | AG55: 0 | AH55: 0.0024473813 | AI55: #N/A
A56: BFC-01 - Saône-et-Loire-Bresse Morvan | B56: 0.0040322581 | C56: 0 | D56: -0.031018896 | E56: 0 | F56: 0.15436242 | G56: 0.1 | H56: 0.09352518 | I56: 0.07768595 | J56: 0.055016181 | K56: 0.23030303 | L56: 0.013644257 | M56: 0.024115756 | N56: -0.058199653 | O56: -0.056339678 | P56: -0.050564035 | Q56: -0.079129212 | R56: 0.02391504 | S56: -0.09178744 | T56: -0.08473057 | U56: -0.083394154 | V56: -0.02993177 | W56: -0.09178744 | X56: -0.081120773 | Y56: -0.074081885 | Z56: -0.050971113 | AA56: -0.089911267 | AB56: -0.07868128 | AC56: -0.088896283 | AE56: -0.019849656 | AF56: 0.0030401466 | AG56: -0.09178744 | AH56: -0.087477095 | AI56: -0.09178744
A57: BFC-02 - Bourgogne méridionale | B57: 0 | C57: 0 | D57: -0.014984932 | E57: 0 | F57: 0.12790698 | G57: 0 | H57: 0.092592593 | I57: 0.059792028 | J57: 0.085271318 | K57: 0.27007299 | L57: 0.015116942 | M57: 0.025906736 | N57: -0.069384181 | O57: -0.086606092 | P57: -0.060941668 | Q57: -0.076298572 | R57: 0.10632577 | S57: -0.09178744 | T57: -0.087107814 | U57: -0.076249149 | V57: -0.067977916 | W57: -0.09178744 | X57: -0.076402824 | Y57: -0.077936443 | Z57: -0.0516931 | AA57: -0.09178744 | AB57: -0.072038786 | AC57: -0.08984843 | AE57: -0.034750653 | AF57: -0.060291377 | AG57: -0.09178744 | AH57: -0.089801624 | AI57: -0.09178744
A58: BFC-03 - 21-52 Côte d’Or-Haute-Marne | B58: 0 | C58: 0.0625 | D58: -0.010590858 | E58: 0.2 | F58: 0.12643678 | G58: 0 | H58: 0.1 | I58: 0.094650206 | J58: 0.28571429 | K58: 0.47368421 | L58: 0.0168492 | M58: 0.043956044 | N58: -0.053325901 | O58: -0.06053744 | P58: -0.04591588 | Q58: -0.079032338 | R58: 0.10052025 | S58: -0.09178744 | T58: -0.089761097 | U58: -0.061316525 | V58: -0.09178744 | W58: -0.09178744 | X58: -0.075658407 | Y58: -0.077977529 | Z58: -0.024673346 | AA58: -0.09178744 | AB58: -0.069663546 | AC58: -0.09178744 | AE58: -0.03944369 | AF58: -0.087303135 | AG58: -0.09178744 | AH58: -0.09178744 | AI58: -0.09178744
A59: BFC-04 - Sud Yonne-Haut-Nivernais | B59: 0 | C59: 0 | D59: 0.029781188 | E59: 0 | F59: 0.12252964 | G59: 0.2 | H59: 0.049751244 | I59: 0.093069307 | J59: 0.035532995 | K59: 0.28682171 | L59: 0.017377567 | M59: 0.0170347 | N59: -0.03244678 | O59: -0.055022734 | P59: -0.055987917 | Q59: -0.065619215 | R59: 0.038647343 | S59: -0.09178744 | T59: -0.0875291 | U59: -0.083921166 | V59: -0.068165392 | W59: -0.09178744 | X59: -0.077653164 | Y59: -0.075372892 | Z59: -0.03252818 | AA59: -0.09178744 | AB59: -0.065350658 | AC59: -0.088364345 | AE59: -0.020006372 | AF59: -0.072919515 | AG59: -0.09178744 | AH59: -0.087057071 | AI59: -0.09178744
A60: BFC-05 - Nord Yonne | B60: 0 | C60: 0 | D60: 0.014430177 | E60: 0 | F60: 0.1127451 | G60: 0.33333333 | H60: 0.040201005 | I60: 0.062586926 | J60: 0.1025641 | K60: 0.26530612 | L60: 0.016075017 | M60: 0.037900875 | N60: -0.053908652 | O60: -0.03859595 | P60: -0.054380956 | Q60: -0.08301551 | R60: 0.0082125604 | S60: -0.09178744 | T60: -0.08808099 | U60: -0.086112071 | V60: -0.057304681 | W60: -0.09178744 | X60: -0.082641098 | Y60: -0.07489198 | Z60: -0.063574273 | AA60: -0.09178744 | AB60: -0.069674418 | AC60: -0.089857559 | AE60: -0.023882251 | AF60: -0.075658407 | AG60: -0.09178744 | AH60: -0.089294917 | AI60: -0.09178744
A61: BFC-06 - Nièvre | B61: 0.0023174971 | C61: 0 | D61: 0.027183621 | E61: 0.016393443 | F61: 0.27777778 | G61: 0 | H61: 0.26666667 | I61: 0.072906404 | J61: 0.15555556 | K61: 0.27322404 | L61: 0.02076412 | M61: 0.02521566 | N61: -0.050750723 | O61: -0.042730836 | P61: -0.051846611 | Q61: -0.077224333 | R61: 0.19634815 | S61: -0.09178744 | T61: -0.08773229 | U61: -0.08556079 | V61: -0.067593891 | W61: -0.09178744 | X61: -0.081737188 | Y61: -0.068384765 | Z61: -0.063770198 | AA61: -0.085230063 | AB61: -0.056991676 | AC61: -0.088992409 | AE61: -0.033085497 | AF61: -0.043555928 | AG61: -0.09178744 | AH61: -0.089340058 | AI61: -0.09178744
A62: BFC-07 - Centre Franche-Comté | B62: 0 | C62: 0 | D62: 0.0047642845 | E62: 0.015584416 | F62: 0.074626866 | G62: 0 | H62: 0.030805687 | I62: 0.085465433 | J62: 0.023097826 | K62: 0.11735941 | L62: 0.01529397 | M62: 0.036483516 | N62: -0.05428744 | O62: -0.07215934 | P62: -0.046094162 | Q62: -0.080687541 | R62: -0.033551167 | S62: -0.091461175 | T62: -0.087392578 | U62: -0.084440185 | V62: -0.057555074 | W62: -0.09178744 | X62: -0.080091533 | Y62: -0.074061197 | Z62: -0.055075548 | AA62: -0.090115199 | AB62: -0.071020666 | AC62: -0.085904143 | AE62: -0.033638245 | AF62: -0.086715588 | AG62: -0.09178744 | AH62: -0.082126226 | AI62: -0.09178744
A63: BFC-08 - Jura | B63: 0 | C63: 0 | D63: -0.0048309179 | E63: 0.090909091 | F63: 0.25 | G63: 0 | H63: 0.077777778 | I63: 0.097087379 | J63: 0.047120419 | K63: 0.27118644 | L63: 0.013045434 | M63: 0.036 | N63: -0.059178744 | O63: -0.052898551 | P63: -0.054051591 | Q63: -0.071282708 | R63: 0.0034506556 | S63: -0.09178744 | T63: -0.079504203 | U63: -0.077206638 | V63: -0.056073154 | W63: -0.09178744 | X63: -0.09178744 | Y63: -0.073244964 | Z63: -0.010154787 | AA63: -0.09178744 | AB63: -0.053439357 | AC63: -0.090246608 | AE63: -0.022133012 | AF63: 0.079641132 | AG63: -0.0008783487 | AH63: -0.09010252 | AI63: -0.09178744
A64: BFC-09 - Nord Franche-Comté | B64: 0 | C64: 0.0023696682 | D64: 0.030946173 | E64: 0.012244898 | F64: 0.15158924 | G64: 0.083333333 | H64: 0.047457627 | I64: 0.086170213 | J64: 0.022346369 | K64: 0.34010152 | L64: 0.013885032 | M64: 0.024425287 | N64: -0.037579166 | O64: -0.047991819 | P64: -0.035510383 | Q64: -0.073792581 | R64: 0.10821256 | S64: -0.09178744 | T64: -0.081392429 | U64: -0.086416346 | V64: -0.020358868 | W64: -0.09178744 | X64: -0.076772425 | Y64: -0.068809714 | Z64: -0.052132267 | AA64: -0.09085111 | AB64: -0.069532247 | AC64: -0.086551838 | AE64: -0.036743853 | AF64: -0.079727138 | AG64: -0.09178744 | AH64: -0.086696762 | AI64: -0.09178744
A65: BFC-11 - Haute-Saône | B65: 0 | C65: 0 | D65: -0.020486192 | E65: 0.26315789 | F65: 0.18807339 | G65: 0 | H65: 0.1 | I65: 0.095952024 | J65: 0.035714286 | K65: 0.22131148 | L65: 0.014095852 | M65: 0.030405405 | N65: -0.063618426 | O65: -0.070660679 | P65: -0.056200251 | Q65: -0.05820535 | R65: 0.05821256 | S65: -0.090209323 | T65: -0.074790272 | U65: -0.081849551 | V65: -0.066146414 | W65: -0.09178744 | X65: -0.074166294 | Y65: -0.075483092 | Z65: -0.044964697 | AA65: -0.09178744 | AB65: -0.068930297 | AC65: -0.091181011 | AE65: -0.035158818 | AF65: -0.084398277 | AG65: -0.09178744 | AH65: -0.090615107 | AI65: -0.09178744
A66: BFC-12 - GHT Sud Côte d'Or | B66: 0.00098667982 | C66: 0 | D66: 0 | E66: 0 | F66: 0.21111111 | G66: 0 | H66: 0.045454545 | I66: 0.088068182 | J66: 0.12727273 | K66: 0.4137931 | L66: 0.011054422 | M66: 0.044303797 | N66: -0.063216011 | O66: -0.0008783487 | P66: -0.042607112 | Q66: -0.085418013 | R66: 0.10821256 | S66: -0.09178744 | T66: -0.090241845 | U66: -0.078454106 | V66: -0.09178744 | W66: #N/A | X66: -0.061018209 | Y66: -0.082709227 | Z66: -0.061018209 | AA66: -0.09178744 | AB66: -0.062661226 | AC66: -0.09178744 | AE66: -0.050895246 | AF66: -0.039155861 | AG66: -0.09178744 | AH66: -0.09178744 | AI66: #N/A
A67: Bretagne | B67: 0 | C67: 0 | D67: 0.07992643 | E67: 0.010664261 | F67: 0.14437156 | G67: 0.015151515 | H67: 0.082372952 | I67: 0.091468472 | J67: 0.042299486 | K67: 0.22897103 | L67: 0.014221667 | M67: 0.031018759 | N67: 0.030125436 | O67: 0.0076911811 | P67: 0.053705498 | Q67: 0.013744669 | R67: 0.13178218 | S67: 0 | T67: 0.0055941091 | U67: 0.0073694705 | V67: 0.035352455 | W67: 0 | X67: 0.011962664 | Y67: 0.024199668 | Z67: 0.03585167 | AA67: 0.00091911765 | AB67: 0.022370094 | AC67: 0.0033040645 | AE67: 0.064706234 | AF67: 0.015717512 | AG67: 0 | AH67: 0.0041994549 | AI67: 0
A68: BRE-01 - Bretagne Occidentale | B68: 0 | C68: 0 | D68: -0.0059075522 | E68: 0.013921114 | F68: 0.10612245 | G68: 0.033898305 | H68: 0.051829268 | I68: 0.097429519 | J68: 0.037168142 | K68: 0.20519481 | L68: 0.017724551 | M68: 0.029411765 | N68: -0.052076125 | O68: -0.072990013 | P68: -0.026246776 | Q68: -0.066395774 | R68: -0.0024070497 | S68: -0.07992643 | T68: -0.076022587 | U68: -0.071451853 | V68: -0.042279371 | W68: -0.07992643 | X68: -0.067731308 | Y68: -0.053102194 | Z68: -0.050533059 | AA68: -0.077663986 | AB68: -0.065394186 | AC68: -0.077223179 | AE68: -0.021263816 | AF68: -0.067888596 | AG68: -0.07992643 | AH68: -0.07615737 | AI68: -0.07992643
A69: BRE-02 - Union hospitalière de Cornouaille | B69: 0.0027855153 | C69: 0 | D69: -0.0030033526 | E69: 0.080645161 | F69: 0.21447028 | G69: 0.03030303 | H69: 0.068592058 | I69: 0.099284436 | J69: 0.090909091 | K69: 0.33023256 | L69: 0.012666817 | M69: 0.029471545 | N69: -0.047468933 | O69: -0.074316331 | P69: -0.020627238 | Q69: -0.068321014 | R69: 0.063637927 | S69: -0.076448169 | T69: -0.07591238 | U69: -0.072581204 | V69: 0.03635264 | W69: -0.0030033526 | X69: -0.068196224 | Y69: -0.049642128 | Z69: -0.032969908 | AA69: -0.07992643 | AB69: -0.056670616 | AC69: -0.076706043 | AE69: 0.0022090941 | AF69: -0.062977277 | AG69: -0.07992643 | AH69: -0.074908868 | AI69: -0.07992643
A70: BRE-03 - Groupe hospitalier Sud Bretagne | B70: 0 | C70: 0 | D70: 0.0090735705 | E70: 0 | F70: 0.079120879 | G70: 0.05 | H70: 0.33333333 | I70: 0.091994382 | J70: 0.034300792 | K70: 0.28313253 | L70: 0.016746872 | M70: 0.022664835 | N70: -0.048918678 | O70: -0.075141741 | P70: -0.01458552 | Q70: -0.061980268 | R70: -0.03037688 | S70: -0.079376072 | T70: -0.072967487 | U70: -0.060006111 | V70: -0.046868578 | W70: -0.07992643 | X70: -0.066718882 | Y70: -0.05293045 | Z70: -0.038628494 | AA70: -0.07992643 | AB70: -0.050940922 | AC70: -0.076538687 | AE70: -0.0046181989 | AF70: -0.070981886 | AG70: -0.07992643 | AH70: -0.076103628 | AI70: -0.07992643
A71: BRE-04 - Brocéliande Atlantique | B71: 0 | C71: 0.0098039216 | D71: -0.0064184237 | E71: 0.0064516129 | F71: 0.1345515 | G71: 0 | H71: 0.047826087 | I71: 0.084829721 | J71: 0.026506024 | K71: 0.1686747 | L71: 0.012001412 | M71: 0.032565974 | N71: -0.056469639 | O71: -0.050435813 | P71: -0.024470258 | Q71: -0.064066663 | R71: 0.09564609 | S71: -0.07992643 | T71: -0.075655967 | U71: -0.072908886 | V71: 0.0068082644 | W71: -0.07992643 | X71: -0.067187576 | Y71: -0.060982198 | Z71: -0.032533065 | AA71: -0.076012535 | AB71: -0.058849146 | AC71: -0.075638265 | AE71: -0.015957047 | AF71: -0.047079714 | AG71: -0.07992643 | AH71: -0.075350322 | AI71: -0.07992643
A72: BRE-05 - Haute Bretagne | B72: 0 | C72: 0 | D72: 0.020215953 | E72: 0.0074074074 | F72: 0.066765579 | G72: 0.03125 | H72: 0.02413273 | I72: 0.081753995 | J72: 0.026915114 | K72: 0.13451777 | L72: 0.015404483 | M72: 0.046391753 | N72: -0.05068331 | O72: -0.071480484 | P72: -0.038975974 | Q72: -0.069225705 | R72: -0.0005098979 | S72: -0.07992643 | T72: -0.072540373 | U72: -0.073659643 | V72: -0.061655172 | W72: -0.0211029 | X72: -0.075930426 | Y72: -0.058351329 | Z72: -0.05804314 | AA72: -0.077428511 | AB72: -0.051497147 | AC72: -0.074914676 | AE72: -0.024647108 | AF72: -0.064089325 | AG72: -0.07992643 | AH72: -0.073211157 | AI72: -0.07992643
A73: BRE-06 - Rance Eméraude | B73: 0.0043859649 | C73: 0 | D73: 0.032420623 | E73: 0.095238095 | F73: 0.27622378 | G73: 0 | H73: 0.55555556 | I73: 0.079936051 | J73: 0.04743083 | K73: 0.34710744 | L73: 0.016739846 | M73: 0.033755274 | N73: -0.037780836 | O73: -0.07992643 | P73: -0.026195086 | Q73: -0.06381364 | R73: 0.16583628 | S73: -0.07992643 | T73: -0.073008674 | U73: -0.051603989 | V73: -0.006242219 | W73: -0.07992643 | X73: -0.069563735 | Y73: -0.048257279 | Z73: -0.023720341 | AA73: -0.078088194 | AB73: -0.058442055 | AC73: -0.078834726 | AE73: -0.006955469 | AF73: -0.064328509 | AG73: -0.07992643 | AH73: -0.078624007 | AI73: -0.07992643
A74: BRE-07 - Armor | B74: 0.004 | C74: 0 | D74: 0.0030033526 | E74: 0.034246575 | F74: 0.15419162 | G74: 0 | H74: 0.21794872 | I74: 0.090942563 | J74: 0.061046512 | K74: 0.168 | L74: 0.01303885 | M74: 0.023872679 | N74: -0.053738263 | O74: -0.058063312 | P74: -0.043044036 | Q74: -0.065967747 | R74: 0.066415034 | S74: -0.079524823 | T74: -0.07587648 | U74: -0.072532714 | V74: -0.063639785 | W74: -0.07992643 | X74: -0.069563735 | Y74: -0.058410868 | Z74: -0.049521024 | AA74: -0.07992643 | AB74: -0.063088263 | AC74: -0.073779085 | AE74: -0.014483345 | AF74: -0.054230498 | AG74: -0.047139544 | AH74: -0.071914776 | AI74: -0.07992643
A75: BRE-08 - Centre Bretagne | B75: 0 | C75: 0 | D75: -0.0040101991 | E75: 0 | F75: 0.21 | G75: 0 | H75: 0.096153846 | I75: 0.10234899 | J75: 0.065217391 | K75: 0.25274725 | L75: 0.010075567 | M75: 0.049180328 | N75: -0.043656999 | O75: -0.071379421 | P75: -0.041709869 | Q75: -0.070179841 | R75: 0.04007357 | S75: -0.07992643 | T75: -0.072605785 | U75: -0.077606244 | V75: -0.051757415 | W75: -0.07992643 | X75: -0.066473515 | Y75: -0.058725016 | Z75: -0.06008516 | AA75: -0.07992643 | AB75: -0.056270516 | AC75: -0.077788916 | AE75: -0.029815071 | AF75: -0.069617151 | AG75: -0.07992643 | AH75: -0.076836195 | AI75: -0.07992643
A76: Centre | B76: 0 | C76: 0 | D76: 0.10876585 | E76: 0.002919708 | F76: 0.12484459 | G76: 0.0076923077 | H76: 0.073349096 | I76: 0.080017745 | J76: 0.039915966 | K76: 0.22660771 | L76: 0.0156254 | M76: 0.018777897 | N76: 0.036048444 | O76: 0.029188718 | P76: 0.04071513 | Q76: 0.010953518 | R76: 0.15515395 | S76: 0.0006767179 | T76: 0.0064189779 | U76: 0.0072070288 | V76: 0.036480978 | W76: 0 | X76: 0.0097234226 | Y76: 0.020399944 | Z76: 0.039430905 | AA76: 0 | AB76: 0.025650355 | AC76: 0.0029304082 | AE76: 0.061988452 | AF76: 0.023652726 | AG76: 0 | AH76: 0.0030818391 | AI76: 0
A77: CVL-01 - Cher | B77: 0.006097561 | C77: 0 | D77: -0.0017462833 | E77: 0 | F77: 0.13402062 | G77: 0 | H77: 0.083870968 | I77: 0.082378223 | J77: 0.03030303 | K77: 0.23255814 | L77: 0.014814815 | M77: 0.01933874 | N77: -0.038495576 | O77: -0.071207161 | P77: -0.070477558 | Q77: -0.098294642 | R77: 0.10862546 | S77: -0.10744017 | T77: -0.10002131 | U77: -0.098044598 | V77: -0.083921126 | W77: -0.10876585 | X77: -0.10684277 | Y77: -0.08293766 | Z77: -0.047332399 | AA77: -0.10876585 | AB77: -0.074942317 | AC77: -0.10579693 | AE77: -0.01392837 | AF77: -0.072891407 | AG77: -0.10876585 | AH77: -0.10583095 | AI77: -0.10876585
A78: CVL-02 - Indre | B78: 0 | C78: 0 | D78: 0.0017462833 | E78: 0 | F78: 0.073684211 | G78: 0.071428571 | H78: 0.4 | I78: 0.10626993 | J78: 0.035714286 | K78: 0.34722222 | L78: 0.016435986 | M78: 0.02435724 | N78: -0.057690577 | O78: -0.095999889 | P78: -0.065413245 | Q78: -0.09060761 | R78: -0.050432513 | S78: -0.10876585 | T78: -0.10142062 | U78: -0.091177906 | V78: -0.061890846 | W78: -0.10876585 | X78: -0.099150461 | Y78: -0.076132855 | Z78: -0.071118787 | AA78: -0.10876585 | AB78: -0.086450644 | AC78: -0.10685136 | AE78: -0.023829949 | AF78: -0.10531757 | AG78: -0.10876585 | AH78: -0.10655834 | AI78: -0.10876585
... A85: COR-02 - Corse du Sud | B85: 0 | C85: 0 | D85: -0.022911392 | E85: 0 | F85: 0.043478261 | G85: 0 | H85: 0.029239766 | I85: 0.11886305 | J85: 0 | K85: 0.076923077 | L85: 0.011830635 | M85: 0.011258956 | N85: -0.050186094 | O85: -0.060244726 | P85: -0.011309661 | Q85: -0.070052775 | R85: -0.034578059 | S85: -0.076244726 | T85: -0.072992693 | U85: -0.072260662 | V85: -0.05496813 | W85: -0.076244726 | X85: -0.076244726 | Y85: -0.067790619 | Z85: -0.04259088 | AA85: -0.076244726 | AB85: -0.067235717 | AC85: -0.075182403 | AE85: -0.02010152 | AF85: -0.06448002 | AG85: -0.076244726 | AH85: -0.07474772 | AI85: -0.076244726
A86: Guadeloupe | B86: 0 | C86: 0.03125 | D86: 0.08030303 | E86: 0 | F86: 0.13392857 | G86: #N/A | H86: 0.023809524 | I86: 0.03819299 | J86: 0.006097561 | K86: 0.20833333 | L86: 0.010667945 | M86: 0.026709402 | N86: 0.025418275 | O86: 0.081550802 | P86: 0.075837321 | Q86: 0.015397967 | R86: 0.055273834 | S86: 0 | T86: 0.0023474178 | U86: 0.0036764706 | V86: 0.029411765 | W86: 0 | X86: 0.0023696682 | Y86: 0.016556019 | Z86: 0.024250441 | AA86: 0.0019230769 | AB86: 0.0032467532 | AC86: 0.0059513274 | AE86: 0.049709612 | AF86: 0 | AG86: 0.16666667 | AH86: 0.0029384619 | AI86: #N/A
A87: GUA-01 - ile du nord | B87: 0 | C87: 0.03125 | D87: -0.01969697 | E87: 0 | F87: 0.125 | G87: #N/A | H87: 0.047619048 | I87: 0.03030303 | J87: 0.012195122 | K87: 0.25 | L87: 0.0097847358 | M87: 0.025641026 | N87: -0.056493506 | O87: 0.037344029 | P87: -0.0013556619 | Q87: -0.071128718 | R87: -0.021479501 | S87: -0.08030303 | T87: -0.08030303 | U87: -0.072950089 | V87: -0.08030303 | W87: -0.08030303 | X87: -0.08030303 | Y87: -0.068230596 | Z87: -0.056493506 | AA87: -0.08030303 | AB87: -0.08030303 | AC87: -0.070881765 | AE87: -0.048612889 | AF87: -0.08030303 | AG87: -0.08030303 | AH87: -0.075874332 | AI87: -0.08030303
A88: GUA-02 - basse terre | B88: 0 | C88: -0.03125 | D88: 0.01969697 | E88: 0 | F88: 0.14285714 | G88: 0 | H88: 0 | I88: 0.046082949 | J88: 0 | K88: 0.16666667 | L88: 0.011551155 | M88: 0.027777778 | N88: -0.053276003 | O88: -0.034848485 | P88: -0.0075757576 | Q88: -0.058681409 | R88: -0.028578892 | S88: -0.08030303 | T88: -0.075608195 | U88: -0.08030303 | V88: -0.021479501 | W88: -0.08030303 | X88: -0.075563694 | Y88: -0.059263426 | Z88: -0.055611672 | AA88: -0.076456876 | AB88: -0.073809524 | AC88: -0.077821641 | AE88: -0.012573947 | AF88: -0.08030303 | AG88: 0.2530303 | AH88: -0.078854804 | AI88: #N/A
A89: Île-de-France | B89: 0 | C89: #N/A | D89: 0.07445642 | E89: 0 | F89: 0.092527223 | G89: #N/A | H89: #N/A | I89: 0.051672683 | J89: #N/A | K89: #N/A | L89: 0.010281211 | M89: #N/A | N89: 0.026143443 | O89: 0.0091036415 | P89: 0.03854067 | Q89: 0.01012886 | R89: 0.10126647 | S89: 0 | T89: 0.0042207707 | U89: 0.0060231502 | V89: 0.028665029 | W89: 0 | X89: 0.0035518986 | Y89: 0.013657638 | Z89: 0.030113636 | AA89: 0 | AB89: 0.011487176 | AC89: 0.0054821581 | AE89: 0.045081017 | AF89: 0.0060362723 | AG89: #N/A | AH89: #N/A | AI89: 0
A90: IDF-02 - 77 Sud | B90: 0 | C90: #N/A | D90: 0.067136501 | E90: 0.16666667 | F90: 0.22330097 | G90: #N/A | H90: 0.33333333 | I90: 0.078624079 | J90: 0.086956522 | K90: 0.27027027 | L90: 0.013354281 | M90: 0.056074766 | N90: -0.051200606 | O90: -0.07445642 | P90: -0.017494394 | Q90: -0.046287406 | R90: 0.13830954 | S90: -0.07445642 | T90: -0.06774501 | U90: -0.06915138 | V90: -0.01445642 | W90: -0.07445642 | X90: -0.050871514 | Y90: -0.04364071 | Z90: -0.0393687 | AA90: -0.07445642 | AB90: -0.0585413 | AC90: -0.071046775 | AE90: -0.0044345378 | AF90: -0.06828358 | AG90: -0.07445642 | AH90: -0.069870316 | AI90: -0.07445642
A91: IDF-03 - Yvelines Nord | B91: 0.0021598272 | C91: #N/A | D91: 0.010615811 | E91: 0.0037453184 | F91: 0.089211618 | G91: 0 | H91: 0.020512821 | I91: 0.044424297 | J91: 0.016528926 | K91: 0.121673 | L91: 0.0075507315 | M91: 0.010558069 | N91: -0.046419036 | O91: -0.05998464 | P91: -0.03445642 | Q91: -0.066931965 | R91: -0.024951469 | S91: -0.07445642 | T91: -0.072133539 | U91: -0.066020837 | V91: -0.03818699 | W91: -0.07445642 | X91: -0.072415603 | Y91: -0.061744555 | Z91: -0.060417543 | AA91: -0.073911163 | AB91: -0.062828513 | AC91: -0.066568903 | AE91: -0.021533683 | AF91: -0.067845843 | AG91: -0.07445642 | AH91: -0.065183838 | AI91: -0.07445642
A92: IDF-04 - Yvelines Sud | B92: 0 | C92: #N/A | D92: -0.016263464 | E92: 0 | F92: 0.086419753 | G92: 0 | H92: 0.037735849 | I92: 0.050989346 | J92: 0.030864198 | K92: 0.125 | L92: 0.0097087379 | M92: 0.0081218274 | N92: -0.046484392 | O92: -0.058511089 | P92: -0.032301853 | Q92: -0.061883075 | R92: 0.065281572 | S92: -0.07445642 | T92: -0.071057628 | U92: -0.068608466 | V92: -0.069165414 | W92: -0.07445642 | X92: -0.071735331 | Y92: -0.061270082 | Z92: -0.048846664 | AA92: -0.07445642 | AB92: -0.063703731 | AC92: -0.071853508 | AE92: -0.029087013 | AF92: -0.07050385 | AG92: -0.07445642 | AH92: -0.070626278 | AI92: -0.07445642
A93: IDF-05 - Nord Essonne | B93: 0 | C93: #N/A | D93: -0.0039170006 | E93: 0.019607843 | F93: 0.17788462 | G93: 0 | H93: 0.13861386 | I93: 0.078282828 | J93: 0.2038835 | K93: 0.26086957 | L93: 0.013182097 | M93: 0.064676617 | N93: -0.062711453 | O93: -0.058708388 | P93: -0.017919317 | Q93: -0.065735489 | R93: 0.05054358 | S93: -0.07445642 | T93: -0.06635561 | U93: -0.062466012 | V93: -0.047429393 | W93: -0.07445642 | X93: -0.062498273 | Y93: -0.060749966 | Z93: -0.027944792 | AA93: -0.067699663 | AB93: -0.058697107 | AC93: -0.072711398 | AE93: -0.027681289 | AF93: -0.063527458 | AG93: -0.07445642 | AH93: -0.072001026 | AI93: -0.07445642
A94: IDF-06 - Ile de France Sud | B94: 0.0020964361 | C94: #N/A | D94: 0.0035421087 | E94: 0 | F94: 0.12065814 | G94: 0 | H94: 0.042635659 | I94: 0.053333333 | J94: 0.038781163 | K94: 0.16438356 | L94: 0.010853684 | M94: 0.027027027 | N94: -0.048326476 | O94: -0.068608466 | P94: -0.055635842 | Q94: -0.065606862 | R94: 0.026553681 | S94: -0.07445642 | T94: -0.071522639 | U94: -0.070825008 | V94: -0.0085881562 | W94: -0.07445642 | X94: -0.070672124 | Y94: -0.06081924 | Z94: -0.04458629 | AA94: -0.07445642 | AB94: -0.063109975 | AC94: -0.066839564 | AE94: -0.029663793 | AF94: -0.069254859 | AG94: -0.07445642 | AH94: -0.06681405 | AI94: -0.07445642
A95: IDF-07 - Hauts-de-Seine | B95: 0 | C95: #N/A | D95: 0.00027667643 | E95: 0 | F95: 0.090163934 | G95: 0 | H95: 0 | I95: 0.044615385 | J95: 0.072727273 | K95: 0.16 | L95: 0.0053929122 | M95: 0.030927835 | N95: -0.048299478 | O95: -0.064652498 | P95: -0.032520936 | Q95: -0.05691256 | R95: 0.030806738 | S95: -0.07445642 | T95: -0.067681352 | U95: -0.054555922 | V95: -0.05522565 | W95: -0.07445642 | X95: -0.055937901 | Y95: -0.061985648 | Z95: -0.040425006 | AA95: -0.07445642 | AB95: -0.046742794 | AC95: -0.071215559 | AE95: -0.011159516 | AF95: -0.07445642 | AG95: -0.07445642 | AH95: -0.071637202 | AI95: -0.07445642
A96: IDF-08 - 93/95 | B96: 0.003058104 | C96: #N/A | D96: -0.0053437917 | E96: 0 | F96: 0.094890511 | G96: 0 | H96: 0.029411765 | I96: 0.036858974 | J96: 0.0041841004 | K96: 0.13333333 | L96: 0.0057049715 | M96: 0.010141988 | N96: -0.046215085 | O96: -0.066053058 | P96: -0.025845309 | Q96: -0.063544494 | R96: -0.026069323 | S96: -0.07445642 | T96: -0.071574575 | U96: -0.066793584 | V96: -0.07445642 | W96: -0.071078041 | X96: -0.07445642 | Y96: -0.0624525 | Z96: -0.052304521 | AA96: -0.07445642 | AB96: -0.071983213 | AC96: -0.06802642 | AE96: -0.040982778 | AF96: -0.068556715 | AG96: -0.07445642 | AH96: -0.066100121 | AI96: -0.07445642
A97: IDF-09 - 93 Est | B97: 0.00152207 | C97: #N/A | D97: -0.0048821725 | E97: 0.0081632653 | F97: 0.075208914 | G97: 0 | H97: 0.038327526 | I97: 0.052356021 | J97: 0.01369863 | K97: 0.072555205 | L97: 0.011792453 | M97: 0.012757605 | N97: -0.046267554 | O97: -0.071291863 | P97: -0.046127808 | Q97: -0.061384524 | R97: 0.031738271 | S97: -0.07445642 | T97: -0.069881854 | U97: -0.068258073 | V97: -0.044153389 | W97: -0.055937901 | X97: -0.071136918 | Y97: -0.060778323 | Z97: -0.037871054 | AA97: -0.07445642 | AB97: -0.064893578 | AC97: -0.068389686 | AE97: -0.033299868 | AF97: -0.067962913 | AG97: -0.07445642 | AH97: -0.067323651 | AI97: -0.07445642
A98: IDF-11 - 94 Est | B98: 0 | C98: #N/A | D98: 0.041423409 | E98: 0 | F98: 0.10588235 | G98: 0.047619048 | H98: 0.05785124 | I98: 0.049333333 | J98: 0.037117904 | K98: 0.20215633 | L98: 0.0058002148 | M98: 0.028099174 | N98: -0.04320642 | O98: -0.049139964 | P98: -0.049219827 | Q98: -0.065110625 | R98: 0.022317774 | S98: -0.07445642 | T98: -0.070589444 | U98: -0.07045642 | V98: -0.023608962 | W98: -0.07445642 | X98: -0.073472168 | Y98: -0.065601752 | Z98: -0.063452293 | AA98: -0.07445642 | AB98: -0.069041257 | AC98: -0.069169083 | AE98: -0.043722127 | AF98: -0.061798192 | AG98: -0.07445642 | AH98: -0.0648059 | AI98: -0.07445642
A99: IDF-13 - Sud Val d'Oise Nord Hauts-de-Seine | B99: 0.0035211268 | C99: #N/A | D99: -0.00027667643 | E99: 0 | F99: 0.080808081 | G99: 0.032258065 | H99: 0.039344262 | I99: 0.058741259 | J99: 0.0078125 | K99: 0.14068441 | L99: 0.0089686099 | M99: 0.0095828636 | N99: -0.049728428 | O99: -0.068642466 | P99: -0.03737508 | Q99: -0.062900179 | R99: -0.0061833273 | S99: -0.073879052 | T99: -0.067747512 | U99: -0.067364221 | V99: -0.057649697 | W99: -0.07445642 | X99: -0.067994384 | Y99: -0.055434681 | Z99: -0.040195178 | AA99: -0.07445642 | AB99: -0.055387007 | AC99: -0.06877944 | AE99: -0.0076292071 | AF99: -0.071981172 | AG99: -0.07445642 | AH99: -0.069871787 | AI99: -0.07445642
A100: IDF-14 - Nord Ouest Val d'Oise | B100: 0 | C100: #N/A | D100: 0.016843258 | E100: 0 | F100: 0.1124031 | G100: 0 | H100: 0.017006803 | I100: 0.073664825 | J100: 0.0075 | K100: 0.082608696 | L100: 0.011128776 | M100: 0.012927054 | N100: -0.051280454 | O100: -0.061536523 | P100: -0.045487706 | Q100: -0.066704482 | R100: 0.027066423 | S100: -0.07445642 | T100: -0.0685201 | U100: -0.070093418 | V100: -0.04320642 | W100: -0.060567531 | X100: -0.069405915 | Y100: -0.051275668 | Z100: -0.044099277 | AA100: -0.073080904 | AB100: -0.059376307 | AC100: -0.066991689 | AE100: -0.040596375 | AF100: -0.066176751 | AG100: -0.07445642 | AH100: -0.0656679 | AI100: -0.07445642
A101: IDF-15 - Paris psychiatrie et neurosciences | B101: 0 | C101: #N/A | D101: -0.03812424 | E101: 0 | F101: 0 | G101: 0 | H101: #N/A | I101: 0 | J101: #N/A | K101: #N/A | L101: 0.076190476 | M101: #N/A | N101: -0.07445642 | O101: -0.07445642 | P101: -0.07445642 | Q101: -0.071821374 | R101: -0.07445642 | S101: -0.07445642 | T101: -0.072005439 | U101: -0.07445642 | V101: -0.07445642 | W101: -0.07445642 | X101: -0.07445642 | Y101: 0.42554358 | Z101: -0.07445642 | AA101: -0.07445642 | AB101: -0.07445642 | AC101: -0.07445642 | AE101: -0.07445642 | AF101: -0.07445642 | AG101: #N/A | AH101: #N/A | AI101: -0.07445642
A102: Languedoc-Roussillon-Midi-Pyrénées | B102: 0 | C102: 0 | D102: 0.085274305 | E102: 0.011041009 | F102: 0.074836556 | G102: 0.0017985612 | H102: 0.022590361 | I102: 0.077536838 | J102: 0.024771838 | K102: 0.13190383 | L102: 0.014131437 | M102: 0.023748317 | N102: 0.0321778 | O102: 0.012072545 | P102: 0.043139339 | Q102: 0.010895819 | R102: 0.12993481 | S102: 0 | T102: 0.004236219 | U102: 0.0085011912 | V102: 0.034414403 | W102: 0 | X102: 0.0073298997 | Y102: 0.015752268 | Z102: 0.035008635 | AA102: 0 | AB102: 0.01741974 | AC102: 0.0030452125 | AE102: 0.06972747 | AF102: 0.0046883289 | AG102: 0 | AH102: 0.0038604923 | AI102: 0
A103: OCC-01 - GHT des CH de Perpignan-Narbonne-Lezignan-Corbières-Port-la-Nouvelle-Prades | B103: 0 | C103: 0 | D103: -0.0034974243 | E103: 0.0053763441 | F103: 0.076530612 | G103: 0 | H103: 0.026515152 | I103: 0.093838863 | J103: 0.01891253 | K103: 0.10491803 | L103: 0.018470632 | M103: 0.025943396 | N103: -0.045509945 | O103: -0.073474895 | P103: -0.046522959 | Q103: -0.072178443 | R103: 0.0056347862 | S103: -0.082744794 | T103: -0.079372665 | U103: -0.071699644 | V103: -0.037655257 | W103: -0.085274305 | X103: -0.083432684 | Y103: -0.061751754 | Z103: -0.045423744 | AA103: -0.081209264 | AB103: -0.055199117 | AC103: -0.079764949 | AE103: 0.0056990632 | AF103: -0.083533156 | AG103: -0.061464781 | AH103: -0.078896545 | AI103: -0.067730445
A104: OCC-02 - Ouest audois | B104: 0.0052083333 | C104: 0 | D104: -0.0037435227 | E104: 0.11538462 | F104: 0.11643836 | G104: 0 | H104: 0.058823529 | I104: 0.092016238 | J104: 0.061946903 | K104: 0.22297297 | L104: 0.011138614 | M104: 0.030851064 | N104: -0.043441635 | O104: -0.075804608 | P104: -0.043528574 | Q104: -0.070662433 | R104: 0.070065501 | S104: -0.085274305 | T104: -0.077150828 | U104: -0.076502375 | V104: -0.056428151 | W104: -0.085274305 | X104: -0.081321736 | Y104: -0.069045329 | Z104: -0.06404789 | AA104: -0.085274305 | AB104: -0.078182106 | AC104: -0.082688503 | AE104: -0.013675259 | AF104: -0.081090204 | AG104: -0.085274305 | AH104: -0.081909567 | AI104: -0.085274305
A105: OCC-03 - Cévennes Gard Camargue | B105: 0.0017241379 | C105: 0 | D105: 0.020826491 | E105: 0.017667845 | F105: 0.076004343 | G105: 0 | H105: 0.035971223 | I105: 0.07605178 | J105: 0.031390135 | K105: 0.19533528 | L105: 0.021263761 | M105: 0.021837349 | N105: -0.055231386 | O105: -0.078281298 | P105: -0.022392209 | Q105: -0.070084431 | R105: 0.038231671 | S105: -0.084826677 | T105: -0.080008837 | U105: -0.081126492 | V105: -0.038581698 | W105: -0.085274305 | X105: -0.075906623 | Y105: -0.064589485 | Z105: -0.050242458 | AA105: -0.085274305 | AB105: -0.061675485 | AC105: -0.079097132 | AE105: -0.0051190566 | AF105: -0.075134276 | AG105: -0.085274305 | AH105: -0.076869889 | AI105: -0.080623142
A106: OCC-04 - Est Hérault et Sud Aveyron | B106: 0 | C106: 0 | D106: 0.0055501014 | E106: 0.016 | F106: 0.074978939 | G106: 0.0091743119 | H106: 0.012711864 | I106: 0.061403509 | J106: 0.028497409 | K106: 0.094240838 | L106: 0.01323868 | M106: 0.019401778 | N106: -0.063263299 | O106: -0.080233591 | P106: -0.049343744 | Q106: -0.081035126 | R106: -0.0093935459 | S106: -0.085011147 | T106: -0.083264611 | U106: -0.078545962 | V106: -0.060571651 | W106: -0.085274305 | X106: -0.079873765 | Y106: -0.069998746 | Z106: -0.067119993 | AA106: -0.085274305 | AB106: -0.078857192 | AC106: -0.079558824 | AE106: -0.041034005 | AF106: -0.080081747 | AG106: -0.064316221 | AH106: -0.07174389 | AI106: -0.085274305
A107: OCC-05 - Ouest Hérault | B107: 0.0065359477 | C107: 0 | D107: -0.01577223 | E107: 0 | F107: 0.14225941 | G107: 0 | H107: 0.035714286 | I107: 0.086419753 | J107: 0.043010753 | K107: 0.19354839 | L107: 0.014784946 | M107: 0.034632035 | N107: -0.032918284 | O107: -0.040631448 | P107: -0.066602106 | Q107: -0.062167758 | R107: 0.0068309585 | S107: -0.085274305 | T107: -0.078364137 | U107: -0.07072885 | V107: -0.069770429 | W107: -0.085274305 | X107: -0.082187885 | Y107: -0.04549206 | Z107: -0.035932199 | AA107: -0.079286281 | AB107: -0.069437201 | AC107: -0.083891725 | AE107: 0.001995151 | AF107: -0.061820147 | AG107: -0.085274305 | AH107: -0.082671106 | AI107: -0.085274305
A108: OCC-06 - Lozère | B108: 0 | C108: 0 | D108: -0.0073522268 | E108: 0 | F108: 0.10434783 | G108: 0 | H108: 0.039473684 | I108: 0.08908046 | J108: 0.125 | K108: 0.2 | L108: 0.0086682427 | M108: 0.0092592593 | N108: -0.014686069 | O108: -0.068032925 | P108: -0.043020784 | Q108: -0.079304155 | R108: 0.13694792 | S108: -0.085274305 | T108: -0.081837879 | U108: -0.078097271 | V108: -0.085274305 | W108: -0.085274305 | X108: -0.069649305 | Y108: -0.071113819 | Z108: 0.0079460343 | AA108: -0.085274305 | AB108: -0.085274305 | AC108: -0.084006074 | AE108: -0.020758176 | AF108: -0.069014142 | AG108: -0.085274305 | AH108: -0.083119132 | AI108: -0.085274305
A109: OCC-07 - Haute-Garonne et Tarn Ouest | B109: 0 | C109: 0 | D109: 0.0023631495 | E109: 0.0052083333 | F109: 0.043227666 | G109: 0 | H109: 0.011333915 | I109: 0.066824165 | J109: 0.0058381985 | K109: 0.050062578 | L109: 0.012442538 | M109: 0.024791418 | N109: -0.068274305 | O109: -0.081935407 | P109: -0.038967378 | Q109: -0.076791559 | R109: -0.026249497 | S109: -0.084389936 | T109: -0.083496132 | U109: -0.078169509 | V109: -0.05466206 | W109: -0.085274305 | X109: -0.08065892 | Y109: -0.070607073 | Z109: -0.074593397 | AA109: -0.084813263 | AB109: -0.071249655 | AC109: -0.080181874 | AE109: -0.045000023 | AF109: -0.082863698 | AG109: -0.064502791 | AH109: -0.073456684 | AI109: -0.085274305
A110: OCC-08 - Pyrénées ariégeoises | B110: 0 | C110: 0 | D110: 0.019712572 | E110: 0 | F110: 0.14720812 | G110: #N/A | H110: 0.089285714 | I110: 0.089965398 | J110: 0.049586777 | K110: 0.30952381 | L110: 0.0091666667 | M110: 0.037790698 | N110: -0.022282179 | O110: -0.062018491 | P110: -0.029460351 | Q110: -0.081242047 | R110: 0.051089332 | S110: -0.085274305 | T110: -0.080783287 | U110: -0.077043852 | V110: -0.012547032 | W110: -0.085274305 | X110: -0.059412236 | Y110: -0.070413941 | Z110: -0.02547364 | AA110: -0.085274305 | AB110: -0.066271929 | AC110: -0.082270299 | AE110: -0.0075432123 | AF110: -0.082433396 | AG110: -0.085274305 | AH110: -0.081672324 | AI110: -0.085274305
A111: OCC-09 - Hautes-Pyrénées | B111: 0.0053475936 | C111: 0 | D111: -0.014163194 | E111: 0.029411765 | F111: 0.12176166 | G111: 0 | H111: 0.067567568 | I111: 0.081012658 | J111: 0.083333333 | K111: 0.26732673 | L111: 0.013922814 | M111: 0.026399155 | N111: -0.05457255 | O111: -0.074080275 | P111: 0.0053689702 | Q111: -0.074421592 | R111: 0.16789025 | S111: -0.084813687 | T111: -0.082784265 | U111: -0.070954496 | V111: -0.069526273 | W111: -0.085274305 | X111: -0.082477102 | Y111: -0.067412605 | Z111: -0.061041671 | AA111: -0.085274305 | AB111: -0.07012279 | AC111: -0.082187885 | AE111: -0.018170001 | AF111: -0.082465316 | AG111: -0.085274305 | AH111: -0.079806836 | AI111: -0.085274305
A112: OCC-10 - Gers | B112: 0 | C112: 0 | D112: 0.00011895372 | E112: 0.28571429 | F112: 0.095890411 | G112: #N/A | H112: 0.0625 | I112: 0.089456869 | J112: 0.12962963 | K112: 0.45833333 | L112: 0.020683021 | M112: 0.01061008 | N112: -0.058124983 | O112: -0.072928626 | P112: -0.041249147 | Q112: -0.066879656 | R112: 0.10043998 | S112: -0.085274305 | T112: -0.077144223 | U112: -0.061464781 | V112: -0.07592851 | W112: -0.085274305 | X112: -0.070007129 | Y112: -0.06583263 | Z112: -0.056566171 | AA112: -0.085274305 | AB112: -0.062830414 | AC112: -0.08288767 | AE112: -0.0043343569 | AF112: -0.085274305 | AG112: -0.085274305 | AH112: -0.082573427 | AI112: -0.085274305
A113: OCC-11 - Tarn-et-Garonne | B113: 0 | C113: 0 | D113: 0.011891687 | E113: 0 | F113: 0.092896175 | G113: 0 | H113: 0 | I113: 0.073083779 | J113: 0.09375 | K113: 0.046511628 | L113: 0.011063307 | M113: 0.03164557 | N113: -0.061119715 | O113: -0.036093977 | P113: -0.036493817 | Q113: -0.079868899 | R113: 0.057582838 | S113: -0.085274305 | T113: -0.081292885 | U113: -0.063629283 | V113: -0.025572812 | W113: -0.085274305 | X113: -0.062018491 | Y113: -0.071652886 | Z113: -0.065373807 | AA113: -0.085274305 | AB113: -0.064253284 | AC113: -0.083399305 | AE113: -0.027149305 | AF113: -0.080038703 | AG113: -0.0083512278 | AH113: -0.081537384 | AI113: -0.085274305
A114: OCC-12 - Rouergue | B114: 0 | C114: 0 | D114: 0.0056347862 | E114: 0 | F114: 0.063985375 | G114: 0 | H114: 0.011538462 | I114: 0.072570726 | J114: 0.034682081 | K114: 0.20618557 | L114: 0.015713808 | M114: 0.014740109 | N114: -0.049634892 | O114: -0.066190335 | P114: -0.046481201 | Q114: -0.069036145 | R114: 0.024725695 | S114: -0.085274305 | T114: -0.074908451 | U114: -0.080552869 | V114: -0.036254697 | W114: -0.085274305 | X114: -0.076015045 | Y114: -0.074808473 | Z114: -0.050288882 | AA114: -0.085274305 | AB114: -0.063663303 | AC114: -0.08172005 | AE114: -0.021033514 | AF114: -0.077055127 | AG114: -0.085274305 | AH114: -0.081290241 | AI114: -0.085274305
A115: OCC-13 - Tarn Revelois et Saint-Ponais - Cœur d'Occitanie | B115: 0 | C115: 0 | D115: -0.00011895372 | E115: 0 | F115: 0.047945205 | G115: 0 | H115: 0.020833333 | I115: 0.084089035 | J115: 0.0030959752 | K115: 0.14606742 | L115: 0.010584445 | M115: 0.031707317 | N115: -0.051620459 | O115: -0.078281298 | P115: -0.034348379 | Q115: -0.07433538 | R115: -0.011200231 | S115: -0.085274305 | T115: -0.081375669 | U115: -0.072616077 | V115: -0.047057744 | W115: -0.085274305 | X115: -0.067730445 | Y115: -0.068647226 | Z115: -0.024427744 | AA115: -0.085274305 | AB115: -0.061158549 | AC115: -0.081980187 | AE115: -0.017418411 | AF115: -0.078156867 | AG115: -0.085274305 | AH115: -0.08082882 | AI115: -0.085274305
A116: OCC-14 - Lot | B116: 0 | C116: 0 | D116: -0.0013162837 | E116: 0 | F116: 0.055555556 | G116: 0 | H116: 0.021164021 | I116: 0.092771084 | J116: 0.027586207 | K116: 0.36 | L116: 0.013415102 | M116: 0.031914894 | N116: -0.067817946 | O116: -0.064368381 | P116: -0.046647695 | Q116: -0.078479288 | R116: 0.10391488 | S116: -0.085274305 | T116: -0.083687003 | U116: -0.079420646 | V116: -0.014686069 | W116: -0.085274305 | X116: -0.0805124 | Y116: -0.075102843 | Z116: -0.03580434 | AA116: -0.085274305 | AB116: -0.073910668 | AC116: -0.083021207 | AE116: -0.013411957 | AF116: -0.084088065 | AG116: -0.085274305 | AH116: -0.081728205 | AI116: 0.057582838
A117: Martinique | B117: 0 | C117: 0 | D117: 0.083333333 | E117: 0 | F117: 0 | G117: #N/A | H117: 0 | I117: 0.028037383 | J117: 0 | K117: #N/A | L117: 0 | M117: 0.25 | N117: 0 | O117: 0 | P117: 0 | Q117: 0.038461538 | R117: 0 | S117: #N/A | T117: 0 | U117: 0 | V117: 0 | W117: 0 | X117: 0.013157895 | Y117: 0.007751938 | Z117: 0.12328767 | AA117: 0 | AB117: 0.016129032 | AC117: 0 | AE117: 0.079268293 | AF117: 0 | AG117: #N/A | AH117: #N/A | AI117: #N/A
A118: MAR-01 - centre sud | B118: 0 | C118: 0 | D118: 0 | E118: 0 | F118: 0 | G118: #N/A | H118: 0 | I118: 0.028037383 | J118: 0 | K118: #N/A | L118: 0 | M118: 0.25 | N118: -0.083333333 | O118: -0.083333333 | P118: -0.083333333 | Q118: -0.044871795 | R118: -0.083333333 | S118: #N/A | T118: -0.083333333 | U118: -0.083333333 | V118: -0.083333333 | W118: -0.083333333 | X118: -0.070175439 | Y118: -0.075581395 | Z118: 0.039954338 | AA118: -0.083333333 | AB118: -0.067204301 | AC118: -0.083333333 | AE118: -0.0040650407 | AF118: -0.083333333 | AG118: #N/A | AH118: #N/A | AI118: #N/A
A119: Nord-Pas-de-Calais-Picardie | B119: 0 | C119: 0 | D119: 0.084552846 | E119: 0.0040816327 | F119: 0.11832061 | G119: #N/A | H119: 0.050991501 | I119: 0.076102418 | J119: 0.034682081 | K119: 0.21875 | L119: 0.011399126 | M119: 0.024390244 | N119: 0.037660611 | O119: 0.014354067 | P119: 0.043037975 | Q119: 0.012461059 | R119: 0.11688312 | S119: 0 | T119: 0.0045330916 | U119: 0.0057588076 | V119: 0.029367089 | W119: 0 | X119: 0.0050847458 | Y119: 0.020028612 | Z119: 0.039164491 | AA119: 0 | AB119: 0.018903592 | AC119: 0.003828229 | AE119: 0.061550889 | AF119: 0.012195122 | AG119: 0 | AH119: 0.0056323997 | AI119: 0
A120: HF-01 - Aisne Nord | B120: 0 | C120: 0 | D120: 0.0069365162 | E120: 0.0040816327 | F120: 0.17295597 | G120: 0 | H120: 0.050991501 | I120: 0.09009009 | J120: 0.061068702 | K120: 0.26635514 | L120: 0.0093869732 | M120: 0.015400956 | N120: -0.040242674 | O120: -0.060629401 | P120: -0.045947615 | Q120: -0.076351923 | R120: 0.068912501 | S120: -0.084040288 | T120: -0.080110479 | U120: -0.074307857 | V120: -0.046336285 | W120: -0.084552846 | X120: -0.06878708 | Y120: -0.06744961 | Z120: -0.031557454 | AA120: -0.083417772 | AB120: -0.066775068 | AC120: -0.082961914 | AE120: -0.023001957 | AF120: -0.081135211 | AG120: -0.084552846 | AH120: -0.08239803 | AI120: -0.084552846
A121: HF-02 - Aisne Sud- saphir | B121: 0 | C121: 0 | D121: -0.037782244 | E121: 0 | F121: 0.097560976 | G121: #N/A | H121: 0.017857143 | I121: 0.053333333 | J121: 0.032 | K121: 0.18461538 | L121: 0.012158055 | M121: 0.025677603 | N121: -0.038181878 | O121: -0.071219512 | P121: -0.068423813 | Q121: -0.072091786 | R121: -0.064945002 | S121: -0.083621747 | T121: -0.077349178 | U121: -0.076877407 | V121: -0.084552846 | W121: -0.084552846 | X121: -0.0775435 | Y121: -0.068726931 | Z121: -0.033555063 | AA121: -0.084552846 | AB121: -0.066113129 | AC121: -0.079922195 | AE121: -0.01424935 | AF121: -0.071677309 | AG121: -0.084552846 | AH121: -0.078181486 | AI121: -0.084552846
A122: HF-03 - Artois | B122: 0 | C122: 0 | D122: 0.020896553 | E122: 0.010526316 | F122: 0.11832061 | G122: 0.071428571 | H122: 0.072992701 | I122: 0.076102418 | J122: 0.12195122 | K122: 0.25490196 | L122: 0.014208525 | M122: 0.031491713 | N122: -0.05620233 | O122: -0.078796267 | P122: -0.036348687 | Q122: -0.061962484 | R122: 0.096794305 | S122: -0.084552846 | T122: -0.074558724 | U122: -0.079353539 | V122: 0.0049040235 | W122: -0.084552846 | X122: -0.081485361 | Y122: -0.056380605 | Z122: -0.038634478 | AA122: -0.084552846 | AB122: -0.071894618 | AC122: -0.079951266 | AE122: -0.0048228308 | AF122: -0.036029639 | AG122: -0.070060092 | AH122: -0.074903441 | AI122: -0.084552846
A123: HF-04 - Artois-Ternois | B123: 0 | C123: 0.0092592593 | D123: -0.027701534 | E123: 0 | F123: 0.11111111 | G123: 0 | H123: 0.0088495575 | I123: 0.057488654 | J123: 0.015544041 | K123: 0.2745098 | L123: 0.01426025 | M123: 0.016064257 | N123: -0.046628694 | O123: -0.070198779 | P123: -0.046530032 | Q123: -0.063531825 | R123: 0.021407419 | S123: -0.084552846 | T123: -0.080019754 | U123: -0.079050782 | V123: -0.050070087 | W123: -0.084552846 | X123: -0.084552846 | Y123: -0.064452343 | Z123: -0.045388355 | AA123: -0.084552846 | AB123: -0.062671007 | AC123: -0.078987921 | AE123: -0.023385618 | AF123: -0.075584236 | AG123: -0.084552846 | AH123: -0.078781839 | AI123: -0.084552846
A124: HF-05 - Douaisis | B124: 0.005988024 | C124: 0 | D124: -0.0096967995 | E124: 0 | F124: 0.13186813 | G124: 0 | H124: 0.095238095 | I124: 0.090769231 | J124: 0.09375 | K124: 0.18348624 | L124: 0.0083062477 | M124: 0.025345622 | N124: -0.027915677 | O124: -0.066801366 | P124: -0.025551333 | Q124: -0.071307812 | R124: 0.082113821 | S124: -0.084552846 | T124: -0.081230586 | U124: -0.08019238 | V124: -0.0095528455 | W124: -0.084552846 | X124: -0.0794681 | Y124: -0.06404187 | Z124: -0.051860538 | AA124: -0.084552846 | AB124: -0.065649254 | AC124: -0.080724617 | AE124: -0.0168573 | AF124: -0.076271272 | AG124: -0.084552846 | AH124: -0.078258139 | AI124: -0.084552846
A125: HF-06 - Hainaut-Cambrésis | B125: 0 | C125: 0 | D125: -0.017857306 | E125: 0.016304348 | F125: 0.16666667 | G125: 0.046511628 | H125: 0.060386473 | I125: 0.080255682 | J125: 0.031806616 | K125: 0.1529052 | L125: 0.011399126 | M125: 0.022932331 | N125: -0.046892234 | O125: -0.076319787 | P125: -0.045212069 | Q125: -0.078115678 | R125: 0.13179331 | S125: -0.084032825 | T125: -0.077635214 | U125: -0.078618966 | V125: -0.055297526 | W125: -0.084552846 | X125: -0.081611669 | Y125: -0.064835461 | Z125: -0.052271114 | AA125: -0.084552846 | AB125: -0.058614656 | AC125: -0.081766665 | AE125: -0.014834685 | AF125: -0.080019411 | AG125: -0.084552846 | AH125: -0.080154575 | AI125: -0.084552846
A126: HF-07 - Lille Métropole Flandre Intérieure | B126: 0.0007315289 | C126: 0 | D126: 0.0016249172 | E126: 0.0097087379 | F126: 0.04156936 | G126: 0.0097560976 | H126: 0.0093264249 | I126: 0.048468221 | J126: 0.015281757 | K126: 0.1270648 | L126: 0.0084173527 | M126: 0.019230769 | N126: -0.061542093 | O126: -0.069227175 | P126: -0.059428408 | Q126: -0.073543671 | R126: -0.035715636 | S126: -0.084552846 | T126: -0.081155253 | U126: -0.082265638 | V126: -0.055185757 | W126: -0.084552846 | X126: -0.081708907 | Y126: -0.069876265 | Z126: -0.072478791 | AA126: -0.083665009 | AB126: -0.067711963 | AC126: -0.080531465 | AE126: -0.04861795 | AF126: -0.080839687 | AG126: -0.077507284 | AH126: -0.078920446 | AI126: -0.07914744
A127: HF-08 - Littoral Nord | B127: 0.0021141649 | C127: 0 | D127: 0.00064894819 | E127: 0 | F127: 0.083601286 | G127: 0 | H127: 0.023904382 | I127: 0.062225476 | J127: 0.034682081 | K127: 0.16304348 | L127: 0.0073696145 | M127: 0.024390244 | N127: -0.039909988 | O127: -0.077358601 | P127: -0.036622562 | Q127: -0.064762392 | R127: 0.02041953 | S127: -0.083243088 | T127: -0.080983238 | U127: -0.081191501 | V127: -0.068159403 | W127: -0.084552846 | X127: -0.081295517 | Y127: -0.062625025 | Z127: -0.053302846 | AA127: -0.084552846 | AB127: -0.062547956 | AC127: -0.082239893 | AE127: -0.020971733 | AF127: -0.062240472 | AG127: -0.051219512 | AH127: -0.080599454 | AI127: -0.084552846
A128: HF-09 - Littoral Sud | B128: 0 | C128: 0 | D128: -0.00018559987 | E128: 0.012145749 | F128: 0.17120623 | G128: 0 | H128: 0.060714286 | I128: 0.068014706 | J128: 0.026737968 | K128: 0.21875 | L128: 0.010231781 | M128: 0.026340546 | N128: -0.062970112 | O128: -0.079317243 | P128: -0.026351787 | Q128: -0.067578676 | R128: 0.01380781 | S128: -0.084552846 | T128: -0.080867908 | U128: -0.083267498 | V128: -0.043736519 | W128: -0.04883856 | X128: -0.074762636 | Y128: -0.06579265 | Z128: -0.061271249 | AA128: -0.084552846 | AB128: -0.064350825 | AC128: -0.07949335 | AE128: -0.028446437 | AF128: -0.054828854 | AG128: -0.084552846 | AH128: -0.077804715 | AI128: -0.084552846
A129: HF-10 - Oise Ouest et Vexin | B129: 0 | C129: 0 | D129: 0.0068757259 | E129: 0.035714286 | F129: 0.10108303 | G129: 0.14285714 | H129: 0.065217391 | I129: 0.11878788 | J129: 0.038910506 | K129: 0.43243243 | L129: 0.014469453 | M129: 0.034843206 | N129: -0.052145438 | O129: -0.068226315 | P129: -0.038041218 | Q129: -0.072486481 | R129: 0.069293308 | S129: -0.084552846 | T129: -0.081357957 | U129: -0.072282907 | V129: -0.084552846 | W129: -0.084552846 | X129: -0.063073132 | Y129: -0.062927453 | Z129: -0.043943708 | AA129: -0.084552846 | AB129: -0.071912396 | AC129: -0.081389719 | AE129: -0.027671382 | AF129: -0.080673117 | AG129: -0.084552846 | AH129: -0.079570284 | AI129: -0.084552846
A130: HF-11 - Oise Sud | B130: 0 | C130: 0 | D130: -0.012025373 | E130: 0 | F130: 0.19521912 | G130: 0 | H130: 0.020689655 | I130: 0.069189189 | J130: 0.067114094 | K130: 0.2238806 | L130: 0.0080385852 | M130: 0.015057573 | N130: -0.052085313 | O130: -0.046918437 | P130: -0.03994318 | Q130: -0.069900831 | R130: 0.086178862 | S130: -0.084552846 | T130: -0.076403835 | U130: -0.074052038 | V130: -0.067161541 | W130: -0.084552846 | X130: -0.081900326 | Y130: -0.065322076 | Z130: -0.034552846 | AA130: -0.084552846 | AB130: -0.064196611 | AC130: -0.0808005 | AE130: -0.037994141 | AF130: -0.034552846 | AG130: -0.084552846 | AH130: -0.079387359 | AI130: -0.084552846
A131: HF-12 - Oise Nord Est (ONE) | B131: 0.0045454545 | C131: 0 | D131: 0.0020075189 | E131: 0 | F131: 0.16734694 | G131: 0 | H131: 0.0546875 | I131: 0.086894587 | J131: 0.053030303 | K131: 0.32 | L131: 0.014338821 | M131: 0.020501139 | N131: -0.054742547 | O131: -0.058237056 | P131: -0.041514871 | Q131: -0.07603703 | R131: 0.032330271 | S131: -0.084552846 | T131: -0.079328965 | U131: -0.063907684 | V131: -0.05891182 | W131: -0.084552846 | X131: -0.060580243 | Y131: -0.064524233 | Z131: -0.033201494 | AA131: -0.082027593 | AB131: -0.073515318 | AC131: -0.082076576 | AE131: -0.028161868 | AF131: -0.072357724 | AG131: -0.084552846 | AH131: -0.080119149 | AI131: -0.084552846
A132: HF-14 - Somme Littoral Sud | B132: 0.0025773196 | C132: 0 | D132: 0 | E132: 0.0051948052 | F132: 0.1175772 | G132: 0 | H132: 0.041166381 | I132: 0.085154484 | J132: 0.028129395 | K132: 0.11702128 | L132: 0.013526266 | M132: 0.043746149 | N132: -0.040256057 | O132: -0.078915867 | P132: -0.050481295 | Q132: -0.07627956 | R132: 0.028849216 | S132: -0.083995742 | T132: -0.079239349 | U132: -0.078794038 | V132: -0.037308751 | W132: -0.05065454 | X132: -0.075973246 | Y132: -0.058738917 | Z132: -0.046304508 | AA132: -0.084552846 | AB132: -0.056291976 | AC132: -0.079055714 | AE132: -0.014649933 | AF132: -0.07008476 | AG132: -0.06904897 | AH132: -0.07435704 | AI132: -0.084552846
A133: Provence-Alpes-Côte d'Azur | B133: 0.00042016807 | C133: 0 | D133: 0.095916411 | E133: 0.03728387 | F133: 0.075206528 | G133: 0.010714286 | H133: 0.048441667 | I133: 0.087140881 | J133: 0.039052904 | K133: 0.16687135 | L133: 0.01189168 | M133: 0.02150178 | N133: 0.027741037 | O133: 0.013651281 | P133: 0.046268413 | Q133: 0.011147727 | R133: 0.16598874 | S133: 0 | T133: 0.0040006634 | U133: 0.0086922057 | V133: 0.035929432 | W133: 0 | X133: 0.0079423633 | Y133: 0.015611063 | Z133: 0.042608214 | AA133: 0.0014465135 | AB133: 0.020834332 | AC133: 0.0038620745 | AE133: 0.065349625 | AF133: 0.0065385451 | AG133: 0 | AH133: 0.0052797388 | AI133: 0
... A147: OI-01 - Océan indien | B147: 0 | C147: 0 | D147: 0 | E147: 0 | F147: 0.066137566 | G147: 0 | H147: 0 | I147: 0.037552743 | J147: 0.040816327 | K147: 0.5 | L147: 0.005229284 | M147: 0.039215686 | N147: -0.017589496 | O147: 0.015431141 | P147: -0.0088603565 | Q147: -0.042334847 | R147: 0.10517473 | S147: -0.061491935 | T147: -0.057144109 | U147: -0.057507872 | V147: -0.0088603565 | W147: 0.058508065 | X147: -0.05361792 | Y147: -0.04972723 | Z147: -0.050739247 | AA147: -0.061491935 | AB147: -0.052401026 | AC147: -0.047408302 | AE147: -0.036123687 | AF147: -0.061491935 | AG147: -0.053679435 | AH147: -0.048458858 | AI147: -0.061491935

Sheet Graphs mediane morta
A1: Normandie

Sheet Feuil1
A1: Région | C1: =OFFSET('Mediane morta'!$A$1,MATCH('Graphs mediane morta'!$A$1,'Mediane morta'!$A:$A,0)+ROW()-1,COLUMN()-3) -> NOR-01 - Les Collines de Normandie | D1: =OFFSET('Mediane morta'!$A$1,MATCH('Graphs mediane morta'!$A$1,'Mediane morta'!$A:$A,0)+ROW()-1,COLUMN()-3) -> 0 | E1: =OFFSET('Mediane morta'!$A$1,MATCH('Graphs mediane morta'!$A$1,'Mediane morta'!$A:$A,0)+ROW()-1,COLUMN()-3) -> 0 | F1: =OFFSET('Mediane morta'!$A$1,MATCH('Graphs mediane morta'!$A$1,'Mediane morta'!$A:$A,0)+ROW()-1,COLUMN()-3) -> -0.015590773 | G1: =OFFSET('Mediane morta'!$A$1,MATCH('Graphs mediane morta'!$A$1,'Mediane morta'!$A:$A,0)+ROW()-1,COLUMN()-3) -> 0.041666667 | H1: =OFFSET('Mediane morta'!$A$1,MATCH('Graphs mediane morta'!$A$1,'Mediane morta'!$A:$A,0)+ROW()-1,COLUMN()-3) -> 0.16788321 | I1: =OFFSET('Mediane morta'!$A$1,MATCH('Graphs mediane morta'!$A$1,'Mediane morta'!$A:$A,0)+ROW()-1,COLUMN()-3) -> 0.2 | J1: =OFFSET('Mediane morta'!$A$1,MATCH('Graphs mediane morta'!$A$1,'Mediane morta'!$A:$A,0)+ROW()-1,COLUMN()-3) -> 0.36363636 | ... AK1: =OFFSET('Mediane morta'!$A$1,MATCH('Graphs mediane morta'!$A$1,'Mediane morta'!$A:$A,0)+ROW()-1,COLUMN()-3) -> -0.10194175
A2: Alsace-Champagne-Ardenne-Lorraine | C2: =IF(LEFT(OFFSET('Mediane morta'!$A$1,MATCH('Graphs mediane morta'!$A$1,'Mediane morta'!$A:$A,0)+ROW()-1,COLUMN()-3),3)=LEFT(C1,3),OFFSET('Mediane morta'!$A$1,MATCH('Graphs mediane morta'!$A$1,'Mediane morta'!$A:$A,0)+ROW()-1,COLUMN()-3),"") -> NOR-02 - Orne-Perche-Saosnois | D2: =IF($C2="","",OFFSET('Mediane morta'!$A$1,MATCH('Graphs mediane morta'!$A$1,'Mediane morta'!$A:$A,0)+ROW()-1,COLUMN()-3)) -> 0 | E2: =IF($C2="","",OFFSET('Mediane morta'!$A$1,MATCH('Graphs mediane morta'!$A$1,'Mediane morta'!$A:$A,0)+ROW()-1,COLUMN()-3)) -> 0.0054644809 | F2: =IF($C2="","",OFFSET('Mediane morta'!$A$1,MATCH('Graphs mediane morta'!$A$1,'Mediane morta'!$A:$A,0)+ROW()-1,COLUMN()-3)) -> 0 | G2: =IF($C2="","",OFFSET('Mediane morta'!$A$1,MATCH('Graphs mediane morta'!$A$1,'Mediane morta'!$A:$A,0)+ROW()-1,COLUMN()-3)) -> 0.034482759 | H2: =IF($C2="","",OFFSET('Mediane morta'!$A$1,MATCH('Graphs mediane morta'!$A$1,'Mediane morta'!$A:$A,0)+ROW()-1,COLUMN()-3)) -> 0.17222222 | I2: =IF($C2="","",OFFSET('Mediane morta'!$A$1,MATCH('Graphs mediane morta'!$A$1,'Mediane morta'!$A:$A,0)+ROW()-1,COLUMN()-3)) -> 0 | J2: =IF($C2="","",OFFSET('Mediane morta'!$A$1,MATCH('Graphs mediane morta'!$A$1,'Mediane morta'!$A:$A,0)+ROW()-1,COLUMN()-3)) -> 0.015463918 | K2: =IF($C2="","",OFFSET('Mediane morta'!$A$1,MATCH('Graphs mediane morta'!$A$1,'Mediane morta'!$A:$A,0)+ROW()-1,COLUMN()-3)) -> 0.042253521 | ... AK2: =IF($C2="","",OFFSET('Mediane morta'!$A$1,MATCH('Graphs mediane morta'!$A$1,'Mediane morta'!$A:$A,0)+ROW()-1,COLUMN()-3)) -> -0.10194175
A3: Aquitaine-Limousin-Poitou-Charentes | C3: =IF(LEFT(OFFSET('Mediane morta'!$A$1,MATCH('Graphs mediane morta'!$A$1,'Mediane morta'!$A:$A,0)+ROW()-1,COLUMN()-3),3)=LEFT(C2,3),OFFSET('Mediane morta'!$A$1,MATCH('Graphs mediane morta'!$A$1,'Mediane morta'!$A:$A,0)+ROW()-1,COLUMN()-3),"") -> NOR-03 - Cotentin | D3: =IF($C3="","",OFFSET('Mediane morta'!$A$1,MATCH('Graphs mediane morta'!$A$1,'Mediane morta'!$A:$A,0)+ROW()-1,COLUMN()-3)) -> 0.0055248619 | E3: =IF($C3="","",OFFSET('Mediane morta'!$A$1,MATCH('Graphs mediane morta'!$A$1,'Mediane morta'!$A:$A,0)+ROW()-1,COLUMN()-3)) -> 0 | F3: =IF($C3="","",OFFSET('Mediane morta'!$A$1,MATCH('Graphs mediane morta'!$A$1,'Mediane morta'!$A:$A,0)+ROW()-1,COLUMN()-3)) -> -0.0017527117 | G3: =IF($C3="","",OFFSET('Mediane morta'!$A$1,MATCH('Graphs mediane morta'!$A$1,'Mediane morta'!$A:$A,0)+ROW()-1,COLUMN()-3)) -> 0.10526316 | H3: =IF($C3="","",OFFSET('Mediane morta'!$A$1,MATCH('Graphs mediane morta'!$A$1,'Mediane morta'!$A:$A,0)+ROW()-1,COLUMN()-3)) -> 0.1657754 | I3: =IF($C3="","",OFFSET('Mediane morta'!$A$1,MATCH('Graphs mediane morta'!$A$1,'Mediane morta'!$A:$A,0)+ROW()-1,COLUMN()-3)) -> 0 | J3: =IF($C3="","",OFFSET('Mediane morta'!$A$1,MATCH('Graphs mediane morta'!$A$1,'Mediane morta'!$A:$A,0)+ROW()-1,COLUMN()-3)) -> 0.44444444 | K3: =IF($C3="","",OFFSET('Mediane morta'!$A$1,MATCH('Graphs mediane morta'!$A$1,'Mediane morta'!$A:$A,0)+ROW()-1,COLUMN()-3)) -> 0.1050885 | ... AK3: =IF($C3="","",OFFSET('Mediane morta'!$A$1,MATCH('Graphs mediane morta'!$A$1,'Mediane morta'!$A:$A,0)+ROW()-1,COLUMN()-3)) -> -0.10194175
A4: Auvergne-Rhône-Alpes | C4: =IF(LEFT(OFFSET('Mediane morta'!$A$1,MATCH('Graphs mediane morta'!$A$1,'Mediane morta'!$A:$A,0)+ROW()-1,COLUMN()-3),3)=LEFT(C3,3),OFFSET('Mediane morta'!$A$1,MATCH('Graphs mediane morta'!$A$1,'Mediane morta'!$A:$A,0)+ROW()-1,COLUMN()-3),"") -> NOR-04 - Caux Maritime | D4: =IF($C4="","",OFFSET('Mediane morta'!$A$1,MATCH('Graphs mediane morta'!$A$1,'Mediane morta'!$A:$A,0)+ROW()-1,COLUMN()-3)) -> 0 | E4: =IF($C4="","",OFFSET('Mediane morta'!$A$1,MATCH('Graphs mediane morta'!$A$1,'Mediane morta'!$A:$A,0)+ROW()-1,COLUMN()-3)) -> 0 | F4: =IF($C4="","",OFFSET('Mediane morta'!$A$1,MATCH('Graphs mediane morta'!$A$1,'Mediane morta'!$A:$A,0)+ROW()-1,COLUMN()-3)) -> 0.013226792 | G4: =IF($C4="","",OFFSET('Mediane morta'!$A$1,MATCH('Graphs mediane morta'!$A$1,'Mediane morta'!$A:$A,0)+ROW()-1,COLUMN()-3)) -> 0.11111111 | H4: =IF($C4="","",OFFSET('Mediane morta'!$A$1,MATCH('Graphs mediane morta'!$A$1,'Mediane morta'!$A:$A,0)+ROW()-1,COLUMN()-3)) -> 0.13333333 | I4: =IF($C4="","",OFFSET('Mediane morta'!$A$1,MATCH('Graphs mediane morta'!$A$1,'Mediane morta'!$A:$A,0)+ROW()-1,COLUMN()-3)) -> 0 | J4: =IF($C4="","",OFFSET('Mediane morta'!$A$1,MATCH('Graphs mediane morta'!$A$1,'Mediane morta'!$A:$A,0)+ROW()-1,COLUMN()-3)) -> 0.1125 | K4: =IF($C4="","",OFFSET('Mediane morta'!$A$1,MATCH('Graphs mediane morta'!$A$1,'Mediane morta'!$A:$A,0)+ROW()-1,COLUMN()-3)) -> 0.087912088 | ... AK4: =IF($C4="","",OFFSET('Mediane morta'!$A$1,MATCH('Graphs mediane morta'!$A$1,'Mediane morta'!$A:$A,0)+ROW()-1,COLUMN()-3)) -> -0.10194175
A5: Bourgogne-Franche-Comté | C5: =IF(LEFT(OFFSET('Mediane morta'!$A$1,MATCH('Graphs mediane morta'!$A$1,'Mediane morta'!$A:$A,0)+ROW()-1,COLUMN()-3),3)=LEFT(C4,3),OFFSET('Mediane morta'!$A$1,MATCH('Graphs mediane morta'!$A$1,'Mediane morta'!$A:$A,0)+ROW()-1,COLUMN()-3),"") -> NOR-05 - Centre Manche | D5: =IF($C5="","",OFFSET('Mediane morta'!$A$1,MATCH('Graphs mediane morta'!$A$1,'Mediane morta'!$A:$A,0)+ROW()-1,COLUMN()-3)) -> 0 | E5: =IF($C5="","",OFFSET('Mediane morta'!$A$1,MATCH('Graphs mediane morta'!$A$1,'Mediane morta'!$A:$A,0)+ROW()-1,COLUMN()-3)) -> 0 | F5: =IF($C5="","",OFFSET('Mediane morta'!$A$1,MATCH('Graphs mediane morta'!$A$1,'Mediane morta'!$A:$A,0)+ROW()-1,COLUMN()-3)) -> 0.010840207 | G5: =IF($C5="","",OFFSET('Mediane morta'!$A$1,MATCH('Graphs mediane morta'!$A$1,'Mediane morta'!$A:$A,0)+ROW()-1,COLUMN()-3)) -> 0 | H5: =IF($C5="","",OFFSET('Mediane morta'!$A$1,MATCH('Graphs mediane morta'!$A$1,'Mediane morta'!$A:$A,0)+ROW()-1,COLUMN()-3)) -> 0.17610063 | I5: =IF($C5="","",OFFSET('Mediane morta'!$A$1,MATCH('Graphs mediane morta'!$A$1,'Mediane morta'!$A:$A,0)+ROW()-1,COLUMN()-3)) -> 0 | J5: =IF($C5="","",OFFSET('Mediane morta'!$A$1,MATCH('Graphs mediane morta'!$A$1,'Mediane morta'!$A:$A,0)+ROW()-1,COLUMN()-3)) -> 0.41176471 | K5: =IF($C5="","",OFFSET('Mediane morta'!$A$1,MATCH('Graphs mediane morta'!$A$1,'Mediane morta'!$A:$A,0)+ROW()-1,COLUMN()-3)) -> 0.079381443 | ... AK5: =IF($C5="","",OFFSET('Mediane morta'!$A$1,MATCH('Graphs mediane morta'!$A$1,'Mediane morta'!$A:$A,0)+ROW()-1,COLUMN()-3)) -> -0.10194175
A6: Bretagne | C6: =IF(LEFT(OFFSET('Mediane morta'!$A$1,MATCH('Graphs mediane morta'!$A$1,'Mediane morta'!$A:$A,0)+ROW()-1,COLUMN()-3),3)=LEFT(C5,3),OFFSET('Mediane morta'!$A$1,MATCH('Graphs mediane morta'!$A$1,'Mediane morta'!$A:$A,0)+ROW()-1,COLUMN()-3),"") -> NOR-06 - Normandie Centre | D6: =IF($C6="","",OFFSET('Mediane morta'!$A$1,MATCH('Graphs mediane morta'!$A$1,'Mediane morta'!$A:$A,0)+ROW()-1,COLUMN()-3)) -> 0.00087642419 | E6: =IF($C6="","",OFFSET('Mediane morta'!$A$1,MATCH('Graphs mediane morta'!$A$1,'Mediane morta'!$A:$A,0)+ROW()-1,COLUMN()-3)) -> 0.0017513135 | F6: =IF($C6="","",OFFSET('Mediane morta'!$A$1,MATCH('Graphs mediane morta'!$A$1,'Mediane morta'!$A:$A,0)+ROW()-1,COLUMN()-3)) -> -0.0083124039 | G6: =IF($C6="","",OFFSET('Mediane morta'!$A$1,MATCH('Graphs mediane morta'!$A$1,'Mediane morta'!$A:$A,0)+ROW()-1,COLUMN()-3)) -> 0.02398524 | H6: =IF($C6="","",OFFSET('Mediane morta'!$A$1,MATCH('Graphs mediane morta'!$A$1,'Mediane morta'!$A:$A,0)+ROW()-1,COLUMN()-3)) -> 0.10944027 | I6: =IF($C6="","",OFFSET('Mediane morta'!$A$1,MATCH('Graphs mediane morta'!$A$1,'Mediane morta'!$A:$A,0)+ROW()-1,COLUMN()-3)) -> 0.041666667 | J6: =IF($C6="","",OFFSET('Mediane morta'!$A$1,MATCH('Graphs mediane morta'!$A$1,'Mediane morta'!$A:$A,0)+ROW()-1,COLUMN()-3)) -> 0.038617886 | K6: =IF($C6="","",OFFSET('Mediane morta'!$A$1,MATCH('Graphs mediane morta'!$A$1,'Mediane morta'!$A:$A,0)+ROW()-1,COLUMN()-3)) -> 0.082679541 | ... AK6: =IF($C6="","",OFFSET('Mediane morta'!$A$1,MATCH('Graphs mediane morta'!$A$1,'Mediane morta'!$A:$A,0)+ROW()-1,COLUMN()-3)) -> -0.10194175
A7: Centre | C7: =IF(LEFT(OFFSET('Mediane morta'!$A$1,MATCH('Graphs mediane morta'!$A$1,'Mediane morta'!$A:$A,0)+ROW()-1,COLUMN()-3),3)=LEFT(C6,3),OFFSET('Mediane morta'!$A$1,MATCH('Graphs mediane morta'!$A$1,'Mediane morta'!$A:$A,0)+ROW()-1,COLUMN()-3),"") -> NOR-07 - Rouen Cœur de Seine | D7: =IF($C7="","",OFFSET('Mediane morta'!$A$1,MATCH('Graphs mediane morta'!$A$1,'Mediane morta'!$A:$A,0)+ROW()-1,COLUMN()-3)) -> 0 | E7: =IF($C7="","",OFFSET('Mediane morta'!$A$1,MATCH('Graphs mediane morta'!$A$1,'Mediane morta'!$A:$A,0)+ROW()-1,COLUMN()-3)) -> 0 | F7: =IF($C7="","",OFFSET('Mediane morta'!$A$1,MATCH('Graphs mediane morta'!$A$1,'Mediane morta'!$A:$A,0)+ROW()-1,COLUMN()-3)) -> -0.005455744 | G7: =IF($C7="","",OFFSET('Mediane morta'!$A$1,MATCH('Graphs mediane morta'!$A$1,'Mediane morta'!$A:$A,0)+ROW()-1,COLUMN()-3)) -> 0.023504274 | H7: =IF($C7="","",OFFSET('Mediane morta'!$A$1,MATCH('Graphs mediane morta'!$A$1,'Mediane morta'!$A:$A,0)+ROW()-1,COLUMN()-3)) -> 0.055636896 | I7: =IF($C7="","",OFFSET('Mediane morta'!$A$1,MATCH('Graphs mediane morta'!$A$1,'Mediane morta'!$A:$A,0)+ROW()-1,COLUMN()-3)) -> 0 | J7: =IF($C7="","",OFFSET('Mediane morta'!$A$1,MATCH('Graphs mediane morta'!$A$1,'Mediane morta'!$A:$A,0)+ROW()-1,COLUMN()-3)) -> 0.045698925 | K7: =IF($C7="","",OFFSET('Mediane morta'!$A$1,MATCH('Graphs mediane morta'!$A$1,'Mediane morta'!$A:$A,0)+ROW()-1,COLUMN()-3)) -> 0.068774704 | ... AK7: =IF($C7="","",OFFSET('Mediane morta'!$A$1,MATCH('Graphs mediane morta'!$A$1,'Mediane morta'!$A:$A,0)+ROW()-1,COLUMN()-3)) -> -0.10194175
A8: Corse | C8: =IF(LEFT(OFFSET('Mediane morta'!$A$1,MATCH('Graphs mediane morta'!$A$1,'Mediane morta'!$A:$A,0)+ROW()-1,COLUMN()-3),3)=LEFT(C7,3),OFFSET('Mediane morta'!$A$1,MATCH('Graphs mediane morta'!$A$1,'Mediane morta'!$A:$A,0)+ROW()-1,COLUMN()-3),"") -> NOR-08 - Estuaire de la Seine | D8: =IF($C8="","",OFFSET('Mediane morta'!$A$1,MATCH('Graphs mediane morta'!$A$1,'Mediane morta'!$A:$A,0)+ROW()-1,COLUMN()-3)) -> 0.0043763676 | E8: =IF($C8="","",OFFSET('Mediane morta'!$A$1,MATCH('Graphs mediane morta'!$A$1,'Mediane morta'!$A:$A,0)+ROW()-1,COLUMN()-3)) -> 0.0013071895 | F8: =IF($C8="","",OFFSET('Mediane morta'!$A$1,MATCH('Graphs mediane morta'!$A$1,'Mediane morta'!$A:$A,0)+ROW()-1,COLUMN()-3)) -> 0.027995882 | G8: =IF($C8="","",OFFSET('Mediane morta'!$A$1,MATCH('Graphs mediane morta'!$A$1,'Mediane morta'!$A:$A,0)+ROW()-1,COLUMN()-3)) -> 0.0067567568 | H8: =IF($C8="","",OFFSET('Mediane morta'!$A$1,MATCH('Graphs mediane morta'!$A$1,'Mediane morta'!$A:$A,0)+ROW()-1,COLUMN()-3)) -> 0.23652695 | I8: =IF($C8="","",OFFSET('Mediane morta'!$A$1,MATCH('Graphs mediane morta'!$A$1,'Mediane morta'!$A:$A,0)+ROW()-1,COLUMN()-3)) -> 0.055555556 | J8: =IF($C8="","",OFFSET('Mediane morta'!$A$1,MATCH('Graphs mediane morta'!$A$1,'Mediane morta'!$A:$A,0)+ROW()-1,COLUMN()-3)) -> 0.13 | K8: =IF($C8="","",OFFSET('Mediane morta'!$A$1,MATCH('Graphs mediane morta'!$A$1,'Mediane morta'!$A:$A,0)+ROW()-1,COLUMN()-3)) -> 0.085861846 | ... AK8: =IF($C8="","",OFFSET('Mediane morta'!$A$1,MATCH('Graphs mediane morta'!$A$1,'Mediane morta'!$A:$A,0)+ROW()-1,COLUMN()-3)) -> -0.10194175
A9: Guadeloupe | C9: =IF(LEFT(OFFSET('Mediane morta'!$A$1,MATCH('Graphs mediane morta'!$A$1,'Mediane morta'!$A:$A,0)+ROW()-1,COLUMN()-3),3)=LEFT(C8,3),OFFSET('Mediane morta'!$A$1,MATCH('Graphs mediane morta'!$A$1,'Mediane morta'!$A:$A,0)+ROW()-1,COLUMN()-3),"") -> NOR-09 - Val de Seine et Plateaux de l'Eure | D9: =IF($C9="","",OFFSET('Mediane morta'!$A$1,MATCH('Graphs mediane morta'!$A$1,'Mediane morta'!$A:$A,0)+ROW()-1,COLUMN()-3)) -> 0 | E9: =IF($C9="","",OFFSET('Mediane morta'!$A$1,MATCH('Graphs mediane morta'!$A$1,'Mediane morta'!$A:$A,0)+ROW()-1,COLUMN()-3)) -> 0 | F9: =IF($C9="","",OFFSET('Mediane morta'!$A$1,MATCH('Graphs mediane morta'!$A$1,'Mediane morta'!$A:$A,0)+ROW()-1,COLUMN()-3)) -> 0.022658891 | G9: =IF($C9="","",OFFSET('Mediane morta'!$A$1,MATCH('Graphs mediane morta'!$A$1,'Mediane morta'!$A:$A,0)+ROW()-1,COLUMN()-3)) -> 0 | H9: =IF($C9="","",OFFSET('Mediane morta'!$A$1,MATCH('Graphs mediane morta'!$A$1,'Mediane morta'!$A:$A,0)+ROW()-1,COLUMN()-3)) -> 0.15196078 | I9: =IF($C9="","",OFFSET('Mediane morta'!$A$1,MATCH('Graphs mediane morta'!$A$1,'Mediane morta'!$A:$A,0)+ROW()-1,COLUMN()-3)) -> 0 | J9: =IF($C9="","",OFFSET('Mediane morta'!$A$1,MATCH('Graphs mediane morta'!$A$1,'Mediane morta'!$A:$A,0)+ROW()-1,COLUMN()-3)) -> 0.035502959 | K9: =IF($C9="","",OFFSET('Mediane morta'!$A$1,MATCH('Graphs mediane morta'!$A$1,'Mediane morta'!$A:$A,0)+ROW()-1,COLUMN()-3)) -> 0.088328076 | ... AK9: =IF($C9="","",OFFSET('Mediane morta'!$A$1,MATCH('Graphs mediane morta'!$A$1,'Mediane morta'!$A:$A,0)+ROW()-1,COLUMN()-3)) -> -0.10194175
A10: Île-de-France | C10: =IF(LEFT(OFFSET('Mediane morta'!$A$1,MATCH('Graphs mediane morta'!$A$1,'Mediane morta'!$A:$A,0)+ROW()-1,COLUMN()-3),3)=LEFT(C9,3),OFFSET('Mediane morta'!$A$1,MATCH('Graphs mediane morta'!$A$1,'Mediane morta'!$A:$A,0)+ROW()-1,COLUMN()-3),"") -> NOR-10 - Eure-Seine Pays d'Ouche | D10: =IF($C10="","",OFFSET('Mediane morta'!$A$1,MATCH('Graphs mediane morta'!$A$1,'Mediane morta'!$A:$A,0)+ROW()-1,COLUMN()-3)) -> 0.0068493151 | E10: =IF($C10="","",OFFSET('Mediane morta'!$A$1,MATCH('Graphs mediane morta'!$A$1,'Mediane morta'!$A:$A,0)+ROW()-1,COLUMN()-3)) -> 0 | F10: =IF($C10="","",OFFSET('Mediane morta'!$A$1,MATCH('Graphs mediane morta'!$A$1,'Mediane morta'!$A:$A,0)+ROW()-1,COLUMN()-3)) -> -0.0079020125 | G10: =IF($C10="","",OFFSET('Mediane morta'!$A$1,MATCH('Graphs mediane morta'!$A$1,'Mediane morta'!$A:$A,0)+ROW()-1,COLUMN()-3)) -> 0.033333333 | H10: =IF($C10="","",OFFSET('Mediane morta'!$A$1,MATCH('Graphs mediane morta'!$A$1,'Mediane morta'!$A:$A,0)+ROW()-1,COLUMN()-3)) -> 0.17112299 | I10: =IF($C10="","",OFFSET('Mediane morta'!$A$1,MATCH('Graphs mediane morta'!$A$1,'Mediane morta'!$A:$A,0)+ROW()-1,COLUMN()-3)) -> 0.14285714 | J10: =IF($C10="","",OFFSET('Mediane morta'!$A$1,MATCH('Graphs mediane morta'!$A$1,'Mediane morta'!$A:$A,0)+ROW()-1,COLUMN()-3)) -> 0.0625 | K10: =IF($C10="","",OFFSET('Mediane morta'!$A$1,MATCH('Graphs mediane morta'!$A$1,'Mediane morta'!$A:$A,0)+ROW()-1,COLUMN()-3)) -> 0.082107843 | ... AK10: =IF($C10="","",OFFSET('Mediane morta'!$A$1,MATCH('Graphs mediane morta'!$A$1,'Mediane morta'!$A:$A,0)+ROW()-1,COLUMN()-3)) -> -0.10194175
A11: Languedoc-Roussillon-Midi-Pyrénées | C11: =IF(LEFT(OFFSET('Mediane morta'!$A$1,MATCH('Graphs mediane morta'!$A$1,'Mediane morta'!$A:$A,0)+ROW()-1,COLUMN()-3),3)=LEFT(C10,3),OFFSET('Mediane morta'!$A$1,MATCH('Graphs mediane morta'!$A$1,'Mediane morta'!$A:$A,0)+ROW()-1,COLUMN()-3),"") -> NOR-11 - Groupe hospitalier Mont Saint Michel | D11: =IF($C11="","",OFFSET('Mediane morta'!$A$1,MATCH('Graphs mediane morta'!$A$1,'Mediane morta'!$A:$A,0)+ROW()-1,COLUMN()-3)) -> 0 | E11: =IF($C11="","",OFFSET('Mediane morta'!$A$1,MATCH('Graphs mediane morta'!$A$1,'Mediane morta'!$A:$A,0)+ROW()-1,COLUMN()-3)) -> 0 | F11: =IF($C11="","",OFFSET('Mediane morta'!$A$1,MATCH('Graphs mediane morta'!$A$1,'Mediane morta'!$A:$A,0)+ROW()-1,COLUMN()-3)) -> 0.001776452 | G11: =IF($C11="","",OFFSET('Mediane morta'!$A$1,MATCH('Graphs mediane morta'!$A$1,'Mediane morta'!$A:$A,0)+ROW()-1,COLUMN()-3)) -> 0.16129032 | H11: =IF($C11="","",OFFSET('Mediane morta'!$A$1,MATCH('Graphs mediane morta'!$A$1,'Mediane morta'!$A:$A,0)+ROW()-1,COLUMN()-3)) -> 0.18716578 | I11: =IF($C11="","",OFFSET('Mediane morta'!$A$1,MATCH('Graphs mediane morta'!$A$1,'Mediane morta'!$A:$A,0)+ROW()-1,COLUMN()-3)) -> 0 | J11: =IF($C11="","",OFFSET('Mediane morta'!$A$1,MATCH('Graphs mediane morta'!$A$1,'Mediane morta'!$A:$A,0)+ROW()-1,COLUMN()-3)) -> 0.036885246 | K11: =IF($C11="","",OFFSET('Mediane morta'!$A$1,MATCH('Graphs mediane morta'!$A$1,'Mediane morta'!$A:$A,0)+ROW()-1,COLUMN()-3)) -> 0.082130966 | ... AK11: =IF($C11="","",OFFSET('Mediane morta'!$A$1,MATCH('Graphs mediane morta'!$A$1,'Mediane morta'!$A:$A,0)+ROW()-1,COLUMN()-3)) -> -0.10194175
A12: Martinique | C12: =IF(LEFT(OFFSET('Mediane morta'!$A$1,MATCH('Graphs mediane morta'!$A$1,'Mediane morta'!$A:$A,0)+ROW()-1,COLUMN()-3),3)=LEFT(C11,3),OFFSET('Mediane morta'!$A$1,MATCH('Graphs mediane morta'!$A$1,'Mediane morta'!$A:$A,0)+ROW()-1,COLUMN()-3),"") | D12: =IF($C12="","",OFFSET('Mediane morta'!$A$1,MATCH('Graphs mediane morta'!$A$1,'Mediane morta'!$A:$A,0)+ROW()-1,COLUMN()-3)) | E12: =IF($C12="","",OFFSET('Mediane morta'!$A$1,MATCH('Graphs mediane morta'!$A$1,'Mediane morta'!$A:$A,0)+ROW()-1,COLUMN()-3)) | F12: =IF($C12="","",OFFSET('Mediane morta'!$A$1,MATCH('Graphs mediane morta'!$A$1,'Mediane morta'!$A:$A,0)+ROW()-1,COLUMN()-3)) | G12: =IF($C12="","",OFFSET('Mediane morta'!$A$1,MATCH('Graphs mediane morta'!$A$1,'Mediane morta'!$A:$A,0)+ROW()-1,COLUMN()-3)) | H12: =IF($C12="","",OFFSET('Mediane morta'!$A$1,MATCH('Graphs mediane morta'!$A$1,'Mediane morta'!$A:$A,0)+ROW()-1,COLUMN()-3)) | I12: =IF($C12="","",OFFSET('Mediane morta'!$A$1,MATCH('Graphs mediane morta'!$A$1,'Mediane morta'!$A:$A,0)+ROW()-1,COLUMN()-3)) | J12: =IF($C12="","",OFFSET('Mediane morta'!$A$1,MATCH('Graphs mediane morta'!$A$1,'Mediane morta'!$A:$A,0)+ROW()-1,COLUMN()-3)) | K12: =IF($C12="","",OFFSET('Mediane morta'!$A$1,MATCH('Graphs mediane morta'!$A$1,'Mediane morta'!$A:$A,0)+ROW()-1,COLUMN()-3)) | ... AK12: =IF($C12="","",OFFSET('Mediane morta'!$A$1,MATCH('Graphs mediane morta'!$A$1,'Mediane morta'!$A:$A,0)+ROW()-1,COLUMN()-3))
A13: Nord-Pas-de-Calais-Picardie | C13: =IF(LEFT(OFFSET('Mediane morta'!$A$1,MATCH('Graphs mediane morta'!$A$1,'Mediane morta'!$A:$A,0)+ROW()-1,COLUMN()-3),3)=LEFT(C12,3),OFFSET('Mediane morta'!$A$1,MATCH('Graphs mediane morta'!$A$1,'Mediane morta'!$A:$A,0)+ROW()-1,COLUMN()-3),"") | D13: =IF($C13="","",OFFSET('Mediane morta'!$A$1,MATCH('Graphs mediane morta'!$A$1,'Mediane morta'!$A:$A,0)+ROW()-1,COLUMN()-3)) | E13: =IF($C13="","",OFFSET('Mediane morta'!$A$1,MATCH('Graphs mediane morta'!$A$1,'Mediane morta'!$A:$A,0)+ROW()-1,COLUMN()-3)) | F13: =IF($C13="","",OFFSET('Mediane morta'!$A$1,MATCH('Graphs mediane morta'!$A$1,'Mediane morta'!$A:$A,0)+ROW()-1,COLUMN()-3)) | G13: =IF($C13="","",OFFSET('Mediane morta'!$A$1,MATCH('Graphs mediane morta'!$A$1,'Mediane morta'!$A:$A,0)+ROW()-1,COLUMN()-3)) | H13: =IF($C13="","",OFFSET('Mediane morta'!$A$1,MATCH('Graphs mediane morta'!$A$1,'Mediane morta'!$A:$A,0)+ROW()-1,COLUMN()-3)) | I13: =IF($C13="","",OFFSET('Mediane morta'!$A$1,MATCH('Graphs mediane morta'!$A$1,'Mediane morta'!$A:$A,0)+ROW()-1,COLUMN()-3)) | J13: =IF($C13="","",OFFSET('Mediane morta'!$A$1,MATCH('Graphs mediane morta'!$A$1,'Mediane morta'!$A:$A,0)+ROW()-1,COLUMN()-3)) | K13: =IF($C13="","",OFFSET('Mediane morta'!$A$1,MATCH('Graphs mediane morta'!$A$1,'Mediane morta'!$A:$A,0)+ROW()-1,COLUMN()-3)) | ... AK13: =IF($C13="","",OFFSET('Mediane morta'!$A$1,MATCH('Graphs mediane morta'!$A$1,'Mediane morta'!$A:$A,0)+ROW()-1,COLUMN()-3))
... A15: Pays de la Loire | C15: =IF(LEFT(OFFSET('Mediane morta'!$A$1,MATCH('Graphs mediane morta'!$A$1,'Mediane morta'!$A:$A,0)+ROW()-1,COLUMN()-3),3)=LEFT(C14,3),OFFSET('Mediane morta'!$A$1,MATCH('Graphs mediane morta'!$A$1,'Mediane morta'!$A:$A,0)+ROW()-1,COLUMN()-3),"") | D15: =IF($C15="","",OFFSET('Mediane morta'!$A$1,MATCH('Graphs mediane morta'!$A$1,'Mediane morta'!$A:$A,0)+ROW()-1,COLUMN()-3)) | E15: =IF($C15="","",OFFSET('Mediane morta'!$A$1,MATCH('Graphs mediane morta'!$A$1,'Mediane morta'!$A:$A,0)+ROW()-1,COLUMN()-3)) | F15: =IF($C15="","",OFFSET('Mediane morta'!$A$1,MATCH('Graphs mediane morta'!$A$1,'Mediane morta'!$A:$A,0)+ROW()-1,COLUMN()-3)) | G15: =IF($C15="","",OFFSET('Mediane morta'!$A$1,MATCH('Graphs mediane morta'!$A$1,'Mediane morta'!$A:$A,0)+ROW()-1,COLUMN()-3)) | H15: =IF($C15="","",OFFSET('Mediane morta'!$A$1,MATCH('Graphs mediane morta'!$A$1,'Mediane morta'!$A:$A,0)+ROW()-1,COLUMN()-3)) | I15: =IF($C15="","",OFFSET('Mediane morta'!$A$1,MATCH('Graphs mediane morta'!$A$1,'Mediane morta'!$A:$A,0)+ROW()-1,COLUMN()-3)) | J15: =IF($C15="","",OFFSET('Mediane morta'!$A$1,MATCH('Graphs mediane morta'!$A$1,'Mediane morta'!$A:$A,0)+ROW()-1,COLUMN()-3)) | K15: =IF($C15="","",OFFSET('Mediane morta'!$A$1,MATCH('Graphs mediane morta'!$A$1,'Mediane morta'!$A:$A,0)+ROW()-1,COLUMN()-3)) | ... AK15: =IF($C15="","",OFFSET('Mediane morta'!$A$1,MATCH('Graphs mediane morta'!$A$1,'Mediane morta'!$A:$A,0)+ROW()-1,COLUMN()-3))
A16: Provence-Alpes-Côte d'Azur
A17: Réunion
