Workbook
Name DATA1: Extraction!#REF!
Name DATA10: Extraction!#REF!
Name DATA11: Extraction!#REF!
Name DATA12: Extraction!#REF!
Name DATA13: Extraction!#REF!
Name DATA14: Extraction!#REF!
Name DATA15: Extraction!#REF!
Name DATA16: Extraction!#REF!
Name DATA2: Extraction!#REF!
Name DATA3: Extraction!#REF!
Name DATA4: Extraction!#REF!
Name DATA5: Extraction!#REF!
Name DATA6: Extraction!#REF!
Name DATA7: Extraction!#REF!
Name DATA8: Extraction!#REF!
Name DATA9: Extraction!#REF!
Name Montant: 'TCD Global'!$D$4
Name Quantité: 'TCD Global'!$C$4
Name SommeMontant: 'TCD Global'!$D$4
Name SommeUQS: 'TCD Global'!$C$4
Name TEST0: Extraction!#REF!
Name TESTHKEY: Extraction!$L$1:$P$1
Name TESTKEYS: Extraction!#REF!
Name TESTVKEY: Extraction!$A$1:$K$1

Sheet Extraction
A1: Fourn. | B1: Article | C1: Désignation article | D1: Mag. | E1: Doc.art. | F1: Txte e.-t. | G1: Mvt | H1: Utilisat. | I1: Saisie à | J1: Motif | K1: Texte code mouvement | L1: Date cpt. | M1: Quantité | N1: UQS | O1: Montant DI | P1: Saisie le
A2: 2021290 | B2: 330036886 | C2: 3M MASQUE 9312 | D2: M002 | E2: 5001731285 | G2: 101 | H2: GLENEVEU | I2: 13:35:13 | J2: 0000 | K2: EM Entrée marchand. | L2: 42741 | M2: 540 | N2: PCE | O2: 745.2 | P2: 42741
A3: 2021290 | B3: 330036886 | C3: 3M MASQUE 9312 | D3: M002 | E3: 5001731071 | G3: 101 | H3: GLENEVEU | I3: 10:43:04 | J3: 0000 | K3: EM Entrée marchand. | L3: 42741 | M3: 54 | N3: PCE | O3: 74.52 | P3: 42741
A4: 2024855 | B4: 330044142 | C4: ETIQUETTE 1UV RVI PR 72X105 | D4: M002 | E4: 5001731323 | G4: 101 | H4: GLENEVEU | I4: 13:56:53 | J4: 0000 | K4: EM Entrée marchand. | L4: 42741 | M4: 8000 | N4: PCE | O4: 96.48 | P4: 42741
A5: 2009026 | B5: 330044295 | C5: DISQUE ABRASIF PERFORE D150 GR400 | D5: M002 | E5: 5001740778 | G5: 101 | H5: GLENEVEU | I5: 14:00:33 | J5: 0000 | K5: EM Entrée marchand. | L5: 42759 | M5: 5000 | N5: PCE | O5: 615.55 | P5: 42759
A6: 2008912 | B6: 330044298 | C6: MARGUERITE DE PONCAGE SRP2500 RLX 1000 | D6: M002 | E6: 5001740807 | G6: 101 | H6: GLENEVEU | I6: 14:19:04 | J6: 0000 | K6: EM Entrée marchand. | L6: 42759 | M6: 40 | N6: PCE | O6: 2360 | P6: 42759
A7: 2021290 | B7: 330044305 | C7: DEMI MASQUE FILTRES INT. JETABLE FFA2P3D | D7: M002 | E7: 5001740674 | G7: 101 | H7: GLENEVEU | I7: 12:05:27 | J7: 0000 | K7: EM Entrée marchand. | L7: 42759 | M7: 40 | N7: PCE | O7: 667.6 | P7: 42759
A8: 2000806 | B8: 330044541 | C8: LINGETTES NOVOCLEAN GKM 16X20 | D8: M002 | E8: 5001731600 | G8: 101 | H8: GLENEVEU | I8: 09:16:39 | J8: 0000 | K8: EM -> stock consign. | L8: 42744 | M8: 20 | N8: PCE | O8: 0 | P8: 42744
A9: 2024855 | B9: 330044661 | C9: ETIQ ADHES 100*30 BLANC | D9: M002 | E9: 5001731324 | G9: 101 | H9: GLENEVEU | I9: 13:57:08 | J9: 0000 | K9: EM Entrée marchand. | L9: 42741 | M9: 72000 | N9: PCE | O9: 653.76 | P9: 42741
A10: 2021290 | B10: 330120577 | C10: HONEY LUNETTE OP-TEMA | D10: M002 | E10: 5001740675 | G10: 101 | H10: GLENEVEU | I10: 12:05:55 | J10: 0000 | K10: EM Entrée marchand. | L10: 42759 | M10: 60 | N10: PCE | O10: 196.8 | P10: 42759
A11: 2020489 | B11: 330121986 | C11: DISQUE ABRASIF D150 GRAIN 240 | D11: M002 | E11: 5001733202 | G11: 101 | H11: GLENEVEU | I11: 09:13:59 | J11: 0000 | K11: EM Entrée marchand. | L11: 42746 | M11: 400 | N11: PCE | O11: 138.72 | P11: 42746
A12: 2020489 | B12: 330121987 | C12: DISQUE ABRASIF D150 GRAIN 150 | D12: M002 | E12: 5001733202 | G12: 101 | H12: GLENEVEU | I12: 09:13:59 | J12: 0000 | K12: EM Entrée marchand. | L12: 42746 | M12: 300 | N12: PCE | O12: 104.04 | P12: 42746
A13: 2020489 | B13: 330121988 | C13: HOOKIT TRIZACT P3000 3M | D13: M002 | E13: 5001735705 | G13: 101 | H13: GLENEVEU | I13: 09:24:21 | J13: 0000 | K13: EM Entrée marchand. | L13: 42751 | M13: 30 | N13: PCE | O13: 119.65 | P13: 42751
... A19: 2000587 | B19: 330044661 | C19: ETIQ ADHES 100*30 BLANC | D19: M002 | E19: 5001731322 | G19: 102 | H19: GLENEVEU | I19: 13:54:06 | J19: 0000 | K19: Annul. EM sur cde | L19: 42741 | M19: -72000 | N19: PCE | O19: -679.97 | P19: 42741
B20: 330036886 | C20: 3M MASQUE 9312 | D20: M002 | E20: 4822337163 | F20: regul ptit mag | G20: 201 | H20: GLENEVEU | I20: 10:11:58 | J20: 0000 | K20: SM -> centre | L20: 42766 | M20: -250 | N20: PCE | O20: -347.81 | P20: 42766
B21: 330036896 | C21: DUPON COMBI TYVEK DUAL T.XL | D21: M002 | E21: 4822337163 | F21: regul ptit mag | G21: 201 | H21: GLENEVEU | I21: 10:11:58 | J21: 0000 | K21: SM -> centre | L21: 42766 | M21: -60 | N21: PCE | O21: -237.6 | P21: 42766
B22: 330044156 | C22: CHIFFON SWEAT SHIRT COTON COULEUR | D22: M002 | E22: 4822336842 | F22: regul ptit mag | G22: 201 | H22: GLENEVEU | I22: 10:09:21 | J22: 0000 | K22: SM -> centre | L22: 42766 | M22: -50 | N22: KG | O22: -61.24 | P22: 42766
B23: 330044205 | C23: RUBAN CIRE TT100-154 | D23: M002 | E23: 4822337163 | F23: regul ptit mag | G23: 201 | H23: GLENEVEU | I23: 10:11:58 | J23: 0000 | K23: SM -> centre | L23: 42766 | M23: -2 | N23: PCE | O23: -23.42 | P23: 42766
B24: 330044206 | C24: ETIQUETTE GALIA ETI1 BLANCHE 148X210 | D24: M002 | E24: 4822336842 | F24: regul ptit mag | G24: 201 | H24: GLENEVEU | I24: 10:09:21 | J24: 0000 | K24: SM -> centre | L24: 42766 | M24: -1000 | N24: PCE | O24: -19.48 | P24: 42766
B25: 330044295 | C25: DISQUE ABRASIF PERFORE D150 GR400 | D25: M002 | E25: 4822336842 | F25: regul ptit mag | G25: 201 | H25: GLENEVEU | I25: 10:09:21 | J25: 0000 | K25: SM -> centre | L25: 42766 | M25: -1400 | N25: PCE | O25: -173.47 | P25: 42766
B26: 330044298 | C26: MARGUERITE DE PONCAGE SRP2500 RLX 1000 | D26: M002 | E26: 4822336842 | F26: regul ptit mag | G26: 201 | H26: GLENEVEU | I26: 10:09:21 | J26: 0000 | K26: SM -> centre | L26: 42766 | M26: -6 | N26: PCE | O26: -348.93 | P26: 42766
B27: 330044303 | C27: RUBAN CIRE TT 100-105 | D27: M002 | E27: 4822337163 | F27: regul ptit mag | G27: 201 | H27: GLENEVEU | I27: 10:11:58 | J27: 0000 | K27: SM -> centre | L27: 42766 | M27: -2 | N27: PCE | O27: -14.8 | P27: 42766
B28: 330044305 | C28: DEMI MASQUE FILTRES INT. JETABLE FFA2P3D | D28: M002 | E28: 4822336842 | F28: regul ptit mag | G28: 201 | H28: GLENEVEU | I28: 10:09:21 | J28: 0000 | K28: SM -> centre | L28: 42766 | M28: -22 | N28: PCE | O28: -366.42 | P28: 42766
B29: 330044493 | C29: MASTIC JANSEN AHRWEITEX | D29: M002 | E29: 4822337163 | F29: regul ptit mag | G29: 201 | H29: GLENEVEU | I29: 10:11:58 | J29: 0000 | K29: SM -> centre | L29: 42766 | M29: -1 | N29: PCE | O29: -11.2 | P29: 42766
A30: 2000806 | B30: 330044529 | C30: TAMPON ESSUYAGE IMPREGNETRX3 32/40 LT/25 | D30: M002 | E30: 4822344741 | F30: regul ptit mag | G30: 201 | H30: GLENEVEU | I30: 11:42:57 | J30: 0000 | K30: SM consi -> centre | L30: 42766 | M30: -5 | N30: PCE | O30: -315 | P30: 42766
A31: 2000806 | B31: 330044531 | C31: HOUSSE ROBOT JAUNE 20CM H C3,5KG RI 50M | D31: M002 | E31: 4822344741 | F31: regul ptit mag | G31: 201 | H31: GLENEVEU | I31: 11:42:57 | J31: 0000 | K31: SM consi -> centre | L31: 42766 | M31: -3 | N31: PCE | O31: -42.87 | P31: 42766
A32: 2000806 | B32: 330044532 | C32: HOUSSE ROBOT BLEU DECOUPEE XRC 3,60M | D32: M002 | E32: 4822344741 | F32: regul ptit mag | G32: 201 | H32: GLENEVEU | I32: 11:42:57 | J32: 0000 | K32: SM consi -> centre | L32: 42766 | M32: -2 | N32: PCE | O32: -250 | P32: 42766
A33: 2000806 | B33: 330044541 | C33: LINGETTES NOVOCLEAN GKM 16X20 | D33: M002 | E33: 4822344741 | F33: regul ptit mag | G33: 201 | H33: GLENEVEU | I33: 11:42:57 | J33: 0000 | K33: SM consi -> centre | L33: 42766 | M33: -20 | N33: PCE | O33: -960 | P33: 42766
B34: 330044661 | C34: ETIQ ADHES 100*30 BLANC | D34: M002 | E34: 4822337163 | F34: regul ptit mag | G34: 201 | H34: GLENEVEU | I34: 10:11:58 | J34: 0000 | K34: SM -> centre | L34: 42766 | M34: -20000 | N34: PCE | O34: -181.6 | P34: 42766
B35: 330044668 | C35: PLAQUE CONTROLE JET | D35: M002 | E35: 4822336842 | F35: regul ptit mag | G35: 201 | H35: GLENEVEU | I35: 10:09:21 | J35: 0000 | K35: SM -> centre | L35: 42766 | M35: -25 | N35: PCE | O35: -171.6 | P35: 42766
B36: 330111081 | C36: ANSEL SOLVEX PRENIUM NITRILE 37-900 T10 | D36: M002 | E36: 4822336842 | F36: regul ptit mag | G36: 201 | H36: GLENEVEU | I36: 10:09:21 | J36: 0000 | K36: SM -> centre | L36: 42766 | M36: -15 | N36: PCE | O36: -39.3 | P36: 42766
B37: 330120573 | C37: LEBON PAIRE GANT TOUT FLEUR CHEVRE T10 | D37: M002 | E37: 4822337163 | F37: regul ptit mag | G37: 201 | H37: GLENEVEU | I37: 10:11:58 | J37: 0000 | K37: SM -> centre | L37: 42766 | M37: -22 | N37: PAI | O37: -79.2 | P37: 42766
B38: 330120577 | C38: HONEY LUNETTE OP-TEMA | D38: M002 | E38: 4822336842 | F38: regul ptit mag | G38: 201 | H38: GLENEVEU | I38: 10:09:21 | J38: 0000 | K38: SM -> centre | L38: 42766 | M38: -11 | N38: PCE | O38: -36.08 | P38: 42766
B39: 330120885 | C39: LEBON GTN PU G GANT TRICO ENDUIT GRIS T9 | D39: M002 | E39: 4822336842 | F39: regul ptit mag | G39: 201 | H39: GLENEVEU | I39: 10:09:21 | J39: 0000 | K39: SM -> centre | L39: 42766 | M39: -84 | N39: PAI | O39: -36.12 | P39: 42766
B40: 330121502 | C40: LEBON GTN PU G GANT TRICO ENDUIT GRIS T8 | D40: M002 | E40: 4822336842 | F40: regul ptit mag | G40: 201 | H40: GLENEVEU | I40: 10:09:21 | J40: 0000 | K40: SM -> centre | L40: 42766 | M40: -84 | N40: PAI | O40: -36.12 | P40: 42766
B41: 330121680 | C41: GANT HANDLITE 200G T11 | D41: M002 | E41: 4822336842 | F41: regul ptit mag | G41: 201 | H41: GLENEVEU | I41: 10:09:21 | J41: 0000 | K41: SM -> centre | L41: 42766 | M41: -10 | N41: PAI | O41: -4.3 | P41: 42766
B42: 330121681 | C42: HONEY2232270 GANT NITRIFIT BLACK FOAM T7 | D42: M002 | E42: 4822336842 | F42: regul ptit mag | G42: 201 | H42: GLENEVEU | I42: 10:09:21 | J42: 0000 | K42: SM -> centre | L42: 42766 | M42: -10 | N42: PAI | O42: -14 | P42: 42766
B43: 330121682 | C43: HONEY2232270 GANT NITRIFIT BLACK FOAM T8 | D43: M002 | E43: 4822336842 | F43: regul ptit mag | G43: 201 | H43: GLENEVEU | I43: 10:09:21 | J43: 0000 | K43: SM -> centre | L43: 42766 | M43: -60 | N43: PAI | O43: -84 | P43: 42766
B44: 330121683 | C44: HONEY2232270 GANT NITRIFIT BLACK FOAM T9 | D44: M002 | E44: 4822336842 | F44: regul ptit mag | G44: 201 | H44: GLENEVEU | I44: 10:09:21 | J44: 0000 | K44: SM -> centre | L44: 42766 | M44: -10 | N44: PAI | O44: -14 | P44: 42766
B45: 330121684 | C45: HONEY2232270 GANT NITRIFIT BLACKFOAM T10 | D45: M002 | E45: 4822337163 | F45: regul ptit mag | G45: 201 | H45: GLENEVEU | I45: 10:11:58 | J45: 0000 | K45: SM -> centre | L45: 42766 | M45: -80 | N45: PAI | O45: -112 | P45: 42766
...

Sheet TCD Global
A1: Mvt | B1: 201
A2: Saisie le | B2: (Tous)
A4: Désignation | B4: Désignation article | C4: Somme de Quantité | D4: Somme de Montant DI
A5: 20111625 | B5: VOLVO LABEL PART NUM 6768343 | C5: -5000 | D5: -61.75
A6: 330036886 | B6: 3M MASQUE 9312 | C6: -620 | D6: -862.58
A7: 330036889 | B7: EUROP COUVRE CHAUSSURE 45245 | C7: -3 | D7: -17.74
A8: 330036896 | B8: DUPON COMBI TYVEK DUAL T.XL | C8: -550 | D8: -2178
A9: 330044072 | B9: BOMBE PEINTURE GRIS 619 | C9: -25 | D9: -279.25
A10: 330044123 | B10: SUPPORT 31.7 3M 13442 | C10: -10 | D10: -41.75
A11: 330044142 | B11: ETIQUETTE 1UV RVI PR 72X105 | C11: -16000 | D11: -192.96
A12: 330044156 | B12: CHIFFON SWEAT SHIRT COTON COULEUR | C12: -380 | D12: -465.46
A13: 330044176 | B13: COMBINAISON PARTIGUARD TAILLE XL SUPER 4 | C13: -500 | D13: -1589.4
A14: 330044205 | B14: RUBAN CIRE TT100-154 | C14: -38 | D14: -438.98
A15: 330044206 | B15: ETIQUETTE GALIA ETI1 BLANCHE 148X210 | C15: -16000 | D15: -310.93
A16: 330044295 | B16: DISQUE ABRASIF PERFORE D150 GR400 | C16: -14300 | D16: -1817.31
... A89: 330134868 | B89: MABEO_GANT CUIR BOVIN FLEUR MEGISSE T10 | C89: -70 | D89: 0
A90: Total général | C90: -366107 | D90: -71686.92

Sheet Résultats
A2: Code SAP | B2: Désignation | C2: Total Quantité | D2: Total Prix
A3: 20111625 | B3: VOLVO LABEL PART NUM 6768343 | C3: =IFERROR(GETPIVOTDATA("Somme de Quantité",'TCD Global'!$A$4,"Article",$A3&"","Désignation article",$B3),0) -> -5000 | D3: =IFERROR(GETPIVOTDATA("Somme de Montant DI",'TCD Global'!$A$4,"Article",$A3&"","Désignation article",$B3),0) -> -61.75
A4: 330036886 | B4: 3M MASQUE 9312 | C4: =IFERROR(GETPIVOTDATA("Somme de Quantité",'TCD Global'!$A$4,"Article",$A4&"","Désignation article",$B4),0) -> -620 | D4: =IFERROR(GETPIVOTDATA("Somme de Montant DI",'TCD Global'!$A$4,"Article",$A4&"","Désignation article",$B4),0) -> -862.58
A5: 330036889 | B5: EUROP COUVRE CHAUSSURE 45245 | C5: =IFERROR(GETPIVOTDATA("Somme de Quantité",'TCD Global'!$A$4,"Article",$A5&"","Désignation article",$B5),0) -> -3 | D5: =IFERROR(GETPIVOTDATA("Somme de Montant DI",'TCD Global'!$A$4,"Article",$A5&"","Désignation article",$B5),0) -> -17.74
A6: 330036896 | B6: DUPON COMBI TYVEK DUAL T.XL | C6: =IFERROR(GETPIVOTDATA("Somme de Quantité",'TCD Global'!$A$4,"Article",$A6&"","Désignation article",$B6),0) -> -550 | D6: =IFERROR(GETPIVOTDATA("Somme de Montant DI",'TCD Global'!$A$4,"Article",$A6&"","Désignation article",$B6),0) -> -2178
A7: 330044072 | B7: BOMBE PEINTURE GRIS 619 | C7: =IFERROR(GETPIVOTDATA("Somme de Quantité",'TCD Global'!$A$4,"Article",$A7&"","Désignation article",$B7),0) -> -25 | D7: =IFERROR(GETPIVOTDATA("Somme de Montant DI",'TCD Global'!$A$4,"Article",$A7&"","Désignation article",$B7),0) -> -279.25
A8: 330044123 | B8: SUPPORT 31.7 3M 13442 | C8: =IFERROR(GETPIVOTDATA("Somme de Quantité",'TCD Global'!$A$4,"Article",$A8&"","Désignation article",$B8),0) -> -10 | D8: =IFERROR(GETPIVOTDATA("Somme de Montant DI",'TCD Global'!$A$4,"Article",$A8&"","Désignation article",$B8),0) -> -41.75
A9: 330044142 | B9: ETIQUETTE 1UV RVI PR 72X105 | C9: =IFERROR(GETPIVOTDATA("Somme de Quantité",'TCD Global'!$A$4,"Article",$A9&"","Désignation article",$B9),0) -> -16000 | D9: =IFERROR(GETPIVOTDATA("Somme de Montant DI",'TCD Global'!$A$4,"Article",$A9&"","Désignation article",$B9),0) -> -192.96
A10: 330044156 | B10: CHIFFON SWEAT SHIRT COTON COULEUR | C10: =IFERROR(GETPIVOTDATA("Somme de Quantité",'TCD Global'!$A$4,"Article",$A10&"","Désignation article",$B10),0) -> -380 | D10: =IFERROR(GETPIVOTDATA("Somme de Montant DI",'TCD Global'!$A$4,"Article",$A10&"","Désignation article",$B10),0) -> -465.46
A11: 330044176 | B11: COMBINAISON PARTIGUARD TAILLE XL SUPER 4 | C11: =IFERROR(GETPIVOTDATA("Somme de Quantité",'TCD Global'!$A$4,"Article",$A11&"","Désignation article",$B11),0) -> -500 | D11: =IFERROR(GETPIVOTDATA("Somme de Montant DI",'TCD Global'!$A$4,"Article",$A11&"","Désignation article",$B11),0) -> -1589.4
A12: 330044205 | B12: RUBAN CIRE TT100-154 | C12: =IFERROR(GETPIVOTDATA("Somme de Quantité",'TCD Global'!$A$4,"Article",$A12&"","Désignation article",$B12),0) -> -38 | D12: =IFERROR(GETPIVOTDATA("Somme de Montant DI",'TCD Global'!$A$4,"Article",$A12&"","Désignation article",$B12),0) -> -438.98
A13: 330044206 | B13: ETIQUETTE GALIA ETI1 BLANCHE 148X210 | C13: =IFERROR(GETPIVOTDATA("Somme de Quantité",'TCD Global'!$A$4,"Article",$A13&"","Désignation article",$B13),0) -> -16000 | D13: =IFERROR(GETPIVOTDATA("Somme de Montant DI",'TCD Global'!$A$4,"Article",$A13&"","Désignation article",$B13),0) -> -310.93
A14: 330044295 | B14: DISQUE ABRASIF PERFORE D150 GR400 | C14: =IFERROR(GETPIVOTDATA("Somme de Quantité",'TCD Global'!$A$4,"Article",$A14&"","Désignation article",$B14),0) -> -14300 | D14: =IFERROR(GETPIVOTDATA("Somme de Montant DI",'TCD Global'!$A$4,"Article",$A14&"","Désignation article",$B14),0) -> -1817.31
... A97: 330144964 | B97: FILM PELABLE AQUEUX BLANC BIDON 30KG | C97: =IFERROR(GETPIVOTDATA("Somme de Quantité",'TCD Global'!$A$4,"Article",$A97&"","Désignation article",$B97),0) -> 0 | D97: =IFERROR(GETPIVOTDATA("Somme de Montant DI",'TCD Global'!$A$4,"Article",$A97&"","Désignation article",$B97),0) -> 0

Sheet Synthèse 2017
A1: Synthèse 2017
Q3: Mvt | R3: 201
O4: Conso moyenne / mois
A5: Code Sap | B5: Désignation | C5: Janvier | D5: Février | E5: Mars | F5: Avril | G5: Mai | H5: Juin | I5: Juillet | J5: Août | K5: Septembre | L5: Octobre | M5: Novembre | N5: Décembre | Q5: Somme de Quantité | S5: Années | T5: Saisie le
A6: 20111625 | B6: VOLVO LABEL PART NUM 6768343 | O6: =AVERAGE(C6:N6) -> #DIV/0! | S6: 2017 | AD6: Moyenne 2017
A7: 330036886 | B7: 3M MASQUE 9312 | O7: =AVERAGE(C7:N7) -> #DIV/0! | Q7: Article | R7: Désignation article | S7: janv | T7: févr | U7: mars | V7: avr | W7: mai | X7: juin | Y7: août | Z7: sept | AA7: oct | AB7: nov | AC7: déc
A8: 330036889 | B8: EUROP COUVRE CHAUSSURE 45245 | O8: =AVERAGE(C8:N8) -> #DIV/0! | Q8: 20111625 | R8: VOLVO LABEL PART NUM 6768343 | U8: -1000 | V8: -1000 | X8: -1000 | Z8: -200 | AB8: -1800 | AD8: -1000
A9: 330036896 | B9: DUPON COMBI TYVEK DUAL T.XL | O9: =AVERAGE(C9:N9) -> #DIV/0! | Q9: 330036886 | R9: 3M MASQUE 9312 | S9: -250 | U9: -160 | V9: -130 | W9: -80 | AD9: -155
A10: 330044072 | B10: BOMBE PEINTURE GRIS 619 | O10: =AVERAGE(C10:N10) -> #DIV/0! | Q10: 330036889 | R10: EUROP COUVRE CHAUSSURE 45245 | U10: -1 | V10: -2 | AD10: -1.5
A11: 330044123 | B11: SUPPORT 31.7 3M 13442 | O11: =AVERAGE(C11:N11) -> #DIV/0! | Q11: 330036896 | R11: DUPON COMBI TYVEK DUAL T.XL | S11: -60 | U11: -100 | V11: -27 | W11: -65 | X11: -78 | Z11: -100 | AA11: -20 | AB11: -60 | AC11: -40 | AD11: -61.111111
A12: 330044142 | B12: ETIQUETTE 1UV RVI PR 72X105 | O12: =AVERAGE(C12:N12) -> #DIV/0! | Q12: 330044072 | R12: BOMBE PEINTURE GRIS 619 | T12: -19 | AA12: -6 | AD12: -12.5
A13: 330044156 | B13: CHIFFON SWEAT SHIRT COTON COULEUR | O13: =AVERAGE(C13:N13) -> #DIV/0! | Q13: 330044123 | R13: SUPPORT 31.7 3M 13442 | AB13: -10 | AD13: -10
A14: 330044176 | B14: COMBINAISON PARTIGUARD TAILLE XL SUPER 4 | O14: =AVERAGE(C14:N14) -> #DIV/0! | Q14: 330044142 | R14: ETIQUETTE 1UV RVI PR 72X105 | U14: -4000 | X14: -4000 | AA14: -4000 | AC14: -4000 | AD14: -4000
A15: 330044205 | B15: RUBAN CIRE TT100-154 | O15: =AVERAGE(C15:N15) -> #DIV/0! | Q15: 330044156 | R15: CHIFFON SWEAT SHIRT COTON COULEUR | S15: -50 | T15: -40 | U15: -40 | W15: -40 | X15: -40 | Z15: -70 | AA15: -100 | AD15: -54.285714
A16: 330044206 | B16: ETIQUETTE GALIA ETI1 BLANCHE 148X210 | O16: =AVERAGE(C16:N16) -> #DIV/0! | Q16: 330044176 | R16: COMBINAISON PARTIGUARD TAILLE XL SUPER 4 | T16: -500 | AD16: -500
A17: 330044295 | B17: DISQUE ABRASIF PERFORE D150 GR400 | O17: =AVERAGE(C17:N17) -> #DIV/0! | Q17: 330044205 | R17: RUBAN CIRE TT100-154 | S17: -2 | T17: -1 | U17: -1 | W17: -2 | Z17: -12 | AC17: -20 | AD17: -6.3333333
A18: 330044298 | B18: MARGUERITE DE PONCAGE SRP2500 RLX 1000 | O18: =AVERAGE(C18:N18) -> #DIV/0! | Q18: 330044206 | R18: ETIQUETTE GALIA ETI1 BLANCHE 148X210 | S18: -1000 | T18: -1000 | U18: -1000 | V18: -1000 | W18: -2000 | X18: -2000 | Z18: -3000 | AA18: -2000 | AB18: -3000 | AD18: -1777.7778
A19: 330044303 | B19: RUBAN CIRE TT 100-105 | O19: =AVERAGE(C19:N19) -> #DIV/0! | Q19: 330044295 | R19: DISQUE ABRASIF PERFORE D150 GR400 | S19: -1400 | T19: -1200 | U19: -1100 | V19: -700 | W19: -1300 | X19: -1200 | Z19: -2800 | AA19: -1600 | AB19: -2000 | AC19: -1000 | AD19: -1430
A20: 330044305 | B20: DEMI MASQUE FILTRES INT. JETABLE FFA2P3D | O20: =AVERAGE(C20:N20) -> #DIV/0! | Q20: 330044298 | R20: MARGUERITE DE PONCAGE SRP2500 RLX 1000 | S20: -6 | T20: -5 | U20: -8 | V20: -7 | W20: -5 | X20: -10 | Z20: -16 | AA20: -9 | AB20: -10 | AD20: -8.4444444
A21: 330044490 | B21: ESSUIE NET EP15 34*31CM BLEU CART DE 400 | O21: =AVERAGE(C21:N21) -> #DIV/0! | Q21: 330044303 | R21: RUBAN CIRE TT 100-105 | S21: -2 | U21: -1 | W21: -1 | Z21: -3 | AD21: -1.75
A22: 330044493 | B22: MASTIC JANSEN AHRWEITEX | O22: =AVERAGE(C22:N22) -> #DIV/0! | Q22: 330044305 | R22: DEMI MASQUE FILTRES INT. JETABLE FFA2P3D | S22: -22 | T22: -17 | U22: -12 | V22: -11 | W22: -13 | X22: -11 | Z22: -36 | AA22: -25 | AB22: -22 | AC22: -15 | AD22: -18.4
A23: 330044529 | B23: TAMPON ESSUYAGE IMPREGNETRX3 32/40 LT/25 | O23: =AVERAGE(C23:N23) -> #DIV/0! | Q23: 330044490 | R23: ESSUIE NET EP15 34*31CM BLEU CART DE 400 | T23: -2 | Z23: -1 | AD23: -1.5
A24: 330044531 | B24: HOUSSE ROBOT JAUNE 20CM H C3,5KG RI 50M | O24: =AVERAGE(C24:N24) -> #DIV/0! | Q24: 330044493 | R24: MASTIC JANSEN AHRWEITEX | S24: -1 | T24: -1 | U24: -2 | W24: -2 | X24: -3 | Z24: -4 | AB24: -6 | AD24: -2.7142857
A25: 330044532 | B25: HOUSSE ROBOT BLEU DECOUPEE XRC 3,60M | O25: =AVERAGE(C25:N25) -> #DIV/0! | Q25: 330044529 | R25: TAMPON ESSUYAGE IMPREGNETRX3 32/40 LT/25 | S25: -5 | U25: -14 | V25: -1 | X25: -2 | Y25: -4 | Z25: -7 | AA25: -1 | AB25: -5 | AC25: -23 | AD25: -6.8888889
A26: 330044541 | B26: LINGETTES NOVOCLEAN GKM 16X20 | O26: =AVERAGE(C26:N26) -> #DIV/0! | Q26: 330044531 | R26: HOUSSE ROBOT JAUNE 20CM H C3,5KG RI 50M | S26: -3 | U26: -3 | W26: -4 | X26: -3 | Y26: -1 | Z26: -2 | AA26: -2 | AB26: -4 | AD26: -2.75
A27: 330044661 | B27: ETIQ ADHES 100*30 BLANC | O27: =AVERAGE(C27:N27) -> #DIV/0! | Q27: 330044532 | R27: HOUSSE ROBOT BLEU DECOUPEE XRC 3,60M | S27: -2 | U27: -3 | W27: -2 | X27: -2 | Y27: -2 | Z27: -1 | AA27: -2 | AB27: -2 | AD27: -1.7777778
A28: 330044668 | B28: PLAQUE CONTROLE JET | O28: =AVERAGE(C28:N28) -> #DIV/0! | Q28: 330044541 | R28: LINGETTES NOVOCLEAN GKM 16X20 | S28: -20 | U28: -31 | V28: -14 | W28: -16 | X28: -24 | Y28: -19 | Z28: -20 | AA28: -18 | AB28: -17 | AC28: -10 | AD28: -17.181818
A29: 330105818 | B29: T2S GILET HTE VIS.JAUNE CL2 TU | O29: =AVERAGE(C29:N29) -> #DIV/0! | Q29: 330044661 | R29: ETIQ ADHES 100*30 BLANC | S29: -20000 | T29: -12000 | U29: -16000 | V29: -16000 | W29: -12000 | X29: -32000 | Z29: -8000 | AA29: -36000 | AB29: -16000 | AC29: -16000 | AD29: -18400
A30: 330111081 | B30: ANSEL SOLVEX PRENIUM NITRILE 37-900 T10 | O30: =AVERAGE(C30:N30) -> #DIV/0! | Q30: 330044668 | R30: PLAQUE CONTROLE JET | S30: -25 | T30: -25 | U30: -25 | V30: -100 | Z30: -75 | AA30: -25 | AB30: -50 | AC30: -25 | AD30: -43.75
A31: 330111108 | B31: HONEY 1011239 BOUCHONS OREILLES | O31: =AVERAGE(C31:N31) -> #DIV/0! | Q31: 330105818 | R31: T2S GILET HTE VIS.JAUNE CL2 TU | Z31: -30 | AC31: -33 | AD31: -31.5
A32: 330120573 | B32: LEBON PAIRE GANT TOUT FLEUR CHEVRE T10 | O32: =AVERAGE(C32:N32) -> #DIV/0! | Q32: 330111081 | R32: ANSEL SOLVEX PRENIUM NITRILE 37-900 T10 | S32: -15 | T32: -21 | V32: -4 | W32: -3 | X32: -7 | Z32: -30 | AA32: -6 | AB32: -14 | AD32: -12.5
A33: 330120577 | B33: HONEY LUNETTE OP-TEMA | O33: =AVERAGE(C33:N33) -> #DIV/0! | Q33: 330111108 | R33: HONEY 1011239 BOUCHONS OREILLES | U33: -1 | V33: -1 | W33: -147 | Z33: -148 | AC33: -1 | AD33: -59.6
A34: 330120849 | B34: MEDIP CHARLOTTE 0510808 BLANC | O34: =AVERAGE(C34:N34) -> #DIV/0! | Q34: 330120573 | R34: LEBON PAIRE GANT TOUT FLEUR CHEVRE T10 | S34: -22 | U34: -8 | AB34: -20 | AD34: -16.666667
A35: 330120882 | B35: LEBON GTN PU G GANT TRICO ENDUIT GRIS T7 | O35: =AVERAGE(C35:N35) -> #DIV/0! | Q35: 330120577 | R35: HONEY LUNETTE OP-TEMA | S35: -11 | T35: -30 | U35: -10 | V35: -28 | W35: -12 | X35: -30 | Z35: -40 | AA35: -30 | AC35: -10 | AD35: -22.333333
A36: 330120885 | B36: LEBON GTN PU G GANT TRICO ENDUIT GRIS T9 | O36: =AVERAGE(C36:N36) -> #DIV/0! | Q36: 330120849 | R36: MEDIP CHARLOTTE 0510808 BLANC | U36: -3 | W36: -3 | X36: -1 | AD36: -2.3333333
A37: 330121073 | B37: SEMELLE IMAGE 0182VS P40 | O37: =AVERAGE(C37:N37) -> #DIV/0! | Q37: 330120882 | R37: LEBON GTN PU G GANT TRICO ENDUIT GRIS T7 | AA37: -4 | AB37: -10 | AC37: -10 | AD37: -8
A38: 330121074 | B38: SEMELLE IMAGE 0182VS P41 | O38: =AVERAGE(C38:N38) -> #DIV/0! | Q38: 330120885 | R38: LEBON GTN PU G GANT TRICO ENDUIT GRIS T9 | S38: -84 | T38: -74 | V38: -4 | W38: -32 | X38: -84 | Z38: -156 | AA38: -94 | AB38: -10 | AC38: -30 | AD38: -63.111111
A39: 330121075 | B39: SEMELLE IMAGE 0182VS P42 | O39: =AVERAGE(C39:N39) -> #DIV/0! | Q39: 330121502 | R39: LEBON GTN PU G GANT TRICO ENDUIT GRIS T8 | S39: -84 | T39: -60 | U39: -100 | V39: -100 | W39: -100 | X39: -110 | Z39: -80 | AA39: -260 | AB39: -48 | AC39: -72 | AD39: -101.4
A40: 330121077 | B40: SEMELLE IMAGE 0182VS P43 | O40: =AVERAGE(C40:N40) -> #DIV/0! | Q40: 330121679 | R40: LEBON GTN PU G GANT TRCO ENDUIT GRIS T10 | U40: -60 | V40: -40 | W40: -26 | X40: -70 | Z40: -44 | AA40: -26 | AB40: -26 | AC40: -168 | AD40: -57.5
A41: 330121078 | B41: SEMELLE IMAGE 0182VS P44 | O41: =AVERAGE(C41:N41) -> #DIV/0! | Q41: 330121680 | R41: GANT HANDLITE 200G T11 | S41: -10 | V41: -4 | X41: -36 | AB41: -44 | AD41: -23.5
...
