Workbook
Name DATA1: Extraction!#REF!
Name DATA10: Extraction!#REF!
Name DATA11: Extraction!#REF!
Name DATA12: Extraction!#REF!
Name DATA13: Extraction!#REF!
Name DATA14: Extraction!#REF!
Name DATA15: Extraction!#REF!
Name DATA16: Extraction!#REF!
Name DATA2: Extraction!#REF!
Name DATA3: Extraction!#REF!
Name DATA4: Extraction!#REF!
Name DATA5: Extraction!#REF!
Name DATA6: Extraction!#REF!
Name DATA7: Extraction!#REF!
Name DATA8: Extraction!#REF!
Name DATA9: Extraction!#REF!
Name Montant: 'TCD Global'!$D$4
Name Quantité: 'TCD Global'!$C$4
Name SommeMontant: 'TCD Global'!$D$4
Name SommeUQS: 'TCD Global'!$C$4
Name TEST0: Extraction!#REF!
Name TESTHKEY: Extraction!$L$1:$P$1
Name TESTKEYS: Extraction!#REF!
Name TESTVKEY: Extraction!$A$1:$K$1

Sheet Extraction
A1: Fourn. | B1: Article | C1: Désignation article | D1: Mag. | E1: Doc.art. | F1: Txte e.-t. | G1: Mvt | H1: Utilisat. | I1: Saisie à | J1: Motif | K1: Texte code mouvement | L1: Date cpt. | M1: Quantité | N1: UQS | O1: Montant DI | P1: Saisie le
A2: 2021290 | B2: 330036886 | C2: 3M MASQUE 9312 | D2: M002 | E2: 5001731285 | G2: 101 | H2: GLENEVEU | I2: 13:35:13 | J2: 0000 | K2: EM Entrée marchand. | L2: 42741 | M2: 540 | N2: PCE | O2: 745.2 | P2: 42741
A3: 2021290 | B3: 330036886 | C3: 3M MASQUE 9312 | D3: M002 | E3: 5001731071 | G3: 101 | H3: GLENEVEU | I3: 10:43:04 | J3: 0000 | K3: EM Entrée marchand. | L3: 42741 | M3: 54 | N3: PCE | O3: 74.52 | P3: 42741
A4: 2024855 | B4: 330044142 | C4: ETIQUETTE 1UV RVI PR 72X105 | D4: M002 | E4: 5001731323 | G4: 101 | H4: GLENEVEU | I4: 13:56:53 | J4: 0000 | K4: EM Entrée marchand. | L4: 42741 | M4: 8000 | N4: PCE | O4: 96.48 | P4: 42741
A5: 2009026 | B5: 330044295 | C5: DISQUE ABRASIF PERFORE D150 GR400 | D5: M002 | E5: 5001740778 | G5: 101 | H5: GLENEVEU | I5: 14:00:33 | J5: 0000 | K5: EM Entrée marchand. | L5: 42759 | M5: 5000 | N5: PCE | O5: 615.55 | P5: 42759
A6: 2008912 | B6: 330044298 | C6: MARGUERITE DE PONCAGE SRP2500 RLX 1000 | D6: M002 | E6: 5001740807 | G6: 101 | H6: GLENEVEU | I6: 14:19:04 | J6: 0000 | K6: EM Entrée marchand. | L6: 42759 | M6: 40 | N6: PCE | O6: 2360 | P6: 42759
A7: 2021290 | B7: 330044305 | C7: DEMI MASQUE FILTRES INT. JETABLE FFA2P3D | D7: M002 | E7: 5001740674 | G7: 101 | H7: GLENEVEU | I7: 12:05:27 | J7: 0000 | K7: EM Entrée marchand. | L7: 42759 | M7: 40 | N7: PCE | O7: 667.6 | P7: 42759
A8: 2000806 | B8: 330044541 | C8: LINGETTES NOVOCLEAN GKM 16X20 | D8: M002 | E8: 5001731600 | G8: 101 | H8: GLENEVEU | I8: 09:16:39 | J8: 0000 | K8: EM -> stock consign. | L8: 42744 | M8: 20 | N8: PCE | O8: 0 | P8: 42744
A9: 2024855 | B9: 330044661 | C9: ETIQ ADHES 100*30 BLANC | D9: M002 | E9: 5001731324 | G9: 101 | H9: GLENEVEU | I9: 13:57:08 | J9: 0000 | K9: EM Entrée marchand. | L9: 42741 | M9: 72000 | N9: PCE | O9: 653.76 | P9: 42741
A10: 2021290 | B10: 330120577 | C10: HONEY LUNETTE OP-TEMA | D10: M002 | E10: 5001740675 | G10: 101 | H10: GLENEVEU | I10: 12:05:55 | J10: 0000 | K10: EM Entrée marchand. | L10: 42759 | M10: 60 | N10: PCE | O10: 196.8 | P10: 42759
A11: 2020489 | B11: 330121986 | C11: DISQUE ABRASIF D150 GRAIN 240 | D11: M002 | E11: 5001733202 | G11: 101 | H11: GLENEVEU | I11: 09:13:59 | J11: 0000 | K11: EM Entrée marchand. | L11: 42746 | M11: 400 | N11: PCE | O11: 138.72 | P11: 42746
A12: 2020489 | B12: 330121987 | C12: DISQUE ABRASIF D150 GRAIN 150 | D12: M002 | E12: 5001733202 | G12: 101 | H12: GLENEVEU | I12: 09:13:59 | J12: 0000 | K12: EM Entrée marchand. | L12: 42746 | M12: 300 | N12: PCE | O12: 104.04 | P12: 42746
A13: 2020489 | B13: 330121988 | C13: HOOKIT TRIZACT P3000 3M | D13: M002 | E13: 5001735705 | G13: 101 | H13: GLENEVEU | I13: 09:24:21 | J13: 0000 | K13: EM Entrée marchand. | L13: 42751 | M13: 30 | N13: PCE | O13: 119.65 | P13: 42751
... A19: 2000587 | B19: 330044661 | C19: ETIQ ADHES 100*30 BLANC | D19: M002 | E19: 5001731322 | G19: 102 | H19: GLENEVEU | I19: 13:54:06 | J19: 0000 | K19: Annul. EM sur cde | L19: 42741 | M19: -72000 | N19: PCE | O19: -679.97 | P19: 42741
B20: 330036886 | C20: 3M MASQUE 9312 | D20: M002 | E20: 4822337163 | F20: regul ptit mag | G20: 201 | H20: GLENEVEU | I20: 10:11:58 | J20: 0000 | K20: SM -> centre | L20: 42766 | M20: -250 | N20: PCE | O20: -347.81 | P20: 42766
B21: 330036896 | C21: DUPON COMBI TYVEK DUAL T.XL | D21: M002 | E21: 4822337163 | F21: regul ptit mag | G21: 201 | H21: GLENEVEU | I21: 10:11:58 | J21: 0000 | K21: SM -> centre | L21: 42766 | M21: -60 | N21: PCE | O21: -237.6 | P21: 42766
B22: 330044156 | C22: CHIFFON SWEAT SHIRT COTON COULEUR | D22: M002 | E22: 4822336842 | F22: regul ptit mag | G22: 201 | H22: GLENEVEU | I22: 10:09:21 | J22: 0000 | K22: SM -> centre | L22: 42766 | M22: -50 | N22: KG | O22: -61.24 | P22: 42766
B23: 330044205 | C23: RUBAN CIRE TT100-154 | D23: M002 | E23: 4822337163 | F23: regul ptit mag | G23: 201 | H23: GLENEVEU | I23: 10:11:58 | J23: 0000 | K23: SM -> centre | L23: 42766 | M23: -2 | N23: PCE | O23: -23.42 | P23: 42766
B24: 330044206 | C24: ETIQUETTE GALIA ETI1 BLANCHE 148X210 | D24: M002 | E24: 4822336842 | F24: regul ptit mag | G24: 201 | H24: GLENEVEU | I24: 10:09:21 | J24: 0000 | K24: SM -> centre | L24: 42766 | M24: -1000 | N24: PCE | O24: -19.48 | P24: 42766
B25: 330044295 | C25: DISQUE ABRASIF PERFORE D150 GR400 | D25: M002 | E25: 4822336842 | F25: regul ptit mag | G25: 201 | H25: GLENEVEU | I25: 10:09:21 | J25: 0000 | K25: SM -> centre | L25: 42766 | M25: -1400 | N25: PCE | O25: -173.47 | P25: 42766
B26: 330044298 | C26: MARGUERITE DE PONCAGE SRP2500 RLX 1000 | D26: M002 | E26: 4822336842 | F26: regul ptit mag | G26: 201 | H26: GLENEVEU | I26: 10:09:21 | J26: 0000 | K26: SM -> centre | L26: 42766 | M26: -6 | N26: PCE | O26: -348.93 | P26: 42766
B27: 330044303 | C27: RUBAN CIRE TT 100-105 | D27: M002 | E27: 4822337163 | F27: regul ptit mag | G27: 201 | H27: GLENEVEU | I27: 10:11:58 | J27: 0000 | K27: SM -> centre | L27: 42766 | M27: -2 | N27: PCE | O27: -14.8 | P27: 42766
B28: 330044305 | C28: DEMI MASQUE FILTRES INT. JETABLE FFA2P3D | D28: M002 | E28: 4822336842 | F28: regul ptit mag | G28: 201 | H28: GLENEVEU | I28: 10:09:21 | J28: 0000 | K28: SM -> centre | L28: 42766 | M28: -22 | N28: PCE | O28: -366.42 | P28: 42766
B29: 330044493 | C29: MASTIC JANSEN AHRWEITEX | D29: M002 | E29: 4822337163 | F29: regul ptit mag | G29: 201 | H29: GLENEVEU | I29: 10:11:58 | J29: 0000 | K29: SM -> centre | L29: 42766 | M29: -1 | N29: PCE | O29: -11.2 | P29: 42766
A30: 2000806 | B30: 330044529 | C30: TAMPON ESSUYAGE IMPREGNETRX3 32/40 LT/25 | D30: M002 | E30: 4822344741 | F30: regul ptit mag | G30: 201 | H30: GLENEVEU | I30: 11:42:57 | J30: 0000 | K30: SM consi -> centre | L30: 42766 | M30: -5 | N30: PCE | O30: -315 | P30: 42766
A31: 2000806 | B31: 330044531 | C31: HOUSSE ROBOT JAUNE 20CM H C3,5KG RI 50M | D31: M002 | E31: 4822344741 | F31: regul ptit mag | G31: 201 | H31: GLENEVEU | I31: 11:42:57 | J31: 0000 | K31: SM consi -> centre | L31: 42766 | M31: -3 | N31: PCE | O31: -42.87 | P31: 42766
A32: 2000806 | B32: 330044532 | C32: HOUSSE ROBOT BLEU DECOUPEE XRC 3,60M | D32: M002 | E32: 4822344741 | F32: regul ptit mag | G32: 201 | H32: GLENEVEU | I32: 11:42:57 | J32: 0000 | K32: SM consi -> centre | L32: 42766 | M32: -2 | N32: PCE | O32: -250 | P32: 42766
A33: 2000806 | B33: 330044541 | C33: LINGETTES NOVOCLEAN GKM 16X20 | D33: M002 | E33: 4822344741 | F33: regul ptit mag | G33: 201 | H33: GLENEVEU | I33: 11:42:57 | J33: 0000 | K33: SM consi -> centre | L33: 42766 | M33: -20 | N33: PCE | O33: -960 | P33: 42766
B34: 330044661 | C34: ETIQ ADHES 100*30 BLANC | D34: M002 | E34: 4822337163 | F34: regul ptit mag | G34: 201 | H34: GLENEVEU | I34: 10:11:58 | J34: 0000 | K34: SM -> centre | L34: 42766 | M34: -20000 | N34: PCE | O34: -181.6 | P34: 42766
B35: 330044668 | C35: PLAQUE CONTROLE JET | D35: M002 | E35: 4822336842 | F35: regul ptit mag | G35: 201 | H35: GLENEVEU | I35: 10:09:21 | J35: 0000 | K35: SM -> centre | L35: 42766 | M35: -25 | N35: PCE | O35: -171.6 | P35: 42766
B36: 330111081 | C36: ANSEL SOLVEX PRENIUM NITRILE 37-900 T10 | D36: M002 | E36: 4822336842 | F36: regul ptit mag | G36: 201 | H36: GLENEVEU | I36: 10:09:21 | J36: 0000 | K36: SM -> centre | L36: 42766 | M36: -15 | N36: PCE | O36: -39.3 | P36: 42766
B37: 330120573 | C37: LEBON PAIRE GANT TOUT FLEUR CHEVRE T10 | D37: M002 | E37: 4822337163 | F37: regul ptit mag | G37: 201 | H37: GLENEVEU | I37: 10:11:58 | J37: 0000 | K37: SM -> centre | L37: 42766 | M37: -22 | N37: PAI | O37: -79.2 | P37: 42766
B38: 330120577 | C38: HONEY LUNETTE OP-TEMA | D38: M002 | E38: 4822336842 | F38: regul ptit mag | G38: 201 | H38: GLENEVEU | I38: 10:09:21 | J38: 0000 | K38: SM -> centre | L38: 42766 | M38: -11 | N38: PCE | O38: -36.08 | P38: 42766
B39: 330120885 | C39: LEBON GTN PU G GANT TRICO ENDUIT GRIS T9 | D39: M002 | E39: 4822336842 | F39: regul ptit mag | G39: 201 | H39: GLENEVEU | I39: 10:09:21 | J39: 0000 | K39: SM -> centre | L39: 42766 | M39: -84 | N39: PAI | O39: -36.12 | P39: 42766
B40: 330121502 | C40: LEBON GTN PU G GANT TRICO ENDUIT GRIS T8 | D40: M002 | E40: 4822336842 | F40: regul ptit mag | G40: 201 | H40: GLENEVEU | I40: 10:09:21 | J40: 0000 | K40: SM -> centre | L40: 42766 | M40: -84 | N40: PAI | O40: -36.12 | P40: 42766
B41: 330121680 | C41: GANT HANDLITE 200G T11 | D41: M002 | E41: 4822336842 | F41: regul ptit mag | G41: 201 | H41: GLENEVEU | I41: 10:09:21 | J41: 0000 | K41: SM -> centre | L41: 42766 | M41: -10 | N41: PAI | O41: -4.3 | P41: 42766
B42: 330121681 | C42: HONEY2232270 GANT NITRIFIT BLACK FOAM T7 | D42: M002 | E42: 4822336842 | F42: regul ptit mag | G42: 201 | H42: GLENEVEU | I42: 10:09:21 | J42: 0000 | K42: SM -> centre | L42: 42766 | M42: -10 | N42: PAI | O42: -14 | P42: 42766
B43: 330121682 | C43: HONEY2232270 GANT NITRIFIT BLACK FOAM T8 | D43: M002 | E43: 4822336842 | F43: regul ptit mag | G43: 201 | H43: GLENEVEU | I43: 10:09:21 | J43: 0000 | K43: SM -> centre | L43: 42766 | M43: -60 | N43: PAI | O43: -84 | P43: 42766
B44: 330121683 | C44: HONEY2232270 GANT NITRIFIT BLACK FOAM T9 | D44: M002 | E44: 4822336842 | F44: regul ptit mag | G44: 201 | H44: GLENEVEU | I44: 10:09:21 | J44: 0000 | K44: SM -> centre | L44: 42766 | M44: -10 | N44: PAI | O44: -14 | P44: 42766
B45: 330121684 | C45: HONEY2232270 GANT NITRIFIT BLACKFOAM T10 | D45: M002 | E45: 4822337163 | F45: regul ptit mag | G45: 201 | H45: GLENEVEU | I45: 10:11:58 | J45: 0000 | K45: SM -> centre | L45: 42766 | M45: -80 | N45: PAI | O45: -112 | P45: 42766
... B58: 330124589 | C58: HOUSSE ROUGE DIAM 30CM LONG 1.80M | D58: M002 | E58: 4822337163 | F58: regul ptit mag | G58: 201 | H58: GLENEVEU | I58: 10:11:58 | J58: 0000 | K58: SM -> centre | L58: 42766 | M58: -20 | N58: PCE | O58: -265.2 | P58: 42766
A59: 2000806 | B59: 330129306 | C59: LINGETTE MINATEX JAUNE | D59: M002 | E59: 4822344741 | F59: regul ptit mag | G59: 201 | H59: GLENEVEU | I59: 11:42:57 | J59: 0000 | K59: SM consi -> centre | L59: 42766 | M59: -150 | N59: PCE | O59: -180 | P59: 42766
B60: 330133621 | C60: DECAPANT LIQUIDE 76 BIDON 5L | D60: M002 | E60: 4822337370 | F60: regul ptit mag | G60: 201 | H60: GLENEVEU | I60: 10:13:05 | J60: 0000 | K60: SM -> centre | L60: 42766 | M60: -14 | N60: BTL | O60: 0 | P60: 42766
A61: 2021290 | B61: 330036896 | C61: DUPON COMBI TYVEK DUAL T.XL | D61: M002 | E61: 5001752753 | G61: 101 | H61: GLENEVEU | I61: 10:31:17 | J61: 0000 | K61: EM Entrée marchand. | L61: 42779 | M61: 200 | N61: PCE | O61: 792 | P61: 42779
A62: 2007883 | B62: 330044176 | C62: COMBINAISON PARTIGUARD TAILLE XL SUPER 4 | D62: M002 | E62: 5001750639 | G62: 101 | H62: GLENEVEU | I62: 14:02:03 | J62: 0000 | K62: EM Entrée marchand. | L62: 42774 | M62: 200 | N62: PCE | O62: 671.04 | P62: 42774
A63: 2007883 | B63: 330044176 | C63: COMBINAISON PARTIGUARD TAILLE XL SUPER 4 | D63: M002 | E63: 5001748562 | G63: 101 | H63: GLENEVEU | I63: 07:57:29 | J63: 0000 | K63: EM Entrée marchand. | L63: 42772 | M63: 100 | N63: PCE | O63: 335.52 | P63: 42772
A64: 2024855 | B64: 330044205 | C64: RUBAN CIRE TT100-154 | D64: M002 | E64: 5001755424 | G64: 101 | H64: GLENEVEU | I64: 11:42:49 | J64: 0000 | K64: EM Entrée marchand. | L64: 42782 | M64: 20 | N64: PCE | O64: 234.2 | P64: 42782
A65: 2024855 | B65: 330044206 | C65: ETIQUETTE GALIA ETI1 BLANCHE 148X210 | D65: M002 | E65: 5001755424 | G65: 101 | H65: GLENEVEU | I65: 11:42:49 | J65: 0000 | K65: EM Entrée marchand. | L65: 42782 | M65: 16000 | N65: PCE | O65: 310.56 | P65: 42782
A66: 2024855 | B66: 330044303 | C66: RUBAN CIRE TT 100-105 | D66: M002 | E66: 5001755424 | G66: 101 | H66: GLENEVEU | I66: 11:42:49 | J66: 0000 | K66: EM Entrée marchand. | L66: 42782 | M66: 20 | N66: PCE | O66: 148 | P66: 42782
A67: 2001535 | B67: 330044493 | C67: MASTIC JANSEN AHRWEITEX | D67: M002 | E67: 5001752748 | G67: 101 | H67: GLENEVEU | I67: 10:28:41 | J67: 0000 | K67: EM Entrée marchand. | L67: 42779 | M67: 24 | N67: PCE | O67: 268.79 | P67: 42779
A68: 2000806 | B68: 330044541 | C68: LINGETTES NOVOCLEAN GKM 16X20 | D68: M002 | E68: 5001755419 | G68: 101 | H68: GLENEVEU | I68: 11:39:13 | J68: 0000 | K68: EM -> stock consign. | L68: 42782 | M68: 20 | N68: PCE | O68: 0 | P68: 42782
A69: 2021290 | B69: 330111081 | C69: ANSEL SOLVEX PRENIUM NITRILE 37-900 T10 | D69: M002 | E69: 5001752753 | G69: 101 | H69: GLENEVEU | I69: 10:31:17 | J69: 0000 | K69: EM Entrée marchand. | L69: 42779 | M69: 40 | N69: PCE | O69: 104.8 | P69: 42779
A70: 2021290 | B70: 330120882 | C70: LEBON GTN PU G GANT TRICO ENDUIT GRIS T7 | D70: M002 | E70: 5001753788 | G70: 101 | H70: GLENEVEU | I70: 10:40:24 | J70: 0000 | K70: EM Entrée marchand. | L70: 42780 | M70: 144 | N70: PAI | O70: 61.92 | P70: 42780
A71: 2021290 | B71: 330121680 | C71: GANT HANDLITE 200G T11 | D71: M002 | E71: 5001753790 | G71: 101 | H71: GLENEVEU | I71: 10:41:52 | J71: 0000 | K71: EM Entrée marchand. | L71: 42780 | M71: 144 | N71: PAI | O71: 61.92 | P71: 42780
A72: 2021290 | B72: 330121685 | C72: HONEY2232270 GANT NITRIFIT BLACKFOAM T11 | D72: M002 | E72: 5001757542 | G72: 101 | H72: GLENEVEU | I72: 08:07:46 | J72: 0000 | K72: EM Entrée marchand. | L72: 42787 | M72: 100 | N72: PAI | O72: 140 | P72: 42787
... A82: 2021290 | B82: 330134868 | C82: MABEO_GANT CUIR BOVIN FLEUR MEGISSE T10 | D82: M002 | E82: 5001752753 | G82: 101 | H82: GLENEVEU | I82: 10:31:17 | J82: 0000 | K82: EM Entrée marchand. | L82: 42779 | M82: 30 | N82: PAI | O82: 0 | P82: 42779
B83: 330044072 | C83: BOMBE PEINTURE GRIS 619 | D83: M002 | E83: 4824193459 | F83: regul ptit mag | G83: 201 | H83: GLENEVEU | I83: 15:56:10 | J83: 0000 | K83: SM -> centre | L83: 42794 | M83: -19 | N83: PCE | O83: -212.23 | P83: 42794
B84: 330044156 | C84: CHIFFON SWEAT SHIRT COTON COULEUR | D84: M002 | E84: 4824193459 | F84: regul ptit mag | G84: 201 | H84: GLENEVEU | I84: 15:56:10 | J84: 0000 | K84: SM -> centre | L84: 42794 | M84: -40 | N84: KG | O84: -49 | P84: 42794
B85: 330044176 | C85: COMBINAISON PARTIGUARD TAILLE XL SUPER 4 | D85: M002 | E85: 4824193459 | F85: regul ptit mag | G85: 201 | H85: GLENEVEU | I85: 15:56:10 | J85: 0000 | K85: SM -> centre | L85: 42794 | M85: -500 | N85: PCE | O85: -1589.4 | P85: 42794
B86: 330044205 | C86: RUBAN CIRE TT100-154 | D86: M002 | E86: 4824193519 | F86: regul ptit mag | G86: 201 | H86: GLENEVEU | I86: 15:57:22 | J86: 0000 | K86: SM -> centre | L86: 42794 | M86: -1 | N86: PCE | O86: -11.54 | P86: 42794
B87: 330044206 | C87: ETIQUETTE GALIA ETI1 BLANCHE 148X210 | D87: M002 | E87: 4824193459 | F87: regul ptit mag | G87: 201 | H87: GLENEVEU | I87: 15:56:10 | J87: 0000 | K87: SM -> centre | L87: 42794 | M87: -1000 | N87: PCE | O87: -19.43 | P87: 42794
B88: 330044295 | C88: DISQUE ABRASIF PERFORE D150 GR400 | D88: M002 | E88: 4824193459 | F88: regul ptit mag | G88: 201 | H88: GLENEVEU | I88: 15:56:10 | J88: 0000 | K88: SM -> centre | L88: 42794 | M88: -1200 | N88: PCE | O88: -148.69 | P88: 42794
B89: 330044298 | C89: MARGUERITE DE PONCAGE SRP2500 RLX 1000 | D89: M002 | E89: 4824193459 | F89: regul ptit mag | G89: 201 | H89: GLENEVEU | I89: 15:56:10 | J89: 0000 | K89: SM -> centre | L89: 42794 | M89: -5 | N89: PCE | O89: -290.78 | P89: 42794
B90: 330044305 | C90: DEMI MASQUE FILTRES INT. JETABLE FFA2P3D | D90: M002 | E90: 4824193459 | F90: regul ptit mag | G90: 201 | H90: GLENEVEU | I90: 15:56:10 | J90: 0000 | K90: SM -> centre | L90: 42794 | M90: -17 | N90: PCE | O90: -283.14 | P90: 42794
B91: 330044490 | C91: ESSUIE NET EP15 34*31CM BLEU CART DE 400 | D91: M002 | E91: 4824193459 | F91: regul ptit mag | G91: 201 | H91: GLENEVEU | I91: 15:56:10 | J91: 0000 | K91: SM -> centre | L91: 42794 | M91: -2 | N91: PCE | O91: -85.68 | P91: 42794
B92: 330044493 | C92: MASTIC JANSEN AHRWEITEX | D92: M002 | E92: 4824193519 | F92: regul ptit mag | G92: 201 | H92: GLENEVEU | I92: 15:57:22 | J92: 0000 | K92: SM -> centre | L92: 42794 | M92: -1 | N92: PCE | O92: -11.2 | P92: 42794
B93: 330044661 | C93: ETIQ ADHES 100*30 BLANC | D93: M002 | E93: 4824193519 | F93: regul ptit mag | G93: 201 | H93: GLENEVEU | I93: 15:57:22 | J93: 0000 | K93: SM -> centre | L93: 42794 | M93: -12000 | N93: PCE | O93: -108.96 | P93: 42794
B94: 330044668 | C94: PLAQUE CONTROLE JET | D94: M002 | E94: 4824193459 | F94: regul ptit mag | G94: 201 | H94: GLENEVEU | I94: 15:56:10 | J94: 0000 | K94: SM -> centre | L94: 42794 | M94: -25 | N94: PCE | O94: -171.6 | P94: 42794
... B110: 330122008 | C110: RUBAN DE MASQUAGE 100mmX50M | D110: M002 | E110: 4824193459 | F110: regul ptit mag | G110: 201 | H110: GLENEVEU | I110: 15:56:10 | J110: 0000 | K110: SM -> centre | L110: 42794 | M110: -2 | N110: PCE | O110: -9.28 | P110: 42794
A111: 2014290 | B111: 20111625 | C111: VOLVO LABEL PART NUM 6768343 | D111: M002 | E111: 5001769698 | G111: 101 | H111: GLENEVEU | I111: 15:45:12 | J111: 0000 | K111: EM Entrée marchand. | L111: 42807 | M111: 4000 | N111: PCE | O111: 52.16 | P111: 42807
A112: 2000806 | B112: 330044541 | C112: LINGETTES NOVOCLEAN GKM 16X20 | D112: M002 | E112: 5001769682 | G112: 101 | H112: GLENEVEU | I112: 15:36:18 | J112: 0000 | K112: EM -> stock consign. | L112: 42807 | M112: 20 | N112: PCE | O112: 0 | P112: 42807
A113: 2000587 | B113: 330121838 | C113: FICHES TRONCONS | D113: M002 | E113: 5001763599 | G113: 101 | H113: CBIRON | I113: 09:20:40 | J113: 0000 | K113: EM Entrée marchand. | L113: 42796 | M113: 70000 | N113: PCE | O113: 2660 | P113: 42796
A114: 2020489 | B114: 330133621 | C114: DECAPANT LIQUIDE 76 BIDON 5L | D114: M002 | E114: 5001779589 | G114: 101 | H114: GLENEVEU | I114: 14:42:10 | J114: 0000 | K114: EM Entrée marchand. | L114: 42823 | M114: 8 | N114: BTL | O114: 0 | P114: 42823
A115: 2020489 | B115: 330133621 | C115: DECAPANT LIQUIDE 76 BIDON 5L | D115: M002 | E115: 5001771353 | G115: 101 | H115: GLENEVEU | I115: 15:38:26 | J115: 0000 | K115: EM Entrée marchand. | L115: 42809 | M115: 8 | N115: BTL | O115: 0 | P115: 42809
B116: 20111625 | C116: VOLVO LABEL PART NUM 6768343 | D116: M002 | E116: 4826371796 | F116: regul ptit mag | G116: 201 | H116: GLENEVEU | I116: 09:24:10 | J116: 0000 | K116: SM -> centre | L116: 42825 | M116: -1000 | N116: PCE | O116: -12.39 | P116: 42825
B117: 330036886 | C117: 3M MASQUE 9312 | D117: M002 | E117: 4826371796 | F117: regul ptit mag | G117: 201 | H117: GLENEVEU | I117: 09:24:10 | J117: 0000 | K117: SM -> centre | L117: 42825 | M117: -160 | N117: PCE | O117: -222.6 | P117: 42825
B118: 330036889 | C118: EUROP COUVRE CHAUSSURE 45245 | D118: M002 | E118: 4826371796 | F118: regul ptit mag | G118: 201 | H118: GLENEVEU | I118: 09:24:10 | J118: 0000 | K118: SM -> centre | L118: 42825 | M118: -1 | N118: CAR | O118: -5.91 | P118: 42825
B119: 330036896 | C119: DUPON COMBI TYVEK DUAL T.XL | D119: M002 | E119: 4826371796 | F119: regul ptit mag | G119: 201 | H119: GLENEVEU | I119: 09:24:10 | J119: 0000 | K119: SM -> centre | L119: 42825 | M119: -100 | N119: PCE | O119: -396 | P119: 42825
B120: 330044142 | C120: ETIQUETTE 1UV RVI PR 72X105 | D120: M002 | E120: 4826371553 | F120: regul ptit mag | G120: 201 | H120: GLENEVEU | I120: 09:21:41 | J120: 0000 | K120: SM -> centre | L120: 42825 | M120: -4000 | N120: PCE | O120: -48.24 | P120: 42825
B121: 330044156 | C121: CHIFFON SWEAT SHIRT COTON COULEUR | D121: M002 | E121: 4826371553 | F121: regul ptit mag | G121: 201 | H121: GLENEVEU | I121: 09:21:41 | J121: 0000 | K121: SM -> centre | L121: 42825 | M121: -40 | N121: KG | O121: -48.99 | P121: 42825
B122: 330044205 | C122: RUBAN CIRE TT100-154 | D122: M002 | E122: 4826371796 | F122: regul ptit mag | G122: 201 | H122: GLENEVEU | I122: 09:24:10 | J122: 0000 | K122: SM -> centre | L122: 42825 | M122: -1 | N122: PCE | O122: -11.54 | P122: 42825
B123: 330044206 | C123: ETIQUETTE GALIA ETI1 BLANCHE 148X210 | D123: M002 | E123: 4826371553 | F123: regul ptit mag | G123: 201 | H123: GLENEVEU | I123: 09:21:41 | J123: 0000 | K123: SM -> centre | L123: 42825 | M123: -1000 | N123: PCE | O123: -19.43 | P123: 42825
B124: 330044295 | C124: DISQUE ABRASIF PERFORE D150 GR400 | D124: M002 | E124: 4826371553 | F124: regul ptit mag | G124: 201 | H124: GLENEVEU | I124: 09:21:41 | J124: 0000 | K124: SM -> centre | L124: 42825 | M124: -1100 | N124: PCE | O124: -136.3 | P124: 42825
B125: 330044298 | C125: MARGUERITE DE PONCAGE SRP2500 RLX 1000 | D125: M002 | E125: 4826371553 | F125: regul ptit mag | G125: 201 | H125: GLENEVEU | I125: 09:21:41 | J125: 0000 | K125: SM -> centre | L125: 42825 | M125: -8 | N125: PCE | O125: -465.24 | P125: 42825
B126: 330044303 | C126: RUBAN CIRE TT 100-105 | D126: M002 | E126: 4826371796 | F126: regul ptit mag | G126: 201 | H126: GLENEVEU | I126: 09:24:10 | J126: 0000 | K126: SM -> centre | L126: 42825 | M126: -1 | N126: PCE | O126: -7.4 | P126: 42825
B127: 330044305 | C127: DEMI MASQUE FILTRES INT. JETABLE FFA2P3D | D127: M002 | E127: 4826371553 | F127: regul ptit mag | G127: 201 | H127: GLENEVEU | I127: 09:21:41 | J127: 0000 | K127: SM -> centre | L127: 42825 | M127: -12 | N127: PCE | O127: -199.86 | P127: 42825
B128: 330044493 | C128: MASTIC JANSEN AHRWEITEX | D128: M002 | E128: 4826371796 | F128: regul ptit mag | G128: 201 | H128: GLENEVEU | I128: 09:24:10 | J128: 0000 | K128: SM -> centre | L128: 42825 | M128: -2 | N128: PCE | O128: -22.4 | P128: 42825
A129: 2000806 | B129: 330044529 | C129: TAMPON ESSUYAGE IMPREGNETRX3 32/40 LT/25 | D129: M002 | E129: 4824262813 | F129: regul ptit mag | G129: 201 | H129: GLENEVEU | I129: 09:31:14 | J129: 0000 | K129: SM consi -> centre | L129: 42795 | M129: -14 | N129: PCE | O129: -882 | P129: 42795
A130: 2000806 | B130: 330044531 | C130: HOUSSE ROBOT JAUNE 20CM H C3,5KG RI 50M | D130: M002 | E130: 4824262813 | F130: regul ptit mag | G130: 201 | H130: GLENEVEU | I130: 09:31:14 | J130: 0000 | K130: SM consi -> centre | L130: 42795 | M130: -3 | N130: PCE | O130: -150.03 | P130: 42795
A131: 2000806 | B131: 330044532 | C131: HOUSSE ROBOT BLEU DECOUPEE XRC 3,60M | D131: M002 | E131: 4826374115 | F131: regul ptit mag | G131: 201 | H131: GLENEVEU | I131: 10:00:03 | J131: 0000 | K131: SM consi -> centre | L131: 42825 | M131: -2 | N131: PCE | O131: -250 | P131: 42825
A132: 2000806 | B132: 330044532 | C132: HOUSSE ROBOT BLEU DECOUPEE XRC 3,60M | D132: M002 | E132: 4824262813 | F132: regul ptit mag | G132: 201 | H132: GLENEVEU | I132: 09:31:14 | J132: 0000 | K132: SM consi -> centre | L132: 42795 | M132: -1 | N132: PCE | O132: -125 | P132: 42795
A133: 2000806 | B133: 330044541 | C133: LINGETTES NOVOCLEAN GKM 16X20 | D133: M002 | E133: 4826374115 | F133: regul ptit mag | G133: 201 | H133: GLENEVEU | I133: 10:00:03 | J133: 0000 | K133: SM consi -> centre | L133: 42825 | M133: -16 | N133: PCE | O133: -768 | P133: 42825
A134: 2000806 | B134: 330044541 | C134: LINGETTES NOVOCLEAN GKM 16X20 | D134: M002 | E134: 4824262813 | F134: regul ptit mag | G134: 201 | H134: GLENEVEU | I134: 09:31:14 | J134: 0000 | K134: SM consi -> centre | L134: 42795 | M134: -15 | N134: PCE | O134: -720 | P134: 42795
B135: 330044661 | C135: ETIQ ADHES 100*30 BLANC | D135: M002 | E135: 4826371796 | F135: regul ptit mag | G135: 201 | H135: GLENEVEU | I135: 09:24:10 | J135: 0000 | K135: SM -> centre | L135: 42825 | M135: -16000 | N135: PCE | O135: -145.28 | P135: 42825
B136: 330044668 | C136: PLAQUE CONTROLE JET | D136: M002 | E136: 4826371553 | F136: regul ptit mag | G136: 201 | H136: GLENEVEU | I136: 09:21:41 | J136: 0000 | K136: SM -> centre | L136: 42825 | M136: -25 | N136: PCE | O136: -171.6 | P136: 42825
B137: 330111108 | C137: HONEY 1011239 BOUCHONS OREILLES | D137: M002 | E137: 4826371553 | F137: regul ptit mag | G137: 201 | H137: GLENEVEU | I137: 09:21:41 | J137: 0000 | K137: SM -> centre | L137: 42825 | M137: -1 | N137: PCE | O137: -1.15 | P137: 42825
B138: 330120573 | C138: LEBON PAIRE GANT TOUT FLEUR CHEVRE T10 | D138: M002 | E138: 4826371553 | F138: regul ptit mag | G138: 201 | H138: GLENEVEU | I138: 09:21:41 | J138: 0000 | K138: SM -> centre | L138: 42825 | M138: -8 | N138: PAI | O138: -21.84 | P138: 42825
B139: 330120577 | C139: HONEY LUNETTE OP-TEMA | D139: M002 | E139: 4826371553 | F139: regul ptit mag | G139: 201 | H139: GLENEVEU | I139: 09:21:41 | J139: 0000 | K139: SM -> centre | L139: 42825 | M139: -10 | N139: PCE | O139: -32.8 | P139: 42825
B140: 330120849 | C140: MEDIP CHARLOTTE 0510808 BLANC | D140: M002 | E140: 4826371796 | F140: regul ptit mag | G140: 201 | H140: GLENEVEU | I140: 09:24:10 | J140: 0000 | K140: SM -> centre | L140: 42825 | M140: -3 | N140: CAR | O140: -7.65 | P140: 42825
B141: 330121502 | C141: LEBON GTN PU G GANT TRICO ENDUIT GRIS T8 | D141: M002 | E141: 4826371553 | F141: regul ptit mag | G141: 201 | H141: GLENEVEU | I141: 09:21:41 | J141: 0000 | K141: SM -> centre | L141: 42825 | M141: -100 | N141: PAI | O141: -43 | P141: 42825
...

Sheet TCD Global
A1: Mvt | B1: 201
A2: Saisie le | B2: (Tous)
A4: Désignation | B4: Désignation article | C4: Somme de Quantité | D4: Somme de Montant DI
A5: 20111625 | B5: VOLVO LABEL PART NUM 6768343 | C5: -5000 | D5: -61.75
A6: 330036886 | B6: 3M MASQUE 9312 | C6: -620 | D6: -862.58
A7: 330036889 | B7: EUROP COUVRE CHAUSSURE 45245 | C7: -3 | D7: -17.74
A8: 330036896 | B8: DUPON COMBI TYVEK DUAL T.XL | C8: -550 | D8: -2178
A9: 330044072 | B9: BOMBE PEINTURE GRIS 619 | C9: -25 | D9: -279.25
A10: 330044123 | B10: SUPPORT 31.7 3M 13442 | C10: -10 | D10: -41.75
A11: 330044142 | B11: ETIQUETTE 1UV RVI PR 72X105 | C11: -16000 | D11: -192.96
A12: 330044156 | B12: CHIFFON SWEAT SHIRT COTON COULEUR | C12: -380 | D12: -465.46
A13: 330044176 | B13: COMBINAISON PARTIGUARD TAILLE XL SUPER 4 | C13: -500 | D13: -1589.4
A14: 330044205 | B14: RUBAN CIRE TT100-154 | C14: -38 | D14: -438.98
A15: 330044206 | B15: ETIQUETTE GALIA ETI1 BLANCHE 148X210 | C15: -16000 | D15: -310.93
A16: 330044295 | B16: DISQUE ABRASIF PERFORE D150 GR400 | C16: -14300 | D16: -1817.31
... A89: 330134868 | B89: MABEO_GANT CUIR BOVIN FLEUR MEGISSE T10 | C89: -70 | D89: 0
A90: Total général | C90: -366107 | D90: -71686.92

Sheet Résultats
A2: Code SAP | B2: Désignation | C2: Total Quantité | D2: Total Prix
A3: 20111625 | B3: VOLVO LABEL PART NUM 6768343 | C3: =IFERROR(GETPIVOTDATA("Somme de Quantité",'TCD Global'!$A$4,"Article",$A3&"","Désignation article",$B3),0) -> -5000 | D3: =IFERROR(GETPIVOTDATA("Somme de Montant DI",'TCD Global'!$A$4,"Article",$A3&"","Désignation article",$B3),0) -> -61.75
A4: 330036886 | B4: 3M MASQUE 9312 | C4: =IFERROR(GETPIVOTDATA("Somme de Quantité",'TCD Global'!$A$4,"Article",$A4&"","Désignation article",$B4),0) -> -620 | D4: =IFERROR(GETPIVOTDATA("Somme de Montant DI",'TCD Global'!$A$4,"Article",$A4&"","Désignation article",$B4),0) -> -862.58
A5: 330036889 | B5: EUROP COUVRE CHAUSSURE 45245 | C5: =IFERROR(GETPIVOTDATA("Somme de Quantité",'TCD Global'!$A$4,"Article",$A5&"","Désignation article",$B5),0) -> -3 | D5: =IFERROR(GETPIVOTDATA("Somme de Montant DI",'TCD Global'!$A$4,"Article",$A5&"","Désignation article",$B5),0) -> -17.74
A6: 330036896 | B6: DUPON COMBI TYVEK DUAL T.XL | C6: =IFERROR(GETPIVOTDATA("Somme de Quantité",'TCD Global'!$A$4,"Article",$A6&"","Désignation article",$B6),0) -> -550 | D6: =IFERROR(GETPIVOTDATA("Somme de Montant DI",'TCD Global'!$A$4,"Article",$A6&"","Désignation article",$B6),0) -> -2178
A7: 330044072 | B7: BOMBE PEINTURE GRIS 619 | C7: =IFERROR(GETPIVOTDATA("Somme de Quantité",'TCD Global'!$A$4,"Article",$A7&"","Désignation article",$B7),0) -> -25 | D7: =IFERROR(GETPIVOTDATA("Somme de Montant DI",'TCD Global'!$A$4,"Article",$A7&"","Désignation article",$B7),0) -> -279.25
A8: 330044123 | B8: SUPPORT 31.7 3M 13442 | C8: =IFERROR(GETPIVOTDATA("Somme de Quantité",'TCD Global'!$A$4,"Article",$A8&"","Désignation article",$B8),0) -> -10 | D8: =IFERROR(GETPIVOTDATA("Somme de Montant DI",'TCD Global'!$A$4,"Article",$A8&"","Désignation article",$B8),0) -> -41.75
A9: 330044142 | B9: ETIQUETTE 1UV RVI PR 72X105 | C9: =IFERROR(GETPIVOTDATA("Somme de Quantité",'TCD Global'!$A$4,"Article",$A9&"","Désignation article",$B9),0) -> -16000 | D9: =IFERROR(GETPIVOTDATA("Somme de Montant DI",'TCD Global'!$A$4,"Article",$A9&"","Désignation article",$B9),0) -> -192.96
A10: 330044156 | B10: CHIFFON SWEAT SHIRT COTON COULEUR | C10: =IFERROR(GETPIVOTDATA("Somme de Quantité",'TCD Global'!$A$4,"Article",$A10&"","Désignation article",$B10),0) -> -380 | D10: =IFERROR(GETPIVOTDATA("Somme de Montant DI",'TCD Global'!$A$4,"Article",$A10&"","Désignation article",$B10),0) -> -465.46
A11: 330044176 | B11: COMBINAISON PARTIGUARD TAILLE XL SUPER 4 | C11: =IFERROR(GETPIVOTDATA("Somme de Quantité",'TCD Global'!$A$4,"Article",$A11&"","Désignation article",$B11),0) -> -500 | D11: =IFERROR(GETPIVOTDATA("Somme de Montant DI",'TCD Global'!$A$4,"Article",$A11&"","Désignation article",$B11),0) -> -1589.4
A12: 330044205 | B12: RUBAN CIRE TT100-154 | C12: =IFERROR(GETPIVOTDATA("Somme de Quantité",'TCD Global'!$A$4,"Article",$A12&"","Désignation article",$B12),0) -> -38 | D12: =IFERROR(GETPIVOTDATA("Somme de Montant DI",'TCD Global'!$A$4,"Article",$A12&"","Désignation article",$B12),0) -> -438.98
A13: 330044206 | B13: ETIQUETTE GALIA ETI1 BLANCHE 148X210 | C13: =IFERROR(GETPIVOTDATA("Somme de Quantité",'TCD Global'!$A$4,"Article",$A13&"","Désignation article",$B13),0) -> -16000 | D13: =IFERROR(GETPIVOTDATA("Somme de Montant DI",'TCD Global'!$A$4,"Article",$A13&"","Désignation article",$B13),0) -> -310.93
A14: 330044295 | B14: DISQUE ABRASIF PERFORE D150 GR400 | C14: =IFERROR(GETPIVOTDATA("Somme de Quantité",'TCD Global'!$A$4,"Article",$A14&"","Désignation article",$B14),0) -> -14300 | D14: =IFERROR(GETPIVOTDATA("Somme de Montant DI",'TCD Global'!$A$4,"Article",$A14&"","Désignation article",$B14),0) -> -1817.31
... A97: 330144964 | B97: FILM PELABLE AQUEUX BLANC BIDON 30KG | C97: =IFERROR(GETPIVOTDATA("Somme de Quantité",'TCD Global'!$A$4,"Article",$A97&"","Désignation article",$B97),0) -> 0 | D97: =IFERROR(GETPIVOTDATA("Somme de Montant DI",'TCD Global'!$A$4,"Article",$A97&"","Désignation article",$B97),0) -> 0

Sheet Synthèse 2017
A1: Synthèse 2017
Q3: Mvt | R3: 201
O4: Conso moyenne / mois
A5: Code Sap | B5: Désignation | C5: Janvier | D5: Février | E5: Mars | F5: Avril | G5: Mai | H5: Juin | I5: Juillet | J5: Août | K5: Septembre | L5: Octobre | M5: Novembre | N5: Décembre | Q5: Somme de Quantité | S5: Années | T5: Saisie le
A6: 20111625 | B6: VOLVO LABEL PART NUM 6768343 | O6: =AVERAGE(C6:N6) -> #DIV/0! | S6: 2017 | AD6: Moyenne 2017
A7: 330036886 | B7: 3M MASQUE 9312 | O7: =AVERAGE(C7:N7) -> #DIV/0! | Q7: Article | R7: Désignation article | S7: janv | T7: févr | U7: mars | V7: avr | W7: mai | X7: juin | Y7: août | Z7: sept | AA7: oct | AB7: nov | AC7: déc
A8: 330036889 | B8: EUROP COUVRE CHAUSSURE 45245 | O8: =AVERAGE(C8:N8) -> #DIV/0! | Q8: 20111625 | R8: VOLVO LABEL PART NUM 6768343 | U8: -1000 | V8: -1000 | X8: -1000 | Z8: -200 | AB8: -1800 | AD8: -1000
A9: 330036896 | B9: DUPON COMBI TYVEK DUAL T.XL | O9: =AVERAGE(C9:N9) -> #DIV/0! | Q9: 330036886 | R9: 3M MASQUE 9312 | S9: -250 | U9: -160 | V9: -130 | W9: -80 | AD9: -155
A10: 330044072 | B10: BOMBE PEINTURE GRIS 619 | O10: =AVERAGE(C10:N10) -> #DIV/0! | Q10: 330036889 | R10: EUROP COUVRE CHAUSSURE 45245 | U10: -1 | V10: -2 | AD10: -1.5
A11: 330044123 | B11: SUPPORT 31.7 3M 13442 | O11: =AVERAGE(C11:N11) -> #DIV/0! | Q11: 330036896 | R11: DUPON COMBI TYVEK DUAL T.XL | S11: -60 | U11: -100 | V11: -27 | W11: -65 | X11: -78 | Z11: -100 | AA11: -20 | AB11: -60 | AC11: -40 | AD11: -61.111111
A12: 330044142 | B12: ETIQUETTE 1UV RVI PR 72X105 | O12: =AVERAGE(C12:N12) -> #DIV/0! | Q12: 330044072 | R12: BOMBE PEINTURE GRIS 619 | T12: -19 | AA12: -6 | AD12: -12.5
A13: 330044156 | B13: CHIFFON SWEAT SHIRT COTON COULEUR | O13: =AVERAGE(C13:N13) -> #DIV/0! | Q13: 330044123 | R13: SUPPORT 31.7 3M 13442 | AB13: -10 | AD13: -10
A14: 330044176 | B14: COMBINAISON PARTIGUARD TAILLE XL SUPER 4 | O14: =AVERAGE(C14:N14) -> #DIV/0! | Q14: 330044142 | R14: ETIQUETTE 1UV RVI PR 72X105 | U14: -4000 | X14: -4000 | AA14: -4000 | AC14: -4000 | AD14: -4000
A15: 330044205 | B15: RUBAN CIRE TT100-154 | O15: =AVERAGE(C15:N15) -> #DIV/0! | Q15: 330044156 | R15: CHIFFON SWEAT SHIRT COTON COULEUR | S15: -50 | T15: -40 | U15: -40 | W15: -40 | X15: -40 | Z15: -70 | AA15: -100 | AD15: -54.285714
A16: 330044206 | B16: ETIQUETTE GALIA ETI1 BLANCHE 148X210 | O16: =AVERAGE(C16:N16) -> #DIV/0! | Q16: 330044176 | R16: COMBINAISON PARTIGUARD TAILLE XL SUPER 4 | T16: -500 | AD16: -500
A17: 330044295 | B17: DISQUE ABRASIF PERFORE D150 GR400 | O17: =AVERAGE(C17:N17) -> #DIV/0! | Q17: 330044205 | R17: RUBAN CIRE TT100-154 | S17: -2 | T17: -1 | U17: -1 | W17: -2 | Z17: -12 | AC17: -20 | AD17: -6.3333333
A18: 330044298 | B18: MARGUERITE DE PONCAGE SRP2500 RLX 1000 | O18: =AVERAGE(C18:N18) -> #DIV/0! | Q18: 330044206 | R18: ETIQUETTE GALIA ETI1 BLANCHE 148X210 | S18: -1000 | T18: -1000 | U18: -1000 | V18: -1000 | W18: -2000 | X18: -2000 | Z18: -3000 | AA18: -2000 | AB18: -3000 | AD18: -1777.7778
A19: 330044303 | B19: RUBAN CIRE TT 100-105 | O19: =AVERAGE(C19:N19) -> #DIV/0! | Q19: 330044295 | R19: DISQUE ABRASIF PERFORE D150 GR400 | S19: -1400 | T19: -1200 | U19: -1100 | V19: -700 | W19: -1300 | X19: -1200 | Z19: -2800 | AA19: -1600 | AB19: -2000 | AC19: -1000 | AD19: -1430
A20: 330044305 | B20: DEMI MASQUE FILTRES INT. JETABLE FFA2P3D | O20: =AVERAGE(C20:N20) -> #DIV/0! | Q20: 330044298 | R20: MARGUERITE DE PONCAGE SRP2500 RLX 1000 | S20: -6 | T20: -5 | U20: -8 | V20: -7 | W20: -5 | X20: -10 | Z20: -16 | AA20: -9 | AB20: -10 | AD20: -8.4444444
A21: 330044490 | B21: ESSUIE NET EP15 34*31CM BLEU CART DE 400 | O21: =AVERAGE(C21:N21) -> #DIV/0! | Q21: 330044303 | R21: RUBAN CIRE TT 100-105 | S21: -2 | U21: -1 | W21: -1 | Z21: -3 | AD21: -1.75
A22: 330044493 | B22: MASTIC JANSEN AHRWEITEX | O22: =AVERAGE(C22:N22) -> #DIV/0! | Q22: 330044305 | R22: DEMI MASQUE FILTRES INT. JETABLE FFA2P3D | S22: -22 | T22: -17 | U22: -12 | V22: -11 | W22: -13 | X22: -11 | Z22: -36 | AA22: -25 | AB22: -22 | AC22: -15 | AD22: -18.4
A23: 330044529 | B23: TAMPON ESSUYAGE IMPREGNETRX3 32/40 LT/25 | O23: =AVERAGE(C23:N23) -> #DIV/0! | Q23: 330044490 | R23: ESSUIE NET EP15 34*31CM BLEU CART DE 400 | T23: -2 | Z23: -1 | AD23: -1.5
A24: 330044531 | B24: HOUSSE ROBOT JAUNE 20CM H C3,5KG RI 50M | O24: =AVERAGE(C24:N24) -> #DIV/0! | Q24: 330044493 | R24: MASTIC JANSEN AHRWEITEX | S24: -1 | T24: -1 | U24: -2 | W24: -2 | X24: -3 | Z24: -4 | AB24: -6 | AD24: -2.7142857
A25: 330044532 | B25: HOUSSE ROBOT BLEU DECOUPEE XRC 3,60M | O25: =AVERAGE(C25:N25) -> #DIV/0! | Q25: 330044529 | R25: TAMPON ESSUYAGE IMPREGNETRX3 32/40 LT/25 | S25: -5 | U25: -14 | V25: -1 | X25: -2 | Y25: -4 | Z25: -7 | AA25: -1 | AB25: -5 | AC25: -23 | AD25: -6.8888889
A26: 330044541 | B26: LINGETTES NOVOCLEAN GKM 16X20 | O26: =AVERAGE(C26:N26) -> #DIV/0! | Q26: 330044531 | R26: HOUSSE ROBOT JAUNE 20CM H C3,5KG RI 50M | S26: -3 | U26: -3 | W26: -4 | X26: -3 | Y26: -1 | Z26: -2 | AA26: -2 | AB26: -4 | AD26: -2.75
A27: 330044661 | B27: ETIQ ADHES 100*30 BLANC | O27: =AVERAGE(C27:N27) -> #DIV/0! | Q27: 330044532 | R27: HOUSSE ROBOT BLEU DECOUPEE XRC 3,60M | S27: -2 | U27: -3 | W27: -2 | X27: -2 | Y27: -2 | Z27: -1 | AA27: -2 | AB27: -2 | AD27: -1.7777778
A28: 330044668 | B28: PLAQUE CONTROLE JET | O28: =AVERAGE(C28:N28) -> #DIV/0! | Q28: 330044541 | R28: LINGETTES NOVOCLEAN GKM 16X20 | S28: -20 | U28: -31 | V28: -14 | W28: -16 | X28: -24 | Y28: -19 | Z28: -20 | AA28: -18 | AB28: -17 | AC28: -10 | AD28: -17.181818
A29: 330105818 | B29: T2S GILET HTE VIS.JAUNE CL2 TU | O29: =AVERAGE(C29:N29) -> #DIV/0! | Q29: 330044661 | R29: ETIQ ADHES 100*30 BLANC | S29: -20000 | T29: -12000 | U29: -16000 | V29: -16000 | W29: -12000 | X29: -32000 | Z29: -8000 | AA29: -36000 | AB29: -16000 | AC29: -16000 | AD29: -18400
A30: 330111081 | B30: ANSEL SOLVEX PRENIUM NITRILE 37-900 T10 | O30: =AVERAGE(C30:N30) -> #DIV/0! | Q30: 330044668 | R30: PLAQUE CONTROLE JET | S30: -25 | T30: -25 | U30: -25 | V30: -100 | Z30: -75 | AA30: -25 | AB30: -50 | AC30: -25 | AD30: -43.75
A31: 330111108 | B31: HONEY 1011239 BOUCHONS OREILLES | O31: =AVERAGE(C31:N31) -> #DIV/0! | Q31: 330105818 | R31: T2S GILET HTE VIS.JAUNE CL2 TU | Z31: -30 | AC31: -33 | AD31: -31.5
A32: 330120573 | B32: LEBON PAIRE GANT TOUT FLEUR CHEVRE T10 | O32: =AVERAGE(C32:N32) -> #DIV/0! | Q32: 330111081 | R32: ANSEL SOLVEX PRENIUM NITRILE 37-900 T10 | S32: -15 | T32: -21 | V32: -4 | W32: -3 | X32: -7 | Z32: -30 | AA32: -6 | AB32: -14 | AD32: -12.5
A33: 330120577 | B33: HONEY LUNETTE OP-TEMA | O33: =AVERAGE(C33:N33) -> #DIV/0! | Q33: 330111108 | R33: HONEY 1011239 BOUCHONS OREILLES | U33: -1 | V33: -1 | W33: -147 | Z33: -148 | AC33: -1 | AD33: -59.6
A34: 330120849 | B34: MEDIP CHARLOTTE 0510808 BLANC | O34: =AVERAGE(C34:N34) -> #DIV/0! | Q34: 330120573 | R34: LEBON PAIRE GANT TOUT FLEUR CHEVRE T10 | S34: -22 | U34: -8 | AB34: -20 | AD34: -16.666667
A35: 330120882 | B35: LEBON GTN PU G GANT TRICO ENDUIT GRIS T7 | O35: =AVERAGE(C35:N35) -> #DIV/0! | Q35: 330120577 | R35: HONEY LUNETTE OP-TEMA | S35: -11 | T35: -30 | U35: -10 | V35: -28 | W35: -12 | X35: -30 | Z35: -40 | AA35: -30 | AC35: -10 | AD35: -22.333333
A36: 330120885 | B36: LEBON GTN PU G GANT TRICO ENDUIT GRIS T9 | O36: =AVERAGE(C36:N36) -> #DIV/0! | Q36: 330120849 | R36: MEDIP CHARLOTTE 0510808 BLANC | U36: -3 | W36: -3 | X36: -1 | AD36: -2.3333333
A37: 330121073 | B37: SEMELLE IMAGE 0182VS P40 | O37: =AVERAGE(C37:N37) -> #DIV/0! | Q37: 330120882 | R37: LEBON GTN PU G GANT TRICO ENDUIT GRIS T7 | AA37: -4 | AB37: -10 | AC37: -10 | AD37: -8
A38: 330121074 | B38: SEMELLE IMAGE 0182VS P41 | O38: =AVERAGE(C38:N38) -> #DIV/0! | Q38: 330120885 | R38: LEBON GTN PU G GANT TRICO ENDUIT GRIS T9 | S38: -84 | T38: -74 | V38: -4 | W38: -32 | X38: -84 | Z38: -156 | AA38: -94 | AB38: -10 | AC38: -30 | AD38: -63.111111
A39: 330121075 | B39: SEMELLE IMAGE 0182VS P42 | O39: =AVERAGE(C39:N39) -> #DIV/0! | Q39: 330121502 | R39: LEBON GTN PU G GANT TRICO ENDUIT GRIS T8 | S39: -84 | T39: -60 | U39: -100 | V39: -100 | W39: -100 | X39: -110 | Z39: -80 | AA39: -260 | AB39: -48 | AC39: -72 | AD39: -101.4
A40: 330121077 | B40: SEMELLE IMAGE 0182VS P43 | O40: =AVERAGE(C40:N40) -> #DIV/0! | Q40: 330121679 | R40: LEBON GTN PU G GANT TRCO ENDUIT GRIS T10 | U40: -60 | V40: -40 | W40: -26 | X40: -70 | Z40: -44 | AA40: -26 | AB40: -26 | AC40: -168 | AD40: -57.5
A41: 330121078 | B41: SEMELLE IMAGE 0182VS P44 | O41: =AVERAGE(C41:N41) -> #DIV/0! | Q41: 330121680 | R41: GANT HANDLITE 200G T11 | S41: -10 | V41: -4 | X41: -36 | AB41: -44 | AD41: -23.5
A42: 330121079 | B42: SEMELLE IMAGE 0182VS P45 | O42: =AVERAGE(C42:N42) -> #DIV/0! | Q42: 330121681 | R42: HONEY2232270 GANT NITRIFIT BLACK FOAM T7 | S42: -10 | T42: -10 | U42: -20 | V42: -10 | W42: -10 | X42: -20 | Z42: -50 | AA42: -30 | AB42: -40 | AC42: -20 | AD42: -22
A43: 330121502 | B43: LEBON GTN PU G GANT TRICO ENDUIT GRIS T8 | O43: =AVERAGE(C43:N43) -> #DIV/0! | Q43: 330121682 | R43: HONEY2232270 GANT NITRIFIT BLACK FOAM T8 | S43: -60 | T43: -160 | V43: -76 | W43: -90 | X43: -60 | Z43: -50 | AA43: -90 | AB43: -80 | AD43: -83.25
A44: 330121679 | B44: LEBON GTN PU G GANT TRCO ENDUIT GRIS T10 | O44: =AVERAGE(C44:N44) -> #DIV/0! | Q44: 330121683 | R44: HONEY2232270 GANT NITRIFIT BLACK FOAM T9 | S44: -10 | T44: -100 | U44: -90 | V44: -70 | W44: -60 | X44: -120 | Z44: -160 | AA44: -100 | AB44: -80 | AC44: -70 | AD44: -86
A45: 330121680 | B45: GANT HANDLITE 200G T11 | O45: =AVERAGE(C45:N45) -> #DIV/0! | Q45: 330121684 | R45: HONEY2232270 GANT NITRIFIT BLACKFOAM T10 | S45: -80 | T45: -50 | U45: -70 | V45: -50 | W45: -70 | X45: -100 | Z45: -170 | AA45: -40 | AB45: -40 | AC45: -30 | AD45: -70
A46: 330121681 | B46: HONEY2232270 GANT NITRIFIT BLACK FOAM T7 | O46: =AVERAGE(C46:N46) -> #DIV/0! | Q46: 330121685 | R46: HONEY2232270 GANT NITRIFIT BLACKFOAM T11 | S46: -90 | T46: -40 | U46: -40 | V46: -26 | W46: -24 | X46: -110 | Z46: -10 | AA46: -50 | AB46: -20 | AC46: -40 | AD46: -45
A47: 330121682 | B47: HONEY2232270 GANT NITRIFIT BLACK FOAM T8 | O47: =AVERAGE(C47:N47) -> #DIV/0! | Q47: 330121838 | R47: FICHES TRONCONS | S47: -4000 | T47: -3000 | U47: -75500 | V47: -2500 | W47: -3000 | X47: -6000 | Z47: -9500 | AA47: -3500 | AB47: -5500 | AC47: -3000 | AD47: -11550
A48: 330121683 | B48: HONEY2232270 GANT NITRIFIT BLACK FOAM T9 | O48: =AVERAGE(C48:N48) -> #DIV/0! | Q48: 330121984 | R48: DISQUE ABRASIF D76 GRAIN 1500 | T48: -150 | U48: -100 | V48: -50 | Z48: -200 | AA48: -350 | AC48: -150 | AD48: -166.66667
A49: 330121684 | B49: HONEY2232270 GANT NITRIFIT BLACKFOAM T10 | O49: =AVERAGE(C49:N49) -> #DIV/0! | Q49: 330121985 | R49: DISQUE ABRASIF D76 GRAIN 180 | V49: -100 | X49: -50 | Z49: -200 | AA49: -150 | AD49: -125
A50: 330121685 | B50: HONEY2232270 GANT NITRIFIT BLACKFOAM T11 | O50: =AVERAGE(C50:N50) -> #DIV/0! | Q50: 330121986 | R50: DISQUE ABRASIF D150 GRAIN 240 | S50: -100 | X50: -300 | Z50: -200 | AA50: -100 | AD50: -175
A51: 330121838 | B51: FICHES TRONCONS | O51: =AVERAGE(C51:N51) -> #DIV/0! | Q51: 330121987 | R51: DISQUE ABRASIF D150 GRAIN 150 | S51: -200 | W51: -100 | X51: -100 | Z51: -300 | AC51: -200 | AD51: -180
A52: 330121984 | B52: DISQUE ABRASIF D76 GRAIN 1500 | O52: =AVERAGE(C52:N52) -> #DIV/0! | Q52: 330121988 | R52: HOOKIT TRIZACT P3000 3M | S52: -60 | U52: -15 | W52: -30 | Z52: -60 | AA52: -30 | AD52: -39
A53: 330121985 | B53: DISQUE ABRASIF D76 GRAIN 180 | O53: =AVERAGE(C53:N53) -> #DIV/0! | Q53: 330121991 | R53: RUBAN DE MASQUAGE 50mmX50M | S53: -23 | T53: -7 | U53: -22 | V53: -13 | Z53: -47 | AA53: -25 | AB53: -17 | AC53: -31 | AD53: -23.125
A54: 330121986 | B54: DISQUE ABRASIF D150 GRAIN 240 | O54: =AVERAGE(C54:N54) -> #DIV/0! | Q54: 330121992 | R54: LIQUIDE POLISSAGE 3M 51052 | S54: -5 | T54: -3 | U54: -6 | V54: -6 | W54: -6 | X54: -11 | Z54: -12 | AA54: -4 | AB54: -4 | AC54: -8 | AD54: -6.5
A55: 330121987 | B55: DISQUE ABRASIF D150 GRAIN 150 | O55: =AVERAGE(C55:N55) -> #DIV/0! | Q55: 330121993 | R55: SCOTCH BRITE 3M 07522 | S55: -4 | T55: -5 | U55: -4 | V55: -3 | W55: -6 | X55: -6 | Z55: -17 | AA55: -5 | AB55: -5 | AC55: -2 | AD55: -5.7
A56: 330121988 | B56: HOOKIT TRIZACT P3000 3M | O56: =AVERAGE(C56:N56) -> #DIV/0! | Q56: 330121994 | R56: MOUS NOIRE POLIS HERMES D150 | S56: -3 | U56: -12 | V56: -3 | W56: -6 | X56: -6 | AA56: -12 | AB56: -9 | AC56: -3 | AD56: -6.75
A57: 330121990 | B57: LIQUIDE DE LUSTRAGE 3M 80349 | O57: =AVERAGE(C57:N57) -> #DIV/0! | Q57: 330121995 | R57: MOUS VERTE POLIS 3M 50487 | S57: -34 | T57: -30 | U57: -22 | V57: -20 | W57: -16 | X57: -40 | Z57: -30 | AA57: -10 | AB57: -24 | AC57: -110 | AD57: -33.6
A58: 330121991 | B58: RUBAN DE MASQUAGE 50mmX50M | O58: =AVERAGE(C58:N58) -> #DIV/0! | Q58: 330121998 | R58: JEUX DE CALES A MASTIC | AA58: -6 | AB58: -2 | AC58: -1 | AD58: -3
A59: 330121992 | B59: LIQUIDE POLISSAGE 3M 51052 | O59: =AVERAGE(C59:N59) -> #DIV/0! | Q59: 330122007 | R59: RUBAN DE MASQUAGE 25mmX50M | S59: -13 | W59: -17 | X59: -12 | Z59: -39 | AA59: -24 | AB59: -17 | AC59: -47 | AD59: -24.142857
A60: 330121993 | B60: SCOTCH BRITE 3M 07522 | O60: =AVERAGE(C60:N60) -> #DIV/0! | Q60: 330122008 | R60: RUBAN DE MASQUAGE 100mmX50M | S60: -8 | T60: -2 | W60: -2 | Z60: -15 | AA60: -23 | AD60: -10
A61: 330121994 | B61: MOUS NOIRE POLIS HERMES D150 | O61: =AVERAGE(C61:N61) -> #DIV/0! | Q61: 330122140 | R61: CHAUSSURE MAYA BASSE T38 FEMME | X61: -2 | AD61: -2
A62: 330121995 | B62: MOUS VERTE POLIS 3M 50487 | O62: =AVERAGE(C62:N62) -> #DIV/0! | Q62: 330122141 | R62: CHAUSSURE MAYA BASSE T39 FEMME | X62: -2 | AD62: -2
A63: 330121998 | B63: JEUX DE CALES A MASTIC | O63: =AVERAGE(C63:N63) -> #DIV/0! | Q63: 330122142 | R63: CHAUSSURE MAYA BASSE T40 FEMME | X63: -3 | AD63: -3
A64: 330122007 | B64: RUBAN DE MASQUAGE 25mmX50M | O64: =AVERAGE(C64:N64) -> #DIV/0! | Q64: 330122153 | R64: CHAUSSURE BALTIX BASSE T43 MIXTE | AC64: -2 | AD64: -2
A65: 330122008 | B65: RUBAN DE MASQUAGE 100mmX50M | O65: =AVERAGE(C65:N65) -> #DIV/0! | Q65: 330122154 | R65: CHAUSSURE BALTIX BASSE T44 MIXTE | AC65: -9 | AD65: -9
A66: 330122140 | B66: CHAUSSURE MAYA BASSE T38 FEMME | O66: =AVERAGE(C66:N66) -> #DIV/0! | Q66: 330122155 | R66: CHAUSSURE BALTIX BASSE T45 MIXTE | AC66: -6 | AD66: -6
A67: 330122141 | B67: CHAUSSURE MAYA BASSE T39 FEMME | O67: =AVERAGE(C67:N67) -> #DIV/0! | Q67: 330122156 | R67: CHAUSSURE BALTIX BASSE T46 MIXTE | AC67: -1 | AD67: -1
A68: 330122142 | B68: CHAUSSURE MAYA BASSE T40 FEMME | O68: =AVERAGE(C68:N68) -> #DIV/0! | Q68: 330122162 | R68: CHAUSSURE ZEPHIR BASSE S1P T40 MIXTE | AC68: -2 | AD68: -2
A69: 330122153 | B69: CHAUSSURE BALTIX BASSE T43 MIXTE | O69: =AVERAGE(C69:N69) -> #DIV/0! | Q69: 330122163 | R69: CHAUSSURE ZEPHIR BASSE S1P T41 MIXTE | V69: -8 | X69: -5 | AC69: -4 | AD69: -5.6666667
A70: 330122154 | B70: CHAUSSURE BALTIX BASSE T44 MIXTE | O70: =AVERAGE(C70:N70) -> #DIV/0! | Q70: 330122164 | R70: CHAUSSURE ZEPHIR BASSE S1P T42 MIXTE | V70: -10 | X70: -5 | AC70: -6 | AD70: -7
A71: 330122155 | B71: CHAUSSURE BALTIX BASSE T45 MIXTE | O71: =AVERAGE(C71:N71) -> #DIV/0! | Q71: 330122165 | R71: CHAUSSURE ZEPHIR BASSE S1P T43 MIXTE | V71: -7 | X71: -5 | AC71: -6 | AD71: -6
A72: 330122156 | B72: CHAUSSURE BALTIX BASSE T46 MIXTE | O72: =AVERAGE(C72:N72) -> #DIV/0! | Q72: 330122166 | R72: CHAUSSURE ZEPHIR BASSE S1P T44 MIXTE | V72: -7 | X72: -5 | AC72: -6 | AD72: -6
A73: 330122162 | B73: CHAUSSURE ZEPHIR BASSE S1P T40 MIXTE | O73: =AVERAGE(C73:N73) -> #DIV/0! | Q73: 330122167 | R73: CHAUSSURE ZEPHIR BASSE S1P T45 MIXTE | V73: -7 | X73: -3 | AC73: -5 | AD73: -5
A74: 330122163 | B74: CHAUSSURE ZEPHIR BASSE S1P T41 MIXTE | O74: =AVERAGE(C74:N74) -> #DIV/0! | Q74: 330122173 | R74: CHAUSSURE AERO BASSE S1P T41 HOMME | AC74: -2 | AD74: -2
A75: 330122164 | B75: CHAUSSURE ZEPHIR BASSE S1P T42 MIXTE | O75: =AVERAGE(C75:N75) -> #DIV/0! | Q75: 330122174 | R75: CHAUSSURE AERO BASSE S1P T42 HOMME | AC75: -7 | AD75: -7
A76: 330122165 | B76: CHAUSSURE ZEPHIR BASSE S1P T43 MIXTE | O76: =AVERAGE(C76:N76) -> #DIV/0! | Q76: 330122175 | R76: CHAUSSURE AERO BASSE S1P T43 HOMME | AC76: -7 | AD76: -7
A77: 330122166 | B77: CHAUSSURE ZEPHIR BASSE S1P T44 MIXTE | O77: =AVERAGE(C77:N77) -> #DIV/0! | Q77: 330122176 | R77: CHAUSSURE AERO BASSE S1P T44 HOMME | V77: -8 | AC77: -3 | AD77: -5.5
A78: 330122167 | B78: CHAUSSURE ZEPHIR BASSE S1P T45 MIXTE | O78: =AVERAGE(C78:N78) -> #DIV/0! | Q78: 330122177 | R78: CHAUSSURE AERO BASSE S1P T45 HOMME | AC78: -5 | AD78: -5
A79: 330122173 | B79: CHAUSSURE AERO BASSE S1P T41 HOMME | O79: =AVERAGE(C79:N79) -> #DIV/0! | Q79: 330122203 | R79: CHAUSSURE SPEEDFOX HAUTE S3 T42 HOMME | AC79: -1 | AD79: -1
A80: 330122174 | B80: CHAUSSURE AERO BASSE S1P T42 HOMME | O80: =AVERAGE(C80:N80) -> #DIV/0! | Q80: 330122204 | R80: CHAUSSURE SPEEDFOX HAUTE S3 T43 HOMME | AC80: -1 | AD80: -1
A81: 330122175 | B81: CHAUSSURE AERO BASSE S1P T43 HOMME | O81: =AVERAGE(C81:N81) -> #DIV/0! | Q81: 330122211 | R81: CHAUSSURE ORION T41 MOCASSIN CUIR H | X81: -2 | AD81: -2
A82: 330122176 | B82: CHAUSSURE AERO BASSE S1P T44 HOMME | O82: =AVERAGE(C82:N82) -> #DIV/0! | Q82: 330122212 | R82: CHAUSSURE ORION T42 MOCASSIN CUIR H | X82: -4 | AD82: -4
A83: 330122177 | B83: CHAUSSURE AERO BASSE S1P T45 HOMME | O83: =AVERAGE(C83:N83) -> #DIV/0! | Q83: 330122213 | R83: CHAUSSURE ORION T43 MOCASSIN CUIR H | X83: -4 | AD83: -4
A84: 330122203 | B84: CHAUSSURE SPEEDFOX HAUTE S3 T42 HOMME | O84: =AVERAGE(C84:N84) -> #DIV/0! | Q84: 330122214 | R84: CHAUSSURE ORION T44 MOCASSIN CUIR H | X84: -3 | AD84: -3
A85: 330122204 | B85: CHAUSSURE SPEEDFOX HAUTE S3 T43 HOMME | O85: =AVERAGE(C85:N85) -> #DIV/0! | Q85: 330122215 | R85: CHAUSSURE ORION T45 MOCASSIN CUIR H | X85: -4 | AD85: -4
A86: 330122211 | B86: CHAUSSURE ORION T41 MOCASSIN CUIR H | O86: =AVERAGE(C86:N86) -> #DIV/0! | Q86: 330122250 | R86: CHAUSSURE SIRIUS BASSE S3 T43 HOMME | X86: -2 | AD86: -2
A87: 330122212 | B87: CHAUSSURE ORION T42 MOCASSIN CUIR H | O87: =AVERAGE(C87:N87) -> #DIV/0! | Q87: 330123517 | R87: LUSTRANT 3M ULTRAFINA BOUCHON BLEU 50383 | U87: -4 | V87: -3 | W87: -10 | Z87: -2 | AB87: -3 | AD87: -4.4
A88: 330122213 | B88: CHAUSSURE ORION T43 MOCASSIN CUIR H | O88: =AVERAGE(C88:N88) -> #DIV/0! | Q88: 330123537 | R88: GANT BARRIER 02100 T10 104103P PR DECAPA | Z88: -29 | AD88: -29
A89: 330122214 | B89: CHAUSSURE ORION T44 MOCASSIN CUIR H | O89: =AVERAGE(C89:N89) -> #DIV/0! | Q89: 330124589 | R89: HOUSSE ROUGE DIAM 30CM LONG 1.80M | S89: -20 | U89: -80 | V89: -100 | Z89: -100 | AA89: -50 | AD89: -70
A90: 330122215 | B90: CHAUSSURE ORION T45 MOCASSIN CUIR H | O90: =AVERAGE(C90:N90) -> #DIV/0! | Q90: 330129306 | R90: LINGETTE MINATEX JAUNE | S90: -150 | U90: -160 | V90: -190 | W90: -176 | X90: -144 | Y90: -240 | Z90: -130 | AA90: -100 | AB90: -120 | AC90: -80 | AD90: -135.45455
A91: 330122250 | B91: CHAUSSURE SIRIUS BASSE S3 T43 HOMME | O91: =AVERAGE(C91:N91) -> #DIV/0! | Q91: 330133621 | R91: DECAPANT LIQUIDE 76 BIDON 5L | S91: -14 | U91: -13 | V91: -15 | W91: -6 | X91: -8 | Z91: -40 | AB91: -16 | AC91: -16 | AD91: -16
A92: 330123517 | B92: LUSTRANT 3M ULTRAFINA BOUCHON BLEU 50383 | O92: =AVERAGE(C92:N92) -> #DIV/0! | Q92: 330134868 | R92: MABEO_GANT CUIR BOVIN FLEUR MEGISSE T10 | V92: -15 | W92: -14 | X92: -27 | Z92: -14 | AD92: -17.5
A93: 330123537 | B93: GANT BARRIER 02100 T10 104103P PR DECAPA | O93: =AVERAGE(C93:N93) -> #DIV/0! | Q93: Total général | S93: -27958 | T93: -18552 | U93: -99841 | V93: -22470 | W93: -19496 | X93: -47874 | Y93: -266 | Z93: -26250 | AA93: -48927 | AB93: -29135 | AC93: -25338 | AD93: -861.42824
A94: 330124589 | B94: HOUSSE ROUGE DIAM 30CM LONG 1.80M | O94: =AVERAGE(C94:N94) -> #DIV/0!
A95: 330127894 | B95: ANTI ADHERANT CABINE 415 BIDON 30L | O95: =AVERAGE(C95:N95) -> #DIV/0!
A96: 330129306 | B96: LINGETTE MINATEX JAUNE | O96: =AVERAGE(C96:N96) -> #DIV/0!
A97: 330133621 | B97: DECAPANT LIQUIDE 76 BIDON 5L | O97: =AVERAGE(C97:N97) -> #DIV/0!
A98: 330134868 | B98: MABEO_GANT CUIR BOVIN FLEUR MEGISSE T10 | O98: =AVERAGE(C98:N98) -> #DIV/0!
A99: 330138663 | B99: COUTEAU JETABLE CENON ORANGE MABEO | O99: =AVERAGE(C99:N99) -> #DIV/0!
A100: 330144964 | B100: FILM PELABLE AQUEUX BLANC BIDON 30KG | O100: =AVERAGE(C100:N100) -> #DIV/0!
B102: Total par mois | C102: =SUM(C6:C100) -> 0 | D102: =SUM(D6:D100) -> 0 | E102: =SUM(E6:E100) -> 0 | F102: =SUM(F6:F100) -> 0 | G102: =SUM(G6:G100) -> 0 | H102: =SUM(H6:H100) -> 0 | I102: =SUM(I6:I100) -> 0 | J102: =SUM(J6:J100) -> 0 | ... N102: =SUM(N6:N100) -> 0
...
