Workbook
Name ID: Tableau!$B$4:$B$5

Sheet Tableau
A3: Secteur | B3: N° | C3: Type | D3: Marque | E3: Ø | F3: Adresse | G3: Date | H3: Nom de l'agent | I3: Pression statique du réseau (bar) | J3: Débit / pression en écoulement libre | K3: Débit à 1 bar (m3/h) | L3: Débit à 0,6 bar (m3/h) | M3: Anomalies constatées | N3: Visibilité | O3: Accessibilité | P3: Peinture
A4: 13 | B4: 10148 | C4: Bouche | D4: Bayard | E4: 100 | F4: adresse de l'hydrant | G4: 43425 | H4: TP | I4: 2.5 | J4: 94 | K4: 60 | M4: Peinture en mauvais état | N4: Oui | O4: Oui | P4: Défaut
A5: 53 | B5: 10867 | C5: Bouche | D5: Bayard | E5: 100 | F5: adresse de l'hydrant | G5: 43431 | H5: TP-SR | I5: 2 | J5: 40 | K5: 22 | M5: Peinture mauvaise état, carré manoeuvre difficile à ouvrir et charnière cassée | N5: Oui | O5: Oui | P5: Défaut

Sheet Modele
A4: CONTRÔLE DE PERFORMANCE HYDRAULIQUE | K4: CONTRÔLE DE PERFORMANCE HYDRAULIQUE
F5: Secteur | G5: =INDEX(Donnees[],MATCH(Modele!$A$14,ID,0),1) -> 13 | P5: Secteur | Q5: =G5 -> 13
D7: PHOTO | K7: Hydrant
K8: N° | L8: Type | M8: Marque | N8: Ø | O8: Adresse
K9: =A14 -> 10148 | L9: =B14 -> Bouche | M9: =C14 -> Bayard | N9: =D14 -> 100 | O9: =E14 -> adresse de l'hydrant
A12: Hydrant
A13: N° | B13: Type | C13: Marque | D13: Ø | E13: Adresse
A14: 10148 | B14: =INDEX(Donnees[],MATCH(Modele!$A$14,ID,0),COLUMN()+1) -> Bouche | C14: =INDEX(Donnees[],MATCH(Modele!$A$14,ID,0),COLUMN()+1) -> Bayard | D14: =INDEX(Donnees[],MATCH(Modele!$A$14,ID,0),COLUMN()+1) -> 100 | E14: =INDEX(Donnees[],MATCH(Modele!$A$14,ID,0),COLUMN()+1) -> adresse de l'hydrant | N14: PHOTO
A16: Mesures
A17: Date | F17: =INDEX(Donnees[],MATCH(Modele!$A$14,ID,0),ROW(A7)) -> 43425
A18: Nom de l'agent | F18: =INDEX(Donnees[],MATCH(Modele!$A$14,ID,0),ROW(A8)) -> TP
A19: Pression statique du réseau (bar) | F19: =INDEX(Donnees[],MATCH(Modele!$A$14,ID,0),ROW(A9)) -> 2.5
A20: Débit / pression en écoulement libre | F20: =INDEX(Donnees[],MATCH(Modele!$A$14,ID,0),ROW(A10)) -> 94
A21: Débit à 1 bar (m3/h) | F21: =INDEX(Donnees[],MATCH(Modele!$A$14,ID,0),ROW(A11)) -> 60
A22: Débit à 0,6 bar (m3/h) | F22: =INDEX(Donnees[],MATCH(Modele!$A$14,ID,0),ROW(A12)) -> 0
A24: Visibilité | E24: Accessibilité | I24: Peinture
A25: =INDEX(Donnees[],MATCH(Modele!$A$14,ID,0),14) -> Oui | B25: g | E25: =INDEX(Donnees[],MATCH(Modele!$A$14,ID,0),15) -> Oui | F25: g | I25: =INDEX(Donnees[],MATCH(Modele!$A$14,ID,0),16) -> Défaut | J25: g
A27: Anomalies constatées
A28: =INDEX(Donnees[],MATCH(Modele!$A$14,ID,0),13) -> Peinture en mauvais état
A34: Dérouler la cellule A14 pour choisr le N° : le reste se remplit en fonction du tableau
A35: Les petits carrés changent de couleur si c'est écrit Défaut à leur gauche
