Workbook

Sheet Rapport
B2: N° de recette | C2: Qantité | D2: =RECHERCHEV(DECALER('Base de donnée des recettes'!B2;;;'Base de donnée des recettes'!B:B;;(Rapport!$B$3;'Base de donnée des recettes'!$B:$E;3;FAUX))
B3: 10 | C3: 25000
G5: Le résultat que j'aimerai obtenir de manière automatique selon le n° de recette que j'indique dans la cellule B3
D6: =SUMIF($D$8:$D$27,">0",$D$8:$D$27) -> 100 | E6: =SUMIF($E$8:$E$27,">0",$E$8:$E$27) -> 25000 | J6: =SUMIF($J$8:$J$27,">0",$J$8:$J$27) -> 100 | K6: =SUMIF($K$8:$K$27,">0",$K$8:$K$27) -> 25000
A7: Nb | B7: N° de composant | C7: Nom | D7: % | E7: Quantité | G7: Nb | H7: N° de composant | I7: Nom | J7: % | K7: Quantité
A8: 1 | B8: =IF(ROW(B1)<=COUNTIF(Tableau2[N° leader],$B$3),OFFSET('Base de donnée des recettes'!$D$1,MATCH(Rapport!$B$3,Tableau2[[N° leader]:[N° leader]],0)+ROW()-8,COLUMN()-2),"") -> 10 | C8: =IF($B8<>"",OFFSET('Base de donnée des recettes'!$D$1,MATCH(Rapport!$B$3,Tableau2[[N° leader]:[N° leader]],0)+ROW()-8,COLUMN()-2),"") -> Produit Leader TEST 1 | D8: =IF($B8<>"",OFFSET('Base de donnée des recettes'!$D$1,MATCH(Rapport!$B$3,Tableau2[[N° leader]:[N° leader]],0)+ROW()-8,COLUMN()-2),"") -> 42 | E8: =IF(B8<>"",$C$3*D8/100,0) -> 10500 | G8: 1 | H8: 10 | I8: Produit Leader TEST 1 | J8: 42 | K8: =+$C$3*J8/100 -> 10500
A9: 2 | B9: =IF(ROW(B2)<=COUNTIF(Tableau2[N° leader],$B$3),OFFSET('Base de donnée des recettes'!$D$1,MATCH(Rapport!$B$3,Tableau2[[N° leader]:[N° leader]],0)+ROW()-8,COLUMN()-2),"") -> 11 | C9: =IF($B9<>"",OFFSET('Base de donnée des recettes'!$D$1,MATCH(Rapport!$B$3,Tableau2[[N° leader]:[N° leader]],0)+ROW()-8,COLUMN()-2),"") -> Composant TEST 1_1 | D9: =IF($B9<>"",OFFSET('Base de donnée des recettes'!$D$1,MATCH(Rapport!$B$3,Tableau2[[N° leader]:[N° leader]],0)+ROW()-8,COLUMN()-2),"") -> 30 | E9: =IF(B9<>"",$C$3*D9/100,0) -> 7500 | G9: 2 | H9: 11 | I9: Composant TEST 1_1 | J9: 30 | K9: =+$C$3*J9/100 -> 7500
A10: 3 | B10: =IF(ROW(B3)<=COUNTIF(Tableau2[N° leader],$B$3),OFFSET('Base de donnée des recettes'!$D$1,MATCH(Rapport!$B$3,Tableau2[[N° leader]:[N° leader]],0)+ROW()-8,COLUMN()-2),"") -> 12 | C10: =IF($B10<>"",OFFSET('Base de donnée des recettes'!$D$1,MATCH(Rapport!$B$3,Tableau2[[N° leader]:[N° leader]],0)+ROW()-8,COLUMN()-2),"") -> Composant TEST 1_2 | D10: =IF($B10<>"",OFFSET('Base de donnée des recettes'!$D$1,MATCH(Rapport!$B$3,Tableau2[[N° leader]:[N° leader]],0)+ROW()-8,COLUMN()-2),"") -> 1 | E10: =IF(B10<>"",$C$3*D10/100,0) -> 250 | G10: 3 | H10: 12 | I10: Composant TEST 1_2 | J10: 1 | K10: =+$C$3*J10/100 -> 250
A11: 4 | B11: =IF(ROW(B4)<=COUNTIF(Tableau2[N° leader],$B$3),OFFSET('Base de donnée des recettes'!$D$1,MATCH(Rapport!$B$3,Tableau2[[N° leader]:[N° leader]],0)+ROW()-8,COLUMN()-2),"") -> 13 | C11: =IF($B11<>"",OFFSET('Base de donnée des recettes'!$D$1,MATCH(Rapport!$B$3,Tableau2[[N° leader]:[N° leader]],0)+ROW()-8,COLUMN()-2),"") -> Composant TEST 1_3 | D11: =IF($B11<>"",OFFSET('Base de donnée des recettes'!$D$1,MATCH(Rapport!$B$3,Tableau2[[N° leader]:[N° leader]],0)+ROW()-8,COLUMN()-2),"") -> 2 | E11: =IF(B11<>"",$C$3*D11/100,0) -> 500 | G11: 4 | H11: 13 | I11: Composant TEST 1_3 | J11: 2 | K11: =+$C$3*J11/100 -> 500
A12: 5 | B12: =IF(ROW(B5)<=COUNTIF(Tableau2[N° leader],$B$3),OFFSET('Base de donnée des recettes'!$D$1,MATCH(Rapport!$B$3,Tableau2[[N° leader]:[N° leader]],0)+ROW()-8,COLUMN()-2),"") -> 14 | C12: =IF($B12<>"",OFFSET('Base de donnée des recettes'!$D$1,MATCH(Rapport!$B$3,Tableau2[[N° leader]:[N° leader]],0)+ROW()-8,COLUMN()-2),"") -> Composant TEST 1_4 | D12: =IF($B12<>"",OFFSET('Base de donnée des recettes'!$D$1,MATCH(Rapport!$B$3,Tableau2[[N° leader]:[N° leader]],0)+ROW()-8,COLUMN()-2),"") -> 15 | E12: =IF(B12<>"",$C$3*D12/100,0) -> 3750 | G12: 5 | H12: 14 | I12: Composant TEST 1_4 | J12: 15 | K12: =+$C$3*J12/100 -> 3750
A13: 6 | B13: =IF(ROW(B6)<=COUNTIF(Tableau2[N° leader],$B$3),OFFSET('Base de donnée des recettes'!$D$1,MATCH(Rapport!$B$3,Tableau2[[N° leader]:[N° leader]],0)+ROW()-8,COLUMN()-2),"") -> 15 | C13: =IF($B13<>"",OFFSET('Base de donnée des recettes'!$D$1,MATCH(Rapport!$B$3,Tableau2[[N° leader]:[N° leader]],0)+ROW()-8,COLUMN()-2),"") -> Composant TEST 1_5 | D13: =IF($B13<>"",OFFSET('Base de donnée des recettes'!$D$1,MATCH(Rapport!$B$3,Tableau2[[N° leader]:[N° leader]],0)+ROW()-8,COLUMN()-2),"") -> 4 | E13: =IF(B13<>"",$C$3*D13/100,0) -> 1000 | G13: 6 | H13: 15 | I13: Composant TEST 1_5 | J13: 4 | K13: =+$C$3*J13/100 -> 1000
A14: 7 | B14: =IF(ROW(B7)<=COUNTIF(Tableau2[N° leader],$B$3),OFFSET('Base de donnée des recettes'!$D$1,MATCH(Rapport!$B$3,Tableau2[[N° leader]:[N° leader]],0)+ROW()-8,COLUMN()-2),"") -> 16 | C14: =IF($B14<>"",OFFSET('Base de donnée des recettes'!$D$1,MATCH(Rapport!$B$3,Tableau2[[N° leader]:[N° leader]],0)+ROW()-8,COLUMN()-2),"") -> Composant TEST 1_6 | D14: =IF($B14<>"",OFFSET('Base de donnée des recettes'!$D$1,MATCH(Rapport!$B$3,Tableau2[[N° leader]:[N° leader]],0)+ROW()-8,COLUMN()-2),"") -> 3 | E14: =IF(B14<>"",$C$3*D14/100,0) -> 750 | G14: 7 | H14: 16 | I14: Composant TEST 1_6 | J14: 3 | K14: =+$C$3*J14/100 -> 750
A15: 8 | B15: =IF(ROW(B8)<=COUNTIF(Tableau2[N° leader],$B$3),OFFSET('Base de donnée des recettes'!$D$1,MATCH(Rapport!$B$3,Tableau2[[N° leader]:[N° leader]],0)+ROW()-8,COLUMN()-2),"") -> 17 | C15: =IF($B15<>"",OFFSET('Base de donnée des recettes'!$D$1,MATCH(Rapport!$B$3,Tableau2[[N° leader]:[N° leader]],0)+ROW()-8,COLUMN()-2),"") -> Composant TEST 1_7 | D15: =IF($B15<>"",OFFSET('Base de donnée des recettes'!$D$1,MATCH(Rapport!$B$3,Tableau2[[N° leader]:[N° leader]],0)+ROW()-8,COLUMN()-2),"") -> 2 | E15: =IF(B15<>"",$C$3*D15/100,0) -> 500 | G15: 8 | H15: 17 | I15: Composant TEST 1_7 | J15: 2 | K15: =+$C$3*J15/100 -> 500
A16: 9 | B16: =IF(ROW(B9)<=COUNTIF(Tableau2[N° leader],$B$3),OFFSET('Base de donnée des recettes'!$D$1,MATCH(Rapport!$B$3,Tableau2[[N° leader]:[N° leader]],0)+ROW()-8,COLUMN()-2),"") -> 18 | C16: =IF($B16<>"",OFFSET('Base de donnée des recettes'!$D$1,MATCH(Rapport!$B$3,Tableau2[[N° leader]:[N° leader]],0)+ROW()-8,COLUMN()-2),"") -> Composant TEST 1_8 | D16: =IF($B16<>"",OFFSET('Base de donnée des recettes'!$D$1,MATCH(Rapport!$B$3,Tableau2[[N° leader]:[N° leader]],0)+ROW()-8,COLUMN()-2),"") -> 1 | E16: =IF(B16<>"",$C$3*D16/100,0) -> 250 | G16: 9 | H16: 18 | I16: Composant TEST 1_8 | J16: 1 | K16: =+$C$3*J16/100 -> 250
A17: 10 | B17: =IF(ROW(B10)<=COUNTIF(Tableau2[N° leader],$B$3),OFFSET('Base de donnée des recettes'!$D$1,MATCH(Rapport!$B$3,Tableau2[[N° leader]:[N° leader]],0)+ROW()-8,COLUMN()-2),"") -> 19 | C17: =IF($B17<>"",OFFSET('Base de donnée des recettes'!$D$1,MATCH(Rapport!$B$3,Tableau2[[N° leader]:[N° leader]],0)+ROW()-8,COLUMN()-2),"") -> Composant TEST 1_9 | D17: =IF($B17<>"",OFFSET('Base de donnée des recettes'!$D$1,MATCH(Rapport!$B$3,Tableau2[[N° leader]:[N° leader]],0)+ROW()-8,COLUMN()-2),"") -> -50 | E17: =IF(B17<>"",$C$3*D17/100,0) -> -12500 | G17: 10 | H17: 19 | I17: Composant TEST 1_9 | J17: -50 | K17: =+$C$3*J17/100 -> -12500
A18: 11 | B18: =IF(ROW(B11)<=COUNTIF(Tableau2[N° leader],$B$3),OFFSET('Base de donnée des recettes'!$D$1,MATCH(Rapport!$B$3,Tableau2[[N° leader]:[N° leader]],0)+ROW()-8,COLUMN()-2),"") -> 20 | C18: =IF($B18<>"",OFFSET('Base de donnée des recettes'!$D$1,MATCH(Rapport!$B$3,Tableau2[[N° leader]:[N° leader]],0)+ROW()-8,COLUMN()-2),"") -> Composant TEST 1_10 | D18: =IF($B18<>"",OFFSET('Base de donnée des recettes'!$D$1,MATCH(Rapport!$B$3,Tableau2[[N° leader]:[N° leader]],0)+ROW()-8,COLUMN()-2),"") -> -50 | E18: =IF(B18<>"",$C$3*D18/100,0) -> -12500 | G18: 11 | H18: 20 | I18: Composant TEST 1_10 | J18: -50 | K18: =+$C$3*J18/100 -> -12500
A19: 12 | B19: =IF(ROW(B12)<=COUNTIF(Tableau2[N° leader],$B$3),OFFSET('Base de donnée des recettes'!$D$1,MATCH(Rapport!$B$3,Tableau2[[N° leader]:[N° leader]],0)+ROW()-8,COLUMN()-2),"") | C19: =IF($B19<>"",OFFSET('Base de donnée des recettes'!$D$1,MATCH(Rapport!$B$3,Tableau2[[N° leader]:[N° leader]],0)+ROW()-8,COLUMN()-2),"") | D19: =IF($B19<>"",OFFSET('Base de donnée des recettes'!$D$1,MATCH(Rapport!$B$3,Tableau2[[N° leader]:[N° leader]],0)+ROW()-8,COLUMN()-2),"") | E19: =IF(B19<>"",$C$3*D19/100,0) -> 0 | G19: 12 | K19: =+$C$3*J19/100 -> 0
A20: 13 | B20: =IF(ROW(B13)<=COUNTIF(Tableau2[N° leader],$B$3),OFFSET('Base de donnée des recettes'!$D$1,MATCH(Rapport!$B$3,Tableau2[[N° leader]:[N° leader]],0)+ROW()-8,COLUMN()-2),"") | C20: =IF($B20<>"",OFFSET('Base de donnée des recettes'!$D$1,MATCH(Rapport!$B$3,Tableau2[[N° leader]:[N° leader]],0)+ROW()-8,COLUMN()-2),"") | D20: =IF($B20<>"",OFFSET('Base de donnée des recettes'!$D$1,MATCH(Rapport!$B$3,Tableau2[[N° leader]:[N° leader]],0)+ROW()-8,COLUMN()-2),"") | E20: =IF(B20<>"",$C$3*D20/100,0) -> 0 | G20: 13 | K20: =+$C$3*J20/100 -> 0
A21: 14 | B21: =IF(ROW(B14)<=COUNTIF(Tableau2[N° leader],$B$3),OFFSET('Base de donnée des recettes'!$D$1,MATCH(Rapport!$B$3,Tableau2[[N° leader]:[N° leader]],0)+ROW()-8,COLUMN()-2),"") | C21: =IF($B21<>"",OFFSET('Base de donnée des recettes'!$D$1,MATCH(Rapport!$B$3,Tableau2[[N° leader]:[N° leader]],0)+ROW()-8,COLUMN()-2),"") | D21: =IF($B21<>"",OFFSET('Base de donnée des recettes'!$D$1,MATCH(Rapport!$B$3,Tableau2[[N° leader]:[N° leader]],0)+ROW()-8,COLUMN()-2),"") | E21: =IF(B21<>"",$C$3*D21/100,0) -> 0 | G21: 14 | K21: =+$C$3*J21/100 -> 0
A22: 15 | B22: =IF(ROW(B15)<=COUNTIF(Tableau2[N° leader],$B$3),OFFSET('Base de donnée des recettes'!$D$1,MATCH(Rapport!$B$3,Tableau2[[N° leader]:[N° leader]],0)+ROW()-8,COLUMN()-2),"") | C22: =IF($B22<>"",OFFSET('Base de donnée des recettes'!$D$1,MATCH(Rapport!$B$3,Tableau2[[N° leader]:[N° leader]],0)+ROW()-8,COLUMN()-2),"") | D22: =IF($B22<>"",OFFSET('Base de donnée des recettes'!$D$1,MATCH(Rapport!$B$3,Tableau2[[N° leader]:[N° leader]],0)+ROW()-8,COLUMN()-2),"") | E22: =IF(B22<>"",$C$3*D22/100,0) -> 0 | G22: 15 | K22: =+$C$3*J22/100 -> 0
A23: 16 | B23: =IF(ROW(B16)<=COUNTIF(Tableau2[N° leader],$B$3),OFFSET('Base de donnée des recettes'!$D$1,MATCH(Rapport!$B$3,Tableau2[[N° leader]:[N° leader]],0)+ROW()-8,COLUMN()-2),"") | C23: =IF($B23<>"",OFFSET('Base de donnée des recettes'!$D$1,MATCH(Rapport!$B$3,Tableau2[[N° leader]:[N° leader]],0)+ROW()-8,COLUMN()-2),"") | D23: =IF($B23<>"",OFFSET('Base de donnée des recettes'!$D$1,MATCH(Rapport!$B$3,Tableau2[[N° leader]:[N° leader]],0)+ROW()-8,COLUMN()-2),"") | E23: =IF(B23<>"",$C$3*D23/100,0) -> 0 | G23: 16 | K23: =+$C$3*J23/100 -> 0
A24: 17 | B24: =IF(ROW(B17)<=COUNTIF(Tableau2[N° leader],$B$3),OFFSET('Base de donnée des recettes'!$D$1,MATCH(Rapport!$B$3,Tableau2[[N° leader]:[N° leader]],0)+ROW()-8,COLUMN()-2),"") | C24: =IF($B24<>"",OFFSET('Base de donnée des recettes'!$D$1,MATCH(Rapport!$B$3,Tableau2[[N° leader]:[N° leader]],0)+ROW()-8,COLUMN()-2),"") | D24: =IF($B24<>"",OFFSET('Base de donnée des recettes'!$D$1,MATCH(Rapport!$B$3,Tableau2[[N° leader]:[N° leader]],0)+ROW()-8,COLUMN()-2),"") | E24: =IF(B24<>"",$C$3*D24/100,0) -> 0 | G24: 17 | K24: =+$C$3*J24/100 -> 0
A25: 18 | B25: =IF(ROW(B18)<=COUNTIF(Tableau2[N° leader],$B$3),OFFSET('Base de donnée des recettes'!$D$1,MATCH(Rapport!$B$3,Tableau2[[N° leader]:[N° leader]],0)+ROW()-8,COLUMN()-2),"") | C25: =IF($B25<>"",OFFSET('Base de donnée des recettes'!$D$1,MATCH(Rapport!$B$3,Tableau2[[N° leader]:[N° leader]],0)+ROW()-8,COLUMN()-2),"") | D25: =IF($B25<>"",OFFSET('Base de donnée des recettes'!$D$1,MATCH(Rapport!$B$3,Tableau2[[N° leader]:[N° leader]],0)+ROW()-8,COLUMN()-2),"") | E25: =IF(B25<>"",$C$3*D25/100,0) -> 0 | G25: 18 | K25: =+$C$3*J25/100 -> 0
A26: 19 | B26: =IF(ROW(B19)<=COUNTIF(Tableau2[N° leader],$B$3),OFFSET('Base de donnée des recettes'!$D$1,MATCH(Rapport!$B$3,Tableau2[[N° leader]:[N° leader]],0)+ROW()-8,COLUMN()-2),"") | C26: =IF($B26<>"",OFFSET('Base de donnée des recettes'!$D$1,MATCH(Rapport!$B$3,Tableau2[[N° leader]:[N° leader]],0)+ROW()-8,COLUMN()-2),"") | D26: =IF($B26<>"",OFFSET('Base de donnée des recettes'!$D$1,MATCH(Rapport!$B$3,Tableau2[[N° leader]:[N° leader]],0)+ROW()-8,COLUMN()-2),"") | E26: =IF(B26<>"",$C$3*D26/100,0) -> 0 | G26: 19 | K26: =+$C$3*J26/100 -> 0
A27: 20 | B27: =IF(ROW(B20)<=COUNTIF(Tableau2[N° leader],$B$3),OFFSET('Base de donnée des recettes'!$D$1,MATCH(Rapport!$B$3,Tableau2[[N° leader]:[N° leader]],0)+ROW()-8,COLUMN()-2),"") | C27: =IF($B27<>"",OFFSET('Base de donnée des recettes'!$D$1,MATCH(Rapport!$B$3,Tableau2[[N° leader]:[N° leader]],0)+ROW()-8,COLUMN()-2),"") | D27: =IF($B27<>"",OFFSET('Base de donnée des recettes'!$D$1,MATCH(Rapport!$B$3,Tableau2[[N° leader]:[N° leader]],0)+ROW()-8,COLUMN()-2),"") | E27: =IF(B27<>"",$C$3*D27/100,0) -> 0 | G27: 20 | K27: =+$C$3*J27/100 -> 0

Sheet Base de donnée des recettes
A1: N° | B1: N° leader | C1: Nom leader | D1: N° composant | E1: Nom composant | F1: %
A2: =ROW(A1) -> 1 | B2: 10 | C2: Produit Leader TEST 1 | D2: 10 | E2: Produit Leader TEST 1 | F2: 42
A3: =ROW(A2) -> 2 | B3: 10 | C3: Produit Leader TEST 1 | D3: 11 | E3: Composant TEST 1_1 | F3: 30
A4: =ROW(A3) -> 3 | B4: 10 | C4: Produit Leader TEST 1 | D4: 12 | E4: Composant TEST 1_2 | F4: 1
A5: =ROW(A4) -> 4 | B5: 10 | C5: Produit Leader TEST 1 | D5: 13 | E5: Composant TEST 1_3 | F5: 2
A6: =ROW(A5) -> 5 | B6: 10 | C6: Produit Leader TEST 1 | D6: 14 | E6: Composant TEST 1_4 | F6: 15
A7: =ROW(A6) -> 6 | B7: 10 | C7: Produit Leader TEST 1 | D7: 15 | E7: Composant TEST 1_5 | F7: 4
A8: =ROW(A7) -> 7 | B8: 10 | C8: Produit Leader TEST 1 | D8: 16 | E8: Composant TEST 1_6 | F8: 3
A9: =ROW(A8) -> 8 | B9: 10 | C9: Produit Leader TEST 1 | D9: 17 | E9: Composant TEST 1_7 | F9: 2
A10: =ROW(A9) -> 9 | B10: 10 | C10: Produit Leader TEST 1 | D10: 18 | E10: Composant TEST 1_8 | F10: 1
A11: =ROW(A10) -> 10 | B11: 10 | C11: Produit Leader TEST 1 | D11: 19 | E11: Composant TEST 1_9 | F11: -50
A12: =ROW(A11) -> 11 | B12: 10 | C12: Produit Leader TEST 1 | D12: 20 | E12: Composant TEST 1_10 | F12: -50
A13: =ROW(A12) -> 12 | B13: 30 | C13: Produit Leader TEST 2 | D13: 30 | E13: Produit Leader TEST 2 | F13: 45
A14: =ROW(A13) -> 13 | B14: 30 | C14: =+C13 -> Produit Leader TEST 2 | D14: 31 | E14: Composant TEST 2_1 | F14: 30
A15: =ROW(A14) -> 14 | B15: 30 | C15: =+C14 -> Produit Leader TEST 2 | D15: 32 | E15: Composant TEST 2_2 | F15: 15
A16: =ROW(A15) -> 15 | B16: 30 | C16: =+C15 -> Produit Leader TEST 2 | D16: 33 | E16: Composant TEST 2_3 | F16: 4
A17: =ROW(A16) -> 16 | B17: 30 | C17: =+C16 -> Produit Leader TEST 2 | D17: 34 | E17: Composant TEST 2_4 | F17: 3
A18: =ROW(A17) -> 17 | B18: 30 | C18: =+C17 -> Produit Leader TEST 2 | D18: 35 | E18: Composant TEST 2_5 | F18: 2
A19: =ROW(A18) -> 18 | B19: 30 | C19: =+C18 -> Produit Leader TEST 2 | D19: 35 | E19: Composant TEST 2_6 | F19: 1
A20: =ROW(A19) -> 19 | B20: 30 | C20: =+C19 -> Produit Leader TEST 2 | D20: 36 | E20: Composant TEST 2_7 | F20: -100
