Workbook
Name HORODATEUR: T_Horodateur[#All]

Sheet HORODATEUR
B1: RAPHAEL GIROUX
Q3: =SUM(T_Horodateur[H]) -> 166.03333 | R3: =SUM(T_Horodateur[$]) -> 3865.9701
A5: Jour1 | B5: DATE | C5: JOUR | D5: POSTE | E5: SUCC. | F5: DÉBUT | G5: FIN | H5: HRS | I5: P | J5: R | K5: HRS2 | L5: PRIME REPAS | M5: CHARGE/JRS | N5: CHARGE3 | O5: S-TOT $/JOUR | P5: $/JOUR | Q5: H | R5: $
A6: =TEXT(T_Horodateur[[#This Row],[DATE]],"jjjj") -> dimanche | B6: 43870 | C6: =B6 -> 43870 | D6: CV | H6: =(T_Horodateur[[#This Row],[FIN]]-T_Horodateur[[#This Row],[DÉBUT]])*24 -> 0 | I6: =IF(T_Horodateur[[#This Row],[DÉBUT]]="",0,VLOOKUP(T_Horodateur[[#This Row],[HRS]],Horaires[],2,1)) -> 0 | J6: =IF(T_Horodateur[[#This Row],[DÉBUT]]="",0,VLOOKUP(T_Horodateur[[#This Row],[HRS]],Hoaires2[],2,1)) -> 0 | K6: =H6-J6 -> 0 | L6: =IF(J6=2,12.65,0) -> 0 | M6: =O6*7.45% -> 0 | N6: =IF(WEEKDAY(T_Horodateur[[#This Row],[DATE]],2)<>7,"",SUMIFS(T_Horodateur[CHARGE/JRS],T_Horodateur[DATE],">="&T_Horodateur[[#This Row],[DATE]]-(WEEKDAY(T_Horodateur[[#This Row],[DATE]],1)-1),T_Horodateur[DATE],"<="&T_Horodateur[[#This Row],[DATE]]-(WEEKDAY(T_Horodateur[[#This Row],[DATE]],1)-7))) -> 0 | O6: =(IF(D6="CV",OPTIONS!$C$2,IF(D6="COS",OPTIONS!$C$3,IF(D6="FORM",OPTIONS!$C$4,OPTIONS!$C$1))))*K6 -> 0 | P6: =T_Horodateur[[#This Row],[S-TOT $/JOUR]]+T_Horodateur[[#This Row],[PRIME REPAS]] -> 0 | Q6: =IF(WEEKDAY(T_Horodateur[[#This Row],[DATE]],2)<>7,"",SUMIFS(T_Horodateur[HRS2],T_Horodateur[DATE],">="&T_Horodateur[[#This Row],[DATE]]-(WEEKDAY(T_Horodateur[[#This Row],[DATE]],1)-1),T_Horodateur[DATE],"<="&T_Horodateur[[#This Row],[DATE]]-(WEEKDAY(T_Horodateur[[#This Row],[DATE]],1)-7))) -> 0 | R6: =IF(WEEKDAY(T_Horodateur[[#This Row],[DATE]],2)<>7,"",SUMIFS(T_Horodateur[$/JOUR],T_Horodateur[DATE],">="&T_Horodateur[[#This Row],[DATE]]-(WEEKDAY(T_Horodateur[[#This Row],[DATE]],1)-1),T_Horodateur[DATE],"<="&T_Horodateur[[#This Row],[DATE]]-(WEEKDAY(T_Horodateur[[#This Row],[DATE]],1)-7)))+T_Horodateur[[#This Row],[CHARGE3]] -> 0
A7: =TEXT(T_Horodateur[[#This Row],[DATE]],"jjjj") -> lundi | B7: 43871 | C7: =B7 -> 43871 | H7: =(T_Horodateur[[#This Row],[FIN]]-T_Horodateur[[#This Row],[DÉBUT]])*24 -> 0 | I7: =IF(T_Horodateur[[#This Row],[DÉBUT]]="",0,VLOOKUP(T_Horodateur[[#This Row],[HRS]],Horaires[],2,1)) -> 0 | J7: =IF(T_Horodateur[[#This Row],[DÉBUT]]="",0,VLOOKUP(T_Horodateur[[#This Row],[HRS]],Hoaires2[],2,1)) -> 0 | K7: =H7-J7 -> 0 | L7: =IF(J7=2,12.65,0) -> 0 | M7: =O7*7.45% -> 0 | N7: =IF(WEEKDAY(T_Horodateur[[#This Row],[DATE]],2)<>7,"",SUMIFS(T_Horodateur[CHARGE/JRS],T_Horodateur[DATE],">="&T_Horodateur[[#This Row],[DATE]]-(WEEKDAY(T_Horodateur[[#This Row],[DATE]],1)-1),T_Horodateur[DATE],"<="&T_Horodateur[[#This Row],[DATE]]-(WEEKDAY(T_Horodateur[[#This Row],[DATE]],1)-7))) | O7: =(IF(D7="CV",OPTIONS!$C$2,IF(D7="COS",OPTIONS!$C$3,IF(D7="FORM",OPTIONS!$C$4,OPTIONS!$C$1))))*K7 -> 0 | P7: =T_Horodateur[[#This Row],[S-TOT $/JOUR]]+T_Horodateur[[#This Row],[PRIME REPAS]] -> 0 | Q7: =IF(WEEKDAY(T_Horodateur[[#This Row],[DATE]],2)<>7,"",SUMIFS(T_Horodateur[HRS2],T_Horodateur[DATE],">="&T_Horodateur[[#This Row],[DATE]]-(WEEKDAY(T_Horodateur[[#This Row],[DATE]],1)-1),T_Horodateur[DATE],"<="&T_Horodateur[[#This Row],[DATE]]-(WEEKDAY(T_Horodateur[[#This Row],[DATE]],1)-7))) | R7: =IF(WEEKDAY(T_Horodateur[[#This Row],[DATE]],2)<>7,"",SUMIFS(T_Horodateur[$/JOUR],T_Horodateur[DATE],">="&T_Horodateur[[#This Row],[DATE]]-(WEEKDAY(T_Horodateur[[#This Row],[DATE]],1)-1),T_Horodateur[DATE],"<="&T_Horodateur[[#This Row],[DATE]]-(WEEKDAY(T_Horodateur[[#This Row],[DATE]],1)-7)))
A8: =TEXT(T_Horodateur[[#This Row],[DATE]],"jjjj") -> mardi | B8: 43872 | C8: =B8 -> 43872 | H8: =(T_Horodateur[[#This Row],[FIN]]-T_Horodateur[[#This Row],[DÉBUT]])*24 -> 0 | I8: =IF(T_Horodateur[[#This Row],[DÉBUT]]="",0,VLOOKUP(T_Horodateur[[#This Row],[HRS]],Horaires[],2,1)) -> 0 | J8: =IF(T_Horodateur[[#This Row],[DÉBUT]]="",0,VLOOKUP(T_Horodateur[[#This Row],[HRS]],Hoaires2[],2,1)) -> 0 | K8: =H8-J8 -> 0 | L8: =IF(J8=2,12.65,0) -> 0 | M8: =O8*7.45% -> 0 | N8: =IF(WEEKDAY(T_Horodateur[[#This Row],[DATE]],2)<>7,"",SUMIFS(T_Horodateur[CHARGE/JRS],T_Horodateur[DATE],">="&T_Horodateur[[#This Row],[DATE]]-(WEEKDAY(T_Horodateur[[#This Row],[DATE]],1)-1),T_Horodateur[DATE],"<="&T_Horodateur[[#This Row],[DATE]]-(WEEKDAY(T_Horodateur[[#This Row],[DATE]],1)-7))) | O8: =(IF(D8="CV",OPTIONS!$C$2,IF(D8="COS",OPTIONS!$C$3,IF(D8="FORM",OPTIONS!$C$4,OPTIONS!$C$1))))*K8 -> 0 | P8: =T_Horodateur[[#This Row],[S-TOT $/JOUR]]+T_Horodateur[[#This Row],[PRIME REPAS]] -> 0 | Q8: =IF(WEEKDAY(T_Horodateur[[#This Row],[DATE]],2)<>7,"",SUMIFS(T_Horodateur[HRS2],T_Horodateur[DATE],">="&T_Horodateur[[#This Row],[DATE]]-(WEEKDAY(T_Horodateur[[#This Row],[DATE]],1)-1),T_Horodateur[DATE],"<="&T_Horodateur[[#This Row],[DATE]]-(WEEKDAY(T_Horodateur[[#This Row],[DATE]],1)-7))) | R8: =IF(WEEKDAY(T_Horodateur[[#This Row],[DATE]],2)<>7,"",SUMIFS(T_Horodateur[$/JOUR],T_Horodateur[DATE],">="&T_Horodateur[[#This Row],[DATE]]-(WEEKDAY(T_Horodateur[[#This Row],[DATE]],1)-1),T_Horodateur[DATE],"<="&T_Horodateur[[#This Row],[DATE]]-(WEEKDAY(T_Horodateur[[#This Row],[DATE]],1)-7)))
A9: =TEXT(T_Horodateur[[#This Row],[DATE]],"jjjj") -> mercredi | B9: 43873 | C9: =B9 -> 43873 | H9: =(T_Horodateur[[#This Row],[FIN]]-T_Horodateur[[#This Row],[DÉBUT]])*24 -> 0 | I9: =IF(T_Horodateur[[#This Row],[DÉBUT]]="",0,VLOOKUP(T_Horodateur[[#This Row],[HRS]],Horaires[],2,1)) -> 0 | J9: =IF(T_Horodateur[[#This Row],[DÉBUT]]="",0,VLOOKUP(T_Horodateur[[#This Row],[HRS]],Hoaires2[],2,1)) -> 0 | K9: =H9-J9 -> 0 | L9: =IF(J9=2,12.65,0) -> 0 | M9: =O9*7.45% -> 0 | N9: =IF(WEEKDAY(T_Horodateur[[#This Row],[DATE]],2)<>7,"",SUMIFS(T_Horodateur[CHARGE/JRS],T_Horodateur[DATE],">="&T_Horodateur[[#This Row],[DATE]]-(WEEKDAY(T_Horodateur[[#This Row],[DATE]],1)-1),T_Horodateur[DATE],"<="&T_Horodateur[[#This Row],[DATE]]-(WEEKDAY(T_Horodateur[[#This Row],[DATE]],1)-7))) | O9: =(IF(D9="CV",OPTIONS!$C$2,IF(D9="COS",OPTIONS!$C$3,IF(D9="FORM",OPTIONS!$C$4,OPTIONS!$C$1))))*K9 -> 0 | P9: =T_Horodateur[[#This Row],[S-TOT $/JOUR]]+T_Horodateur[[#This Row],[PRIME REPAS]] -> 0 | Q9: =IF(WEEKDAY(T_Horodateur[[#This Row],[DATE]],2)<>7,"",SUMIFS(T_Horodateur[HRS2],T_Horodateur[DATE],">="&T_Horodateur[[#This Row],[DATE]]-(WEEKDAY(T_Horodateur[[#This Row],[DATE]],1)-1),T_Horodateur[DATE],"<="&T_Horodateur[[#This Row],[DATE]]-(WEEKDAY(T_Horodateur[[#This Row],[DATE]],1)-7))) | R9: =IF(WEEKDAY(T_Horodateur[[#This Row],[DATE]],2)<>7,"",SUMIFS(T_Horodateur[$/JOUR],T_Horodateur[DATE],">="&T_Horodateur[[#This Row],[DATE]]-(WEEKDAY(T_Horodateur[[#This Row],[DATE]],1)-1),T_Horodateur[DATE],"<="&T_Horodateur[[#This Row],[DATE]]-(WEEKDAY(T_Horodateur[[#This Row],[DATE]],1)-7)))
A10: =TEXT(T_Horodateur[[#This Row],[DATE]],"jjjj") -> jeudi | B10: 43874 | C10: =B10 -> 43874 | H10: =(T_Horodateur[[#This Row],[FIN]]-T_Horodateur[[#This Row],[DÉBUT]])*24 -> 0 | I10: =IF(T_Horodateur[[#This Row],[DÉBUT]]="",0,VLOOKUP(T_Horodateur[[#This Row],[HRS]],Horaires[],2,1)) -> 0 | J10: =IF(T_Horodateur[[#This Row],[DÉBUT]]="",0,VLOOKUP(T_Horodateur[[#This Row],[HRS]],Hoaires2[],2,1)) -> 0 | K10: =H10-J10 -> 0 | L10: =IF(J10=2,12.65,0) -> 0 | M10: =O10*7.45% -> 0 | N10: =IF(WEEKDAY(T_Horodateur[[#This Row],[DATE]],2)<>7,"",SUMIFS(T_Horodateur[CHARGE/JRS],T_Horodateur[DATE],">="&T_Horodateur[[#This Row],[DATE]]-(WEEKDAY(T_Horodateur[[#This Row],[DATE]],1)-1),T_Horodateur[DATE],"<="&T_Horodateur[[#This Row],[DATE]]-(WEEKDAY(T_Horodateur[[#This Row],[DATE]],1)-7))) | O10: =(IF(D10="CV",OPTIONS!$C$2,IF(D10="COS",OPTIONS!$C$3,IF(D10="FORM",OPTIONS!$C$4,OPTIONS!$C$1))))*K10 -> 0 | P10: =T_Horodateur[[#This Row],[S-TOT $/JOUR]]+T_Horodateur[[#This Row],[PRIME REPAS]] -> 0 | Q10: =IF(WEEKDAY(T_Horodateur[[#This Row],[DATE]],2)<>7,"",SUMIFS(T_Horodateur[HRS2],T_Horodateur[DATE],">="&T_Horodateur[[#This Row],[DATE]]-(WEEKDAY(T_Horodateur[[#This Row],[DATE]],1)-1),T_Horodateur[DATE],"<="&T_Horodateur[[#This Row],[DATE]]-(WEEKDAY(T_Horodateur[[#This Row],[DATE]],1)-7))) | R10: =IF(WEEKDAY(T_Horodateur[[#This Row],[DATE]],2)<>7,"",SUMIFS(T_Horodateur[$/JOUR],T_Horodateur[DATE],">="&T_Horodateur[[#This Row],[DATE]]-(WEEKDAY(T_Horodateur[[#This Row],[DATE]],1)-1),T_Horodateur[DATE],"<="&T_Horodateur[[#This Row],[DATE]]-(WEEKDAY(T_Horodateur[[#This Row],[DATE]],1)-7)))
A11: =TEXT(T_Horodateur[[#This Row],[DATE]],"jjjj") -> vendredi | B11: 43875 | C11: =B11 -> 43875 | H11: =(T_Horodateur[[#This Row],[FIN]]-T_Horodateur[[#This Row],[DÉBUT]])*24 -> 0 | I11: =IF(T_Horodateur[[#This Row],[DÉBUT]]="",0,VLOOKUP(T_Horodateur[[#This Row],[HRS]],Horaires[],2,1)) -> 0 | J11: =IF(T_Horodateur[[#This Row],[DÉBUT]]="",0,VLOOKUP(T_Horodateur[[#This Row],[HRS]],Hoaires2[],2,1)) -> 0 | K11: =H11-J11 -> 0 | L11: =IF(J11=2,12.65,0) -> 0 | M11: =O11*7.45% -> 0 | N11: =IF(WEEKDAY(T_Horodateur[[#This Row],[DATE]],2)<>7,"",SUMIFS(T_Horodateur[CHARGE/JRS],T_Horodateur[DATE],">="&T_Horodateur[[#This Row],[DATE]]-(WEEKDAY(T_Horodateur[[#This Row],[DATE]],1)-1),T_Horodateur[DATE],"<="&T_Horodateur[[#This Row],[DATE]]-(WEEKDAY(T_Horodateur[[#This Row],[DATE]],1)-7))) | O11: =(IF(D11="CV",OPTIONS!$C$2,IF(D11="COS",OPTIONS!$C$3,IF(D11="FORM",OPTIONS!$C$4,OPTIONS!$C$1))))*K11 -> 0 | P11: =T_Horodateur[[#This Row],[S-TOT $/JOUR]]+T_Horodateur[[#This Row],[PRIME REPAS]] -> 0 | Q11: =IF(WEEKDAY(T_Horodateur[[#This Row],[DATE]],2)<>7,"",SUMIFS(T_Horodateur[HRS2],T_Horodateur[DATE],">="&T_Horodateur[[#This Row],[DATE]]-(WEEKDAY(T_Horodateur[[#This Row],[DATE]],1)-1),T_Horodateur[DATE],"<="&T_Horodateur[[#This Row],[DATE]]-(WEEKDAY(T_Horodateur[[#This Row],[DATE]],1)-7))) | R11: =IF(WEEKDAY(T_Horodateur[[#This Row],[DATE]],2)<>7,"",SUMIFS(T_Horodateur[$/JOUR],T_Horodateur[DATE],">="&T_Horodateur[[#This Row],[DATE]]-(WEEKDAY(T_Horodateur[[#This Row],[DATE]],1)-1),T_Horodateur[DATE],"<="&T_Horodateur[[#This Row],[DATE]]-(WEEKDAY(T_Horodateur[[#This Row],[DATE]],1)-7)))
A12: =TEXT(T_Horodateur[[#This Row],[DATE]],"jjjj") -> samedi | B12: 43876 | C12: =B12 -> 43876 | H12: =(T_Horodateur[[#This Row],[FIN]]-T_Horodateur[[#This Row],[DÉBUT]])*24 -> 0 | I12: =IF(T_Horodateur[[#This Row],[DÉBUT]]="",0,VLOOKUP(T_Horodateur[[#This Row],[HRS]],Horaires[],2,1)) -> 0 | J12: =IF(T_Horodateur[[#This Row],[DÉBUT]]="",0,VLOOKUP(T_Horodateur[[#This Row],[HRS]],Hoaires2[],2,1)) -> 0 | K12: =H12-J12 -> 0 | L12: =IF(J12=2,12.65,0) -> 0 | M12: =O12*7.45% -> 0 | N12: =IF(WEEKDAY(T_Horodateur[[#This Row],[DATE]],2)<>7,"",SUMIFS(T_Horodateur[CHARGE/JRS],T_Horodateur[DATE],">="&T_Horodateur[[#This Row],[DATE]]-(WEEKDAY(T_Horodateur[[#This Row],[DATE]],1)-1),T_Horodateur[DATE],"<="&T_Horodateur[[#This Row],[DATE]]-(WEEKDAY(T_Horodateur[[#This Row],[DATE]],1)-7))) | O12: =(IF(D12="CV",OPTIONS!$C$2,IF(D12="COS",OPTIONS!$C$3,IF(D12="FORM",OPTIONS!$C$4,OPTIONS!$C$1))))*K12 -> 0 | P12: =T_Horodateur[[#This Row],[S-TOT $/JOUR]]+T_Horodateur[[#This Row],[PRIME REPAS]] -> 0 | Q12: =IF(WEEKDAY(T_Horodateur[[#This Row],[DATE]],2)<>7,"",SUMIFS(T_Horodateur[HRS2],T_Horodateur[DATE],">="&T_Horodateur[[#This Row],[DATE]]-(WEEKDAY(T_Horodateur[[#This Row],[DATE]],1)-1),T_Horodateur[DATE],"<="&T_Horodateur[[#This Row],[DATE]]-(WEEKDAY(T_Horodateur[[#This Row],[DATE]],1)-7))) | R12: =IF(WEEKDAY(T_Horodateur[[#This Row],[DATE]],2)<>7,"",SUMIFS(T_Horodateur[$/JOUR],T_Horodateur[DATE],">="&T_Horodateur[[#This Row],[DATE]]-(WEEKDAY(T_Horodateur[[#This Row],[DATE]],1)-1),T_Horodateur[DATE],"<="&T_Horodateur[[#This Row],[DATE]]-(WEEKDAY(T_Horodateur[[#This Row],[DATE]],1)-7)))
A13: =TEXT(T_Horodateur[[#This Row],[DATE]],"jjjj") -> dimanche | B13: 43877 | C13: =B13 -> 43877 | D13: CV | E13: 33524 | F13: 0.58333333 | G13: 0.70833333 | H13: =(T_Horodateur[[#This Row],[FIN]]-T_Horodateur[[#This Row],[DÉBUT]])*24 -> 3 | I13: =IF(T_Horodateur[[#This Row],[DÉBUT]]="",0,VLOOKUP(T_Horodateur[[#This Row],[HRS]],Horaires[],2,1)) -> 0 | J13: =IF(T_Horodateur[[#This Row],[DÉBUT]]="",0,VLOOKUP(T_Horodateur[[#This Row],[HRS]],Hoaires2[],2,1)) -> 0 | K13: =H13-J13 -> 3 | L13: =IF(J13=2,12.65,0) -> 0 | M13: =O13*7.45% -> 4.57281 | N13: =IF(WEEKDAY(T_Horodateur[[#This Row],[DATE]],2)<>7,"",SUMIFS(T_Horodateur[CHARGE/JRS],T_Horodateur[DATE],">="&T_Horodateur[[#This Row],[DATE]]-(WEEKDAY(T_Horodateur[[#This Row],[DATE]],1)-1),T_Horodateur[DATE],"<="&T_Horodateur[[#This Row],[DATE]]-(WEEKDAY(T_Horodateur[[#This Row],[DATE]],1)-7))) -> 43.764652 | O13: =(IF(D13="CV",OPTIONS!$C$2,IF(D13="COS",OPTIONS!$C$3,IF(D13="FORM",OPTIONS!$C$4,OPTIONS!$C$1))))*K13 -> 61.38 | P13: =T_Horodateur[[#This Row],[S-TOT $/JOUR]]+T_Horodateur[[#This Row],[PRIME REPAS]] -> 61.38 | Q13: =IF(WEEKDAY(T_Horodateur[[#This Row],[DATE]],2)<>7,"",SUMIFS(T_Horodateur[HRS2],T_Horodateur[DATE],">="&T_Horodateur[[#This Row],[DATE]]-(WEEKDAY(T_Horodateur[[#This Row],[DATE]],1)-1),T_Horodateur[DATE],"<="&T_Horodateur[[#This Row],[DATE]]-(WEEKDAY(T_Horodateur[[#This Row],[DATE]],1)-7))) -> 26.25 | R13: =IF(WEEKDAY(T_Horodateur[[#This Row],[DATE]],2)<>7,"",SUMIFS(T_Horodateur[$/JOUR],T_Horodateur[DATE],">="&T_Horodateur[[#This Row],[DATE]]-(WEEKDAY(T_Horodateur[[#This Row],[DATE]],1)-1),T_Horodateur[DATE],"<="&T_Horodateur[[#This Row],[DATE]]-(WEEKDAY(T_Horodateur[[#This Row],[DATE]],1)-7)))+T_Horodateur[[#This Row],[CHARGE3]] -> 643.85965
A14: =TEXT(T_Horodateur[[#This Row],[DATE]],"jjjj") -> lundi | B14: 43878 | C14: =B14 -> 43878 | H14: =(T_Horodateur[[#This Row],[FIN]]-T_Horodateur[[#This Row],[DÉBUT]])*24 -> 0 | I14: =IF(T_Horodateur[[#This Row],[DÉBUT]]="",0,VLOOKUP(T_Horodateur[[#This Row],[HRS]],Horaires[],2,1)) -> 0 | J14: =IF(T_Horodateur[[#This Row],[DÉBUT]]="",0,VLOOKUP(T_Horodateur[[#This Row],[HRS]],Hoaires2[],2,1)) -> 0 | K14: =H14-J14 -> 0 | L14: =IF(J14=2,12.65,0) -> 0 | M14: =O14*7.45% -> 0 | N14: =IF(WEEKDAY(T_Horodateur[[#This Row],[DATE]],2)<>7,"",SUMIFS(T_Horodateur[CHARGE/JRS],T_Horodateur[DATE],">="&T_Horodateur[[#This Row],[DATE]]-(WEEKDAY(T_Horodateur[[#This Row],[DATE]],1)-1),T_Horodateur[DATE],"<="&T_Horodateur[[#This Row],[DATE]]-(WEEKDAY(T_Horodateur[[#This Row],[DATE]],1)-7))) | O14: =(IF(D14="CV",OPTIONS!$C$2,IF(D14="COS",OPTIONS!$C$3,IF(D14="FORM",OPTIONS!$C$4,OPTIONS!$C$1))))*K14 -> 0 | P14: =T_Horodateur[[#This Row],[S-TOT $/JOUR]]+T_Horodateur[[#This Row],[PRIME REPAS]] -> 0 | Q14: =IF(WEEKDAY(T_Horodateur[[#This Row],[DATE]],2)<>7,"",SUMIFS(T_Horodateur[HRS2],T_Horodateur[DATE],">="&T_Horodateur[[#This Row],[DATE]]-(WEEKDAY(T_Horodateur[[#This Row],[DATE]],1)-1),T_Horodateur[DATE],"<="&T_Horodateur[[#This Row],[DATE]]-(WEEKDAY(T_Horodateur[[#This Row],[DATE]],1)-7))) | R14: =IF(WEEKDAY(T_Horodateur[[#This Row],[DATE]],2)<>7,"",SUMIFS(T_Horodateur[$/JOUR],T_Horodateur[DATE],">="&T_Horodateur[[#This Row],[DATE]]-(WEEKDAY(T_Horodateur[[#This Row],[DATE]],1)-1),T_Horodateur[DATE],"<="&T_Horodateur[[#This Row],[DATE]]-(WEEKDAY(T_Horodateur[[#This Row],[DATE]],1)-7)))
A15: =TEXT(T_Horodateur[[#This Row],[DATE]],"jjjj") -> mardi | B15: 43879 | C15: =B15 -> 43879 | D15: CV | E15: 33538 | F15: 0.625 | G15: 0.75 | H15: =(T_Horodateur[[#This Row],[FIN]]-T_Horodateur[[#This Row],[DÉBUT]])*24 -> 3 | I15: =IF(T_Horodateur[[#This Row],[DÉBUT]]="",0,VLOOKUP(T_Horodateur[[#This Row],[HRS]],Horaires[],2,1)) -> 0 | J15: =IF(T_Horodateur[[#This Row],[DÉBUT]]="",0,VLOOKUP(T_Horodateur[[#This Row],[HRS]],Hoaires2[],2,1)) -> 0 | K15: =H15-J15 -> 3 | L15: =IF(J15=2,12.65,0) -> 0 | M15: =O15*7.45% -> 4.57281 | N15: =IF(WEEKDAY(T_Horodateur[[#This Row],[DATE]],2)<>7,"",SUMIFS(T_Horodateur[CHARGE/JRS],T_Horodateur[DATE],">="&T_Horodateur[[#This Row],[DATE]]-(WEEKDAY(T_Horodateur[[#This Row],[DATE]],1)-1),T_Horodateur[DATE],"<="&T_Horodateur[[#This Row],[DATE]]-(WEEKDAY(T_Horodateur[[#This Row],[DATE]],1)-7))) | O15: =(IF(D15="CV",OPTIONS!$C$2,IF(D15="COS",OPTIONS!$C$3,IF(D15="FORM",OPTIONS!$C$4,OPTIONS!$C$1))))*K15 -> 61.38 | P15: =T_Horodateur[[#This Row],[S-TOT $/JOUR]]+T_Horodateur[[#This Row],[PRIME REPAS]] -> 61.38 | Q15: =IF(WEEKDAY(T_Horodateur[[#This Row],[DATE]],2)<>7,"",SUMIFS(T_Horodateur[HRS2],T_Horodateur[DATE],">="&T_Horodateur[[#This Row],[DATE]]-(WEEKDAY(T_Horodateur[[#This Row],[DATE]],1)-1),T_Horodateur[DATE],"<="&T_Horodateur[[#This Row],[DATE]]-(WEEKDAY(T_Horodateur[[#This Row],[DATE]],1)-7))) | R15: =IF(WEEKDAY(T_Horodateur[[#This Row],[DATE]],2)<>7,"",SUMIFS(T_Horodateur[$/JOUR],T_Horodateur[DATE],">="&T_Horodateur[[#This Row],[DATE]]-(WEEKDAY(T_Horodateur[[#This Row],[DATE]],1)-1),T_Horodateur[DATE],"<="&T_Horodateur[[#This Row],[DATE]]-(WEEKDAY(T_Horodateur[[#This Row],[DATE]],1)-7)))
A16: =TEXT(T_Horodateur[[#This Row],[DATE]],"jjjj") -> mercredi | B16: 43880 | C16: =B16 -> 43880 | D16: COS | E16: 33538 | F16: 0.33333333 | G16: 0.70833333 | H16: =(T_Horodateur[[#This Row],[FIN]]-T_Horodateur[[#This Row],[DÉBUT]])*24 -> 9 | I16: =IF(T_Horodateur[[#This Row],[DÉBUT]]="",0,VLOOKUP(T_Horodateur[[#This Row],[HRS]],Horaires[],2,1)) -> 2 | J16: =IF(T_Horodateur[[#This Row],[DÉBUT]]="",0,VLOOKUP(T_Horodateur[[#This Row],[HRS]],Hoaires2[],2,1)) -> 1 | K16: =H16-J16 -> 8 | L16: =IF(J16=2,12.65,0) -> 0 | M16: =O16*7.45% -> 13.93448 | N16: =IF(WEEKDAY(T_Horodateur[[#This Row],[DATE]],2)<>7,"",SUMIFS(T_Horodateur[CHARGE/JRS],T_Horodateur[DATE],">="&T_Horodateur[[#This Row],[DATE]]-(WEEKDAY(T_Horodateur[[#This Row],[DATE]],1)-1),T_Horodateur[DATE],"<="&T_Horodateur[[#This Row],[DATE]]-(WEEKDAY(T_Horodateur[[#This Row],[DATE]],1)-7))) | O16: =(IF(D16="CV",OPTIONS!$C$2,IF(D16="COS",OPTIONS!$C$3,IF(D16="FORM",OPTIONS!$C$4,OPTIONS!$C$1))))*K16 -> 187.04 | P16: =T_Horodateur[[#This Row],[S-TOT $/JOUR]]+T_Horodateur[[#This Row],[PRIME REPAS]] -> 187.04 | Q16: =IF(WEEKDAY(T_Horodateur[[#This Row],[DATE]],2)<>7,"",SUMIFS(T_Horodateur[HRS2],T_Horodateur[DATE],">="&T_Horodateur[[#This Row],[DATE]]-(WEEKDAY(T_Horodateur[[#This Row],[DATE]],1)-1),T_Horodateur[DATE],"<="&T_Horodateur[[#This Row],[DATE]]-(WEEKDAY(T_Horodateur[[#This Row],[DATE]],1)-7))) | R16: =IF(WEEKDAY(T_Horodateur[[#This Row],[DATE]],2)<>7,"",SUMIFS(T_Horodateur[$/JOUR],T_Horodateur[DATE],">="&T_Horodateur[[#This Row],[DATE]]-(WEEKDAY(T_Horodateur[[#This Row],[DATE]],1)-1),T_Horodateur[DATE],"<="&T_Horodateur[[#This Row],[DATE]]-(WEEKDAY(T_Horodateur[[#This Row],[DATE]],1)-7)))
A17: =TEXT(T_Horodateur[[#This Row],[DATE]],"jjjj") -> jeudi | B17: 43881 | C17: =B17 -> 43881 | D17: COS | E17: 33538 | F17: 0.40625 | G17: 0.875 | H17: =(T_Horodateur[[#This Row],[FIN]]-T_Horodateur[[#This Row],[DÉBUT]])*24 -> 11.25 | I17: =IF(T_Horodateur[[#This Row],[DÉBUT]]="",0,VLOOKUP(T_Horodateur[[#This Row],[HRS]],Horaires[],2,1)) -> 2 | J17: =IF(T_Horodateur[[#This Row],[DÉBUT]]="",0,VLOOKUP(T_Horodateur[[#This Row],[HRS]],Hoaires2[],2,1)) -> 2 | K17: =H17-J17 -> 9.25 | L17: =IF(J17=2,12.65,0) -> 12.65 | M17: =O17*7.45% -> 16.111742 | N17: =IF(WEEKDAY(T_Horodateur[[#This Row],[DATE]],2)<>7,"",SUMIFS(T_Horodateur[CHARGE/JRS],T_Horodateur[DATE],">="&T_Horodateur[[#This Row],[DATE]]-(WEEKDAY(T_Horodateur[[#This Row],[DATE]],1)-1),T_Horodateur[DATE],"<="&T_Horodateur[[#This Row],[DATE]]-(WEEKDAY(T_Horodateur[[#This Row],[DATE]],1)-7))) | O17: =(IF(D17="CV",OPTIONS!$C$2,IF(D17="COS",OPTIONS!$C$3,IF(D17="FORM",OPTIONS!$C$4,OPTIONS!$C$1))))*K17 -> 216.265 | P17: =T_Horodateur[[#This Row],[S-TOT $/JOUR]]+T_Horodateur[[#This Row],[PRIME REPAS]] -> 228.915 | Q17: =IF(WEEKDAY(T_Horodateur[[#This Row],[DATE]],2)<>7,"",SUMIFS(T_Horodateur[HRS2],T_Horodateur[DATE],">="&T_Horodateur[[#This Row],[DATE]]-(WEEKDAY(T_Horodateur[[#This Row],[DATE]],1)-1),T_Horodateur[DATE],"<="&T_Horodateur[[#This Row],[DATE]]-(WEEKDAY(T_Horodateur[[#This Row],[DATE]],1)-7))) | R17: =IF(WEEKDAY(T_Horodateur[[#This Row],[DATE]],2)<>7,"",SUMIFS(T_Horodateur[$/JOUR],T_Horodateur[DATE],">="&T_Horodateur[[#This Row],[DATE]]-(WEEKDAY(T_Horodateur[[#This Row],[DATE]],1)-1),T_Horodateur[DATE],"<="&T_Horodateur[[#This Row],[DATE]]-(WEEKDAY(T_Horodateur[[#This Row],[DATE]],1)-7)))
A18: =TEXT(T_Horodateur[[#This Row],[DATE]],"jjjj") -> vendredi | B18: 43882 | C18: =B18 -> 43882 | D18: CV | E18: 33538 | F18: 0.66666667 | G18: 0.79166667 | H18: =(T_Horodateur[[#This Row],[FIN]]-T_Horodateur[[#This Row],[DÉBUT]])*24 -> 3 | I18: =IF(T_Horodateur[[#This Row],[DÉBUT]]="",0,VLOOKUP(T_Horodateur[[#This Row],[HRS]],Horaires[],2,1)) -> 0 | J18: =IF(T_Horodateur[[#This Row],[DÉBUT]]="",0,VLOOKUP(T_Horodateur[[#This Row],[HRS]],Hoaires2[],2,1)) -> 0 | K18: =H18-J18 -> 3 | L18: =IF(J18=2,12.65,0) -> 0 | M18: =O18*7.45% -> 4.57281 | N18: =IF(WEEKDAY(T_Horodateur[[#This Row],[DATE]],2)<>7,"",SUMIFS(T_Horodateur[CHARGE/JRS],T_Horodateur[DATE],">="&T_Horodateur[[#This Row],[DATE]]-(WEEKDAY(T_Horodateur[[#This Row],[DATE]],1)-1),T_Horodateur[DATE],"<="&T_Horodateur[[#This Row],[DATE]]-(WEEKDAY(T_Horodateur[[#This Row],[DATE]],1)-7))) | O18: =(IF(D18="CV",OPTIONS!$C$2,IF(D18="COS",OPTIONS!$C$3,IF(D18="FORM",OPTIONS!$C$4,OPTIONS!$C$1))))*K18 -> 61.38 | P18: =T_Horodateur[[#This Row],[S-TOT $/JOUR]]+T_Horodateur[[#This Row],[PRIME REPAS]] -> 61.38 | Q18: =IF(WEEKDAY(T_Horodateur[[#This Row],[DATE]],2)<>7,"",SUMIFS(T_Horodateur[HRS2],T_Horodateur[DATE],">="&T_Horodateur[[#This Row],[DATE]]-(WEEKDAY(T_Horodateur[[#This Row],[DATE]],1)-1),T_Horodateur[DATE],"<="&T_Horodateur[[#This Row],[DATE]]-(WEEKDAY(T_Horodateur[[#This Row],[DATE]],1)-7))) | R18: =IF(WEEKDAY(T_Horodateur[[#This Row],[DATE]],2)<>7,"",SUMIFS(T_Horodateur[$/JOUR],T_Horodateur[DATE],">="&T_Horodateur[[#This Row],[DATE]]-(WEEKDAY(T_Horodateur[[#This Row],[DATE]],1)-1),T_Horodateur[DATE],"<="&T_Horodateur[[#This Row],[DATE]]-(WEEKDAY(T_Horodateur[[#This Row],[DATE]],1)-7)))
A19: =TEXT(T_Horodateur[[#This Row],[DATE]],"jjjj") -> samedi | B19: 43883 | C19: =B19 -> 43883 | D19: CV | E19: 33606 | H19: =(T_Horodateur[[#This Row],[FIN]]-T_Horodateur[[#This Row],[DÉBUT]])*24 -> 0 | I19: =IF(T_Horodateur[[#This Row],[DÉBUT]]="",0,VLOOKUP(T_Horodateur[[#This Row],[HRS]],Horaires[],2,1)) -> 0 | J19: =IF(T_Horodateur[[#This Row],[DÉBUT]]="",0,VLOOKUP(T_Horodateur[[#This Row],[HRS]],Hoaires2[],2,1)) -> 0 | K19: =H19-J19 -> 0 | L19: =IF(J19=2,12.65,0) -> 0 | M19: =O19*7.45% -> 0 | N19: =IF(WEEKDAY(T_Horodateur[[#This Row],[DATE]],2)<>7,"",SUMIFS(T_Horodateur[CHARGE/JRS],T_Horodateur[DATE],">="&T_Horodateur[[#This Row],[DATE]]-(WEEKDAY(T_Horodateur[[#This Row],[DATE]],1)-1),T_Horodateur[DATE],"<="&T_Horodateur[[#This Row],[DATE]]-(WEEKDAY(T_Horodateur[[#This Row],[DATE]],1)-7))) | O19: =(IF(D19="CV",OPTIONS!$C$2,IF(D19="COS",OPTIONS!$C$3,IF(D19="FORM",OPTIONS!$C$4,OPTIONS!$C$1))))*K19 -> 0 | P19: =T_Horodateur[[#This Row],[S-TOT $/JOUR]]+T_Horodateur[[#This Row],[PRIME REPAS]] -> 0 | Q19: =IF(WEEKDAY(T_Horodateur[[#This Row],[DATE]],2)<>7,"",SUMIFS(T_Horodateur[HRS2],T_Horodateur[DATE],">="&T_Horodateur[[#This Row],[DATE]]-(WEEKDAY(T_Horodateur[[#This Row],[DATE]],1)-1),T_Horodateur[DATE],"<="&T_Horodateur[[#This Row],[DATE]]-(WEEKDAY(T_Horodateur[[#This Row],[DATE]],1)-7))) | R19: =IF(WEEKDAY(T_Horodateur[[#This Row],[DATE]],2)<>7,"",SUMIFS(T_Horodateur[$/JOUR],T_Horodateur[DATE],">="&T_Horodateur[[#This Row],[DATE]]-(WEEKDAY(T_Horodateur[[#This Row],[DATE]],1)-1),T_Horodateur[DATE],"<="&T_Horodateur[[#This Row],[DATE]]-(WEEKDAY(T_Horodateur[[#This Row],[DATE]],1)-7)))
A20: =TEXT(T_Horodateur[[#This Row],[DATE]],"jjjj") -> dimanche | B20: 43884 | C20: =B20 -> 43884 | D20: CV | E20: 33524 | F20: 0.5 | G20: 0.875 | H20: =(T_Horodateur[[#This Row],[FIN]]-T_Horodateur[[#This Row],[DÉBUT]])*24 -> 9 | I20: =IF(T_Horodateur[[#This Row],[DÉBUT]]="",0,VLOOKUP(T_Horodateur[[#This Row],[HRS]],Horaires[],2,1)) -> 2 | J20: =IF(T_Horodateur[[#This Row],[DÉBUT]]="",0,VLOOKUP(T_Horodateur[[#This Row],[HRS]],Hoaires2[],2,1)) -> 1 | K20: =H20-J20 -> 8 | L20: =IF(J20=2,12.65,0) -> 0 | M20: =O20*7.45% -> 12.19416 | N20: =IF(WEEKDAY(T_Horodateur[[#This Row],[DATE]],2)<>7,"",SUMIFS(T_Horodateur[CHARGE/JRS],T_Horodateur[DATE],">="&T_Horodateur[[#This Row],[DATE]]-(WEEKDAY(T_Horodateur[[#This Row],[DATE]],1)-1),T_Horodateur[DATE],"<="&T_Horodateur[[#This Row],[DATE]]-(WEEKDAY(T_Horodateur[[#This Row],[DATE]],1)-7))) -> 59.08148 | O20: =(IF(D20="CV",OPTIONS!$C$2,IF(D20="COS",OPTIONS!$C$3,IF(D20="FORM",OPTIONS!$C$4,OPTIONS!$C$1))))*K20 -> 163.68 | P20: =T_Horodateur[[#This Row],[S-TOT $/JOUR]]+T_Horodateur[[#This Row],[PRIME REPAS]] -> 163.68 | Q20: =IF(WEEKDAY(T_Horodateur[[#This Row],[DATE]],2)<>7,"",SUMIFS(T_Horodateur[HRS2],T_Horodateur[DATE],">="&T_Horodateur[[#This Row],[DATE]]-(WEEKDAY(T_Horodateur[[#This Row],[DATE]],1)-1),T_Horodateur[DATE],"<="&T_Horodateur[[#This Row],[DATE]]-(WEEKDAY(T_Horodateur[[#This Row],[DATE]],1)-7))) -> 37.333333 | R20: =IF(WEEKDAY(T_Horodateur[[#This Row],[DATE]],2)<>7,"",SUMIFS(T_Horodateur[$/JOUR],T_Horodateur[DATE],">="&T_Horodateur[[#This Row],[DATE]]-(WEEKDAY(T_Horodateur[[#This Row],[DATE]],1)-1),T_Horodateur[DATE],"<="&T_Horodateur[[#This Row],[DATE]]-(WEEKDAY(T_Horodateur[[#This Row],[DATE]],1)-7)))+T_Horodateur[[#This Row],[CHARGE3]] -> 864.77148
A21: =TEXT(T_Horodateur[[#This Row],[DATE]],"jjjj") -> lundi | B21: 43885 | C21: =B21 -> 43885 | D21: CV | E21: 33538 | F21: 0.47916667 | G21: 0.60416667 | H21: =(T_Horodateur[[#This Row],[FIN]]-T_Horodateur[[#This Row],[DÉBUT]])*24 -> 3 | I21: =IF(T_Horodateur[[#This Row],[DÉBUT]]="",0,VLOOKUP(T_Horodateur[[#This Row],[HRS]],Horaires[],2,1)) -> 0 | J21: =IF(T_Horodateur[[#This Row],[DÉBUT]]="",0,VLOOKUP(T_Horodateur[[#This Row],[HRS]],Hoaires2[],2,1)) -> 0 | K21: =H21-J21 -> 3 | L21: =IF(J21=2,12.65,0) -> 0 | M21: =O21*7.45% -> 4.57281 | N21: =IF(WEEKDAY(T_Horodateur[[#This Row],[DATE]],2)<>7,"",SUMIFS(T_Horodateur[CHARGE/JRS],T_Horodateur[DATE],">="&T_Horodateur[[#This Row],[DATE]]-(WEEKDAY(T_Horodateur[[#This Row],[DATE]],1)-1),T_Horodateur[DATE],"<="&T_Horodateur[[#This Row],[DATE]]-(WEEKDAY(T_Horodateur[[#This Row],[DATE]],1)-7))) | O21: =(IF(D21="CV",OPTIONS!$C$2,IF(D21="COS",OPTIONS!$C$3,IF(D21="FORM",OPTIONS!$C$4,OPTIONS!$C$1))))*K21 -> 61.38 | P21: =T_Horodateur[[#This Row],[S-TOT $/JOUR]]+T_Horodateur[[#This Row],[PRIME REPAS]] -> 61.38 | Q21: =IF(WEEKDAY(T_Horodateur[[#This Row],[DATE]],2)<>7,"",SUMIFS(T_Horodateur[HRS2],T_Horodateur[DATE],">="&T_Horodateur[[#This Row],[DATE]]-(WEEKDAY(T_Horodateur[[#This Row],[DATE]],1)-1),T_Horodateur[DATE],"<="&T_Horodateur[[#This Row],[DATE]]-(WEEKDAY(T_Horodateur[[#This Row],[DATE]],1)-7))) | R21: =IF(WEEKDAY(T_Horodateur[[#This Row],[DATE]],2)<>7,"",SUMIFS(T_Horodateur[$/JOUR],T_Horodateur[DATE],">="&T_Horodateur[[#This Row],[DATE]]-(WEEKDAY(T_Horodateur[[#This Row],[DATE]],1)-1),T_Horodateur[DATE],"<="&T_Horodateur[[#This Row],[DATE]]-(WEEKDAY(T_Horodateur[[#This Row],[DATE]],1)-7)))
A22: =TEXT(T_Horodateur[[#This Row],[DATE]],"jjjj") -> mardi | B22: 43886 | C22: =B22 -> 43886 | D22: FORM | E22: DOM | F22: 0 | G22: 0.034722222 | H22: =(T_Horodateur[[#This Row],[FIN]]-T_Horodateur[[#This Row],[DÉBUT]])*24 -> 0.83333333 | I22: =IF(T_Horodateur[[#This Row],[DÉBUT]]="",0,VLOOKUP(T_Horodateur[[#This Row],[HRS]],Horaires[],2,1)) -> 0 | J22: =IF(T_Horodateur[[#This Row],[DÉBUT]]="",0,VLOOKUP(T_Horodateur[[#This Row],[HRS]],Hoaires2[],2,1)) -> 0 | K22: =H22-J22 -> 0.83333333 | L22: =IF(J22=2,12.65,0) -> 0 | M22: =O22*7.45% -> 1.270225 | N22: =IF(WEEKDAY(T_Horodateur[[#This Row],[DATE]],2)<>7,"",SUMIFS(T_Horodateur[CHARGE/JRS],T_Horodateur[DATE],">="&T_Horodateur[[#This Row],[DATE]]-(WEEKDAY(T_Horodateur[[#This Row],[DATE]],1)-1),T_Horodateur[DATE],"<="&T_Horodateur[[#This Row],[DATE]]-(WEEKDAY(T_Horodateur[[#This Row],[DATE]],1)-7))) | O22: =(IF(D22="CV",OPTIONS!$C$2,IF(D22="COS",OPTIONS!$C$3,IF(D22="FORM",OPTIONS!$C$4,OPTIONS!$C$1))))*K22 -> 17.05 | P22: =T_Horodateur[[#This Row],[S-TOT $/JOUR]]+T_Horodateur[[#This Row],[PRIME REPAS]] -> 17.05 | Q22: =IF(WEEKDAY(T_Horodateur[[#This Row],[DATE]],2)<>7,"",SUMIFS(T_Horodateur[HRS2],T_Horodateur[DATE],">="&T_Horodateur[[#This Row],[DATE]]-(WEEKDAY(T_Horodateur[[#This Row],[DATE]],1)-1),T_Horodateur[DATE],"<="&T_Horodateur[[#This Row],[DATE]]-(WEEKDAY(T_Horodateur[[#This Row],[DATE]],1)-7))) | R22: =IF(WEEKDAY(T_Horodateur[[#This Row],[DATE]],2)<>7,"",SUMIFS(T_Horodateur[$/JOUR],T_Horodateur[DATE],">="&T_Horodateur[[#This Row],[DATE]]-(WEEKDAY(T_Horodateur[[#This Row],[DATE]],1)-1),T_Horodateur[DATE],"<="&T_Horodateur[[#This Row],[DATE]]-(WEEKDAY(T_Horodateur[[#This Row],[DATE]],1)-7)))
A23: =TEXT(T_Horodateur[[#This Row],[DATE]],"jjjj") -> mercredi | B23: 43887 | C23: =B23 -> 43887 | D23: CV | E23: 33538 | F23: 0.45833333 | G23: 0.79166667 | H23: =(T_Horodateur[[#This Row],[FIN]]-T_Horodateur[[#This Row],[DÉBUT]])*24 -> 8 | I23: =IF(T_Horodateur[[#This Row],[DÉBUT]]="",0,VLOOKUP(T_Horodateur[[#This Row],[HRS]],Horaires[],2,1)) -> 2 | J23: =IF(T_Horodateur[[#This Row],[DÉBUT]]="",0,VLOOKUP(T_Horodateur[[#This Row],[HRS]],Hoaires2[],2,1)) -> 1 | K23: =H23-J23 -> 7 | L23: =IF(J23=2,12.65,0) -> 0 | M23: =O23*7.45% -> 10.66989 | N23: =IF(WEEKDAY(T_Horodateur[[#This Row],[DATE]],2)<>7,"",SUMIFS(T_Horodateur[CHARGE/JRS],T_Horodateur[DATE],">="&T_Horodateur[[#This Row],[DATE]]-(WEEKDAY(T_Horodateur[[#This Row],[DATE]],1)-1),T_Horodateur[DATE],"<="&T_Horodateur[[#This Row],[DATE]]-(WEEKDAY(T_Horodateur[[#This Row],[DATE]],1)-7))) | O23: =(IF(D23="CV",OPTIONS!$C$2,IF(D23="COS",OPTIONS!$C$3,IF(D23="FORM",OPTIONS!$C$4,OPTIONS!$C$1))))*K23 -> 143.22 | P23: =T_Horodateur[[#This Row],[S-TOT $/JOUR]]+T_Horodateur[[#This Row],[PRIME REPAS]] -> 143.22 | Q23: =IF(WEEKDAY(T_Horodateur[[#This Row],[DATE]],2)<>7,"",SUMIFS(T_Horodateur[HRS2],T_Horodateur[DATE],">="&T_Horodateur[[#This Row],[DATE]]-(WEEKDAY(T_Horodateur[[#This Row],[DATE]],1)-1),T_Horodateur[DATE],"<="&T_Horodateur[[#This Row],[DATE]]-(WEEKDAY(T_Horodateur[[#This Row],[DATE]],1)-7))) | R23: =IF(WEEKDAY(T_Horodateur[[#This Row],[DATE]],2)<>7,"",SUMIFS(T_Horodateur[$/JOUR],T_Horodateur[DATE],">="&T_Horodateur[[#This Row],[DATE]]-(WEEKDAY(T_Horodateur[[#This Row],[DATE]],1)-1),T_Horodateur[DATE],"<="&T_Horodateur[[#This Row],[DATE]]-(WEEKDAY(T_Horodateur[[#This Row],[DATE]],1)-7)))
A24: =TEXT(T_Horodateur[[#This Row],[DATE]],"jjjj") -> jeudi | B24: 43888 | C24: =B24 -> 43888 | D24: CV | E24: 33606 | F24: 0.58333333 | G24: 0.8125 | H24: =(T_Horodateur[[#This Row],[FIN]]-T_Horodateur[[#This Row],[DÉBUT]])*24 -> 5.5 | I24: =IF(T_Horodateur[[#This Row],[DÉBUT]]="",0,VLOOKUP(T_Horodateur[[#This Row],[HRS]],Horaires[],2,1)) -> 1 | J24: =IF(T_Horodateur[[#This Row],[DÉBUT]]="",0,VLOOKUP(T_Horodateur[[#This Row],[HRS]],Hoaires2[],2,1)) -> 0 | K24: =H24-J24 -> 5.5 | L24: =IF(J24=2,12.65,0) -> 0 | M24: =O24*7.45% -> 8.383485 | N24: =IF(WEEKDAY(T_Horodateur[[#This Row],[DATE]],2)<>7,"",SUMIFS(T_Horodateur[CHARGE/JRS],T_Horodateur[DATE],">="&T_Horodateur[[#This Row],[DATE]]-(WEEKDAY(T_Horodateur[[#This Row],[DATE]],1)-1),T_Horodateur[DATE],"<="&T_Horodateur[[#This Row],[DATE]]-(WEEKDAY(T_Horodateur[[#This Row],[DATE]],1)-7))) | O24: =(IF(D24="CV",OPTIONS!$C$2,IF(D24="COS",OPTIONS!$C$3,IF(D24="FORM",OPTIONS!$C$4,OPTIONS!$C$1))))*K24 -> 112.53 | P24: =T_Horodateur[[#This Row],[S-TOT $/JOUR]]+T_Horodateur[[#This Row],[PRIME REPAS]] -> 112.53 | Q24: =IF(WEEKDAY(T_Horodateur[[#This Row],[DATE]],2)<>7,"",SUMIFS(T_Horodateur[HRS2],T_Horodateur[DATE],">="&T_Horodateur[[#This Row],[DATE]]-(WEEKDAY(T_Horodateur[[#This Row],[DATE]],1)-1),T_Horodateur[DATE],"<="&T_Horodateur[[#This Row],[DATE]]-(WEEKDAY(T_Horodateur[[#This Row],[DATE]],1)-7))) | R24: =IF(WEEKDAY(T_Horodateur[[#This Row],[DATE]],2)<>7,"",SUMIFS(T_Horodateur[$/JOUR],T_Horodateur[DATE],">="&T_Horodateur[[#This Row],[DATE]]-(WEEKDAY(T_Horodateur[[#This Row],[DATE]],1)-1),T_Horodateur[DATE],"<="&T_Horodateur[[#This Row],[DATE]]-(WEEKDAY(T_Horodateur[[#This Row],[DATE]],1)-7)))
A25: =TEXT(T_Horodateur[[#This Row],[DATE]],"jjjj") -> vendredi | B25: 43889 | C25: =B25 -> 43889 | D25: COS | E25: 33538 | F25: 0.375 | G25: 0.875 | H25: =(T_Horodateur[[#This Row],[FIN]]-T_Horodateur[[#This Row],[DÉBUT]])*24 -> 12 | I25: =IF(T_Horodateur[[#This Row],[DÉBUT]]="",0,VLOOKUP(T_Horodateur[[#This Row],[HRS]],Horaires[],2,1)) -> 2 | J25: =IF(T_Horodateur[[#This Row],[DÉBUT]]="",0,VLOOKUP(T_Horodateur[[#This Row],[HRS]],Hoaires2[],2,1)) -> 2 | K25: =H25-J25 -> 10 | L25: =IF(J25=2,12.65,0) -> 12.65 | M25: =O25*7.45% -> 17.4181 | N25: =IF(WEEKDAY(T_Horodateur[[#This Row],[DATE]],2)<>7,"",SUMIFS(T_Horodateur[CHARGE/JRS],T_Horodateur[DATE],">="&T_Horodateur[[#This Row],[DATE]]-(WEEKDAY(T_Horodateur[[#This Row],[DATE]],1)-1),T_Horodateur[DATE],"<="&T_Horodateur[[#This Row],[DATE]]-(WEEKDAY(T_Horodateur[[#This Row],[DATE]],1)-7))) | O25: =(IF(D25="CV",OPTIONS!$C$2,IF(D25="COS",OPTIONS!$C$3,IF(D25="FORM",OPTIONS!$C$4,OPTIONS!$C$1))))*K25 -> 233.8 | P25: =T_Horodateur[[#This Row],[S-TOT $/JOUR]]+T_Horodateur[[#This Row],[PRIME REPAS]] -> 246.45 | Q25: =IF(WEEKDAY(T_Horodateur[[#This Row],[DATE]],2)<>7,"",SUMIFS(T_Horodateur[HRS2],T_Horodateur[DATE],">="&T_Horodateur[[#This Row],[DATE]]-(WEEKDAY(T_Horodateur[[#This Row],[DATE]],1)-1),T_Horodateur[DATE],"<="&T_Horodateur[[#This Row],[DATE]]-(WEEKDAY(T_Horodateur[[#This Row],[DATE]],1)-7))) | R25: =IF(WEEKDAY(T_Horodateur[[#This Row],[DATE]],2)<>7,"",SUMIFS(T_Horodateur[$/JOUR],T_Horodateur[DATE],">="&T_Horodateur[[#This Row],[DATE]]-(WEEKDAY(T_Horodateur[[#This Row],[DATE]],1)-1),T_Horodateur[DATE],"<="&T_Horodateur[[#This Row],[DATE]]-(WEEKDAY(T_Horodateur[[#This Row],[DATE]],1)-7)))
A26: =TEXT(T_Horodateur[[#This Row],[DATE]],"jjjj") -> samedi | B26: 43890 | C26: =B26 -> 43890 | D26: CV | E26: 33524 | F26: 0.6875 | G26: 0.8125 | H26: =(T_Horodateur[[#This Row],[FIN]]-T_Horodateur[[#This Row],[DÉBUT]])*24 -> 3 | I26: =IF(T_Horodateur[[#This Row],[DÉBUT]]="",0,VLOOKUP(T_Horodateur[[#This Row],[HRS]],Horaires[],2,1)) -> 0 | J26: =IF(T_Horodateur[[#This Row],[DÉBUT]]="",0,VLOOKUP(T_Horodateur[[#This Row],[HRS]],Hoaires2[],2,1)) -> 0 | K26: =H26-J26 -> 3 | L26: =IF(J26=2,12.65,0) -> 0 | M26: =O26*7.45% -> 4.57281 | N26: =IF(WEEKDAY(T_Horodateur[[#This Row],[DATE]],2)<>7,"",SUMIFS(T_Horodateur[CHARGE/JRS],T_Horodateur[DATE],">="&T_Horodateur[[#This Row],[DATE]]-(WEEKDAY(T_Horodateur[[#This Row],[DATE]],1)-1),T_Horodateur[DATE],"<="&T_Horodateur[[#This Row],[DATE]]-(WEEKDAY(T_Horodateur[[#This Row],[DATE]],1)-7))) | O26: =(IF(D26="CV",OPTIONS!$C$2,IF(D26="COS",OPTIONS!$C$3,IF(D26="FORM",OPTIONS!$C$4,OPTIONS!$C$1))))*K26 -> 61.38 | P26: =T_Horodateur[[#This Row],[S-TOT $/JOUR]]+T_Horodateur[[#This Row],[PRIME REPAS]] -> 61.38 | Q26: =IF(WEEKDAY(T_Horodateur[[#This Row],[DATE]],2)<>7,"",SUMIFS(T_Horodateur[HRS2],T_Horodateur[DATE],">="&T_Horodateur[[#This Row],[DATE]]-(WEEKDAY(T_Horodateur[[#This Row],[DATE]],1)-1),T_Horodateur[DATE],"<="&T_Horodateur[[#This Row],[DATE]]-(WEEKDAY(T_Horodateur[[#This Row],[DATE]],1)-7))) | R26: =IF(WEEKDAY(T_Horodateur[[#This Row],[DATE]],2)<>7,"",SUMIFS(T_Horodateur[$/JOUR],T_Horodateur[DATE],">="&T_Horodateur[[#This Row],[DATE]]-(WEEKDAY(T_Horodateur[[#This Row],[DATE]],1)-1),T_Horodateur[DATE],"<="&T_Horodateur[[#This Row],[DATE]]-(WEEKDAY(T_Horodateur[[#This Row],[DATE]],1)-7)))
A27: =TEXT(T_Horodateur[[#This Row],[DATE]],"jjjj") -> dimanche | B27: 43891 | C27: =B27 -> 43891 | D27: CV | E27: 33595 | F27: 0.58333333 | G27: 0.70833333 | H27: =(T_Horodateur[[#This Row],[FIN]]-T_Horodateur[[#This Row],[DÉBUT]])*24 -> 3 | I27: =IF(T_Horodateur[[#This Row],[DÉBUT]]="",0,VLOOKUP(T_Horodateur[[#This Row],[HRS]],Horaires[],2,1)) -> 0 | J27: =IF(T_Horodateur[[#This Row],[DÉBUT]]="",0,VLOOKUP(T_Horodateur[[#This Row],[HRS]],Hoaires2[],2,1)) -> 0 | K27: =H27-J27 -> 3 | L27: =IF(J27=2,12.65,0) -> 0 | M27: =O27*7.45% -> 4.57281 | N27: =IF(WEEKDAY(T_Horodateur[[#This Row],[DATE]],2)<>7,"",SUMIFS(T_Horodateur[CHARGE/JRS],T_Horodateur[DATE],">="&T_Horodateur[[#This Row],[DATE]]-(WEEKDAY(T_Horodateur[[#This Row],[DATE]],1)-1),T_Horodateur[DATE],"<="&T_Horodateur[[#This Row],[DATE]]-(WEEKDAY(T_Horodateur[[#This Row],[DATE]],1)-7))) -> 57.70323 | O27: =(IF(D27="CV",OPTIONS!$C$2,IF(D27="COS",OPTIONS!$C$3,IF(D27="FORM",OPTIONS!$C$4,OPTIONS!$C$1))))*K27 -> 61.38 | P27: =T_Horodateur[[#This Row],[S-TOT $/JOUR]]+T_Horodateur[[#This Row],[PRIME REPAS]] -> 61.38 | Q27: =IF(WEEKDAY(T_Horodateur[[#This Row],[DATE]],2)<>7,"",SUMIFS(T_Horodateur[HRS2],T_Horodateur[DATE],">="&T_Horodateur[[#This Row],[DATE]]-(WEEKDAY(T_Horodateur[[#This Row],[DATE]],1)-1),T_Horodateur[DATE],"<="&T_Horodateur[[#This Row],[DATE]]-(WEEKDAY(T_Horodateur[[#This Row],[DATE]],1)-7))) -> 37 | R27: =IF(WEEKDAY(T_Horodateur[[#This Row],[DATE]],2)<>7,"",SUMIFS(T_Horodateur[$/JOUR],T_Horodateur[DATE],">="&T_Horodateur[[#This Row],[DATE]]-(WEEKDAY(T_Horodateur[[#This Row],[DATE]],1)-1),T_Horodateur[DATE],"<="&T_Horodateur[[#This Row],[DATE]]-(WEEKDAY(T_Horodateur[[#This Row],[DATE]],1)-7)))+T_Horodateur[[#This Row],[CHARGE3]] -> 844.89323
A28: =TEXT(T_Horodateur[[#This Row],[DATE]],"jjjj") -> lundi | B28: 43892 | C28: =B28 -> 43892 | D28: FORM | E28: DOM | F28: 0.47916667 | G28: 0.75 | H28: =(T_Horodateur[[#This Row],[FIN]]-T_Horodateur[[#This Row],[DÉBUT]])*24 -> 6.5 | I28: =IF(T_Horodateur[[#This Row],[DÉBUT]]="",0,VLOOKUP(T_Horodateur[[#This Row],[HRS]],Horaires[],2,1)) -> 2 | J28: =IF(T_Horodateur[[#This Row],[DÉBUT]]="",0,VLOOKUP(T_Horodateur[[#This Row],[HRS]],Hoaires2[],2,1)) -> 0 | K28: =H28-J28 -> 6.5 | L28: =IF(J28=2,12.65,0) -> 0 | M28: =O28*7.45% -> 9.907755 | N28: =IF(WEEKDAY(T_Horodateur[[#This Row],[DATE]],2)<>7,"",SUMIFS(T_Horodateur[CHARGE/JRS],T_Horodateur[DATE],">="&T_Horodateur[[#This Row],[DATE]]-(WEEKDAY(T_Horodateur[[#This Row],[DATE]],1)-1),T_Horodateur[DATE],"<="&T_Horodateur[[#This Row],[DATE]]-(WEEKDAY(T_Horodateur[[#This Row],[DATE]],1)-7))) | O28: =(IF(D28="CV",OPTIONS!$C$2,IF(D28="COS",OPTIONS!$C$3,IF(D28="FORM",OPTIONS!$C$4,OPTIONS!$C$1))))*K28 -> 132.99 | P28: =T_Horodateur[[#This Row],[S-TOT $/JOUR]]+T_Horodateur[[#This Row],[PRIME REPAS]] -> 132.99 | Q28: =IF(WEEKDAY(T_Horodateur[[#This Row],[DATE]],2)<>7,"",SUMIFS(T_Horodateur[HRS2],T_Horodateur[DATE],">="&T_Horodateur[[#This Row],[DATE]]-(WEEKDAY(T_Horodateur[[#This Row],[DATE]],1)-1),T_Horodateur[DATE],"<="&T_Horodateur[[#This Row],[DATE]]-(WEEKDAY(T_Horodateur[[#This Row],[DATE]],1)-7))) | R28: =IF(WEEKDAY(T_Horodateur[[#This Row],[DATE]],2)<>7,"",SUMIFS(T_Horodateur[$/JOUR],T_Horodateur[DATE],">="&T_Horodateur[[#This Row],[DATE]]-(WEEKDAY(T_Horodateur[[#This Row],[DATE]],1)-1),T_Horodateur[DATE],"<="&T_Horodateur[[#This Row],[DATE]]-(WEEKDAY(T_Horodateur[[#This Row],[DATE]],1)-7)))
A29: =TEXT(T_Horodateur[[#This Row],[DATE]],"jjjj") -> mardi | B29: 43893 | C29: =B29 -> 43893 | D29: CV | E29: 33524 | F29: 0.66666667 | G29: 0.79166667 | H29: =(T_Horodateur[[#This Row],[FIN]]-T_Horodateur[[#This Row],[DÉBUT]])*24 -> 3 | I29: =IF(T_Horodateur[[#This Row],[DÉBUT]]="",0,VLOOKUP(T_Horodateur[[#This Row],[HRS]],Horaires[],2,1)) -> 0 | J29: =IF(T_Horodateur[[#This Row],[DÉBUT]]="",0,VLOOKUP(T_Horodateur[[#This Row],[HRS]],Hoaires2[],2,1)) -> 0 | K29: =H29-J29 -> 3 | L29: =IF(J29=2,12.65,0) -> 0 | M29: =O29*7.45% -> 4.57281 | N29: =IF(WEEKDAY(T_Horodateur[[#This Row],[DATE]],2)<>7,"",SUMIFS(T_Horodateur[CHARGE/JRS],T_Horodateur[DATE],">="&T_Horodateur[[#This Row],[DATE]]-(WEEKDAY(T_Horodateur[[#This Row],[DATE]],1)-1),T_Horodateur[DATE],"<="&T_Horodateur[[#This Row],[DATE]]-(WEEKDAY(T_Horodateur[[#This Row],[DATE]],1)-7))) | O29: =(IF(D29="CV",OPTIONS!$C$2,IF(D29="COS",OPTIONS!$C$3,IF(D29="FORM",OPTIONS!$C$4,OPTIONS!$C$1))))*K29 -> 61.38 | P29: =T_Horodateur[[#This Row],[S-TOT $/JOUR]]+T_Horodateur[[#This Row],[PRIME REPAS]] -> 61.38 | Q29: =IF(WEEKDAY(T_Horodateur[[#This Row],[DATE]],2)<>7,"",SUMIFS(T_Horodateur[HRS2],T_Horodateur[DATE],">="&T_Horodateur[[#This Row],[DATE]]-(WEEKDAY(T_Horodateur[[#This Row],[DATE]],1)-1),T_Horodateur[DATE],"<="&T_Horodateur[[#This Row],[DATE]]-(WEEKDAY(T_Horodateur[[#This Row],[DATE]],1)-7))) | R29: =IF(WEEKDAY(T_Horodateur[[#This Row],[DATE]],2)<>7,"",SUMIFS(T_Horodateur[$/JOUR],T_Horodateur[DATE],">="&T_Horodateur[[#This Row],[DATE]]-(WEEKDAY(T_Horodateur[[#This Row],[DATE]],1)-1),T_Horodateur[DATE],"<="&T_Horodateur[[#This Row],[DATE]]-(WEEKDAY(T_Horodateur[[#This Row],[DATE]],1)-7)))
A30: =TEXT(T_Horodateur[[#This Row],[DATE]],"jjjj") -> mercredi | B30: 43894 | C30: =B30 -> 43894 | D30: COS | E30: 33538 | F30: 0.5 | G30: 0.75 | H30: =(T_Horodateur[[#This Row],[FIN]]-T_Horodateur[[#This Row],[DÉBUT]])*24 -> 6 | I30: =IF(T_Horodateur[[#This Row],[DÉBUT]]="",0,VLOOKUP(T_Horodateur[[#This Row],[HRS]],Horaires[],2,1)) -> 2 | J30: =IF(T_Horodateur[[#This Row],[DÉBUT]]="",0,VLOOKUP(T_Horodateur[[#This Row],[HRS]],Hoaires2[],2,1)) -> 0 | K30: =H30-J30 -> 6 | L30: =IF(J30=2,12.65,0) -> 0 | M30: =O30*7.45% -> 10.45086 | N30: =IF(WEEKDAY(T_Horodateur[[#This Row],[DATE]],2)<>7,"",SUMIFS(T_Horodateur[CHARGE/JRS],T_Horodateur[DATE],">="&T_Horodateur[[#This Row],[DATE]]-(WEEKDAY(T_Horodateur[[#This Row],[DATE]],1)-1),T_Horodateur[DATE],"<="&T_Horodateur[[#This Row],[DATE]]-(WEEKDAY(T_Horodateur[[#This Row],[DATE]],1)-7))) | O30: =(IF(D30="CV",OPTIONS!$C$2,IF(D30="COS",OPTIONS!$C$3,IF(D30="FORM",OPTIONS!$C$4,OPTIONS!$C$1))))*K30 -> 140.28 | P30: =T_Horodateur[[#This Row],[S-TOT $/JOUR]]+T_Horodateur[[#This Row],[PRIME REPAS]] -> 140.28 | Q30: =IF(WEEKDAY(T_Horodateur[[#This Row],[DATE]],2)<>7,"",SUMIFS(T_Horodateur[HRS2],T_Horodateur[DATE],">="&T_Horodateur[[#This Row],[DATE]]-(WEEKDAY(T_Horodateur[[#This Row],[DATE]],1)-1),T_Horodateur[DATE],"<="&T_Horodateur[[#This Row],[DATE]]-(WEEKDAY(T_Horodateur[[#This Row],[DATE]],1)-7))) | R30: =IF(WEEKDAY(T_Horodateur[[#This Row],[DATE]],2)<>7,"",SUMIFS(T_Horodateur[$/JOUR],T_Horodateur[DATE],">="&T_Horodateur[[#This Row],[DATE]]-(WEEKDAY(T_Horodateur[[#This Row],[DATE]],1)-1),T_Horodateur[DATE],"<="&T_Horodateur[[#This Row],[DATE]]-(WEEKDAY(T_Horodateur[[#This Row],[DATE]],1)-7)))
A31: =TEXT(T_Horodateur[[#This Row],[DATE]],"jjjj") -> jeudi | B31: 43895 | C31: =B31 -> 43895 | D31: CV | E31: 33538 | F31: 0.41666667 | G31: 0.83333333 | H31: =(T_Horodateur[[#This Row],[FIN]]-T_Horodateur[[#This Row],[DÉBUT]])*24 -> 10 | I31: =IF(T_Horodateur[[#This Row],[DÉBUT]]="",0,VLOOKUP(T_Horodateur[[#This Row],[HRS]],Horaires[],2,1)) -> 2 | J31: =IF(T_Horodateur[[#This Row],[DÉBUT]]="",0,VLOOKUP(T_Horodateur[[#This Row],[HRS]],Hoaires2[],2,1)) -> 1 | K31: =H31-J31 -> 9 | L31: =IF(J31=2,12.65,0) -> 0 | M31: =O31*7.45% -> 13.71843 | N31: =IF(WEEKDAY(T_Horodateur[[#This Row],[DATE]],2)<>7,"",SUMIFS(T_Horodateur[CHARGE/JRS],T_Horodateur[DATE],">="&T_Horodateur[[#This Row],[DATE]]-(WEEKDAY(T_Horodateur[[#This Row],[DATE]],1)-1),T_Horodateur[DATE],"<="&T_Horodateur[[#This Row],[DATE]]-(WEEKDAY(T_Horodateur[[#This Row],[DATE]],1)-7))) | O31: =(IF(D31="CV",OPTIONS!$C$2,IF(D31="COS",OPTIONS!$C$3,IF(D31="FORM",OPTIONS!$C$4,OPTIONS!$C$1))))*K31 -> 184.14 | P31: =T_Horodateur[[#This Row],[S-TOT $/JOUR]]+T_Horodateur[[#This Row],[PRIME REPAS]] -> 184.14 | Q31: =IF(WEEKDAY(T_Horodateur[[#This Row],[DATE]],2)<>7,"",SUMIFS(T_Horodateur[HRS2],T_Horodateur[DATE],">="&T_Horodateur[[#This Row],[DATE]]-(WEEKDAY(T_Horodateur[[#This Row],[DATE]],1)-1),T_Horodateur[DATE],"<="&T_Horodateur[[#This Row],[DATE]]-(WEEKDAY(T_Horodateur[[#This Row],[DATE]],1)-7))) | R31: =IF(WEEKDAY(T_Horodateur[[#This Row],[DATE]],2)<>7,"",SUMIFS(T_Horodateur[$/JOUR],T_Horodateur[DATE],">="&T_Horodateur[[#This Row],[DATE]]-(WEEKDAY(T_Horodateur[[#This Row],[DATE]],1)-1),T_Horodateur[DATE],"<="&T_Horodateur[[#This Row],[DATE]]-(WEEKDAY(T_Horodateur[[#This Row],[DATE]],1)-7)))
A32: =TEXT(T_Horodateur[[#This Row],[DATE]],"jjjj") -> vendredi | B32: 43896 | C32: =B32 -> 43896 | D32: CV | E32: 33595 | F32: 0.39583333 | G32: 0.875 | H32: =(T_Horodateur[[#This Row],[FIN]]-T_Horodateur[[#This Row],[DÉBUT]])*24 -> 11.5 | I32: =IF(T_Horodateur[[#This Row],[DÉBUT]]="",0,VLOOKUP(T_Horodateur[[#This Row],[HRS]],Horaires[],2,1)) -> 2 | J32: =IF(T_Horodateur[[#This Row],[DÉBUT]]="",0,VLOOKUP(T_Horodateur[[#This Row],[HRS]],Hoaires2[],2,1)) -> 2 | K32: =H32-J32 -> 9.5 | L32: =IF(J32=2,12.65,0) -> 12.65 | M32: =O32*7.45% -> 14.480565 | N32: =IF(WEEKDAY(T_Horodateur[[#This Row],[DATE]],2)<>7,"",SUMIFS(T_Horodateur[CHARGE/JRS],T_Horodateur[DATE],">="&T_Horodateur[[#This Row],[DATE]]-(WEEKDAY(T_Horodateur[[#This Row],[DATE]],1)-1),T_Horodateur[DATE],"<="&T_Horodateur[[#This Row],[DATE]]-(WEEKDAY(T_Horodateur[[#This Row],[DATE]],1)-7))) | O32: =(IF(D32="CV",OPTIONS!$C$2,IF(D32="COS",OPTIONS!$C$3,IF(D32="FORM",OPTIONS!$C$4,OPTIONS!$C$1))))*K32 -> 194.37 | P32: =T_Horodateur[[#This Row],[S-TOT $/JOUR]]+T_Horodateur[[#This Row],[PRIME REPAS]] -> 207.02 | Q32: =IF(WEEKDAY(T_Horodateur[[#This Row],[DATE]],2)<>7,"",SUMIFS(T_Horodateur[HRS2],T_Horodateur[DATE],">="&T_Horodateur[[#This Row],[DATE]]-(WEEKDAY(T_Horodateur[[#This Row],[DATE]],1)-1),T_Horodateur[DATE],"<="&T_Horodateur[[#This Row],[DATE]]-(WEEKDAY(T_Horodateur[[#This Row],[DATE]],1)-7))) | R32: =IF(WEEKDAY(T_Horodateur[[#This Row],[DATE]],2)<>7,"",SUMIFS(T_Horodateur[$/JOUR],T_Horodateur[DATE],">="&T_Horodateur[[#This Row],[DATE]]-(WEEKDAY(T_Horodateur[[#This Row],[DATE]],1)-1),T_Horodateur[DATE],"<="&T_Horodateur[[#This Row],[DATE]]-(WEEKDAY(T_Horodateur[[#This Row],[DATE]],1)-7)))
A33: =TEXT(T_Horodateur[[#This Row],[DATE]],"jjjj") -> samedi | B33: 43897 | C33: =B33 -> 43897 | H33: =(T_Horodateur[[#This Row],[FIN]]-T_Horodateur[[#This Row],[DÉBUT]])*24 -> 0 | I33: =IF(T_Horodateur[[#This Row],[DÉBUT]]="",0,VLOOKUP(T_Horodateur[[#This Row],[HRS]],Horaires[],2,1)) -> 0 | J33: =IF(T_Horodateur[[#This Row],[DÉBUT]]="",0,VLOOKUP(T_Horodateur[[#This Row],[HRS]],Hoaires2[],2,1)) -> 0 | K33: =H33-J33 -> 0 | L33: =IF(J33=2,12.65,0) -> 0 | M33: =O33*7.45% -> 0 | N33: =IF(WEEKDAY(T_Horodateur[[#This Row],[DATE]],2)<>7,"",SUMIFS(T_Horodateur[CHARGE/JRS],T_Horodateur[DATE],">="&T_Horodateur[[#This Row],[DATE]]-(WEEKDAY(T_Horodateur[[#This Row],[DATE]],1)-1),T_Horodateur[DATE],"<="&T_Horodateur[[#This Row],[DATE]]-(WEEKDAY(T_Horodateur[[#This Row],[DATE]],1)-7))) | O33: =(IF(D33="CV",OPTIONS!$C$2,IF(D33="COS",OPTIONS!$C$3,IF(D33="FORM",OPTIONS!$C$4,OPTIONS!$C$1))))*K33 -> 0 | P33: =T_Horodateur[[#This Row],[S-TOT $/JOUR]]+T_Horodateur[[#This Row],[PRIME REPAS]] -> 0 | Q33: =IF(WEEKDAY(T_Horodateur[[#This Row],[DATE]],2)<>7,"",SUMIFS(T_Horodateur[HRS2],T_Horodateur[DATE],">="&T_Horodateur[[#This Row],[DATE]]-(WEEKDAY(T_Horodateur[[#This Row],[DATE]],1)-1),T_Horodateur[DATE],"<="&T_Horodateur[[#This Row],[DATE]]-(WEEKDAY(T_Horodateur[[#This Row],[DATE]],1)-7))) | R33: =IF(WEEKDAY(T_Horodateur[[#This Row],[DATE]],2)<>7,"",SUMIFS(T_Horodateur[$/JOUR],T_Horodateur[DATE],">="&T_Horodateur[[#This Row],[DATE]]-(WEEKDAY(T_Horodateur[[#This Row],[DATE]],1)-1),T_Horodateur[DATE],"<="&T_Horodateur[[#This Row],[DATE]]-(WEEKDAY(T_Horodateur[[#This Row],[DATE]],1)-7)))
A34: =TEXT(T_Horodateur[[#This Row],[DATE]],"jjjj") -> dimanche | B34: 43898 | C34: =B34 -> 43898 | D34: CV | E34: 33595 | F34: 0.58333333 | G34: 0.70833333 | H34: =(T_Horodateur[[#This Row],[FIN]]-T_Horodateur[[#This Row],[DÉBUT]])*24 -> 3 | I34: =IF(T_Horodateur[[#This Row],[DÉBUT]]="",0,VLOOKUP(T_Horodateur[[#This Row],[HRS]],Horaires[],2,1)) -> 0 | J34: =IF(T_Horodateur[[#This Row],[DÉBUT]]="",0,VLOOKUP(T_Horodateur[[#This Row],[HRS]],Hoaires2[],2,1)) -> 0 | K34: =H34-J34 -> 3 | L34: =IF(J34=2,12.65,0) -> 0 | M34: =O34*7.45% -> 4.57281 | N34: =IF(WEEKDAY(T_Horodateur[[#This Row],[DATE]],2)<>7,"",SUMIFS(T_Horodateur[CHARGE/JRS],T_Horodateur[DATE],">="&T_Horodateur[[#This Row],[DATE]]-(WEEKDAY(T_Horodateur[[#This Row],[DATE]],1)-1),T_Horodateur[DATE],"<="&T_Horodateur[[#This Row],[DATE]]-(WEEKDAY(T_Horodateur[[#This Row],[DATE]],1)-7))) -> 44.638165 | O34: =(IF(D34="CV",OPTIONS!$C$2,IF(D34="COS",OPTIONS!$C$3,IF(D34="FORM",OPTIONS!$C$4,OPTIONS!$C$1))))*K34 -> 61.38 | P34: =T_Horodateur[[#This Row],[S-TOT $/JOUR]]+T_Horodateur[[#This Row],[PRIME REPAS]] -> 61.38 | Q34: =IF(WEEKDAY(T_Horodateur[[#This Row],[DATE]],2)<>7,"",SUMIFS(T_Horodateur[HRS2],T_Horodateur[DATE],">="&T_Horodateur[[#This Row],[DATE]]-(WEEKDAY(T_Horodateur[[#This Row],[DATE]],1)-1),T_Horodateur[DATE],"<="&T_Horodateur[[#This Row],[DATE]]-(WEEKDAY(T_Horodateur[[#This Row],[DATE]],1)-7))) -> 28.5 | R34: =IF(WEEKDAY(T_Horodateur[[#This Row],[DATE]],2)<>7,"",SUMIFS(T_Horodateur[$/JOUR],T_Horodateur[DATE],">="&T_Horodateur[[#This Row],[DATE]]-(WEEKDAY(T_Horodateur[[#This Row],[DATE]],1)-1),T_Horodateur[DATE],"<="&T_Horodateur[[#This Row],[DATE]]-(WEEKDAY(T_Horodateur[[#This Row],[DATE]],1)-7)))+T_Horodateur[[#This Row],[CHARGE3]] -> 643.80816
A35: =TEXT(T_Horodateur[[#This Row],[DATE]],"jjjj") -> lundi | B35: 43899 | C35: =B35 -> 43899 | H35: =(T_Horodateur[[#This Row],[FIN]]-T_Horodateur[[#This Row],[DÉBUT]])*24 -> 0 | I35: =IF(T_Horodateur[[#This Row],[DÉBUT]]="",0,VLOOKUP(T_Horodateur[[#This Row],[HRS]],Horaires[],2,1)) -> 0 | J35: =IF(T_Horodateur[[#This Row],[DÉBUT]]="",0,VLOOKUP(T_Horodateur[[#This Row],[HRS]],Hoaires2[],2,1)) -> 0 | K35: =H35-J35 -> 0 | L35: =IF(J35=2,12.65,0) -> 0 | M35: =O35*7.45% -> 0 | N35: =IF(WEEKDAY(T_Horodateur[[#This Row],[DATE]],2)<>7,"",SUMIFS(T_Horodateur[CHARGE/JRS],T_Horodateur[DATE],">="&T_Horodateur[[#This Row],[DATE]]-(WEEKDAY(T_Horodateur[[#This Row],[DATE]],1)-1),T_Horodateur[DATE],"<="&T_Horodateur[[#This Row],[DATE]]-(WEEKDAY(T_Horodateur[[#This Row],[DATE]],1)-7))) | O35: =(IF(D35="CV",OPTIONS!$C$2,IF(D35="COS",OPTIONS!$C$3,IF(D35="FORM",OPTIONS!$C$4,OPTIONS!$C$1))))*K35 -> 0 | P35: =T_Horodateur[[#This Row],[S-TOT $/JOUR]]+T_Horodateur[[#This Row],[PRIME REPAS]] -> 0 | Q35: =IF(WEEKDAY(T_Horodateur[[#This Row],[DATE]],2)<>7,"",SUMIFS(T_Horodateur[HRS2],T_Horodateur[DATE],">="&T_Horodateur[[#This Row],[DATE]]-(WEEKDAY(T_Horodateur[[#This Row],[DATE]],1)-1),T_Horodateur[DATE],"<="&T_Horodateur[[#This Row],[DATE]]-(WEEKDAY(T_Horodateur[[#This Row],[DATE]],1)-7))) | R35: =IF(WEEKDAY(T_Horodateur[[#This Row],[DATE]],2)<>7,"",SUMIFS(T_Horodateur[$/JOUR],T_Horodateur[DATE],">="&T_Horodateur[[#This Row],[DATE]]-(WEEKDAY(T_Horodateur[[#This Row],[DATE]],1)-1),T_Horodateur[DATE],"<="&T_Horodateur[[#This Row],[DATE]]-(WEEKDAY(T_Horodateur[[#This Row],[DATE]],1)-7)))
A36: =TEXT(T_Horodateur[[#This Row],[DATE]],"jjjj") -> mardi | B36: 43900 | C36: =B36 -> 43900 | D36: COS | E36: 33606 | F36: 0.52083333 | G36: 0.75 | H36: =(T_Horodateur[[#This Row],[FIN]]-T_Horodateur[[#This Row],[DÉBUT]])*24 -> 5.5 | I36: =IF(T_Horodateur[[#This Row],[DÉBUT]]="",0,VLOOKUP(T_Horodateur[[#This Row],[HRS]],Horaires[],2,1)) -> 1 | J36: =IF(T_Horodateur[[#This Row],[DÉBUT]]="",0,VLOOKUP(T_Horodateur[[#This Row],[HRS]],Hoaires2[],2,1)) -> 0 | K36: =H36-J36 -> 5.5 | L36: =IF(J36=2,12.65,0) -> 0 | M36: =O36*7.45% -> 9.579955 | N36: =IF(WEEKDAY(T_Horodateur[[#This Row],[DATE]],2)<>7,"",SUMIFS(T_Horodateur[CHARGE/JRS],T_Horodateur[DATE],">="&T_Horodateur[[#This Row],[DATE]]-(WEEKDAY(T_Horodateur[[#This Row],[DATE]],1)-1),T_Horodateur[DATE],"<="&T_Horodateur[[#This Row],[DATE]]-(WEEKDAY(T_Horodateur[[#This Row],[DATE]],1)-7))) | O36: =(IF(D36="CV",OPTIONS!$C$2,IF(D36="COS",OPTIONS!$C$3,IF(D36="FORM",OPTIONS!$C$4,OPTIONS!$C$1))))*K36 -> 128.59 | P36: =T_Horodateur[[#This Row],[S-TOT $/JOUR]]+T_Horodateur[[#This Row],[PRIME REPAS]] -> 128.59 | Q36: =IF(WEEKDAY(T_Horodateur[[#This Row],[DATE]],2)<>7,"",SUMIFS(T_Horodateur[HRS2],T_Horodateur[DATE],">="&T_Horodateur[[#This Row],[DATE]]-(WEEKDAY(T_Horodateur[[#This Row],[DATE]],1)-1),T_Horodateur[DATE],"<="&T_Horodateur[[#This Row],[DATE]]-(WEEKDAY(T_Horodateur[[#This Row],[DATE]],1)-7))) | R36: =IF(WEEKDAY(T_Horodateur[[#This Row],[DATE]],2)<>7,"",SUMIFS(T_Horodateur[$/JOUR],T_Horodateur[DATE],">="&T_Horodateur[[#This Row],[DATE]]-(WEEKDAY(T_Horodateur[[#This Row],[DATE]],1)-1),T_Horodateur[DATE],"<="&T_Horodateur[[#This Row],[DATE]]-(WEEKDAY(T_Horodateur[[#This Row],[DATE]],1)-7)))
A37: =TEXT(T_Horodateur[[#This Row],[DATE]],"jjjj") -> mercredi | B37: 43901 | C37: =B37 -> 43901 | D37: CV | E37: 33538 | F37: 0.54166667 | G37: 0.75 | H37: =(T_Horodateur[[#This Row],[FIN]]-T_Horodateur[[#This Row],[DÉBUT]])*24 -> 5 | I37: =IF(T_Horodateur[[#This Row],[DÉBUT]]="",0,VLOOKUP(T_Horodateur[[#This Row],[HRS]],Horaires[],2,1)) -> 1 | J37: =IF(T_Horodateur[[#This Row],[DÉBUT]]="",0,VLOOKUP(T_Horodateur[[#This Row],[HRS]],Hoaires2[],2,1)) -> 0 | K37: =H37-J37 -> 5 | L37: =IF(J37=2,12.65,0) -> 0 | M37: =O37*7.45% -> 7.62135 | N37: =IF(WEEKDAY(T_Horodateur[[#This Row],[DATE]],2)<>7,"",SUMIFS(T_Horodateur[CHARGE/JRS],T_Horodateur[DATE],">="&T_Horodateur[[#This Row],[DATE]]-(WEEKDAY(T_Horodateur[[#This Row],[DATE]],1)-1),T_Horodateur[DATE],"<="&T_Horodateur[[#This Row],[DATE]]-(WEEKDAY(T_Horodateur[[#This Row],[DATE]],1)-7))) | O37: =(IF(D37="CV",OPTIONS!$C$2,IF(D37="COS",OPTIONS!$C$3,IF(D37="FORM",OPTIONS!$C$4,OPTIONS!$C$1))))*K37 -> 102.3 | P37: =T_Horodateur[[#This Row],[S-TOT $/JOUR]]+T_Horodateur[[#This Row],[PRIME REPAS]] -> 102.3 | Q37: =IF(WEEKDAY(T_Horodateur[[#This Row],[DATE]],2)<>7,"",SUMIFS(T_Horodateur[HRS2],T_Horodateur[DATE],">="&T_Horodateur[[#This Row],[DATE]]-(WEEKDAY(T_Horodateur[[#This Row],[DATE]],1)-1),T_Horodateur[DATE],"<="&T_Horodateur[[#This Row],[DATE]]-(WEEKDAY(T_Horodateur[[#This Row],[DATE]],1)-7))) | R37: =IF(WEEKDAY(T_Horodateur[[#This Row],[DATE]],2)<>7,"",SUMIFS(T_Horodateur[$/JOUR],T_Horodateur[DATE],">="&T_Horodateur[[#This Row],[DATE]]-(WEEKDAY(T_Horodateur[[#This Row],[DATE]],1)-1),T_Horodateur[DATE],"<="&T_Horodateur[[#This Row],[DATE]]-(WEEKDAY(T_Horodateur[[#This Row],[DATE]],1)-7)))
A38: =TEXT(T_Horodateur[[#This Row],[DATE]],"jjjj") -> jeudi | B38: 43902 | C38: =B38 -> 43902 | D38: CV | E38: 33524 | F38: 0.41666667 | G38: 0.79166667 | H38: =(T_Horodateur[[#This Row],[FIN]]-T_Horodateur[[#This Row],[DÉBUT]])*24 -> 9 | I38: =IF(T_Horodateur[[#This Row],[DÉBUT]]="",0,VLOOKUP(T_Horodateur[[#This Row],[HRS]],Horaires[],2,1)) -> 2 | J38: =IF(T_Horodateur[[#This Row],[DÉBUT]]="",0,VLOOKUP(T_Horodateur[[#This Row],[HRS]],Hoaires2[],2,1)) -> 1 | K38: =H38-J38 -> 8 | L38: =IF(J38=2,12.65,0) -> 0 | M38: =O38*7.45% -> 12.19416 | N38: =IF(WEEKDAY(T_Horodateur[[#This Row],[DATE]],2)<>7,"",SUMIFS(T_Horodateur[CHARGE/JRS],T_Horodateur[DATE],">="&T_Horodateur[[#This Row],[DATE]]-(WEEKDAY(T_Horodateur[[#This Row],[DATE]],1)-1),T_Horodateur[DATE],"<="&T_Horodateur[[#This Row],[DATE]]-(WEEKDAY(T_Horodateur[[#This Row],[DATE]],1)-7))) | O38: =(IF(D38="CV",OPTIONS!$C$2,IF(D38="COS",OPTIONS!$C$3,IF(D38="FORM",OPTIONS!$C$4,OPTIONS!$C$1))))*K38 -> 163.68 | P38: =T_Horodateur[[#This Row],[S-TOT $/JOUR]]+T_Horodateur[[#This Row],[PRIME REPAS]] -> 163.68 | Q38: =IF(WEEKDAY(T_Horodateur[[#This Row],[DATE]],2)<>7,"",SUMIFS(T_Horodateur[HRS2],T_Horodateur[DATE],">="&T_Horodateur[[#This Row],[DATE]]-(WEEKDAY(T_Horodateur[[#This Row],[DATE]],1)-1),T_Horodateur[DATE],"<="&T_Horodateur[[#This Row],[DATE]]-(WEEKDAY(T_Horodateur[[#This Row],[DATE]],1)-7))) | R38: =IF(WEEKDAY(T_Horodateur[[#This Row],[DATE]],2)<>7,"",SUMIFS(T_Horodateur[$/JOUR],T_Horodateur[DATE],">="&T_Horodateur[[#This Row],[DATE]]-(WEEKDAY(T_Horodateur[[#This Row],[DATE]],1)-1),T_Horodateur[DATE],"<="&T_Horodateur[[#This Row],[DATE]]-(WEEKDAY(T_Horodateur[[#This Row],[DATE]],1)-7)))
A39: =TEXT(T_Horodateur[[#This Row],[DATE]],"jjjj") -> vendredi | B39: 43903 | C39: =B39 -> 43903 | D39: CV | E39: 33524 | F39: 0.41666667 | G39: 0.75 | H39: =(T_Horodateur[[#This Row],[FIN]]-T_Horodateur[[#This Row],[DÉBUT]])*24 -> 8 | I39: =IF(T_Horodateur[[#This Row],[DÉBUT]]="",0,VLOOKUP(T_Horodateur[[#This Row],[HRS]],Horaires[],2,1)) -> 2 | J39: =IF(T_Horodateur[[#This Row],[DÉBUT]]="",0,VLOOKUP(T_Horodateur[[#This Row],[HRS]],Hoaires2[],2,1)) -> 1 | K39: =H39-J39 -> 7 | L39: =IF(J39=2,12.65,0) -> 0 | M39: =O39*7.45% -> 10.66989 | N39: =IF(WEEKDAY(T_Horodateur[[#This Row],[DATE]],2)<>7,"",SUMIFS(T_Horodateur[CHARGE/JRS],T_Horodateur[DATE],">="&T_Horodateur[[#This Row],[DATE]]-(WEEKDAY(T_Horodateur[[#This Row],[DATE]],1)-1),T_Horodateur[DATE],"<="&T_Horodateur[[#This Row],[DATE]]-(WEEKDAY(T_Horodateur[[#This Row],[DATE]],1)-7))) | O39: =(IF(D39="CV",OPTIONS!$C$2,IF(D39="COS",OPTIONS!$C$3,IF(D39="FORM",OPTIONS!$C$4,OPTIONS!$C$1))))*K39 -> 143.22 | P39: =T_Horodateur[[#This Row],[S-TOT $/JOUR]]+T_Horodateur[[#This Row],[PRIME REPAS]] -> 143.22 | Q39: =IF(WEEKDAY(T_Horodateur[[#This Row],[DATE]],2)<>7,"",SUMIFS(T_Horodateur[HRS2],T_Horodateur[DATE],">="&T_Horodateur[[#This Row],[DATE]]-(WEEKDAY(T_Horodateur[[#This Row],[DATE]],1)-1),T_Horodateur[DATE],"<="&T_Horodateur[[#This Row],[DATE]]-(WEEKDAY(T_Horodateur[[#This Row],[DATE]],1)-7))) | R39: =IF(WEEKDAY(T_Horodateur[[#This Row],[DATE]],2)<>7,"",SUMIFS(T_Horodateur[$/JOUR],T_Horodateur[DATE],">="&T_Horodateur[[#This Row],[DATE]]-(WEEKDAY(T_Horodateur[[#This Row],[DATE]],1)-1),T_Horodateur[DATE],"<="&T_Horodateur[[#This Row],[DATE]]-(WEEKDAY(T_Horodateur[[#This Row],[DATE]],1)-7)))
A40: =TEXT(T_Horodateur[[#This Row],[DATE]],"jjjj") -> samedi | B40: 43904 | C40: =B40 -> 43904 | D40: CV | H40: =(T_Horodateur[[#This Row],[FIN]]-T_Horodateur[[#This Row],[DÉBUT]])*24 -> 0 | I40: =IF(T_Horodateur[[#This Row],[DÉBUT]]="",0,VLOOKUP(T_Horodateur[[#This Row],[HRS]],Horaires[],2,1)) -> 0 | J40: =IF(T_Horodateur[[#This Row],[DÉBUT]]="",0,VLOOKUP(T_Horodateur[[#This Row],[HRS]],Hoaires2[],2,1)) -> 0 | K40: =H40-J40 -> 0 | L40: =IF(J40=2,12.65,0) -> 0 | M40: =O40*7.45% -> 0 | N40: =IF(WEEKDAY(T_Horodateur[[#This Row],[DATE]],2)<>7,"",SUMIFS(T_Horodateur[CHARGE/JRS],T_Horodateur[DATE],">="&T_Horodateur[[#This Row],[DATE]]-(WEEKDAY(T_Horodateur[[#This Row],[DATE]],1)-1),T_Horodateur[DATE],"<="&T_Horodateur[[#This Row],[DATE]]-(WEEKDAY(T_Horodateur[[#This Row],[DATE]],1)-7))) | O40: =(IF(D40="CV",OPTIONS!$C$2,IF(D40="COS",OPTIONS!$C$3,IF(D40="FORM",OPTIONS!$C$4,OPTIONS!$C$1))))*K40 -> 0 | P40: =T_Horodateur[[#This Row],[S-TOT $/JOUR]]+T_Horodateur[[#This Row],[PRIME REPAS]] -> 0 | Q40: =IF(WEEKDAY(T_Horodateur[[#This Row],[DATE]],2)<>7,"",SUMIFS(T_Horodateur[HRS2],T_Horodateur[DATE],">="&T_Horodateur[[#This Row],[DATE]]-(WEEKDAY(T_Horodateur[[#This Row],[DATE]],1)-1),T_Horodateur[DATE],"<="&T_Horodateur[[#This Row],[DATE]]-(WEEKDAY(T_Horodateur[[#This Row],[DATE]],1)-7))) | R40: =IF(WEEKDAY(T_Horodateur[[#This Row],[DATE]],2)<>7,"",SUMIFS(T_Horodateur[$/JOUR],T_Horodateur[DATE],">="&T_Horodateur[[#This Row],[DATE]]-(WEEKDAY(T_Horodateur[[#This Row],[DATE]],1)-1),T_Horodateur[DATE],"<="&T_Horodateur[[#This Row],[DATE]]-(WEEKDAY(T_Horodateur[[#This Row],[DATE]],1)-7)))
A41: =TEXT(T_Horodateur[[#This Row],[DATE]],"jjjj") -> dimanche | B41: 43905 | C41: =B41 -> 43905 | D41: COS | E41: 33606 | F41: 0.47916667 | G41: 0.72916667 | H41: =(T_Horodateur[[#This Row],[FIN]]-T_Horodateur[[#This Row],[DÉBUT]])*24 -> 6 | I41: =IF(T_Horodateur[[#This Row],[DÉBUT]]="",0,VLOOKUP(T_Horodateur[[#This Row],[HRS]],Horaires[],2,1)) -> 1 | J41: =IF(T_Horodateur[[#This Row],[DÉBUT]]="",0,VLOOKUP(T_Horodateur[[#This Row],[HRS]],Hoaires2[],2,1)) -> 0 | K41: =H41-J41 -> 6 | L41: =IF(J41=2,12.65,0) -> 0 | M41: =O41*7.45% -> 10.45086 | N41: =IF(WEEKDAY(T_Horodateur[[#This Row],[DATE]],2)<>7,"",SUMIFS(T_Horodateur[CHARGE/JRS],T_Horodateur[DATE],">="&T_Horodateur[[#This Row],[DATE]]-(WEEKDAY(T_Horodateur[[#This Row],[DATE]],1)-1),T_Horodateur[DATE],"<="&T_Horodateur[[#This Row],[DATE]]-(WEEKDAY(T_Horodateur[[#This Row],[DATE]],1)-7))) -> 48.686569 | O41: =(IF(D41="CV",OPTIONS!$C$2,IF(D41="COS",OPTIONS!$C$3,IF(D41="FORM",OPTIONS!$C$4,OPTIONS!$C$1))))*K41 -> 140.28 | P41: =T_Horodateur[[#This Row],[S-TOT $/JOUR]]+T_Horodateur[[#This Row],[PRIME REPAS]] -> 140.28 | Q41: =IF(WEEKDAY(T_Horodateur[[#This Row],[DATE]],2)<>7,"",SUMIFS(T_Horodateur[HRS2],T_Horodateur[DATE],">="&T_Horodateur[[#This Row],[DATE]]-(WEEKDAY(T_Horodateur[[#This Row],[DATE]],1)-1),T_Horodateur[DATE],"<="&T_Horodateur[[#This Row],[DATE]]-(WEEKDAY(T_Horodateur[[#This Row],[DATE]],1)-7))) -> 29.95 | R41: =IF(WEEKDAY(T_Horodateur[[#This Row],[DATE]],2)<>7,"",SUMIFS(T_Horodateur[$/JOUR],T_Horodateur[DATE],">="&T_Horodateur[[#This Row],[DATE]]-(WEEKDAY(T_Horodateur[[#This Row],[DATE]],1)-1),T_Horodateur[DATE],"<="&T_Horodateur[[#This Row],[DATE]]-(WEEKDAY(T_Horodateur[[#This Row],[DATE]],1)-7)))+T_Horodateur[[#This Row],[CHARGE3]] -> 702.19757
A42: =TEXT(T_Horodateur[[#This Row],[DATE]],"jjjj") -> lundi | B42: 43906 | C42: =B42 -> 43906 | D42: CV | E42: 33606 | F42: 0.54166667 | G42: 0.75 | H42: =(T_Horodateur[[#This Row],[FIN]]-T_Horodateur[[#This Row],[DÉBUT]])*24 -> 5 | I42: =IF(T_Horodateur[[#This Row],[DÉBUT]]="",0,VLOOKUP(T_Horodateur[[#This Row],[HRS]],Horaires[],2,1)) -> 1 | J42: =IF(T_Horodateur[[#This Row],[DÉBUT]]="",0,VLOOKUP(T_Horodateur[[#This Row],[HRS]],Hoaires2[],2,1)) -> 0 | K42: =H42-J42 -> 5 | L42: =IF(J42=2,12.65,0) -> 0 | M42: =O42*7.45% -> 7.62135 | N42: =IF(WEEKDAY(T_Horodateur[[#This Row],[DATE]],2)<>7,"",SUMIFS(T_Horodateur[CHARGE/JRS],T_Horodateur[DATE],">="&T_Horodateur[[#This Row],[DATE]]-(WEEKDAY(T_Horodateur[[#This Row],[DATE]],1)-1),T_Horodateur[DATE],"<="&T_Horodateur[[#This Row],[DATE]]-(WEEKDAY(T_Horodateur[[#This Row],[DATE]],1)-7))) | O42: =(IF(D42="CV",OPTIONS!$C$2,IF(D42="COS",OPTIONS!$C$3,IF(D42="FORM",OPTIONS!$C$4,OPTIONS!$C$1))))*K42 -> 102.3 | P42: =T_Horodateur[[#This Row],[S-TOT $/JOUR]]+T_Horodateur[[#This Row],[PRIME REPAS]] -> 102.3 | Q42: =IF(WEEKDAY(T_Horodateur[[#This Row],[DATE]],2)<>7,"",SUMIFS(T_Horodateur[HRS2],T_Horodateur[DATE],">="&T_Horodateur[[#This Row],[DATE]]-(WEEKDAY(T_Horodateur[[#This Row],[DATE]],1)-1),T_Horodateur[DATE],"<="&T_Horodateur[[#This Row],[DATE]]-(WEEKDAY(T_Horodateur[[#This Row],[DATE]],1)-7))) | R42: =IF(WEEKDAY(T_Horodateur[[#This Row],[DATE]],2)<>7,"",SUMIFS(T_Horodateur[$/JOUR],T_Horodateur[DATE],">="&T_Horodateur[[#This Row],[DATE]]-(WEEKDAY(T_Horodateur[[#This Row],[DATE]],1)-1),T_Horodateur[DATE],"<="&T_Horodateur[[#This Row],[DATE]]-(WEEKDAY(T_Horodateur[[#This Row],[DATE]],1)-7)))
A43: =TEXT(T_Horodateur[[#This Row],[DATE]],"jjjj") -> mardi | B43: 43907 | C43: =B43 -> 43907 | D43: CV | H43: =(T_Horodateur[[#This Row],[FIN]]-T_Horodateur[[#This Row],[DÉBUT]])*24 -> 0 | I43: =IF(T_Horodateur[[#This Row],[DÉBUT]]="",0,VLOOKUP(T_Horodateur[[#This Row],[HRS]],Horaires[],2,1)) -> 0 | J43: =IF(T_Horodateur[[#This Row],[DÉBUT]]="",0,VLOOKUP(T_Horodateur[[#This Row],[HRS]],Hoaires2[],2,1)) -> 0 | K43: =H43-J43 -> 0 | L43: =IF(J43=2,12.65,0) -> 0 | M43: =O43*7.45% -> 0 | N43: =IF(WEEKDAY(T_Horodateur[[#This Row],[DATE]],2)<>7,"",SUMIFS(T_Horodateur[CHARGE/JRS],T_Horodateur[DATE],">="&T_Horodateur[[#This Row],[DATE]]-(WEEKDAY(T_Horodateur[[#This Row],[DATE]],1)-1),T_Horodateur[DATE],"<="&T_Horodateur[[#This Row],[DATE]]-(WEEKDAY(T_Horodateur[[#This Row],[DATE]],1)-7))) | O43: =(IF(D43="CV",OPTIONS!$C$2,IF(D43="COS",OPTIONS!$C$3,IF(D43="FORM",OPTIONS!$C$4,OPTIONS!$C$1))))*K43 -> 0 | P43: =T_Horodateur[[#This Row],[S-TOT $/JOUR]]+T_Horodateur[[#This Row],[PRIME REPAS]] -> 0 | Q43: =IF(WEEKDAY(T_Horodateur[[#This Row],[DATE]],2)<>7,"",SUMIFS(T_Horodateur[HRS2],T_Horodateur[DATE],">="&T_Horodateur[[#This Row],[DATE]]-(WEEKDAY(T_Horodateur[[#This Row],[DATE]],1)-1),T_Horodateur[DATE],"<="&T_Horodateur[[#This Row],[DATE]]-(WEEKDAY(T_Horodateur[[#This Row],[DATE]],1)-7))) | R43: =IF(WEEKDAY(T_Horodateur[[#This Row],[DATE]],2)<>7,"",SUMIFS(T_Horodateur[$/JOUR],T_Horodateur[DATE],">="&T_Horodateur[[#This Row],[DATE]]-(WEEKDAY(T_Horodateur[[#This Row],[DATE]],1)-1),T_Horodateur[DATE],"<="&T_Horodateur[[#This Row],[DATE]]-(WEEKDAY(T_Horodateur[[#This Row],[DATE]],1)-7)))
A44: =TEXT(T_Horodateur[[#This Row],[DATE]],"jjjj") -> mercredi | B44: 43908 | C44: =B44 -> 43908 | D44: CV | E44: 33606 | F44: 0.375 | G44: 0.75 | H44: =(T_Horodateur[[#This Row],[FIN]]-T_Horodateur[[#This Row],[DÉBUT]])*24 -> 9 | I44: =IF(T_Horodateur[[#This Row],[DÉBUT]]="",0,VLOOKUP(T_Horodateur[[#This Row],[HRS]],Horaires[],2,1)) -> 2 | J44: =IF(T_Horodateur[[#This Row],[DÉBUT]]="",0,VLOOKUP(T_Horodateur[[#This Row],[HRS]],Hoaires2[],2,1)) -> 1 | K44: =H44-J44 -> 8 | L44: =IF(J44=2,12.65,0) -> 0 | M44: =O44*7.45% -> 12.19416 | N44: =IF(WEEKDAY(T_Horodateur[[#This Row],[DATE]],2)<>7,"",SUMIFS(T_Horodateur[CHARGE/JRS],T_Horodateur[DATE],">="&T_Horodateur[[#This Row],[DATE]]-(WEEKDAY(T_Horodateur[[#This Row],[DATE]],1)-1),T_Horodateur[DATE],"<="&T_Horodateur[[#This Row],[DATE]]-(WEEKDAY(T_Horodateur[[#This Row],[DATE]],1)-7))) | O44: =(IF(D44="CV",OPTIONS!$C$2,IF(D44="COS",OPTIONS!$C$3,IF(D44="FORM",OPTIONS!$C$4,OPTIONS!$C$1))))*K44 -> 163.68 | P44: =T_Horodateur[[#This Row],[S-TOT $/JOUR]]+T_Horodateur[[#This Row],[PRIME REPAS]] -> 163.68 | Q44: =IF(WEEKDAY(T_Horodateur[[#This Row],[DATE]],2)<>7,"",SUMIFS(T_Horodateur[HRS2],T_Horodateur[DATE],">="&T_Horodateur[[#This Row],[DATE]]-(WEEKDAY(T_Horodateur[[#This Row],[DATE]],1)-1),T_Horodateur[DATE],"<="&T_Horodateur[[#This Row],[DATE]]-(WEEKDAY(T_Horodateur[[#This Row],[DATE]],1)-7))) | R44: =IF(WEEKDAY(T_Horodateur[[#This Row],[DATE]],2)<>7,"",SUMIFS(T_Horodateur[$/JOUR],T_Horodateur[DATE],">="&T_Horodateur[[#This Row],[DATE]]-(WEEKDAY(T_Horodateur[[#This Row],[DATE]],1)-1),T_Horodateur[DATE],"<="&T_Horodateur[[#This Row],[DATE]]-(WEEKDAY(T_Horodateur[[#This Row],[DATE]],1)-7)))
A45: =TEXT(T_Horodateur[[#This Row],[DATE]],"jjjj") -> jeudi | B45: 43909 | C45: =B45 -> 43909 | D45: COS | E45: 33606 | F45: 0.37708333 | G45: 0.75 | H45: =(T_Horodateur[[#This Row],[FIN]]-T_Horodateur[[#This Row],[DÉBUT]])*24 -> 8.95 | I45: =IF(T_Horodateur[[#This Row],[DÉBUT]]="",0,VLOOKUP(T_Horodateur[[#This Row],[HRS]],Horaires[],2,1)) -> 2 | J45: =IF(T_Horodateur[[#This Row],[DÉBUT]]="",0,VLOOKUP(T_Horodateur[[#This Row],[HRS]],Hoaires2[],2,1)) -> 1 | K45: =H45-J45 -> 7.95 | L45: =IF(J45=2,12.65,0) -> 0 | M45: =O45*7.45% -> 13.847389 | N45: =IF(WEEKDAY(T_Horodateur[[#This Row],[DATE]],2)<>7,"",SUMIFS(T_Horodateur[CHARGE/JRS],T_Horodateur[DATE],">="&T_Horodateur[[#This Row],[DATE]]-(WEEKDAY(T_Horodateur[[#This Row],[DATE]],1)-1),T_Horodateur[DATE],"<="&T_Horodateur[[#This Row],[DATE]]-(WEEKDAY(T_Horodateur[[#This Row],[DATE]],1)-7))) | O45: =(IF(D45="CV",OPTIONS!$C$2,IF(D45="COS",OPTIONS!$C$3,IF(D45="FORM",OPTIONS!$C$4,OPTIONS!$C$1))))*K45 -> 185.871 | P45: =T_Horodateur[[#This Row],[S-TOT $/JOUR]]+T_Horodateur[[#This Row],[PRIME REPAS]] -> 185.871 | Q45: =IF(WEEKDAY(T_Horodateur[[#This Row],[DATE]],2)<>7,"",SUMIFS(T_Horodateur[HRS2],T_Horodateur[DATE],">="&T_Horodateur[[#This Row],[DATE]]-(WEEKDAY(T_Horodateur[[#This Row],[DATE]],1)-1),T_Horodateur[DATE],"<="&T_Horodateur[[#This Row],[DATE]]-(WEEKDAY(T_Horodateur[[#This Row],[DATE]],1)-7))) | R45: =IF(WEEKDAY(T_Horodateur[[#This Row],[DATE]],2)<>7,"",SUMIFS(T_Horodateur[$/JOUR],T_Horodateur[DATE],">="&T_Horodateur[[#This Row],[DATE]]-(WEEKDAY(T_Horodateur[[#This Row],[DATE]],1)-1),T_Horodateur[DATE],"<="&T_Horodateur[[#This Row],[DATE]]-(WEEKDAY(T_Horodateur[[#This Row],[DATE]],1)-7)))
A46: =TEXT(T_Horodateur[[#This Row],[DATE]],"jjjj") -> vendredi | B46: 43910 | C46: =B46 -> 43910 | D46: CV | E46: 33595 | F46: 0.66666667 | G46: 0.79166667 | H46: =(T_Horodateur[[#This Row],[FIN]]-T_Horodateur[[#This Row],[DÉBUT]])*24 -> 3 | I46: =IF(T_Horodateur[[#This Row],[DÉBUT]]="",0,VLOOKUP(T_Horodateur[[#This Row],[HRS]],Horaires[],2,1)) -> 0 | J46: =IF(T_Horodateur[[#This Row],[DÉBUT]]="",0,VLOOKUP(T_Horodateur[[#This Row],[HRS]],Hoaires2[],2,1)) -> 0 | K46: =H46-J46 -> 3 | L46: =IF(J46=2,12.65,0) -> 0 | M46: =O46*7.45% -> 4.57281 | N46: =IF(WEEKDAY(T_Horodateur[[#This Row],[DATE]],2)<>7,"",SUMIFS(T_Horodateur[CHARGE/JRS],T_Horodateur[DATE],">="&T_Horodateur[[#This Row],[DATE]]-(WEEKDAY(T_Horodateur[[#This Row],[DATE]],1)-1),T_Horodateur[DATE],"<="&T_Horodateur[[#This Row],[DATE]]-(WEEKDAY(T_Horodateur[[#This Row],[DATE]],1)-7))) | O46: =(IF(D46="CV",OPTIONS!$C$2,IF(D46="COS",OPTIONS!$C$3,IF(D46="FORM",OPTIONS!$C$4,OPTIONS!$C$1))))*K46 -> 61.38 | P46: =T_Horodateur[[#This Row],[S-TOT $/JOUR]]+T_Horodateur[[#This Row],[PRIME REPAS]] -> 61.38 | Q46: =IF(WEEKDAY(T_Horodateur[[#This Row],[DATE]],2)<>7,"",SUMIFS(T_Horodateur[HRS2],T_Horodateur[DATE],">="&T_Horodateur[[#This Row],[DATE]]-(WEEKDAY(T_Horodateur[[#This Row],[DATE]],1)-1),T_Horodateur[DATE],"<="&T_Horodateur[[#This Row],[DATE]]-(WEEKDAY(T_Horodateur[[#This Row],[DATE]],1)-7))) | R46: =IF(WEEKDAY(T_Horodateur[[#This Row],[DATE]],2)<>7,"",SUMIFS(T_Horodateur[$/JOUR],T_Horodateur[DATE],">="&T_Horodateur[[#This Row],[DATE]]-(WEEKDAY(T_Horodateur[[#This Row],[DATE]],1)-1),T_Horodateur[DATE],"<="&T_Horodateur[[#This Row],[DATE]]-(WEEKDAY(T_Horodateur[[#This Row],[DATE]],1)-7)))
A47: =TEXT(T_Horodateur[[#This Row],[DATE]],"jjjj") -> samedi | B47: 43911 | C47: =B47 -> 43911 | D47: CV | H47: =(T_Horodateur[[#This Row],[FIN]]-T_Horodateur[[#This Row],[DÉBUT]])*24 -> 0 | I47: =IF(T_Horodateur[[#This Row],[DÉBUT]]="",0,VLOOKUP(T_Horodateur[[#This Row],[HRS]],Horaires[],2,1)) -> 0 | J47: =IF(T_Horodateur[[#This Row],[DÉBUT]]="",0,VLOOKUP(T_Horodateur[[#This Row],[HRS]],Hoaires2[],2,1)) -> 0 | K47: =H47-J47 -> 0 | L47: =IF(J47=2,12.65,0) -> 0 | M47: =O47*7.45% -> 0 | N47: =IF(WEEKDAY(T_Horodateur[[#This Row],[DATE]],2)<>7,"",SUMIFS(T_Horodateur[CHARGE/JRS],T_Horodateur[DATE],">="&T_Horodateur[[#This Row],[DATE]]-(WEEKDAY(T_Horodateur[[#This Row],[DATE]],1)-1),T_Horodateur[DATE],"<="&T_Horodateur[[#This Row],[DATE]]-(WEEKDAY(T_Horodateur[[#This Row],[DATE]],1)-7))) | O47: =(IF(D47="CV",OPTIONS!$C$2,IF(D47="COS",OPTIONS!$C$3,IF(D47="FORM",OPTIONS!$C$4,OPTIONS!$C$1))))*K47 -> 0 | P47: =T_Horodateur[[#This Row],[S-TOT $/JOUR]]+T_Horodateur[[#This Row],[PRIME REPAS]] -> 0 | Q47: =IF(WEEKDAY(T_Horodateur[[#This Row],[DATE]],2)<>7,"",SUMIFS(T_Horodateur[HRS2],T_Horodateur[DATE],">="&T_Horodateur[[#This Row],[DATE]]-(WEEKDAY(T_Horodateur[[#This Row],[DATE]],1)-1),T_Horodateur[DATE],"<="&T_Horodateur[[#This Row],[DATE]]-(WEEKDAY(T_Horodateur[[#This Row],[DATE]],1)-7))) | R47: =IF(WEEKDAY(T_Horodateur[[#This Row],[DATE]],2)<>7,"",SUMIFS(T_Horodateur[$/JOUR],T_Horodateur[DATE],">="&T_Horodateur[[#This Row],[DATE]]-(WEEKDAY(T_Horodateur[[#This Row],[DATE]],1)-1),T_Horodateur[DATE],"<="&T_Horodateur[[#This Row],[DATE]]-(WEEKDAY(T_Horodateur[[#This Row],[DATE]],1)-7)))
A48: =TEXT(T_Horodateur[[#This Row],[DATE]],"jjjj") -> dimanche | B48: 43912 | C48: =B48 -> 43912 | D48: CV | H48: =(T_Horodateur[[#This Row],[FIN]]-T_Horodateur[[#This Row],[DÉBUT]])*24 -> 0 | I48: =IF(T_Horodateur[[#This Row],[DÉBUT]]="",0,VLOOKUP(T_Horodateur[[#This Row],[HRS]],Horaires[],2,1)) -> 0 | J48: =IF(T_Horodateur[[#This Row],[DÉBUT]]="",0,VLOOKUP(T_Horodateur[[#This Row],[HRS]],Hoaires2[],2,1)) -> 0 | K48: =H48-J48 -> 0 | L48: =IF(J48=2,12.65,0) -> 0 | M48: =O48*7.45% -> 0 | N48: =IF(WEEKDAY(T_Horodateur[[#This Row],[DATE]],2)<>7,"",SUMIFS(T_Horodateur[CHARGE/JRS],T_Horodateur[DATE],">="&T_Horodateur[[#This Row],[DATE]]-(WEEKDAY(T_Horodateur[[#This Row],[DATE]],1)-1),T_Horodateur[DATE],"<="&T_Horodateur[[#This Row],[DATE]]-(WEEKDAY(T_Horodateur[[#This Row],[DATE]],1)-7))) -> 11.54005 | O48: =(IF(D48="CV",OPTIONS!$C$2,IF(D48="COS",OPTIONS!$C$3,IF(D48="FORM",OPTIONS!$C$4,OPTIONS!$C$1))))*K48 -> 0 | P48: =T_Horodateur[[#This Row],[S-TOT $/JOUR]]+T_Horodateur[[#This Row],[PRIME REPAS]] -> 0 | Q48: =IF(WEEKDAY(T_Horodateur[[#This Row],[DATE]],2)<>7,"",SUMIFS(T_Horodateur[HRS2],T_Horodateur[DATE],">="&T_Horodateur[[#This Row],[DATE]]-(WEEKDAY(T_Horodateur[[#This Row],[DATE]],1)-1),T_Horodateur[DATE],"<="&T_Horodateur[[#This Row],[DATE]]-(WEEKDAY(T_Horodateur[[#This Row],[DATE]],1)-7))) -> 7 | R48: =IF(WEEKDAY(T_Horodateur[[#This Row],[DATE]],2)<>7,"",SUMIFS(T_Horodateur[$/JOUR],T_Horodateur[DATE],">="&T_Horodateur[[#This Row],[DATE]]-(WEEKDAY(T_Horodateur[[#This Row],[DATE]],1)-1),T_Horodateur[DATE],"<="&T_Horodateur[[#This Row],[DATE]]-(WEEKDAY(T_Horodateur[[#This Row],[DATE]],1)-7)))+T_Horodateur[[#This Row],[CHARGE3]] -> 166.44005
A49: =TEXT(T_Horodateur[[#This Row],[DATE]],"jjjj") -> lundi | B49: 43913 | C49: =B49 -> 43913 | D49: CV | H49: =(T_Horodateur[[#This Row],[FIN]]-T_Horodateur[[#This Row],[DÉBUT]])*24 -> 0 | I49: =IF(T_Horodateur[[#This Row],[DÉBUT]]="",0,VLOOKUP(T_Horodateur[[#This Row],[HRS]],Horaires[],2,1)) -> 0 | J49: =IF(T_Horodateur[[#This Row],[DÉBUT]]="",0,VLOOKUP(T_Horodateur[[#This Row],[HRS]],Hoaires2[],2,1)) -> 0 | K49: =H49-J49 -> 0 | L49: =IF(J49=2,12.65,0) -> 0 | M49: =O49*7.45% -> 0 | N49: =IF(WEEKDAY(T_Horodateur[[#This Row],[DATE]],2)<>7,"",SUMIFS(T_Horodateur[CHARGE/JRS],T_Horodateur[DATE],">="&T_Horodateur[[#This Row],[DATE]]-(WEEKDAY(T_Horodateur[[#This Row],[DATE]],1)-1),T_Horodateur[DATE],"<="&T_Horodateur[[#This Row],[DATE]]-(WEEKDAY(T_Horodateur[[#This Row],[DATE]],1)-7))) | O49: =(IF(D49="CV",OPTIONS!$C$2,IF(D49="COS",OPTIONS!$C$3,IF(D49="FORM",OPTIONS!$C$4,OPTIONS!$C$1))))*K49 -> 0 | P49: =T_Horodateur[[#This Row],[S-TOT $/JOUR]]+T_Horodateur[[#This Row],[PRIME REPAS]] -> 0 | Q49: =IF(WEEKDAY(T_Horodateur[[#This Row],[DATE]],2)<>7,"",SUMIFS(T_Horodateur[HRS2],T_Horodateur[DATE],">="&T_Horodateur[[#This Row],[DATE]]-(WEEKDAY(T_Horodateur[[#This Row],[DATE]],1)-1),T_Horodateur[DATE],"<="&T_Horodateur[[#This Row],[DATE]]-(WEEKDAY(T_Horodateur[[#This Row],[DATE]],1)-7))) | R49: =IF(WEEKDAY(T_Horodateur[[#This Row],[DATE]],2)<>7,"",SUMIFS(T_Horodateur[$/JOUR],T_Horodateur[DATE],">="&T_Horodateur[[#This Row],[DATE]]-(WEEKDAY(T_Horodateur[[#This Row],[DATE]],1)-1),T_Horodateur[DATE],"<="&T_Horodateur[[#This Row],[DATE]]-(WEEKDAY(T_Horodateur[[#This Row],[DATE]],1)-7)))
A50: =TEXT(T_Horodateur[[#This Row],[DATE]],"jjjj") -> mardi | B50: 43914 | C50: =B50 -> 43914 | D50: CV | H50: =(T_Horodateur[[#This Row],[FIN]]-T_Horodateur[[#This Row],[DÉBUT]])*24 -> 0 | I50: =IF(T_Horodateur[[#This Row],[DÉBUT]]="",0,VLOOKUP(T_Horodateur[[#This Row],[HRS]],Horaires[],2,1)) -> 0 | J50: =IF(T_Horodateur[[#This Row],[DÉBUT]]="",0,VLOOKUP(T_Horodateur[[#This Row],[HRS]],Hoaires2[],2,1)) -> 0 | K50: =H50-J50 -> 0 | L50: =IF(J50=2,12.65,0) -> 0 | M50: =O50*7.45% -> 0 | N50: =IF(WEEKDAY(T_Horodateur[[#This Row],[DATE]],2)<>7,"",SUMIFS(T_Horodateur[CHARGE/JRS],T_Horodateur[DATE],">="&T_Horodateur[[#This Row],[DATE]]-(WEEKDAY(T_Horodateur[[#This Row],[DATE]],1)-1),T_Horodateur[DATE],"<="&T_Horodateur[[#This Row],[DATE]]-(WEEKDAY(T_Horodateur[[#This Row],[DATE]],1)-7))) | O50: =(IF(D50="CV",OPTIONS!$C$2,IF(D50="COS",OPTIONS!$C$3,IF(D50="FORM",OPTIONS!$C$4,OPTIONS!$C$1))))*K50 -> 0 | P50: =T_Horodateur[[#This Row],[S-TOT $/JOUR]]+T_Horodateur[[#This Row],[PRIME REPAS]] -> 0 | Q50: =IF(WEEKDAY(T_Horodateur[[#This Row],[DATE]],2)<>7,"",SUMIFS(T_Horodateur[HRS2],T_Horodateur[DATE],">="&T_Horodateur[[#This Row],[DATE]]-(WEEKDAY(T_Horodateur[[#This Row],[DATE]],1)-1),T_Horodateur[DATE],"<="&T_Horodateur[[#This Row],[DATE]]-(WEEKDAY(T_Horodateur[[#This Row],[DATE]],1)-7))) | R50: =IF(WEEKDAY(T_Horodateur[[#This Row],[DATE]],2)<>7,"",SUMIFS(T_Horodateur[$/JOUR],T_Horodateur[DATE],">="&T_Horodateur[[#This Row],[DATE]]-(WEEKDAY(T_Horodateur[[#This Row],[DATE]],1)-1),T_Horodateur[DATE],"<="&T_Horodateur[[#This Row],[DATE]]-(WEEKDAY(T_Horodateur[[#This Row],[DATE]],1)-7)))
A51: =TEXT(T_Horodateur[[#This Row],[DATE]],"jjjj") -> mercredi | B51: 43915 | C51: =B51 -> 43915 | D51: CV | H51: =(T_Horodateur[[#This Row],[FIN]]-T_Horodateur[[#This Row],[DÉBUT]])*24 -> 0 | I51: =IF(T_Horodateur[[#This Row],[DÉBUT]]="",0,VLOOKUP(T_Horodateur[[#This Row],[HRS]],Horaires[],2,1)) -> 0 | J51: =IF(T_Horodateur[[#This Row],[DÉBUT]]="",0,VLOOKUP(T_Horodateur[[#This Row],[HRS]],Hoaires2[],2,1)) -> 0 | K51: =H51-J51 -> 0 | L51: =IF(J51=2,12.65,0) -> 0 | M51: =O51*7.45% -> 0 | N51: =IF(WEEKDAY(T_Horodateur[[#This Row],[DATE]],2)<>7,"",SUMIFS(T_Horodateur[CHARGE/JRS],T_Horodateur[DATE],">="&T_Horodateur[[#This Row],[DATE]]-(WEEKDAY(T_Horodateur[[#This Row],[DATE]],1)-1),T_Horodateur[DATE],"<="&T_Horodateur[[#This Row],[DATE]]-(WEEKDAY(T_Horodateur[[#This Row],[DATE]],1)-7))) | O51: =(IF(D51="CV",OPTIONS!$C$2,IF(D51="COS",OPTIONS!$C$3,IF(D51="FORM",OPTIONS!$C$4,OPTIONS!$C$1))))*K51 -> 0 | P51: =T_Horodateur[[#This Row],[S-TOT $/JOUR]]+T_Horodateur[[#This Row],[PRIME REPAS]] -> 0 | Q51: =IF(WEEKDAY(T_Horodateur[[#This Row],[DATE]],2)<>7,"",SUMIFS(T_Horodateur[HRS2],T_Horodateur[DATE],">="&T_Horodateur[[#This Row],[DATE]]-(WEEKDAY(T_Horodateur[[#This Row],[DATE]],1)-1),T_Horodateur[DATE],"<="&T_Horodateur[[#This Row],[DATE]]-(WEEKDAY(T_Horodateur[[#This Row],[DATE]],1)-7))) | R51: =IF(WEEKDAY(T_Horodateur[[#This Row],[DATE]],2)<>7,"",SUMIFS(T_Horodateur[$/JOUR],T_Horodateur[DATE],">="&T_Horodateur[[#This Row],[DATE]]-(WEEKDAY(T_Horodateur[[#This Row],[DATE]],1)-1),T_Horodateur[DATE],"<="&T_Horodateur[[#This Row],[DATE]]-(WEEKDAY(T_Horodateur[[#This Row],[DATE]],1)-7)))
A52: =TEXT(T_Horodateur[[#This Row],[DATE]],"jjjj") -> jeudi | B52: 43916 | C52: =B52 -> 43916 | D52: CV | E52: 33595 | F52: 0.66666667 | G52: 0.79166667 | H52: =(T_Horodateur[[#This Row],[FIN]]-T_Horodateur[[#This Row],[DÉBUT]])*24 -> 3 | I52: =IF(T_Horodateur[[#This Row],[DÉBUT]]="",0,VLOOKUP(T_Horodateur[[#This Row],[HRS]],Horaires[],2,1)) -> 0 | J52: =IF(T_Horodateur[[#This Row],[DÉBUT]]="",0,VLOOKUP(T_Horodateur[[#This Row],[HRS]],Hoaires2[],2,1)) -> 0 | K52: =H52-J52 -> 3 | L52: =IF(J52=2,12.65,0) -> 0 | M52: =O52*7.45% -> 4.57281 | N52: =IF(WEEKDAY(T_Horodateur[[#This Row],[DATE]],2)<>7,"",SUMIFS(T_Horodateur[CHARGE/JRS],T_Horodateur[DATE],">="&T_Horodateur[[#This Row],[DATE]]-(WEEKDAY(T_Horodateur[[#This Row],[DATE]],1)-1),T_Horodateur[DATE],"<="&T_Horodateur[[#This Row],[DATE]]-(WEEKDAY(T_Horodateur[[#This Row],[DATE]],1)-7))) | O52: =(IF(D52="CV",OPTIONS!$C$2,IF(D52="COS",OPTIONS!$C$3,IF(D52="FORM",OPTIONS!$C$4,OPTIONS!$C$1))))*K52 -> 61.38 | P52: =T_Horodateur[[#This Row],[S-TOT $/JOUR]]+T_Horodateur[[#This Row],[PRIME REPAS]] -> 61.38 | Q52: =IF(WEEKDAY(T_Horodateur[[#This Row],[DATE]],2)<>7,"",SUMIFS(T_Horodateur[HRS2],T_Horodateur[DATE],">="&T_Horodateur[[#This Row],[DATE]]-(WEEKDAY(T_Horodateur[[#This Row],[DATE]],1)-1),T_Horodateur[DATE],"<="&T_Horodateur[[#This Row],[DATE]]-(WEEKDAY(T_Horodateur[[#This Row],[DATE]],1)-7))) | R52: =IF(WEEKDAY(T_Horodateur[[#This Row],[DATE]],2)<>7,"",SUMIFS(T_Horodateur[$/JOUR],T_Horodateur[DATE],">="&T_Horodateur[[#This Row],[DATE]]-(WEEKDAY(T_Horodateur[[#This Row],[DATE]],1)-1),T_Horodateur[DATE],"<="&T_Horodateur[[#This Row],[DATE]]-(WEEKDAY(T_Horodateur[[#This Row],[DATE]],1)-7)))
A53: =TEXT(T_Horodateur[[#This Row],[DATE]],"jjjj") -> vendredi | B53: 43917 | C53: =B53 -> 43917 | D53: COS | E53: 33538 | F53: 0.58333333 | G53: 0.75 | H53: =(T_Horodateur[[#This Row],[FIN]]-T_Horodateur[[#This Row],[DÉBUT]])*24 -> 4 | I53: =IF(T_Horodateur[[#This Row],[DÉBUT]]="",0,VLOOKUP(T_Horodateur[[#This Row],[HRS]],Horaires[],2,1)) -> 0 | J53: =IF(T_Horodateur[[#This Row],[DÉBUT]]="",0,VLOOKUP(T_Horodateur[[#This Row],[HRS]],Hoaires2[],2,1)) -> 0 | K53: =H53-J53 -> 4 | L53: =IF(J53=2,12.65,0) -> 0 | M53: =O53*7.45% -> 6.96724 | N53: =IF(WEEKDAY(T_Horodateur[[#This Row],[DATE]],2)<>7,"",SUMIFS(T_Horodateur[CHARGE/JRS],T_Horodateur[DATE],">="&T_Horodateur[[#This Row],[DATE]]-(WEEKDAY(T_Horodateur[[#This Row],[DATE]],1)-1),T_Horodateur[DATE],"<="&T_Horodateur[[#This Row],[DATE]]-(WEEKDAY(T_Horodateur[[#This Row],[DATE]],1)-7))) | O53: =(IF(D53="CV",OPTIONS!$C$2,IF(D53="COS",OPTIONS!$C$3,IF(D53="FORM",OPTIONS!$C$4,OPTIONS!$C$1))))*K53 -> 93.52 | P53: =T_Horodateur[[#This Row],[S-TOT $/JOUR]]+T_Horodateur[[#This Row],[PRIME REPAS]] -> 93.52 | Q53: =IF(WEEKDAY(T_Horodateur[[#This Row],[DATE]],2)<>7,"",SUMIFS(T_Horodateur[HRS2],T_Horodateur[DATE],">="&T_Horodateur[[#This Row],[DATE]]-(WEEKDAY(T_Horodateur[[#This Row],[DATE]],1)-1),T_Horodateur[DATE],"<="&T_Horodateur[[#This Row],[DATE]]-(WEEKDAY(T_Horodateur[[#This Row],[DATE]],1)-7))) | R53: =IF(WEEKDAY(T_Horodateur[[#This Row],[DATE]],2)<>7,"",SUMIFS(T_Horodateur[$/JOUR],T_Horodateur[DATE],">="&T_Horodateur[[#This Row],[DATE]]-(WEEKDAY(T_Horodateur[[#This Row],[DATE]],1)-1),T_Horodateur[DATE],"<="&T_Horodateur[[#This Row],[DATE]]-(WEEKDAY(T_Horodateur[[#This Row],[DATE]],1)-7)))
A54: =TEXT(T_Horodateur[[#This Row],[DATE]],"jjjj") -> samedi | B54: 43918 | C54: =B54 -> 43918 | H54: =(T_Horodateur[[#This Row],[FIN]]-T_Horodateur[[#This Row],[DÉBUT]])*24 -> 0 | I54: =IF(T_Horodateur[[#This Row],[DÉBUT]]="",0,VLOOKUP(T_Horodateur[[#This Row],[HRS]],Horaires[],2,1)) -> 0 | J54: =IF(T_Horodateur[[#This Row],[DÉBUT]]="",0,VLOOKUP(T_Horodateur[[#This Row],[HRS]],Hoaires2[],2,1)) -> 0 | K54: =H54-J54 -> 0 | L54: =IF(J54=2,12.65,0) -> 0 | M54: =O54*7.45% -> 0 | N54: =IF(WEEKDAY(T_Horodateur[[#This Row],[DATE]],2)<>7,"",SUMIFS(T_Horodateur[CHARGE/JRS],T_Horodateur[DATE],">="&T_Horodateur[[#This Row],[DATE]]-(WEEKDAY(T_Horodateur[[#This Row],[DATE]],1)-1),T_Horodateur[DATE],"<="&T_Horodateur[[#This Row],[DATE]]-(WEEKDAY(T_Horodateur[[#This Row],[DATE]],1)-7))) | O54: =(IF(D54="CV",OPTIONS!$C$2,IF(D54="COS",OPTIONS!$C$3,IF(D54="FORM",OPTIONS!$C$4,OPTIONS!$C$1))))*K54 -> 0 | P54: =T_Horodateur[[#This Row],[S-TOT $/JOUR]]+T_Horodateur[[#This Row],[PRIME REPAS]] -> 0 | Q54: =IF(WEEKDAY(T_Horodateur[[#This Row],[DATE]],2)<>7,"",SUMIFS(T_Horodateur[HRS2],T_Horodateur[DATE],">="&T_Horodateur[[#This Row],[DATE]]-(WEEKDAY(T_Horodateur[[#This Row],[DATE]],1)-1),T_Horodateur[DATE],"<="&T_Horodateur[[#This Row],[DATE]]-(WEEKDAY(T_Horodateur[[#This Row],[DATE]],1)-7))) | R54: =IF(WEEKDAY(T_Horodateur[[#This Row],[DATE]],2)<>7,"",SUMIFS(T_Horodateur[$/JOUR],T_Horodateur[DATE],">="&T_Horodateur[[#This Row],[DATE]]-(WEEKDAY(T_Horodateur[[#This Row],[DATE]],1)-1),T_Horodateur[DATE],"<="&T_Horodateur[[#This Row],[DATE]]-(WEEKDAY(T_Horodateur[[#This Row],[DATE]],1)-7)))
A55: =TEXT(T_Horodateur[[#This Row],[DATE]],"jjjj") -> dimanche | B55: 43919 | C55: =B55 -> 43919 | H55: =(T_Horodateur[[#This Row],[FIN]]-T_Horodateur[[#This Row],[DÉBUT]])*24 -> 0 | I55: =IF(T_Horodateur[[#This Row],[DÉBUT]]="",0,VLOOKUP(T_Horodateur[[#This Row],[HRS]],Horaires[],2,1)) -> 0 | J55: =IF(T_Horodateur[[#This Row],[DÉBUT]]="",0,VLOOKUP(T_Horodateur[[#This Row],[HRS]],Hoaires2[],2,1)) -> 0 | K55: =H55-J55 -> 0 | L55: =IF(J55=2,12.65,0) -> 0 | M55: =O55*7.45% -> 0 | N55: =IF(WEEKDAY(T_Horodateur[[#This Row],[DATE]],2)<>7,"",SUMIFS(T_Horodateur[CHARGE/JRS],T_Horodateur[DATE],">="&T_Horodateur[[#This Row],[DATE]]-(WEEKDAY(T_Horodateur[[#This Row],[DATE]],1)-1),T_Horodateur[DATE],"<="&T_Horodateur[[#This Row],[DATE]]-(WEEKDAY(T_Horodateur[[#This Row],[DATE]],1)-7))) -> 0 | O55: =(IF(D55="CV",OPTIONS!$C$2,IF(D55="COS",OPTIONS!$C$3,IF(D55="FORM",OPTIONS!$C$4,OPTIONS!$C$1))))*K55 -> 0 | P55: =T_Horodateur[[#This Row],[S-TOT $/JOUR]]+T_Horodateur[[#This Row],[PRIME REPAS]] -> 0 | Q55: =IF(WEEKDAY(T_Horodateur[[#This Row],[DATE]],2)<>7,"",SUMIFS(T_Horodateur[HRS2],T_Horodateur[DATE],">="&T_Horodateur[[#This Row],[DATE]]-(WEEKDAY(T_Horodateur[[#This Row],[DATE]],1)-1),T_Horodateur[DATE],"<="&T_Horodateur[[#This Row],[DATE]]-(WEEKDAY(T_Horodateur[[#This Row],[DATE]],1)-7))) -> 0 | R55: =IF(WEEKDAY(T_Horodateur[[#This Row],[DATE]],2)<>7,"",SUMIFS(T_Horodateur[$/JOUR],T_Horodateur[DATE],">="&T_Horodateur[[#This Row],[DATE]]-(WEEKDAY(T_Horodateur[[#This Row],[DATE]],1)-1),T_Horodateur[DATE],"<="&T_Horodateur[[#This Row],[DATE]]-(WEEKDAY(T_Horodateur[[#This Row],[DATE]],1)-7)))+T_Horodateur[[#This Row],[CHARGE3]] -> 0
A56: =TEXT(T_Horodateur[[#This Row],[DATE]],"jjjj") -> lundi | B56: 43920 | C56: =B56 -> 43920 | H56: =(T_Horodateur[[#This Row],[FIN]]-T_Horodateur[[#This Row],[DÉBUT]])*24 -> 0 | I56: =IF(T_Horodateur[[#This Row],[DÉBUT]]="",0,VLOOKUP(T_Horodateur[[#This Row],[HRS]],Horaires[],2,1)) -> 0 | J56: =IF(T_Horodateur[[#This Row],[DÉBUT]]="",0,VLOOKUP(T_Horodateur[[#This Row],[HRS]],Hoaires2[],2,1)) -> 0 | K56: =H56-J56 -> 0 | L56: =IF(J56=2,12.65,0) -> 0 | M56: =O56*7.45% -> 0 | N56: =IF(WEEKDAY(T_Horodateur[[#This Row],[DATE]],2)<>7,"",SUMIFS(T_Horodateur[CHARGE/JRS],T_Horodateur[DATE],">="&T_Horodateur[[#This Row],[DATE]]-(WEEKDAY(T_Horodateur[[#This Row],[DATE]],1)-1),T_Horodateur[DATE],"<="&T_Horodateur[[#This Row],[DATE]]-(WEEKDAY(T_Horodateur[[#This Row],[DATE]],1)-7))) | O56: =(IF(D56="CV",OPTIONS!$C$2,IF(D56="COS",OPTIONS!$C$3,IF(D56="FORM",OPTIONS!$C$4,OPTIONS!$C$1))))*K56 -> 0 | P56: =T_Horodateur[[#This Row],[S-TOT $/JOUR]]+T_Horodateur[[#This Row],[PRIME REPAS]] -> 0 | Q56: =IF(WEEKDAY(T_Horodateur[[#This Row],[DATE]],2)<>7,"",SUMIFS(T_Horodateur[HRS2],T_Horodateur[DATE],">="&T_Horodateur[[#This Row],[DATE]]-(WEEKDAY(T_Horodateur[[#This Row],[DATE]],1)-1),T_Horodateur[DATE],"<="&T_Horodateur[[#This Row],[DATE]]-(WEEKDAY(T_Horodateur[[#This Row],[DATE]],1)-7))) | R56: =IF(WEEKDAY(T_Horodateur[[#This Row],[DATE]],2)<>7,"",SUMIFS(T_Horodateur[$/JOUR],T_Horodateur[DATE],">="&T_Horodateur[[#This Row],[DATE]]-(WEEKDAY(T_Horodateur[[#This Row],[DATE]],1)-1),T_Horodateur[DATE],"<="&T_Horodateur[[#This Row],[DATE]]-(WEEKDAY(T_Horodateur[[#This Row],[DATE]],1)-7)))
A57: =TEXT(T_Horodateur[[#This Row],[DATE]],"jjjj") -> mardi | B57: 43921 | C57: =B57 -> 43921 | H57: =(T_Horodateur[[#This Row],[FIN]]-T_Horodateur[[#This Row],[DÉBUT]])*24 -> 0 | I57: =IF(T_Horodateur[[#This Row],[DÉBUT]]="",0,VLOOKUP(T_Horodateur[[#This Row],[HRS]],Horaires[],2,1)) -> 0 | J57: =IF(T_Horodateur[[#This Row],[DÉBUT]]="",0,VLOOKUP(T_Horodateur[[#This Row],[HRS]],Hoaires2[],2,1)) -> 0 | K57: =H57-J57 -> 0 | L57: =IF(J57=2,12.65,0) -> 0 | M57: =O57*7.45% -> 0 | N57: =IF(WEEKDAY(T_Horodateur[[#This Row],[DATE]],2)<>7,"",SUMIFS(T_Horodateur[CHARGE/JRS],T_Horodateur[DATE],">="&T_Horodateur[[#This Row],[DATE]]-(WEEKDAY(T_Horodateur[[#This Row],[DATE]],1)-1),T_Horodateur[DATE],"<="&T_Horodateur[[#This Row],[DATE]]-(WEEKDAY(T_Horodateur[[#This Row],[DATE]],1)-7))) | O57: =(IF(D57="CV",OPTIONS!$C$2,IF(D57="COS",OPTIONS!$C$3,IF(D57="FORM",OPTIONS!$C$4,OPTIONS!$C$1))))*K57 -> 0 | P57: =T_Horodateur[[#This Row],[S-TOT $/JOUR]]+T_Horodateur[[#This Row],[PRIME REPAS]] -> 0 | Q57: =IF(WEEKDAY(T_Horodateur[[#This Row],[DATE]],2)<>7,"",SUMIFS(T_Horodateur[HRS2],T_Horodateur[DATE],">="&T_Horodateur[[#This Row],[DATE]]-(WEEKDAY(T_Horodateur[[#This Row],[DATE]],1)-1),T_Horodateur[DATE],"<="&T_Horodateur[[#This Row],[DATE]]-(WEEKDAY(T_Horodateur[[#This Row],[DATE]],1)-7))) | R57: =IF(WEEKDAY(T_Horodateur[[#This Row],[DATE]],2)<>7,"",SUMIFS(T_Horodateur[$/JOUR],T_Horodateur[DATE],">="&T_Horodateur[[#This Row],[DATE]]-(WEEKDAY(T_Horodateur[[#This Row],[DATE]],1)-1),T_Horodateur[DATE],"<="&T_Horodateur[[#This Row],[DATE]]-(WEEKDAY(T_Horodateur[[#This Row],[DATE]],1)-7)))
A58: =TEXT(T_Horodateur[[#This Row],[DATE]],"jjjj") -> mercredi | B58: 43922 | C58: =B58 -> 43922 | H58: =(T_Horodateur[[#This Row],[FIN]]-T_Horodateur[[#This Row],[DÉBUT]])*24 -> 0 | I58: =IF(T_Horodateur[[#This Row],[DÉBUT]]="",0,VLOOKUP(T_Horodateur[[#This Row],[HRS]],Horaires[],2,1)) -> 0 | J58: =IF(T_Horodateur[[#This Row],[DÉBUT]]="",0,VLOOKUP(T_Horodateur[[#This Row],[HRS]],Hoaires2[],2,1)) -> 0 | K58: =H58-J58 -> 0 | L58: =IF(J58=2,12.65,0) -> 0 | M58: =O58*7.45% -> 0 | N58: =IF(WEEKDAY(T_Horodateur[[#This Row],[DATE]],2)<>7,"",SUMIFS(T_Horodateur[CHARGE/JRS],T_Horodateur[DATE],">="&T_Horodateur[[#This Row],[DATE]]-(WEEKDAY(T_Horodateur[[#This Row],[DATE]],1)-1),T_Horodateur[DATE],"<="&T_Horodateur[[#This Row],[DATE]]-(WEEKDAY(T_Horodateur[[#This Row],[DATE]],1)-7))) | O58: =(IF(D58="CV",OPTIONS!$C$2,IF(D58="COS",OPTIONS!$C$3,IF(D58="FORM",OPTIONS!$C$4,OPTIONS!$C$1))))*K58 -> 0 | P58: =T_Horodateur[[#This Row],[S-TOT $/JOUR]]+T_Horodateur[[#This Row],[PRIME REPAS]] -> 0 | Q58: =IF(WEEKDAY(T_Horodateur[[#This Row],[DATE]],2)<>7,"",SUMIFS(T_Horodateur[HRS2],T_Horodateur[DATE],">="&T_Horodateur[[#This Row],[DATE]]-(WEEKDAY(T_Horodateur[[#This Row],[DATE]],1)-1),T_Horodateur[DATE],"<="&T_Horodateur[[#This Row],[DATE]]-(WEEKDAY(T_Horodateur[[#This Row],[DATE]],1)-7))) | R58: =IF(WEEKDAY(T_Horodateur[[#This Row],[DATE]],2)<>7,"",SUMIFS(T_Horodateur[$/JOUR],T_Horodateur[DATE],">="&T_Horodateur[[#This Row],[DATE]]-(WEEKDAY(T_Horodateur[[#This Row],[DATE]],1)-1),T_Horodateur[DATE],"<="&T_Horodateur[[#This Row],[DATE]]-(WEEKDAY(T_Horodateur[[#This Row],[DATE]],1)-7)))
A59: =TEXT(T_Horodateur[[#This Row],[DATE]],"jjjj") -> jeudi | B59: 43923 | C59: =B59 -> 43923 | H59: =(T_Horodateur[[#This Row],[FIN]]-T_Horodateur[[#This Row],[DÉBUT]])*24 -> 0 | I59: =IF(T_Horodateur[[#This Row],[DÉBUT]]="",0,VLOOKUP(T_Horodateur[[#This Row],[HRS]],Horaires[],2,1)) -> 0 | J59: =IF(T_Horodateur[[#This Row],[DÉBUT]]="",0,VLOOKUP(T_Horodateur[[#This Row],[HRS]],Hoaires2[],2,1)) -> 0 | K59: =H59-J59 -> 0 | L59: =IF(J59=2,12.65,0) -> 0 | M59: =O59*7.45% -> 0 | N59: =IF(WEEKDAY(T_Horodateur[[#This Row],[DATE]],2)<>7,"",SUMIFS(T_Horodateur[CHARGE/JRS],T_Horodateur[DATE],">="&T_Horodateur[[#This Row],[DATE]]-(WEEKDAY(T_Horodateur[[#This Row],[DATE]],1)-1),T_Horodateur[DATE],"<="&T_Horodateur[[#This Row],[DATE]]-(WEEKDAY(T_Horodateur[[#This Row],[DATE]],1)-7))) | O59: =(IF(D59="CV",OPTIONS!$C$2,IF(D59="COS",OPTIONS!$C$3,IF(D59="FORM",OPTIONS!$C$4,OPTIONS!$C$1))))*K59 -> 0 | P59: =T_Horodateur[[#This Row],[S-TOT $/JOUR]]+T_Horodateur[[#This Row],[PRIME REPAS]] -> 0 | Q59: =IF(WEEKDAY(T_Horodateur[[#This Row],[DATE]],2)<>7,"",SUMIFS(T_Horodateur[HRS2],T_Horodateur[DATE],">="&T_Horodateur[[#This Row],[DATE]]-(WEEKDAY(T_Horodateur[[#This Row],[DATE]],1)-1),T_Horodateur[DATE],"<="&T_Horodateur[[#This Row],[DATE]]-(WEEKDAY(T_Horodateur[[#This Row],[DATE]],1)-7))) | R59: =IF(WEEKDAY(T_Horodateur[[#This Row],[DATE]],2)<>7,"",SUMIFS(T_Horodateur[$/JOUR],T_Horodateur[DATE],">="&T_Horodateur[[#This Row],[DATE]]-(WEEKDAY(T_Horodateur[[#This Row],[DATE]],1)-1),T_Horodateur[DATE],"<="&T_Horodateur[[#This Row],[DATE]]-(WEEKDAY(T_Horodateur[[#This Row],[DATE]],1)-7)))
A60: =TEXT(T_Horodateur[[#This Row],[DATE]],"jjjj") -> vendredi | B60: 43924 | C60: =B60 -> 43924 | H60: =(T_Horodateur[[#This Row],[FIN]]-T_Horodateur[[#This Row],[DÉBUT]])*24 -> 0 | I60: =IF(T_Horodateur[[#This Row],[DÉBUT]]="",0,VLOOKUP(T_Horodateur[[#This Row],[HRS]],Horaires[],2,1)) -> 0 | J60: =IF(T_Horodateur[[#This Row],[DÉBUT]]="",0,VLOOKUP(T_Horodateur[[#This Row],[HRS]],Hoaires2[],2,1)) -> 0 | K60: =H60-J60 -> 0 | L60: =IF(J60=2,12.65,0) -> 0 | M60: =O60*7.45% -> 0 | N60: =IF(WEEKDAY(T_Horodateur[[#This Row],[DATE]],2)<>7,"",SUMIFS(T_Horodateur[CHARGE/JRS],T_Horodateur[DATE],">="&T_Horodateur[[#This Row],[DATE]]-(WEEKDAY(T_Horodateur[[#This Row],[DATE]],1)-1),T_Horodateur[DATE],"<="&T_Horodateur[[#This Row],[DATE]]-(WEEKDAY(T_Horodateur[[#This Row],[DATE]],1)-7))) | O60: =(IF(D60="CV",OPTIONS!$C$2,IF(D60="COS",OPTIONS!$C$3,IF(D60="FORM",OPTIONS!$C$4,OPTIONS!$C$1))))*K60 -> 0 | P60: =T_Horodateur[[#This Row],[S-TOT $/JOUR]]+T_Horodateur[[#This Row],[PRIME REPAS]] -> 0 | Q60: =IF(WEEKDAY(T_Horodateur[[#This Row],[DATE]],2)<>7,"",SUMIFS(T_Horodateur[HRS2],T_Horodateur[DATE],">="&T_Horodateur[[#This Row],[DATE]]-(WEEKDAY(T_Horodateur[[#This Row],[DATE]],1)-1),T_Horodateur[DATE],"<="&T_Horodateur[[#This Row],[DATE]]-(WEEKDAY(T_Horodateur[[#This Row],[DATE]],1)-7))) | R60: =IF(WEEKDAY(T_Horodateur[[#This Row],[DATE]],2)<>7,"",SUMIFS(T_Horodateur[$/JOUR],T_Horodateur[DATE],">="&T_Horodateur[[#This Row],[DATE]]-(WEEKDAY(T_Horodateur[[#This Row],[DATE]],1)-1),T_Horodateur[DATE],"<="&T_Horodateur[[#This Row],[DATE]]-(WEEKDAY(T_Horodateur[[#This Row],[DATE]],1)-7)))
A61: =TEXT(T_Horodateur[[#This Row],[DATE]],"jjjj") -> samedi | B61: 43925 | C61: =B61 -> 43925 | H61: =(T_Horodateur[[#This Row],[FIN]]-T_Horodateur[[#This Row],[DÉBUT]])*24 -> 0 | I61: =IF(T_Horodateur[[#This Row],[DÉBUT]]="",0,VLOOKUP(T_Horodateur[[#This Row],[HRS]],Horaires[],2,1)) -> 0 | J61: =IF(T_Horodateur[[#This Row],[DÉBUT]]="",0,VLOOKUP(T_Horodateur[[#This Row],[HRS]],Hoaires2[],2,1)) -> 0 | K61: =H61-J61 -> 0 | L61: =IF(J61=2,12.65,0) -> 0 | M61: =O61*7.45% -> 0 | N61: =IF(WEEKDAY(T_Horodateur[[#This Row],[DATE]],2)<>7,"",SUMIFS(T_Horodateur[CHARGE/JRS],T_Horodateur[DATE],">="&T_Horodateur[[#This Row],[DATE]]-(WEEKDAY(T_Horodateur[[#This Row],[DATE]],1)-1),T_Horodateur[DATE],"<="&T_Horodateur[[#This Row],[DATE]]-(WEEKDAY(T_Horodateur[[#This Row],[DATE]],1)-7))) | O61: =(IF(D61="CV",OPTIONS!$C$2,IF(D61="COS",OPTIONS!$C$3,IF(D61="FORM",OPTIONS!$C$4,OPTIONS!$C$1))))*K61 -> 0 | P61: =T_Horodateur[[#This Row],[S-TOT $/JOUR]]+T_Horodateur[[#This Row],[PRIME REPAS]] -> 0 | Q61: =IF(WEEKDAY(T_Horodateur[[#This Row],[DATE]],2)<>7,"",SUMIFS(T_Horodateur[HRS2],T_Horodateur[DATE],">="&T_Horodateur[[#This Row],[DATE]]-(WEEKDAY(T_Horodateur[[#This Row],[DATE]],1)-1),T_Horodateur[DATE],"<="&T_Horodateur[[#This Row],[DATE]]-(WEEKDAY(T_Horodateur[[#This Row],[DATE]],1)-7))) | R61: =IF(WEEKDAY(T_Horodateur[[#This Row],[DATE]],2)<>7,"",SUMIFS(T_Horodateur[$/JOUR],T_Horodateur[DATE],">="&T_Horodateur[[#This Row],[DATE]]-(WEEKDAY(T_Horodateur[[#This Row],[DATE]],1)-1),T_Horodateur[DATE],"<="&T_Horodateur[[#This Row],[DATE]]-(WEEKDAY(T_Horodateur[[#This Row],[DATE]],1)-7)))

Sheet TABLEAUX
A1: H | B1: P | D1: H2 | E1: R | G1: DE | I1: 1 PAUSE | R1: 2 PAUSES | Y1: 2 PAUSES + 1 REPAS | AL1: 2 PAUSES + 2 REPAS
A2: 0.25 | B2: 0 | D2: 0.25 | E2: 0 | G2: 0.33333333 | I2: 0.5 | J2: 0.51041667 | K2: 0.52083333 | L2: 0.53125 | M2: 0.54166667 | N2: 0.55208333 | O2: 0.5625 | P2: 0.57291667 | R2: 0.58333333 | S2: 0.59375 | T2: 0.60416667 | U2: 0.61458333 | V2: 0.625 | W2: 0.63541667 | Y2: 0.64583333 | Z2: 0.65625 | AA2: 0.66666667 | AB2: 0.67708333 | AC2: 0.6875 | AD2: 0.69791667 | AE2: 0.70833333 | AF2: 0.71875 | AG2: 0.72916667 | AH2: 0.73958333 | AI2: 0.75 | AJ2: 0.76041667 | AL2: 0.77083333 | AM2: 0.78125 | AN2: 0.79166667 | AO2: 0.80208333 | AP2: 0.8125 | AQ2: 0.82291667 | AR2: 0.83333333
A3: 0.5 | B3: 0 | D3: 0.5 | E3: 0 | G3: 0.34375 | I3: 0.51041667 | J3: 0.52083333 | K3: 0.53125 | L3: 0.54166667 | M3: 0.55208333 | N3: 0.5625 | O3: 0.57291667 | P3: 0.58333333 | R3: 0.59375 | S3: 0.60416667 | T3: 0.61458333 | U3: 0.625 | V3: 0.63541667 | W3: 0.64583333 | Y3: 0.65625 | Z3: 0.66666667 | AA3: 0.67708333 | AB3: 0.6875 | AC3: 0.69791667 | AD3: 0.70833333 | AE3: 0.71875 | AF3: 0.72916667 | AG3: 0.73958333 | AH3: 0.75 | AI3: 0.76041667 | AJ3: 0.77083333 | AL3: 0.78125 | AM3: 0.79166667 | AN3: 0.80208333 | AO3: 0.8125 | AP3: 0.82291667 | AQ3: 0.83333333 | AR3: 0.84375
A4: 0.75 | B4: 0 | D4: 0.75 | E4: 0 | G4: 0.35416667 | I4: 0.52083333 | J4: 0.53125 | K4: 0.54166667 | L4: 0.55208333 | M4: 0.5625 | N4: 0.57291667 | O4: 0.58333333 | P4: 0.59375 | R4: 0.60416667 | S4: 0.61458333 | T4: 0.625 | U4: 0.63541667 | V4: 0.64583333 | W4: 0.65625 | Y4: 0.66666667 | Z4: 0.67708333 | AA4: 0.6875 | AB4: 0.69791667 | AC4: 0.70833333 | AD4: 0.71875 | AE4: 0.72916667 | AF4: 0.73958333 | AG4: 0.75 | AH4: 0.76041667 | AI4: 0.77083333 | AJ4: 0.78125 | AL4: 0.79166667 | AM4: 0.80208333 | AN4: 0.8125 | AO4: 0.82291667 | AP4: 0.83333333 | AQ4: 0.84375 | AR4: 0.85416667
A5: 1 | B5: 0 | D5: 1 | E5: 0 | G5: 0.36458333 | I5: 0.53125 | J5: 0.54166667 | K5: 0.55208333 | L5: 0.5625 | M5: 0.57291667 | N5: 0.58333333 | O5: 0.59375 | P5: 0.60416667 | R5: 0.61458333 | S5: 0.625 | T5: 0.63541667 | U5: 0.64583333 | V5: 0.65625 | W5: 0.66666667 | Y5: 0.67708333 | Z5: 0.6875 | AA5: 0.69791667 | AB5: 0.70833333 | AC5: 0.71875 | AD5: 0.72916667 | AE5: 0.73958333 | AF5: 0.75 | AG5: 0.76041667 | AH5: 0.77083333 | AI5: 0.78125 | AJ5: 0.79166667 | AL5: 0.80208333 | AM5: 0.8125 | AN5: 0.82291667 | AO5: 0.83333333 | AP5: 0.84375 | AQ5: 0.85416667 | AR5: 0.86458333
A6: 1.25 | B6: 0 | D6: 1.25 | E6: 0 | G6: 0.375 | I6: 0.54166667 | J6: 0.55208333 | K6: 0.5625 | L6: 0.57291667 | M6: 0.58333333 | N6: 0.59375 | O6: 0.60416667 | P6: 0.61458333 | R6: 0.625 | S6: 0.63541667 | T6: 0.64583333 | U6: 0.65625 | V6: 0.66666667 | W6: 0.67708333 | Y6: 0.6875 | Z6: 0.69791667 | AA6: 0.70833333 | AB6: 0.71875 | AC6: 0.72916667 | AD6: 0.73958333 | AE6: 0.75 | AF6: 0.76041667 | AG6: 0.77083333 | AH6: 0.78125 | AI6: 0.79166667 | AJ6: 0.80208333 | AL6: 0.8125 | AM6: 0.82291667 | AN6: 0.83333333 | AO6: 0.84375 | AP6: 0.85416667 | AQ6: 0.86458333 | AR6: 0.875
A7: 1.5 | B7: 0 | D7: 1.5 | E7: 0 | G7: 0.38541667 | I7: 0.55208333 | J7: 0.5625 | K7: 0.57291667 | L7: 0.58333333 | M7: 0.59375 | N7: 0.60416667 | O7: 0.61458333 | P7: 0.625 | R7: 0.63541667 | S7: 0.64583333 | T7: 0.65625 | U7: 0.66666667 | V7: 0.67708333 | W7: 0.6875 | Y7: 0.69791667 | Z7: 0.70833333 | AA7: 0.71875 | AB7: 0.72916667 | AC7: 0.73958333 | AD7: 0.75 | AE7: 0.76041667 | AF7: 0.77083333 | AG7: 0.78125 | AH7: 0.79166667 | AI7: 0.80208333 | AJ7: 0.8125 | AL7: 0.82291667 | AM7: 0.83333333 | AN7: 0.84375 | AO7: 0.85416667 | AP7: 0.86458333 | AQ7: 0.875 | AR7: 0.88541667
A8: 1.75 | B8: 0 | D8: 1.75 | E8: 0 | G8: 0.39583333 | I8: 0.5625 | J8: 0.57291667 | K8: 0.58333333 | L8: 0.59375 | M8: 0.60416667 | N8: 0.61458333 | O8: 0.625 | P8: 0.63541667 | R8: 0.64583333 | S8: 0.65625 | T8: 0.66666667 | U8: 0.67708333 | V8: 0.6875 | W8: 0.69791667 | Y8: 0.70833333 | Z8: 0.71875 | AA8: 0.72916667 | AB8: 0.73958333 | AC8: 0.75 | AD8: 0.76041667 | AE8: 0.77083333 | AF8: 0.78125 | AG8: 0.79166667 | AH8: 0.80208333 | AI8: 0.8125 | AJ8: 0.82291667 | AL8: 0.83333333 | AM8: 0.84375 | AN8: 0.85416667 | AO8: 0.86458333 | AP8: 0.875 | AQ8: 0.88541667 | AR8: 0.89583333
A9: 2 | B9: 0 | D9: 2 | E9: 0 | G9: 0.40625 | I9: 0.57291667 | J9: 0.58333333 | K9: 0.59375 | L9: 0.60416667 | M9: 0.61458333 | N9: 0.625 | O9: 0.63541667 | P9: 0.64583333 | R9: 0.65625 | S9: 0.66666667 | T9: 0.67708333 | U9: 0.6875 | V9: 0.69791667 | W9: 0.70833333 | Y9: 0.71875 | Z9: 0.72916667 | AA9: 0.73958333 | AB9: 0.75 | AC9: 0.76041667 | AD9: 0.77083333 | AE9: 0.78125 | AF9: 0.79166667 | AG9: 0.80208333 | AH9: 0.8125 | AI9: 0.82291667 | AJ9: 0.83333333 | AL9: 0.84375 | AM9: 0.85416667 | AN9: 0.86458333 | AO9: 0.875 | AP9: 0.88541667 | AQ9: 0.89583333 | AR9: 0.90625
A10: 2.25 | B10: 0 | D10: 2.25 | E10: 0 | G10: 0.41666667 | I10: 0.58333333 | J10: 0.59375 | K10: 0.60416667 | L10: 0.61458333 | M10: 0.625 | N10: 0.63541667 | O10: 0.64583333 | P10: 0.65625 | R10: 0.66666667 | S10: 0.67708333 | T10: 0.6875 | U10: 0.69791667 | V10: 0.70833333 | W10: 0.71875 | Y10: 0.72916667 | Z10: 0.73958333 | AA10: 0.75 | AB10: 0.76041667 | AC10: 0.77083333 | AD10: 0.78125 | AE10: 0.79166667 | AF10: 0.80208333 | AG10: 0.8125 | AH10: 0.82291667 | AI10: 0.83333333 | AJ10: 0.84375 | AL10: 0.85416667 | AM10: 0.86458333 | AN10: 0.875 | AO10: 0.88541667 | AP10: 0.89583333 | AQ10: 0.90625 | AR10: 0.91666667
A11: 2.5 | B11: 0 | D11: 2.5 | E11: 0 | G11: 0.42708333 | I11: 0.59375 | J11: 0.60416667 | K11: 0.61458333 | L11: 0.625 | M11: 0.63541667 | N11: 0.64583333 | O11: 0.65625 | P11: 0.66666667 | R11: 0.67708333 | S11: 0.6875 | T11: 0.69791667 | U11: 0.70833333 | V11: 0.71875 | W11: 0.72916667 | Y11: 0.73958333 | Z11: 0.75 | AA11: 0.76041667 | AB11: 0.77083333 | AC11: 0.78125 | AD11: 0.79166667 | AE11: 0.80208333 | AF11: 0.8125 | AG11: 0.82291667 | AH11: 0.83333333 | AI11: 0.84375 | AJ11: 0.85416667 | AL11: 0.86458333 | AM11: 0.875 | AN11: 0.88541667 | AO11: 0.89583333 | AP11: 0.90625 | AQ11: 0.91666667 | AR11: 0.92708333
A12: 2.75 | B12: 0 | D12: 2.75 | E12: 0 | G12: 0.4375 | I12: 0.60416667 | J12: 0.61458333 | K12: 0.625 | L12: 0.63541667 | M12: 0.64583333 | N12: 0.65625 | O12: 0.66666667 | P12: 0.67708333 | R12: 0.6875 | S12: 0.69791667 | T12: 0.70833333 | U12: 0.71875 | V12: 0.72916667 | W12: 0.73958333 | Y12: 0.75 | Z12: 0.76041667 | AA12: 0.77083333 | AB12: 0.78125 | AC12: 0.79166667 | AD12: 0.80208333 | AE12: 0.8125 | AF12: 0.82291667 | AG12: 0.83333333 | AH12: 0.84375 | AI12: 0.85416667 | AJ12: 0.86458333 | AL12: 0.875 | AM12: 0.88541667 | AN12: 0.89583333 | AO12: 0.90625 | AP12: 0.91666667 | AQ12: 0.92708333 | AR12: 0.9375
A13: 3 | B13: 0 | D13: 3 | E13: 0 | G13: 0.44791667 | I13: 0.61458333 | J13: 0.625 | K13: 0.63541667 | L13: 0.64583333 | M13: 0.65625 | N13: 0.66666667 | O13: 0.67708333 | P13: 0.6875 | R13: 0.69791667 | S13: 0.70833333 | T13: 0.71875 | U13: 0.72916667 | V13: 0.73958333 | W13: 0.75 | Y13: 0.76041667 | Z13: 0.77083333 | AA13: 0.78125 | AB13: 0.79166667 | AC13: 0.80208333 | AD13: 0.8125 | AE13: 0.82291667 | AF13: 0.83333333 | AG13: 0.84375 | AH13: 0.85416667 | AI13: 0.86458333 | AJ13: 0.875 | AL13: 0.88541667 | AM13: 0.89583333 | AN13: 0.90625 | AO13: 0.91666667 | AP13: 0.92708333 | AQ13: 0.9375 | AR13: 0.94791667
A14: 3.25 | B14: 0 | D14: 3.25 | E14: 0 | G14: 0.45833333 | I14: 0.625 | J14: 0.63541667 | K14: 0.64583333 | L14: 0.65625 | M14: 0.66666667 | N14: 0.67708333 | O14: 0.6875 | P14: 0.69791667 | R14: 0.70833333 | S14: 0.71875 | T14: 0.72916667 | U14: 0.73958333 | V14: 0.75 | W14: 0.76041667 | Y14: 0.77083333 | Z14: 0.78125 | AA14: 0.79166667 | AB14: 0.80208333 | AC14: 0.8125 | AD14: 0.82291667 | AE14: 0.83333333 | AF14: 0.84375 | AG14: 0.85416667 | AH14: 0.86458333 | AI14: 0.875 | AJ14: 0.88541667 | AL14: 0.89583333 | AM14: 0.90625 | AN14: 0.91666667 | AO14: 0.92708333 | AP14: 0.9375 | AQ14: 0.94791667 | AR14: 0.95833333
A15: 3.5 | B15: 0 | D15: 3.5 | E15: 0 | G15: 0.46875 | I15: 0.63541667 | J15: 0.64583333 | K15: 0.65625 | L15: 0.66666667 | M15: 0.67708333 | N15: 0.6875 | O15: 0.69791667 | P15: 0.70833333 | R15: 0.71875 | S15: 0.72916667 | T15: 0.73958333 | U15: 0.75 | V15: 0.76041667 | W15: 0.77083333 | Y15: 0.78125 | Z15: 0.79166667 | AA15: 0.80208333 | AB15: 0.8125 | AC15: 0.82291667 | AD15: 0.83333333 | AE15: 0.84375 | AF15: 0.85416667 | AG15: 0.86458333 | AH15: 0.875 | AI15: 0.88541667 | AJ15: 0.89583333 | AL15: 0.90625 | AM15: 0.91666667 | AN15: 0.92708333 | AO15: 0.9375 | AP15: 0.94791667 | AQ15: 0.95833333
A16: 3.75 | B16: 0 | D16: 3.75 | E16: 0 | G16: 0.47916667 | I16: 0.64583333 | J16: 0.65625 | K16: 0.66666667 | L16: 0.67708333 | M16: 0.6875 | N16: 0.69791667 | O16: 0.70833333 | P16: 0.71875 | R16: 0.72916667 | S16: 0.73958333 | T16: 0.75 | U16: 0.76041667 | V16: 0.77083333 | W16: 0.78125 | Y16: 0.79166667 | Z16: 0.80208333 | AA16: 0.8125 | AB16: 0.82291667 | AC16: 0.83333333 | AD16: 0.84375 | AE16: 0.85416667 | AF16: 0.86458333 | AG16: 0.875 | AH16: 0.88541667 | AI16: 0.89583333 | AJ16: 0.90625 | AL16: 0.91666667 | AM16: 0.92708333 | AN16: 0.9375 | AO16: 0.94791667 | AP16: 0.95833333
A17: 4 | B17: 1 | D17: 4 | E17: 0 | G17: 0.48958333 | I17: 0.65625 | J17: 0.66666667 | K17: 0.67708333 | L17: 0.6875 | M17: 0.69791667 | N17: 0.70833333 | O17: 0.71875 | P17: 0.72916667 | R17: 0.73958333 | S17: 0.75 | T17: 0.76041667 | U17: 0.77083333 | V17: 0.78125 | W17: 0.79166667 | Y17: 0.80208333 | Z17: 0.8125 | AA17: 0.82291667 | AB17: 0.83333333 | AC17: 0.84375 | AD17: 0.85416667 | AE17: 0.86458333 | AF17: 0.875 | AG17: 0.88541667 | AH17: 0.89583333 | AI17: 0.90625 | AJ17: 0.91666667 | AL17: 0.92708333 | AM17: 0.9375 | AN17: 0.94791667 | AO17: 0.95833333
A18: 4.25 | B18: 1 | D18: 4.25 | E18: 0 | G18: 0.5 | I18: 0.66666667 | J18: 0.67708333 | K18: 0.6875 | L18: 0.69791667 | M18: 0.70833333 | N18: 0.71875 | O18: 0.72916667 | P18: 0.73958333 | R18: 0.75 | S18: 0.76041667 | T18: 0.77083333 | U18: 0.78125 | V18: 0.79166667 | W18: 0.80208333 | Y18: 0.8125 | Z18: 0.82291667 | AA18: 0.83333333 | AB18: 0.84375 | AC18: 0.85416667 | AD18: 0.86458333 | AE18: 0.875 | AF18: 0.88541667 | AG18: 0.89583333 | AH18: 0.90625 | AI18: 0.91666667 | AJ18: 0.92708333 | AL18: 0.9375 | AM18: 0.94791667 | AN18: 0.95833333
A19: 4.5 | B19: 1 | D19: 4.5 | E19: 0 | G19: 0.51041667 | I19: 0.67708333 | J19: 0.6875 | K19: 0.69791667 | L19: 0.70833333 | M19: 0.71875 | N19: 0.72916667 | O19: 0.73958333 | P19: 0.75 | R19: 0.76041667 | S19: 0.77083333 | T19: 0.78125 | U19: 0.79166667 | V19: 0.80208333 | W19: 0.8125 | Y19: 0.82291667 | Z19: 0.83333333 | AA19: 0.84375 | AB19: 0.85416667 | AC19: 0.86458333 | AD19: 0.875 | AE19: 0.88541667 | AF19: 0.89583333 | AG19: 0.90625 | AH19: 0.91666667 | AI19: 0.92708333 | AJ19: 0.9375 | AL19: 0.94791667 | AM19: 0.95833333
A20: 4.75 | B20: 1 | D20: 4.75 | E20: 0 | G20: 0.52083333 | I20: 0.6875 | J20: 0.69791667 | K20: 0.70833333 | L20: 0.71875 | M20: 0.72916667 | N20: 0.73958333 | O20: 0.75 | P20: 0.76041667 | R20: 0.77083333 | S20: 0.78125 | T20: 0.79166667 | U20: 0.80208333 | V20: 0.8125 | W20: 0.82291667 | Y20: 0.83333333 | Z20: 0.84375 | AA20: 0.85416667 | AB20: 0.86458333 | AC20: 0.875 | AD20: 0.88541667 | AE20: 0.89583333 | AF20: 0.90625 | AG20: 0.91666667 | AH20: 0.92708333 | AI20: 0.9375 | AJ20: 0.94791667 | AL20: 0.95833333
A21: 5 | B21: 1 | D21: 5 | E21: 0 | G21: 0.53125 | I21: 0.69791667 | J21: 0.70833333 | K21: 0.71875 | L21: 0.72916667 | M21: 0.73958333 | N21: 0.75 | O21: 0.76041667 | P21: 0.77083333 | R21: 0.78125 | S21: 0.79166667 | T21: 0.80208333 | U21: 0.8125 | V21: 0.82291667 | W21: 0.83333333 | Y21: 0.84375 | Z21: 0.85416667 | AA21: 0.86458333 | AB21: 0.875 | AC21: 0.88541667 | AD21: 0.89583333 | AE21: 0.90625 | AF21: 0.91666667 | AG21: 0.92708333 | AH21: 0.9375 | AI21: 0.94791667 | AJ21: 0.95833333
A22: 5.25 | B22: 1 | D22: 5.25 | E22: 0 | G22: 0.54166667 | I22: 0.70833333 | J22: 0.71875 | K22: 0.72916667 | L22: 0.73958333 | M22: 0.75 | N22: 0.76041667 | O22: 0.77083333 | P22: 0.78125 | R22: 0.79166667 | S22: 0.80208333 | T22: 0.8125 | U22: 0.82291667 | V22: 0.83333333 | W22: 0.84375 | Y22: 0.85416667 | Z22: 0.86458333 | AA22: 0.875 | AB22: 0.88541667 | AC22: 0.89583333 | AD22: 0.90625 | AE22: 0.91666667 | AF22: 0.92708333 | AG22: 0.9375 | AH22: 0.94791667 | AI22: 0.95833333
A23: 5.5 | B23: 1 | D23: 5.5 | E23: 0 | G23: 0.55208333 | I23: 0.71875 | J23: 0.72916667 | K23: 0.73958333 | L23: 0.75 | M23: 0.76041667 | N23: 0.77083333 | O23: 0.78125 | P23: 0.79166667 | R23: 0.80208333 | S23: 0.8125 | T23: 0.82291667 | U23: 0.83333333 | V23: 0.84375 | W23: 0.85416667 | Y23: 0.86458333 | Z23: 0.875 | AA23: 0.88541667 | AB23: 0.89583333 | AC23: 0.90625 | AD23: 0.91666667 | AE23: 0.92708333 | AF23: 0.9375 | AG23: 0.94791667 | AH23: 0.95833333
A24: 5.75 | B24: 1 | D24: 5.75 | E24: 0 | G24: 0.5625 | I24: 0.72916667 | J24: 0.73958333 | K24: 0.75 | L24: 0.76041667 | M24: 0.77083333 | N24: 0.78125 | O24: 0.79166667 | P24: 0.80208333 | R24: 0.8125 | S24: 0.82291667 | T24: 0.83333333 | U24: 0.84375 | V24: 0.85416667 | W24: 0.86458333 | Y24: 0.875 | Z24: 0.88541667 | AA24: 0.89583333 | AB24: 0.90625 | AC24: 0.91666667 | AD24: 0.92708333 | AE24: 0.9375 | AF24: 0.94791667 | AG24: 0.95833333
A25: 6 | B25: 2 | D25: 6 | E25: 0 | G25: 0.57291667 | I25: 0.73958333 | J25: 0.75 | K25: 0.76041667 | L25: 0.77083333 | M25: 0.78125 | N25: 0.79166667 | O25: 0.80208333 | P25: 0.8125 | R25: 0.82291667 | S25: 0.83333333 | T25: 0.84375 | U25: 0.85416667 | V25: 0.86458333 | W25: 0.875 | Y25: 0.88541667 | Z25: 0.89583333 | AA25: 0.90625 | AB25: 0.91666667 | AC25: 0.92708333 | AD25: 0.9375 | AE25: 0.94791667 | AF25: 0.95833333
A26: 6.25 | B26: 2 | D26: 6.25 | E26: 0 | G26: 0.58333333 | I26: 0.75 | J26: 0.76041667 | K26: 0.77083333 | L26: 0.78125 | M26: 0.79166667 | N26: 0.80208333 | O26: 0.8125 | P26: 0.82291667 | R26: 0.83333333 | S26: 0.84375 | T26: 0.85416667 | U26: 0.86458333 | V26: 0.875 | W26: 0.88541667 | Y26: 0.89583333 | Z26: 0.90625 | AA26: 0.91666667 | AB26: 0.92708333 | AC26: 0.9375 | AD26: 0.94791667 | AE26: 0.95833333
A27: 6.5 | B27: 2 | D27: 6.5 | E27: 0 | G27: 0.59375 | I27: 0.76041667 | J27: 0.77083333 | K27: 0.78125 | L27: 0.79166667 | M27: 0.80208333 | N27: 0.8125 | O27: 0.82291667 | P27: 0.83333333 | R27: 0.84375 | S27: 0.85416667 | T27: 0.86458333 | U27: 0.875 | V27: 0.88541667 | W27: 0.89583333 | Y27: 0.90625 | Z27: 0.91666667 | AA27: 0.92708333 | AB27: 0.9375 | AC27: 0.94791667 | AD27: 0.95833333
A28: 6.75 | B28: 2 | D28: 6.75 | E28: 0 | G28: 0.60416667 | I28: 0.77083333 | J28: 0.78125 | K28: 0.79166667 | L28: 0.80208333 | M28: 0.8125 | N28: 0.82291667 | O28: 0.83333333 | P28: 0.84375 | R28: 0.85416667 | S28: 0.86458333 | T28: 0.875 | U28: 0.88541667 | V28: 0.89583333 | W28: 0.90625 | Y28: 0.91666667 | Z28: 0.92708333 | AA28: 0.9375 | AB28: 0.94791667 | AC28: 0.95833333
A29: 7 | B29: 2 | D29: 7 | E29: 0 | G29: 0.61458333 | I29: 0.78125 | J29: 0.79166667 | K29: 0.80208333 | L29: 0.8125 | M29: 0.82291667 | N29: 0.83333333 | O29: 0.84375 | P29: 0.85416667 | R29: 0.86458333 | S29: 0.875 | T29: 0.88541667 | U29: 0.89583333 | V29: 0.90625 | W29: 0.91666667 | Y29: 0.92708333 | Z29: 0.9375 | AA29: 0.94791667 | AB29: 0.95833333
A30: 7.25 | B30: 2 | D30: 7.25 | E30: 0 | G30: 0.625 | I30: 0.79166667 | J30: 0.80208333 | K30: 0.8125 | L30: 0.82291667 | M30: 0.83333333 | N30: 0.84375 | O30: 0.85416667 | P30: 0.86458333 | R30: 0.875 | S30: 0.88541667 | T30: 0.89583333 | U30: 0.90625 | V30: 0.91666667 | W30: 0.92708333 | Y30: 0.9375 | Z30: 0.94791667 | AA30: 0.95833333
A31: 7.5 | B31: 2 | D31: 7.5 | E31: 1 | G31: 0.63541667 | I31: 0.80208333 | J31: 0.8125 | K31: 0.82291667 | L31: 0.83333333 | M31: 0.84375 | N31: 0.85416667 | O31: 0.86458333 | P31: 0.875 | R31: 0.88541667 | S31: 0.89583333 | T31: 0.90625 | U31: 0.91666667 | V31: 0.92708333 | W31: 0.9375 | Y31: 0.94791667 | Z31: 0.95833333
A32: 7.75 | B32: 2 | D32: 7.75 | E32: 1 | G32: 0.64583333 | I32: 0.8125 | J32: 0.82291667 | K32: 0.83333333 | L32: 0.84375 | M32: 0.85416667 | N32: 0.86458333 | O32: 0.875 | P32: 0.88541667 | R32: 0.89583333 | S32: 0.90625 | T32: 0.91666667 | U32: 0.92708333 | V32: 0.9375 | W32: 0.94791667 | Y32: 0.95833333
A33: 8 | B33: 2 | D33: 8 | E33: 1 | G33: 0.65625 | I33: 0.82291667 | J33: 0.83333333 | K33: 0.84375 | L33: 0.85416667 | M33: 0.86458333 | N33: 0.875 | O33: 0.88541667 | P33: 0.89583333 | R33: 0.90625 | S33: 0.91666667 | T33: 0.92708333 | U33: 0.9375 | V33: 0.94791667 | W33: 0.95833333
A34: 8.25 | B34: 2 | D34: 8.25 | E34: 1 | G34: 0.66666667 | I34: 0.83333333 | J34: 0.84375 | K34: 0.85416667 | L34: 0.86458333 | M34: 0.875 | N34: 0.88541667 | O34: 0.89583333 | P34: 0.90625 | R34: 0.91666667 | S34: 0.92708333 | T34: 0.9375 | U34: 0.94791667 | V34: 0.95833333
A35: 8.5 | B35: 2 | D35: 8.5 | E35: 1 | G35: 0.67708333 | I35: 0.84375 | J35: 0.85416667 | K35: 0.86458333 | L35: 0.875 | M35: 0.88541667 | N35: 0.89583333 | O35: 0.90625 | P35: 0.91666667 | R35: 0.92708333 | S35: 0.9375 | T35: 0.94791667 | U35: 0.95833333
A36: 8.75 | B36: 2 | D36: 8.75 | E36: 1 | G36: 0.6875 | I36: 0.85416667 | J36: 0.86458333 | K36: 0.875 | L36: 0.88541667 | M36: 0.89583333 | N36: 0.90625 | O36: 0.91666667 | P36: 0.92708333 | R36: 0.9375 | S36: 0.94791667 | T36: 0.95833333
A37: 9 | B37: 2 | D37: 9 | E37: 1 | G37: 0.69791667 | I37: 0.86458333 | J37: 0.875 | K37: 0.88541667 | L37: 0.89583333 | M37: 0.90625 | N37: 0.91666667 | O37: 0.92708333 | P37: 0.9375 | R37: 0.94791667 | S37: 0.95833333
A38: 9.25 | B38: 2 | D38: 9.25 | E38: 1 | G38: 0.70833333 | I38: 0.875 | J38: 0.88541667 | K38: 0.89583333 | L38: 0.90625 | M38: 0.91666667 | N38: 0.92708333 | O38: 0.9375 | P38: 0.94791667 | R38: 0.95833333
A39: 9.5 | B39: 2 | D39: 9.5 | E39: 1 | G39: 0.71875 | I39: 0.88541667 | J39: 0.89583333 | K39: 0.90625 | L39: 0.91666667 | M39: 0.92708333 | N39: 0.9375 | O39: 0.94791667 | P39: 0.95833333
A40: 9.75 | B40: 2 | D40: 9.75 | E40: 1 | G40: 0.72916667 | I40: 0.89583333 | J40: 0.90625 | K40: 0.91666667 | L40: 0.92708333 | M40: 0.9375 | N40: 0.94791667 | O40: 0.95833333
A41: 10 | B41: 2 | D41: 10 | E41: 1 | G41: 0.73958333 | I41: 0.90625 | J41: 0.91666667 | K41: 0.92708333 | L41: 0.9375 | M41: 0.94791667 | N41: 0.95833333
A42: 10.25 | B42: 2 | D42: 10.25 | E42: 1 | G42: 0.75 | I42: 0.91666667 | J42: 0.92708333 | K42: 0.9375 | L42: 0.94791667 | M42: 0.95833333
A43: 10.5 | B43: 2 | D43: 10.5 | E43: 2 | G43: 0.76041667 | I43: 0.92708333 | J43: 0.9375 | K43: 0.94791667 | L43: 0.95833333
A44: 10.75 | B44: 2 | D44: 10.75 | E44: 2 | G44: 0.77083333 | I44: 0.9375 | J44: 0.94791667 | K44: 0.95833333
A45: 11 | B45: 2 | D45: 11 | E45: 2 | G45: 0.78125 | I45: 0.94791667 | J45: 0.95833333
A46: 11.25 | B46: 2 | D46: 11.25 | E46: 2 | G46: 0.79166667 | I46: 0.95833333
A47: 11.5 | B47: 2 | D47: 11.5 | E47: 2
A48: 11.75 | B48: 2 | D48: 11.75 | E48: 2
A49: 12 | B49: 2 | D49: 12 | E49: 2

Sheet OPTIONS
A1: POSTES | D1: REPAS | F1: SUCCURSALES | I1: DÉDUCTIONS STATUAIRES | N1: AUTRES DÉDUCTIONS
B2: CV | C2: 20.46 | D2: 12.65 | F2: Express Charest | G2: 33524 | I2: Impôt sur revenu / normal | L2: ? | N2: Cotisation SEMB | P2: ?
B3: COS | C3: 23.38 | F3: St-Sacrement | G3: 33606 | I3: Cotisation salaire RRQ | L3: ? | N3: Cotisation RREGOP | P3: 0.058
B4: FORM | C4: 20.46 | F4: Maguire | G4: 33538 | I4: Cotisation salaire AE | L4: ?
F5: St-Louis | G5: 33595 | I5: QC/Impôt sur revenu/norm. | L5: ?
G6: DOM | I6: QC/Cotisation employé RQAP | L6: ?

Sheet Synthèse
A1: Années | B1: 2020
A2: Jour1 | B2: dimanche
A4: Étiquettes de lignes | B4: Somme de $
A5: févr
A6: 09-févr | B6: 0
A7: 16-févr | B7: 643.85965
A8: 23-févr | B8: 864.77148
A9: Total févr | B9: 1508.6311
A10: mars
A11: 01-mars | B11: 844.89323
A12: 08-mars | B12: 643.80816
A13: 15-mars | B13: 702.19757
A14: 22-mars | B14: 166.44005
A15: 29-mars | B15: 0
A16: Total mars | B16: 2357.339
A17: Total général | B17: 3865.9701
