Workbook
Name HORODATEUR: T_Horodateur[#All]

Sheet HORODATEUR
B1: RAPHAEL GIROUX
Q3: =SUM(T_Horodateur[H]) -> 166.03333 | R3: =SUM(T_Horodateur[$]) -> 3865.9701
A5: Jour1 | B5: DATE | C5: JOUR | D5: POSTE | E5: SUCC. | F5: DÉBUT | G5: FIN | H5: HRS | I5: P | J5: R | K5: HRS2 | L5: PRIME REPAS | M5: CHARGE/JRS | N5: CHARGE3 | O5: S-TOT $/JOUR | P5: $/JOUR | Q5: H | R5: $
A6: =TEXT(T_Horodateur[[#This Row],[DATE]],"jjjj") -> dimanche | B6: 43870 | C6: =B6 -> 43870 | D6: CV | H6: =(T_Horodateur[[#This Row],[FIN]]-T_Horodateur[[#This Row],[DÉBUT]])*24 -> 0 | I6: =IF(T_Horodateur[[#This Row],[DÉBUT]]="",0,VLOOKUP(T_Horodateur[[#This Row],[HRS]],Horaires[],2,1)) -> 0 | J6: =IF(T_Horodateur[[#This Row],[DÉBUT]]="",0,VLOOKUP(T_Horodateur[[#This Row],[HRS]],Hoaires2[],2,1)) -> 0 | K6: =H6-J6 -> 0 | L6: =IF(J6=2,12.65,0) -> 0 | M6: =O6*7.45% -> 0 | N6: =IF(WEEKDAY(T_Horodateur[[#This Row],[DATE]],2)<>7,"",SUMIFS(T_Horodateur[CHARGE/JRS],T_Horodateur[DATE],">="&T_Horodateur[[#This Row],[DATE]]-(WEEKDAY(T_Horodateur[[#This Row],[DATE]],1)-1),T_Horodateur[DATE],"<="&T_Horodateur[[#This Row],[DATE]]-(WEEKDAY(T_Horodateur[[#This Row],[DATE]],1)-7))) -> 0 | O6: =(IF(D6="CV",OPTIONS!$C$2,IF(D6="COS",OPTIONS!$C$3,IF(D6="FORM",OPTIONS!$C$4,OPTIONS!$C$1))))*K6 -> 0 | P6: =T_Horodateur[[#This Row],[S-TOT $/JOUR]]+T_Horodateur[[#This Row],[PRIME REPAS]] -> 0 | Q6: =IF(WEEKDAY(T_Horodateur[[#This Row],[DATE]],2)<>7,"",SUMIFS(T_Horodateur[HRS2],T_Horodateur[DATE],">="&T_Horodateur[[#This Row],[DATE]]-(WEEKDAY(T_Horodateur[[#This Row],[DATE]],1)-1),T_Horodateur[DATE],"<="&T_Horodateur[[#This Row],[DATE]]-(WEEKDAY(T_Horodateur[[#This Row],[DATE]],1)-7))) -> 0 | R6: =IF(WEEKDAY(T_Horodateur[[#This Row],[DATE]],2)<>7,"",SUMIFS(T_Horodateur[$/JOUR],T_Horodateur[DATE],">="&T_Horodateur[[#This Row],[DATE]]-(WEEKDAY(T_Horodateur[[#This Row],[DATE]],1)-1),T_Horodateur[DATE],"<="&T_Horodateur[[#This Row],[DATE]]-(WEEKDAY(T_Horodateur[[#This Row],[DATE]],1)-7)))+T_Horodateur[[#This Row],[CHARGE3]] -> 0
A7: =TEXT(T_Horodateur[[#This Row],[DATE]],"jjjj") -> lundi | B7: 43871 | C7: =B7 -> 43871 | H7: =(T_Horodateur[[#This Row],[FIN]]-T_Horodateur[[#This Row],[DÉBUT]])*24 -> 0 | I7: =IF(T_Horodateur[[#This Row],[DÉBUT]]="",0,VLOOKUP(T_Horodateur[[#This Row],[HRS]],Horaires[],2,1)) -> 0 | J7: =IF(T_Horodateur[[#This Row],[DÉBUT]]="",0,VLOOKUP(T_Horodateur[[#This Row],[HRS]],Hoaires2[],2,1)) -> 0 | K7: =H7-J7 -> 0 | L7: =IF(J7=2,12.65,0) -> 0 | M7: =O7*7.45% -> 0 | N7: =IF(WEEKDAY(T_Horodateur[[#This Row],[DATE]],2)<>7,"",SUMIFS(T_Horodateur[CHARGE/JRS],T_Horodateur[DATE],">="&T_Horodateur[[#This Row],[DATE]]-(WEEKDAY(T_Horodateur[[#This Row],[DATE]],1)-1),T_Horodateur[DATE],"<="&T_Horodateur[[#This Row],[DATE]]-(WEEKDAY(T_Horodateur[[#This Row],[DATE]],1)-7))) | O7: =(IF(D7="CV",OPTIONS!$C$2,IF(D7="COS",OPTIONS!$C$3,IF(D7="FORM",OPTIONS!$C$4,OPTIONS!$C$1))))*K7 -> 0 | P7: =T_Horodateur[[#This Row],[S-TOT $/JOUR]]+T_Horodateur[[#This Row],[PRIME REPAS]] -> 0 | Q7: =IF(WEEKDAY(T_Horodateur[[#This Row],[DATE]],2)<>7,"",SUMIFS(T_Horodateur[HRS2],T_Horodateur[DATE],">="&T_Horodateur[[#This Row],[DATE]]-(WEEKDAY(T_Horodateur[[#This Row],[DATE]],1)-1),T_Horodateur[DATE],"<="&T_Horodateur[[#This Row],[DATE]]-(WEEKDAY(T_Horodateur[[#This Row],[DATE]],1)-7))) | R7: =IF(WEEKDAY(T_Horodateur[[#This Row],[DATE]],2)<>7,"",SUMIFS(T_Horodateur[$/JOUR],T_Horodateur[DATE],">="&T_Horodateur[[#This Row],[DATE]]-(WEEKDAY(T_Horodateur[[#This Row],[DATE]],1)-1),T_Horodateur[DATE],"<="&T_Horodateur[[#This Row],[DATE]]-(WEEKDAY(T_Horodateur[[#This Row],[DATE]],1)-7)))
A8: =TEXT(T_Horodateur[[#This Row],[DATE]],"jjjj") -> mardi | B8: 43872 | C8: =B8 -> 43872 | H8: =(T_Horodateur[[#This Row],[FIN]]-T_Horodateur[[#This Row],[DÉBUT]])*24 -> 0 | I8: =IF(T_Horodateur[[#This Row],[DÉBUT]]="",0,VLOOKUP(T_Horodateur[[#This Row],[HRS]],Horaires[],2,1)) -> 0 | J8: =IF(T_Horodateur[[#This Row],[DÉBUT]]="",0,VLOOKUP(T_Horodateur[[#This Row],[HRS]],Hoaires2[],2,1)) -> 0 | K8: =H8-J8 -> 0 | L8: =IF(J8=2,12.65,0) -> 0 | M8: =O8*7.45% -> 0 | N8: =IF(WEEKDAY(T_Horodateur[[#This Row],[DATE]],2)<>7,"",SUMIFS(T_Horodateur[CHARGE/JRS],T_Horodateur[DATE],">="&T_Horodateur[[#This Row],[DATE]]-(WEEKDAY(T_Horodateur[[#This Row],[DATE]],1)-1),T_Horodateur[DATE],"<="&T_Horodateur[[#This Row],[DATE]]-(WEEKDAY(T_Horodateur[[#This Row],[DATE]],1)-7))) | O8: =(IF(D8="CV",OPTIONS!$C$2,IF(D8="COS",OPTIONS!$C$3,IF(D8="FORM",OPTIONS!$C$4,OPTIONS!$C$1))))*K8 -> 0 | P8: =T_Horodateur[[#This Row],[S-TOT $/JOUR]]+T_Horodateur[[#This Row],[PRIME REPAS]] -> 0 | Q8: =IF(WEEKDAY(T_Horodateur[[#This Row],[DATE]],2)<>7,"",SUMIFS(T_Horodateur[HRS2],T_Horodateur[DATE],">="&T_Horodateur[[#This Row],[DATE]]-(WEEKDAY(T_Horodateur[[#This Row],[DATE]],1)-1),T_Horodateur[DATE],"<="&T_Horodateur[[#This Row],[DATE]]-(WEEKDAY(T_Horodateur[[#This Row],[DATE]],1)-7))) | R8: =IF(WEEKDAY(T_Horodateur[[#This Row],[DATE]],2)<>7,"",SUMIFS(T_Horodateur[$/JOUR],T_Horodateur[DATE],">="&T_Horodateur[[#This Row],[DATE]]-(WEEKDAY(T_Horodateur[[#This Row],[DATE]],1)-1),T_Horodateur[DATE],"<="&T_Horodateur[[#This Row],[DATE]]-(WEEKDAY(T_Horodateur[[#This Row],[DATE]],1)-7)))
A9: =TEXT(T_Horodateur[[#This Row],[DATE]],"jjjj") -> mercredi | B9: 43873 | C9: =B9 -> 43873 | H9: =(T_Horodateur[[#This Row],[FIN]]-T_Horodateur[[#This Row],[DÉBUT]])*24 -> 0 | I9: =IF(T_Horodateur[[#This Row],[DÉBUT]]="",0,VLOOKUP(T_Horodateur[[#This Row],[HRS]],Horaires[],2,1)) -> 0 | J9: =IF(T_Horodateur[[#This Row],[DÉBUT]]="",0,VLOOKUP(T_Horodateur[[#This Row],[HRS]],Hoaires2[],2,1)) -> 0 | K9: =H9-J9 -> 0 | L9: =IF(J9=2,12.65,0) -> 0 | M9: =O9*7.45% -> 0 | N9: =IF(WEEKDAY(T_Horodateur[[#This Row],[DATE]],2)<>7,"",SUMIFS(T_Horodateur[CHARGE/JRS],T_Horodateur[DATE],">="&T_Horodateur[[#This Row],[DATE]]-(WEEKDAY(T_Horodateur[[#This Row],[DATE]],1)-1),T_Horodateur[DATE],"<="&T_Horodateur[[#This Row],[DATE]]-(WEEKDAY(T_Horodateur[[#This Row],[DATE]],1)-7))) | O9: =(IF(D9="CV",OPTIONS!$C$2,IF(D9="COS",OPTIONS!$C$3,IF(D9="FORM",OPTIONS!$C$4,OPTIONS!$C$1))))*K9 -> 0 | P9: =T_Horodateur[[#This Row],[S-TOT $/JOUR]]+T_Horodateur[[#This Row],[PRIME REPAS]] -> 0 | Q9: =IF(WEEKDAY(T_Horodateur[[#This Row],[DATE]],2)<>7,"",SUMIFS(T_Horodateur[HRS2],T_Horodateur[DATE],">="&T_Horodateur[[#This Row],[DATE]]-(WEEKDAY(T_Horodateur[[#This Row],[DATE]],1)-1),T_Horodateur[DATE],"<="&T_Horodateur[[#This Row],[DATE]]-(WEEKDAY(T_Horodateur[[#This Row],[DATE]],1)-7))) | R9: =IF(WEEKDAY(T_Horodateur[[#This Row],[DATE]],2)<>7,"",SUMIFS(T_Horodateur[$/JOUR],T_Horodateur[DATE],">="&T_Horodateur[[#This Row],[DATE]]-(WEEKDAY(T_Horodateur[[#This Row],[DATE]],1)-1),T_Horodateur[DATE],"<="&T_Horodateur[[#This Row],[DATE]]-(WEEKDAY(T_Horodateur[[#This Row],[DATE]],1)-7)))
A10: =TEXT(T_Horodateur[[#This Row],[DATE]],"jjjj") -> jeudi | B10: 43874 | C10: =B10 -> 43874 | H10: =(T_Horodateur[[#This Row],[FIN]]-T_Horodateur[[#This Row],[DÉBUT]])*24 -> 0 | I10: =IF(T_Horodateur[[#This Row],[DÉBUT]]="",0,VLOOKUP(T_Horodateur[[#This Row],[HRS]],Horaires[],2,1)) -> 0 | J10: =IF(T_Horodateur[[#This Row],[DÉBUT]]="",0,VLOOKUP(T_Horodateur[[#This Row],[HRS]],Hoaires2[],2,1)) -> 0 | K10: =H10-J10 -> 0 | L10: =IF(J10=2,12.65,0) -> 0 | M10: =O10*7.45% -> 0 | N10: =IF(WEEKDAY(T_Horodateur[[#This Row],[DATE]],2)<>7,"",SUMIFS(T_Horodateur[CHARGE/JRS],T_Horodateur[DATE],">="&T_Horodateur[[#This Row],[DATE]]-(WEEKDAY(T_Horodateur[[#This Row],[DATE]],1)-1),T_Horodateur[DATE],"<="&T_Horodateur[[#This Row],[DATE]]-(WEEKDAY(T_Horodateur[[#This Row],[DATE]],1)-7))) | O10: =(IF(D10="CV",OPTIONS!$C$2,IF(D10="COS",OPTIONS!$C$3,IF(D10="FORM",OPTIONS!$C$4,OPTIONS!$C$1))))*K10 -> 0 | P10: =T_Horodateur[[#This Row],[S-TOT $/JOUR]]+T_Horodateur[[#This Row],[PRIME REPAS]] -> 0 | Q10: =IF(WEEKDAY(T_Horodateur[[#This Row],[DATE]],2)<>7,"",SUMIFS(T_Horodateur[HRS2],T_Horodateur[DATE],">="&T_Horodateur[[#This Row],[DATE]]-(WEEKDAY(T_Horodateur[[#This Row],[DATE]],1)-1),T_Horodateur[DATE],"<="&T_Horodateur[[#This Row],[DATE]]-(WEEKDAY(T_Horodateur[[#This Row],[DATE]],1)-7))) | R10: =IF(WEEKDAY(T_Horodateur[[#This Row],[DATE]],2)<>7,"",SUMIFS(T_Horodateur[$/JOUR],T_Horodateur[DATE],">="&T_Horodateur[[#This Row],[DATE]]-(WEEKDAY(T_Horodateur[[#This Row],[DATE]],1)-1),T_Horodateur[DATE],"<="&T_Horodateur[[#This Row],[DATE]]-(WEEKDAY(T_Horodateur[[#This Row],[DATE]],1)-7)))
A11: =TEXT(T_Horodateur[[#This Row],[DATE]],"jjjj") -> vendredi | B11: 43875 | C11: =B11 -> 43875 | H11: =(T_Horodateur[[#This Row],[FIN]]-T_Horodateur[[#This Row],[DÉBUT]])*24 -> 0 | I11: =IF(T_Horodateur[[#This Row],[DÉBUT]]="",0,VLOOKUP(T_Horodateur[[#This Row],[HRS]],Horaires[],2,1)) -> 0 | J11: =IF(T_Horodateur[[#This Row],[DÉBUT]]="",0,VLOOKUP(T_Horodateur[[#This Row],[HRS]],Hoaires2[],2,1)) -> 0 | K11: =H11-J11 -> 0 | L11: =IF(J11=2,12.65,0) -> 0 | M11: =O11*7.45% -> 0 | N11: =IF(WEEKDAY(T_Horodateur[[#This Row],[DATE]],2)<>7,"",SUMIFS(T_Horodateur[CHARGE/JRS],T_Horodateur[DATE],">="&T_Horodateur[[#This Row],[DATE]]-(WEEKDAY(T_Horodateur[[#This Row],[DATE]],1)-1),T_Horodateur[DATE],"<="&T_Horodateur[[#This Row],[DATE]]-(WEEKDAY(T_Horodateur[[#This Row],[DATE]],1)-7))) | O11: =(IF(D11="CV",OPTIONS!$C$2,IF(D11="COS",OPTIONS!$C$3,IF(D11="FORM",OPTIONS!$C$4,OPTIONS!$C$1))))*K11 -> 0 | P11: =T_Horodateur[[#This Row],[S-TOT $/JOUR]]+T_Horodateur[[#This Row],[PRIME REPAS]] -> 0 | Q11: =IF(WEEKDAY(T_Horodateur[[#This Row],[DATE]],2)<>7,"",SUMIFS(T_Horodateur[HRS2],T_Horodateur[DATE],">="&T_Horodateur[[#This Row],[DATE]]-(WEEKDAY(T_Horodateur[[#This Row],[DATE]],1)-1),T_Horodateur[DATE],"<="&T_Horodateur[[#This Row],[DATE]]-(WEEKDAY(T_Horodateur[[#This Row],[DATE]],1)-7))) | R11: =IF(WEEKDAY(T_Horodateur[[#This Row],[DATE]],2)<>7,"",SUMIFS(T_Horodateur[$/JOUR],T_Horodateur[DATE],">="&T_Horodateur[[#This Row],[DATE]]-(WEEKDAY(T_Horodateur[[#This Row],[DATE]],1)-1),T_Horodateur[DATE],"<="&T_Horodateur[[#This Row],[DATE]]-(WEEKDAY(T_Horodateur[[#This Row],[DATE]],1)-7)))
A12: =TEXT(T_Horodateur[[#This Row],[DATE]],"jjjj") -> samedi | B12: 43876 | C12: =B12 -> 43876 | H12: =(T_Horodateur[[#This Row],[FIN]]-T_Horodateur[[#This Row],[DÉBUT]])*24 -> 0 | I12: =IF(T_Horodateur[[#This Row],[DÉBUT]]="",0,VLOOKUP(T_Horodateur[[#This Row],[HRS]],Horaires[],2,1)) -> 0 | J12: =IF(T_Horodateur[[#This Row],[DÉBUT]]="",0,VLOOKUP(T_Horodateur[[#This Row],[HRS]],Hoaires2[],2,1)) -> 0 | K12: =H12-J12 -> 0 | L12: =IF(J12=2,12.65,0) -> 0 | M12: =O12*7.45% -> 0 | N12: =IF(WEEKDAY(T_Horodateur[[#This Row],[DATE]],2)<>7,"",SUMIFS(T_Horodateur[CHARGE/JRS],T_Horodateur[DATE],">="&T_Horodateur[[#This Row],[DATE]]-(WEEKDAY(T_Horodateur[[#This Row],[DATE]],1)-1),T_Horodateur[DATE],"<="&T_Horodateur[[#This Row],[DATE]]-(WEEKDAY(T_Horodateur[[#This Row],[DATE]],1)-7))) | O12: =(IF(D12="CV",OPTIONS!$C$2,IF(D12="COS",OPTIONS!$C$3,IF(D12="FORM",OPTIONS!$C$4,OPTIONS!$C$1))))*K12 -> 0 | P12: =T_Horodateur[[#This Row],[S-TOT $/JOUR]]+T_Horodateur[[#This Row],[PRIME REPAS]] -> 0 | Q12: =IF(WEEKDAY(T_Horodateur[[#This Row],[DATE]],2)<>7,"",SUMIFS(T_Horodateur[HRS2],T_Horodateur[DATE],">="&T_Horodateur[[#This Row],[DATE]]-(WEEKDAY(T_Horodateur[[#This Row],[DATE]],1)-1),T_Horodateur[DATE],"<="&T_Horodateur[[#This Row],[DATE]]-(WEEKDAY(T_Horodateur[[#This Row],[DATE]],1)-7))) | R12: =IF(WEEKDAY(T_Horodateur[[#This Row],[DATE]],2)<>7,"",SUMIFS(T_Horodateur[$/JOUR],T_Horodateur[DATE],">="&T_Horodateur[[#This Row],[DATE]]-(WEEKDAY(T_Horodateur[[#This Row],[DATE]],1)-1),T_Horodateur[DATE],"<="&T_Horodateur[[#This Row],[DATE]]-(WEEKDAY(T_Horodateur[[#This Row],[DATE]],1)-7)))
A13: =TEXT(T_Horodateur[[#This Row],[DATE]],"jjjj") -> dimanche | B13: 43877 | C13: =B13 -> 43877 | D13: CV | E13: 33524 | F13: 0.58333333 | G13: 0.70833333 | H13: =(T_Horodateur[[#This Row],[FIN]]-T_Horodateur[[#This Row],[DÉBUT]])*24 -> 3 | I13: =IF(T_Horodateur[[#This Row],[DÉBUT]]="",0,VLOOKUP(T_Horodateur[[#This Row],[HRS]],Horaires[],2,1)) -> 0 | J13: =IF(T_Horodateur[[#This Row],[DÉBUT]]="",0,VLOOKUP(T_Horodateur[[#This Row],[HRS]],Hoaires2[],2,1)) -> 0 | K13: =H13-J13 -> 3 | L13: =IF(J13=2,12.65,0) -> 0 | M13: =O13*7.45% -> 4.57281 | N13: =IF(WEEKDAY(T_Horodateur[[#This Row],[DATE]],2)<>7,"",SUMIFS(T_Horodateur[CHARGE/JRS],T_Horodateur[DATE],">="&T_Horodateur[[#This Row],[DATE]]-(WEEKDAY(T_Horodateur[[#This Row],[DATE]],1)-1),T_Horodateur[DATE],"<="&T_Horodateur[[#This Row],[DATE]]-(WEEKDAY(T_Horodateur[[#This Row],[DATE]],1)-7))) -> 43.764652 | O13: =(IF(D13="CV",OPTIONS!$C$2,IF(D13="COS",OPTIONS!$C$3,IF(D13="FORM",OPTIONS!$C$4,OPTIONS!$C$1))))*K13 -> 61.38 | P13: =T_Horodateur[[#This Row],[S-TOT $/JOUR]]+T_Horodateur[[#This Row],[PRIME REPAS]] -> 61.38 | Q13: =IF(WEEKDAY(T_Horodateur[[#This Row],[DATE]],2)<>7,"",SUMIFS(T_Horodateur[HRS2],T_Horodateur[DATE],">="&T_Horodateur[[#This Row],[DATE]]-(WEEKDAY(T_Horodateur[[#This Row],[DATE]],1)-1),T_Horodateur[DATE],"<="&T_Horodateur[[#This Row],[DATE]]-(WEEKDAY(T_Horodateur[[#This Row],[DATE]],1)-7))) -> 26.25 | R13: =IF(WEEKDAY(T_Horodateur[[#This Row],[DATE]],2)<>7,"",SUMIFS(T_Horodateur[$/JOUR],T_Horodateur[DATE],">="&T_Horodateur[[#This Row],[DATE]]-(WEEKDAY(T_Horodateur[[#This Row],[DATE]],1)-1),T_Horodateur[DATE],"<="&T_Horodateur[[#This Row],[DATE]]-(WEEKDAY(T_Horodateur[[#This Row],[DATE]],1)-7)))+T_Horodateur[[#This Row],[CHARGE3]] -> 643.85965
A14: =TEXT(T_Horodateur[[#This Row],[DATE]],"jjjj") -> lundi | B14: 43878 | C14: =B14 -> 43878 | H14: =(T_Horodateur[[#This Row],[FIN]]-T_Horodateur[[#This Row],[DÉBUT]])*24 -> 0 | I14: =IF(T_Horodateur[[#This Row],[DÉBUT]]="",0,VLOOKUP(T_Horodateur[[#This Row],[HRS]],Horaires[],2,1)) -> 0 | J14: =IF(T_Horodateur[[#This Row],[DÉBUT]]="",0,VLOOKUP(T_Horodateur[[#This Row],[HRS]],Hoaires2[],2,1)) -> 0 | K14: =H14-J14 -> 0 | L14: =IF(J14=2,12.65,0) -> 0 | M14: =O14*7.45% -> 0 | N14: =IF(WEEKDAY(T_Horodateur[[#This Row],[DATE]],2)<>7,"",SUMIFS(T_Horodateur[CHARGE/JRS],T_Horodateur[DATE],">="&T_Horodateur[[#This Row],[DATE]]-(WEEKDAY(T_Horodateur[[#This Row],[DATE]],1)-1),T_Horodateur[DATE],"<="&T_Horodateur[[#This Row],[DATE]]-(WEEKDAY(T_Horodateur[[#This Row],[DATE]],1)-7))) | O14: =(IF(D14="CV",OPTIONS!$C$2,IF(D14="COS",OPTIONS!$C$3,IF(D14="FORM",OPTIONS!$C$4,OPTIONS!$C$1))))*K14 -> 0 | P14: =T_Horodateur[[#This Row],[S-TOT $/JOUR]]+T_Horodateur[[#This Row],[PRIME REPAS]] -> 0 | Q14: =IF(WEEKDAY(T_Horodateur[[#This Row],[DATE]],2)<>7,"",SUMIFS(T_Horodateur[HRS2],T_Horodateur[DATE],">="&T_Horodateur[[#This Row],[DATE]]-(WEEKDAY(T_Horodateur[[#This Row],[DATE]],1)-1),T_Horodateur[DATE],"<="&T_Horodateur[[#This Row],[DATE]]-(WEEKDAY(T_Horodateur[[#This Row],[DATE]],1)-7))) | R14: =IF(WEEKDAY(T_Horodateur[[#This Row],[DATE]],2)<>7,"",SUMIFS(T_Horodateur[$/JOUR],T_Horodateur[DATE],">="&T_Horodateur[[#This Row],[DATE]]-(WEEKDAY(T_Horodateur[[#This Row],[DATE]],1)-1),T_Horodateur[DATE],"<="&T_Horodateur[[#This Row],[DATE]]-(WEEKDAY(T_Horodateur[[#This Row],[DATE]],1)-7)))
A15: =TEXT(T_Horodateur[[#This Row],[DATE]],"jjjj") -> mardi | B15: 43879 | C15: =B15 -> 43879 | D15: CV | E15: 33538 | F15: 0.625 | G15: 0.75 | H15: =(T_Horodateur[[#This Row],[FIN]]-T_Horodateur[[#This Row],[DÉBUT]])*24 -> 3 | I15: =IF(T_Horodateur[[#This Row],[DÉBUT]]="",0,VLOOKUP(T_Horodateur[[#This Row],[HRS]],Horaires[],2,1)) -> 0 | J15: =IF(T_Horodateur[[#This Row],[DÉBUT]]="",0,VLOOKUP(T_Horodateur[[#This Row],[HRS]],Hoaires2[],2,1)) -> 0 | K15: =H15-J15 -> 3 | L15: =IF(J15=2,12.65,0) -> 0 | M15: =O15*7.45% -> 4.57281 | N15: =IF(WEEKDAY(T_Horodateur[[#This Row],[DATE]],2)<>7,"",SUMIFS(T_Horodateur[CHARGE/JRS],T_Horodateur[DATE],">="&T_Horodateur[[#This Row],[DATE]]-(WEEKDAY(T_Horodateur[[#This Row],[DATE]],1)-1),T_Horodateur[DATE],"<="&T_Horodateur[[#This Row],[DATE]]-(WEEKDAY(T_Horodateur[[#This Row],[DATE]],1)-7))) | O15: =(IF(D15="CV",OPTIONS!$C$2,IF(D15="COS",OPTIONS!$C$3,IF(D15="FORM",OPTIONS!$C$4,OPTIONS!$C$1))))*K15 -> 61.38 | P15: =T_Horodateur[[#This Row],[S-TOT $/JOUR]]+T_Horodateur[[#This Row],[PRIME REPAS]] -> 61.38 | Q15: =IF(WEEKDAY(T_Horodateur[[#This Row],[DATE]],2)<>7,"",SUMIFS(T_Horodateur[HRS2],T_Horodateur[DATE],">="&T_Horodateur[[#This Row],[DATE]]-(WEEKDAY(T_Horodateur[[#This Row],[DATE]],1)-1),T_Horodateur[DATE],"<="&T_Horodateur[[#This Row],[DATE]]-(WEEKDAY(T_Horodateur[[#This Row],[DATE]],1)-7))) | R15: =IF(WEEKDAY(T_Horodateur[[#This Row],[DATE]],2)<>7,"",SUMIFS(T_Horodateur[$/JOUR],T_Horodateur[DATE],">="&T_Horodateur[[#This Row],[DATE]]-(WEEKDAY(T_Horodateur[[#This Row],[DATE]],1)-1),T_Horodateur[DATE],"<="&T_Horodateur[[#This Row],[DATE]]-(WEEKDAY(T_Horodateur[[#This Row],[DATE]],1)-7)))
A16: =TEXT(T_Horodateur[[#This Row],[DATE]],"jjjj") -> mercredi | B16: 43880 | C16: =B16 -> 43880 | D16: COS | E16: 33538 | F16: 0.33333333 | G16: 0.70833333 | H16: =(T_Horodateur[[#This Row],[FIN]]-T_Horodateur[[#This Row],[DÉBUT]])*24 -> 9 | I16: =IF(T_Horodateur[[#This Row],[DÉBUT]]="",0,VLOOKUP(T_Horodateur[[#This Row],[HRS]],Horaires[],2,1)) -> 2 | J16: =IF(T_Horodateur[[#This Row],[DÉBUT]]="",0,VLOOKUP(T_Horodateur[[#This Row],[HRS]],Hoaires2[],2,1)) -> 1 | K16: =H16-J16 -> 8 | L16: =IF(J16=2,12.65,0) -> 0 | M16: =O16*7.45% -> 13.93448 | N16: =IF(WEEKDAY(T_Horodateur[[#This Row],[DATE]],2)<>7,"",SUMIFS(T_Horodateur[CHARGE/JRS],T_Horodateur[DATE],">="&T_Horodateur[[#This Row],[DATE]]-(WEEKDAY(T_Horodateur[[#This Row],[DATE]],1)-1),T_Horodateur[DATE],"<="&T_Horodateur[[#This Row],[DATE]]-(WEEKDAY(T_Horodateur[[#This Row],[DATE]],1)-7))) | O16: =(IF(D16="CV",OPTIONS!$C$2,IF(D16="COS",OPTIONS!$C$3,IF(D16="FORM",OPTIONS!$C$4,OPTIONS!$C$1))))*K16 -> 187.04 | P16: =T_Horodateur[[#This Row],[S-TOT $/JOUR]]+T_Horodateur[[#This Row],[PRIME REPAS]] -> 187.04 | Q16: =IF(WEEKDAY(T_Horodateur[[#This Row],[DATE]],2)<>7,"",SUMIFS(T_Horodateur[HRS2],T_Horodateur[DATE],">="&T_Horodateur[[#This Row],[DATE]]-(WEEKDAY(T_Horodateur[[#This Row],[DATE]],1)-1),T_Horodateur[DATE],"<="&T_Horodateur[[#This Row],[DATE]]-(WEEKDAY(T_Horodateur[[#This Row],[DATE]],1)-7))) | R16: =IF(WEEKDAY(T_Horodateur[[#This Row],[DATE]],2)<>7,"",SUMIFS(T_Horodateur[$/JOUR],T_Horodateur[DATE],">="&T_Horodateur[[#This Row],[DATE]]-(WEEKDAY(T_Horodateur[[#This Row],[DATE]],1)-1),T_Horodateur[DATE],"<="&T_Horodateur[[#This Row],[DATE]]-(WEEKDAY(T_Horodateur[[#This Row],[DATE]],1)-7)))
A17: =TEXT(T_Horodateur[[#This Row],[DATE]],"jjjj") -> jeudi | B17: 43881 | C17: =B17 -> 43881 | D17: COS | E17: 33538 | F17: 0.40625 | G17: 0.875 | H17: =(T_Horodateur[[#This Row],[FIN]]-T_Horodateur[[#This Row],[DÉBUT]])*24 -> 11.25 | I17: =IF(T_Horodateur[[#This Row],[DÉBUT]]="",0,VLOOKUP(T_Horodateur[[#This Row],[HRS]],Horaires[],2,1)) -> 2 | J17: =IF(T_Horodateur[[#This Row],[DÉBUT]]="",0,VLOOKUP(T_Horodateur[[#This Row],[HRS]],Hoaires2[],2,1)) -> 2 | K17: =H17-J17 -> 9.25 | L17: =IF(J17=2,12.65,0) -> 12.65 | M17: =O17*7.45% -> 16.111742 | N17: =IF(WEEKDAY(T_Horodateur[[#This Row],[DATE]],2)<>7,"",SUMIFS(T_Horodateur[CHARGE/JRS],T_Horodateur[DATE],">="&T_Horodateur[[#This Row],[DATE]]-(WEEKDAY(T_Horodateur[[#This Row],[DATE]],1)-1),T_Horodateur[DATE],"<="&T_Horodateur[[#This Row],[DATE]]-(WEEKDAY(T_Horodateur[[#This Row],[DATE]],1)-7))) | O17: =(IF(D17="CV",OPTIONS!$C$2,IF(D17="COS",OPTIONS!$C$3,IF(D17="FORM",OPTIONS!$C$4,OPTIONS!$C$1))))*K17 -> 216.265 | P17: =T_Horodateur[[#This Row],[S-TOT $/JOUR]]+T_Horodateur[[#This Row],[PRIME REPAS]] -> 228.915 | Q17: =IF(WEEKDAY(T_Horodateur[[#This Row],[DATE]],2)<>7,"",SUMIFS(T_Horodateur[HRS2],T_Horodateur[DATE],">="&T_Horodateur[[#This Row],[DATE]]-(WEEKDAY(T_Horodateur[[#This Row],[DATE]],1)-1),T_Horodateur[DATE],"<="&T_Horodateur[[#This Row],[DATE]]-(WEEKDAY(T_Horodateur[[#This Row],[DATE]],1)-7))) | R17: =IF(WEEKDAY(T_Horodateur[[#This Row],[DATE]],2)<>7,"",SUMIFS(T_Horodateur[$/JOUR],T_Horodateur[DATE],">="&T_Horodateur[[#This Row],[DATE]]-(WEEKDAY(T_Horodateur[[#This Row],[DATE]],1)-1),T_Horodateur[DATE],"<="&T_Horodateur[[#This Row],[DATE]]-(WEEKDAY(T_Horodateur[[#This Row],[DATE]],1)-7)))
A18: =TEXT(T_Horodateur[[#This Row],[DATE]],"jjjj") -> vendredi | B18: 43882 | C18: =B18 -> 43882 | D18: CV | E18: 33538 | F18: 0.66666667 | G18: 0.79166667 | H18: =(T_Horodateur[[#This Row],[FIN]]-T_Horodateur[[#This Row],[DÉBUT]])*24 -> 3 | I18: =IF(T_Horodateur[[#This Row],[DÉBUT]]="",0,VLOOKUP(T_Horodateur[[#This Row],[HRS]],Horaires[],2,1)) -> 0 | J18: =IF(T_Horodateur[[#This Row],[DÉBUT]]="",0,VLOOKUP(T_Horodateur[[#This Row],[HRS]],Hoaires2[],2,1)) -> 0 | K18: =H18-J18 -> 3 | L18: =IF(J18=2,12.65,0) -> 0 | M18: =O18*7.45% -> 4.57281 | N18: =IF(WEEKDAY(T_Horodateur[[#This Row],[DATE]],2)<>7,"",SUMIFS(T_Horodateur[CHARGE/JRS],T_Horodateur[DATE],">="&T_Horodateur[[#This Row],[DATE]]-(WEEKDAY(T_Horodateur[[#This Row],[DATE]],1)-1),T_Horodateur[DATE],"<="&T_Horodateur[[#This Row],[DATE]]-(WEEKDAY(T_Horodateur[[#This Row],[DATE]],1)-7))) | O18: =(IF(D18="CV",OPTIONS!$C$2,IF(D18="COS",OPTIONS!$C$3,IF(D18="FORM",OPTIONS!$C$4,OPTIONS!$C$1))))*K18 -> 61.38 | P18: =T_Horodateur[[#This Row],[S-TOT $/JOUR]]+T_Horodateur[[#This Row],[PRIME REPAS]] -> 61.38 | Q18: =IF(WEEKDAY(T_Horodateur[[#This Row],[DATE]],2)<>7,"",SUMIFS(T_Horodateur[HRS2],T_Horodateur[DATE],">="&T_Horodateur[[#This Row],[DATE]]-(WEEKDAY(T_Horodateur[[#This Row],[DATE]],1)-1),T_Horodateur[DATE],"<="&T_Horodateur[[#This Row],[DATE]]-(WEEKDAY(T_Horodateur[[#This Row],[DATE]],1)-7))) | R18: =IF(WEEKDAY(T_Horodateur[[#This Row],[DATE]],2)<>7,"",SUMIFS(T_Horodateur[$/JOUR],T_Horodateur[DATE],">="&T_Horodateur[[#This Row],[DATE]]-(WEEKDAY(T_Horodateur[[#This Row],[DATE]],1)-1),T_Horodateur[DATE],"<="&T_Horodateur[[#This Row],[DATE]]-(WEEKDAY(T_Horodateur[[#This Row],[DATE]],1)-7)))
A19: =TEXT(T_Horodateur[[#This Row],[DATE]],"jjjj") -> samedi | B19: 43883 | C19: =B19 -> 43883 | D19: CV | E19: 33606 | H19: =(T_Horodateur[[#This Row],[FIN]]-T_Horodateur[[#This Row],[DÉBUT]])*24 -> 0 | I19: =IF(T_Horodateur[[#This Row],[DÉBUT]]="",0,VLOOKUP(T_Horodateur[[#This Row],[HRS]],Horaires[],2,1)) -> 0 | J19: =IF(T_Horodateur[[#This Row],[DÉBUT]]="",0,VLOOKUP(T_Horodateur[[#This Row],[HRS]],Hoaires2[],2,1)) -> 0 | K19: =H19-J19 -> 0 | L19: =IF(J19=2,12.65,0) -> 0 | M19: =O19*7.45% -> 0 | N19: =IF(WEEKDAY(T_Horodateur[[#This Row],[DATE]],2)<>7,"",SUMIFS(T_Horodateur[CHARGE/JRS],T_Horodateur[DATE],">="&T_Horodateur[[#This Row],[DATE]]-(WEEKDAY(T_Horodateur[[#This Row],[DATE]],1)-1),T_Horodateur[DATE],"<="&T_Horodateur[[#This Row],[DATE]]-(WEEKDAY(T_Horodateur[[#This Row],[DATE]],1)-7))) | O19: =(IF(D19="CV",OPTIONS!$C$2,IF(D19="COS",OPTIONS!$C$3,IF(D19="FORM",OPTIONS!$C$4,OPTIONS!$C$1))))*K19 -> 0 | P19: =T_Horodateur[[#This Row],[S-TOT $/JOUR]]+T_Horodateur[[#This Row],[PRIME REPAS]] -> 0 | Q19: =IF(WEEKDAY(T_Horodateur[[#This Row],[DATE]],2)<>7,"",SUMIFS(T_Horodateur[HRS2],T_Horodateur[DATE],">="&T_Horodateur[[#This Row],[DATE]]-(WEEKDAY(T_Horodateur[[#This Row],[DATE]],1)-1),T_Horodateur[DATE],"<="&T_Horodateur[[#This Row],[DATE]]-(WEEKDAY(T_Horodateur[[#This Row],[DATE]],1)-7))) | R19: =IF(WEEKDAY(T_Horodateur[[#This Row],[DATE]],2)<>7,"",SUMIFS(T_Horodateur[$/JOUR],T_Horodateur[DATE],">="&T_Horodateur[[#This Row],[DATE]]-(WEEKDAY(T_Horodateur[[#This Row],[DATE]],1)-1),T_Horodateur[DATE],"<="&T_Horodateur[[#This Row],[DATE]]-(WEEKDAY(T_Horodateur[[#This Row],[DATE]],1)-7)))
A20: =TEXT(T_Horodateur[[#This Row],[DATE]],"jjjj") -> dimanche | B20: 43884 | C20: =B20 -> 43884 | D20: CV | E20: 33524 | F20: 0.5 | G20: 0.875 | H20: =(T_Horodateur[[#This Row],[FIN]]-T_Horodateur[[#This Row],[DÉBUT]])*24 -> 9 | I20: =IF(T_Horodateur[[#This Row],[DÉBUT]]="",0,VLOOKUP(T_Horodateur[[#This Row],[HRS]],Horaires[],2,1)) -> 2 | J20: =IF(T_Horodateur[[#This Row],[DÉBUT]]="",0,VLOOKUP(T_Horodateur[[#This Row],[HRS]],Hoaires2[],2,1)) -> 1 | K20: =H20-J20 -> 8 | L20: =IF(J20=2,12.65,0) -> 0 | M20: =O20*7.45% -> 12.19416 | N20: =IF(WEEKDAY(T_Horodateur[[#This Row],[DATE]],2)<>7,"",SUMIFS(T_Horodateur[CHARGE/JRS],T_Horodateur[DATE],">="&T_Horodateur[[#This Row],[DATE]]-(WEEKDAY(T_Horodateur[[#This Row],[DATE]],1)-1),T_Horodateur[DATE],"<="&T_Horodateur[[#This Row],[DATE]]-(WEEKDAY(T_Horodateur[[#This Row],[DATE]],1)-7))) -> 59.08148 | O20: =(IF(D20="CV",OPTIONS!$C$2,IF(D20="COS",OPTIONS!$C$3,IF(D20="FORM",OPTIONS!$C$4,OPTIONS!$C$1))))*K20 -> 163.68 | P20: =T_Horodateur[[#This Row],[S-TOT $/JOUR]]+T_Horodateur[[#This Row],[PRIME REPAS]] -> 163.68 | Q20: =IF(WEEKDAY(T_Horodateur[[#This Row],[DATE]],2)<>7,"",SUMIFS(T_Horodateur[HRS2],T_Horodateur[DATE],">="&T_Horodateur[[#This Row],[DATE]]-(WEEKDAY(T_Horodateur[[#This Row],[DATE]],1)-1),T_Horodateur[DATE],"<="&T_Horodateur[[#This Row],[DATE]]-(WEEKDAY(T_Horodateur[[#This Row],[DATE]],1)-7))) -> 37.333333 | R20: =IF(WEEKDAY(T_Horodateur[[#This Row],[DATE]],2)<>7,"",SUMIFS(T_Horodateur[$/JOUR],T_Horodateur[DATE],">="&T_Horodateur[[#This Row],[DATE]]-(WEEKDAY(T_Horodateur[[#This Row],[DATE]],1)-1),T_Horodateur[DATE],"<="&T_Horodateur[[#This Row],[DATE]]-(WEEKDAY(T_Horodateur[[#This Row],[DATE]],1)-7)))+T_Horodateur[[#This Row],[CHARGE3]] -> 864.77148
A21: =TEXT(T_Horodateur[[#This Row],[DATE]],"jjjj") -> lundi | B21: 43885 | C21: =B21 -> 43885 | D21: CV | E21: 33538 | F21: 0.47916667 | G21: 0.60416667 | H21: =(T_Horodateur[[#This Row],[FIN]]-T_Horodateur[[#This Row],[DÉBUT]])*24 -> 3 | I21: =IF(T_Horodateur[[#This Row],[DÉBUT]]="",0,VLOOKUP(T_Horodateur[[#This Row],[HRS]],Horaires[],2,1)) -> 0 | J21: =IF(T_Horodateur[[#This Row],[DÉBUT]]="",0,VLOOKUP(T_Horodateur[[#This Row],[HRS]],Hoaires2[],2,1)) -> 0 | K21: =H21-J21 -> 3 | L21: =IF(J21=2,12.65,0) -> 0 | M21: =O21*7.45% -> 4.57281 | N21: =IF(WEEKDAY(T_Horodateur[[#This Row],[DATE]],2)<>7,"",SUMIFS(T_Horodateur[CHARGE/JRS],T_Horodateur[DATE],">="&T_Horodateur[[#This Row],[DATE]]-(WEEKDAY(T_Horodateur[[#This Row],[DATE]],1)-1),T_Horodateur[DATE],"<="&T_Horodateur[[#This Row],[DATE]]-(WEEKDAY(T_Horodateur[[#This Row],[DATE]],1)-7))) | O21: =(IF(D21="CV",OPTIONS!$C$2,IF(D21="COS",OPTIONS!$C$3,IF(D21="FORM",OPTIONS!$C$4,OPTIONS!$C$1))))*K21 -> 61.38 | P21: =T_Horodateur[[#This Row],[S-TOT $/JOUR]]+T_Horodateur[[#This Row],[PRIME REPAS]] -> 61.38 | Q21: =IF(WEEKDAY(T_Horodateur[[#This Row],[DATE]],2)<>7,"",SUMIFS(T_Horodateur[HRS2],T_Horodateur[DATE],">="&T_Horodateur[[#This Row],[DATE]]-(WEEKDAY(T_Horodateur[[#This Row],[DATE]],1)-1),T_Horodateur[DATE],"<="&T_Horodateur[[#This Row],[DATE]]-(WEEKDAY(T_Horodateur[[#This Row],[DATE]],1)-7))) | R21: =IF(WEEKDAY(T_Horodateur[[#This Row],[DATE]],2)<>7,"",SUMIFS(T_Horodateur[$/JOUR],T_Horodateur[DATE],">="&T_Horodateur[[#This Row],[DATE]]-(WEEKDAY(T_Horodateur[[#This Row],[DATE]],1)-1),T_Horodateur[DATE],"<="&T_Horodateur[[#This Row],[DATE]]-(WEEKDAY(T_Horodateur[[#This Row],[DATE]],1)-7)))
A22: =TEXT(T_Horodateur[[#This Row],[DATE]],"jjjj") -> mardi | B22: 43886 | C22: =B22 -> 43886 | D22: FORM | E22: DOM | F22: 0 | G22: 0.034722222 | H22: =(T_Horodateur[[#This Row],[FIN]]-T_Horodateur[[#This Row],[DÉBUT]])*24 -> 0.83333333 | I22: =IF(T_Horodateur[[#This Row],[DÉBUT]]="",0,VLOOKUP(T_Horodateur[[#This Row],[HRS]],Horaires[],2,1)) -> 0 | J22: =IF(T_Horodateur[[#This Row],[DÉBUT]]="",0,VLOOKUP(T_Horodateur[[#This Row],[HRS]],Hoaires2[],2,1)) -> 0 | K22: =H22-J22 -> 0.83333333 | L22: =IF(J22=2,12.65,0) -> 0 | M22: =O22*7.45% -> 1.270225 | N22: =IF(WEEKDAY(T_Horodateur[[#This Row],[DATE]],2)<>7,"",SUMIFS(T_Horodateur[CHARGE/JRS],T_Horodateur[DATE],">="&T_Horodateur[[#This Row],[DATE]]-(WEEKDAY(T_Horodateur[[#This Row],[DATE]],1)-1),T_Horodateur[DATE],"<="&T_Horodateur[[#This Row],[DATE]]-(WEEKDAY(T_Horodateur[[#This Row],[DATE]],1)-7))) | O22: =(IF(D22="CV",OPTIONS!$C$2,IF(D22="COS",OPTIONS!$C$3,IF(D22="FORM",OPTIONS!$C$4,OPTIONS!$C$1))))*K22 -> 17.05 | P22: =T_Horodateur[[#This Row],[S-TOT $/JOUR]]+T_Horodateur[[#This Row],[PRIME REPAS]] -> 17.05 | Q22: =IF(WEEKDAY(T_Horodateur[[#This Row],[DATE]],2)<>7,"",SUMIFS(T_Horodateur[HRS2],T_Horodateur[DATE],">="&T_Horodateur[[#This Row],[DATE]]-(WEEKDAY(T_Horodateur[[#This Row],[DATE]],1)-1),T_Horodateur[DATE],"<="&T_Horodateur[[#This Row],[DATE]]-(WEEKDAY(T_Horodateur[[#This Row],[DATE]],1)-7))) | R22: =IF(WEEKDAY(T_Horodateur[[#This Row],[DATE]],2)<>7,"",SUMIFS(T_Horodateur[$/JOUR],T_Horodateur[DATE],">="&T_Horodateur[[#This Row],[DATE]]-(WEEKDAY(T_Horodateur[[#This Row],[DATE]],1)-1),T_Horodateur[DATE],"<="&T_Horodateur[[#This Row],[DATE]]-(WEEKDAY(T_Horodateur[[#This Row],[DATE]],1)-7)))
A23: =TEXT(T_Horodateur[[#This Row],[DATE]],"jjjj") -> mercredi | B23: 43887 | C23: =B23 -> 43887 | D23: CV | E23: 33538 | F23: 0.45833333 | G23: 0.79166667 | H23: =(T_Horodateur[[#This Row],[FIN]]-T_Horodateur[[#This Row],[DÉBUT]])*24 -> 8 | I23: =IF(T_Horodateur[[#This Row],[DÉBUT]]="",0,VLOOKUP(T_Horodateur[[#This Row],[HRS]],Horaires[],2,1)) -> 2 | J23: =IF(T_Horodateur[[#This Row],[DÉBUT]]="",0,VLOOKUP(T_Horodateur[[#This Row],[HRS]],Hoaires2[],2,1)) -> 1 | K23: =H23-J23 -> 7 | L23: =IF(J23=2,12.65,0) -> 0 | M23: =O23*7.45% -> 10.66989 | N23: =IF(WEEKDAY(T_Horodateur[[#This Row],[DATE]],2)<>7,"",SUMIFS(T_Horodateur[CHARGE/JRS],T_Horodateur[DATE],">="&T_Horodateur[[#This Row],[DATE]]-(WEEKDAY(T_Horodateur[[#This Row],[DATE]],1)-1),T_Horodateur[DATE],"<="&T_Horodateur[[#This Row],[DATE]]-(WEEKDAY(T_Horodateur[[#This Row],[DATE]],1)-7))) | O23: =(IF(D23="CV",OPTIONS!$C$2,IF(D23="COS",OPTIONS!$C$3,IF(D23="FORM",OPTIONS!$C$4,OPTIONS!$C$1))))*K23 -> 143.22 | P23: =T_Horodateur[[#This Row],[S-TOT $/JOUR]]+T_Horodateur[[#This Row],[PRIME REPAS]] -> 143.22 | Q23: =IF(WEEKDAY(T_Horodateur[[#This Row],[DATE]],2)<>7,"",SUMIFS(T_Horodateur[HRS2],T_Horodateur[DATE],">="&T_Horodateur[[#This Row],[DATE]]-(WEEKDAY(T_Horodateur[[#This Row],[DATE]],1)-1),T_Horodateur[DATE],"<="&T_Horodateur[[#This Row],[DATE]]-(WEEKDAY(T_Horodateur[[#This Row],[DATE]],1)-7))) | R23: =IF(WEEKDAY(T_Horodateur[[#This Row],[DATE]],2)<>7,"",SUMIFS(T_Horodateur[$/JOUR],T_Horodateur[DATE],">="&T_Horodateur[[#This Row],[DATE]]-(WEEKDAY(T_Horodateur[[#This Row],[DATE]],1)-1),T_Horodateur[DATE],"<="&T_Horodateur[[#This Row],[DATE]]-(WEEKDAY(T_Horodateur[[#This Row],[DATE]],1)-7)))
A24: =TEXT(T_Horodateur[[#This Row],[DATE]],"jjjj") -> jeudi | B24: 43888 | C24: =B24 -> 43888 | D24: CV | E24: 33606 | F24: 0.58333333 | G24: 0.8125 | H24: =(T_Horodateur[[#This Row],[FIN]]-T_Horodateur[[#This Row],[DÉBUT]])*24 -> 5.5 | I24: =IF(T_Horodateur[[#This Row],[DÉBUT]]="",0,VLOOKUP(T_Horodateur[[#This Row],[HRS]],Horaires[],2,1)) -> 1 | J24: =IF(T_Horodateur[[#This Row],[DÉBUT]]="",0,VLOOKUP(T_Horodateur[[#This Row],[HRS]],Hoaires2[],2,1)) -> 0 | K24: =H24-J24 -> 5.5 | L24: =IF(J24=2,12.65,0) -> 0 | M24: =O24*7.45% -> 8.383485 | N24: =IF(WEEKDAY(T_Horodateur[[#This Row],[DATE]],2)<>7,"",SUMIFS(T_Horodateur[CHARGE/JRS],T_Horodateur[DATE],">="&T_Horodateur[[#This Row],[DATE]]-(WEEKDAY(T_Horodateur[[#This Row],[DATE]],1)-1),T_Horodateur[DATE],"<="&T_Horodateur[[#This Row],[DATE]]-(WEEKDAY(T_Horodateur[[#This Row],[DATE]],1)-7))) | O24: =(IF(D24="CV",OPTIONS!$C$2,IF(D24="COS",OPTIONS!$C$3,IF(D24="FORM",OPTIONS!$C$4,OPTIONS!$C$1))))*K24 -> 112.53 | P24: =T_Horodateur[[#This Row],[S-TOT $/JOUR]]+T_Horodateur[[#This Row],[PRIME REPAS]] -> 112.53 | Q24: =IF(WEEKDAY(T_Horodateur[[#This Row],[DATE]],2)<>7,"",SUMIFS(T_Horodateur[HRS2],T_Horodateur[DATE],">="&T_Horodateur[[#This Row],[DATE]]-(WEEKDAY(T_Horodateur[[#This Row],[DATE]],1)-1),T_Horodateur[DATE],"<="&T_Horodateur[[#This Row],[DATE]]-(WEEKDAY(T_Horodateur[[#This Row],[DATE]],1)-7))) | R24: =IF(WEEKDAY(T_Horodateur[[#This Row],[DATE]],2)<>7,"",SUMIFS(T_Horodateur[$/JOUR],T_Horodateur[DATE],">="&T_Horodateur[[#This Row],[DATE]]-(WEEKDAY(T_Horodateur[[#This Row],[DATE]],1)-1),T_Horodateur[DATE],"<="&T_Horodateur[[#This Row],[DATE]]-(WEEKDAY(T_Horodateur[[#This Row],[DATE]],1)-7)))
A25: =TEXT(T_Horodateur[[#This Row],[DATE]],"jjjj") -> vendredi | B25: 43889 | C25: =B25 -> 43889 | D25: COS | E25: 33538 | F25: 0.375 | G25: 0.875 | H25: =(T_Horodateur[[#This Row],[FIN]]-T_Horodateur[[#This Row],[DÉBUT]])*24 -> 12 | I25: =IF(T_Horodateur[[#This Row],[DÉBUT]]="",0,VLOOKUP(T_Horodateur[[#This Row],[HRS]],Horaires[],2,1)) -> 2 | J25: =IF(T_Horodateur[[#This Row],[DÉBUT]]="",0,VLOOKUP(T_Horodateur[[#This Row],[HRS]],Hoaires2[],2,1)) -> 2 | K25: =H25-J25 -> 10 | L25: =IF(J25=2,12.65,0) -> 12.65 | M25: =O25*7.45% -> 17.4181 | N25: =IF(WEEKDAY(T_Horodateur[[#This Row],[DATE]],2)<>7,"",SUMIFS(T_Horodateur[CHARGE/JRS],T_Horodateur[DATE],">="&T_Horodateur[[#This Row],[DATE]]-(WEEKDAY(T_Horodateur[[#This Row],[DATE]],1)-1),T_Horodateur[DATE],"<="&T_Horodateur[[#This Row],[DATE]]-(WEEKDAY(T_Horodateur[[#This Row],[DATE]],1)-7))) | O25: =(IF(D25="CV",OPTIONS!$C$2,IF(D25="COS",OPTIONS!$C$3,IF(D25="FORM",OPTIONS!$C$4,OPTIONS!$C$1))))*K25 -> 233.8 | P25: =T_Horodateur[[#This Row],[S-TOT $/JOUR]]+T_Horodateur[[#This Row],[PRIME REPAS]] -> 246.45 | Q25: =IF(WEEKDAY(T_Horodateur[[#This Row],[DATE]],2)<>7,"",SUMIFS(T_Horodateur[HRS2],T_Horodateur[DATE],">="&T_Horodateur[[#This Row],[DATE]]-(WEEKDAY(T_Horodateur[[#This Row],[DATE]],1)-1),T_Horodateur[DATE],"<="&T_Horodateur[[#This Row],[DATE]]-(WEEKDAY(T_Horodateur[[#This Row],[DATE]],1)-7))) | R25: =IF(WEEKDAY(T_Horodateur[[#This Row],[DATE]],2)<>7,"",SUMIFS(T_Horodateur[$/JOUR],T_Horodateur[DATE],">="&T_Horodateur[[#This Row],[DATE]]-(WEEKDAY(T_Horodateur[[#This Row],[DATE]],1)-1),T_Horodateur[DATE],"<="&T_Horodateur[[#This Row],[DATE]]-(WEEKDAY(T_Horodateur[[#This Row],[DATE]],1)-7)))
A26: =TEXT(T_Horodateur[[#This Row],[DATE]],"jjjj") -> samedi | B26: 43890 | C26: =B26 -> 43890 | D26: CV | E26: 33524 | F26: 0.6875 | G26: 0.8125 | H26: =(T_Horodateur[[#This Row],[FIN]]-T_Horodateur[[#This Row],[DÉBUT]])*24 -> 3 | I26: =IF(T_Horodateur[[#This Row],[DÉBUT]]="",0,VLOOKUP(T_Horodateur[[#This Row],[HRS]],Horaires[],2,1)) -> 0 | J26: =IF(T_Horodateur[[#This Row],[DÉBUT]]="",0,VLOOKUP(T_Horodateur[[#This Row],[HRS]],Hoaires2[],2,1)) -> 0 | K26: =H26-J26 -> 3 | L26: =IF(J26=2,12.65,0) -> 0 | M26: =O26*7.45% -> 4.57281 | N26: =IF(WEEKDAY(T_Horodateur[[#This Row],[DATE]],2)<>7,"",SUMIFS(T_Horodateur[CHARGE/JRS],T_Horodateur[DATE],">="&T_Horodateur[[#This Row],[DATE]]-(WEEKDAY(T_Horodateur[[#This Row],[DATE]],1)-1),T_Horodateur[DATE],"<="&T_Horodateur[[#This Row],[DATE]]-(WEEKDAY(T_Horodateur[[#This Row],[DATE]],1)-7))) | O26: =(IF(D26="CV",OPTIONS!$C$2,IF(D26="COS",OPTIONS!$C$3,IF(D26="FORM",OPTIONS!$C$4,OPTIONS!$C$1))))*K26 -> 61.38 | P26: =T_Horodateur[[#This Row],[S-TOT $/JOUR]]+T_Horodateur[[#This Row],[PRIME REPAS]] -> 61.38 | Q26: =IF(WEEKDAY(T_Horodateur[[#This Row],[DATE]],2)<>7,"",SUMIFS(T_Horodateur[HRS2],T_Horodateur[DATE],">="&T_Horodateur[[#This Row],[DATE]]-(WEEKDAY(T_Horodateur[[#This Row],[DATE]],1)-1),T_Horodateur[DATE],"<="&T_Horodateur[[#This Row],[DATE]]-(WEEKDAY(T_Horodateur[[#This Row],[DATE]],1)-7))) | R26: =IF(WEEKDAY(T_Horodateur[[#This Row],[DATE]],2)<>7,"",SUMIFS(T_Horodateur[$/JOUR],T_Horodateur[DATE],">="&T_Horodateur[[#This Row],[DATE]]-(WEEKDAY(T_Horodateur[[#This Row],[DATE]],1)-1),T_Horodateur[DATE],"<="&T_Horodateur[[#This Row],[DATE]]-(WEEKDAY(T_Horodateur[[#This Row],[DATE]],1)-7)))
A27: =TEXT(T_Horodateur[[#This Row],[DATE]],"jjjj") -> dimanche | B27: 43891 | C27: =B27 -> 43891 | D27: CV | E27: 33595 | F27: 0.58333333 | G27: 0.70833333 | H27: =(T_Horodateur[[#This Row],[FIN]]-T_Horodateur[[#This Row],[DÉBUT]])*24 -> 3 | I27: =IF(T_Horodateur[[#This Row],[DÉBUT]]="",0,VLOOKUP(T_Horodateur[[#This Row],[HRS]],Horaires[],2,1)) -> 0 | J27: =IF(T_Horodateur[[#This Row],[DÉBUT]]="",0,VLOOKUP(T_Horodateur[[#This Row],[HRS]],Hoaires2[],2,1)) -> 0 | K27: =H27-J27 -> 3 | L27: =IF(J27=2,12.65,0) -> 0 | M27: =O27*7.45% -> 4.57281 | N27: =IF(WEEKDAY(T_Horodateur[[#This Row],[DATE]],2)<>7,"",SUMIFS(T_Horodateur[CHARGE/JRS],T_Horodateur[DATE],">="&T_Horodateur[[#This Row],[DATE]]-(WEEKDAY(T_Horodateur[[#This Row],[DATE]],1)-1),T_Horodateur[DATE],"<="&T_Horodateur[[#This Row],[DATE]]-(WEEKDAY(T_Horodateur[[#This Row],[DATE]],1)-7))) -> 57.70323 | O27: =(IF(D27="CV",OPTIONS!$C$2,IF(D27="COS",OPTIONS!$C$3,IF(D27="FORM",OPTIONS!$C$4,OPTIONS!$C$1))))*K27 -> 61.38 | P27: =T_Horodateur[[#This Row],[S-TOT $/JOUR]]+T_Horodateur[[#This Row],[PRIME REPAS]] -> 61.38 | Q27: =IF(WEEKDAY(T_Horodateur[[#This Row],[DATE]],2)<>7,"",SUMIFS(T_Horodateur[HRS2],T_Horodateur[DATE],">="&T_Horodateur[[#This Row],[DATE]]-(WEEKDAY(T_Horodateur[[#This Row],[DATE]],1)-1),T_Horodateur[DATE],"<="&T_Horodateur[[#This Row],[DATE]]-(WEEKDAY(T_Horodateur[[#This Row],[DATE]],1)-7))) -> 37 | R27: =IF(WEEKDAY(T_Horodateur[[#This Row],[DATE]],2)<>7,"",SUMIFS(T_Horodateur[$/JOUR],T_Horodateur[DATE],">="&T_Horodateur[[#This Row],[DATE]]-(WEEKDAY(T_Horodateur[[#This Row],[DATE]],1)-1),T_Horodateur[DATE],"<="&T_Horodateur[[#This Row],[DATE]]-(WEEKDAY(T_Horodateur[[#This Row],[DATE]],1)-7)))+T_Horodateur[[#This Row],[CHARGE3]] -> 844.89323
A28: =TEXT(T_Horodateur[[#This Row],[DATE]],"jjjj") -> lundi | B28: 43892 | C28: =B28 -> 43892 | D28: FORM | E28: DOM | F28: 0.47916667 | G28: 0.75 | H28: =(T_Horodateur[[#This Row],[FIN]]-T_Horodateur[[#This Row],[DÉBUT]])*24 -> 6.5 | I28: =IF(T_Horodateur[[#This Row],[DÉBUT]]="",0,VLOOKUP(T_Horodateur[[#This Row],[HRS]],Horaires[],2,1)) -> 2 | J28: =IF(T_Horodateur[[#This Row],[DÉBUT]]="",0,VLOOKUP(T_Horodateur[[#This Row],[HRS]],Hoaires2[],2,1)) -> 0 | K28: =H28-J28 -> 6.5 | L28: =IF(J28=2,12.65,0) -> 0 | M28: =O28*7.45% -> 9.907755 | N28: =IF(WEEKDAY(T_Horodateur[[#This Row],[DATE]],2)<>7,"",SUMIFS(T_Horodateur[CHARGE/JRS],T_Horodateur[DATE],">="&T_Horodateur[[#This Row],[DATE]]-(WEEKDAY(T_Horodateur[[#This Row],[DATE]],1)-1),T_Horodateur[DATE],"<="&T_Horodateur[[#This Row],[DATE]]-(WEEKDAY(T_Horodateur[[#This Row],[DATE]],1)-7))) | O28: =(IF(D28="CV",OPTIONS!$C$2,IF(D28="COS",OPTIONS!$C$3,IF(D28="FORM",OPTIONS!$C$4,OPTIONS!$C$1))))*K28 -> 132.99 | P28: =T_Horodateur[[#This Row],[S-TOT $/JOUR]]+T_Horodateur[[#This Row],[PRIME REPAS]] -> 132.99 | Q28: =IF(WEEKDAY(T_Horodateur[[#This Row],[DATE]],2)<>7,"",SUMIFS(T_Horodateur[HRS2],T_Horodateur[DATE],">="&T_Horodateur[[#This Row],[DATE]]-(WEEKDAY(T_Horodateur[[#This Row],[DATE]],1)-1),T_Horodateur[DATE],"<="&T_Horodateur[[#This Row],[DATE]]-(WEEKDAY(T_Horodateur[[#This Row],[DATE]],1)-7))) | R28: =IF(WEEKDAY(T_Horodateur[[#This Row],[DATE]],2)<>7,"",SUMIFS(T_Horodateur[$/JOUR],T_Horodateur[DATE],">="&T_Horodateur[[#This Row],[DATE]]-(WEEKDAY(T_Horodateur[[#This Row],[DATE]],1)-1),T_Horodateur[DATE],"<="&T_Horodateur[[#This Row],[DATE]]-(WEEKDAY(T_Horodateur[[#This Row],[DATE]],1)-7)))
A29: =TEXT(T_Horodateur[[#This Row],[DATE]],"jjjj") -> mardi | B29: 43893 | C29: =B29 -> 43893 | D29: CV | E29: 33524 | F29: 0.66666667 | G29: 0.79166667 | H29: =(T_Horodateur[[#This Row],[FIN]]-T_Horodateur[[#This Row],[DÉBUT]])*24 -> 3 | I29: =IF(T_Horodateur[[#This Row],[DÉBUT]]="",0,VLOOKUP(T_Horodateur[[#This Row],[HRS]],Horaires[],2,1)) -> 0 | J29: =IF(T_Horodateur[[#This Row],[DÉBUT]]="",0,VLOOKUP(T_Horodateur[[#This Row],[HRS]],Hoaires2[],2,1)) -> 0 | K29: =H29-J29 -> 3 | L29: =IF(J29=2,12.65,0) -> 0 | M29: =O29*7.45% -> 4.57281 | N29: =IF(WEEKDAY(T_Horodateur[[#This Row],[DATE]],2)<>7,"",SUMIFS(T_Horodateur[CHARGE/JRS],T_Horodateur[DATE],">="&T_Horodateur[[#This Row],[DATE]]-(WEEKDAY(T_Horodateur[[#This Row],[DATE]],1)-1),T_Horodateur[DATE],"<="&T_Horodateur[[#This Row],[DATE]]-(WEEKDAY(T_Horodateur[[#This Row],[DATE]],1)-7))) | O29: =(IF(D29="CV",OPTIONS!$C$2,IF(D29="COS",OPTIONS!$C$3,IF(D29="FORM",OPTIONS!$C$4,OPTIONS!$C$1))))*K29 -> 61.38 | P29: =T_Horodateur[[#This Row],[S-TOT $/JOUR]]+T_Horodateur[[#This Row],[PRIME REPAS]] -> 61.38 | Q29: =IF(WEEKDAY(T_Horodateur[[#This Row],[DATE]],2)<>7,"",SUMIFS(T_Horodateur[HRS2],T_Horodateur[DATE],">="&T_Horodateur[[#This Row],[DATE]]-(WEEKDAY(T_Horodateur[[#This Row],[DATE]],1)-1),T_Horodateur[DATE],"<="&T_Horodateur[[#This Row],[DATE]]-(WEEKDAY(T_Horodateur[[#This Row],[DATE]],1)-7))) | R29: =IF(WEEKDAY(T_Horodateur[[#This Row],[DATE]],2)<>7,"",SUMIFS(T_Horodateur[$/JOUR],T_Horodateur[DATE],">="&T_Horodateur[[#This Row],[DATE]]-(WEEKDAY(T_Horodateur[[#This Row],[DATE]],1)-1),T_Horodateur[DATE],"<="&T_Horodateur[[#This Row],[DATE]]-(WEEKDAY(T_Horodateur[[#This Row],[DATE]],1)-7)))
A30: =TEXT(T_Horodateur[[#This Row],[DATE]],"jjjj") -> mercredi | B30: 43894 | C30: =B30 -> 43894 | D30: COS | E30: 33538 | F30: 0.5 | G30: 0.75 | H30: =(T_Horodateur[[#This Row],[FIN]]-T_Horodateur[[#This Row],[DÉBUT]])*24 -> 6 | I30: =IF(T_Horodateur[[#This Row],[DÉBUT]]="",0,VLOOKUP(T_Horodateur[[#This Row],[HRS]],Horaires[],2,1)) -> 2 | J30: =IF(T_Horodateur[[#This Row],[DÉBUT]]="",0,VLOOKUP(T_Horodateur[[#This Row],[HRS]],Hoaires2[],2,1)) -> 0 | K30: =H30-J30 -> 6 | L30: =IF(J30=2,12.65,0) -> 0 | M30: =O30*7.45% -> 10.45086 | N30: =IF(WEEKDAY(T_Horodateur[[#This Row],[DATE]],2)<>7,"",SUMIFS(T_Horodateur[CHARGE/JRS],T_Horodateur[DATE],">="&T_Horodateur[[#This Row],[DATE]]-(WEEKDAY(T_Horodateur[[#This Row],[DATE]],1)-1),T_Horodateur[DATE],"<="&T_Horodateur[[#This Row],[DATE]]-(WEEKDAY(T_Horodateur[[#This Row],[DATE]],1)-7))) | O30: =(IF(D30="CV",OPTIONS!$C$2,IF(D30="COS",OPTIONS!$C$3,IF(D30="FORM",OPTIONS!$C$4,OPTIONS!$C$1))))*K30 -> 140.28 | P30: =T_Horodateur[[#This Row],[S-TOT $/JOUR]]+T_Horodateur[[#This Row],[PRIME REPAS]] -> 140.28 | Q30: =IF(WEEKDAY(T_Horodateur[[#This Row],[DATE]],2)<>7,"",SUMIFS(T_Horodateur[HRS2],T_Horodateur[DATE],">="&T_Horodateur[[#This Row],[DATE]]-(WEEKDAY(T_Horodateur[[#This Row],[DATE]],1)-1),T_Horodateur[DATE],"<="&T_Horodateur[[#This Row],[DATE]]-(WEEKDAY(T_Horodateur[[#This Row],[DATE]],1)-7))) | R30: =IF(WEEKDAY(T_Horodateur[[#This Row],[DATE]],2)<>7,"",SUMIFS(T_Horodateur[$/JOUR],T_Horodateur[DATE],">="&T_Horodateur[[#This Row],[DATE]]-(WEEKDAY(T_Horodateur[[#This Row],[DATE]],1)-1),T_Horodateur[DATE],"<="&T_Horodateur[[#This Row],[DATE]]-(WEEKDAY(T_Horodateur[[#This Row],[DATE]],1)-7)))
A31: =TEXT(T_Horodateur[[#This Row],[DATE]],"jjjj") -> jeudi | B31: 43895 | C31: =B31 -> 43895 | D31: CV | E31: 33538 | F31: 0.41666667 | G31: 0.83333333 | H31: =(T_Horodateur[[#This Row],[FIN]]-T_Horodateur[[#This Row],[DÉBUT]])*24 -> 10 | I31: =IF(T_Horodateur[[#This Row],[DÉBUT]]="",0,VLOOKUP(T_Horodateur[[#This Row],[HRS]],Horaires[],2,1)) -> 2 | J31: =IF(T_Horodateur[[#This Row],[DÉBUT]]="",0,VLOOKUP(T_Horodateur[[#This Row],[HRS]],Hoaires2[],2,1)) -> 1 | K31: =H31-J31 -> 9 | L31: =IF(J31=2,12.65,0) -> 0 | M31: =O31*7.45% -> 13.71843 | N31: =IF(WEEKDAY(T_Horodateur[[#This Row],[DATE]],2)<>7,"",SUMIFS(T_Horodateur[CHARGE/JRS],T_Horodateur[DATE],">="&T_Horodateur[[#This Row],[DATE]]-(WEEKDAY(T_Horodateur[[#This Row],[DATE]],1)-1),T_Horodateur[DATE],"<="&T_Horodateur[[#This Row],[DATE]]-(WEEKDAY(T_Horodateur[[#This Row],[DATE]],1)-7))) | O31: =(IF(D31="CV",OPTIONS!$C$2,IF(D31="COS",OPTIONS!$C$3,IF(D31="FORM",OPTIONS!$C$4,OPTIONS!$C$1))))*K31 -> 184.14 | P31: =T_Horodateur[[#This Row],[S-TOT $/JOUR]]+T_Horodateur[[#This Row],[PRIME REPAS]] -> 184.14 | Q31: =IF(WEEKDAY(T_Horodateur[[#This Row],[DATE]],2)<>7,"",SUMIFS(T_Horodateur[HRS2],T_Horodateur[DATE],">="&T_Horodateur[[#This Row],[DATE]]-(WEEKDAY(T_Horodateur[[#This Row],[DATE]],1)-1),T_Horodateur[DATE],"<="&T_Horodateur[[#This Row],[DATE]]-(WEEKDAY(T_Horodateur[[#This Row],[DATE]],1)-7))) | R31: =IF(WEEKDAY(T_Horodateur[[#This Row],[DATE]],2)<>7,"",SUMIFS(T_Horodateur[$/JOUR],T_Horodateur[DATE],">="&T_Horodateur[[#This Row],[DATE]]-(WEEKDAY(T_Horodateur[[#This Row],[DATE]],1)-1),T_Horodateur[DATE],"<="&T_Horodateur[[#This Row],[DATE]]-(WEEKDAY(T_Horodateur[[#This Row],[DATE]],1)-7)))
A32: =TEXT(T_Horodateur[[#This Row],[DATE]],"jjjj") -> vendredi | B32: 43896 | C32: =B32 -> 43896 | D32: CV | E32: 33595 | F32: 0.39583333 | G32: 0.875 | H32: =(T_Horodateur[[#This Row],[FIN]]-T_Horodateur[[#This Row],[DÉBUT]])*24 -> 11.5 | I32: =IF(T_Horodateur[[#This Row],[DÉBUT]]="",0,VLOOKUP(T_Horodateur[[#This Row],[HRS]],Horaires[],2,1)) -> 2 | J32: =IF(T_Horodateur[[#This Row],[DÉBUT]]="",0,VLOOKUP(T_Horodateur[[#This Row],[HRS]],Hoaires2[],2,1)) -> 2 | K32: =H32-J32 -> 9.5 | L32: =IF(J32=2,12.65,0) -> 12.65 | M32: =O32*7.45% -> 14.480565 | N32: =IF(WEEKDAY(T_Horodateur[[#This Row],[DATE]],2)<>7,"",SUMIFS(T_Horodateur[CHARGE/JRS],T_Horodateur[DATE],">="&T_Horodateur[[#This Row],[DATE]]-(WEEKDAY(T_Horodateur[[#This Row],[DATE]],1)-1),T_Horodateur[DATE],"<="&T_Horodateur[[#This Row],[DATE]]-(WEEKDAY(T_Horodateur[[#This Row],[DATE]],1)-7))) | O32: =(IF(D32="CV",OPTIONS!$C$2,IF(D32="COS",OPTIONS!$C$3,IF(D32="FORM",OPTIONS!$C$4,OPTIONS!$C$1))))*K32 -> 194.37 | P32: =T_Horodateur[[#This Row],[S-TOT $/JOUR]]+T_Horodateur[[#This Row],[PRIME REPAS]] -> 207.02 | Q32: =IF(WEEKDAY(T_Horodateur[[#This Row],[DATE]],2)<>7,"",SUMIFS(T_Horodateur[HRS2],T_Horodateur[DATE],">="&T_Horodateur[[#This Row],[DATE]]-(WEEKDAY(T_Horodateur[[#This Row],[DATE]],1)-1),T_Horodateur[DATE],"<="&T_Horodateur[[#This Row],[DATE]]-(WEEKDAY(T_Horodateur[[#This Row],[DATE]],1)-7))) | R32: =IF(WEEKDAY(T_Horodateur[[#This Row],[DATE]],2)<>7,"",SUMIFS(T_Horodateur[$/JOUR],T_Horodateur[DATE],">="&T_Horodateur[[#This Row],[DATE]]-(WEEKDAY(T_Horodateur[[#This Row],[DATE]],1)-1),T_Horodateur[DATE],"<="&T_Horodateur[[#This Row],[DATE]]-(WEEKDAY(T_Horodateur[[#This Row],[DATE]],1)-7)))
A33: =TEXT(T_Horodateur[[#This Row],[DATE]],"jjjj") -> samedi | B33: 43897 | C33: =B33 -> 43897 | H33: =(T_Horodateur[[#This Row],[FIN]]-T_Horodateur[[#This Row],[DÉBUT]])*24 -> 0 | I33: =IF(T_Horodateur[[#This Row],[DÉBUT]]="",0,VLOOKUP(T_Horodateur[[#This Row],[HRS]],Horaires[],2,1)) -> 0 | J33: =IF(T_Horodateur[[#This Row],[DÉBUT]]="",0,VLOOKUP(T_Horodateur[[#This Row],[HRS]],Hoaires2[],2,1)) -> 0 | K33: =H33-J33 -> 0 | L33: =IF(J33=2,12.65,0) -> 0 | M33: =O33*7.45% -> 0 | N33: =IF(WEEKDAY(T_Horodateur[[#This Row],[DATE]],2)<>7,"",SUMIFS(T_Horodateur[CHARGE/JRS],T_Horodateur[DATE],">="&T_Horodateur[[#This Row],[DATE]]-(WEEKDAY(T_Horodateur[[#This Row],[DATE]],1)-1),T_Horodateur[DATE],"<="&T_Horodateur[[#This Row],[DATE]]-(WEEKDAY(T_Horodateur[[#This Row],[DATE]],1)-7))) | O33: =(IF(D33="CV",OPTIONS!$C$2,IF(D33="COS",OPTIONS!$C$3,IF(D33="FORM",OPTIONS!$C$4,OPTIONS!$C$1))))*K33 -> 0 | P33: =T_Horodateur[[#This Row],[S-TOT $/JOUR]]+T_Horodateur[[#This Row],[PRIME REPAS]] -> 0 | Q33: =IF(WEEKDAY(T_Horodateur[[#This Row],[DATE]],2)<>7,"",SUMIFS(T_Horodateur[HRS2],T_Horodateur[DATE],">="&T_Horodateur[[#This Row],[DATE]]-(WEEKDAY(T_Horodateur[[#This Row],[DATE]],1)-1),T_Horodateur[DATE],"<="&T_Horodateur[[#This Row],[DATE]]-(WEEKDAY(T_Horodateur[[#This Row],[DATE]],1)-7))) | R33: =IF(WEEKDAY(T_Horodateur[[#This Row],[DATE]],2)<>7,"",SUMIFS(T_Horodateur[$/JOUR],T_Horodateur[DATE],">="&T_Horodateur[[#This Row],[DATE]]-(WEEKDAY(T_Horodateur[[#This Row],[DATE]],1)-1),T_Horodateur[DATE],"<="&T_Horodateur[[#This Row],[DATE]]-(WEEKDAY(T_Horodateur[[#This Row],[DATE]],1)-7)))
A34: =TEXT(T_Horodateur[[#This Row],[DATE]],"jjjj") -> dimanche | B34: 43898 | C34: =B34 -> 43898 | D34: CV | E34: 33595 | F34: 0.58333333 | G34: 0.70833333 | H34: =(T_Horodateur[[#This Row],[FIN]]-T_Horodateur[[#This Row],[DÉBUT]])*24 -> 3 | I34: =IF(T_Horodateur[[#This Row],[DÉBUT]]="",0,VLOOKUP(T_Horodateur[[#This Row],[HRS]],Horaires[],2,1)) -> 0 | J34: =IF(T_Horodateur[[#This Row],[DÉBUT]]="",0,VLOOKUP(T_Horodateur[[#This Row],[HRS]],Hoaires2[],2,1)) -> 0 | K34: =H34-J34 -> 3 | L34: =IF(J34=2,12.65,0) -> 0 | M34: =O34*7.45% -> 4.57281 | N34: =IF(WEEKDAY(T_Horodateur[[#This Row],[DATE]],2)<>7,"",SUMIFS(T_Horodateur[CHARGE/JRS],T_Horodateur[DATE],">="&T_Horodateur[[#This Row],[DATE]]-(WEEKDAY(T_Horodateur[[#This Row],[DATE]],1)-1),T_Horodateur[DATE],"<="&T_Horodateur[[#This Row],[DATE]]-(WEEKDAY(T_Horodateur[[#This Row],[DATE]],1)-7))) -> 44.638165 | O34: =(IF(D34="CV",OPTIONS!$C$2,IF(D34="COS",OPTIONS!$C$3,IF(D34="FORM",OPTIONS!$C$4,OPTIONS!$C$1))))*K34 -> 61.38 | P34: =T_Horodateur[[#This Row],[S-TOT $/JOUR]]+T_Horodateur[[#This Row],[PRIME REPAS]] -> 61.38 | Q34: =IF(WEEKDAY(T_Horodateur[[#This Row],[DATE]],2)<>7,"",SUMIFS(T_Horodateur[HRS2],T_Horodateur[DATE],">="&T_Horodateur[[#This Row],[DATE]]-(WEEKDAY(T_Horodateur[[#This Row],[DATE]],1)-1),T_Horodateur[DATE],"<="&T_Horodateur[[#This Row],[DATE]]-(WEEKDAY(T_Horodateur[[#This Row],[DATE]],1)-7))) -> 28.5 | R34: =IF(WEEKDAY(T_Horodateur[[#This Row],[DATE]],2)<>7,"",SUMIFS(T_Horodateur[$/JOUR],T_Horodateur[DATE],">="&T_Horodateur[[#This Row],[DATE]]-(WEEKDAY(T_Horodateur[[#This Row],[DATE]],1)-1),T_Horodateur[DATE],"<="&T_Horodateur[[#This Row],[DATE]]-(WEEKDAY(T_Horodateur[[#This Row],[DATE]],1)-7)))+T_Horodateur[[#This Row],[CHARGE3]] -> 643.80816
A35: =TEXT(T_Horodateur[[#This Row],[DATE]],"jjjj") -> lundi | B35: 43899 | C35: =B35 -> 43899 | H35: =(T_Horodateur[[#This Row],[FIN]]-T_Horodateur[[#This Row],[DÉBUT]])*24 -> 0 | I35: =IF(T_Horodateur[[#This Row],[DÉBUT]]="",0,VLOOKUP(T_Horodateur[[#This Row],[HRS]],Horaires[],2,1)) -> 0 | J35: =IF(T_Horodateur[[#This Row],[DÉBUT]]="",0,VLOOKUP(T_Horodateur[[#This Row],[HRS]],Hoaires2[],2,1)) -> 0 | K35: =H35-J35 -> 0 | L35: =IF(J35=2,12.65,0) -> 0 | M35: =O35*7.45% -> 0 | N35: =IF(WEEKDAY(T_Horodateur[[#This Row],[DATE]],2)<>7,"",SUMIFS(T_Horodateur[CHARGE/JRS],T_Horodateur[DATE],">="&T_Horodateur[[#This Row],[DATE]]-(WEEKDAY(T_Horodateur[[#This Row],[DATE]],1)-1),T_Horodateur[DATE],"<="&T_Horodateur[[#This Row],[DATE]]-(WEEKDAY(T_Horodateur[[#This Row],[DATE]],1)-7))) | O35: =(IF(D35="CV",OPTIONS!$C$2,IF(D35="COS",OPTIONS!$C$3,IF(D35="FORM",OPTIONS!$C$4,OPTIONS!$C$1))))*K35 -> 0 | P35: =T_Horodateur[[#This Row],[S-TOT $/JOUR]]+T_Horodateur[[#This Row],[PRIME REPAS]] -> 0 | Q35: =IF(WEEKDAY(T_Horodateur[[#This Row],[DATE]],2)<>7,"",SUMIFS(T_Horodateur[HRS2],T_Horodateur[DATE],">="&T_Horodateur[[#This Row],[DATE]]-(WEEKDAY(T_Horodateur[[#This Row],[DATE]],1)-1),T_Horodateur[DATE],"<="&T_Horodateur[[#This Row],[DATE]]-(WEEKDAY(T_Horodateur[[#This Row],[DATE]],1)-7))) | R35: =IF(WEEKDAY(T_Horodateur[[#This Row],[DATE]],2)<>7,"",SUMIFS(T_Horodateur[$/JOUR],T_Horodateur[DATE],">="&T_Horodateur[[#This Row],[DATE]]-(WEEKDAY(T_Horodateur[[#This Row],[DATE]],1)-1),T_Horodateur[DATE],"<="&T_Horodateur[[#This Row],[DATE]]-(WEEKDAY(T_Horodateur[[#This Row],[DATE]],1)-7)))
A36: =TEXT(T_Horodateur[[#This Row],[DATE]],"jjjj") -> mardi | B36: 43900 | C36: =B36 -> 43900 | D36: COS | E36: 33606 | F36: 0.52083333 | G36: 0.75 | H36: =(T_Horodateur[[#This Row],[FIN]]-T_Horodateur[[#This Row],[DÉBUT]])*24 -> 5.5 | I36: =IF(T_Horodateur[[#This Row],[DÉBUT]]="",0,VLOOKUP(T_Horodateur[[#This Row],[HRS]],Horaires[],2,1)) -> 1 | J36: =IF(T_Horodateur[[#This Row],[DÉBUT]]="",0,VLOOKUP(T_Horodateur[[#This Row],[HRS]],Hoaires2[],2,1)) -> 0 | K36: =H36-J36 -> 5.5 | L36: =IF(J36=2,12.65,0) -> 0 | M36: =O36*7.45% -> 9.579955 | N36: =IF(WEEKDAY(T_Horodateur[[#This Row],[DATE]],2)<>7,"",SUMIFS(T_Horodateur[CHARGE/JRS],T_Horodateur[DATE],">="&T_Horodateur[[#This Row],[DATE]]-(WEEKDAY(T_Horodateur[[#This Row],[DATE]],1)-1),T_Horodateur[DATE],"<="&T_Horodateur[[#This Row],[DATE]]-(WEEKDAY(T_Horodateur[[#This Row],[DATE]],1)-7))) | O36: =(IF(D36="CV",OPTIONS!$C$2,IF(D36="COS",OPTIONS!$C$3,IF(D36="FORM",OPTIONS!$C$4,OPTIONS!$C$1))))*K36 -> 128.59 | P36: =T_Horodateur[[#This Row],[S-TOT $/JOUR]]+T_Horodateur[[#This Row],[PRIME REPAS]] -> 128.59 | Q36: =IF(WEEKDAY(T_Horodateur[[#This Row],[DATE]],2)<>7,"",SUMIFS(T_Horodateur[HRS2],T_Horodateur[DATE],">="&T_Horodateur[[#This Row],[DATE]]-(WEEKDAY(T_Horodateur[[#This Row],[DATE]],1)-1),T_Horodateur[DATE],"<="&T_Horodateur[[#This Row],[DATE]]-(WEEKDAY(T_Horodateur[[#This Row],[DATE]],1)-7))) | R36: =IF(WEEKDAY(T_Horodateur[[#This Row],[DATE]],2)<>7,"",SUMIFS(T_Horodateur[$/JOUR],T_Horodateur[DATE],">="&T_Horodateur[[#This Row],[DATE]]-(WEEKDAY(T_Horodateur[[#This Row],[DATE]],1)-1),T_Horodateur[DATE],"<="&T_Horodateur[[#This Row],[DATE]]-(WEEKDAY(T_Horodateur[[#This Row],[DATE]],1)-7)))
A37: =TEXT(T_Horodateur[[#This Row],[DATE]],"jjjj") -> mercredi | B37: 43901 | C37: =B37 -> 43901 | D37: CV | E37: 33538 | F37: 0.54166667 | G37: 0.75 | H37: =(T_Horodateur[[#This Row],[FIN]]-T_Horodateur[[#This Row],[DÉBUT]])*24 -> 5 | I37: =IF(T_Horodateur[[#This Row],[DÉBUT]]="",0,VLOOKUP(T_Horodateur[[#This Row],[HRS]],Horaires[],2,1)) -> 1 | J37: =IF(T_Horodateur[[#This Row],[DÉBUT]]="",0,VLOOKUP(T_Horodateur[[#This Row],[HRS]],Hoaires2[],2,1)) -> 0 | K37: =H37-J37 -> 5 | L37: =IF(J37=2,12.65,0) -> 0 | M37: =O37*7.45% -> 7.62135 | N37: =IF(WEEKDAY(T_Horodateur[[#This Row],[DATE]],2)<>7,"",SUMIFS(T_Horodateur[CHARGE/JRS],T_Horodateur[DATE],">="&T_Horodateur[[#This Row],[DATE]]-(WEEKDAY(T_Horodateur[[#This Row],[DATE]],1)-1),T_Horodateur[DATE],"<="&T_Horodateur[[#This Row],[DATE]]-(WEEKDAY(T_Horodateur[[#This Row],[DATE]],1)-7))) | O37: =(IF(D37="CV",OPTIONS!$C$2,IF(D37="COS",OPTIONS!$C$3,IF(D37="FORM",OPTIONS!$C$4,OPTIONS!$C$1))))*K37 -> 102.3 | P37: =T_Horodateur[[#This Row],[S-TOT $/JOUR]]+T_Horodateur[[#This Row],[PRIME REPAS]] -> 102.3 | Q37: =IF(WEEKDAY(T_Horodateur[[#This Row],[DATE]],2)<>7,"",SUMIFS(T_Horodateur[HRS2],T_Horodateur[DATE],">="&T_Horodateur[[#This Row],[DATE]]-(WEEKDAY(T_Horodateur[[#This Row],[DATE]],1)-1),T_Horodateur[DATE],"<="&T_Horodateur[[#This Row],[DATE]]-(WEEKDAY(T_Horodateur[[#This Row],[DATE]],1)-7))) | R37: =IF(WEEKDAY(T_Horodateur[[#This Row],[DATE]],2)<>7,"",SUMIFS(T_Horodateur[$/JOUR],T_Horodateur[DATE],">="&T_Horodateur[[#This Row],[DATE]]-(WEEKDAY(T_Horodateur[[#This Row],[DATE]],1)-1),T_Horodateur[DATE],"<="&T_Horodateur[[#This Row],[DATE]]-(WEEKDAY(T_Horodateur[[#This Row],[DATE]],1)-7)))
A38: =TEXT(T_Horodateur[[#This Row],[DATE]],"jjjj") -> jeudi | B38: 43902 | C38: =B38 -> 43902 | D38: CV | E38: 33524 | F38: 0.41666667 | G38: 0.79166667 | H38: =(T_Horodateur[[#This Row],[FIN]]-T_Horodateur[[#This Row],[DÉBUT]])*24 -> 9 | I38: =IF(T_Horodateur[[#This Row],[DÉBUT]]="",0,VLOOKUP(T_Horodateur[[#This Row],[HRS]],Horaires[],2,1)) -> 2 | J38: =IF(T_Horodateur[[#This Row],[DÉBUT]]="",0,VLOOKUP(T_Horodateur[[#This Row],[HRS]],Hoaires2[],2,1)) -> 1 | K38: =H38-J38 -> 8 | L38: =IF(J38=2,12.65,0) -> 0 | M38: =O38*7.45% -> 12.19416 | N38: =IF(WEEKDAY(T_Horodateur[[#This Row],[DATE]],2)<>7,"",SUMIFS(T_Horodateur[CHARGE/JRS],T_Horodateur[DATE],">="&T_Horodateur[[#This Row],[DATE]]-(WEEKDAY(T_Horodateur[[#This Row],[DATE]],1)-1),T_Horodateur[DATE],"<="&T_Horodateur[[#This Row],[DATE]]-(WEEKDAY(T_Horodateur[[#This Row],[DATE]],1)-7))) | O38: =(IF(D38="CV",OPTIONS!$C$2,IF(D38="COS",OPTIONS!$C$3,IF(D38="FORM",OPTIONS!$C$4,OPTIONS!$C$1))))*K38 -> 163.68 | P38: =T_Horodateur[[#This Row],[S-TOT $/JOUR]]+T_Horodateur[[#This Row],[PRIME REPAS]] -> 163.68 | Q38: =IF(WEEKDAY(T_Horodateur[[#This Row],[DATE]],2)<>7,"",SUMIFS(T_Horodateur[HRS2],T_Horodateur[DATE],">="&T_Horodateur[[#This Row],[DATE]]-(WEEKDAY(T_Horodateur[[#This Row],[DATE]],1)-1),T_Horodateur[DATE],"<="&T_Horodateur[[#This Row],[DATE]]-(WEEKDAY(T_Horodateur[[#This Row],[DATE]],1)-7))) | R38: =IF(WEEKDAY(T_Horodateur[[#This Row],[DATE]],2)<>7,"",SUMIFS(T_Horodateur[$/JOUR],T_Horodateur[DATE],">="&T_Horodateur[[#This Row],[DATE]]-(WEEKDAY(T_Horodateur[[#This Row],[DATE]],1)-1),T_Horodateur[DATE],"<="&T_Horodateur[[#This Row],[DATE]]-(WEEKDAY(T_Horodateur[[#This Row],[DATE]],1)-7)))
A39: =TEXT(T_Horodateur[[#This Row],[DATE]],"jjjj") -> vendredi | B39: 43903 | C39: =B39 -> 43903 | D39: CV | E39: 33524 | F39: 0.41666667 | G39: 0.75 | H39: =(T_Horodateur[[#This Row],[FIN]]-T_Horodateur[[#This Row],[DÉBUT]])*24 -> 8 | I39: =IF(T_Horodateur[[#This Row],[DÉBUT]]="",0,VLOOKUP(T_Horodateur[[#This Row],[HRS]],Horaires[],2,1)) -> 2 | J39: =IF(T_Horodateur[[#This Row],[DÉBUT]]="",0,VLOOKUP(T_Horodateur[[#This Row],[HRS]],Hoaires2[],2,1)) -> 1 | K39: =H39-J39 -> 7 | L39: =IF(J39=2,12.65,0) -> 0 | M39: =O39*7.45% -> 10.66989 | N39: =IF(WEEKDAY(T_Horodateur[[#This Row],[DATE]],2)<>7,"",SUMIFS(T_Horodateur[CHARGE/JRS],T_Horodateur[DATE],">="&T_Horodateur[[#This Row],[DATE]]-(WEEKDAY(T_Horodateur[[#This Row],[DATE]],1)-1),T_Horodateur[DATE],"<="&T_Horodateur[[#This Row],[DATE]]-(WEEKDAY(T_Horodateur[[#This Row],[DATE]],1)-7))) | O39: =(IF(D39="CV",OPTIONS!$C$2,IF(D39="COS",OPTIONS!$C$3,IF(D39="FORM",OPTIONS!$C$4,OPTIONS!$C$1))))*K39 -> 143.22 | P39: =T_Horodateur[[#This Row],[S-TOT $/JOUR]]+T_Horodateur[[#This Row],[PRIME REPAS]] -> 143.22 | Q39: =IF(WEEKDAY(T_Horodateur[[#This Row],[DATE]],2)<>7,"",SUMIFS(T_Horodateur[HRS2],T_Horodateur[DATE],">="&T_Horodateur[[#This Row],[DATE]]-(WEEKDAY(T_Horodateur[[#This Row],[DATE]],1)-1),T_Horodateur[DATE],"<="&T_Horodateur[[#This Row],[DATE]]-(WEEKDAY(T_Horodateur[[#This Row],[DATE]],1)-7))) | R39: =IF(WEEKDAY(T_Horodateur[[#This Row],[DATE]],2)<>7,"",SUMIFS(T_Horodateur[$/JOUR],T_Horodateur[DATE],">="&T_Horodateur[[#This Row],[DATE]]-(WEEKDAY(T_Horodateur[[#This Row],[DATE]],1)-1),T_Horodateur[DATE],"<="&T_Horodateur[[#This Row],[DATE]]-(WEEKDAY(T_Horodateur[[#This Row],[DATE]],1)-7)))
A40: =TEXT(T_Horodateur[[#This Row],[DATE]],"jjjj") -> samedi | B40: 43904 | C40: =B40 -> 43904 | D40: CV | H40: =(T_Horodateur[[#This Row],[FIN]]-T_Horodateur[[#This Row],[DÉBUT]])*24 -> 0 | I40: =IF(T_Horodateur[[#This Row],[DÉBUT]]="",0,VLOOKUP(T_Horodateur[[#This Row],[HRS]],Horaires[],2,1)) -> 0 | J40: =IF(T_Horodateur[[#This Row],[DÉBUT]]="",0,VLOOKUP(T_Horodateur[[#This Row],[HRS]],Hoaires2[],2,1)) -> 0 | K40: =H40-J40 -> 0 | L40: =IF(J40=2,12.65,0) -> 0 | M40: =O40*7.45% -> 0 | N40: =IF(WEEKDAY(T_Horodateur[[#This Row],[DATE]],2)<>7,"",SUMIFS(T_Horodateur[CHARGE/JRS],T_Horodateur[DATE],">="&T_Horodateur[[#This Row],[DATE]]-(WEEKDAY(T_Horodateur[[#This Row],[DATE]],1)-1),T_Horodateur[DATE],"<="&T_Horodateur[[#This Row],[DATE]]-(WEEKDAY(T_Horodateur[[#This Row],[DATE]],1)-7))) | O40: =(IF(D40="CV",OPTIONS!$C$2,IF(D40="COS",OPTIONS!$C$3,IF(D40="FORM",OPTIONS!$C$4,OPTIONS!$C$1))))*K40 -> 0 | P40: =T_Horodateur[[#This Row],[S-TOT $/JOUR]]+T_Horodateur[[#This Row],[PRIME REPAS]] -> 0 | Q40: =IF(WEEKDAY(T_Horodateur[[#This Row],[DATE]],2)<>7,"",SUMIFS(T_Horodateur[HRS2],T_Horodateur[DATE],">="&T_Horodateur[[#This Row],[DATE]]-(WEEKDAY(T_Horodateur[[#This Row],[DATE]],1)-1),T_Horodateur[DATE],"<="&T_Horodateur[[#This Row],[DATE]]-(WEEKDAY(T_Horodateur[[#This Row],[DATE]],1)-7))) | R40: =IF(WEEKDAY(T_Horodateur[[#This Row],[DATE]],2)<>7,"",SUMIFS(T_Horodateur[$/JOUR],T_Horodateur[DATE],">="&T_Horodateur[[#This Row],[DATE]]-(WEEKDAY(T_Horodateur[[#This Row],[DATE]],1)-1),T_Horodateur[DATE],"<="&T_Horodateur[[#This Row],[DATE]]-(WEEKDAY(T_Horodateur[[#This Row],[DATE]],1)-7)))
A41: =TEXT(T_Horodateur[[#This Row],[DATE]],"jjjj") -> dimanche | B41: 43905 | C41: =B41 -> 43905 | D41: COS | E41: 33606 | F41: 0.47916667 | G41: 0.72916667 | H41: =(T_Horodateur[[#This Row],[FIN]]-T_Horodateur[[#This Row],[DÉBUT]])*24 -> 6 | I41: =IF(T_Horodateur[[#This Row],[DÉBUT]]="",0,VLOOKUP(T_Horodateur[[#This Row],[HRS]],Horaires[],2,1)) -> 1 | J41: =IF(T_Horodateur[[#This Row],[DÉBUT]]="",0,VLOOKUP(T_Horodateur[[#This Row],[HRS]],Hoaires2[],2,1)) -> 0 | K41: =H41-J41 -> 6 | L41: =IF(J41=2,12.65,0) -> 0 | M41: =O41*7.45% -> 10.45086 | N41: =IF(WEEKDAY(T_Horodateur[[#This Row],[DATE]],2)<>7,"",SUMIFS(T_Horodateur[CHARGE/JRS],T_Horodateur[DATE],">="&T_Horodateur[[#This Row],[DATE]]-(WEEKDAY(T_Horodateur[[#This Row],[DATE]],1)-1),T_Horodateur[DATE],"<="&T_Horodateur[[#This Row],[DATE]]-(WEEKDAY(T_Horodateur[[#This Row],[DATE]],1)-7))) -> 48.686569 | O41: =(IF(D41="CV",OPTIONS!$C$2,IF(D41="COS",OPTIONS!$C$3,IF(D41="FORM",OPTIONS!$C$4,OPTIONS!$C$1))))*K41 -> 140.28 | P41: =T_Horodateur[[#This Row],[S-TOT $/JOUR]]+T_Horodateur[[#This Row],[PRIME REPAS]] -> 140.28 | Q41: =IF(WEEKDAY(T_Horodateur[[#This Row],[DATE]],2)<>7,"",SUMIFS(T_Horodateur[HRS2],T_Horodateur[DATE],">="&T_Horodateur[[#This Row],[DATE]]-(WEEKDAY(T_Horodateur[[#This Row],[DATE]],1)-1),T_Horodateur[DATE],"<="&T_Horodateur[[#This Row],[DATE]]-(WEEKDAY(T_Horodateur[[#This Row],[DATE]],1)-7))) -> 29.95 | R41: =IF(WEEKDAY(T_Horodateur[[#This Row],[DATE]],2)<>7,"",SUMIFS(T_Horodateur[$/JOUR],T_Horodateur[DATE],">="&T_Horodateur[[#This Row],[DATE]]-(WEEKDAY(T_Horodateur[[#This Row],[DATE]],1)-1),T_Horodateur[DATE],"<="&T_Horodateur[[#This Row],[DATE]]-(WEEKDAY(T_Horodateur[[#This Row],[DATE]],1)-7)))+T_Horodateur[[#This Row],[CHARGE3]] -> 702.19757
