Workbook

Sheet CA
A1: Commercial | B1: Groupe client | C1: Code client | D1: Nom du client | E1: Janvier 26 | F1: Février 26 | G1: Mars 26 | H1: Cumul T1-2025 | I1: Cumul T1-2026 | J1: Variation en % | K1: Avril 25 | L1: Avril 26 | M1: Variation avril | N1: Mai 25 | O1: Mai 26 | P1: Variation mai | Q1: Juin 25 | R1: Juin 26 | S1: Variation juin | T1: Cumul T2-2025 | U1: Cumul T2-2026 | V1: Variation en % | W1: Résultat attendu | X1: Formule simple | Y1: Formule combinée
B2: Client France | C2: C12002 | D2: AUBRAC CONFORT MEDICAL | E2: 3774.17 | F2: -8424.22 | G2: 2901.77 | H2: 11946.48 | I2: -1748.28 | J2: =IF(H2,(I2-H2)/H2,0) -> -1.1463427 | K2: 5574.91 | L2: -1101.77 | M2: =IF(K2,(L2-K2)/K2,0) -> -1.1976301 | N2: 8359.55 | O2: -3060.58 | P2: =IF(N2,(O2-N2)/N2,0) -> -1.3661178 | Q2: -6687.6 | R2: =VLOOKUP(C2,'2026-06'!A:B,2,FALSE) -> #N/A | S2: =IF(Q2,(R2-Q2)/Q2,1) -> #N/A | T2: =K2+N2+Q2 -> 7246.86 | U2: =L2+O2+R2 -> #N/A | V2: =IF(T2,(U2-T2)/T2,0) -> #N/A
B3: Client France | C3: C83001 | D3: D & T | E3: 114421.38 | F3: 176232.41 | G3: 120201.77 | H3: 452602.9 | I3: 410855.56 | J3: =IF(H3,(I3-H3)/H3,0) -> -0.09223834 | K3: 154539.24 | L3: 129407.73 | M3: =IF(K3,(L3-K3)/K3,0) -> -0.16262219 | N3: 74940.57 | O3: 130095.81 | P3: =IF(N3,(O3-N3)/N3,0) -> 0.7359864 | Q3: 211653.31 | R3: =VLOOKUP(C3,'2026-06'!A:B,2,FALSE) -> #N/A | S3: =IF(Q3,(R3-Q3)/Q3,1) -> #N/A | T3: =K3+N3+Q3 -> 441133.12 | U3: =L3+O3+R3 -> #N/A | V3: =IF(T3,(U3-T3)/T3,0) -> #N/A
B4: Client France | C4: C97003 | D4: DOULUX SAS | E4: 9828.67 | F4: 83937 | G4: 61321.76 | H4: 71670.34 | I4: 155087.43 | J4: =IF(H4,(I4-H4)/H4,0) -> 1.1638997 | K4: 28606.13 | L4: 88515.33 | M4: =IF(K4,(L4-K4)/K4,0) -> 2.0942784 | N4: 30059.14 | O4: -10.35 | P4: =IF(N4,(O4-N4)/N4,0) -> -1.0003443 | Q4: 30603.94 | R4: =VLOOKUP(C4,'2026-06'!A:B,2,FALSE) -> #N/A | S4: =IF(Q4,(R4-Q4)/Q4,1) -> #N/A | T4: =K4+N4+Q4 -> 89269.21 | U4: =L4+O4+R4 -> #N/A | V4: =IF(T4,(U4-T4)/T4,0) -> #N/A
B5: MEDICALLIANCE | C5: C57005 | D5: EVEREST MEDICAL | E5: 32070.61 | F5: 8415.06 | G5: 38475.88 | H5: 67766.5 | I5: 78961.55 | J5: =IF(H5,(I5-H5)/H5,0) -> 0.16520036 | K5: 40199.96 | L5: 4099.16 | M5: =IF(K5,(L5-K5)/K5,0) -> -0.89803074 | N5: 28958.02 | O5: 8983.16 | P5: =IF(N5,(O5-N5)/N5,0) -> -0.6897868 | Q5: 5417.75 | R5: =VLOOKUP(C5,'2026-06'!A:B,2,FALSE) -> #N/A | S5: =IF(Q5,(R5-Q5)/Q5,1) -> #N/A | T5: =K5+N5+Q5 -> 74575.73 | U5: =L5+O5+R5 -> #N/A | V5: =IF(T5,(U5-T5)/T5,0) -> #N/A
B6: Client France | C6: C86001 | D6: VYV EQUIPEMENT MEDICAL | E6: 557459.01 | F6: 358457.9 | G6: 451273.98 | H6: 1105624.8 | I6: 1367190.9 | J6: =IF(H6,(I6-H6)/H6,0) -> 0.23657766 | K6: 409455.65 | L6: 370378.45 | M6: =IF(K6,(L6-K6)/K6,0) -> -0.095436954 | N6: 434806.1 | O6: 353709.19 | P6: =IF(N6,(O6-N6)/N6,0) -> -0.18651282 | Q6: 419669.65 | R6: =VLOOKUP(C6,'2026-06'!A:B,2,FALSE) -> #N/A | S6: =IF(Q6,(R6-Q6)/Q6,1) -> #N/A | T6: =K6+N6+Q6 -> 1263931.4 | U6: =L6+O6+R6 -> #N/A | V6: =IF(T6,(U6-T6)/T6,0) -> #N/A
A7: Stan | B7: Client France | C7: C47004 | D7: CLIENT W | E7: 25185.11 | F7: -180.12 | G7: -6035.78 | H7: 23607.66 | I7: 18969.21 | J7: =IF(H7,(I7-H7)/H7,0) -> -0.19648072 | K7: -2391.84 | L7: 31919.44 | M7: =IF(K7,(L7-K7)/K7,0) -> -14.34514 | N7: 21926.12 | O7: -4373.02 | P7: =IF(N7,(O7-N7)/N7,0) -> -1.1994434 | Q7: -2355.08 | R7: =IFERROR(VLOOKUP(C7,'2026-06'!A:B,2,FALSE),0) -> -3182.34 | S7: =IF(Q7=0,1,(R7-Q7)/Q7) -> 0.3512662 | T7: =SUM(K7,N7,Q7) -> 17179.2 | U7: =SUM(L7,O7,R7) -> 24364.08 | V7: =IF(T7=0,1,(U7-T7)/T7) -> 0.41823135
A8: Stan | B8: Client France | C8: C62082 | D8: CLIENT X | E8: 0 | F8: 0 | G8: 0 | H8: 0 | I8: 0 | J8: =IF(H8,(I8-H8)/H8,0) -> 0 | K8: 0 | L8: 4676.6 | M8: =IF(K8,(L8-K8)/K8,0) -> 0 | N8: 0 | O8: 3650.47 | P8: =IF(N8,(O8-N8)/N8,0) -> 0 | Q8: 0 | R8: =IFERROR(VLOOKUP(C8,'2026-06'!A:B,2,FALSE),0) -> 7389.94 | S8: =IF(Q8=0,1,(R8-Q8)/Q8) -> 1 | T8: =SUM(K8,N8,Q8) -> 0 | U8: =SUM(L8,O8,R8) -> 15717.01 | V8: =IF(T8=0,1,(U8-T8)/T8) -> 1
A9: Stan | B9: Client France | C9: C62005 | D9: CLIENT Y | E9: 21653.46 | F9: -10050.67 | G9: 10681.06 | H9: 44960.48 | I9: 22283.85 | J9: =IF(H9,(I9-H9)/H9,0) -> -0.50436806 | K9: -5668.53 | L9: -3260.58 | M9: =IF(K9,(L9-K9)/K9,0) -> -0.42479267 | N9: 18541.32 | O9: 0 | P9: =IF(N9,(O9-N9)/N9,0) -> -1 | Q9: 36254.32 | R9: =IFERROR(VLOOKUP(C9,'2026-06'!A:B,2,FALSE),0) -> 0 | S9: =IF(Q9=0,1,(R9-Q9)/Q9) -> -1 | T9: =SUM(K9,N9,Q9) -> 49127.11 | U9: =SUM(L9,O9,R9) -> -3260.58 | V9: =IF(T9=0,1,(U9-T9)/T9) -> -1.0663703
A10: Stan | B10: Client France | C10: C42001 | D10: CLIENT Z | E10: 149126.43 | F10: 133942.83 | G10: 186654.3 | H10: 285100.13 | I10: 469723.56 | J10: =IF(H10,(I10-H10)/H10,0) -> 0.64757399 | K10: 157996.04 | L10: 82160.85 | M10: =IF(K10,(L10-K10)/K10,0) -> -0.47998159 | N10: 178626.14 | O10: 183000.29 | P10: =IF(N10,(O10-N10)/N10,0) -> 0.024487737 | Q10: 175795.68 | R10: =IFERROR(VLOOKUP(C10,'2026-06'!A:B,2,FALSE),0) -> 141435.66 | S10: =IF(Q10=0,1,(R10-Q10)/Q10) -> -0.19545429 | T10: =SUM(K10,N10,Q10) -> 512417.86 | U10: =SUM(L10,O10,R10) -> 406596.8 | V10: =IF(T10=0,1,(U10-T10)/T10) -> -0.20651322
A12: p TOTAL | D12: TOTAL | E12: =SUMIF(E2:E11,"<>#N/A") -> 913518.84 | F12: =SUMIF(F2:F11,"<>#N/A") -> 742330.19 | G12: =SUMIF(G2:G11,"<>#N/A") -> 865474.74 | H12: =SUMIF(H2:H11,"<>#N/A") -> 2063279.3 | I12: =SUMIF(I2:I11,"<>#N/A") -> 2521323.8 | J12: =(I12-H12)/H12 -> 0.22199831 | K12: =SUMIF(K2:K11,"<>#N/A") -> 788311.56 | L12: =SUMIF(L2:L11,"<>#N/A") -> 706795.21 | M12: =(L12-K12)/K12 -> -0.10340626 | N12: =SUMIF(N2:N11,"<>#N/A") -> 796216.96 | O12: =SUMIF(O2:O11,"<>#N/A") -> 671994.97 | P12: =(O12-N12)/N12 -> -0.15601525 | Q12: =SUMIF(Q2:Q11,"<>#N/A") -> 870351.97 | R12: =SUMIF(R2:R11,"<>#N/A") -> 145643.26 | S12: =(R12-Q12)/Q12 -> -0.83266165 | T12: =K12+N12+Q12 -> 2454880.5 | U12: =L12+O12+R12 -> 1524433.4 | V12: =(U12-T12)/T12 -> -0.37901929

Sheet 2026-06
A1: Code client | B1: Total Facture client | C1: Nom du client
A2: C64005 | B2: 24605.35 | C2: CLIENT V
A3: C47004 | B3: -3182.34 | C3: CLIENT W
A4: C62082 | B4: 7389.94 | C4: CLIENT X
A5: C42001 | B5: 141435.66 | C5: CLIENT Z

Sheet Feuil1
A2: https://ledojo.club/blog/calculer-une-evolution-en-pourcentage-sur-excel
