Workbook
Name annee: [1]Calendrier!$BD$2
Name Feries_1: INFOS!$Y$3:$Y$15
Name Feries_2: INFOS!$AB$3:$AB$15
Name HS_Absence: '[2]4-PLANNING ANNUEL'!$AY$67:$AY$68
Name JFER1: INFOS!$X$3:$Y$15
Name JFER2: INFOS!$AA$3:$AB$15
Name JourJ: [1]Dates!$C$1
Name mois: [1]Calendrier!$BD$4

Sheet PLANNING ANNUEL
A4: Septembre | E4: Octobre | I4: Novembre | M4: Décembre | Q4: Janvier | U4: Février | Y4: Mars | AC4: Avril | AG4: Mai | AK4: Juin | AO4: Juillet | AS4: Août
A5: =DATE(INFOS!$A$1,9,1) -> 46266 | B5: =TEXT(A5,"jjj") -> mar | C5: {=IFERROR(IF(D5='EDT HEBDO'!$I$3,"C", IF(D5='EDT HEBDO'!$I$1, INDEX('EDT HEBDO'!$B$7:$F$7,MATCH(B5,LEFT('EDT HEBDO'!$B$1:$F$1,3),0)), IF(D5='EDT HEBDO'!$I$2, INDEX('EDT HEBDO'!$B$15:$F$15,MATCH(B5,LEFT('EDT HEBDO'!$B$1:$F$1,3),0)), INDEX(INFOS!$X$2:$X$14,MATCH(A5,INFOS!$W$2:$W$14,0))))),"")} -> 0.37847222 | D5: PS | E5: =DATE(INFOS!$A$1,10,1) -> 46296 | F5: =TEXT(E5,"jjj") -> jeu | G5: {=IFERROR(IF(H5='EDT HEBDO'!$I$3,"C", IF(H5='EDT HEBDO'!$I$1, INDEX('EDT HEBDO'!$B$7:$F$7,MATCH(F5,LEFT('EDT HEBDO'!$B$1:$F$1,3),0)), IF(H5='EDT HEBDO'!$I$2, INDEX('EDT HEBDO'!$B$15:$F$15,MATCH(F5,LEFT('EDT HEBDO'!$B$1:$F$1,3),0)), INDEX(INFOS!$X$2:$X$14,MATCH(E5,INFOS!$W$2:$W$14,0))))),"")} -> 0.37847222 | H5: PS | I5: =DATE(INFOS!$A$1,11,1) -> 46327 | J5: =TEXT(I5,"jjj") -> dim | K5: {=IFERROR(IF(L5='EDT HEBDO'!$I$3,"C", IF(L5='EDT HEBDO'!$I$1, INDEX('EDT HEBDO'!$B$7:$F$7,MATCH(J5,LEFT('EDT HEBDO'!$B$1:$F$1,3),0)), IF(L5='EDT HEBDO'!$I$2, INDEX('EDT HEBDO'!$B$15:$F$15,MATCH(J5,LEFT('EDT HEBDO'!$B$1:$F$1,3),0)), INDEX(INFOS!$X$3:$X$15,MATCH(I5,INFOS!$Y$3:$Y$15,0))))),"")} -> Toussaint | M5: =DATE(INFOS!$A$1,12,1) -> 46357 | N5: =TEXT(M5,"jjj") -> mar | O5: {=IFERROR(IF(P5='EDT HEBDO'!$I$3,"C", IF(P5='EDT HEBDO'!$I$1, INDEX('EDT HEBDO'!$B$7:$F$7,MATCH(N5,LEFT('EDT HEBDO'!$B$1:$F$1,3),0)), IF(P5='EDT HEBDO'!$I$2, INDEX('EDT HEBDO'!$B$15:$F$15,MATCH(N5,LEFT('EDT HEBDO'!$B$1:$F$1,3),0)), INDEX(INFOS!$X$2:$X$14,MATCH(M5,INFOS!$W$2:$W$14,0))))),"")} -> 0.37847222 | P5: PS | Q5: =DATE(INFOS!$I$1,1,1) -> 46388 | R5: =TEXT(Q5,"jjj") -> ven | S5: {=IFERROR(IF(T5='EDT HEBDO'!$I$3,"C", IF(T5='EDT HEBDO'!$I$1, INDEX('EDT HEBDO'!$B$7:$F$7,MATCH(R5,LEFT('EDT HEBDO'!$B$1:$F$1,3),0)), IF(T5='EDT HEBDO'!$I$2, INDEX('EDT HEBDO'!$B$15:$F$15,MATCH(R5,LEFT('EDT HEBDO'!$B$1:$F$1,3),0)), INDEX(INFOS!$AA$3:$AA$15,MATCH(Q5,INFOS!$AB$3:$AB$15,0))))),"")} -> Nouvel an | U5: =DATE(INFOS!$I$1,2,1) -> 46419 | V5: =TEXT(U5,"jjj") -> lun | W5: {=IFERROR(IF(X5='EDT HEBDO'!$I$3,"C", IF(X5='EDT HEBDO'!$I$1, INDEX('EDT HEBDO'!$B$7:$F$7,MATCH(V5,LEFT('EDT HEBDO'!$B$1:$F$1,3),0)), IF(X5='EDT HEBDO'!$I$2, INDEX('EDT HEBDO'!$B$15:$F$15,MATCH(V5,LEFT('EDT HEBDO'!$B$1:$F$1,3),0)), INDEX(INFOS!$AA$3:$AA$15,MATCH(U5,INFOS!$AB$3:$AB$15,0))))),"")} -> 0.37847222 | X5: PS | Y5: =DATE(INFOS!$I$1,3,1) -> 46447 | Z5: =TEXT(Y5,"jjj") -> lun | AA5: {=IFERROR(IF(AB5='EDT HEBDO'!$I$3,"C", IF(AB5='EDT HEBDO'!$I$1, INDEX('EDT HEBDO'!$B$7:$F$7,MATCH(Z5,LEFT('EDT HEBDO'!$B$1:$F$1,3),0)), IF(AB5='EDT HEBDO'!$I$2, INDEX('EDT HEBDO'!$B$15:$F$15,MATCH(Z5,LEFT('EDT HEBDO'!$B$1:$F$1,3),0)), INDEX(INFOS!$AA$3:$AA$15,MATCH(Y5,INFOS!$AB$3:$AB$15,0))))),"")} -> 0.37847222 | AB5: PS | AC5: =DATE(INFOS!$I$1,4,1) -> 46478 | AD5: =TEXT(Y5,"jjj") -> lun | AE5: {=IFERROR(IF(AF5='EDT HEBDO'!$I$3,"C", IF(AF5='EDT HEBDO'!$I$1, INDEX('EDT HEBDO'!$B$7:$F$7,MATCH(AD5,LEFT('EDT HEBDO'!$B$1:$F$1,3),0)), IF(AF5='EDT HEBDO'!$I$2, INDEX('EDT HEBDO'!$B$15:$F$15,MATCH(AD5,LEFT('EDT HEBDO'!$B$1:$F$1,3),0)), INDEX(INFOS!$AA$3:$AA$15,MATCH(AC5,INFOS!$AB$3:$AB$15,0))))),"")} | AG5: =DATE(INFOS!$I$1,5,1) -> 46508 | AH5: =TEXT(Y5,"jjj") -> lun | AI5: {=IFERROR(IF(AJ5='EDT HEBDO'!$I$3,"C", IF(AJ5='EDT HEBDO'!$I$1, INDEX('EDT HEBDO'!$B$7:$F$7,MATCH(AH5,LEFT('EDT HEBDO'!$B$1:$F$1,3),0)), IF(AJ5='EDT HEBDO'!$I$2, INDEX('EDT HEBDO'!$B$15:$F$15,MATCH(AH5,LEFT('EDT HEBDO'!$B$1:$F$1,3),0)), INDEX(INFOS!$AA$3:$AA$15,MATCH(AG5,INFOS!$AB$3:$AB$15,0))))),"")} -> Fête du travail | AK5: =DATE(INFOS!$I$1,6,1) -> 46539 | AL5: =TEXT(Y5,"jjj") -> lun | AM5: {=IFERROR(IF(AN5='EDT HEBDO'!$I$3,"C", IF(AN5='EDT HEBDO'!$I$1, INDEX('EDT HEBDO'!$B$7:$F$7,MATCH(AL5,LEFT('EDT HEBDO'!$B$1:$F$1,3),0)), IF(AN5='EDT HEBDO'!$I$2, INDEX('EDT HEBDO'!$B$15:$F$15,MATCH(AL5,LEFT('EDT HEBDO'!$B$1:$F$1,3),0)), INDEX(INFOS!$AA$3:$AA$15,MATCH(AK5,INFOS!$AB$3:$AB$15,0))))),"")} | AO5: =DATE(INFOS!$I$1,7,1) -> 46569 | AP5: =TEXT(Y5,"jjj") -> lun | AQ5: {=IFERROR(IF(AR5='EDT HEBDO'!$I$3,"C", IF(AR5='EDT HEBDO'!$I$1, INDEX('EDT HEBDO'!$B$7:$F$7,MATCH(AP5,LEFT('EDT HEBDO'!$B$1:$F$1,3),0)), IF(AR5='EDT HEBDO'!$I$2, INDEX('EDT HEBDO'!$B$15:$F$15,MATCH(AP5,LEFT('EDT HEBDO'!$B$1:$F$1,3),0)), INDEX(INFOS!$AA$3:$AA$15,MATCH(AO5,INFOS!$AB$3:$AB$15,0))))),"")} | AS5: =DATE(INFOS!$I$1,8,1) -> 46600 | AT5: =TEXT(Y5,"jjj") -> lun | AU5: {=IFERROR(IF(AV5='EDT HEBDO'!$I$3,"C", IF(AV5='EDT HEBDO'!$I$1, INDEX('EDT HEBDO'!$B$7:$F$7,MATCH(AT5,LEFT('EDT HEBDO'!$B$1:$F$1,3),0)), IF(AV5='EDT HEBDO'!$I$2, INDEX('EDT HEBDO'!$B$15:$F$15,MATCH(AT5,LEFT('EDT HEBDO'!$B$1:$F$1,3),0)), INDEX(INFOS!$AA$3:$AA$15,MATCH(AS5,INFOS!$AB$3:$AB$15,0))))),"")}
A6: =A5+1 -> 46267 | B6: =TEXT(A6,"jjj") -> mer | C6: {=IFERROR(IF(D6='EDT HEBDO'!$I$3,"C", IF(D6='EDT HEBDO'!$I$1, INDEX('EDT HEBDO'!$B$7:$F$7,MATCH(B6,LEFT('EDT HEBDO'!$B$1:$F$1,3),0)), IF(D6='EDT HEBDO'!$I$2, INDEX('EDT HEBDO'!$B$15:$F$15,MATCH(B6,LEFT('EDT HEBDO'!$B$1:$F$1,3),0)), INDEX(INFOS!$X$2:$X$14,MATCH(A6,INFOS!$W$2:$W$14,0))))),"")} -> 0.16666667 | D6: PS | E6: =E5+1 -> 46297 | F6: =TEXT(E6,"jjj") -> ven | G6: {=IFERROR(IF(H6='EDT HEBDO'!$I$3,"C", IF(H6='EDT HEBDO'!$I$1, INDEX('EDT HEBDO'!$B$7:$F$7,MATCH(F6,LEFT('EDT HEBDO'!$B$1:$F$1,3),0)), IF(H6='EDT HEBDO'!$I$2, INDEX('EDT HEBDO'!$B$15:$F$15,MATCH(F6,LEFT('EDT HEBDO'!$B$1:$F$1,3),0)), INDEX(INFOS!$X$2:$X$14,MATCH(E6,INFOS!$W$2:$W$14,0))))),"")} -> 0.37847222 | H6: PS | I6: =I5+1 -> 46328 | J6: =TEXT(I6,"jjj") -> lun | K6: {=IFERROR(IF(L6='EDT HEBDO'!$I$3,"C", IF(L6='EDT HEBDO'!$I$1, INDEX('EDT HEBDO'!$B$7:$F$7,MATCH(J6,LEFT('EDT HEBDO'!$B$1:$F$1,3),0)), IF(L6='EDT HEBDO'!$I$2, INDEX('EDT HEBDO'!$B$15:$F$15,MATCH(J6,LEFT('EDT HEBDO'!$B$1:$F$1,3),0)), INDEX(INFOS!$X$3:$X$15,MATCH(I6,INFOS!$Y$3:$Y$15,0))))),"")} -> 0.37847222 | L6: PS | M6: =M5+1 -> 46358 | N6: =TEXT(M6,"jjj") -> mer | O6: {=IFERROR(IF(P6='EDT HEBDO'!$I$3,"C", IF(P6='EDT HEBDO'!$I$1, INDEX('EDT HEBDO'!$B$7:$F$7,MATCH(N6,LEFT('EDT HEBDO'!$B$1:$F$1,3),0)), IF(P6='EDT HEBDO'!$I$2, INDEX('EDT HEBDO'!$B$15:$F$15,MATCH(N6,LEFT('EDT HEBDO'!$B$1:$F$1,3),0)), INDEX(INFOS!$X$2:$X$14,MATCH(M6,INFOS!$W$2:$W$14,0))))),"")} -> 0.16666667 | P6: PS | Q6: =Q5+1 -> 46389 | R6: =TEXT(Q6,"jjj") -> sam | S6: {=IFERROR(IF(T6='EDT HEBDO'!$I$3,"C", IF(T6='EDT HEBDO'!$I$1, INDEX('EDT HEBDO'!$B$7:$F$7,MATCH(R6,LEFT('EDT HEBDO'!$B$1:$F$1,3),0)), IF(T6='EDT HEBDO'!$I$2, INDEX('EDT HEBDO'!$B$15:$F$15,MATCH(R6,LEFT('EDT HEBDO'!$B$1:$F$1,3),0)), INDEX(INFOS!$AA$3:$AA$15,MATCH(Q6,INFOS!$AB$3:$AB$15,0))))),"")} | U6: =U5+1 -> 46420 | V6: =TEXT(U6,"jjj") -> mar | W6: {=IFERROR(IF(X6='EDT HEBDO'!$I$3,"C", IF(X6='EDT HEBDO'!$I$1, INDEX('EDT HEBDO'!$B$7:$F$7,MATCH(V6,LEFT('EDT HEBDO'!$B$1:$F$1,3),0)), IF(X6='EDT HEBDO'!$I$2, INDEX('EDT HEBDO'!$B$15:$F$15,MATCH(V6,LEFT('EDT HEBDO'!$B$1:$F$1,3),0)), INDEX(INFOS!$AA$3:$AA$15,MATCH(U6,INFOS!$AB$3:$AB$15,0))))),"")} -> 0.37847222 | X6: PS | Y6: =Y5+1 -> 46448 | Z6: =TEXT(Y6,"jjj") -> mar | AA6: {=IFERROR(IF(AB6='EDT HEBDO'!$I$3,"C", IF(AB6='EDT HEBDO'!$I$1, INDEX('EDT HEBDO'!$B$7:$F$7,MATCH(Z6,LEFT('EDT HEBDO'!$B$1:$F$1,3),0)), IF(AB6='EDT HEBDO'!$I$2, INDEX('EDT HEBDO'!$B$15:$F$15,MATCH(Z6,LEFT('EDT HEBDO'!$B$1:$F$1,3),0)), INDEX(INFOS!$AA$3:$AA$15,MATCH(Y6,INFOS!$AB$3:$AB$15,0))))),"")} -> 0.37847222 | AB6: PS | AC6: =AC5+1 -> 46479 | AD6: =TEXT(Y6,"jjj") -> mar | AE6: {=IFERROR(IF(AF6='EDT HEBDO'!$I$3,"C", IF(AF6='EDT HEBDO'!$I$1, INDEX('EDT HEBDO'!$B$7:$F$7,MATCH(AD6,LEFT('EDT HEBDO'!$B$1:$F$1,3),0)), IF(AF6='EDT HEBDO'!$I$2, INDEX('EDT HEBDO'!$B$15:$F$15,MATCH(AD6,LEFT('EDT HEBDO'!$B$1:$F$1,3),0)), INDEX(INFOS!$AA$3:$AA$15,MATCH(AC6,INFOS!$AB$3:$AB$15,0))))),"")} | AG6: =AG5+1 -> 46509 | AH6: =TEXT(Y6,"jjj") -> mar | AI6: {=IFERROR(IF(AJ6='EDT HEBDO'!$I$3,"C", IF(AJ6='EDT HEBDO'!$I$1, INDEX('EDT HEBDO'!$B$7:$F$7,MATCH(AH6,LEFT('EDT HEBDO'!$B$1:$F$1,3),0)), IF(AJ6='EDT HEBDO'!$I$2, INDEX('EDT HEBDO'!$B$15:$F$15,MATCH(AH6,LEFT('EDT HEBDO'!$B$1:$F$1,3),0)), INDEX(INFOS!$AA$3:$AA$15,MATCH(AG6,INFOS!$AB$3:$AB$15,0))))),"")} | AK6: =AK5+1 -> 46540 | AL6: =TEXT(Y6,"jjj") -> mar | AM6: {=IFERROR(IF(AN6='EDT HEBDO'!$I$3,"C", IF(AN6='EDT HEBDO'!$I$1, INDEX('EDT HEBDO'!$B$7:$F$7,MATCH(AL6,LEFT('EDT HEBDO'!$B$1:$F$1,3),0)), IF(AN6='EDT HEBDO'!$I$2, INDEX('EDT HEBDO'!$B$15:$F$15,MATCH(AL6,LEFT('EDT HEBDO'!$B$1:$F$1,3),0)), INDEX(INFOS!$AA$3:$AA$15,MATCH(AK6,INFOS!$AB$3:$AB$15,0))))),"")} | AO6: =AO5+1 -> 46570 | AP6: =TEXT(Y6,"jjj") -> mar | AQ6: {=IFERROR(IF(AR6='EDT HEBDO'!$I$3,"C", IF(AR6='EDT HEBDO'!$I$1, INDEX('EDT HEBDO'!$B$7:$F$7,MATCH(AP6,LEFT('EDT HEBDO'!$B$1:$F$1,3),0)), IF(AR6='EDT HEBDO'!$I$2, INDEX('EDT HEBDO'!$B$15:$F$15,MATCH(AP6,LEFT('EDT HEBDO'!$B$1:$F$1,3),0)), INDEX(INFOS!$AA$3:$AA$15,MATCH(AO6,INFOS!$AB$3:$AB$15,0))))),"")} | AS6: =AS5+1 -> 46601 | AT6: =TEXT(Y6,"jjj") -> mar | AU6: {=IFERROR(IF(AV6='EDT HEBDO'!$I$3,"C", IF(AV6='EDT HEBDO'!$I$1, INDEX('EDT HEBDO'!$B$7:$F$7,MATCH(AT6,LEFT('EDT HEBDO'!$B$1:$F$1,3),0)), IF(AV6='EDT HEBDO'!$I$2, INDEX('EDT HEBDO'!$B$15:$F$15,MATCH(AT6,LEFT('EDT HEBDO'!$B$1:$F$1,3),0)), INDEX(INFOS!$AA$3:$AA$15,MATCH(AS6,INFOS!$AB$3:$AB$15,0))))),"")}
A7: =A6+1 -> 46268 | B7: =TEXT(A7,"jjj") -> jeu | C7: {=IFERROR(IF(D7='EDT HEBDO'!$I$3,"C", IF(D7='EDT HEBDO'!$I$1, INDEX('EDT HEBDO'!$B$7:$F$7,MATCH(B7,LEFT('EDT HEBDO'!$B$1:$F$1,3),0)), IF(D7='EDT HEBDO'!$I$2, INDEX('EDT HEBDO'!$B$15:$F$15,MATCH(B7,LEFT('EDT HEBDO'!$B$1:$F$1,3),0)), INDEX(INFOS!$X$2:$X$14,MATCH(A7,INFOS!$W$2:$W$14,0))))),"")} -> 0.37847222 | D7: PS | E7: =E6+1 -> 46298 | F7: =TEXT(E7,"jjj") -> sam | G7: {=IFERROR(IF(H7='EDT HEBDO'!$I$3,"C", IF(H7='EDT HEBDO'!$I$1, INDEX('EDT HEBDO'!$B$7:$F$7,MATCH(F7,LEFT('EDT HEBDO'!$B$1:$F$1,3),0)), IF(H7='EDT HEBDO'!$I$2, INDEX('EDT HEBDO'!$B$15:$F$15,MATCH(F7,LEFT('EDT HEBDO'!$B$1:$F$1,3),0)), INDEX(INFOS!$X$2:$X$14,MATCH(E7,INFOS!$W$2:$W$14,0))))),"")} | I7: =I6+1 -> 46329 | J7: =TEXT(I7,"jjj") -> mar | K7: {=IFERROR(IF(L7='EDT HEBDO'!$I$3,"C", IF(L7='EDT HEBDO'!$I$1, INDEX('EDT HEBDO'!$B$7:$F$7,MATCH(J7,LEFT('EDT HEBDO'!$B$1:$F$1,3),0)), IF(L7='EDT HEBDO'!$I$2, INDEX('EDT HEBDO'!$B$15:$F$15,MATCH(J7,LEFT('EDT HEBDO'!$B$1:$F$1,3),0)), INDEX(INFOS!$X$3:$X$15,MATCH(I7,INFOS!$Y$3:$Y$15,0))))),"")} -> 0.37847222 | L7: PS | M7: =M6+1 -> 46359 | N7: =TEXT(M7,"jjj") -> jeu | O7: {=IFERROR(IF(P7='EDT HEBDO'!$I$3,"C", IF(P7='EDT HEBDO'!$I$1, INDEX('EDT HEBDO'!$B$7:$F$7,MATCH(N7,LEFT('EDT HEBDO'!$B$1:$F$1,3),0)), IF(P7='EDT HEBDO'!$I$2, INDEX('EDT HEBDO'!$B$15:$F$15,MATCH(N7,LEFT('EDT HEBDO'!$B$1:$F$1,3),0)), INDEX(INFOS!$X$2:$X$14,MATCH(M7,INFOS!$W$2:$W$14,0))))),"")} -> 0.37847222 | P7: PS | Q7: =Q6+1 -> 46390 | R7: =TEXT(Q7,"jjj") -> dim | S7: {=IFERROR(IF(T7='EDT HEBDO'!$I$3,"C", IF(T7='EDT HEBDO'!$I$1, INDEX('EDT HEBDO'!$B$7:$F$7,MATCH(R7,LEFT('EDT HEBDO'!$B$1:$F$1,3),0)), IF(T7='EDT HEBDO'!$I$2, INDEX('EDT HEBDO'!$B$15:$F$15,MATCH(R7,LEFT('EDT HEBDO'!$B$1:$F$1,3),0)), INDEX(INFOS!$AA$3:$AA$15,MATCH(Q7,INFOS!$AB$3:$AB$15,0))))),"")} | U7: =U6+1 -> 46421 | V7: =TEXT(U7,"jjj") -> mer | W7: {=IFERROR(IF(X7='EDT HEBDO'!$I$3,"C", IF(X7='EDT HEBDO'!$I$1, INDEX('EDT HEBDO'!$B$7:$F$7,MATCH(V7,LEFT('EDT HEBDO'!$B$1:$F$1,3),0)), IF(X7='EDT HEBDO'!$I$2, INDEX('EDT HEBDO'!$B$15:$F$15,MATCH(V7,LEFT('EDT HEBDO'!$B$1:$F$1,3),0)), INDEX(INFOS!$AA$3:$AA$15,MATCH(U7,INFOS!$AB$3:$AB$15,0))))),"")} -> 0.16666667 | X7: PS | Y7: =Y6+1 -> 46449 | Z7: =TEXT(Y7,"jjj") -> mer | AA7: {=IFERROR(IF(AB7='EDT HEBDO'!$I$3,"C", IF(AB7='EDT HEBDO'!$I$1, INDEX('EDT HEBDO'!$B$7:$F$7,MATCH(Z7,LEFT('EDT HEBDO'!$B$1:$F$1,3),0)), IF(AB7='EDT HEBDO'!$I$2, INDEX('EDT HEBDO'!$B$15:$F$15,MATCH(Z7,LEFT('EDT HEBDO'!$B$1:$F$1,3),0)), INDEX(INFOS!$AA$3:$AA$15,MATCH(Y7,INFOS!$AB$3:$AB$15,0))))),"")} -> 0.16666667 | AB7: PS | AC7: =AC6+1 -> 46480 | AD7: =TEXT(Y7,"jjj") -> mer | AE7: {=IFERROR(IF(AF7='EDT HEBDO'!$I$3,"C", IF(AF7='EDT HEBDO'!$I$1, INDEX('EDT HEBDO'!$B$7:$F$7,MATCH(AD7,LEFT('EDT HEBDO'!$B$1:$F$1,3),0)), IF(AF7='EDT HEBDO'!$I$2, INDEX('EDT HEBDO'!$B$15:$F$15,MATCH(AD7,LEFT('EDT HEBDO'!$B$1:$F$1,3),0)), INDEX(INFOS!$AA$3:$AA$15,MATCH(AC7,INFOS!$AB$3:$AB$15,0))))),"")} | AG7: =AG6+1 -> 46510 | AH7: =TEXT(Y7,"jjj") -> mer | AI7: {=IFERROR(IF(AJ7='EDT HEBDO'!$I$3,"C", IF(AJ7='EDT HEBDO'!$I$1, INDEX('EDT HEBDO'!$B$7:$F$7,MATCH(AH7,LEFT('EDT HEBDO'!$B$1:$F$1,3),0)), IF(AJ7='EDT HEBDO'!$I$2, INDEX('EDT HEBDO'!$B$15:$F$15,MATCH(AH7,LEFT('EDT HEBDO'!$B$1:$F$1,3),0)), INDEX(INFOS!$AA$3:$AA$15,MATCH(AG7,INFOS!$AB$3:$AB$15,0))))),"")} | AK7: =AK6+1 -> 46541 | AL7: =TEXT(Y7,"jjj") -> mer | AM7: {=IFERROR(IF(AN7='EDT HEBDO'!$I$3,"C", IF(AN7='EDT HEBDO'!$I$1, INDEX('EDT HEBDO'!$B$7:$F$7,MATCH(AL7,LEFT('EDT HEBDO'!$B$1:$F$1,3),0)), IF(AN7='EDT HEBDO'!$I$2, INDEX('EDT HEBDO'!$B$15:$F$15,MATCH(AL7,LEFT('EDT HEBDO'!$B$1:$F$1,3),0)), INDEX(INFOS!$AA$3:$AA$15,MATCH(AK7,INFOS!$AB$3:$AB$15,0))))),"")} | AO7: =AO6+1 -> 46571 | AP7: =TEXT(Y7,"jjj") -> mer | AQ7: {=IFERROR(IF(AR7='EDT HEBDO'!$I$3,"C", IF(AR7='EDT HEBDO'!$I$1, INDEX('EDT HEBDO'!$B$7:$F$7,MATCH(AP7,LEFT('EDT HEBDO'!$B$1:$F$1,3),0)), IF(AR7='EDT HEBDO'!$I$2, INDEX('EDT HEBDO'!$B$15:$F$15,MATCH(AP7,LEFT('EDT HEBDO'!$B$1:$F$1,3),0)), INDEX(INFOS!$AA$3:$AA$15,MATCH(AO7,INFOS!$AB$3:$AB$15,0))))),"")} | AS7: =AS6+1 -> 46602 | AT7: =TEXT(Y7,"jjj") -> mer | AU7: {=IFERROR(IF(AV7='EDT HEBDO'!$I$3,"C", IF(AV7='EDT HEBDO'!$I$1, INDEX('EDT HEBDO'!$B$7:$F$7,MATCH(AT7,LEFT('EDT HEBDO'!$B$1:$F$1,3),0)), IF(AV7='EDT HEBDO'!$I$2, INDEX('EDT HEBDO'!$B$15:$F$15,MATCH(AT7,LEFT('EDT HEBDO'!$B$1:$F$1,3),0)), INDEX(INFOS!$AA$3:$AA$15,MATCH(AS7,INFOS!$AB$3:$AB$15,0))))),"")}
A8: =A7+1 -> 46269 | B8: =TEXT(A8,"jjj") -> ven | C8: {=IFERROR(IF(D8='EDT HEBDO'!$I$3,"C", IF(D8='EDT HEBDO'!$I$1, INDEX('EDT HEBDO'!$B$7:$F$7,MATCH(B8,LEFT('EDT HEBDO'!$B$1:$F$1,3),0)), IF(D8='EDT HEBDO'!$I$2, INDEX('EDT HEBDO'!$B$15:$F$15,MATCH(B8,LEFT('EDT HEBDO'!$B$1:$F$1,3),0)), INDEX(INFOS!$X$2:$X$14,MATCH(A8,INFOS!$W$2:$W$14,0))))),"")} -> 0.37847222 | D8: PS | E8: =E7+1 -> 46299 | F8: =TEXT(E8,"jjj") -> dim | G8: {=IFERROR(IF(H8='EDT HEBDO'!$I$3,"C", IF(H8='EDT HEBDO'!$I$1, INDEX('EDT HEBDO'!$B$7:$F$7,MATCH(F8,LEFT('EDT HEBDO'!$B$1:$F$1,3),0)), IF(H8='EDT HEBDO'!$I$2, INDEX('EDT HEBDO'!$B$15:$F$15,MATCH(F8,LEFT('EDT HEBDO'!$B$1:$F$1,3),0)), INDEX(INFOS!$X$2:$X$14,MATCH(E8,INFOS!$W$2:$W$14,0))))),"")} | I8: =I7+1 -> 46330 | J8: =TEXT(I8,"jjj") -> mer | K8: {=IFERROR(IF(L8='EDT HEBDO'!$I$3,"C", IF(L8='EDT HEBDO'!$I$1, INDEX('EDT HEBDO'!$B$7:$F$7,MATCH(J8,LEFT('EDT HEBDO'!$B$1:$F$1,3),0)), IF(L8='EDT HEBDO'!$I$2, INDEX('EDT HEBDO'!$B$15:$F$15,MATCH(J8,LEFT('EDT HEBDO'!$B$1:$F$1,3),0)), INDEX(INFOS!$X$3:$X$15,MATCH(I8,INFOS!$Y$3:$Y$15,0))))),"")} -> 0.16666667 | L8: PS | M8: =M7+1 -> 46360 | N8: =TEXT(M8,"jjj") -> ven | O8: {=IFERROR(IF(P8='EDT HEBDO'!$I$3,"C", IF(P8='EDT HEBDO'!$I$1, INDEX('EDT HEBDO'!$B$7:$F$7,MATCH(N8,LEFT('EDT HEBDO'!$B$1:$F$1,3),0)), IF(P8='EDT HEBDO'!$I$2, INDEX('EDT HEBDO'!$B$15:$F$15,MATCH(N8,LEFT('EDT HEBDO'!$B$1:$F$1,3),0)), INDEX(INFOS!$X$2:$X$14,MATCH(M8,INFOS!$W$2:$W$14,0))))),"")} -> 0.37847222 | P8: PS | Q8: =Q7+1 -> 46391 | R8: =TEXT(Q8,"jjj") -> lun | S8: {=IFERROR(IF(T8='EDT HEBDO'!$I$3,"C", IF(T8='EDT HEBDO'!$I$1, INDEX('EDT HEBDO'!$B$7:$F$7,MATCH(R8,LEFT('EDT HEBDO'!$B$1:$F$1,3),0)), IF(T8='EDT HEBDO'!$I$2, INDEX('EDT HEBDO'!$B$15:$F$15,MATCH(R8,LEFT('EDT HEBDO'!$B$1:$F$1,3),0)), INDEX(INFOS!$AA$3:$AA$15,MATCH(Q8,INFOS!$AB$3:$AB$15,0))))),"")} -> 0.37847222 | T8: PS | U8: =U7+1 -> 46422 | V8: =TEXT(U8,"jjj") -> jeu | W8: {=IFERROR(IF(X8='EDT HEBDO'!$I$3,"C", IF(X8='EDT HEBDO'!$I$1, INDEX('EDT HEBDO'!$B$7:$F$7,MATCH(V8,LEFT('EDT HEBDO'!$B$1:$F$1,3),0)), IF(X8='EDT HEBDO'!$I$2, INDEX('EDT HEBDO'!$B$15:$F$15,MATCH(V8,LEFT('EDT HEBDO'!$B$1:$F$1,3),0)), INDEX(INFOS!$AA$3:$AA$15,MATCH(U8,INFOS!$AB$3:$AB$15,0))))),"")} -> 0.37847222 | X8: PS | Y8: =Y7+1 -> 46450 | Z8: =TEXT(Y8,"jjj") -> jeu | AA8: {=IFERROR(IF(AB8='EDT HEBDO'!$I$3,"C", IF(AB8='EDT HEBDO'!$I$1, INDEX('EDT HEBDO'!$B$7:$F$7,MATCH(Z8,LEFT('EDT HEBDO'!$B$1:$F$1,3),0)), IF(AB8='EDT HEBDO'!$I$2, INDEX('EDT HEBDO'!$B$15:$F$15,MATCH(Z8,LEFT('EDT HEBDO'!$B$1:$F$1,3),0)), INDEX(INFOS!$AA$3:$AA$15,MATCH(Y8,INFOS!$AB$3:$AB$15,0))))),"")} -> 0.37847222 | AB8: PS | AC8: =AC7+1 -> 46481 | AD8: =TEXT(Y8,"jjj") -> jeu | AE8: {=IFERROR(IF(AF8='EDT HEBDO'!$I$3,"C", IF(AF8='EDT HEBDO'!$I$1, INDEX('EDT HEBDO'!$B$7:$F$7,MATCH(AD8,LEFT('EDT HEBDO'!$B$1:$F$1,3),0)), IF(AF8='EDT HEBDO'!$I$2, INDEX('EDT HEBDO'!$B$15:$F$15,MATCH(AD8,LEFT('EDT HEBDO'!$B$1:$F$1,3),0)), INDEX(INFOS!$AA$3:$AA$15,MATCH(AC8,INFOS!$AB$3:$AB$15,0))))),"")} -> Pâques | AG8: =AG7+1 -> 46511 | AH8: =TEXT(Y8,"jjj") -> jeu | AI8: {=IFERROR(IF(AJ8='EDT HEBDO'!$I$3,"C", IF(AJ8='EDT HEBDO'!$I$1, INDEX('EDT HEBDO'!$B$7:$F$7,MATCH(AH8,LEFT('EDT HEBDO'!$B$1:$F$1,3),0)), IF(AJ8='EDT HEBDO'!$I$2, INDEX('EDT HEBDO'!$B$15:$F$15,MATCH(AH8,LEFT('EDT HEBDO'!$B$1:$F$1,3),0)), INDEX(INFOS!$AA$3:$AA$15,MATCH(AG8,INFOS!$AB$3:$AB$15,0))))),"")} | AK8: =AK7+1 -> 46542 | AL8: =TEXT(Y8,"jjj") -> jeu | AM8: {=IFERROR(IF(AN8='EDT HEBDO'!$I$3,"C", IF(AN8='EDT HEBDO'!$I$1, INDEX('EDT HEBDO'!$B$7:$F$7,MATCH(AL8,LEFT('EDT HEBDO'!$B$1:$F$1,3),0)), IF(AN8='EDT HEBDO'!$I$2, INDEX('EDT HEBDO'!$B$15:$F$15,MATCH(AL8,LEFT('EDT HEBDO'!$B$1:$F$1,3),0)), INDEX(INFOS!$AA$3:$AA$15,MATCH(AK8,INFOS!$AB$3:$AB$15,0))))),"")} | AO8: =AO7+1 -> 46572 | AP8: =TEXT(Y8,"jjj") -> jeu | AQ8: {=IFERROR(IF(AR8='EDT HEBDO'!$I$3,"C", IF(AR8='EDT HEBDO'!$I$1, INDEX('EDT HEBDO'!$B$7:$F$7,MATCH(AP8,LEFT('EDT HEBDO'!$B$1:$F$1,3),0)), IF(AR8='EDT HEBDO'!$I$2, INDEX('EDT HEBDO'!$B$15:$F$15,MATCH(AP8,LEFT('EDT HEBDO'!$B$1:$F$1,3),0)), INDEX(INFOS!$AA$3:$AA$15,MATCH(AO8,INFOS!$AB$3:$AB$15,0))))),"")} | AS8: =AS7+1 -> 46603 | AT8: =TEXT(Y8,"jjj") -> jeu | AU8: {=IFERROR(IF(AV8='EDT HEBDO'!$I$3,"C", IF(AV8='EDT HEBDO'!$I$1, INDEX('EDT HEBDO'!$B$7:$F$7,MATCH(AT8,LEFT('EDT HEBDO'!$B$1:$F$1,3),0)), IF(AV8='EDT HEBDO'!$I$2, INDEX('EDT HEBDO'!$B$15:$F$15,MATCH(AT8,LEFT('EDT HEBDO'!$B$1:$F$1,3),0)), INDEX(INFOS!$AA$3:$AA$15,MATCH(AS8,INFOS!$AB$3:$AB$15,0))))),"")}
A9: =A8+1 -> 46270 | B9: =TEXT(A9,"jjj") -> sam | C9: {=IFERROR(IF(D9='EDT HEBDO'!$I$3,"C", IF(D9='EDT HEBDO'!$I$1, INDEX('EDT HEBDO'!$B$7:$F$7,MATCH(B9,LEFT('EDT HEBDO'!$B$1:$F$1,3),0)), IF(D9='EDT HEBDO'!$I$2, INDEX('EDT HEBDO'!$B$15:$F$15,MATCH(B9,LEFT('EDT HEBDO'!$B$1:$F$1,3),0)), INDEX(INFOS!$X$2:$X$14,MATCH(A9,INFOS!$W$2:$W$14,0))))),"")} | E9: =E8+1 -> 46300 | F9: =TEXT(E9,"jjj") -> lun | G9: {=IFERROR(IF(H9='EDT HEBDO'!$I$3,"C", IF(H9='EDT HEBDO'!$I$1, INDEX('EDT HEBDO'!$B$7:$F$7,MATCH(F9,LEFT('EDT HEBDO'!$B$1:$F$1,3),0)), IF(H9='EDT HEBDO'!$I$2, INDEX('EDT HEBDO'!$B$15:$F$15,MATCH(F9,LEFT('EDT HEBDO'!$B$1:$F$1,3),0)), INDEX(INFOS!$X$2:$X$14,MATCH(E9,INFOS!$W$2:$W$14,0))))),"")} -> 0.37847222 | H9: PS | I9: =I8+1 -> 46331 | J9: =TEXT(I9,"jjj") -> jeu | K9: {=IFERROR(IF(L9='EDT HEBDO'!$I$3,"C", IF(L9='EDT HEBDO'!$I$1, INDEX('EDT HEBDO'!$B$7:$F$7,MATCH(J9,LEFT('EDT HEBDO'!$B$1:$F$1,3),0)), IF(L9='EDT HEBDO'!$I$2, INDEX('EDT HEBDO'!$B$15:$F$15,MATCH(J9,LEFT('EDT HEBDO'!$B$1:$F$1,3),0)), INDEX(INFOS!$X$3:$X$15,MATCH(I9,INFOS!$Y$3:$Y$15,0))))),"")} -> 0.37847222 | L9: PS | M9: =M8+1 -> 46361 | N9: =TEXT(M9,"jjj") -> sam | O9: {=IFERROR(IF(P9='EDT HEBDO'!$I$3,"C", IF(P9='EDT HEBDO'!$I$1, INDEX('EDT HEBDO'!$B$7:$F$7,MATCH(N9,LEFT('EDT HEBDO'!$B$1:$F$1,3),0)), IF(P9='EDT HEBDO'!$I$2, INDEX('EDT HEBDO'!$B$15:$F$15,MATCH(N9,LEFT('EDT HEBDO'!$B$1:$F$1,3),0)), INDEX(INFOS!$X$2:$X$14,MATCH(M9,INFOS!$W$2:$W$14,0))))),"")} | Q9: =Q8+1 -> 46392 | R9: =TEXT(Q9,"jjj") -> mar | S9: {=IFERROR(IF(T9='EDT HEBDO'!$I$3,"C", IF(T9='EDT HEBDO'!$I$1, INDEX('EDT HEBDO'!$B$7:$F$7,MATCH(R9,LEFT('EDT HEBDO'!$B$1:$F$1,3),0)), IF(T9='EDT HEBDO'!$I$2, INDEX('EDT HEBDO'!$B$15:$F$15,MATCH(R9,LEFT('EDT HEBDO'!$B$1:$F$1,3),0)), INDEX(INFOS!$AA$3:$AA$15,MATCH(Q9,INFOS!$AB$3:$AB$15,0))))),"")} -> 0.37847222 | T9: PS | U9: =U8+1 -> 46423 | V9: =TEXT(U9,"jjj") -> ven | W9: {=IFERROR(IF(X9='EDT HEBDO'!$I$3,"C", IF(X9='EDT HEBDO'!$I$1, INDEX('EDT HEBDO'!$B$7:$F$7,MATCH(V9,LEFT('EDT HEBDO'!$B$1:$F$1,3),0)), IF(X9='EDT HEBDO'!$I$2, INDEX('EDT HEBDO'!$B$15:$F$15,MATCH(V9,LEFT('EDT HEBDO'!$B$1:$F$1,3),0)), INDEX(INFOS!$AA$3:$AA$15,MATCH(U9,INFOS!$AB$3:$AB$15,0))))),"")} -> 0.37847222 | X9: PS | Y9: =Y8+1 -> 46451 | Z9: =TEXT(Y9,"jjj") -> ven | AA9: {=IFERROR(IF(AB9='EDT HEBDO'!$I$3,"C", IF(AB9='EDT HEBDO'!$I$1, INDEX('EDT HEBDO'!$B$7:$F$7,MATCH(Z9,LEFT('EDT HEBDO'!$B$1:$F$1,3),0)), IF(AB9='EDT HEBDO'!$I$2, INDEX('EDT HEBDO'!$B$15:$F$15,MATCH(Z9,LEFT('EDT HEBDO'!$B$1:$F$1,3),0)), INDEX(INFOS!$AA$3:$AA$15,MATCH(Y9,INFOS!$AB$3:$AB$15,0))))),"")} -> 0.37847222 | AB9: PS | AC9: =AC8+1 -> 46482 | AD9: =TEXT(Y9,"jjj") -> ven | AE9: {=IFERROR(IF(AF9='EDT HEBDO'!$I$3,"C", IF(AF9='EDT HEBDO'!$I$1, INDEX('EDT HEBDO'!$B$7:$F$7,MATCH(AD9,LEFT('EDT HEBDO'!$B$1:$F$1,3),0)), IF(AF9='EDT HEBDO'!$I$2, INDEX('EDT HEBDO'!$B$15:$F$15,MATCH(AD9,LEFT('EDT HEBDO'!$B$1:$F$1,3),0)), INDEX(INFOS!$AA$3:$AA$15,MATCH(AC9,INFOS!$AB$3:$AB$15,0))))),"")} -> Lundi de Pâques | AG9: =AG8+1 -> 46512 | AH9: =TEXT(Y9,"jjj") -> ven | AI9: {=IFERROR(IF(AJ9='EDT HEBDO'!$I$3,"C", IF(AJ9='EDT HEBDO'!$I$1, INDEX('EDT HEBDO'!$B$7:$F$7,MATCH(AH9,LEFT('EDT HEBDO'!$B$1:$F$1,3),0)), IF(AJ9='EDT HEBDO'!$I$2, INDEX('EDT HEBDO'!$B$15:$F$15,MATCH(AH9,LEFT('EDT HEBDO'!$B$1:$F$1,3),0)), INDEX(INFOS!$AA$3:$AA$15,MATCH(AG9,INFOS!$AB$3:$AB$15,0))))),"")} | AK9: =AK8+1 -> 46543 | AL9: =TEXT(Y9,"jjj") -> ven | AM9: {=IFERROR(IF(AN9='EDT HEBDO'!$I$3,"C", IF(AN9='EDT HEBDO'!$I$1, INDEX('EDT HEBDO'!$B$7:$F$7,MATCH(AL9,LEFT('EDT HEBDO'!$B$1:$F$1,3),0)), IF(AN9='EDT HEBDO'!$I$2, INDEX('EDT HEBDO'!$B$15:$F$15,MATCH(AL9,LEFT('EDT HEBDO'!$B$1:$F$1,3),0)), INDEX(INFOS!$AA$3:$AA$15,MATCH(AK9,INFOS!$AB$3:$AB$15,0))))),"")} | AO9: =AO8+1 -> 46573 | AP9: =TEXT(Y9,"jjj") -> ven | AQ9: {=IFERROR(IF(AR9='EDT HEBDO'!$I$3,"C", IF(AR9='EDT HEBDO'!$I$1, INDEX('EDT HEBDO'!$B$7:$F$7,MATCH(AP9,LEFT('EDT HEBDO'!$B$1:$F$1,3),0)), IF(AR9='EDT HEBDO'!$I$2, INDEX('EDT HEBDO'!$B$15:$F$15,MATCH(AP9,LEFT('EDT HEBDO'!$B$1:$F$1,3),0)), INDEX(INFOS!$AA$3:$AA$15,MATCH(AO9,INFOS!$AB$3:$AB$15,0))))),"")} | AS9: =AS8+1 -> 46604 | AT9: =TEXT(Y9,"jjj") -> ven | AU9: {=IFERROR(IF(AV9='EDT HEBDO'!$I$3,"C", IF(AV9='EDT HEBDO'!$I$1, INDEX('EDT HEBDO'!$B$7:$F$7,MATCH(AT9,LEFT('EDT HEBDO'!$B$1:$F$1,3),0)), IF(AV9='EDT HEBDO'!$I$2, INDEX('EDT HEBDO'!$B$15:$F$15,MATCH(AT9,LEFT('EDT HEBDO'!$B$1:$F$1,3),0)), INDEX(INFOS!$AA$3:$AA$15,MATCH(AS9,INFOS!$AB$3:$AB$15,0))))),"")}
A10: =A9+1 -> 46271 | B10: =TEXT(A10,"jjj") -> dim | C10: {=IFERROR(IF(D10='EDT HEBDO'!$I$3,"C", IF(D10='EDT HEBDO'!$I$1, INDEX('EDT HEBDO'!$B$7:$F$7,MATCH(B10,LEFT('EDT HEBDO'!$B$1:$F$1,3),0)), IF(D10='EDT HEBDO'!$I$2, INDEX('EDT HEBDO'!$B$15:$F$15,MATCH(B10,LEFT('EDT HEBDO'!$B$1:$F$1,3),0)), INDEX(INFOS!$X$2:$X$14,MATCH(A10,INFOS!$W$2:$W$14,0))))),"")} | E10: =E9+1 -> 46301 | F10: =TEXT(E10,"jjj") -> mar | G10: {=IFERROR(IF(H10='EDT HEBDO'!$I$3,"C", IF(H10='EDT HEBDO'!$I$1, INDEX('EDT HEBDO'!$B$7:$F$7,MATCH(F10,LEFT('EDT HEBDO'!$B$1:$F$1,3),0)), IF(H10='EDT HEBDO'!$I$2, INDEX('EDT HEBDO'!$B$15:$F$15,MATCH(F10,LEFT('EDT HEBDO'!$B$1:$F$1,3),0)), INDEX(INFOS!$X$2:$X$14,MATCH(E10,INFOS!$W$2:$W$14,0))))),"")} -> 0.37847222 | H10: PS | I10: =I9+1 -> 46332 | J10: =TEXT(I10,"jjj") -> ven | K10: {=IFERROR(IF(L10='EDT HEBDO'!$I$3,"C", IF(L10='EDT HEBDO'!$I$1, INDEX('EDT HEBDO'!$B$7:$F$7,MATCH(J10,LEFT('EDT HEBDO'!$B$1:$F$1,3),0)), IF(L10='EDT HEBDO'!$I$2, INDEX('EDT HEBDO'!$B$15:$F$15,MATCH(J10,LEFT('EDT HEBDO'!$B$1:$F$1,3),0)), INDEX(INFOS!$X$3:$X$15,MATCH(I10,INFOS!$Y$3:$Y$15,0))))),"")} -> 0.37847222 | L10: PS | M10: =M9+1 -> 46362 | N10: =TEXT(M10,"jjj") -> dim | O10: {=IFERROR(IF(P10='EDT HEBDO'!$I$3,"C", IF(P10='EDT HEBDO'!$I$1, INDEX('EDT HEBDO'!$B$7:$F$7,MATCH(N10,LEFT('EDT HEBDO'!$B$1:$F$1,3),0)), IF(P10='EDT HEBDO'!$I$2, INDEX('EDT HEBDO'!$B$15:$F$15,MATCH(N10,LEFT('EDT HEBDO'!$B$1:$F$1,3),0)), INDEX(INFOS!$X$2:$X$14,MATCH(M10,INFOS!$W$2:$W$14,0))))),"")} | Q10: =Q9+1 -> 46393 | R10: =TEXT(Q10,"jjj") -> mer | S10: {=IFERROR(IF(T10='EDT HEBDO'!$I$3,"C", IF(T10='EDT HEBDO'!$I$1, INDEX('EDT HEBDO'!$B$7:$F$7,MATCH(R10,LEFT('EDT HEBDO'!$B$1:$F$1,3),0)), IF(T10='EDT HEBDO'!$I$2, INDEX('EDT HEBDO'!$B$15:$F$15,MATCH(R10,LEFT('EDT HEBDO'!$B$1:$F$1,3),0)), INDEX(INFOS!$AA$3:$AA$15,MATCH(Q10,INFOS!$AB$3:$AB$15,0))))),"")} -> 0.16666667 | T10: PS | U10: =U9+1 -> 46424 | V10: =TEXT(U10,"jjj") -> sam | W10: {=IFERROR(IF(X10='EDT HEBDO'!$I$3,"C", IF(X10='EDT HEBDO'!$I$1, INDEX('EDT HEBDO'!$B$7:$F$7,MATCH(V10,LEFT('EDT HEBDO'!$B$1:$F$1,3),0)), IF(X10='EDT HEBDO'!$I$2, INDEX('EDT HEBDO'!$B$15:$F$15,MATCH(V10,LEFT('EDT HEBDO'!$B$1:$F$1,3),0)), INDEX(INFOS!$AA$3:$AA$15,MATCH(U10,INFOS!$AB$3:$AB$15,0))))),"")} | Y10: =Y9+1 -> 46452 | Z10: =TEXT(Y10,"jjj") -> sam | AA10: {=IFERROR(IF(AB10='EDT HEBDO'!$I$3,"C", IF(AB10='EDT HEBDO'!$I$1, INDEX('EDT HEBDO'!$B$7:$F$7,MATCH(Z10,LEFT('EDT HEBDO'!$B$1:$F$1,3),0)), IF(AB10='EDT HEBDO'!$I$2, INDEX('EDT HEBDO'!$B$15:$F$15,MATCH(Z10,LEFT('EDT HEBDO'!$B$1:$F$1,3),0)), INDEX(INFOS!$AA$3:$AA$15,MATCH(Y10,INFOS!$AB$3:$AB$15,0))))),"")} | AC10: =AC9+1 -> 46483 | AD10: =TEXT(Y10,"jjj") -> sam | AE10: {=IFERROR(IF(AF10='EDT HEBDO'!$I$3,"C", IF(AF10='EDT HEBDO'!$I$1, INDEX('EDT HEBDO'!$B$7:$F$7,MATCH(AD10,LEFT('EDT HEBDO'!$B$1:$F$1,3),0)), IF(AF10='EDT HEBDO'!$I$2, INDEX('EDT HEBDO'!$B$15:$F$15,MATCH(AD10,LEFT('EDT HEBDO'!$B$1:$F$1,3),0)), INDEX(INFOS!$AA$3:$AA$15,MATCH(AC10,INFOS!$AB$3:$AB$15,0))))),"")} | AG10: =AG9+1 -> 46513 | AH10: =TEXT(Y10,"jjj") -> sam | AI10: {=IFERROR(IF(AJ10='EDT HEBDO'!$I$3,"C", IF(AJ10='EDT HEBDO'!$I$1, INDEX('EDT HEBDO'!$B$7:$F$7,MATCH(AH10,LEFT('EDT HEBDO'!$B$1:$F$1,3),0)), IF(AJ10='EDT HEBDO'!$I$2, INDEX('EDT HEBDO'!$B$15:$F$15,MATCH(AH10,LEFT('EDT HEBDO'!$B$1:$F$1,3),0)), INDEX(INFOS!$AA$3:$AA$15,MATCH(AG10,INFOS!$AB$3:$AB$15,0))))),"")} | AK10: =AK9+1 -> 46544 | AL10: =TEXT(Y10,"jjj") -> sam | AM10: {=IFERROR(IF(AN10='EDT HEBDO'!$I$3,"C", IF(AN10='EDT HEBDO'!$I$1, INDEX('EDT HEBDO'!$B$7:$F$7,MATCH(AL10,LEFT('EDT HEBDO'!$B$1:$F$1,3),0)), IF(AN10='EDT HEBDO'!$I$2, INDEX('EDT HEBDO'!$B$15:$F$15,MATCH(AL10,LEFT('EDT HEBDO'!$B$1:$F$1,3),0)), INDEX(INFOS!$AA$3:$AA$15,MATCH(AK10,INFOS!$AB$3:$AB$15,0))))),"")} | AO10: =AO9+1 -> 46574 | AP10: =TEXT(Y10,"jjj") -> sam | AQ10: {=IFERROR(IF(AR10='EDT HEBDO'!$I$3,"C", IF(AR10='EDT HEBDO'!$I$1, INDEX('EDT HEBDO'!$B$7:$F$7,MATCH(AP10,LEFT('EDT HEBDO'!$B$1:$F$1,3),0)), IF(AR10='EDT HEBDO'!$I$2, INDEX('EDT HEBDO'!$B$15:$F$15,MATCH(AP10,LEFT('EDT HEBDO'!$B$1:$F$1,3),0)), INDEX(INFOS!$AA$3:$AA$15,MATCH(AO10,INFOS!$AB$3:$AB$15,0))))),"")} | AS10: =AS9+1 -> 46605 | AT10: =TEXT(Y10,"jjj") -> sam | AU10: {=IFERROR(IF(AV10='EDT HEBDO'!$I$3,"C", IF(AV10='EDT HEBDO'!$I$1, INDEX('EDT HEBDO'!$B$7:$F$7,MATCH(AT10,LEFT('EDT HEBDO'!$B$1:$F$1,3),0)), IF(AV10='EDT HEBDO'!$I$2, INDEX('EDT HEBDO'!$B$15:$F$15,MATCH(AT10,LEFT('EDT HEBDO'!$B$1:$F$1,3),0)), INDEX(INFOS!$AA$3:$AA$15,MATCH(AS10,INFOS!$AB$3:$AB$15,0))))),"")}
A11: =A10+1 -> 46272 | B11: =TEXT(A11,"jjj") -> lun | C11: {=IFERROR(IF(D11='EDT HEBDO'!$I$3,"C", IF(D11='EDT HEBDO'!$I$1, INDEX('EDT HEBDO'!$B$7:$F$7,MATCH(B11,LEFT('EDT HEBDO'!$B$1:$F$1,3),0)), IF(D11='EDT HEBDO'!$I$2, INDEX('EDT HEBDO'!$B$15:$F$15,MATCH(B11,LEFT('EDT HEBDO'!$B$1:$F$1,3),0)), INDEX(INFOS!$X$2:$X$14,MATCH(A11,INFOS!$W$2:$W$14,0))))),"")} -> 0.37847222 | D11: PS | E11: =E10+1 -> 46302 | F11: =TEXT(E11,"jjj") -> mer | G11: {=IFERROR(IF(H11='EDT HEBDO'!$I$3,"C", IF(H11='EDT HEBDO'!$I$1, INDEX('EDT HEBDO'!$B$7:$F$7,MATCH(F11,LEFT('EDT HEBDO'!$B$1:$F$1,3),0)), IF(H11='EDT HEBDO'!$I$2, INDEX('EDT HEBDO'!$B$15:$F$15,MATCH(F11,LEFT('EDT HEBDO'!$B$1:$F$1,3),0)), INDEX(INFOS!$X$2:$X$14,MATCH(E11,INFOS!$W$2:$W$14,0))))),"")} -> 0.16666667 | H11: PS | I11: =I10+1 -> 46333 | J11: =TEXT(I11,"jjj") -> sam | K11: {=IFERROR(IF(L11='EDT HEBDO'!$I$3,"C", IF(L11='EDT HEBDO'!$I$1, INDEX('EDT HEBDO'!$B$7:$F$7,MATCH(J11,LEFT('EDT HEBDO'!$B$1:$F$1,3),0)), IF(L11='EDT HEBDO'!$I$2, INDEX('EDT HEBDO'!$B$15:$F$15,MATCH(J11,LEFT('EDT HEBDO'!$B$1:$F$1,3),0)), INDEX(INFOS!$X$3:$X$15,MATCH(I11,INFOS!$Y$3:$Y$15,0))))),"")} | M11: =M10+1 -> 46363 | N11: =TEXT(M11,"jjj") -> lun | O11: {=IFERROR(IF(P11='EDT HEBDO'!$I$3,"C", IF(P11='EDT HEBDO'!$I$1, INDEX('EDT HEBDO'!$B$7:$F$7,MATCH(N11,LEFT('EDT HEBDO'!$B$1:$F$1,3),0)), IF(P11='EDT HEBDO'!$I$2, INDEX('EDT HEBDO'!$B$15:$F$15,MATCH(N11,LEFT('EDT HEBDO'!$B$1:$F$1,3),0)), INDEX(INFOS!$X$2:$X$14,MATCH(M11,INFOS!$W$2:$W$14,0))))),"")} -> 0.37847222 | P11: PS | Q11: =Q10+1 -> 46394 | R11: =TEXT(Q11,"jjj") -> jeu | S11: {=IFERROR(IF(T11='EDT HEBDO'!$I$3,"C", IF(T11='EDT HEBDO'!$I$1, INDEX('EDT HEBDO'!$B$7:$F$7,MATCH(R11,LEFT('EDT HEBDO'!$B$1:$F$1,3),0)), IF(T11='EDT HEBDO'!$I$2, INDEX('EDT HEBDO'!$B$15:$F$15,MATCH(R11,LEFT('EDT HEBDO'!$B$1:$F$1,3),0)), INDEX(INFOS!$AA$3:$AA$15,MATCH(Q11,INFOS!$AB$3:$AB$15,0))))),"")} -> 0.37847222 | T11: PS | U11: =U10+1 -> 46425 | V11: =TEXT(U11,"jjj") -> dim | W11: {=IFERROR(IF(X11='EDT HEBDO'!$I$3,"C", IF(X11='EDT HEBDO'!$I$1, INDEX('EDT HEBDO'!$B$7:$F$7,MATCH(V11,LEFT('EDT HEBDO'!$B$1:$F$1,3),0)), IF(X11='EDT HEBDO'!$I$2, INDEX('EDT HEBDO'!$B$15:$F$15,MATCH(V11,LEFT('EDT HEBDO'!$B$1:$F$1,3),0)), INDEX(INFOS!$AA$3:$AA$15,MATCH(U11,INFOS!$AB$3:$AB$15,0))))),"")} | Y11: =Y10+1 -> 46453 | Z11: =TEXT(Y11,"jjj") -> dim | AA11: {=IFERROR(IF(AB11='EDT HEBDO'!$I$3,"C", IF(AB11='EDT HEBDO'!$I$1, INDEX('EDT HEBDO'!$B$7:$F$7,MATCH(Z11,LEFT('EDT HEBDO'!$B$1:$F$1,3),0)), IF(AB11='EDT HEBDO'!$I$2, INDEX('EDT HEBDO'!$B$15:$F$15,MATCH(Z11,LEFT('EDT HEBDO'!$B$1:$F$1,3),0)), INDEX(INFOS!$AA$3:$AA$15,MATCH(Y11,INFOS!$AB$3:$AB$15,0))))),"")} | AC11: =AC10+1 -> 46484 | AD11: =TEXT(Y11,"jjj") -> dim | AE11: {=IFERROR(IF(AF11='EDT HEBDO'!$I$3,"C", IF(AF11='EDT HEBDO'!$I$1, INDEX('EDT HEBDO'!$B$7:$F$7,MATCH(AD11,LEFT('EDT HEBDO'!$B$1:$F$1,3),0)), IF(AF11='EDT HEBDO'!$I$2, INDEX('EDT HEBDO'!$B$15:$F$15,MATCH(AD11,LEFT('EDT HEBDO'!$B$1:$F$1,3),0)), INDEX(INFOS!$AA$3:$AA$15,MATCH(AC11,INFOS!$AB$3:$AB$15,0))))),"")} | AG11: =AG10+1 -> 46514 | AH11: =TEXT(Y11,"jjj") -> dim | AI11: {=IFERROR(IF(AJ11='EDT HEBDO'!$I$3,"C", IF(AJ11='EDT HEBDO'!$I$1, INDEX('EDT HEBDO'!$B$7:$F$7,MATCH(AH11,LEFT('EDT HEBDO'!$B$1:$F$1,3),0)), IF(AJ11='EDT HEBDO'!$I$2, INDEX('EDT HEBDO'!$B$15:$F$15,MATCH(AH11,LEFT('EDT HEBDO'!$B$1:$F$1,3),0)), INDEX(INFOS!$AA$3:$AA$15,MATCH(AG11,INFOS!$AB$3:$AB$15,0))))),"")} | AK11: =AK10+1 -> 46545 | AL11: =TEXT(Y11,"jjj") -> dim | AM11: {=IFERROR(IF(AN11='EDT HEBDO'!$I$3,"C", IF(AN11='EDT HEBDO'!$I$1, INDEX('EDT HEBDO'!$B$7:$F$7,MATCH(AL11,LEFT('EDT HEBDO'!$B$1:$F$1,3),0)), IF(AN11='EDT HEBDO'!$I$2, INDEX('EDT HEBDO'!$B$15:$F$15,MATCH(AL11,LEFT('EDT HEBDO'!$B$1:$F$1,3),0)), INDEX(INFOS!$AA$3:$AA$15,MATCH(AK11,INFOS!$AB$3:$AB$15,0))))),"")} | AO11: =AO10+1 -> 46575 | AP11: =TEXT(Y11,"jjj") -> dim | AQ11: {=IFERROR(IF(AR11='EDT HEBDO'!$I$3,"C", IF(AR11='EDT HEBDO'!$I$1, INDEX('EDT HEBDO'!$B$7:$F$7,MATCH(AP11,LEFT('EDT HEBDO'!$B$1:$F$1,3),0)), IF(AR11='EDT HEBDO'!$I$2, INDEX('EDT HEBDO'!$B$15:$F$15,MATCH(AP11,LEFT('EDT HEBDO'!$B$1:$F$1,3),0)), INDEX(INFOS!$AA$3:$AA$15,MATCH(AO11,INFOS!$AB$3:$AB$15,0))))),"")} | AS11: =AS10+1 -> 46606 | AT11: =TEXT(Y11,"jjj") -> dim | AU11: {=IFERROR(IF(AV11='EDT HEBDO'!$I$3,"C", IF(AV11='EDT HEBDO'!$I$1, INDEX('EDT HEBDO'!$B$7:$F$7,MATCH(AT11,LEFT('EDT HEBDO'!$B$1:$F$1,3),0)), IF(AV11='EDT HEBDO'!$I$2, INDEX('EDT HEBDO'!$B$15:$F$15,MATCH(AT11,LEFT('EDT HEBDO'!$B$1:$F$1,3),0)), INDEX(INFOS!$AA$3:$AA$15,MATCH(AS11,INFOS!$AB$3:$AB$15,0))))),"")}
A12: =A11+1 -> 46273 | B12: =TEXT(A12,"jjj") -> mar | C12: {=IFERROR(IF(D12='EDT HEBDO'!$I$3,"C", IF(D12='EDT HEBDO'!$I$1, INDEX('EDT HEBDO'!$B$7:$F$7,MATCH(B12,LEFT('EDT HEBDO'!$B$1:$F$1,3),0)), IF(D12='EDT HEBDO'!$I$2, INDEX('EDT HEBDO'!$B$15:$F$15,MATCH(B12,LEFT('EDT HEBDO'!$B$1:$F$1,3),0)), INDEX(INFOS!$X$2:$X$14,MATCH(A12,INFOS!$W$2:$W$14,0))))),"")} -> 0.37847222 | D12: PS | E12: =E11+1 -> 46303 | F12: =TEXT(E12,"jjj") -> jeu | G12: {=IFERROR(IF(H12='EDT HEBDO'!$I$3,"C", IF(H12='EDT HEBDO'!$I$1, INDEX('EDT HEBDO'!$B$7:$F$7,MATCH(F12,LEFT('EDT HEBDO'!$B$1:$F$1,3),0)), IF(H12='EDT HEBDO'!$I$2, INDEX('EDT HEBDO'!$B$15:$F$15,MATCH(F12,LEFT('EDT HEBDO'!$B$1:$F$1,3),0)), INDEX(INFOS!$X$2:$X$14,MATCH(E12,INFOS!$W$2:$W$14,0))))),"")} -> 0.37847222 | H12: PS | I12: =I11+1 -> 46334 | J12: =TEXT(I12,"jjj") -> dim | K12: {=IFERROR(IF(L12='EDT HEBDO'!$I$3,"C", IF(L12='EDT HEBDO'!$I$1, INDEX('EDT HEBDO'!$B$7:$F$7,MATCH(J12,LEFT('EDT HEBDO'!$B$1:$F$1,3),0)), IF(L12='EDT HEBDO'!$I$2, INDEX('EDT HEBDO'!$B$15:$F$15,MATCH(J12,LEFT('EDT HEBDO'!$B$1:$F$1,3),0)), INDEX(INFOS!$X$3:$X$15,MATCH(I12,INFOS!$Y$3:$Y$15,0))))),"")} | M12: =M11+1 -> 46364 | N12: =TEXT(M12,"jjj") -> mar | O12: {=IFERROR(IF(P12='EDT HEBDO'!$I$3,"C", IF(P12='EDT HEBDO'!$I$1, INDEX('EDT HEBDO'!$B$7:$F$7,MATCH(N12,LEFT('EDT HEBDO'!$B$1:$F$1,3),0)), IF(P12='EDT HEBDO'!$I$2, INDEX('EDT HEBDO'!$B$15:$F$15,MATCH(N12,LEFT('EDT HEBDO'!$B$1:$F$1,3),0)), INDEX(INFOS!$X$2:$X$14,MATCH(M12,INFOS!$W$2:$W$14,0))))),"")} -> 0.37847222 | P12: PS | Q12: =Q11+1 -> 46395 | R12: =TEXT(Q12,"jjj") -> ven | S12: {=IFERROR(IF(T12='EDT HEBDO'!$I$3,"C", IF(T12='EDT HEBDO'!$I$1, INDEX('EDT HEBDO'!$B$7:$F$7,MATCH(R12,LEFT('EDT HEBDO'!$B$1:$F$1,3),0)), IF(T12='EDT HEBDO'!$I$2, INDEX('EDT HEBDO'!$B$15:$F$15,MATCH(R12,LEFT('EDT HEBDO'!$B$1:$F$1,3),0)), INDEX(INFOS!$AA$3:$AA$15,MATCH(Q12,INFOS!$AB$3:$AB$15,0))))),"")} -> 0.37847222 | T12: PS | U12: =U11+1 -> 46426 | V12: =TEXT(U12,"jjj") -> lun | W12: {=IFERROR(IF(X12='EDT HEBDO'!$I$3,"C", IF(X12='EDT HEBDO'!$I$1, INDEX('EDT HEBDO'!$B$7:$F$7,MATCH(V12,LEFT('EDT HEBDO'!$B$1:$F$1,3),0)), IF(X12='EDT HEBDO'!$I$2, INDEX('EDT HEBDO'!$B$15:$F$15,MATCH(V12,LEFT('EDT HEBDO'!$B$1:$F$1,3),0)), INDEX(INFOS!$AA$3:$AA$15,MATCH(U12,INFOS!$AB$3:$AB$15,0))))),"")} -> 0.37847222 | X12: PS | Y12: =Y11+1 -> 46454 | Z12: =TEXT(Y12,"jjj") -> lun | AA12: {=IFERROR(IF(AB12='EDT HEBDO'!$I$3,"C", IF(AB12='EDT HEBDO'!$I$1, INDEX('EDT HEBDO'!$B$7:$F$7,MATCH(Z12,LEFT('EDT HEBDO'!$B$1:$F$1,3),0)), IF(AB12='EDT HEBDO'!$I$2, INDEX('EDT HEBDO'!$B$15:$F$15,MATCH(Z12,LEFT('EDT HEBDO'!$B$1:$F$1,3),0)), INDEX(INFOS!$AA$3:$AA$15,MATCH(Y12,INFOS!$AB$3:$AB$15,0))))),"")} -> 0.37847222 | AB12: PS | AC12: =AC11+1 -> 46485 | AD12: =TEXT(Y12,"jjj") -> lun | AE12: {=IFERROR(IF(AF12='EDT HEBDO'!$I$3,"C", IF(AF12='EDT HEBDO'!$I$1, INDEX('EDT HEBDO'!$B$7:$F$7,MATCH(AD12,LEFT('EDT HEBDO'!$B$1:$F$1,3),0)), IF(AF12='EDT HEBDO'!$I$2, INDEX('EDT HEBDO'!$B$15:$F$15,MATCH(AD12,LEFT('EDT HEBDO'!$B$1:$F$1,3),0)), INDEX(INFOS!$AA$3:$AA$15,MATCH(AC12,INFOS!$AB$3:$AB$15,0))))),"")} | AG12: =AG11+1 -> 46515 | AH12: =TEXT(Y12,"jjj") -> lun | AI12: {=IFERROR(IF(AJ12='EDT HEBDO'!$I$3,"C", IF(AJ12='EDT HEBDO'!$I$1, INDEX('EDT HEBDO'!$B$7:$F$7,MATCH(AH12,LEFT('EDT HEBDO'!$B$1:$F$1,3),0)), IF(AJ12='EDT HEBDO'!$I$2, INDEX('EDT HEBDO'!$B$15:$F$15,MATCH(AH12,LEFT('EDT HEBDO'!$B$1:$F$1,3),0)), INDEX(INFOS!$AA$3:$AA$15,MATCH(AG12,INFOS!$AB$3:$AB$15,0))))),"")} -> Victoire 1945 | AK12: =AK11+1 -> 46546 | AL12: =TEXT(Y12,"jjj") -> lun | AM12: {=IFERROR(IF(AN12='EDT HEBDO'!$I$3,"C", IF(AN12='EDT HEBDO'!$I$1, INDEX('EDT HEBDO'!$B$7:$F$7,MATCH(AL12,LEFT('EDT HEBDO'!$B$1:$F$1,3),0)), IF(AN12='EDT HEBDO'!$I$2, INDEX('EDT HEBDO'!$B$15:$F$15,MATCH(AL12,LEFT('EDT HEBDO'!$B$1:$F$1,3),0)), INDEX(INFOS!$AA$3:$AA$15,MATCH(AK12,INFOS!$AB$3:$AB$15,0))))),"")} | AO12: =AO11+1 -> 46576 | AP12: =TEXT(Y12,"jjj") -> lun | AQ12: {=IFERROR(IF(AR12='EDT HEBDO'!$I$3,"C", IF(AR12='EDT HEBDO'!$I$1, INDEX('EDT HEBDO'!$B$7:$F$7,MATCH(AP12,LEFT('EDT HEBDO'!$B$1:$F$1,3),0)), IF(AR12='EDT HEBDO'!$I$2, INDEX('EDT HEBDO'!$B$15:$F$15,MATCH(AP12,LEFT('EDT HEBDO'!$B$1:$F$1,3),0)), INDEX(INFOS!$AA$3:$AA$15,MATCH(AO12,INFOS!$AB$3:$AB$15,0))))),"")} | AS12: =AS11+1 -> 46607 | AT12: =TEXT(Y12,"jjj") -> lun | AU12: {=IFERROR(IF(AV12='EDT HEBDO'!$I$3,"C", IF(AV12='EDT HEBDO'!$I$1, INDEX('EDT HEBDO'!$B$7:$F$7,MATCH(AT12,LEFT('EDT HEBDO'!$B$1:$F$1,3),0)), IF(AV12='EDT HEBDO'!$I$2, INDEX('EDT HEBDO'!$B$15:$F$15,MATCH(AT12,LEFT('EDT HEBDO'!$B$1:$F$1,3),0)), INDEX(INFOS!$AA$3:$AA$15,MATCH(AS12,INFOS!$AB$3:$AB$15,0))))),"")}
A13: =A12+1 -> 46274 | B13: =TEXT(A13,"jjj") -> mer | C13: {=IFERROR(IF(D13='EDT HEBDO'!$I$3,"C", IF(D13='EDT HEBDO'!$I$1, INDEX('EDT HEBDO'!$B$7:$F$7,MATCH(B13,LEFT('EDT HEBDO'!$B$1:$F$1,3),0)), IF(D13='EDT HEBDO'!$I$2, INDEX('EDT HEBDO'!$B$15:$F$15,MATCH(B13,LEFT('EDT HEBDO'!$B$1:$F$1,3),0)), INDEX(INFOS!$X$2:$X$14,MATCH(A13,INFOS!$W$2:$W$14,0))))),"")} -> 0.16666667 | D13: PS | E13: =E12+1 -> 46304 | F13: =TEXT(E13,"jjj") -> ven | G13: {=IFERROR(IF(H13='EDT HEBDO'!$I$3,"C", IF(H13='EDT HEBDO'!$I$1, INDEX('EDT HEBDO'!$B$7:$F$7,MATCH(F13,LEFT('EDT HEBDO'!$B$1:$F$1,3),0)), IF(H13='EDT HEBDO'!$I$2, INDEX('EDT HEBDO'!$B$15:$F$15,MATCH(F13,LEFT('EDT HEBDO'!$B$1:$F$1,3),0)), INDEX(INFOS!$X$2:$X$14,MATCH(E13,INFOS!$W$2:$W$14,0))))),"")} -> 0.37847222 | H13: PS | I13: =I12+1 -> 46335 | J13: =TEXT(I13,"jjj") -> lun | K13: {=IFERROR(IF(L13='EDT HEBDO'!$I$3,"C", IF(L13='EDT HEBDO'!$I$1, INDEX('EDT HEBDO'!$B$7:$F$7,MATCH(J13,LEFT('EDT HEBDO'!$B$1:$F$1,3),0)), IF(L13='EDT HEBDO'!$I$2, INDEX('EDT HEBDO'!$B$15:$F$15,MATCH(J13,LEFT('EDT HEBDO'!$B$1:$F$1,3),0)), INDEX(INFOS!$X$3:$X$15,MATCH(I13,INFOS!$Y$3:$Y$15,0))))),"")} -> 0.37847222 | L13: PS | M13: =M12+1 -> 46365 | N13: =TEXT(M13,"jjj") -> mer | O13: {=IFERROR(IF(P13='EDT HEBDO'!$I$3,"C", IF(P13='EDT HEBDO'!$I$1, INDEX('EDT HEBDO'!$B$7:$F$7,MATCH(N13,LEFT('EDT HEBDO'!$B$1:$F$1,3),0)), IF(P13='EDT HEBDO'!$I$2, INDEX('EDT HEBDO'!$B$15:$F$15,MATCH(N13,LEFT('EDT HEBDO'!$B$1:$F$1,3),0)), INDEX(INFOS!$X$2:$X$14,MATCH(M13,INFOS!$W$2:$W$14,0))))),"")} -> 0.16666667 | P13: PS | Q13: =Q12+1 -> 46396 | R13: =TEXT(Q13,"jjj") -> sam | S13: {=IFERROR(IF(T13='EDT HEBDO'!$I$3,"C", IF(T13='EDT HEBDO'!$I$1, INDEX('EDT HEBDO'!$B$7:$F$7,MATCH(R13,LEFT('EDT HEBDO'!$B$1:$F$1,3),0)), IF(T13='EDT HEBDO'!$I$2, INDEX('EDT HEBDO'!$B$15:$F$15,MATCH(R13,LEFT('EDT HEBDO'!$B$1:$F$1,3),0)), INDEX(INFOS!$AA$3:$AA$15,MATCH(Q13,INFOS!$AB$3:$AB$15,0))))),"")} | U13: =U12+1 -> 46427 | V13: =TEXT(U13,"jjj") -> mar | W13: {=IFERROR(IF(X13='EDT HEBDO'!$I$3,"C", IF(X13='EDT HEBDO'!$I$1, INDEX('EDT HEBDO'!$B$7:$F$7,MATCH(V13,LEFT('EDT HEBDO'!$B$1:$F$1,3),0)), IF(X13='EDT HEBDO'!$I$2, INDEX('EDT HEBDO'!$B$15:$F$15,MATCH(V13,LEFT('EDT HEBDO'!$B$1:$F$1,3),0)), INDEX(INFOS!$AA$3:$AA$15,MATCH(U13,INFOS!$AB$3:$AB$15,0))))),"")} -> 0.37847222 | X13: PS | Y13: =Y12+1 -> 46455 | Z13: =TEXT(Y13,"jjj") -> mar | AA13: {=IFERROR(IF(AB13='EDT HEBDO'!$I$3,"C", IF(AB13='EDT HEBDO'!$I$1, INDEX('EDT HEBDO'!$B$7:$F$7,MATCH(Z13,LEFT('EDT HEBDO'!$B$1:$F$1,3),0)), IF(AB13='EDT HEBDO'!$I$2, INDEX('EDT HEBDO'!$B$15:$F$15,MATCH(Z13,LEFT('EDT HEBDO'!$B$1:$F$1,3),0)), INDEX(INFOS!$AA$3:$AA$15,MATCH(Y13,INFOS!$AB$3:$AB$15,0))))),"")} -> 0.37847222 | AB13: PS | AC13: =AC12+1 -> 46486 | AD13: =TEXT(Y13,"jjj") -> mar | AE13: {=IFERROR(IF(AF13='EDT HEBDO'!$I$3,"C", IF(AF13='EDT HEBDO'!$I$1, INDEX('EDT HEBDO'!$B$7:$F$7,MATCH(AD13,LEFT('EDT HEBDO'!$B$1:$F$1,3),0)), IF(AF13='EDT HEBDO'!$I$2, INDEX('EDT HEBDO'!$B$15:$F$15,MATCH(AD13,LEFT('EDT HEBDO'!$B$1:$F$1,3),0)), INDEX(INFOS!$AA$3:$AA$15,MATCH(AC13,INFOS!$AB$3:$AB$15,0))))),"")} | AG13: =AG12+1 -> 46516 | AH13: =TEXT(Y13,"jjj") -> mar | AI13: {=IFERROR(IF(AJ13='EDT HEBDO'!$I$3,"C", IF(AJ13='EDT HEBDO'!$I$1, INDEX('EDT HEBDO'!$B$7:$F$7,MATCH(AH13,LEFT('EDT HEBDO'!$B$1:$F$1,3),0)), IF(AJ13='EDT HEBDO'!$I$2, INDEX('EDT HEBDO'!$B$15:$F$15,MATCH(AH13,LEFT('EDT HEBDO'!$B$1:$F$1,3),0)), INDEX(INFOS!$AA$3:$AA$15,MATCH(AG13,INFOS!$AB$3:$AB$15,0))))),"")} | AK13: =AK12+1 -> 46547 | AL13: =TEXT(Y13,"jjj") -> mar | AM13: {=IFERROR(IF(AN13='EDT HEBDO'!$I$3,"C", IF(AN13='EDT HEBDO'!$I$1, INDEX('EDT HEBDO'!$B$7:$F$7,MATCH(AL13,LEFT('EDT HEBDO'!$B$1:$F$1,3),0)), IF(AN13='EDT HEBDO'!$I$2, INDEX('EDT HEBDO'!$B$15:$F$15,MATCH(AL13,LEFT('EDT HEBDO'!$B$1:$F$1,3),0)), INDEX(INFOS!$AA$3:$AA$15,MATCH(AK13,INFOS!$AB$3:$AB$15,0))))),"")} | AO13: =AO12+1 -> 46577 | AP13: =TEXT(Y13,"jjj") -> mar | AQ13: {=IFERROR(IF(AR13='EDT HEBDO'!$I$3,"C", IF(AR13='EDT HEBDO'!$I$1, INDEX('EDT HEBDO'!$B$7:$F$7,MATCH(AP13,LEFT('EDT HEBDO'!$B$1:$F$1,3),0)), IF(AR13='EDT HEBDO'!$I$2, INDEX('EDT HEBDO'!$B$15:$F$15,MATCH(AP13,LEFT('EDT HEBDO'!$B$1:$F$1,3),0)), INDEX(INFOS!$AA$3:$AA$15,MATCH(AO13,INFOS!$AB$3:$AB$15,0))))),"")} | AS13: =AS12+1 -> 46608 | AT13: =TEXT(Y13,"jjj") -> mar | AU13: {=IFERROR(IF(AV13='EDT HEBDO'!$I$3,"C", IF(AV13='EDT HEBDO'!$I$1, INDEX('EDT HEBDO'!$B$7:$F$7,MATCH(AT13,LEFT('EDT HEBDO'!$B$1:$F$1,3),0)), IF(AV13='EDT HEBDO'!$I$2, INDEX('EDT HEBDO'!$B$15:$F$15,MATCH(AT13,LEFT('EDT HEBDO'!$B$1:$F$1,3),0)), INDEX(INFOS!$AA$3:$AA$15,MATCH(AS13,INFOS!$AB$3:$AB$15,0))))),"")}
A14: =A13+1 -> 46275 | B14: =TEXT(A14,"jjj") -> jeu | C14: {=IFERROR(IF(D14='EDT HEBDO'!$I$3,"C", IF(D14='EDT HEBDO'!$I$1, INDEX('EDT HEBDO'!$B$7:$F$7,MATCH(B14,LEFT('EDT HEBDO'!$B$1:$F$1,3),0)), IF(D14='EDT HEBDO'!$I$2, INDEX('EDT HEBDO'!$B$15:$F$15,MATCH(B14,LEFT('EDT HEBDO'!$B$1:$F$1,3),0)), INDEX(INFOS!$X$2:$X$14,MATCH(A14,INFOS!$W$2:$W$14,0))))),"")} -> 0.37847222 | D14: PS | E14: =E13+1 -> 46305 | F14: =TEXT(E14,"jjj") -> sam | G14: {=IFERROR(IF(H14='EDT HEBDO'!$I$3,"C", IF(H14='EDT HEBDO'!$I$1, INDEX('EDT HEBDO'!$B$7:$F$7,MATCH(F14,LEFT('EDT HEBDO'!$B$1:$F$1,3),0)), IF(H14='EDT HEBDO'!$I$2, INDEX('EDT HEBDO'!$B$15:$F$15,MATCH(F14,LEFT('EDT HEBDO'!$B$1:$F$1,3),0)), INDEX(INFOS!$X$2:$X$14,MATCH(E14,INFOS!$W$2:$W$14,0))))),"")} | I14: =I13+1 -> 46336 | J14: =TEXT(I14,"jjj") -> mar | K14: {=IFERROR(IF(L14='EDT HEBDO'!$I$3,"C", IF(L14='EDT HEBDO'!$I$1, INDEX('EDT HEBDO'!$B$7:$F$7,MATCH(J14,LEFT('EDT HEBDO'!$B$1:$F$1,3),0)), IF(L14='EDT HEBDO'!$I$2, INDEX('EDT HEBDO'!$B$15:$F$15,MATCH(J14,LEFT('EDT HEBDO'!$B$1:$F$1,3),0)), INDEX(INFOS!$X$3:$X$15,MATCH(I14,INFOS!$Y$3:$Y$15,0))))),"")} -> 0.37847222 | L14: PS | M14: =M13+1 -> 46366 | N14: =TEXT(M14,"jjj") -> jeu | O14: {=IFERROR(IF(P14='EDT HEBDO'!$I$3,"C", IF(P14='EDT HEBDO'!$I$1, INDEX('EDT HEBDO'!$B$7:$F$7,MATCH(N14,LEFT('EDT HEBDO'!$B$1:$F$1,3),0)), IF(P14='EDT HEBDO'!$I$2, INDEX('EDT HEBDO'!$B$15:$F$15,MATCH(N14,LEFT('EDT HEBDO'!$B$1:$F$1,3),0)), INDEX(INFOS!$X$2:$X$14,MATCH(M14,INFOS!$W$2:$W$14,0))))),"")} -> 0.37847222 | P14: PS | Q14: =Q13+1 -> 46397 | R14: =TEXT(Q14,"jjj") -> dim | S14: {=IFERROR(IF(T14='EDT HEBDO'!$I$3,"C", IF(T14='EDT HEBDO'!$I$1, INDEX('EDT HEBDO'!$B$7:$F$7,MATCH(R14,LEFT('EDT HEBDO'!$B$1:$F$1,3),0)), IF(T14='EDT HEBDO'!$I$2, INDEX('EDT HEBDO'!$B$15:$F$15,MATCH(R14,LEFT('EDT HEBDO'!$B$1:$F$1,3),0)), INDEX(INFOS!$AA$3:$AA$15,MATCH(Q14,INFOS!$AB$3:$AB$15,0))))),"")} | U14: =U13+1 -> 46428 | V14: =TEXT(U14,"jjj") -> mer | W14: {=IFERROR(IF(X14='EDT HEBDO'!$I$3,"C", IF(X14='EDT HEBDO'!$I$1, INDEX('EDT HEBDO'!$B$7:$F$7,MATCH(V14,LEFT('EDT HEBDO'!$B$1:$F$1,3),0)), IF(X14='EDT HEBDO'!$I$2, INDEX('EDT HEBDO'!$B$15:$F$15,MATCH(V14,LEFT('EDT HEBDO'!$B$1:$F$1,3),0)), INDEX(INFOS!$AA$3:$AA$15,MATCH(U14,INFOS!$AB$3:$AB$15,0))))),"")} -> 0.16666667 | X14: PS | Y14: =Y13+1 -> 46456 | Z14: =TEXT(Y14,"jjj") -> mer | AA14: {=IFERROR(IF(AB14='EDT HEBDO'!$I$3,"C", IF(AB14='EDT HEBDO'!$I$1, INDEX('EDT HEBDO'!$B$7:$F$7,MATCH(Z14,LEFT('EDT HEBDO'!$B$1:$F$1,3),0)), IF(AB14='EDT HEBDO'!$I$2, INDEX('EDT HEBDO'!$B$15:$F$15,MATCH(Z14,LEFT('EDT HEBDO'!$B$1:$F$1,3),0)), INDEX(INFOS!$AA$3:$AA$15,MATCH(Y14,INFOS!$AB$3:$AB$15,0))))),"")} -> 0.16666667 | AB14: PS | AC14: =AC13+1 -> 46487 | AD14: =TEXT(Y14,"jjj") -> mer | AE14: {=IFERROR(IF(AF14='EDT HEBDO'!$I$3,"C", IF(AF14='EDT HEBDO'!$I$1, INDEX('EDT HEBDO'!$B$7:$F$7,MATCH(AD14,LEFT('EDT HEBDO'!$B$1:$F$1,3),0)), IF(AF14='EDT HEBDO'!$I$2, INDEX('EDT HEBDO'!$B$15:$F$15,MATCH(AD14,LEFT('EDT HEBDO'!$B$1:$F$1,3),0)), INDEX(INFOS!$AA$3:$AA$15,MATCH(AC14,INFOS!$AB$3:$AB$15,0))))),"")} | AG14: =AG13+1 -> 46517 | AH14: =TEXT(Y14,"jjj") -> mer | AI14: {=IFERROR(IF(AJ14='EDT HEBDO'!$I$3,"C", IF(AJ14='EDT HEBDO'!$I$1, INDEX('EDT HEBDO'!$B$7:$F$7,MATCH(AH14,LEFT('EDT HEBDO'!$B$1:$F$1,3),0)), IF(AJ14='EDT HEBDO'!$I$2, INDEX('EDT HEBDO'!$B$15:$F$15,MATCH(AH14,LEFT('EDT HEBDO'!$B$1:$F$1,3),0)), INDEX(INFOS!$AA$3:$AA$15,MATCH(AG14,INFOS!$AB$3:$AB$15,0))))),"")} | AK14: =AK13+1 -> 46548 | AL14: =TEXT(Y14,"jjj") -> mer | AM14: {=IFERROR(IF(AN14='EDT HEBDO'!$I$3,"C", IF(AN14='EDT HEBDO'!$I$1, INDEX('EDT HEBDO'!$B$7:$F$7,MATCH(AL14,LEFT('EDT HEBDO'!$B$1:$F$1,3),0)), IF(AN14='EDT HEBDO'!$I$2, INDEX('EDT HEBDO'!$B$15:$F$15,MATCH(AL14,LEFT('EDT HEBDO'!$B$1:$F$1,3),0)), INDEX(INFOS!$AA$3:$AA$15,MATCH(AK14,INFOS!$AB$3:$AB$15,0))))),"")} | AO14: =AO13+1 -> 46578 | AP14: =TEXT(Y14,"jjj") -> mer | AQ14: {=IFERROR(IF(AR14='EDT HEBDO'!$I$3,"C", IF(AR14='EDT HEBDO'!$I$1, INDEX('EDT HEBDO'!$B$7:$F$7,MATCH(AP14,LEFT('EDT HEBDO'!$B$1:$F$1,3),0)), IF(AR14='EDT HEBDO'!$I$2, INDEX('EDT HEBDO'!$B$15:$F$15,MATCH(AP14,LEFT('EDT HEBDO'!$B$1:$F$1,3),0)), INDEX(INFOS!$AA$3:$AA$15,MATCH(AO14,INFOS!$AB$3:$AB$15,0))))),"")} | AS14: =AS13+1 -> 46609 | AT14: =TEXT(Y14,"jjj") -> mer | AU14: {=IFERROR(IF(AV14='EDT HEBDO'!$I$3,"C", IF(AV14='EDT HEBDO'!$I$1, INDEX('EDT HEBDO'!$B$7:$F$7,MATCH(AT14,LEFT('EDT HEBDO'!$B$1:$F$1,3),0)), IF(AV14='EDT HEBDO'!$I$2, INDEX('EDT HEBDO'!$B$15:$F$15,MATCH(AT14,LEFT('EDT HEBDO'!$B$1:$F$1,3),0)), INDEX(INFOS!$AA$3:$AA$15,MATCH(AS14,INFOS!$AB$3:$AB$15,0))))),"")}
A15: =A14+1 -> 46276 | B15: =TEXT(A15,"jjj") -> ven | C15: {=IFERROR(IF(D15='EDT HEBDO'!$I$3,"C", IF(D15='EDT HEBDO'!$I$1, INDEX('EDT HEBDO'!$B$7:$F$7,MATCH(B15,LEFT('EDT HEBDO'!$B$1:$F$1,3),0)), IF(D15='EDT HEBDO'!$I$2, INDEX('EDT HEBDO'!$B$15:$F$15,MATCH(B15,LEFT('EDT HEBDO'!$B$1:$F$1,3),0)), INDEX(INFOS!$X$2:$X$14,MATCH(A15,INFOS!$W$2:$W$14,0))))),"")} -> 0.37847222 | D15: PS | E15: =E14+1 -> 46306 | F15: =TEXT(E15,"jjj") -> dim | G15: {=IFERROR(IF(H15='EDT HEBDO'!$I$3,"C", IF(H15='EDT HEBDO'!$I$1, INDEX('EDT HEBDO'!$B$7:$F$7,MATCH(F15,LEFT('EDT HEBDO'!$B$1:$F$1,3),0)), IF(H15='EDT HEBDO'!$I$2, INDEX('EDT HEBDO'!$B$15:$F$15,MATCH(F15,LEFT('EDT HEBDO'!$B$1:$F$1,3),0)), INDEX(INFOS!$X$2:$X$14,MATCH(E15,INFOS!$W$2:$W$14,0))))),"")} | I15: =I14+1 -> 46337 | J15: =TEXT(I15,"jjj") -> mer | K15: {=IFERROR(IF(L15='EDT HEBDO'!$I$3,"C", IF(L15='EDT HEBDO'!$I$1, INDEX('EDT HEBDO'!$B$7:$F$7,MATCH(J15,LEFT('EDT HEBDO'!$B$1:$F$1,3),0)), IF(L15='EDT HEBDO'!$I$2, INDEX('EDT HEBDO'!$B$15:$F$15,MATCH(J15,LEFT('EDT HEBDO'!$B$1:$F$1,3),0)), INDEX(INFOS!$X$3:$X$15,MATCH(I15,INFOS!$Y$3:$Y$15,0))))),"")} -> Armistice 1918 | M15: =M14+1 -> 46367 | N15: =TEXT(M15,"jjj") -> ven | O15: {=IFERROR(IF(P15='EDT HEBDO'!$I$3,"C", IF(P15='EDT HEBDO'!$I$1, INDEX('EDT HEBDO'!$B$7:$F$7,MATCH(N15,LEFT('EDT HEBDO'!$B$1:$F$1,3),0)), IF(P15='EDT HEBDO'!$I$2, INDEX('EDT HEBDO'!$B$15:$F$15,MATCH(N15,LEFT('EDT HEBDO'!$B$1:$F$1,3),0)), INDEX(INFOS!$X$2:$X$14,MATCH(M15,INFOS!$W$2:$W$14,0))))),"")} -> 0.37847222 | P15: PS | Q15: =Q14+1 -> 46398 | R15: =TEXT(Q15,"jjj") -> lun | S15: {=IFERROR(IF(T15='EDT HEBDO'!$I$3,"C", IF(T15='EDT HEBDO'!$I$1, INDEX('EDT HEBDO'!$B$7:$F$7,MATCH(R15,LEFT('EDT HEBDO'!$B$1:$F$1,3),0)), IF(T15='EDT HEBDO'!$I$2, INDEX('EDT HEBDO'!$B$15:$F$15,MATCH(R15,LEFT('EDT HEBDO'!$B$1:$F$1,3),0)), INDEX(INFOS!$AA$3:$AA$15,MATCH(Q15,INFOS!$AB$3:$AB$15,0))))),"")} -> 0.37847222 | T15: PS | U15: =U14+1 -> 46429 | V15: =TEXT(U15,"jjj") -> jeu | W15: {=IFERROR(IF(X15='EDT HEBDO'!$I$3,"C", IF(X15='EDT HEBDO'!$I$1, INDEX('EDT HEBDO'!$B$7:$F$7,MATCH(V15,LEFT('EDT HEBDO'!$B$1:$F$1,3),0)), IF(X15='EDT HEBDO'!$I$2, INDEX('EDT HEBDO'!$B$15:$F$15,MATCH(V15,LEFT('EDT HEBDO'!$B$1:$F$1,3),0)), INDEX(INFOS!$AA$3:$AA$15,MATCH(U15,INFOS!$AB$3:$AB$15,0))))),"")} -> 0.37847222 | X15: PS | Y15: =Y14+1 -> 46457 | Z15: =TEXT(Y15,"jjj") -> jeu | AA15: {=IFERROR(IF(AB15='EDT HEBDO'!$I$3,"C", IF(AB15='EDT HEBDO'!$I$1, INDEX('EDT HEBDO'!$B$7:$F$7,MATCH(Z15,LEFT('EDT HEBDO'!$B$1:$F$1,3),0)), IF(AB15='EDT HEBDO'!$I$2, INDEX('EDT HEBDO'!$B$15:$F$15,MATCH(Z15,LEFT('EDT HEBDO'!$B$1:$F$1,3),0)), INDEX(INFOS!$AA$3:$AA$15,MATCH(Y15,INFOS!$AB$3:$AB$15,0))))),"")} -> 0.37847222 | AB15: PS | AC15: =AC14+1 -> 46488 | AD15: =TEXT(Y15,"jjj") -> jeu | AE15: {=IFERROR(IF(AF15='EDT HEBDO'!$I$3,"C", IF(AF15='EDT HEBDO'!$I$1, INDEX('EDT HEBDO'!$B$7:$F$7,MATCH(AD15,LEFT('EDT HEBDO'!$B$1:$F$1,3),0)), IF(AF15='EDT HEBDO'!$I$2, INDEX('EDT HEBDO'!$B$15:$F$15,MATCH(AD15,LEFT('EDT HEBDO'!$B$1:$F$1,3),0)), INDEX(INFOS!$AA$3:$AA$15,MATCH(AC15,INFOS!$AB$3:$AB$15,0))))),"")} | AG15: =AG14+1 -> 46518 | AH15: =TEXT(Y15,"jjj") -> jeu | AI15: {=IFERROR(IF(AJ15='EDT HEBDO'!$I$3,"C", IF(AJ15='EDT HEBDO'!$I$1, INDEX('EDT HEBDO'!$B$7:$F$7,MATCH(AH15,LEFT('EDT HEBDO'!$B$1:$F$1,3),0)), IF(AJ15='EDT HEBDO'!$I$2, INDEX('EDT HEBDO'!$B$15:$F$15,MATCH(AH15,LEFT('EDT HEBDO'!$B$1:$F$1,3),0)), INDEX(INFOS!$AA$3:$AA$15,MATCH(AG15,INFOS!$AB$3:$AB$15,0))))),"")} | AK15: =AK14+1 -> 46549 | AL15: =TEXT(Y15,"jjj") -> jeu | AM15: {=IFERROR(IF(AN15='EDT HEBDO'!$I$3,"C", IF(AN15='EDT HEBDO'!$I$1, INDEX('EDT HEBDO'!$B$7:$F$7,MATCH(AL15,LEFT('EDT HEBDO'!$B$1:$F$1,3),0)), IF(AN15='EDT HEBDO'!$I$2, INDEX('EDT HEBDO'!$B$15:$F$15,MATCH(AL15,LEFT('EDT HEBDO'!$B$1:$F$1,3),0)), INDEX(INFOS!$AA$3:$AA$15,MATCH(AK15,INFOS!$AB$3:$AB$15,0))))),"")} | AO15: =AO14+1 -> 46579 | AP15: =TEXT(Y15,"jjj") -> jeu | AQ15: {=IFERROR(IF(AR15='EDT HEBDO'!$I$3,"C", IF(AR15='EDT HEBDO'!$I$1, INDEX('EDT HEBDO'!$B$7:$F$7,MATCH(AP15,LEFT('EDT HEBDO'!$B$1:$F$1,3),0)), IF(AR15='EDT HEBDO'!$I$2, INDEX('EDT HEBDO'!$B$15:$F$15,MATCH(AP15,LEFT('EDT HEBDO'!$B$1:$F$1,3),0)), INDEX(INFOS!$AA$3:$AA$15,MATCH(AO15,INFOS!$AB$3:$AB$15,0))))),"")} | AS15: =AS14+1 -> 46610 | AT15: =TEXT(Y15,"jjj") -> jeu | AU15: {=IFERROR(IF(AV15='EDT HEBDO'!$I$3,"C", IF(AV15='EDT HEBDO'!$I$1, INDEX('EDT HEBDO'!$B$7:$F$7,MATCH(AT15,LEFT('EDT HEBDO'!$B$1:$F$1,3),0)), IF(AV15='EDT HEBDO'!$I$2, INDEX('EDT HEBDO'!$B$15:$F$15,MATCH(AT15,LEFT('EDT HEBDO'!$B$1:$F$1,3),0)), INDEX(INFOS!$AA$3:$AA$15,MATCH(AS15,INFOS!$AB$3:$AB$15,0))))),"")}
A16: =A15+1 -> 46277 | B16: =TEXT(A16,"jjj") -> sam | C16: {=IFERROR(IF(D16='EDT HEBDO'!$I$3,"C", IF(D16='EDT HEBDO'!$I$1, INDEX('EDT HEBDO'!$B$7:$F$7,MATCH(B16,LEFT('EDT HEBDO'!$B$1:$F$1,3),0)), IF(D16='EDT HEBDO'!$I$2, INDEX('EDT HEBDO'!$B$15:$F$15,MATCH(B16,LEFT('EDT HEBDO'!$B$1:$F$1,3),0)), INDEX(INFOS!$X$2:$X$14,MATCH(A16,INFOS!$W$2:$W$14,0))))),"")} | E16: =E15+1 -> 46307 | F16: =TEXT(E16,"jjj") -> lun | G16: {=IFERROR(IF(H16='EDT HEBDO'!$I$3,"C", IF(H16='EDT HEBDO'!$I$1, INDEX('EDT HEBDO'!$B$7:$F$7,MATCH(F16,LEFT('EDT HEBDO'!$B$1:$F$1,3),0)), IF(H16='EDT HEBDO'!$I$2, INDEX('EDT HEBDO'!$B$15:$F$15,MATCH(F16,LEFT('EDT HEBDO'!$B$1:$F$1,3),0)), INDEX(INFOS!$X$2:$X$14,MATCH(E16,INFOS!$W$2:$W$14,0))))),"")} -> 0.37847222 | H16: PS | I16: =I15+1 -> 46338 | J16: =TEXT(I16,"jjj") -> jeu | K16: {=IFERROR(IF(L16='EDT HEBDO'!$I$3,"C", IF(L16='EDT HEBDO'!$I$1, INDEX('EDT HEBDO'!$B$7:$F$7,MATCH(J16,LEFT('EDT HEBDO'!$B$1:$F$1,3),0)), IF(L16='EDT HEBDO'!$I$2, INDEX('EDT HEBDO'!$B$15:$F$15,MATCH(J16,LEFT('EDT HEBDO'!$B$1:$F$1,3),0)), INDEX(INFOS!$X$3:$X$15,MATCH(I16,INFOS!$Y$3:$Y$15,0))))),"")} -> 0.37847222 | L16: PS | M16: =M15+1 -> 46368 | N16: =TEXT(M16,"jjj") -> sam | O16: {=IFERROR(IF(P16='EDT HEBDO'!$I$3,"C", IF(P16='EDT HEBDO'!$I$1, INDEX('EDT HEBDO'!$B$7:$F$7,MATCH(N16,LEFT('EDT HEBDO'!$B$1:$F$1,3),0)), IF(P16='EDT HEBDO'!$I$2, INDEX('EDT HEBDO'!$B$15:$F$15,MATCH(N16,LEFT('EDT HEBDO'!$B$1:$F$1,3),0)), INDEX(INFOS!$X$2:$X$14,MATCH(M16,INFOS!$W$2:$W$14,0))))),"")} | Q16: =Q15+1 -> 46399 | R16: =TEXT(Q16,"jjj") -> mar | S16: {=IFERROR(IF(T16='EDT HEBDO'!$I$3,"C", IF(T16='EDT HEBDO'!$I$1, INDEX('EDT HEBDO'!$B$7:$F$7,MATCH(R16,LEFT('EDT HEBDO'!$B$1:$F$1,3),0)), IF(T16='EDT HEBDO'!$I$2, INDEX('EDT HEBDO'!$B$15:$F$15,MATCH(R16,LEFT('EDT HEBDO'!$B$1:$F$1,3),0)), INDEX(INFOS!$AA$3:$AA$15,MATCH(Q16,INFOS!$AB$3:$AB$15,0))))),"")} -> 0.37847222 | T16: PS | U16: =U15+1 -> 46430 | V16: =TEXT(U16,"jjj") -> ven | W16: {=IFERROR(IF(X16='EDT HEBDO'!$I$3,"C", IF(X16='EDT HEBDO'!$I$1, INDEX('EDT HEBDO'!$B$7:$F$7,MATCH(V16,LEFT('EDT HEBDO'!$B$1:$F$1,3),0)), IF(X16='EDT HEBDO'!$I$2, INDEX('EDT HEBDO'!$B$15:$F$15,MATCH(V16,LEFT('EDT HEBDO'!$B$1:$F$1,3),0)), INDEX(INFOS!$AA$3:$AA$15,MATCH(U16,INFOS!$AB$3:$AB$15,0))))),"")} -> 0.37847222 | X16: PS | Y16: =Y15+1 -> 46458 | Z16: =TEXT(Y16,"jjj") -> ven | AA16: {=IFERROR(IF(AB16='EDT HEBDO'!$I$3,"C", IF(AB16='EDT HEBDO'!$I$1, INDEX('EDT HEBDO'!$B$7:$F$7,MATCH(Z16,LEFT('EDT HEBDO'!$B$1:$F$1,3),0)), IF(AB16='EDT HEBDO'!$I$2, INDEX('EDT HEBDO'!$B$15:$F$15,MATCH(Z16,LEFT('EDT HEBDO'!$B$1:$F$1,3),0)), INDEX(INFOS!$AA$3:$AA$15,MATCH(Y16,INFOS!$AB$3:$AB$15,0))))),"")} -> 0.37847222 | AB16: PS | AC16: =AC15+1 -> 46489 | AD16: =TEXT(Y16,"jjj") -> ven | AE16: {=IFERROR(IF(AF16='EDT HEBDO'!$I$3,"C", IF(AF16='EDT HEBDO'!$I$1, INDEX('EDT HEBDO'!$B$7:$F$7,MATCH(AD16,LEFT('EDT HEBDO'!$B$1:$F$1,3),0)), IF(AF16='EDT HEBDO'!$I$2, INDEX('EDT HEBDO'!$B$15:$F$15,MATCH(AD16,LEFT('EDT HEBDO'!$B$1:$F$1,3),0)), INDEX(INFOS!$AA$3:$AA$15,MATCH(AC16,INFOS!$AB$3:$AB$15,0))))),"")} | AG16: =AG15+1 -> 46519 | AH16: =TEXT(Y16,"jjj") -> ven | AI16: {=IFERROR(IF(AJ16='EDT HEBDO'!$I$3,"C", IF(AJ16='EDT HEBDO'!$I$1, INDEX('EDT HEBDO'!$B$7:$F$7,MATCH(AH16,LEFT('EDT HEBDO'!$B$1:$F$1,3),0)), IF(AJ16='EDT HEBDO'!$I$2, INDEX('EDT HEBDO'!$B$15:$F$15,MATCH(AH16,LEFT('EDT HEBDO'!$B$1:$F$1,3),0)), INDEX(INFOS!$AA$3:$AA$15,MATCH(AG16,INFOS!$AB$3:$AB$15,0))))),"")} | AK16: =AK15+1 -> 46550 | AL16: =TEXT(Y16,"jjj") -> ven | AM16: {=IFERROR(IF(AN16='EDT HEBDO'!$I$3,"C", IF(AN16='EDT HEBDO'!$I$1, INDEX('EDT HEBDO'!$B$7:$F$7,MATCH(AL16,LEFT('EDT HEBDO'!$B$1:$F$1,3),0)), IF(AN16='EDT HEBDO'!$I$2, INDEX('EDT HEBDO'!$B$15:$F$15,MATCH(AL16,LEFT('EDT HEBDO'!$B$1:$F$1,3),0)), INDEX(INFOS!$AA$3:$AA$15,MATCH(AK16,INFOS!$AB$3:$AB$15,0))))),"")} | AO16: =AO15+1 -> 46580 | AP16: =TEXT(Y16,"jjj") -> ven | AQ16: {=IFERROR(IF(AR16='EDT HEBDO'!$I$3,"C", IF(AR16='EDT HEBDO'!$I$1, INDEX('EDT HEBDO'!$B$7:$F$7,MATCH(AP16,LEFT('EDT HEBDO'!$B$1:$F$1,3),0)), IF(AR16='EDT HEBDO'!$I$2, INDEX('EDT HEBDO'!$B$15:$F$15,MATCH(AP16,LEFT('EDT HEBDO'!$B$1:$F$1,3),0)), INDEX(INFOS!$AA$3:$AA$15,MATCH(AO16,INFOS!$AB$3:$AB$15,0))))),"")} | AS16: =AS15+1 -> 46611 | AT16: =TEXT(Y16,"jjj") -> ven | AU16: {=IFERROR(IF(AV16='EDT HEBDO'!$I$3,"C", IF(AV16='EDT HEBDO'!$I$1, INDEX('EDT HEBDO'!$B$7:$F$7,MATCH(AT16,LEFT('EDT HEBDO'!$B$1:$F$1,3),0)), IF(AV16='EDT HEBDO'!$I$2, INDEX('EDT HEBDO'!$B$15:$F$15,MATCH(AT16,LEFT('EDT HEBDO'!$B$1:$F$1,3),0)), INDEX(INFOS!$AA$3:$AA$15,MATCH(AS16,INFOS!$AB$3:$AB$15,0))))),"")}
A17: =A16+1 -> 46278 | B17: =TEXT(A17,"jjj") -> dim | C17: {=IFERROR(IF(D17='EDT HEBDO'!$I$3,"C", IF(D17='EDT HEBDO'!$I$1, INDEX('EDT HEBDO'!$B$7:$F$7,MATCH(B17,LEFT('EDT HEBDO'!$B$1:$F$1,3),0)), IF(D17='EDT HEBDO'!$I$2, INDEX('EDT HEBDO'!$B$15:$F$15,MATCH(B17,LEFT('EDT HEBDO'!$B$1:$F$1,3),0)), INDEX(INFOS!$X$2:$X$14,MATCH(A17,INFOS!$W$2:$W$14,0))))),"")} | E17: =E16+1 -> 46308 | F17: =TEXT(E17,"jjj") -> mar | G17: {=IFERROR(IF(H17='EDT HEBDO'!$I$3,"C", IF(H17='EDT HEBDO'!$I$1, INDEX('EDT HEBDO'!$B$7:$F$7,MATCH(F17,LEFT('EDT HEBDO'!$B$1:$F$1,3),0)), IF(H17='EDT HEBDO'!$I$2, INDEX('EDT HEBDO'!$B$15:$F$15,MATCH(F17,LEFT('EDT HEBDO'!$B$1:$F$1,3),0)), INDEX(INFOS!$X$2:$X$14,MATCH(E17,INFOS!$W$2:$W$14,0))))),"")} -> 0.37847222 | H17: PS | I17: =I16+1 -> 46339 | J17: =TEXT(I17,"jjj") -> ven | K17: {=IFERROR(IF(L17='EDT HEBDO'!$I$3,"C", IF(L17='EDT HEBDO'!$I$1, INDEX('EDT HEBDO'!$B$7:$F$7,MATCH(J17,LEFT('EDT HEBDO'!$B$1:$F$1,3),0)), IF(L17='EDT HEBDO'!$I$2, INDEX('EDT HEBDO'!$B$15:$F$15,MATCH(J17,LEFT('EDT HEBDO'!$B$1:$F$1,3),0)), INDEX(INFOS!$X$3:$X$15,MATCH(I17,INFOS!$Y$3:$Y$15,0))))),"")} -> 0.37847222 | L17: PS | M17: =M16+1 -> 46369 | N17: =TEXT(M17,"jjj") -> dim | O17: {=IFERROR(IF(P17='EDT HEBDO'!$I$3,"C", IF(P17='EDT HEBDO'!$I$1, INDEX('EDT HEBDO'!$B$7:$F$7,MATCH(N17,LEFT('EDT HEBDO'!$B$1:$F$1,3),0)), IF(P17='EDT HEBDO'!$I$2, INDEX('EDT HEBDO'!$B$15:$F$15,MATCH(N17,LEFT('EDT HEBDO'!$B$1:$F$1,3),0)), INDEX(INFOS!$X$2:$X$14,MATCH(M17,INFOS!$W$2:$W$14,0))))),"")} | Q17: =Q16+1 -> 46400 | R17: =TEXT(Q17,"jjj") -> mer | S17: {=IFERROR(IF(T17='EDT HEBDO'!$I$3,"C", IF(T17='EDT HEBDO'!$I$1, INDEX('EDT HEBDO'!$B$7:$F$7,MATCH(R17,LEFT('EDT HEBDO'!$B$1:$F$1,3),0)), IF(T17='EDT HEBDO'!$I$2, INDEX('EDT HEBDO'!$B$15:$F$15,MATCH(R17,LEFT('EDT HEBDO'!$B$1:$F$1,3),0)), INDEX(INFOS!$AA$3:$AA$15,MATCH(Q17,INFOS!$AB$3:$AB$15,0))))),"")} -> 0.16666667 | T17: PS | U17: =U16+1 -> 46431 | V17: =TEXT(U17,"jjj") -> sam | W17: {=IFERROR(IF(X17='EDT HEBDO'!$I$3,"C", IF(X17='EDT HEBDO'!$I$1, INDEX('EDT HEBDO'!$B$7:$F$7,MATCH(V17,LEFT('EDT HEBDO'!$B$1:$F$1,3),0)), IF(X17='EDT HEBDO'!$I$2, INDEX('EDT HEBDO'!$B$15:$F$15,MATCH(V17,LEFT('EDT HEBDO'!$B$1:$F$1,3),0)), INDEX(INFOS!$AA$3:$AA$15,MATCH(U17,INFOS!$AB$3:$AB$15,0))))),"")} | Y17: =Y16+1 -> 46459 | Z17: =TEXT(Y17,"jjj") -> sam | AA17: {=IFERROR(IF(AB17='EDT HEBDO'!$I$3,"C", IF(AB17='EDT HEBDO'!$I$1, INDEX('EDT HEBDO'!$B$7:$F$7,MATCH(Z17,LEFT('EDT HEBDO'!$B$1:$F$1,3),0)), IF(AB17='EDT HEBDO'!$I$2, INDEX('EDT HEBDO'!$B$15:$F$15,MATCH(Z17,LEFT('EDT HEBDO'!$B$1:$F$1,3),0)), INDEX(INFOS!$AA$3:$AA$15,MATCH(Y17,INFOS!$AB$3:$AB$15,0))))),"")} | AC17: =AC16+1 -> 46490 | AD17: =TEXT(Y17,"jjj") -> sam | AE17: {=IFERROR(IF(AF17='EDT HEBDO'!$I$3,"C", IF(AF17='EDT HEBDO'!$I$1, INDEX('EDT HEBDO'!$B$7:$F$7,MATCH(AD17,LEFT('EDT HEBDO'!$B$1:$F$1,3),0)), IF(AF17='EDT HEBDO'!$I$2, INDEX('EDT HEBDO'!$B$15:$F$15,MATCH(AD17,LEFT('EDT HEBDO'!$B$1:$F$1,3),0)), INDEX(INFOS!$AA$3:$AA$15,MATCH(AC17,INFOS!$AB$3:$AB$15,0))))),"")} | AG17: =AG16+1 -> 46520 | AH17: =TEXT(Y17,"jjj") -> sam | AI17: {=IFERROR(IF(AJ17='EDT HEBDO'!$I$3,"C", IF(AJ17='EDT HEBDO'!$I$1, INDEX('EDT HEBDO'!$B$7:$F$7,MATCH(AH17,LEFT('EDT HEBDO'!$B$1:$F$1,3),0)), IF(AJ17='EDT HEBDO'!$I$2, INDEX('EDT HEBDO'!$B$15:$F$15,MATCH(AH17,LEFT('EDT HEBDO'!$B$1:$F$1,3),0)), INDEX(INFOS!$AA$3:$AA$15,MATCH(AG17,INFOS!$AB$3:$AB$15,0))))),"")} -> Ascenscion | AK17: =AK16+1 -> 46551 | AL17: =TEXT(Y17,"jjj") -> sam | AM17: {=IFERROR(IF(AN17='EDT HEBDO'!$I$3,"C", IF(AN17='EDT HEBDO'!$I$1, INDEX('EDT HEBDO'!$B$7:$F$7,MATCH(AL17,LEFT('EDT HEBDO'!$B$1:$F$1,3),0)), IF(AN17='EDT HEBDO'!$I$2, INDEX('EDT HEBDO'!$B$15:$F$15,MATCH(AL17,LEFT('EDT HEBDO'!$B$1:$F$1,3),0)), INDEX(INFOS!$AA$3:$AA$15,MATCH(AK17,INFOS!$AB$3:$AB$15,0))))),"")} | AO17: =AO16+1 -> 46581 | AP17: =TEXT(Y17,"jjj") -> sam | AQ17: {=IFERROR(IF(AR17='EDT HEBDO'!$I$3,"C", IF(AR17='EDT HEBDO'!$I$1, INDEX('EDT HEBDO'!$B$7:$F$7,MATCH(AP17,LEFT('EDT HEBDO'!$B$1:$F$1,3),0)), IF(AR17='EDT HEBDO'!$I$2, INDEX('EDT HEBDO'!$B$15:$F$15,MATCH(AP17,LEFT('EDT HEBDO'!$B$1:$F$1,3),0)), INDEX(INFOS!$AA$3:$AA$15,MATCH(AO17,INFOS!$AB$3:$AB$15,0))))),"")} | AS17: =AS16+1 -> 46612 | AT17: =TEXT(Y17,"jjj") -> sam | AU17: {=IFERROR(IF(AV17='EDT HEBDO'!$I$3,"C", IF(AV17='EDT HEBDO'!$I$1, INDEX('EDT HEBDO'!$B$7:$F$7,MATCH(AT17,LEFT('EDT HEBDO'!$B$1:$F$1,3),0)), IF(AV17='EDT HEBDO'!$I$2, INDEX('EDT HEBDO'!$B$15:$F$15,MATCH(AT17,LEFT('EDT HEBDO'!$B$1:$F$1,3),0)), INDEX(INFOS!$AA$3:$AA$15,MATCH(AS17,INFOS!$AB$3:$AB$15,0))))),"")}
A18: =A17+1 -> 46279 | B18: =TEXT(A18,"jjj") -> lun | C18: {=IFERROR(IF(D18='EDT HEBDO'!$I$3,"C", IF(D18='EDT HEBDO'!$I$1, INDEX('EDT HEBDO'!$B$7:$F$7,MATCH(B18,LEFT('EDT HEBDO'!$B$1:$F$1,3),0)), IF(D18='EDT HEBDO'!$I$2, INDEX('EDT HEBDO'!$B$15:$F$15,MATCH(B18,LEFT('EDT HEBDO'!$B$1:$F$1,3),0)), INDEX(INFOS!$X$2:$X$14,MATCH(A18,INFOS!$W$2:$W$14,0))))),"")} -> 0.37847222 | D18: PS | E18: =E17+1 -> 46309 | F18: =TEXT(E18,"jjj") -> mer | G18: {=IFERROR(IF(H18='EDT HEBDO'!$I$3,"C", IF(H18='EDT HEBDO'!$I$1, INDEX('EDT HEBDO'!$B$7:$F$7,MATCH(F18,LEFT('EDT HEBDO'!$B$1:$F$1,3),0)), IF(H18='EDT HEBDO'!$I$2, INDEX('EDT HEBDO'!$B$15:$F$15,MATCH(F18,LEFT('EDT HEBDO'!$B$1:$F$1,3),0)), INDEX(INFOS!$X$2:$X$14,MATCH(E18,INFOS!$W$2:$W$14,0))))),"")} -> 0.16666667 | H18: PS | I18: =I17+1 -> 46340 | J18: =TEXT(I18,"jjj") -> sam | K18: {=IFERROR(IF(L18='EDT HEBDO'!$I$3,"C", IF(L18='EDT HEBDO'!$I$1, INDEX('EDT HEBDO'!$B$7:$F$7,MATCH(J18,LEFT('EDT HEBDO'!$B$1:$F$1,3),0)), IF(L18='EDT HEBDO'!$I$2, INDEX('EDT HEBDO'!$B$15:$F$15,MATCH(J18,LEFT('EDT HEBDO'!$B$1:$F$1,3),0)), INDEX(INFOS!$X$3:$X$15,MATCH(I18,INFOS!$Y$3:$Y$15,0))))),"")} | M18: =M17+1 -> 46370 | N18: =TEXT(M18,"jjj") -> lun | O18: {=IFERROR(IF(P18='EDT HEBDO'!$I$3,"C", IF(P18='EDT HEBDO'!$I$1, INDEX('EDT HEBDO'!$B$7:$F$7,MATCH(N18,LEFT('EDT HEBDO'!$B$1:$F$1,3),0)), IF(P18='EDT HEBDO'!$I$2, INDEX('EDT HEBDO'!$B$15:$F$15,MATCH(N18,LEFT('EDT HEBDO'!$B$1:$F$1,3),0)), INDEX(INFOS!$X$2:$X$14,MATCH(M18,INFOS!$W$2:$W$14,0))))),"")} -> 0.37847222 | P18: PS | Q18: =Q17+1 -> 46401 | R18: =TEXT(Q18,"jjj") -> jeu | S18: {=IFERROR(IF(T18='EDT HEBDO'!$I$3,"C", IF(T18='EDT HEBDO'!$I$1, INDEX('EDT HEBDO'!$B$7:$F$7,MATCH(R18,LEFT('EDT HEBDO'!$B$1:$F$1,3),0)), IF(T18='EDT HEBDO'!$I$2, INDEX('EDT HEBDO'!$B$15:$F$15,MATCH(R18,LEFT('EDT HEBDO'!$B$1:$F$1,3),0)), INDEX(INFOS!$AA$3:$AA$15,MATCH(Q18,INFOS!$AB$3:$AB$15,0))))),"")} -> 0.37847222 | T18: PS | U18: =U17+1 -> 46432 | V18: =TEXT(U18,"jjj") -> dim | W18: {=IFERROR(IF(X18='EDT HEBDO'!$I$3,"C", IF(X18='EDT HEBDO'!$I$1, INDEX('EDT HEBDO'!$B$7:$F$7,MATCH(V18,LEFT('EDT HEBDO'!$B$1:$F$1,3),0)), IF(X18='EDT HEBDO'!$I$2, INDEX('EDT HEBDO'!$B$15:$F$15,MATCH(V18,LEFT('EDT HEBDO'!$B$1:$F$1,3),0)), INDEX(INFOS!$AA$3:$AA$15,MATCH(U18,INFOS!$AB$3:$AB$15,0))))),"")} | Y18: =Y17+1 -> 46460 | Z18: =TEXT(Y18,"jjj") -> dim | AA18: {=IFERROR(IF(AB18='EDT HEBDO'!$I$3,"C", IF(AB18='EDT HEBDO'!$I$1, INDEX('EDT HEBDO'!$B$7:$F$7,MATCH(Z18,LEFT('EDT HEBDO'!$B$1:$F$1,3),0)), IF(AB18='EDT HEBDO'!$I$2, INDEX('EDT HEBDO'!$B$15:$F$15,MATCH(Z18,LEFT('EDT HEBDO'!$B$1:$F$1,3),0)), INDEX(INFOS!$AA$3:$AA$15,MATCH(Y18,INFOS!$AB$3:$AB$15,0))))),"")} | AC18: =AC17+1 -> 46491 | AD18: =TEXT(Y18,"jjj") -> dim | AE18: {=IFERROR(IF(AF18='EDT HEBDO'!$I$3,"C", IF(AF18='EDT HEBDO'!$I$1, INDEX('EDT HEBDO'!$B$7:$F$7,MATCH(AD18,LEFT('EDT HEBDO'!$B$1:$F$1,3),0)), IF(AF18='EDT HEBDO'!$I$2, INDEX('EDT HEBDO'!$B$15:$F$15,MATCH(AD18,LEFT('EDT HEBDO'!$B$1:$F$1,3),0)), INDEX(INFOS!$AA$3:$AA$15,MATCH(AC18,INFOS!$AB$3:$AB$15,0))))),"")} | AG18: =AG17+1 -> 46521 | AH18: =TEXT(Y18,"jjj") -> dim | AI18: {=IFERROR(IF(AJ18='EDT HEBDO'!$I$3,"C", IF(AJ18='EDT HEBDO'!$I$1, INDEX('EDT HEBDO'!$B$7:$F$7,MATCH(AH18,LEFT('EDT HEBDO'!$B$1:$F$1,3),0)), IF(AJ18='EDT HEBDO'!$I$2, INDEX('EDT HEBDO'!$B$15:$F$15,MATCH(AH18,LEFT('EDT HEBDO'!$B$1:$F$1,3),0)), INDEX(INFOS!$AA$3:$AA$15,MATCH(AG18,INFOS!$AB$3:$AB$15,0))))),"")} | AK18: =AK17+1 -> 46552 | AL18: =TEXT(Y18,"jjj") -> dim | AM18: {=IFERROR(IF(AN18='EDT HEBDO'!$I$3,"C", IF(AN18='EDT HEBDO'!$I$1, INDEX('EDT HEBDO'!$B$7:$F$7,MATCH(AL18,LEFT('EDT HEBDO'!$B$1:$F$1,3),0)), IF(AN18='EDT HEBDO'!$I$2, INDEX('EDT HEBDO'!$B$15:$F$15,MATCH(AL18,LEFT('EDT HEBDO'!$B$1:$F$1,3),0)), INDEX(INFOS!$AA$3:$AA$15,MATCH(AK18,INFOS!$AB$3:$AB$15,0))))),"")} | AO18: =AO17+1 -> 46582 | AP18: =TEXT(Y18,"jjj") -> dim | AQ18: {=IFERROR(IF(AR18='EDT HEBDO'!$I$3,"C", IF(AR18='EDT HEBDO'!$I$1, INDEX('EDT HEBDO'!$B$7:$F$7,MATCH(AP18,LEFT('EDT HEBDO'!$B$1:$F$1,3),0)), IF(AR18='EDT HEBDO'!$I$2, INDEX('EDT HEBDO'!$B$15:$F$15,MATCH(AP18,LEFT('EDT HEBDO'!$B$1:$F$1,3),0)), INDEX(INFOS!$AA$3:$AA$15,MATCH(AO18,INFOS!$AB$3:$AB$15,0))))),"")} -> Fête nationale | AS18: =AS17+1 -> 46613 | AT18: =TEXT(Y18,"jjj") -> dim | AU18: {=IFERROR(IF(AV18='EDT HEBDO'!$I$3,"C", IF(AV18='EDT HEBDO'!$I$1, INDEX('EDT HEBDO'!$B$7:$F$7,MATCH(AT18,LEFT('EDT HEBDO'!$B$1:$F$1,3),0)), IF(AV18='EDT HEBDO'!$I$2, INDEX('EDT HEBDO'!$B$15:$F$15,MATCH(AT18,LEFT('EDT HEBDO'!$B$1:$F$1,3),0)), INDEX(INFOS!$AA$3:$AA$15,MATCH(AS18,INFOS!$AB$3:$AB$15,0))))),"")}
A19: =A18+1 -> 46280 | B19: =TEXT(A19,"jjj") -> mar | C19: {=IFERROR(IF(D19='EDT HEBDO'!$I$3,"C", IF(D19='EDT HEBDO'!$I$1, INDEX('EDT HEBDO'!$B$7:$F$7,MATCH(B19,LEFT('EDT HEBDO'!$B$1:$F$1,3),0)), IF(D19='EDT HEBDO'!$I$2, INDEX('EDT HEBDO'!$B$15:$F$15,MATCH(B19,LEFT('EDT HEBDO'!$B$1:$F$1,3),0)), INDEX(INFOS!$X$2:$X$14,MATCH(A19,INFOS!$W$2:$W$14,0))))),"")} -> 0.37847222 | D19: PS | E19: =E18+1 -> 46310 | F19: =TEXT(E19,"jjj") -> jeu | G19: {=IFERROR(IF(H19='EDT HEBDO'!$I$3,"C", IF(H19='EDT HEBDO'!$I$1, INDEX('EDT HEBDO'!$B$7:$F$7,MATCH(F19,LEFT('EDT HEBDO'!$B$1:$F$1,3),0)), IF(H19='EDT HEBDO'!$I$2, INDEX('EDT HEBDO'!$B$15:$F$15,MATCH(F19,LEFT('EDT HEBDO'!$B$1:$F$1,3),0)), INDEX(INFOS!$X$2:$X$14,MATCH(E19,INFOS!$W$2:$W$14,0))))),"")} -> 0.37847222 | H19: PS | I19: =I18+1 -> 46341 | J19: =TEXT(I19,"jjj") -> dim | K19: {=IFERROR(IF(L19='EDT HEBDO'!$I$3,"C", IF(L19='EDT HEBDO'!$I$1, INDEX('EDT HEBDO'!$B$7:$F$7,MATCH(J19,LEFT('EDT HEBDO'!$B$1:$F$1,3),0)), IF(L19='EDT HEBDO'!$I$2, INDEX('EDT HEBDO'!$B$15:$F$15,MATCH(J19,LEFT('EDT HEBDO'!$B$1:$F$1,3),0)), INDEX(INFOS!$X$3:$X$15,MATCH(I19,INFOS!$Y$3:$Y$15,0))))),"")} | M19: =M18+1 -> 46371 | N19: =TEXT(M19,"jjj") -> mar | O19: {=IFERROR(IF(P19='EDT HEBDO'!$I$3,"C", IF(P19='EDT HEBDO'!$I$1, INDEX('EDT HEBDO'!$B$7:$F$7,MATCH(N19,LEFT('EDT HEBDO'!$B$1:$F$1,3),0)), IF(P19='EDT HEBDO'!$I$2, INDEX('EDT HEBDO'!$B$15:$F$15,MATCH(N19,LEFT('EDT HEBDO'!$B$1:$F$1,3),0)), INDEX(INFOS!$X$2:$X$14,MATCH(M19,INFOS!$W$2:$W$14,0))))),"")} -> 0.37847222 | P19: PS | Q19: =Q18+1 -> 46402 | R19: =TEXT(Q19,"jjj") -> ven | S19: {=IFERROR(IF(T19='EDT HEBDO'!$I$3,"C", IF(T19='EDT HEBDO'!$I$1, INDEX('EDT HEBDO'!$B$7:$F$7,MATCH(R19,LEFT('EDT HEBDO'!$B$1:$F$1,3),0)), IF(T19='EDT HEBDO'!$I$2, INDEX('EDT HEBDO'!$B$15:$F$15,MATCH(R19,LEFT('EDT HEBDO'!$B$1:$F$1,3),0)), INDEX(INFOS!$AA$3:$AA$15,MATCH(Q19,INFOS!$AB$3:$AB$15,0))))),"")} -> 0.37847222 | T19: PS | U19: =U18+1 -> 46433 | V19: =TEXT(U19,"jjj") -> lun | W19: {=IFERROR(IF(X19='EDT HEBDO'!$I$3,"C", IF(X19='EDT HEBDO'!$I$1, INDEX('EDT HEBDO'!$B$7:$F$7,MATCH(V19,LEFT('EDT HEBDO'!$B$1:$F$1,3),0)), IF(X19='EDT HEBDO'!$I$2, INDEX('EDT HEBDO'!$B$15:$F$15,MATCH(V19,LEFT('EDT HEBDO'!$B$1:$F$1,3),0)), INDEX(INFOS!$AA$3:$AA$15,MATCH(U19,INFOS!$AB$3:$AB$15,0))))),"")} -> 0.37847222 | X19: PS | Y19: =Y18+1 -> 46461 | Z19: =TEXT(Y19,"jjj") -> lun | AA19: {=IFERROR(IF(AB19='EDT HEBDO'!$I$3,"C", IF(AB19='EDT HEBDO'!$I$1, INDEX('EDT HEBDO'!$B$7:$F$7,MATCH(Z19,LEFT('EDT HEBDO'!$B$1:$F$1,3),0)), IF(AB19='EDT HEBDO'!$I$2, INDEX('EDT HEBDO'!$B$15:$F$15,MATCH(Z19,LEFT('EDT HEBDO'!$B$1:$F$1,3),0)), INDEX(INFOS!$AA$3:$AA$15,MATCH(Y19,INFOS!$AB$3:$AB$15,0))))),"")} -> 0.37847222 | AB19: PS | AC19: =AC18+1 -> 46492 | AD19: =TEXT(Y19,"jjj") -> lun | AE19: {=IFERROR(IF(AF19='EDT HEBDO'!$I$3,"C", IF(AF19='EDT HEBDO'!$I$1, INDEX('EDT HEBDO'!$B$7:$F$7,MATCH(AD19,LEFT('EDT HEBDO'!$B$1:$F$1,3),0)), IF(AF19='EDT HEBDO'!$I$2, INDEX('EDT HEBDO'!$B$15:$F$15,MATCH(AD19,LEFT('EDT HEBDO'!$B$1:$F$1,3),0)), INDEX(INFOS!$AA$3:$AA$15,MATCH(AC19,INFOS!$AB$3:$AB$15,0))))),"")} | AG19: =AG18+1 -> 46522 | AH19: =TEXT(Y19,"jjj") -> lun | AI19: {=IFERROR(IF(AJ19='EDT HEBDO'!$I$3,"C", IF(AJ19='EDT HEBDO'!$I$1, INDEX('EDT HEBDO'!$B$7:$F$7,MATCH(AH19,LEFT('EDT HEBDO'!$B$1:$F$1,3),0)), IF(AJ19='EDT HEBDO'!$I$2, INDEX('EDT HEBDO'!$B$15:$F$15,MATCH(AH19,LEFT('EDT HEBDO'!$B$1:$F$1,3),0)), INDEX(INFOS!$AA$3:$AA$15,MATCH(AG19,INFOS!$AB$3:$AB$15,0))))),"")} | AK19: =AK18+1 -> 46553 | AL19: =TEXT(Y19,"jjj") -> lun | AM19: {=IFERROR(IF(AN19='EDT HEBDO'!$I$3,"C", IF(AN19='EDT HEBDO'!$I$1, INDEX('EDT HEBDO'!$B$7:$F$7,MATCH(AL19,LEFT('EDT HEBDO'!$B$1:$F$1,3),0)), IF(AN19='EDT HEBDO'!$I$2, INDEX('EDT HEBDO'!$B$15:$F$15,MATCH(AL19,LEFT('EDT HEBDO'!$B$1:$F$1,3),0)), INDEX(INFOS!$AA$3:$AA$15,MATCH(AK19,INFOS!$AB$3:$AB$15,0))))),"")} | AO19: =AO18+1 -> 46583 | AP19: =TEXT(Y19,"jjj") -> lun | AQ19: {=IFERROR(IF(AR19='EDT HEBDO'!$I$3,"C", IF(AR19='EDT HEBDO'!$I$1, INDEX('EDT HEBDO'!$B$7:$F$7,MATCH(AP19,LEFT('EDT HEBDO'!$B$1:$F$1,3),0)), IF(AR19='EDT HEBDO'!$I$2, INDEX('EDT HEBDO'!$B$15:$F$15,MATCH(AP19,LEFT('EDT HEBDO'!$B$1:$F$1,3),0)), INDEX(INFOS!$AA$3:$AA$15,MATCH(AO19,INFOS!$AB$3:$AB$15,0))))),"")} | AS19: =AS18+1 -> 46614 | AT19: =TEXT(Y19,"jjj") -> lun | AU19: {=IFERROR(IF(AV19='EDT HEBDO'!$I$3,"C", IF(AV19='EDT HEBDO'!$I$1, INDEX('EDT HEBDO'!$B$7:$F$7,MATCH(AT19,LEFT('EDT HEBDO'!$B$1:$F$1,3),0)), IF(AV19='EDT HEBDO'!$I$2, INDEX('EDT HEBDO'!$B$15:$F$15,MATCH(AT19,LEFT('EDT HEBDO'!$B$1:$F$1,3),0)), INDEX(INFOS!$AA$3:$AA$15,MATCH(AS19,INFOS!$AB$3:$AB$15,0))))),"")} -> Assomption
A20: =A19+1 -> 46281 | B20: =TEXT(A20,"jjj") -> mer | C20: {=IFERROR(IF(D20='EDT HEBDO'!$I$3,"C", IF(D20='EDT HEBDO'!$I$1, INDEX('EDT HEBDO'!$B$7:$F$7,MATCH(B20,LEFT('EDT HEBDO'!$B$1:$F$1,3),0)), IF(D20='EDT HEBDO'!$I$2, INDEX('EDT HEBDO'!$B$15:$F$15,MATCH(B20,LEFT('EDT HEBDO'!$B$1:$F$1,3),0)), INDEX(INFOS!$X$2:$X$14,MATCH(A20,INFOS!$W$2:$W$14,0))))),"")} -> 0.16666667 | D20: PS | E20: =E19+1 -> 46311 | F20: =TEXT(E20,"jjj") -> ven | G20: {=IFERROR(IF(H20='EDT HEBDO'!$I$3,"C", IF(H20='EDT HEBDO'!$I$1, INDEX('EDT HEBDO'!$B$7:$F$7,MATCH(F20,LEFT('EDT HEBDO'!$B$1:$F$1,3),0)), IF(H20='EDT HEBDO'!$I$2, INDEX('EDT HEBDO'!$B$15:$F$15,MATCH(F20,LEFT('EDT HEBDO'!$B$1:$F$1,3),0)), INDEX(INFOS!$X$2:$X$14,MATCH(E20,INFOS!$W$2:$W$14,0))))),"")} -> 0.37847222 | H20: PS | I20: =I19+1 -> 46342 | J20: =TEXT(I20,"jjj") -> lun | K20: {=IFERROR(IF(L20='EDT HEBDO'!$I$3,"C", IF(L20='EDT HEBDO'!$I$1, INDEX('EDT HEBDO'!$B$7:$F$7,MATCH(J20,LEFT('EDT HEBDO'!$B$1:$F$1,3),0)), IF(L20='EDT HEBDO'!$I$2, INDEX('EDT HEBDO'!$B$15:$F$15,MATCH(J20,LEFT('EDT HEBDO'!$B$1:$F$1,3),0)), INDEX(INFOS!$X$3:$X$15,MATCH(I20,INFOS!$Y$3:$Y$15,0))))),"")} -> 0.37847222 | L20: PS | M20: =M19+1 -> 46372 | N20: =TEXT(M20,"jjj") -> mer | O20: {=IFERROR(IF(P20='EDT HEBDO'!$I$3,"C", IF(P20='EDT HEBDO'!$I$1, INDEX('EDT HEBDO'!$B$7:$F$7,MATCH(N20,LEFT('EDT HEBDO'!$B$1:$F$1,3),0)), IF(P20='EDT HEBDO'!$I$2, INDEX('EDT HEBDO'!$B$15:$F$15,MATCH(N20,LEFT('EDT HEBDO'!$B$1:$F$1,3),0)), INDEX(INFOS!$X$2:$X$14,MATCH(M20,INFOS!$W$2:$W$14,0))))),"")} -> 0.16666667 | P20: PS | Q20: =Q19+1 -> 46403 | R20: =TEXT(Q20,"jjj") -> sam | S20: {=IFERROR(IF(T20='EDT HEBDO'!$I$3,"C", IF(T20='EDT HEBDO'!$I$1, INDEX('EDT HEBDO'!$B$7:$F$7,MATCH(R20,LEFT('EDT HEBDO'!$B$1:$F$1,3),0)), IF(T20='EDT HEBDO'!$I$2, INDEX('EDT HEBDO'!$B$15:$F$15,MATCH(R20,LEFT('EDT HEBDO'!$B$1:$F$1,3),0)), INDEX(INFOS!$AA$3:$AA$15,MATCH(Q20,INFOS!$AB$3:$AB$15,0))))),"")} | U20: =U19+1 -> 46434 | V20: =TEXT(U20,"jjj") -> mar | W20: {=IFERROR(IF(X20='EDT HEBDO'!$I$3,"C", IF(X20='EDT HEBDO'!$I$1, INDEX('EDT HEBDO'!$B$7:$F$7,MATCH(V20,LEFT('EDT HEBDO'!$B$1:$F$1,3),0)), IF(X20='EDT HEBDO'!$I$2, INDEX('EDT HEBDO'!$B$15:$F$15,MATCH(V20,LEFT('EDT HEBDO'!$B$1:$F$1,3),0)), INDEX(INFOS!$AA$3:$AA$15,MATCH(U20,INFOS!$AB$3:$AB$15,0))))),"")} -> 0.37847222 | X20: PS | Y20: =Y19+1 -> 46462 | Z20: =TEXT(Y20,"jjj") -> mar | AA20: {=IFERROR(IF(AB20='EDT HEBDO'!$I$3,"C", IF(AB20='EDT HEBDO'!$I$1, INDEX('EDT HEBDO'!$B$7:$F$7,MATCH(Z20,LEFT('EDT HEBDO'!$B$1:$F$1,3),0)), IF(AB20='EDT HEBDO'!$I$2, INDEX('EDT HEBDO'!$B$15:$F$15,MATCH(Z20,LEFT('EDT HEBDO'!$B$1:$F$1,3),0)), INDEX(INFOS!$AA$3:$AA$15,MATCH(Y20,INFOS!$AB$3:$AB$15,0))))),"")} -> 0.37847222 | AB20: PS | AC20: =AC19+1 -> 46493 | AD20: =TEXT(Y20,"jjj") -> mar | AE20: {=IFERROR(IF(AF20='EDT HEBDO'!$I$3,"C", IF(AF20='EDT HEBDO'!$I$1, INDEX('EDT HEBDO'!$B$7:$F$7,MATCH(AD20,LEFT('EDT HEBDO'!$B$1:$F$1,3),0)), IF(AF20='EDT HEBDO'!$I$2, INDEX('EDT HEBDO'!$B$15:$F$15,MATCH(AD20,LEFT('EDT HEBDO'!$B$1:$F$1,3),0)), INDEX(INFOS!$AA$3:$AA$15,MATCH(AC20,INFOS!$AB$3:$AB$15,0))))),"")} | AG20: =AG19+1 -> 46523 | AH20: =TEXT(Y20,"jjj") -> mar | AI20: {=IFERROR(IF(AJ20='EDT HEBDO'!$I$3,"C", IF(AJ20='EDT HEBDO'!$I$1, INDEX('EDT HEBDO'!$B$7:$F$7,MATCH(AH20,LEFT('EDT HEBDO'!$B$1:$F$1,3),0)), IF(AJ20='EDT HEBDO'!$I$2, INDEX('EDT HEBDO'!$B$15:$F$15,MATCH(AH20,LEFT('EDT HEBDO'!$B$1:$F$1,3),0)), INDEX(INFOS!$AA$3:$AA$15,MATCH(AG20,INFOS!$AB$3:$AB$15,0))))),"")} | AK20: =AK19+1 -> 46554 | AL20: =TEXT(Y20,"jjj") -> mar | AM20: {=IFERROR(IF(AN20='EDT HEBDO'!$I$3,"C", IF(AN20='EDT HEBDO'!$I$1, INDEX('EDT HEBDO'!$B$7:$F$7,MATCH(AL20,LEFT('EDT HEBDO'!$B$1:$F$1,3),0)), IF(AN20='EDT HEBDO'!$I$2, INDEX('EDT HEBDO'!$B$15:$F$15,MATCH(AL20,LEFT('EDT HEBDO'!$B$1:$F$1,3),0)), INDEX(INFOS!$AA$3:$AA$15,MATCH(AK20,INFOS!$AB$3:$AB$15,0))))),"")} | AO20: =AO19+1 -> 46584 | AP20: =TEXT(Y20,"jjj") -> mar | AQ20: {=IFERROR(IF(AR20='EDT HEBDO'!$I$3,"C", IF(AR20='EDT HEBDO'!$I$1, INDEX('EDT HEBDO'!$B$7:$F$7,MATCH(AP20,LEFT('EDT HEBDO'!$B$1:$F$1,3),0)), IF(AR20='EDT HEBDO'!$I$2, INDEX('EDT HEBDO'!$B$15:$F$15,MATCH(AP20,LEFT('EDT HEBDO'!$B$1:$F$1,3),0)), INDEX(INFOS!$AA$3:$AA$15,MATCH(AO20,INFOS!$AB$3:$AB$15,0))))),"")} | AS20: =AS19+1 -> 46615 | AT20: =TEXT(Y20,"jjj") -> mar | AU20: {=IFERROR(IF(AV20='EDT HEBDO'!$I$3,"C", IF(AV20='EDT HEBDO'!$I$1, INDEX('EDT HEBDO'!$B$7:$F$7,MATCH(AT20,LEFT('EDT HEBDO'!$B$1:$F$1,3),0)), IF(AV20='EDT HEBDO'!$I$2, INDEX('EDT HEBDO'!$B$15:$F$15,MATCH(AT20,LEFT('EDT HEBDO'!$B$1:$F$1,3),0)), INDEX(INFOS!$AA$3:$AA$15,MATCH(AS20,INFOS!$AB$3:$AB$15,0))))),"")}
A21: =A20+1 -> 46282 | B21: =TEXT(A21,"jjj") -> jeu | C21: {=IFERROR(IF(D21='EDT HEBDO'!$I$3,"C", IF(D21='EDT HEBDO'!$I$1, INDEX('EDT HEBDO'!$B$7:$F$7,MATCH(B21,LEFT('EDT HEBDO'!$B$1:$F$1,3),0)), IF(D21='EDT HEBDO'!$I$2, INDEX('EDT HEBDO'!$B$15:$F$15,MATCH(B21,LEFT('EDT HEBDO'!$B$1:$F$1,3),0)), INDEX(INFOS!$X$2:$X$14,MATCH(A21,INFOS!$W$2:$W$14,0))))),"")} -> 0.37847222 | D21: PS | E21: =E20+1 -> 46312 | F21: =TEXT(E21,"jjj") -> sam | G21: {=IFERROR(IF(H21='EDT HEBDO'!$I$3,"C", IF(H21='EDT HEBDO'!$I$1, INDEX('EDT HEBDO'!$B$7:$F$7,MATCH(F21,LEFT('EDT HEBDO'!$B$1:$F$1,3),0)), IF(H21='EDT HEBDO'!$I$2, INDEX('EDT HEBDO'!$B$15:$F$15,MATCH(F21,LEFT('EDT HEBDO'!$B$1:$F$1,3),0)), INDEX(INFOS!$X$2:$X$14,MATCH(E21,INFOS!$W$2:$W$14,0))))),"")} | I21: =I20+1 -> 46343 | J21: =TEXT(I21,"jjj") -> mar | K21: {=IFERROR(IF(L21='EDT HEBDO'!$I$3,"C", IF(L21='EDT HEBDO'!$I$1, INDEX('EDT HEBDO'!$B$7:$F$7,MATCH(J21,LEFT('EDT HEBDO'!$B$1:$F$1,3),0)), IF(L21='EDT HEBDO'!$I$2, INDEX('EDT HEBDO'!$B$15:$F$15,MATCH(J21,LEFT('EDT HEBDO'!$B$1:$F$1,3),0)), INDEX(INFOS!$X$3:$X$15,MATCH(I21,INFOS!$Y$3:$Y$15,0))))),"")} -> 0.37847222 | L21: PS | M21: =M20+1 -> 46373 | N21: =TEXT(M21,"jjj") -> jeu | O21: {=IFERROR(IF(P21='EDT HEBDO'!$I$3,"C", IF(P21='EDT HEBDO'!$I$1, INDEX('EDT HEBDO'!$B$7:$F$7,MATCH(N21,LEFT('EDT HEBDO'!$B$1:$F$1,3),0)), IF(P21='EDT HEBDO'!$I$2, INDEX('EDT HEBDO'!$B$15:$F$15,MATCH(N21,LEFT('EDT HEBDO'!$B$1:$F$1,3),0)), INDEX(INFOS!$X$2:$X$14,MATCH(M21,INFOS!$W$2:$W$14,0))))),"")} -> 0.37847222 | P21: PS | Q21: =Q20+1 -> 46404 | R21: =TEXT(Q21,"jjj") -> dim | S21: {=IFERROR(IF(T21='EDT HEBDO'!$I$3,"C", IF(T21='EDT HEBDO'!$I$1, INDEX('EDT HEBDO'!$B$7:$F$7,MATCH(R21,LEFT('EDT HEBDO'!$B$1:$F$1,3),0)), IF(T21='EDT HEBDO'!$I$2, INDEX('EDT HEBDO'!$B$15:$F$15,MATCH(R21,LEFT('EDT HEBDO'!$B$1:$F$1,3),0)), INDEX(INFOS!$AA$3:$AA$15,MATCH(Q21,INFOS!$AB$3:$AB$15,0))))),"")} | U21: =U20+1 -> 46435 | V21: =TEXT(U21,"jjj") -> mer | W21: {=IFERROR(IF(X21='EDT HEBDO'!$I$3,"C", IF(X21='EDT HEBDO'!$I$1, INDEX('EDT HEBDO'!$B$7:$F$7,MATCH(V21,LEFT('EDT HEBDO'!$B$1:$F$1,3),0)), IF(X21='EDT HEBDO'!$I$2, INDEX('EDT HEBDO'!$B$15:$F$15,MATCH(V21,LEFT('EDT HEBDO'!$B$1:$F$1,3),0)), INDEX(INFOS!$AA$3:$AA$15,MATCH(U21,INFOS!$AB$3:$AB$15,0))))),"")} -> 0.16666667 | X21: PS | Y21: =Y20+1 -> 46463 | Z21: =TEXT(Y21,"jjj") -> mer | AA21: {=IFERROR(IF(AB21='EDT HEBDO'!$I$3,"C", IF(AB21='EDT HEBDO'!$I$1, INDEX('EDT HEBDO'!$B$7:$F$7,MATCH(Z21,LEFT('EDT HEBDO'!$B$1:$F$1,3),0)), IF(AB21='EDT HEBDO'!$I$2, INDEX('EDT HEBDO'!$B$15:$F$15,MATCH(Z21,LEFT('EDT HEBDO'!$B$1:$F$1,3),0)), INDEX(INFOS!$AA$3:$AA$15,MATCH(Y21,INFOS!$AB$3:$AB$15,0))))),"")} -> 0.16666667 | AB21: PS | AC21: =AC20+1 -> 46494 | AD21: =TEXT(Y21,"jjj") -> mer | AE21: {=IFERROR(IF(AF21='EDT HEBDO'!$I$3,"C", IF(AF21='EDT HEBDO'!$I$1, INDEX('EDT HEBDO'!$B$7:$F$7,MATCH(AD21,LEFT('EDT HEBDO'!$B$1:$F$1,3),0)), IF(AF21='EDT HEBDO'!$I$2, INDEX('EDT HEBDO'!$B$15:$F$15,MATCH(AD21,LEFT('EDT HEBDO'!$B$1:$F$1,3),0)), INDEX(INFOS!$AA$3:$AA$15,MATCH(AC21,INFOS!$AB$3:$AB$15,0))))),"")} | AG21: =AG20+1 -> 46524 | AH21: =TEXT(Y21,"jjj") -> mer | AI21: {=IFERROR(IF(AJ21='EDT HEBDO'!$I$3,"C", IF(AJ21='EDT HEBDO'!$I$1, INDEX('EDT HEBDO'!$B$7:$F$7,MATCH(AH21,LEFT('EDT HEBDO'!$B$1:$F$1,3),0)), IF(AJ21='EDT HEBDO'!$I$2, INDEX('EDT HEBDO'!$B$15:$F$15,MATCH(AH21,LEFT('EDT HEBDO'!$B$1:$F$1,3),0)), INDEX(INFOS!$AA$3:$AA$15,MATCH(AG21,INFOS!$AB$3:$AB$15,0))))),"")} | AK21: =AK20+1 -> 46555 | AL21: =TEXT(Y21,"jjj") -> mer | AM21: {=IFERROR(IF(AN21='EDT HEBDO'!$I$3,"C", IF(AN21='EDT HEBDO'!$I$1, INDEX('EDT HEBDO'!$B$7:$F$7,MATCH(AL21,LEFT('EDT HEBDO'!$B$1:$F$1,3),0)), IF(AN21='EDT HEBDO'!$I$2, INDEX('EDT HEBDO'!$B$15:$F$15,MATCH(AL21,LEFT('EDT HEBDO'!$B$1:$F$1,3),0)), INDEX(INFOS!$AA$3:$AA$15,MATCH(AK21,INFOS!$AB$3:$AB$15,0))))),"")} | AO21: =AO20+1 -> 46585 | AP21: =TEXT(Y21,"jjj") -> mer | AQ21: {=IFERROR(IF(AR21='EDT HEBDO'!$I$3,"C", IF(AR21='EDT HEBDO'!$I$1, INDEX('EDT HEBDO'!$B$7:$F$7,MATCH(AP21,LEFT('EDT HEBDO'!$B$1:$F$1,3),0)), IF(AR21='EDT HEBDO'!$I$2, INDEX('EDT HEBDO'!$B$15:$F$15,MATCH(AP21,LEFT('EDT HEBDO'!$B$1:$F$1,3),0)), INDEX(INFOS!$AA$3:$AA$15,MATCH(AO21,INFOS!$AB$3:$AB$15,0))))),"")} | AS21: =AS20+1 -> 46616 | AT21: =TEXT(Y21,"jjj") -> mer | AU21: {=IFERROR(IF(AV21='EDT HEBDO'!$I$3,"C", IF(AV21='EDT HEBDO'!$I$1, INDEX('EDT HEBDO'!$B$7:$F$7,MATCH(AT21,LEFT('EDT HEBDO'!$B$1:$F$1,3),0)), IF(AV21='EDT HEBDO'!$I$2, INDEX('EDT HEBDO'!$B$15:$F$15,MATCH(AT21,LEFT('EDT HEBDO'!$B$1:$F$1,3),0)), INDEX(INFOS!$AA$3:$AA$15,MATCH(AS21,INFOS!$AB$3:$AB$15,0))))),"")}
A22: =A21+1 -> 46283 | B22: =TEXT(A22,"jjj") -> ven | C22: {=IFERROR(IF(D22='EDT HEBDO'!$I$3,"C", IF(D22='EDT HEBDO'!$I$1, INDEX('EDT HEBDO'!$B$7:$F$7,MATCH(B22,LEFT('EDT HEBDO'!$B$1:$F$1,3),0)), IF(D22='EDT HEBDO'!$I$2, INDEX('EDT HEBDO'!$B$15:$F$15,MATCH(B22,LEFT('EDT HEBDO'!$B$1:$F$1,3),0)), INDEX(INFOS!$X$2:$X$14,MATCH(A22,INFOS!$W$2:$W$14,0))))),"")} -> 0.37847222 | D22: PS | E22: =E21+1 -> 46313 | F22: =TEXT(E22,"jjj") -> dim | G22: {=IFERROR(IF(H22='EDT HEBDO'!$I$3,"C", IF(H22='EDT HEBDO'!$I$1, INDEX('EDT HEBDO'!$B$7:$F$7,MATCH(F22,LEFT('EDT HEBDO'!$B$1:$F$1,3),0)), IF(H22='EDT HEBDO'!$I$2, INDEX('EDT HEBDO'!$B$15:$F$15,MATCH(F22,LEFT('EDT HEBDO'!$B$1:$F$1,3),0)), INDEX(INFOS!$X$2:$X$14,MATCH(E22,INFOS!$W$2:$W$14,0))))),"")} | I22: =I21+1 -> 46344 | J22: =TEXT(I22,"jjj") -> mer | K22: {=IFERROR(IF(L22='EDT HEBDO'!$I$3,"C", IF(L22='EDT HEBDO'!$I$1, INDEX('EDT HEBDO'!$B$7:$F$7,MATCH(J22,LEFT('EDT HEBDO'!$B$1:$F$1,3),0)), IF(L22='EDT HEBDO'!$I$2, INDEX('EDT HEBDO'!$B$15:$F$15,MATCH(J22,LEFT('EDT HEBDO'!$B$1:$F$1,3),0)), INDEX(INFOS!$X$3:$X$15,MATCH(I22,INFOS!$Y$3:$Y$15,0))))),"")} -> 0.16666667 | L22: PS | M22: =M21+1 -> 46374 | N22: =TEXT(M22,"jjj") -> ven | O22: {=IFERROR(IF(P22='EDT HEBDO'!$I$3,"C", IF(P22='EDT HEBDO'!$I$1, INDEX('EDT HEBDO'!$B$7:$F$7,MATCH(N22,LEFT('EDT HEBDO'!$B$1:$F$1,3),0)), IF(P22='EDT HEBDO'!$I$2, INDEX('EDT HEBDO'!$B$15:$F$15,MATCH(N22,LEFT('EDT HEBDO'!$B$1:$F$1,3),0)), INDEX(INFOS!$X$2:$X$14,MATCH(M22,INFOS!$W$2:$W$14,0))))),"")} -> 0.37847222 | P22: PS | Q22: =Q21+1 -> 46405 | R22: =TEXT(Q22,"jjj") -> lun | S22: {=IFERROR(IF(T22='EDT HEBDO'!$I$3,"C", IF(T22='EDT HEBDO'!$I$1, INDEX('EDT HEBDO'!$B$7:$F$7,MATCH(R22,LEFT('EDT HEBDO'!$B$1:$F$1,3),0)), IF(T22='EDT HEBDO'!$I$2, INDEX('EDT HEBDO'!$B$15:$F$15,MATCH(R22,LEFT('EDT HEBDO'!$B$1:$F$1,3),0)), INDEX(INFOS!$AA$3:$AA$15,MATCH(Q22,INFOS!$AB$3:$AB$15,0))))),"")} -> 0.37847222 | T22: PS | U22: =U21+1 -> 46436 | V22: =TEXT(U22,"jjj") -> jeu | W22: {=IFERROR(IF(X22='EDT HEBDO'!$I$3,"C", IF(X22='EDT HEBDO'!$I$1, INDEX('EDT HEBDO'!$B$7:$F$7,MATCH(V22,LEFT('EDT HEBDO'!$B$1:$F$1,3),0)), IF(X22='EDT HEBDO'!$I$2, INDEX('EDT HEBDO'!$B$15:$F$15,MATCH(V22,LEFT('EDT HEBDO'!$B$1:$F$1,3),0)), INDEX(INFOS!$AA$3:$AA$15,MATCH(U22,INFOS!$AB$3:$AB$15,0))))),"")} -> 0.37847222 | X22: PS | Y22: =Y21+1 -> 46464 | Z22: =TEXT(Y22,"jjj") -> jeu | AA22: {=IFERROR(IF(AB22='EDT HEBDO'!$I$3,"C", IF(AB22='EDT HEBDO'!$I$1, INDEX('EDT HEBDO'!$B$7:$F$7,MATCH(Z22,LEFT('EDT HEBDO'!$B$1:$F$1,3),0)), IF(AB22='EDT HEBDO'!$I$2, INDEX('EDT HEBDO'!$B$15:$F$15,MATCH(Z22,LEFT('EDT HEBDO'!$B$1:$F$1,3),0)), INDEX(INFOS!$AA$3:$AA$15,MATCH(Y22,INFOS!$AB$3:$AB$15,0))))),"")} -> 0.37847222 | AB22: PS | AC22: =AC21+1 -> 46495 | AD22: =TEXT(Y22,"jjj") -> jeu | AE22: {=IFERROR(IF(AF22='EDT HEBDO'!$I$3,"C", IF(AF22='EDT HEBDO'!$I$1, INDEX('EDT HEBDO'!$B$7:$F$7,MATCH(AD22,LEFT('EDT HEBDO'!$B$1:$F$1,3),0)), IF(AF22='EDT HEBDO'!$I$2, INDEX('EDT HEBDO'!$B$15:$F$15,MATCH(AD22,LEFT('EDT HEBDO'!$B$1:$F$1,3),0)), INDEX(INFOS!$AA$3:$AA$15,MATCH(AC22,INFOS!$AB$3:$AB$15,0))))),"")} | AG22: =AG21+1 -> 46525 | AH22: =TEXT(Y22,"jjj") -> jeu | AI22: {=IFERROR(IF(AJ22='EDT HEBDO'!$I$3,"C", IF(AJ22='EDT HEBDO'!$I$1, INDEX('EDT HEBDO'!$B$7:$F$7,MATCH(AH22,LEFT('EDT HEBDO'!$B$1:$F$1,3),0)), IF(AJ22='EDT HEBDO'!$I$2, INDEX('EDT HEBDO'!$B$15:$F$15,MATCH(AH22,LEFT('EDT HEBDO'!$B$1:$F$1,3),0)), INDEX(INFOS!$AA$3:$AA$15,MATCH(AG22,INFOS!$AB$3:$AB$15,0))))),"")} | AK22: =AK21+1 -> 46556 | AL22: =TEXT(Y22,"jjj") -> jeu | AM22: {=IFERROR(IF(AN22='EDT HEBDO'!$I$3,"C", IF(AN22='EDT HEBDO'!$I$1, INDEX('EDT HEBDO'!$B$7:$F$7,MATCH(AL22,LEFT('EDT HEBDO'!$B$1:$F$1,3),0)), IF(AN22='EDT HEBDO'!$I$2, INDEX('EDT HEBDO'!$B$15:$F$15,MATCH(AL22,LEFT('EDT HEBDO'!$B$1:$F$1,3),0)), INDEX(INFOS!$AA$3:$AA$15,MATCH(AK22,INFOS!$AB$3:$AB$15,0))))),"")} | AO22: =AO21+1 -> 46586 | AP22: =TEXT(Y22,"jjj") -> jeu | AQ22: {=IFERROR(IF(AR22='EDT HEBDO'!$I$3,"C", IF(AR22='EDT HEBDO'!$I$1, INDEX('EDT HEBDO'!$B$7:$F$7,MATCH(AP22,LEFT('EDT HEBDO'!$B$1:$F$1,3),0)), IF(AR22='EDT HEBDO'!$I$2, INDEX('EDT HEBDO'!$B$15:$F$15,MATCH(AP22,LEFT('EDT HEBDO'!$B$1:$F$1,3),0)), INDEX(INFOS!$AA$3:$AA$15,MATCH(AO22,INFOS!$AB$3:$AB$15,0))))),"")} | AS22: =AS21+1 -> 46617 | AT22: =TEXT(Y22,"jjj") -> jeu | AU22: {=IFERROR(IF(AV22='EDT HEBDO'!$I$3,"C", IF(AV22='EDT HEBDO'!$I$1, INDEX('EDT HEBDO'!$B$7:$F$7,MATCH(AT22,LEFT('EDT HEBDO'!$B$1:$F$1,3),0)), IF(AV22='EDT HEBDO'!$I$2, INDEX('EDT HEBDO'!$B$15:$F$15,MATCH(AT22,LEFT('EDT HEBDO'!$B$1:$F$1,3),0)), INDEX(INFOS!$AA$3:$AA$15,MATCH(AS22,INFOS!$AB$3:$AB$15,0))))),"")}
A23: =A22+1 -> 46284 | B23: =TEXT(A23,"jjj") -> sam | C23: {=IFERROR(IF(D23='EDT HEBDO'!$I$3,"C", IF(D23='EDT HEBDO'!$I$1, INDEX('EDT HEBDO'!$B$7:$F$7,MATCH(B23,LEFT('EDT HEBDO'!$B$1:$F$1,3),0)), IF(D23='EDT HEBDO'!$I$2, INDEX('EDT HEBDO'!$B$15:$F$15,MATCH(B23,LEFT('EDT HEBDO'!$B$1:$F$1,3),0)), INDEX(INFOS!$X$2:$X$14,MATCH(A23,INFOS!$W$2:$W$14,0))))),"")} | E23: =E22+1 -> 46314 | F23: =TEXT(E23,"jjj") -> lun | G23: {=IFERROR(IF(H23='EDT HEBDO'!$I$3,"C", IF(H23='EDT HEBDO'!$I$1, INDEX('EDT HEBDO'!$B$7:$F$7,MATCH(F23,LEFT('EDT HEBDO'!$B$1:$F$1,3),0)), IF(H23='EDT HEBDO'!$I$2, INDEX('EDT HEBDO'!$B$15:$F$15,MATCH(F23,LEFT('EDT HEBDO'!$B$1:$F$1,3),0)), INDEX(INFOS!$X$2:$X$14,MATCH(E23,INFOS!$W$2:$W$14,0))))),"")} -> 0.37847222 | H23: PS | I23: =I22+1 -> 46345 | J23: =TEXT(I23,"jjj") -> jeu | K23: {=IFERROR(IF(L23='EDT HEBDO'!$I$3,"C", IF(L23='EDT HEBDO'!$I$1, INDEX('EDT HEBDO'!$B$7:$F$7,MATCH(J23,LEFT('EDT HEBDO'!$B$1:$F$1,3),0)), IF(L23='EDT HEBDO'!$I$2, INDEX('EDT HEBDO'!$B$15:$F$15,MATCH(J23,LEFT('EDT HEBDO'!$B$1:$F$1,3),0)), INDEX(INFOS!$X$3:$X$15,MATCH(I23,INFOS!$Y$3:$Y$15,0))))),"")} -> 0.37847222 | L23: PS | M23: =M22+1 -> 46375 | N23: =TEXT(M23,"jjj") -> sam | O23: {=IFERROR(IF(P23='EDT HEBDO'!$I$3,"C", IF(P23='EDT HEBDO'!$I$1, INDEX('EDT HEBDO'!$B$7:$F$7,MATCH(N23,LEFT('EDT HEBDO'!$B$1:$F$1,3),0)), IF(P23='EDT HEBDO'!$I$2, INDEX('EDT HEBDO'!$B$15:$F$15,MATCH(N23,LEFT('EDT HEBDO'!$B$1:$F$1,3),0)), INDEX(INFOS!$X$2:$X$14,MATCH(M23,INFOS!$W$2:$W$14,0))))),"")} | Q23: =Q22+1 -> 46406 | R23: =TEXT(Q23,"jjj") -> mar | S23: {=IFERROR(IF(T23='EDT HEBDO'!$I$3,"C", IF(T23='EDT HEBDO'!$I$1, INDEX('EDT HEBDO'!$B$7:$F$7,MATCH(R23,LEFT('EDT HEBDO'!$B$1:$F$1,3),0)), IF(T23='EDT HEBDO'!$I$2, INDEX('EDT HEBDO'!$B$15:$F$15,MATCH(R23,LEFT('EDT HEBDO'!$B$1:$F$1,3),0)), INDEX(INFOS!$AA$3:$AA$15,MATCH(Q23,INFOS!$AB$3:$AB$15,0))))),"")} -> 0.37847222 | T23: PS | U23: =U22+1 -> 46437 | V23: =TEXT(U23,"jjj") -> ven | W23: {=IFERROR(IF(X23='EDT HEBDO'!$I$3,"C", IF(X23='EDT HEBDO'!$I$1, INDEX('EDT HEBDO'!$B$7:$F$7,MATCH(V23,LEFT('EDT HEBDO'!$B$1:$F$1,3),0)), IF(X23='EDT HEBDO'!$I$2, INDEX('EDT HEBDO'!$B$15:$F$15,MATCH(V23,LEFT('EDT HEBDO'!$B$1:$F$1,3),0)), INDEX(INFOS!$AA$3:$AA$15,MATCH(U23,INFOS!$AB$3:$AB$15,0))))),"")} -> 0.37847222 | X23: PS | Y23: =Y22+1 -> 46465 | Z23: =TEXT(Y23,"jjj") -> ven | AA23: {=IFERROR(IF(AB23='EDT HEBDO'!$I$3,"C", IF(AB23='EDT HEBDO'!$I$1, INDEX('EDT HEBDO'!$B$7:$F$7,MATCH(Z23,LEFT('EDT HEBDO'!$B$1:$F$1,3),0)), IF(AB23='EDT HEBDO'!$I$2, INDEX('EDT HEBDO'!$B$15:$F$15,MATCH(Z23,LEFT('EDT HEBDO'!$B$1:$F$1,3),0)), INDEX(INFOS!$AA$3:$AA$15,MATCH(Y23,INFOS!$AB$3:$AB$15,0))))),"")} -> 0.37847222 | AB23: PS | AC23: =AC22+1 -> 46496 | AD23: =TEXT(Y23,"jjj") -> ven | AE23: {=IFERROR(IF(AF23='EDT HEBDO'!$I$3,"C", IF(AF23='EDT HEBDO'!$I$1, INDEX('EDT HEBDO'!$B$7:$F$7,MATCH(AD23,LEFT('EDT HEBDO'!$B$1:$F$1,3),0)), IF(AF23='EDT HEBDO'!$I$2, INDEX('EDT HEBDO'!$B$15:$F$15,MATCH(AD23,LEFT('EDT HEBDO'!$B$1:$F$1,3),0)), INDEX(INFOS!$AA$3:$AA$15,MATCH(AC23,INFOS!$AB$3:$AB$15,0))))),"")} | AG23: =AG22+1 -> 46526 | AH23: =TEXT(Y23,"jjj") -> ven | AI23: {=IFERROR(IF(AJ23='EDT HEBDO'!$I$3,"C", IF(AJ23='EDT HEBDO'!$I$1, INDEX('EDT HEBDO'!$B$7:$F$7,MATCH(AH23,LEFT('EDT HEBDO'!$B$1:$F$1,3),0)), IF(AJ23='EDT HEBDO'!$I$2, INDEX('EDT HEBDO'!$B$15:$F$15,MATCH(AH23,LEFT('EDT HEBDO'!$B$1:$F$1,3),0)), INDEX(INFOS!$AA$3:$AA$15,MATCH(AG23,INFOS!$AB$3:$AB$15,0))))),"")} | AK23: =AK22+1 -> 46557 | AL23: =TEXT(Y23,"jjj") -> ven | AM23: {=IFERROR(IF(AN23='EDT HEBDO'!$I$3,"C", IF(AN23='EDT HEBDO'!$I$1, INDEX('EDT HEBDO'!$B$7:$F$7,MATCH(AL23,LEFT('EDT HEBDO'!$B$1:$F$1,3),0)), IF(AN23='EDT HEBDO'!$I$2, INDEX('EDT HEBDO'!$B$15:$F$15,MATCH(AL23,LEFT('EDT HEBDO'!$B$1:$F$1,3),0)), INDEX(INFOS!$AA$3:$AA$15,MATCH(AK23,INFOS!$AB$3:$AB$15,0))))),"")} | AO23: =AO22+1 -> 46587 | AP23: =TEXT(Y23,"jjj") -> ven | AQ23: {=IFERROR(IF(AR23='EDT HEBDO'!$I$3,"C", IF(AR23='EDT HEBDO'!$I$1, INDEX('EDT HEBDO'!$B$7:$F$7,MATCH(AP23,LEFT('EDT HEBDO'!$B$1:$F$1,3),0)), IF(AR23='EDT HEBDO'!$I$2, INDEX('EDT HEBDO'!$B$15:$F$15,MATCH(AP23,LEFT('EDT HEBDO'!$B$1:$F$1,3),0)), INDEX(INFOS!$AA$3:$AA$15,MATCH(AO23,INFOS!$AB$3:$AB$15,0))))),"")} | AS23: =AS22+1 -> 46618 | AT23: =TEXT(Y23,"jjj") -> ven | AU23: {=IFERROR(IF(AV23='EDT HEBDO'!$I$3,"C", IF(AV23='EDT HEBDO'!$I$1, INDEX('EDT HEBDO'!$B$7:$F$7,MATCH(AT23,LEFT('EDT HEBDO'!$B$1:$F$1,3),0)), IF(AV23='EDT HEBDO'!$I$2, INDEX('EDT HEBDO'!$B$15:$F$15,MATCH(AT23,LEFT('EDT HEBDO'!$B$1:$F$1,3),0)), INDEX(INFOS!$AA$3:$AA$15,MATCH(AS23,INFOS!$AB$3:$AB$15,0))))),"")}
A24: =A23+1 -> 46285 | B24: =TEXT(A24,"jjj") -> dim | C24: {=IFERROR(IF(D24='EDT HEBDO'!$I$3,"C", IF(D24='EDT HEBDO'!$I$1, INDEX('EDT HEBDO'!$B$7:$F$7,MATCH(B24,LEFT('EDT HEBDO'!$B$1:$F$1,3),0)), IF(D24='EDT HEBDO'!$I$2, INDEX('EDT HEBDO'!$B$15:$F$15,MATCH(B24,LEFT('EDT HEBDO'!$B$1:$F$1,3),0)), INDEX(INFOS!$X$2:$X$14,MATCH(A24,INFOS!$W$2:$W$14,0))))),"")} | E24: =E23+1 -> 46315 | F24: =TEXT(E24,"jjj") -> mar | G24: {=IFERROR(IF(H24='EDT HEBDO'!$I$3,"C", IF(H24='EDT HEBDO'!$I$1, INDEX('EDT HEBDO'!$B$7:$F$7,MATCH(F24,LEFT('EDT HEBDO'!$B$1:$F$1,3),0)), IF(H24='EDT HEBDO'!$I$2, INDEX('EDT HEBDO'!$B$15:$F$15,MATCH(F24,LEFT('EDT HEBDO'!$B$1:$F$1,3),0)), INDEX(INFOS!$X$2:$X$14,MATCH(E24,INFOS!$W$2:$W$14,0))))),"")} -> 0.37847222 | H24: PS | I24: =I23+1 -> 46346 | J24: =TEXT(I24,"jjj") -> ven | K24: {=IFERROR(IF(L24='EDT HEBDO'!$I$3,"C", IF(L24='EDT HEBDO'!$I$1, INDEX('EDT HEBDO'!$B$7:$F$7,MATCH(J24,LEFT('EDT HEBDO'!$B$1:$F$1,3),0)), IF(L24='EDT HEBDO'!$I$2, INDEX('EDT HEBDO'!$B$15:$F$15,MATCH(J24,LEFT('EDT HEBDO'!$B$1:$F$1,3),0)), INDEX(INFOS!$X$3:$X$15,MATCH(I24,INFOS!$Y$3:$Y$15,0))))),"")} -> 0.37847222 | L24: PS | M24: =M23+1 -> 46376 | N24: =TEXT(M24,"jjj") -> dim | O24: {=IFERROR(IF(P24='EDT HEBDO'!$I$3,"C", IF(P24='EDT HEBDO'!$I$1, INDEX('EDT HEBDO'!$B$7:$F$7,MATCH(N24,LEFT('EDT HEBDO'!$B$1:$F$1,3),0)), IF(P24='EDT HEBDO'!$I$2, INDEX('EDT HEBDO'!$B$15:$F$15,MATCH(N24,LEFT('EDT HEBDO'!$B$1:$F$1,3),0)), INDEX(INFOS!$X$2:$X$14,MATCH(M24,INFOS!$W$2:$W$14,0))))),"")} | Q24: =Q23+1 -> 46407 | R24: =TEXT(Q24,"jjj") -> mer | S24: {=IFERROR(IF(T24='EDT HEBDO'!$I$3,"C", IF(T24='EDT HEBDO'!$I$1, INDEX('EDT HEBDO'!$B$7:$F$7,MATCH(R24,LEFT('EDT HEBDO'!$B$1:$F$1,3),0)), IF(T24='EDT HEBDO'!$I$2, INDEX('EDT HEBDO'!$B$15:$F$15,MATCH(R24,LEFT('EDT HEBDO'!$B$1:$F$1,3),0)), INDEX(INFOS!$AA$3:$AA$15,MATCH(Q24,INFOS!$AB$3:$AB$15,0))))),"")} -> 0.16666667 | T24: PS | U24: =U23+1 -> 46438 | V24: =TEXT(U24,"jjj") -> sam | W24: {=IFERROR(IF(X24='EDT HEBDO'!$I$3,"C", IF(X24='EDT HEBDO'!$I$1, INDEX('EDT HEBDO'!$B$7:$F$7,MATCH(V24,LEFT('EDT HEBDO'!$B$1:$F$1,3),0)), IF(X24='EDT HEBDO'!$I$2, INDEX('EDT HEBDO'!$B$15:$F$15,MATCH(V24,LEFT('EDT HEBDO'!$B$1:$F$1,3),0)), INDEX(INFOS!$AA$3:$AA$15,MATCH(U24,INFOS!$AB$3:$AB$15,0))))),"")} | Y24: =Y23+1 -> 46466 | Z24: =TEXT(Y24,"jjj") -> sam | AA24: {=IFERROR(IF(AB24='EDT HEBDO'!$I$3,"C", IF(AB24='EDT HEBDO'!$I$1, INDEX('EDT HEBDO'!$B$7:$F$7,MATCH(Z24,LEFT('EDT HEBDO'!$B$1:$F$1,3),0)), IF(AB24='EDT HEBDO'!$I$2, INDEX('EDT HEBDO'!$B$15:$F$15,MATCH(Z24,LEFT('EDT HEBDO'!$B$1:$F$1,3),0)), INDEX(INFOS!$AA$3:$AA$15,MATCH(Y24,INFOS!$AB$3:$AB$15,0))))),"")} | AC24: =AC23+1 -> 46497 | AD24: =TEXT(Y24,"jjj") -> sam | AE24: {=IFERROR(IF(AF24='EDT HEBDO'!$I$3,"C", IF(AF24='EDT HEBDO'!$I$1, INDEX('EDT HEBDO'!$B$7:$F$7,MATCH(AD24,LEFT('EDT HEBDO'!$B$1:$F$1,3),0)), IF(AF24='EDT HEBDO'!$I$2, INDEX('EDT HEBDO'!$B$15:$F$15,MATCH(AD24,LEFT('EDT HEBDO'!$B$1:$F$1,3),0)), INDEX(INFOS!$AA$3:$AA$15,MATCH(AC24,INFOS!$AB$3:$AB$15,0))))),"")} | AG24: =AG23+1 -> 46527 | AH24: =TEXT(Y24,"jjj") -> sam | AI24: {=IFERROR(IF(AJ24='EDT HEBDO'!$I$3,"C", IF(AJ24='EDT HEBDO'!$I$1, INDEX('EDT HEBDO'!$B$7:$F$7,MATCH(AH24,LEFT('EDT HEBDO'!$B$1:$F$1,3),0)), IF(AJ24='EDT HEBDO'!$I$2, INDEX('EDT HEBDO'!$B$15:$F$15,MATCH(AH24,LEFT('EDT HEBDO'!$B$1:$F$1,3),0)), INDEX(INFOS!$AA$3:$AA$15,MATCH(AG24,INFOS!$AB$3:$AB$15,0))))),"")} | AK24: =AK23+1 -> 46558 | AL24: =TEXT(Y24,"jjj") -> sam | AM24: {=IFERROR(IF(AN24='EDT HEBDO'!$I$3,"C", IF(AN24='EDT HEBDO'!$I$1, INDEX('EDT HEBDO'!$B$7:$F$7,MATCH(AL24,LEFT('EDT HEBDO'!$B$1:$F$1,3),0)), IF(AN24='EDT HEBDO'!$I$2, INDEX('EDT HEBDO'!$B$15:$F$15,MATCH(AL24,LEFT('EDT HEBDO'!$B$1:$F$1,3),0)), INDEX(INFOS!$AA$3:$AA$15,MATCH(AK24,INFOS!$AB$3:$AB$15,0))))),"")} | AO24: =AO23+1 -> 46588 | AP24: =TEXT(Y24,"jjj") -> sam | AQ24: {=IFERROR(IF(AR24='EDT HEBDO'!$I$3,"C", IF(AR24='EDT HEBDO'!$I$1, INDEX('EDT HEBDO'!$B$7:$F$7,MATCH(AP24,LEFT('EDT HEBDO'!$B$1:$F$1,3),0)), IF(AR24='EDT HEBDO'!$I$2, INDEX('EDT HEBDO'!$B$15:$F$15,MATCH(AP24,LEFT('EDT HEBDO'!$B$1:$F$1,3),0)), INDEX(INFOS!$AA$3:$AA$15,MATCH(AO24,INFOS!$AB$3:$AB$15,0))))),"")} | AS24: =AS23+1 -> 46619 | AT24: =TEXT(Y24,"jjj") -> sam | AU24: {=IFERROR(IF(AV24='EDT HEBDO'!$I$3,"C", IF(AV24='EDT HEBDO'!$I$1, INDEX('EDT HEBDO'!$B$7:$F$7,MATCH(AT24,LEFT('EDT HEBDO'!$B$1:$F$1,3),0)), IF(AV24='EDT HEBDO'!$I$2, INDEX('EDT HEBDO'!$B$15:$F$15,MATCH(AT24,LEFT('EDT HEBDO'!$B$1:$F$1,3),0)), INDEX(INFOS!$AA$3:$AA$15,MATCH(AS24,INFOS!$AB$3:$AB$15,0))))),"")}
A25: =A24+1 -> 46286 | B25: =TEXT(A25,"jjj") -> lun | C25: {=IFERROR(IF(D25='EDT HEBDO'!$I$3,"C", IF(D25='EDT HEBDO'!$I$1, INDEX('EDT HEBDO'!$B$7:$F$7,MATCH(B25,LEFT('EDT HEBDO'!$B$1:$F$1,3),0)), IF(D25='EDT HEBDO'!$I$2, INDEX('EDT HEBDO'!$B$15:$F$15,MATCH(B25,LEFT('EDT HEBDO'!$B$1:$F$1,3),0)), INDEX(INFOS!$X$2:$X$14,MATCH(A25,INFOS!$W$2:$W$14,0))))),"")} -> 0.37847222 | D25: PS | E25: =E24+1 -> 46316 | F25: =TEXT(E25,"jjj") -> mer | G25: {=IFERROR(IF(H25='EDT HEBDO'!$I$3,"C", IF(H25='EDT HEBDO'!$I$1, INDEX('EDT HEBDO'!$B$7:$F$7,MATCH(F25,LEFT('EDT HEBDO'!$B$1:$F$1,3),0)), IF(H25='EDT HEBDO'!$I$2, INDEX('EDT HEBDO'!$B$15:$F$15,MATCH(F25,LEFT('EDT HEBDO'!$B$1:$F$1,3),0)), INDEX(INFOS!$X$2:$X$14,MATCH(E25,INFOS!$W$2:$W$14,0))))),"")} -> 0.16666667 | H25: PS | I25: =I24+1 -> 46347 | J25: =TEXT(I25,"jjj") -> sam | K25: {=IFERROR(IF(L25='EDT HEBDO'!$I$3,"C", IF(L25='EDT HEBDO'!$I$1, INDEX('EDT HEBDO'!$B$7:$F$7,MATCH(J25,LEFT('EDT HEBDO'!$B$1:$F$1,3),0)), IF(L25='EDT HEBDO'!$I$2, INDEX('EDT HEBDO'!$B$15:$F$15,MATCH(J25,LEFT('EDT HEBDO'!$B$1:$F$1,3),0)), INDEX(INFOS!$X$3:$X$15,MATCH(I25,INFOS!$Y$3:$Y$15,0))))),"")} | M25: =M24+1 -> 46377 | N25: =TEXT(M25,"jjj") -> lun | O25: {=IFERROR(IF(P25='EDT HEBDO'!$I$3,"C", IF(P25='EDT HEBDO'!$I$1, INDEX('EDT HEBDO'!$B$7:$F$7,MATCH(N25,LEFT('EDT HEBDO'!$B$1:$F$1,3),0)), IF(P25='EDT HEBDO'!$I$2, INDEX('EDT HEBDO'!$B$15:$F$15,MATCH(N25,LEFT('EDT HEBDO'!$B$1:$F$1,3),0)), INDEX(INFOS!$X$2:$X$14,MATCH(M25,INFOS!$W$2:$W$14,0))))),"")} -> 0.37847222 | P25: PS | Q25: =Q24+1 -> 46408 | R25: =TEXT(Q25,"jjj") -> jeu | S25: {=IFERROR(IF(T25='EDT HEBDO'!$I$3,"C", IF(T25='EDT HEBDO'!$I$1, INDEX('EDT HEBDO'!$B$7:$F$7,MATCH(R25,LEFT('EDT HEBDO'!$B$1:$F$1,3),0)), IF(T25='EDT HEBDO'!$I$2, INDEX('EDT HEBDO'!$B$15:$F$15,MATCH(R25,LEFT('EDT HEBDO'!$B$1:$F$1,3),0)), INDEX(INFOS!$AA$3:$AA$15,MATCH(Q25,INFOS!$AB$3:$AB$15,0))))),"")} -> 0.37847222 | T25: PS | U25: =U24+1 -> 46439 | V25: =TEXT(U25,"jjj") -> dim | W25: {=IFERROR(IF(X25='EDT HEBDO'!$I$3,"C", IF(X25='EDT HEBDO'!$I$1, INDEX('EDT HEBDO'!$B$7:$F$7,MATCH(V25,LEFT('EDT HEBDO'!$B$1:$F$1,3),0)), IF(X25='EDT HEBDO'!$I$2, INDEX('EDT HEBDO'!$B$15:$F$15,MATCH(V25,LEFT('EDT HEBDO'!$B$1:$F$1,3),0)), INDEX(INFOS!$AA$3:$AA$15,MATCH(U25,INFOS!$AB$3:$AB$15,0))))),"")} | Y25: =Y24+1 -> 46467 | Z25: =TEXT(Y25,"jjj") -> dim | AA25: {=IFERROR(IF(AB25='EDT HEBDO'!$I$3,"C", IF(AB25='EDT HEBDO'!$I$1, INDEX('EDT HEBDO'!$B$7:$F$7,MATCH(Z25,LEFT('EDT HEBDO'!$B$1:$F$1,3),0)), IF(AB25='EDT HEBDO'!$I$2, INDEX('EDT HEBDO'!$B$15:$F$15,MATCH(Z25,LEFT('EDT HEBDO'!$B$1:$F$1,3),0)), INDEX(INFOS!$AA$3:$AA$15,MATCH(Y25,INFOS!$AB$3:$AB$15,0))))),"")} | AC25: =AC24+1 -> 46498 | AD25: =TEXT(Y25,"jjj") -> dim | AE25: {=IFERROR(IF(AF25='EDT HEBDO'!$I$3,"C", IF(AF25='EDT HEBDO'!$I$1, INDEX('EDT HEBDO'!$B$7:$F$7,MATCH(AD25,LEFT('EDT HEBDO'!$B$1:$F$1,3),0)), IF(AF25='EDT HEBDO'!$I$2, INDEX('EDT HEBDO'!$B$15:$F$15,MATCH(AD25,LEFT('EDT HEBDO'!$B$1:$F$1,3),0)), INDEX(INFOS!$AA$3:$AA$15,MATCH(AC25,INFOS!$AB$3:$AB$15,0))))),"")} | AG25: =AG24+1 -> 46528 | AH25: =TEXT(Y25,"jjj") -> dim | AI25: {=IFERROR(IF(AJ25='EDT HEBDO'!$I$3,"C", IF(AJ25='EDT HEBDO'!$I$1, INDEX('EDT HEBDO'!$B$7:$F$7,MATCH(AH25,LEFT('EDT HEBDO'!$B$1:$F$1,3),0)), IF(AJ25='EDT HEBDO'!$I$2, INDEX('EDT HEBDO'!$B$15:$F$15,MATCH(AH25,LEFT('EDT HEBDO'!$B$1:$F$1,3),0)), INDEX(INFOS!$AA$3:$AA$15,MATCH(AG25,INFOS!$AB$3:$AB$15,0))))),"")} | AK25: =AK24+1 -> 46559 | AL25: =TEXT(Y25,"jjj") -> dim | AM25: {=IFERROR(IF(AN25='EDT HEBDO'!$I$3,"C", IF(AN25='EDT HEBDO'!$I$1, INDEX('EDT HEBDO'!$B$7:$F$7,MATCH(AL25,LEFT('EDT HEBDO'!$B$1:$F$1,3),0)), IF(AN25='EDT HEBDO'!$I$2, INDEX('EDT HEBDO'!$B$15:$F$15,MATCH(AL25,LEFT('EDT HEBDO'!$B$1:$F$1,3),0)), INDEX(INFOS!$AA$3:$AA$15,MATCH(AK25,INFOS!$AB$3:$AB$15,0))))),"")} | AO25: =AO24+1 -> 46589 | AP25: =TEXT(Y25,"jjj") -> dim | AQ25: {=IFERROR(IF(AR25='EDT HEBDO'!$I$3,"C", IF(AR25='EDT HEBDO'!$I$1, INDEX('EDT HEBDO'!$B$7:$F$7,MATCH(AP25,LEFT('EDT HEBDO'!$B$1:$F$1,3),0)), IF(AR25='EDT HEBDO'!$I$2, INDEX('EDT HEBDO'!$B$15:$F$15,MATCH(AP25,LEFT('EDT HEBDO'!$B$1:$F$1,3),0)), INDEX(INFOS!$AA$3:$AA$15,MATCH(AO25,INFOS!$AB$3:$AB$15,0))))),"")} | AS25: =AS24+1 -> 46620 | AT25: =TEXT(Y25,"jjj") -> dim | AU25: {=IFERROR(IF(AV25='EDT HEBDO'!$I$3,"C", IF(AV25='EDT HEBDO'!$I$1, INDEX('EDT HEBDO'!$B$7:$F$7,MATCH(AT25,LEFT('EDT HEBDO'!$B$1:$F$1,3),0)), IF(AV25='EDT HEBDO'!$I$2, INDEX('EDT HEBDO'!$B$15:$F$15,MATCH(AT25,LEFT('EDT HEBDO'!$B$1:$F$1,3),0)), INDEX(INFOS!$AA$3:$AA$15,MATCH(AS25,INFOS!$AB$3:$AB$15,0))))),"")}
A26: =A25+1 -> 46287 | B26: =TEXT(A26,"jjj") -> mar | C26: {=IFERROR(IF(D26='EDT HEBDO'!$I$3,"C", IF(D26='EDT HEBDO'!$I$1, INDEX('EDT HEBDO'!$B$7:$F$7,MATCH(B26,LEFT('EDT HEBDO'!$B$1:$F$1,3),0)), IF(D26='EDT HEBDO'!$I$2, INDEX('EDT HEBDO'!$B$15:$F$15,MATCH(B26,LEFT('EDT HEBDO'!$B$1:$F$1,3),0)), INDEX(INFOS!$X$2:$X$14,MATCH(A26,INFOS!$W$2:$W$14,0))))),"")} -> 0.37847222 | D26: PS | E26: =E25+1 -> 46317 | F26: =TEXT(E26,"jjj") -> jeu | G26: {=IFERROR(IF(H26='EDT HEBDO'!$I$3,"C", IF(H26='EDT HEBDO'!$I$1, INDEX('EDT HEBDO'!$B$7:$F$7,MATCH(F26,LEFT('EDT HEBDO'!$B$1:$F$1,3),0)), IF(H26='EDT HEBDO'!$I$2, INDEX('EDT HEBDO'!$B$15:$F$15,MATCH(F26,LEFT('EDT HEBDO'!$B$1:$F$1,3),0)), INDEX(INFOS!$X$2:$X$14,MATCH(E26,INFOS!$W$2:$W$14,0))))),"")} -> 0.37847222 | H26: PS | I26: =I25+1 -> 46348 | J26: =TEXT(I26,"jjj") -> dim | K26: {=IFERROR(IF(L26='EDT HEBDO'!$I$3,"C", IF(L26='EDT HEBDO'!$I$1, INDEX('EDT HEBDO'!$B$7:$F$7,MATCH(J26,LEFT('EDT HEBDO'!$B$1:$F$1,3),0)), IF(L26='EDT HEBDO'!$I$2, INDEX('EDT HEBDO'!$B$15:$F$15,MATCH(J26,LEFT('EDT HEBDO'!$B$1:$F$1,3),0)), INDEX(INFOS!$X$3:$X$15,MATCH(I26,INFOS!$Y$3:$Y$15,0))))),"")} | M26: =M25+1 -> 46378 | N26: =TEXT(M26,"jjj") -> mar | O26: {=IFERROR(IF(P26='EDT HEBDO'!$I$3,"C", IF(P26='EDT HEBDO'!$I$1, INDEX('EDT HEBDO'!$B$7:$F$7,MATCH(N26,LEFT('EDT HEBDO'!$B$1:$F$1,3),0)), IF(P26='EDT HEBDO'!$I$2, INDEX('EDT HEBDO'!$B$15:$F$15,MATCH(N26,LEFT('EDT HEBDO'!$B$1:$F$1,3),0)), INDEX(INFOS!$X$2:$X$14,MATCH(M26,INFOS!$W$2:$W$14,0))))),"")} -> 0.37847222 | P26: PS | Q26: =Q25+1 -> 46409 | R26: =TEXT(Q26,"jjj") -> ven | S26: {=IFERROR(IF(T26='EDT HEBDO'!$I$3,"C", IF(T26='EDT HEBDO'!$I$1, INDEX('EDT HEBDO'!$B$7:$F$7,MATCH(R26,LEFT('EDT HEBDO'!$B$1:$F$1,3),0)), IF(T26='EDT HEBDO'!$I$2, INDEX('EDT HEBDO'!$B$15:$F$15,MATCH(R26,LEFT('EDT HEBDO'!$B$1:$F$1,3),0)), INDEX(INFOS!$AA$3:$AA$15,MATCH(Q26,INFOS!$AB$3:$AB$15,0))))),"")} -> 0.37847222 | T26: PS | U26: =U25+1 -> 46440 | V26: =TEXT(U26,"jjj") -> lun | W26: {=IFERROR(IF(X26='EDT HEBDO'!$I$3,"C", IF(X26='EDT HEBDO'!$I$1, INDEX('EDT HEBDO'!$B$7:$F$7,MATCH(V26,LEFT('EDT HEBDO'!$B$1:$F$1,3),0)), IF(X26='EDT HEBDO'!$I$2, INDEX('EDT HEBDO'!$B$15:$F$15,MATCH(V26,LEFT('EDT HEBDO'!$B$1:$F$1,3),0)), INDEX(INFOS!$AA$3:$AA$15,MATCH(U26,INFOS!$AB$3:$AB$15,0))))),"")} -> 0.37847222 | X26: PS | Y26: =Y25+1 -> 46468 | Z26: =TEXT(Y26,"jjj") -> lun | AA26: {=IFERROR(IF(AB26='EDT HEBDO'!$I$3,"C", IF(AB26='EDT HEBDO'!$I$1, INDEX('EDT HEBDO'!$B$7:$F$7,MATCH(Z26,LEFT('EDT HEBDO'!$B$1:$F$1,3),0)), IF(AB26='EDT HEBDO'!$I$2, INDEX('EDT HEBDO'!$B$15:$F$15,MATCH(Z26,LEFT('EDT HEBDO'!$B$1:$F$1,3),0)), INDEX(INFOS!$AA$3:$AA$15,MATCH(Y26,INFOS!$AB$3:$AB$15,0))))),"")} -> 0.37847222 | AB26: PS | AC26: =AC25+1 -> 46499 | AD26: =TEXT(Y26,"jjj") -> lun | AE26: {=IFERROR(IF(AF26='EDT HEBDO'!$I$3,"C", IF(AF26='EDT HEBDO'!$I$1, INDEX('EDT HEBDO'!$B$7:$F$7,MATCH(AD26,LEFT('EDT HEBDO'!$B$1:$F$1,3),0)), IF(AF26='EDT HEBDO'!$I$2, INDEX('EDT HEBDO'!$B$15:$F$15,MATCH(AD26,LEFT('EDT HEBDO'!$B$1:$F$1,3),0)), INDEX(INFOS!$AA$3:$AA$15,MATCH(AC26,INFOS!$AB$3:$AB$15,0))))),"")} | AG26: =AG25+1 -> 46529 | AH26: =TEXT(Y26,"jjj") -> lun | AI26: {=IFERROR(IF(AJ26='EDT HEBDO'!$I$3,"C", IF(AJ26='EDT HEBDO'!$I$1, INDEX('EDT HEBDO'!$B$7:$F$7,MATCH(AH26,LEFT('EDT HEBDO'!$B$1:$F$1,3),0)), IF(AJ26='EDT HEBDO'!$I$2, INDEX('EDT HEBDO'!$B$15:$F$15,MATCH(AH26,LEFT('EDT HEBDO'!$B$1:$F$1,3),0)), INDEX(INFOS!$AA$3:$AA$15,MATCH(AG26,INFOS!$AB$3:$AB$15,0))))),"")} | AK26: =AK25+1 -> 46560 | AL26: =TEXT(Y26,"jjj") -> lun | AM26: {=IFERROR(IF(AN26='EDT HEBDO'!$I$3,"C", IF(AN26='EDT HEBDO'!$I$1, INDEX('EDT HEBDO'!$B$7:$F$7,MATCH(AL26,LEFT('EDT HEBDO'!$B$1:$F$1,3),0)), IF(AN26='EDT HEBDO'!$I$2, INDEX('EDT HEBDO'!$B$15:$F$15,MATCH(AL26,LEFT('EDT HEBDO'!$B$1:$F$1,3),0)), INDEX(INFOS!$AA$3:$AA$15,MATCH(AK26,INFOS!$AB$3:$AB$15,0))))),"")} | AO26: =AO25+1 -> 46590 | AP26: =TEXT(Y26,"jjj") -> lun | AQ26: {=IFERROR(IF(AR26='EDT HEBDO'!$I$3,"C", IF(AR26='EDT HEBDO'!$I$1, INDEX('EDT HEBDO'!$B$7:$F$7,MATCH(AP26,LEFT('EDT HEBDO'!$B$1:$F$1,3),0)), IF(AR26='EDT HEBDO'!$I$2, INDEX('EDT HEBDO'!$B$15:$F$15,MATCH(AP26,LEFT('EDT HEBDO'!$B$1:$F$1,3),0)), INDEX(INFOS!$AA$3:$AA$15,MATCH(AO26,INFOS!$AB$3:$AB$15,0))))),"")} | AS26: =AS25+1 -> 46621 | AT26: =TEXT(Y26,"jjj") -> lun | AU26: {=IFERROR(IF(AV26='EDT HEBDO'!$I$3,"C", IF(AV26='EDT HEBDO'!$I$1, INDEX('EDT HEBDO'!$B$7:$F$7,MATCH(AT26,LEFT('EDT HEBDO'!$B$1:$F$1,3),0)), IF(AV26='EDT HEBDO'!$I$2, INDEX('EDT HEBDO'!$B$15:$F$15,MATCH(AT26,LEFT('EDT HEBDO'!$B$1:$F$1,3),0)), INDEX(INFOS!$AA$3:$AA$15,MATCH(AS26,INFOS!$AB$3:$AB$15,0))))),"")}
A27: =A26+1 -> 46288 | B27: =TEXT(A27,"jjj") -> mer | C27: {=IFERROR(IF(D27='EDT HEBDO'!$I$3,"C", IF(D27='EDT HEBDO'!$I$1, INDEX('EDT HEBDO'!$B$7:$F$7,MATCH(B27,LEFT('EDT HEBDO'!$B$1:$F$1,3),0)), IF(D27='EDT HEBDO'!$I$2, INDEX('EDT HEBDO'!$B$15:$F$15,MATCH(B27,LEFT('EDT HEBDO'!$B$1:$F$1,3),0)), INDEX(INFOS!$X$2:$X$14,MATCH(A27,INFOS!$W$2:$W$14,0))))),"")} -> 0.16666667 | D27: PS | E27: =E26+1 -> 46318 | F27: =TEXT(E27,"jjj") -> ven | G27: {=IFERROR(IF(H27='EDT HEBDO'!$I$3,"C", IF(H27='EDT HEBDO'!$I$1, INDEX('EDT HEBDO'!$B$7:$F$7,MATCH(F27,LEFT('EDT HEBDO'!$B$1:$F$1,3),0)), IF(H27='EDT HEBDO'!$I$2, INDEX('EDT HEBDO'!$B$15:$F$15,MATCH(F27,LEFT('EDT HEBDO'!$B$1:$F$1,3),0)), INDEX(INFOS!$X$2:$X$14,MATCH(E27,INFOS!$W$2:$W$14,0))))),"")} -> 0.37847222 | H27: PS | I27: =I26+1 -> 46349 | J27: =TEXT(I27,"jjj") -> lun | K27: {=IFERROR(IF(L27='EDT HEBDO'!$I$3,"C", IF(L27='EDT HEBDO'!$I$1, INDEX('EDT HEBDO'!$B$7:$F$7,MATCH(J27,LEFT('EDT HEBDO'!$B$1:$F$1,3),0)), IF(L27='EDT HEBDO'!$I$2, INDEX('EDT HEBDO'!$B$15:$F$15,MATCH(J27,LEFT('EDT HEBDO'!$B$1:$F$1,3),0)), INDEX(INFOS!$X$3:$X$15,MATCH(I27,INFOS!$Y$3:$Y$15,0))))),"")} -> 0.37847222 | L27: PS | M27: =M26+1 -> 46379 | N27: =TEXT(M27,"jjj") -> mer | O27: {=IFERROR(IF(P27='EDT HEBDO'!$I$3,"C", IF(P27='EDT HEBDO'!$I$1, INDEX('EDT HEBDO'!$B$7:$F$7,MATCH(N27,LEFT('EDT HEBDO'!$B$1:$F$1,3),0)), IF(P27='EDT HEBDO'!$I$2, INDEX('EDT HEBDO'!$B$15:$F$15,MATCH(N27,LEFT('EDT HEBDO'!$B$1:$F$1,3),0)), INDEX(INFOS!$X$2:$X$14,MATCH(M27,INFOS!$W$2:$W$14,0))))),"")} -> 0.16666667 | P27: PS | Q27: =Q26+1 -> 46410 | R27: =TEXT(Q27,"jjj") -> sam | S27: {=IFERROR(IF(T27='EDT HEBDO'!$I$3,"C", IF(T27='EDT HEBDO'!$I$1, INDEX('EDT HEBDO'!$B$7:$F$7,MATCH(R27,LEFT('EDT HEBDO'!$B$1:$F$1,3),0)), IF(T27='EDT HEBDO'!$I$2, INDEX('EDT HEBDO'!$B$15:$F$15,MATCH(R27,LEFT('EDT HEBDO'!$B$1:$F$1,3),0)), INDEX(INFOS!$AA$3:$AA$15,MATCH(Q27,INFOS!$AB$3:$AB$15,0))))),"")} | U27: =U26+1 -> 46441 | V27: =TEXT(U27,"jjj") -> mar | W27: {=IFERROR(IF(X27='EDT HEBDO'!$I$3,"C", IF(X27='EDT HEBDO'!$I$1, INDEX('EDT HEBDO'!$B$7:$F$7,MATCH(V27,LEFT('EDT HEBDO'!$B$1:$F$1,3),0)), IF(X27='EDT HEBDO'!$I$2, INDEX('EDT HEBDO'!$B$15:$F$15,MATCH(V27,LEFT('EDT HEBDO'!$B$1:$F$1,3),0)), INDEX(INFOS!$AA$3:$AA$15,MATCH(U27,INFOS!$AB$3:$AB$15,0))))),"")} -> 0.37847222 | X27: PS | Y27: =Y26+1 -> 46469 | Z27: =TEXT(Y27,"jjj") -> mar | AA27: {=IFERROR(IF(AB27='EDT HEBDO'!$I$3,"C", IF(AB27='EDT HEBDO'!$I$1, INDEX('EDT HEBDO'!$B$7:$F$7,MATCH(Z27,LEFT('EDT HEBDO'!$B$1:$F$1,3),0)), IF(AB27='EDT HEBDO'!$I$2, INDEX('EDT HEBDO'!$B$15:$F$15,MATCH(Z27,LEFT('EDT HEBDO'!$B$1:$F$1,3),0)), INDEX(INFOS!$AA$3:$AA$15,MATCH(Y27,INFOS!$AB$3:$AB$15,0))))),"")} -> 0.37847222 | AB27: PS | AC27: =AC26+1 -> 46500 | AD27: =TEXT(Y27,"jjj") -> mar | AE27: {=IFERROR(IF(AF27='EDT HEBDO'!$I$3,"C", IF(AF27='EDT HEBDO'!$I$1, INDEX('EDT HEBDO'!$B$7:$F$7,MATCH(AD27,LEFT('EDT HEBDO'!$B$1:$F$1,3),0)), IF(AF27='EDT HEBDO'!$I$2, INDEX('EDT HEBDO'!$B$15:$F$15,MATCH(AD27,LEFT('EDT HEBDO'!$B$1:$F$1,3),0)), INDEX(INFOS!$AA$3:$AA$15,MATCH(AC27,INFOS!$AB$3:$AB$15,0))))),"")} | AG27: =AG26+1 -> 46530 | AH27: =TEXT(Y27,"jjj") -> mar | AI27: {=IFERROR(IF(AJ27='EDT HEBDO'!$I$3,"C", IF(AJ27='EDT HEBDO'!$I$1, INDEX('EDT HEBDO'!$B$7:$F$7,MATCH(AH27,LEFT('EDT HEBDO'!$B$1:$F$1,3),0)), IF(AJ27='EDT HEBDO'!$I$2, INDEX('EDT HEBDO'!$B$15:$F$15,MATCH(AH27,LEFT('EDT HEBDO'!$B$1:$F$1,3),0)), INDEX(INFOS!$AA$3:$AA$15,MATCH(AG27,INFOS!$AB$3:$AB$15,0))))),"")} -> Pentecôte | AK27: =AK26+1 -> 46561 | AL27: =TEXT(Y27,"jjj") -> mar | AM27: {=IFERROR(IF(AN27='EDT HEBDO'!$I$3,"C", IF(AN27='EDT HEBDO'!$I$1, INDEX('EDT HEBDO'!$B$7:$F$7,MATCH(AL27,LEFT('EDT HEBDO'!$B$1:$F$1,3),0)), IF(AN27='EDT HEBDO'!$I$2, INDEX('EDT HEBDO'!$B$15:$F$15,MATCH(AL27,LEFT('EDT HEBDO'!$B$1:$F$1,3),0)), INDEX(INFOS!$AA$3:$AA$15,MATCH(AK27,INFOS!$AB$3:$AB$15,0))))),"")} | AO27: =AO26+1 -> 46591 | AP27: =TEXT(Y27,"jjj") -> mar | AQ27: {=IFERROR(IF(AR27='EDT HEBDO'!$I$3,"C", IF(AR27='EDT HEBDO'!$I$1, INDEX('EDT HEBDO'!$B$7:$F$7,MATCH(AP27,LEFT('EDT HEBDO'!$B$1:$F$1,3),0)), IF(AR27='EDT HEBDO'!$I$2, INDEX('EDT HEBDO'!$B$15:$F$15,MATCH(AP27,LEFT('EDT HEBDO'!$B$1:$F$1,3),0)), INDEX(INFOS!$AA$3:$AA$15,MATCH(AO27,INFOS!$AB$3:$AB$15,0))))),"")} | AS27: =AS26+1 -> 46622 | AT27: =TEXT(Y27,"jjj") -> mar | AU27: {=IFERROR(IF(AV27='EDT HEBDO'!$I$3,"C", IF(AV27='EDT HEBDO'!$I$1, INDEX('EDT HEBDO'!$B$7:$F$7,MATCH(AT27,LEFT('EDT HEBDO'!$B$1:$F$1,3),0)), IF(AV27='EDT HEBDO'!$I$2, INDEX('EDT HEBDO'!$B$15:$F$15,MATCH(AT27,LEFT('EDT HEBDO'!$B$1:$F$1,3),0)), INDEX(INFOS!$AA$3:$AA$15,MATCH(AS27,INFOS!$AB$3:$AB$15,0))))),"")}
A28: =A27+1 -> 46289 | B28: =TEXT(A28,"jjj") -> jeu | C28: {=IFERROR(IF(D28='EDT HEBDO'!$I$3,"C", IF(D28='EDT HEBDO'!$I$1, INDEX('EDT HEBDO'!$B$7:$F$7,MATCH(B28,LEFT('EDT HEBDO'!$B$1:$F$1,3),0)), IF(D28='EDT HEBDO'!$I$2, INDEX('EDT HEBDO'!$B$15:$F$15,MATCH(B28,LEFT('EDT HEBDO'!$B$1:$F$1,3),0)), INDEX(INFOS!$X$2:$X$14,MATCH(A28,INFOS!$W$2:$W$14,0))))),"")} -> 0.37847222 | D28: PS | E28: =E27+1 -> 46319 | F28: =TEXT(E28,"jjj") -> sam | G28: {=IFERROR(IF(H28='EDT HEBDO'!$I$3,"C", IF(H28='EDT HEBDO'!$I$1, INDEX('EDT HEBDO'!$B$7:$F$7,MATCH(F28,LEFT('EDT HEBDO'!$B$1:$F$1,3),0)), IF(H28='EDT HEBDO'!$I$2, INDEX('EDT HEBDO'!$B$15:$F$15,MATCH(F28,LEFT('EDT HEBDO'!$B$1:$F$1,3),0)), INDEX(INFOS!$X$2:$X$14,MATCH(E28,INFOS!$W$2:$W$14,0))))),"")} | I28: =I27+1 -> 46350 | J28: =TEXT(I28,"jjj") -> mar | K28: {=IFERROR(IF(L28='EDT HEBDO'!$I$3,"C", IF(L28='EDT HEBDO'!$I$1, INDEX('EDT HEBDO'!$B$7:$F$7,MATCH(J28,LEFT('EDT HEBDO'!$B$1:$F$1,3),0)), IF(L28='EDT HEBDO'!$I$2, INDEX('EDT HEBDO'!$B$15:$F$15,MATCH(J28,LEFT('EDT HEBDO'!$B$1:$F$1,3),0)), INDEX(INFOS!$X$3:$X$15,MATCH(I28,INFOS!$Y$3:$Y$15,0))))),"")} -> 0.37847222 | L28: PS | M28: =M27+1 -> 46380 | N28: =TEXT(M28,"jjj") -> jeu | O28: {=IFERROR(IF(P28='EDT HEBDO'!$I$3,"C", IF(P28='EDT HEBDO'!$I$1, INDEX('EDT HEBDO'!$B$7:$F$7,MATCH(N28,LEFT('EDT HEBDO'!$B$1:$F$1,3),0)), IF(P28='EDT HEBDO'!$I$2, INDEX('EDT HEBDO'!$B$15:$F$15,MATCH(N28,LEFT('EDT HEBDO'!$B$1:$F$1,3),0)), INDEX(INFOS!$X$2:$X$14,MATCH(M28,INFOS!$W$2:$W$14,0))))),"")} -> 0.37847222 | P28: PS | Q28: =Q27+1 -> 46411 | R28: =TEXT(Q28,"jjj") -> dim | S28: {=IFERROR(IF(T28='EDT HEBDO'!$I$3,"C", IF(T28='EDT HEBDO'!$I$1, INDEX('EDT HEBDO'!$B$7:$F$7,MATCH(R28,LEFT('EDT HEBDO'!$B$1:$F$1,3),0)), IF(T28='EDT HEBDO'!$I$2, INDEX('EDT HEBDO'!$B$15:$F$15,MATCH(R28,LEFT('EDT HEBDO'!$B$1:$F$1,3),0)), INDEX(INFOS!$AA$3:$AA$15,MATCH(Q28,INFOS!$AB$3:$AB$15,0))))),"")} | U28: =U27+1 -> 46442 | V28: =TEXT(U28,"jjj") -> mer | W28: {=IFERROR(IF(X28='EDT HEBDO'!$I$3,"C", IF(X28='EDT HEBDO'!$I$1, INDEX('EDT HEBDO'!$B$7:$F$7,MATCH(V28,LEFT('EDT HEBDO'!$B$1:$F$1,3),0)), IF(X28='EDT HEBDO'!$I$2, INDEX('EDT HEBDO'!$B$15:$F$15,MATCH(V28,LEFT('EDT HEBDO'!$B$1:$F$1,3),0)), INDEX(INFOS!$AA$3:$AA$15,MATCH(U28,INFOS!$AB$3:$AB$15,0))))),"")} -> 0.16666667 | X28: PS | Y28: =Y27+1 -> 46470 | Z28: =TEXT(Y28,"jjj") -> mer | AA28: {=IFERROR(IF(AB28='EDT HEBDO'!$I$3,"C", IF(AB28='EDT HEBDO'!$I$1, INDEX('EDT HEBDO'!$B$7:$F$7,MATCH(Z28,LEFT('EDT HEBDO'!$B$1:$F$1,3),0)), IF(AB28='EDT HEBDO'!$I$2, INDEX('EDT HEBDO'!$B$15:$F$15,MATCH(Z28,LEFT('EDT HEBDO'!$B$1:$F$1,3),0)), INDEX(INFOS!$AA$3:$AA$15,MATCH(Y28,INFOS!$AB$3:$AB$15,0))))),"")} -> 0.16666667 | AB28: PS | AC28: =AC27+1 -> 46501 | AD28: =TEXT(Y28,"jjj") -> mer | AE28: {=IFERROR(IF(AF28='EDT HEBDO'!$I$3,"C", IF(AF28='EDT HEBDO'!$I$1, INDEX('EDT HEBDO'!$B$7:$F$7,MATCH(AD28,LEFT('EDT HEBDO'!$B$1:$F$1,3),0)), IF(AF28='EDT HEBDO'!$I$2, INDEX('EDT HEBDO'!$B$15:$F$15,MATCH(AD28,LEFT('EDT HEBDO'!$B$1:$F$1,3),0)), INDEX(INFOS!$AA$3:$AA$15,MATCH(AC28,INFOS!$AB$3:$AB$15,0))))),"")} | AG28: =AG27+1 -> 46531 | AH28: =TEXT(Y28,"jjj") -> mer | AI28: {=IFERROR(IF(AJ28='EDT HEBDO'!$I$3,"C", IF(AJ28='EDT HEBDO'!$I$1, INDEX('EDT HEBDO'!$B$7:$F$7,MATCH(AH28,LEFT('EDT HEBDO'!$B$1:$F$1,3),0)), IF(AJ28='EDT HEBDO'!$I$2, INDEX('EDT HEBDO'!$B$15:$F$15,MATCH(AH28,LEFT('EDT HEBDO'!$B$1:$F$1,3),0)), INDEX(INFOS!$AA$3:$AA$15,MATCH(AG28,INFOS!$AB$3:$AB$15,0))))),"")} -> Lundi de Pentecôte | AK28: =AK27+1 -> 46562 | AL28: =TEXT(Y28,"jjj") -> mer | AM28: {=IFERROR(IF(AN28='EDT HEBDO'!$I$3,"C", IF(AN28='EDT HEBDO'!$I$1, INDEX('EDT HEBDO'!$B$7:$F$7,MATCH(AL28,LEFT('EDT HEBDO'!$B$1:$F$1,3),0)), IF(AN28='EDT HEBDO'!$I$2, INDEX('EDT HEBDO'!$B$15:$F$15,MATCH(AL28,LEFT('EDT HEBDO'!$B$1:$F$1,3),0)), INDEX(INFOS!$AA$3:$AA$15,MATCH(AK28,INFOS!$AB$3:$AB$15,0))))),"")} | AO28: =AO27+1 -> 46592 | AP28: =TEXT(Y28,"jjj") -> mer | AQ28: {=IFERROR(IF(AR28='EDT HEBDO'!$I$3,"C", IF(AR28='EDT HEBDO'!$I$1, INDEX('EDT HEBDO'!$B$7:$F$7,MATCH(AP28,LEFT('EDT HEBDO'!$B$1:$F$1,3),0)), IF(AR28='EDT HEBDO'!$I$2, INDEX('EDT HEBDO'!$B$15:$F$15,MATCH(AP28,LEFT('EDT HEBDO'!$B$1:$F$1,3),0)), INDEX(INFOS!$AA$3:$AA$15,MATCH(AO28,INFOS!$AB$3:$AB$15,0))))),"")} | AS28: =AS27+1 -> 46623 | AT28: =TEXT(Y28,"jjj") -> mer | AU28: {=IFERROR(IF(AV28='EDT HEBDO'!$I$3,"C", IF(AV28='EDT HEBDO'!$I$1, INDEX('EDT HEBDO'!$B$7:$F$7,MATCH(AT28,LEFT('EDT HEBDO'!$B$1:$F$1,3),0)), IF(AV28='EDT HEBDO'!$I$2, INDEX('EDT HEBDO'!$B$15:$F$15,MATCH(AT28,LEFT('EDT HEBDO'!$B$1:$F$1,3),0)), INDEX(INFOS!$AA$3:$AA$15,MATCH(AS28,INFOS!$AB$3:$AB$15,0))))),"")}
A29: =A28+1 -> 46290 | B29: =TEXT(A29,"jjj") -> ven | C29: {=IFERROR(IF(D29='EDT HEBDO'!$I$3,"C", IF(D29='EDT HEBDO'!$I$1, INDEX('EDT HEBDO'!$B$7:$F$7,MATCH(B29,LEFT('EDT HEBDO'!$B$1:$F$1,3),0)), IF(D29='EDT HEBDO'!$I$2, INDEX('EDT HEBDO'!$B$15:$F$15,MATCH(B29,LEFT('EDT HEBDO'!$B$1:$F$1,3),0)), INDEX(INFOS!$X$2:$X$14,MATCH(A29,INFOS!$W$2:$W$14,0))))),"")} -> 0.37847222 | D29: PS | E29: =E28+1 -> 46320 | F29: =TEXT(E29,"jjj") -> dim | G29: {=IFERROR(IF(H29='EDT HEBDO'!$I$3,"C", IF(H29='EDT HEBDO'!$I$1, INDEX('EDT HEBDO'!$B$7:$F$7,MATCH(F29,LEFT('EDT HEBDO'!$B$1:$F$1,3),0)), IF(H29='EDT HEBDO'!$I$2, INDEX('EDT HEBDO'!$B$15:$F$15,MATCH(F29,LEFT('EDT HEBDO'!$B$1:$F$1,3),0)), INDEX(INFOS!$X$2:$X$14,MATCH(E29,INFOS!$W$2:$W$14,0))))),"")} | I29: =I28+1 -> 46351 | J29: =TEXT(I29,"jjj") -> mer | K29: {=IFERROR(IF(L29='EDT HEBDO'!$I$3,"C", IF(L29='EDT HEBDO'!$I$1, INDEX('EDT HEBDO'!$B$7:$F$7,MATCH(J29,LEFT('EDT HEBDO'!$B$1:$F$1,3),0)), IF(L29='EDT HEBDO'!$I$2, INDEX('EDT HEBDO'!$B$15:$F$15,MATCH(J29,LEFT('EDT HEBDO'!$B$1:$F$1,3),0)), INDEX(INFOS!$X$3:$X$15,MATCH(I29,INFOS!$Y$3:$Y$15,0))))),"")} -> 0.16666667 | L29: PS | M29: =M28+1 -> 46381 | N29: =TEXT(M29,"jjj") -> ven | O29: =IFERROR(IF(P29='EDT HEBDO'!$I$3,"C", IF(P29='EDT HEBDO'!$I$1, INDEX('EDT HEBDO'!$B$7:$F$7,MATCH(N29,LEFT('EDT HEBDO'!$B$1:$F$1,3),0)), IF(P29='EDT HEBDO'!$I$2, INDEX('EDT HEBDO'!$B$15:$F$15,MATCH(N29,LEFT('EDT HEBDO'!$B$1:$F$1,3),0)), INDEX(INFOS!$X$3:$X$15,MATCH(M29,INFOS!$W$3:$W$15,0))))),"") | P29: PS | Q29: =Q28+1 -> 46412 | R29: =TEXT(Q29,"jjj") -> lun | S29: {=IFERROR(IF(T29='EDT HEBDO'!$I$3,"C", IF(T29='EDT HEBDO'!$I$1, INDEX('EDT HEBDO'!$B$7:$F$7,MATCH(R29,LEFT('EDT HEBDO'!$B$1:$F$1,3),0)), IF(T29='EDT HEBDO'!$I$2, INDEX('EDT HEBDO'!$B$15:$F$15,MATCH(R29,LEFT('EDT HEBDO'!$B$1:$F$1,3),0)), INDEX(INFOS!$AA$3:$AA$15,MATCH(Q29,INFOS!$AB$3:$AB$15,0))))),"")} -> 0.37847222 | T29: PS | U29: =U28+1 -> 46443 | V29: =TEXT(U29,"jjj") -> jeu | W29: {=IFERROR(IF(X29='EDT HEBDO'!$I$3,"C", IF(X29='EDT HEBDO'!$I$1, INDEX('EDT HEBDO'!$B$7:$F$7,MATCH(V29,LEFT('EDT HEBDO'!$B$1:$F$1,3),0)), IF(X29='EDT HEBDO'!$I$2, INDEX('EDT HEBDO'!$B$15:$F$15,MATCH(V29,LEFT('EDT HEBDO'!$B$1:$F$1,3),0)), INDEX(INFOS!$AA$3:$AA$15,MATCH(U29,INFOS!$AB$3:$AB$15,0))))),"")} -> 0.37847222 | X29: PS | Y29: =Y28+1 -> 46471 | Z29: =TEXT(Y29,"jjj") -> jeu | AA29: {=IFERROR(IF(AB29='EDT HEBDO'!$I$3,"C", IF(AB29='EDT HEBDO'!$I$1, INDEX('EDT HEBDO'!$B$7:$F$7,MATCH(Z29,LEFT('EDT HEBDO'!$B$1:$F$1,3),0)), IF(AB29='EDT HEBDO'!$I$2, INDEX('EDT HEBDO'!$B$15:$F$15,MATCH(Z29,LEFT('EDT HEBDO'!$B$1:$F$1,3),0)), INDEX(INFOS!$AA$3:$AA$15,MATCH(Y29,INFOS!$AB$3:$AB$15,0))))),"")} -> 0.37847222 | AB29: PS | AC29: =AC28+1 -> 46502 | AD29: =TEXT(Y29,"jjj") -> jeu | AE29: {=IFERROR(IF(AF29='EDT HEBDO'!$I$3,"C", IF(AF29='EDT HEBDO'!$I$1, INDEX('EDT HEBDO'!$B$7:$F$7,MATCH(AD29,LEFT('EDT HEBDO'!$B$1:$F$1,3),0)), IF(AF29='EDT HEBDO'!$I$2, INDEX('EDT HEBDO'!$B$15:$F$15,MATCH(AD29,LEFT('EDT HEBDO'!$B$1:$F$1,3),0)), INDEX(INFOS!$AA$3:$AA$15,MATCH(AC29,INFOS!$AB$3:$AB$15,0))))),"")} | AG29: =AG28+1 -> 46532 | AH29: =TEXT(Y29,"jjj") -> jeu | AI29: {=IFERROR(IF(AJ29='EDT HEBDO'!$I$3,"C", IF(AJ29='EDT HEBDO'!$I$1, INDEX('EDT HEBDO'!$B$7:$F$7,MATCH(AH29,LEFT('EDT HEBDO'!$B$1:$F$1,3),0)), IF(AJ29='EDT HEBDO'!$I$2, INDEX('EDT HEBDO'!$B$15:$F$15,MATCH(AH29,LEFT('EDT HEBDO'!$B$1:$F$1,3),0)), INDEX(INFOS!$AA$3:$AA$15,MATCH(AG29,INFOS!$AB$3:$AB$15,0))))),"")} | AK29: =AK28+1 -> 46563 | AL29: =TEXT(Y29,"jjj") -> jeu | AM29: {=IFERROR(IF(AN29='EDT HEBDO'!$I$3,"C", IF(AN29='EDT HEBDO'!$I$1, INDEX('EDT HEBDO'!$B$7:$F$7,MATCH(AL29,LEFT('EDT HEBDO'!$B$1:$F$1,3),0)), IF(AN29='EDT HEBDO'!$I$2, INDEX('EDT HEBDO'!$B$15:$F$15,MATCH(AL29,LEFT('EDT HEBDO'!$B$1:$F$1,3),0)), INDEX(INFOS!$AA$3:$AA$15,MATCH(AK29,INFOS!$AB$3:$AB$15,0))))),"")} | AO29: =AO28+1 -> 46593 | AP29: =TEXT(Y29,"jjj") -> jeu | AQ29: {=IFERROR(IF(AR29='EDT HEBDO'!$I$3,"C", IF(AR29='EDT HEBDO'!$I$1, INDEX('EDT HEBDO'!$B$7:$F$7,MATCH(AP29,LEFT('EDT HEBDO'!$B$1:$F$1,3),0)), IF(AR29='EDT HEBDO'!$I$2, INDEX('EDT HEBDO'!$B$15:$F$15,MATCH(AP29,LEFT('EDT HEBDO'!$B$1:$F$1,3),0)), INDEX(INFOS!$AA$3:$AA$15,MATCH(AO29,INFOS!$AB$3:$AB$15,0))))),"")} | AS29: =AS28+1 -> 46624 | AT29: =TEXT(Y29,"jjj") -> jeu | AU29: {=IFERROR(IF(AV29='EDT HEBDO'!$I$3,"C", IF(AV29='EDT HEBDO'!$I$1, INDEX('EDT HEBDO'!$B$7:$F$7,MATCH(AT29,LEFT('EDT HEBDO'!$B$1:$F$1,3),0)), IF(AV29='EDT HEBDO'!$I$2, INDEX('EDT HEBDO'!$B$15:$F$15,MATCH(AT29,LEFT('EDT HEBDO'!$B$1:$F$1,3),0)), INDEX(INFOS!$AA$3:$AA$15,MATCH(AS29,INFOS!$AB$3:$AB$15,0))))),"")}
A30: =A29+1 -> 46291 | B30: =TEXT(A30,"jjj") -> sam | C30: {=IFERROR(IF(D30='EDT HEBDO'!$I$3,"C", IF(D30='EDT HEBDO'!$I$1, INDEX('EDT HEBDO'!$B$7:$F$7,MATCH(B30,LEFT('EDT HEBDO'!$B$1:$F$1,3),0)), IF(D30='EDT HEBDO'!$I$2, INDEX('EDT HEBDO'!$B$15:$F$15,MATCH(B30,LEFT('EDT HEBDO'!$B$1:$F$1,3),0)), INDEX(INFOS!$X$2:$X$14,MATCH(A30,INFOS!$W$2:$W$14,0))))),"")} | E30: =E29+1 -> 46321 | F30: =TEXT(E30,"jjj") -> lun | G30: {=IFERROR(IF(H30='EDT HEBDO'!$I$3,"C", IF(H30='EDT HEBDO'!$I$1, INDEX('EDT HEBDO'!$B$7:$F$7,MATCH(F30,LEFT('EDT HEBDO'!$B$1:$F$1,3),0)), IF(H30='EDT HEBDO'!$I$2, INDEX('EDT HEBDO'!$B$15:$F$15,MATCH(F30,LEFT('EDT HEBDO'!$B$1:$F$1,3),0)), INDEX(INFOS!$X$2:$X$14,MATCH(E30,INFOS!$W$2:$W$14,0))))),"")} -> 0.37847222 | H30: PS | I30: =I29+1 -> 46352 | J30: =TEXT(I30,"jjj") -> jeu | K30: {=IFERROR(IF(L30='EDT HEBDO'!$I$3,"C", IF(L30='EDT HEBDO'!$I$1, INDEX('EDT HEBDO'!$B$7:$F$7,MATCH(J30,LEFT('EDT HEBDO'!$B$1:$F$1,3),0)), IF(L30='EDT HEBDO'!$I$2, INDEX('EDT HEBDO'!$B$15:$F$15,MATCH(J30,LEFT('EDT HEBDO'!$B$1:$F$1,3),0)), INDEX(INFOS!$X$3:$X$15,MATCH(I30,INFOS!$Y$3:$Y$15,0))))),"")} -> 0.37847222 | L30: PS | M30: =M29+1 -> 46382 | N30: =TEXT(M30,"jjj") -> sam | O30: {=IFERROR(IF(P30='EDT HEBDO'!$I$3,"C", IF(P30='EDT HEBDO'!$I$1, INDEX('EDT HEBDO'!$B$7:$F$7,MATCH(N30,LEFT('EDT HEBDO'!$B$1:$F$1,3),0)), IF(P30='EDT HEBDO'!$I$2, INDEX('EDT HEBDO'!$B$15:$F$15,MATCH(N30,LEFT('EDT HEBDO'!$B$1:$F$1,3),0)), INDEX(INFOS!$X$2:$X$14,MATCH(M30,INFOS!$W$2:$W$14,0))))),"")} | Q30: =Q29+1 -> 46413 | R30: =TEXT(Q30,"jjj") -> mar | S30: {=IFERROR(IF(T30='EDT HEBDO'!$I$3,"C", IF(T30='EDT HEBDO'!$I$1, INDEX('EDT HEBDO'!$B$7:$F$7,MATCH(R30,LEFT('EDT HEBDO'!$B$1:$F$1,3),0)), IF(T30='EDT HEBDO'!$I$2, INDEX('EDT HEBDO'!$B$15:$F$15,MATCH(R30,LEFT('EDT HEBDO'!$B$1:$F$1,3),0)), INDEX(INFOS!$AA$3:$AA$15,MATCH(Q30,INFOS!$AB$3:$AB$15,0))))),"")} -> 0.37847222 | T30: PS | U30: =U29+1 -> 46444 | V30: =TEXT(U30,"jjj") -> ven | W30: {=IFERROR(IF(X30='EDT HEBDO'!$I$3,"C", IF(X30='EDT HEBDO'!$I$1, INDEX('EDT HEBDO'!$B$7:$F$7,MATCH(V30,LEFT('EDT HEBDO'!$B$1:$F$1,3),0)), IF(X30='EDT HEBDO'!$I$2, INDEX('EDT HEBDO'!$B$15:$F$15,MATCH(V30,LEFT('EDT HEBDO'!$B$1:$F$1,3),0)), INDEX(INFOS!$AA$3:$AA$15,MATCH(U30,INFOS!$AB$3:$AB$15,0))))),"")} -> 0.37847222 | X30: PS | Y30: =Y29+1 -> 46472 | Z30: =TEXT(Y30,"jjj") -> ven | AA30: {=IFERROR(IF(AB30='EDT HEBDO'!$I$3,"C", IF(AB30='EDT HEBDO'!$I$1, INDEX('EDT HEBDO'!$B$7:$F$7,MATCH(Z30,LEFT('EDT HEBDO'!$B$1:$F$1,3),0)), IF(AB30='EDT HEBDO'!$I$2, INDEX('EDT HEBDO'!$B$15:$F$15,MATCH(Z30,LEFT('EDT HEBDO'!$B$1:$F$1,3),0)), INDEX(INFOS!$AA$3:$AA$15,MATCH(Y30,INFOS!$AB$3:$AB$15,0))))),"")} -> 0.37847222 | AB30: PS | AC30: =AC29+1 -> 46503 | AD30: =TEXT(Y30,"jjj") -> ven | AE30: {=IFERROR(IF(AF30='EDT HEBDO'!$I$3,"C", IF(AF30='EDT HEBDO'!$I$1, INDEX('EDT HEBDO'!$B$7:$F$7,MATCH(AD30,LEFT('EDT HEBDO'!$B$1:$F$1,3),0)), IF(AF30='EDT HEBDO'!$I$2, INDEX('EDT HEBDO'!$B$15:$F$15,MATCH(AD30,LEFT('EDT HEBDO'!$B$1:$F$1,3),0)), INDEX(INFOS!$AA$3:$AA$15,MATCH(AC30,INFOS!$AB$3:$AB$15,0))))),"")} | AG30: =AG29+1 -> 46533 | AH30: =TEXT(Y30,"jjj") -> ven | AI30: {=IFERROR(IF(AJ30='EDT HEBDO'!$I$3,"C", IF(AJ30='EDT HEBDO'!$I$1, INDEX('EDT HEBDO'!$B$7:$F$7,MATCH(AH30,LEFT('EDT HEBDO'!$B$1:$F$1,3),0)), IF(AJ30='EDT HEBDO'!$I$2, INDEX('EDT HEBDO'!$B$15:$F$15,MATCH(AH30,LEFT('EDT HEBDO'!$B$1:$F$1,3),0)), INDEX(INFOS!$AA$3:$AA$15,MATCH(AG30,INFOS!$AB$3:$AB$15,0))))),"")} | AK30: =AK29+1 -> 46564 | AL30: =TEXT(Y30,"jjj") -> ven | AM30: {=IFERROR(IF(AN30='EDT HEBDO'!$I$3,"C", IF(AN30='EDT HEBDO'!$I$1, INDEX('EDT HEBDO'!$B$7:$F$7,MATCH(AL30,LEFT('EDT HEBDO'!$B$1:$F$1,3),0)), IF(AN30='EDT HEBDO'!$I$2, INDEX('EDT HEBDO'!$B$15:$F$15,MATCH(AL30,LEFT('EDT HEBDO'!$B$1:$F$1,3),0)), INDEX(INFOS!$AA$3:$AA$15,MATCH(AK30,INFOS!$AB$3:$AB$15,0))))),"")} | AO30: =AO29+1 -> 46594 | AP30: =TEXT(Y30,"jjj") -> ven | AQ30: {=IFERROR(IF(AR30='EDT HEBDO'!$I$3,"C", IF(AR30='EDT HEBDO'!$I$1, INDEX('EDT HEBDO'!$B$7:$F$7,MATCH(AP30,LEFT('EDT HEBDO'!$B$1:$F$1,3),0)), IF(AR30='EDT HEBDO'!$I$2, INDEX('EDT HEBDO'!$B$15:$F$15,MATCH(AP30,LEFT('EDT HEBDO'!$B$1:$F$1,3),0)), INDEX(INFOS!$AA$3:$AA$15,MATCH(AO30,INFOS!$AB$3:$AB$15,0))))),"")} | AS30: =AS29+1 -> 46625 | AT30: =TEXT(Y30,"jjj") -> ven | AU30: {=IFERROR(IF(AV30='EDT HEBDO'!$I$3,"C", IF(AV30='EDT HEBDO'!$I$1, INDEX('EDT HEBDO'!$B$7:$F$7,MATCH(AT30,LEFT('EDT HEBDO'!$B$1:$F$1,3),0)), IF(AV30='EDT HEBDO'!$I$2, INDEX('EDT HEBDO'!$B$15:$F$15,MATCH(AT30,LEFT('EDT HEBDO'!$B$1:$F$1,3),0)), INDEX(INFOS!$AA$3:$AA$15,MATCH(AS30,INFOS!$AB$3:$AB$15,0))))),"")}
A31: =A30+1 -> 46292 | B31: =TEXT(A31,"jjj") -> dim | C31: {=IFERROR(IF(D31='EDT HEBDO'!$I$3,"C", IF(D31='EDT HEBDO'!$I$1, INDEX('EDT HEBDO'!$B$7:$F$7,MATCH(B31,LEFT('EDT HEBDO'!$B$1:$F$1,3),0)), IF(D31='EDT HEBDO'!$I$2, INDEX('EDT HEBDO'!$B$15:$F$15,MATCH(B31,LEFT('EDT HEBDO'!$B$1:$F$1,3),0)), INDEX(INFOS!$X$2:$X$14,MATCH(A31,INFOS!$W$2:$W$14,0))))),"")} | E31: =E30+1 -> 46322 | F31: =TEXT(E31,"jjj") -> mar | G31: {=IFERROR(IF(H31='EDT HEBDO'!$I$3,"C", IF(H31='EDT HEBDO'!$I$1, INDEX('EDT HEBDO'!$B$7:$F$7,MATCH(F31,LEFT('EDT HEBDO'!$B$1:$F$1,3),0)), IF(H31='EDT HEBDO'!$I$2, INDEX('EDT HEBDO'!$B$15:$F$15,MATCH(F31,LEFT('EDT HEBDO'!$B$1:$F$1,3),0)), INDEX(INFOS!$X$2:$X$14,MATCH(E31,INFOS!$W$2:$W$14,0))))),"")} -> 0.37847222 | H31: PS | I31: =I30+1 -> 46353 | J31: =TEXT(I31,"jjj") -> ven | K31: {=IFERROR(IF(L31='EDT HEBDO'!$I$3,"C", IF(L31='EDT HEBDO'!$I$1, INDEX('EDT HEBDO'!$B$7:$F$7,MATCH(J31,LEFT('EDT HEBDO'!$B$1:$F$1,3),0)), IF(L31='EDT HEBDO'!$I$2, INDEX('EDT HEBDO'!$B$15:$F$15,MATCH(J31,LEFT('EDT HEBDO'!$B$1:$F$1,3),0)), INDEX(INFOS!$X$3:$X$15,MATCH(I31,INFOS!$Y$3:$Y$15,0))))),"")} -> 0.37847222 | L31: PS | M31: =M30+1 -> 46383 | N31: =TEXT(M31,"jjj") -> dim | O31: {=IFERROR(IF(P31='EDT HEBDO'!$I$3,"C", IF(P31='EDT HEBDO'!$I$1, INDEX('EDT HEBDO'!$B$7:$F$7,MATCH(N31,LEFT('EDT HEBDO'!$B$1:$F$1,3),0)), IF(P31='EDT HEBDO'!$I$2, INDEX('EDT HEBDO'!$B$15:$F$15,MATCH(N31,LEFT('EDT HEBDO'!$B$1:$F$1,3),0)), INDEX(INFOS!$X$2:$X$14,MATCH(M31,INFOS!$W$2:$W$14,0))))),"")} | Q31: =Q30+1 -> 46414 | R31: =TEXT(Q31,"jjj") -> mer | S31: {=IFERROR(IF(T31='EDT HEBDO'!$I$3,"C", IF(T31='EDT HEBDO'!$I$1, INDEX('EDT HEBDO'!$B$7:$F$7,MATCH(R31,LEFT('EDT HEBDO'!$B$1:$F$1,3),0)), IF(T31='EDT HEBDO'!$I$2, INDEX('EDT HEBDO'!$B$15:$F$15,MATCH(R31,LEFT('EDT HEBDO'!$B$1:$F$1,3),0)), INDEX(INFOS!$AA$3:$AA$15,MATCH(Q31,INFOS!$AB$3:$AB$15,0))))),"")} -> 0.16666667 | T31: PS | U31: =U30+1 -> 46445 | V31: =TEXT(U31,"jjj") -> sam | W31: {=IFERROR(IF(X31='EDT HEBDO'!$I$3,"C", IF(X31='EDT HEBDO'!$I$1, INDEX('EDT HEBDO'!$B$7:$F$7,MATCH(V31,LEFT('EDT HEBDO'!$B$1:$F$1,3),0)), IF(X31='EDT HEBDO'!$I$2, INDEX('EDT HEBDO'!$B$15:$F$15,MATCH(V31,LEFT('EDT HEBDO'!$B$1:$F$1,3),0)), INDEX(INFOS!$AA$3:$AA$15,MATCH(U31,INFOS!$AB$3:$AB$15,0))))),"")} | Y31: =Y30+1 -> 46473 | Z31: =TEXT(Y31,"jjj") -> sam | AA31: {=IFERROR(IF(AB31='EDT HEBDO'!$I$3,"C", IF(AB31='EDT HEBDO'!$I$1, INDEX('EDT HEBDO'!$B$7:$F$7,MATCH(Z31,LEFT('EDT HEBDO'!$B$1:$F$1,3),0)), IF(AB31='EDT HEBDO'!$I$2, INDEX('EDT HEBDO'!$B$15:$F$15,MATCH(Z31,LEFT('EDT HEBDO'!$B$1:$F$1,3),0)), INDEX(INFOS!$AA$3:$AA$15,MATCH(Y31,INFOS!$AB$3:$AB$15,0))))),"")} | AC31: =AC30+1 -> 46504 | AD31: =TEXT(Y31,"jjj") -> sam | AE31: {=IFERROR(IF(AF31='EDT HEBDO'!$I$3,"C", IF(AF31='EDT HEBDO'!$I$1, INDEX('EDT HEBDO'!$B$7:$F$7,MATCH(AD31,LEFT('EDT HEBDO'!$B$1:$F$1,3),0)), IF(AF31='EDT HEBDO'!$I$2, INDEX('EDT HEBDO'!$B$15:$F$15,MATCH(AD31,LEFT('EDT HEBDO'!$B$1:$F$1,3),0)), INDEX(INFOS!$AA$3:$AA$15,MATCH(AC31,INFOS!$AB$3:$AB$15,0))))),"")} | AG31: =AG30+1 -> 46534 | AH31: =TEXT(Y31,"jjj") -> sam | AI31: {=IFERROR(IF(AJ31='EDT HEBDO'!$I$3,"C", IF(AJ31='EDT HEBDO'!$I$1, INDEX('EDT HEBDO'!$B$7:$F$7,MATCH(AH31,LEFT('EDT HEBDO'!$B$1:$F$1,3),0)), IF(AJ31='EDT HEBDO'!$I$2, INDEX('EDT HEBDO'!$B$15:$F$15,MATCH(AH31,LEFT('EDT HEBDO'!$B$1:$F$1,3),0)), INDEX(INFOS!$AA$3:$AA$15,MATCH(AG31,INFOS!$AB$3:$AB$15,0))))),"")} | AK31: =AK30+1 -> 46565 | AL31: =TEXT(Y31,"jjj") -> sam | AM31: {=IFERROR(IF(AN31='EDT HEBDO'!$I$3,"C", IF(AN31='EDT HEBDO'!$I$1, INDEX('EDT HEBDO'!$B$7:$F$7,MATCH(AL31,LEFT('EDT HEBDO'!$B$1:$F$1,3),0)), IF(AN31='EDT HEBDO'!$I$2, INDEX('EDT HEBDO'!$B$15:$F$15,MATCH(AL31,LEFT('EDT HEBDO'!$B$1:$F$1,3),0)), INDEX(INFOS!$AA$3:$AA$15,MATCH(AK31,INFOS!$AB$3:$AB$15,0))))),"")} | AO31: =AO30+1 -> 46595 | AP31: =TEXT(Y31,"jjj") -> sam | AQ31: {=IFERROR(IF(AR31='EDT HEBDO'!$I$3,"C", IF(AR31='EDT HEBDO'!$I$1, INDEX('EDT HEBDO'!$B$7:$F$7,MATCH(AP31,LEFT('EDT HEBDO'!$B$1:$F$1,3),0)), IF(AR31='EDT HEBDO'!$I$2, INDEX('EDT HEBDO'!$B$15:$F$15,MATCH(AP31,LEFT('EDT HEBDO'!$B$1:$F$1,3),0)), INDEX(INFOS!$AA$3:$AA$15,MATCH(AO31,INFOS!$AB$3:$AB$15,0))))),"")} | AS31: =AS30+1 -> 46626 | AT31: =TEXT(Y31,"jjj") -> sam | AU31: {=IFERROR(IF(AV31='EDT HEBDO'!$I$3,"C", IF(AV31='EDT HEBDO'!$I$1, INDEX('EDT HEBDO'!$B$7:$F$7,MATCH(AT31,LEFT('EDT HEBDO'!$B$1:$F$1,3),0)), IF(AV31='EDT HEBDO'!$I$2, INDEX('EDT HEBDO'!$B$15:$F$15,MATCH(AT31,LEFT('EDT HEBDO'!$B$1:$F$1,3),0)), INDEX(INFOS!$AA$3:$AA$15,MATCH(AS31,INFOS!$AB$3:$AB$15,0))))),"")}
A32: =A31+1 -> 46293 | B32: =TEXT(A32,"jjj") -> lun | C32: {=IFERROR(IF(D32='EDT HEBDO'!$I$3,"C", IF(D32='EDT HEBDO'!$I$1, INDEX('EDT HEBDO'!$B$7:$F$7,MATCH(B32,LEFT('EDT HEBDO'!$B$1:$F$1,3),0)), IF(D32='EDT HEBDO'!$I$2, INDEX('EDT HEBDO'!$B$15:$F$15,MATCH(B32,LEFT('EDT HEBDO'!$B$1:$F$1,3),0)), INDEX(INFOS!$X$2:$X$14,MATCH(A32,INFOS!$W$2:$W$14,0))))),"")} -> 0.37847222 | D32: PS | E32: =E31+1 -> 46323 | F32: =TEXT(E32,"jjj") -> mer | G32: {=IFERROR(IF(H32='EDT HEBDO'!$I$3,"C", IF(H32='EDT HEBDO'!$I$1, INDEX('EDT HEBDO'!$B$7:$F$7,MATCH(F32,LEFT('EDT HEBDO'!$B$1:$F$1,3),0)), IF(H32='EDT HEBDO'!$I$2, INDEX('EDT HEBDO'!$B$15:$F$15,MATCH(F32,LEFT('EDT HEBDO'!$B$1:$F$1,3),0)), INDEX(INFOS!$X$2:$X$14,MATCH(E32,INFOS!$W$2:$W$14,0))))),"")} -> 0.16666667 | H32: PS | I32: =I31+1 -> 46354 | J32: =TEXT(I32,"jjj") -> sam | K32: {=IFERROR(IF(L32='EDT HEBDO'!$I$3,"C", IF(L32='EDT HEBDO'!$I$1, INDEX('EDT HEBDO'!$B$7:$F$7,MATCH(J32,LEFT('EDT HEBDO'!$B$1:$F$1,3),0)), IF(L32='EDT HEBDO'!$I$2, INDEX('EDT HEBDO'!$B$15:$F$15,MATCH(J32,LEFT('EDT HEBDO'!$B$1:$F$1,3),0)), INDEX(INFOS!$X$3:$X$15,MATCH(I32,INFOS!$Y$3:$Y$15,0))))),"")} | M32: =M31+1 -> 46384 | N32: =TEXT(M32,"jjj") -> lun | O32: {=IFERROR(IF(P32='EDT HEBDO'!$I$3,"C", IF(P32='EDT HEBDO'!$I$1, INDEX('EDT HEBDO'!$B$7:$F$7,MATCH(N32,LEFT('EDT HEBDO'!$B$1:$F$1,3),0)), IF(P32='EDT HEBDO'!$I$2, INDEX('EDT HEBDO'!$B$15:$F$15,MATCH(N32,LEFT('EDT HEBDO'!$B$1:$F$1,3),0)), INDEX(INFOS!$X$2:$X$14,MATCH(M32,INFOS!$W$2:$W$14,0))))),"")} -> 0.37847222 | P32: PS | Q32: =Q31+1 -> 46415 | R32: =TEXT(Q32,"jjj") -> jeu | S32: {=IFERROR(IF(T32='EDT HEBDO'!$I$3,"C", IF(T32='EDT HEBDO'!$I$1, INDEX('EDT HEBDO'!$B$7:$F$7,MATCH(R32,LEFT('EDT HEBDO'!$B$1:$F$1,3),0)), IF(T32='EDT HEBDO'!$I$2, INDEX('EDT HEBDO'!$B$15:$F$15,MATCH(R32,LEFT('EDT HEBDO'!$B$1:$F$1,3),0)), INDEX(INFOS!$AA$3:$AA$15,MATCH(Q32,INFOS!$AB$3:$AB$15,0))))),"")} -> 0.37847222 | T32: PS | U32: =U31+1 -> 46446 | V32: =TEXT(U32,"jjj") -> dim | W32: {=IFERROR(IF(X32='EDT HEBDO'!$I$3,"C", IF(X32='EDT HEBDO'!$I$1, INDEX('EDT HEBDO'!$B$7:$F$7,MATCH(V32,LEFT('EDT HEBDO'!$B$1:$F$1,3),0)), IF(X32='EDT HEBDO'!$I$2, INDEX('EDT HEBDO'!$B$15:$F$15,MATCH(V32,LEFT('EDT HEBDO'!$B$1:$F$1,3),0)), INDEX(INFOS!$AA$3:$AA$15,MATCH(U32,INFOS!$AB$3:$AB$15,0))))),"")} | Y32: =Y31+1 -> 46474 | Z32: =TEXT(Y32,"jjj") -> dim | AA32: {=IFERROR(IF(AB32='EDT HEBDO'!$I$3,"C", IF(AB32='EDT HEBDO'!$I$1, INDEX('EDT HEBDO'!$B$7:$F$7,MATCH(Z32,LEFT('EDT HEBDO'!$B$1:$F$1,3),0)), IF(AB32='EDT HEBDO'!$I$2, INDEX('EDT HEBDO'!$B$15:$F$15,MATCH(Z32,LEFT('EDT HEBDO'!$B$1:$F$1,3),0)), INDEX(INFOS!$AA$3:$AA$15,MATCH(Y32,INFOS!$AB$3:$AB$15,0))))),"")} | AC32: =AC31+1 -> 46505 | AD32: =TEXT(Y32,"jjj") -> dim | AE32: {=IFERROR(IF(AF32='EDT HEBDO'!$I$3,"C", IF(AF32='EDT HEBDO'!$I$1, INDEX('EDT HEBDO'!$B$7:$F$7,MATCH(AD32,LEFT('EDT HEBDO'!$B$1:$F$1,3),0)), IF(AF32='EDT HEBDO'!$I$2, INDEX('EDT HEBDO'!$B$15:$F$15,MATCH(AD32,LEFT('EDT HEBDO'!$B$1:$F$1,3),0)), INDEX(INFOS!$AA$3:$AA$15,MATCH(AC32,INFOS!$AB$3:$AB$15,0))))),"")} | AG32: =AG31+1 -> 46535 | AH32: =TEXT(Y32,"jjj") -> dim | AI32: {=IFERROR(IF(AJ32='EDT HEBDO'!$I$3,"C", IF(AJ32='EDT HEBDO'!$I$1, INDEX('EDT HEBDO'!$B$7:$F$7,MATCH(AH32,LEFT('EDT HEBDO'!$B$1:$F$1,3),0)), IF(AJ32='EDT HEBDO'!$I$2, INDEX('EDT HEBDO'!$B$15:$F$15,MATCH(AH32,LEFT('EDT HEBDO'!$B$1:$F$1,3),0)), INDEX(INFOS!$AA$3:$AA$15,MATCH(AG32,INFOS!$AB$3:$AB$15,0))))),"")} | AK32: =AK31+1 -> 46566 | AL32: =TEXT(Y32,"jjj") -> dim | AM32: {=IFERROR(IF(AN32='EDT HEBDO'!$I$3,"C", IF(AN32='EDT HEBDO'!$I$1, INDEX('EDT HEBDO'!$B$7:$F$7,MATCH(AL32,LEFT('EDT HEBDO'!$B$1:$F$1,3),0)), IF(AN32='EDT HEBDO'!$I$2, INDEX('EDT HEBDO'!$B$15:$F$15,MATCH(AL32,LEFT('EDT HEBDO'!$B$1:$F$1,3),0)), INDEX(INFOS!$AA$3:$AA$15,MATCH(AK32,INFOS!$AB$3:$AB$15,0))))),"")} | AO32: =AO31+1 -> 46596 | AP32: =TEXT(Y32,"jjj") -> dim | AQ32: {=IFERROR(IF(AR32='EDT HEBDO'!$I$3,"C", IF(AR32='EDT HEBDO'!$I$1, INDEX('EDT HEBDO'!$B$7:$F$7,MATCH(AP32,LEFT('EDT HEBDO'!$B$1:$F$1,3),0)), IF(AR32='EDT HEBDO'!$I$2, INDEX('EDT HEBDO'!$B$15:$F$15,MATCH(AP32,LEFT('EDT HEBDO'!$B$1:$F$1,3),0)), INDEX(INFOS!$AA$3:$AA$15,MATCH(AO32,INFOS!$AB$3:$AB$15,0))))),"")} | AS32: =AS31+1 -> 46627 | AT32: =TEXT(Y32,"jjj") -> dim | AU32: {=IFERROR(IF(AV32='EDT HEBDO'!$I$3,"C", IF(AV32='EDT HEBDO'!$I$1, INDEX('EDT HEBDO'!$B$7:$F$7,MATCH(AT32,LEFT('EDT HEBDO'!$B$1:$F$1,3),0)), IF(AV32='EDT HEBDO'!$I$2, INDEX('EDT HEBDO'!$B$15:$F$15,MATCH(AT32,LEFT('EDT HEBDO'!$B$1:$F$1,3),0)), INDEX(INFOS!$AA$3:$AA$15,MATCH(AS32,INFOS!$AB$3:$AB$15,0))))),"")}
A33: =A32+1 -> 46294 | B33: =TEXT(A33,"jjj") -> mar | C33: {=IFERROR(IF(D33='EDT HEBDO'!$I$3,"C", IF(D33='EDT HEBDO'!$I$1, INDEX('EDT HEBDO'!$B$7:$F$7,MATCH(B33,LEFT('EDT HEBDO'!$B$1:$F$1,3),0)), IF(D33='EDT HEBDO'!$I$2, INDEX('EDT HEBDO'!$B$15:$F$15,MATCH(B33,LEFT('EDT HEBDO'!$B$1:$F$1,3),0)), INDEX(INFOS!$X$2:$X$14,MATCH(A33,INFOS!$W$2:$W$14,0))))),"")} -> 0.37847222 | D33: PS | E33: =E32+1 -> 46324 | F33: =TEXT(E33,"jjj") -> jeu | G33: {=IFERROR(IF(H33='EDT HEBDO'!$I$3,"C", IF(H33='EDT HEBDO'!$I$1, INDEX('EDT HEBDO'!$B$7:$F$7,MATCH(F33,LEFT('EDT HEBDO'!$B$1:$F$1,3),0)), IF(H33='EDT HEBDO'!$I$2, INDEX('EDT HEBDO'!$B$15:$F$15,MATCH(F33,LEFT('EDT HEBDO'!$B$1:$F$1,3),0)), INDEX(INFOS!$X$2:$X$14,MATCH(E33,INFOS!$W$2:$W$14,0))))),"")} -> 0.37847222 | H33: PS | I33: =I32+1 -> 46355 | J33: =TEXT(I33,"jjj") -> dim | K33: {=IFERROR(IF(L33='EDT HEBDO'!$I$3,"C", IF(L33='EDT HEBDO'!$I$1, INDEX('EDT HEBDO'!$B$7:$F$7,MATCH(J33,LEFT('EDT HEBDO'!$B$1:$F$1,3),0)), IF(L33='EDT HEBDO'!$I$2, INDEX('EDT HEBDO'!$B$15:$F$15,MATCH(J33,LEFT('EDT HEBDO'!$B$1:$F$1,3),0)), INDEX(INFOS!$X$3:$X$15,MATCH(I33,INFOS!$Y$3:$Y$15,0))))),"")} | M33: =M32+1 -> 46385 | N33: =TEXT(M33,"jjj") -> mar | O33: {=IFERROR(IF(P33='EDT HEBDO'!$I$3,"C", IF(P33='EDT HEBDO'!$I$1, INDEX('EDT HEBDO'!$B$7:$F$7,MATCH(N33,LEFT('EDT HEBDO'!$B$1:$F$1,3),0)), IF(P33='EDT HEBDO'!$I$2, INDEX('EDT HEBDO'!$B$15:$F$15,MATCH(N33,LEFT('EDT HEBDO'!$B$1:$F$1,3),0)), INDEX(INFOS!$X$2:$X$14,MATCH(M33,INFOS!$W$2:$W$14,0))))),"")} -> 0.37847222 | P33: PS | Q33: =Q32+1 -> 46416 | R33: =TEXT(Q33,"jjj") -> ven | S33: {=IFERROR(IF(T33='EDT HEBDO'!$I$3,"C", IF(T33='EDT HEBDO'!$I$1, INDEX('EDT HEBDO'!$B$7:$F$7,MATCH(R33,LEFT('EDT HEBDO'!$B$1:$F$1,3),0)), IF(T33='EDT HEBDO'!$I$2, INDEX('EDT HEBDO'!$B$15:$F$15,MATCH(R33,LEFT('EDT HEBDO'!$B$1:$F$1,3),0)), INDEX(INFOS!$AA$3:$AA$15,MATCH(Q33,INFOS!$AB$3:$AB$15,0))))),"")} -> 0.37847222 | T33: PS | W33: {=IFERROR(IF(X33='EDT HEBDO'!$I$3,"C", IF(X33='EDT HEBDO'!$I$1, INDEX('EDT HEBDO'!$B$7:$F$7,MATCH(V33,LEFT('EDT HEBDO'!$B$1:$F$1,3),0)), IF(X33='EDT HEBDO'!$I$2, INDEX('EDT HEBDO'!$B$15:$F$15,MATCH(V33,LEFT('EDT HEBDO'!$B$1:$F$1,3),0)), INDEX(INFOS!$AA$3:$AA$15,MATCH(U33,INFOS!$AB$3:$AB$15,0))))),"")} | Y33: =Y32+1 -> 46475 | Z33: =TEXT(Y33,"jjj") -> lun | AA33: {=IFERROR(IF(AB33='EDT HEBDO'!$I$3,"C", IF(AB33='EDT HEBDO'!$I$1, INDEX('EDT HEBDO'!$B$7:$F$7,MATCH(Z33,LEFT('EDT HEBDO'!$B$1:$F$1,3),0)), IF(AB33='EDT HEBDO'!$I$2, INDEX('EDT HEBDO'!$B$15:$F$15,MATCH(Z33,LEFT('EDT HEBDO'!$B$1:$F$1,3),0)), INDEX(INFOS!$AA$3:$AA$15,MATCH(Y33,INFOS!$AB$3:$AB$15,0))))),"")} -> 0.37847222 | AB33: PS | AC33: =AC32+1 -> 46506 | AD33: =TEXT(Y33,"jjj") -> lun | AE33: {=IFERROR(IF(AF33='EDT HEBDO'!$I$3,"C", IF(AF33='EDT HEBDO'!$I$1, INDEX('EDT HEBDO'!$B$7:$F$7,MATCH(AD33,LEFT('EDT HEBDO'!$B$1:$F$1,3),0)), IF(AF33='EDT HEBDO'!$I$2, INDEX('EDT HEBDO'!$B$15:$F$15,MATCH(AD33,LEFT('EDT HEBDO'!$B$1:$F$1,3),0)), INDEX(INFOS!$AA$3:$AA$15,MATCH(AC33,INFOS!$AB$3:$AB$15,0))))),"")} | AG33: =AG32+1 -> 46536 | AH33: =TEXT(Y33,"jjj") -> lun | AI33: {=IFERROR(IF(AJ33='EDT HEBDO'!$I$3,"C", IF(AJ33='EDT HEBDO'!$I$1, INDEX('EDT HEBDO'!$B$7:$F$7,MATCH(AH33,LEFT('EDT HEBDO'!$B$1:$F$1,3),0)), IF(AJ33='EDT HEBDO'!$I$2, INDEX('EDT HEBDO'!$B$15:$F$15,MATCH(AH33,LEFT('EDT HEBDO'!$B$1:$F$1,3),0)), INDEX(INFOS!$AA$3:$AA$15,MATCH(AG33,INFOS!$AB$3:$AB$15,0))))),"")} | AK33: =AK32+1 -> 46567 | AL33: =TEXT(Y33,"jjj") -> lun | AM33: {=IFERROR(IF(AN33='EDT HEBDO'!$I$3,"C", IF(AN33='EDT HEBDO'!$I$1, INDEX('EDT HEBDO'!$B$7:$F$7,MATCH(AL33,LEFT('EDT HEBDO'!$B$1:$F$1,3),0)), IF(AN33='EDT HEBDO'!$I$2, INDEX('EDT HEBDO'!$B$15:$F$15,MATCH(AL33,LEFT('EDT HEBDO'!$B$1:$F$1,3),0)), INDEX(INFOS!$AA$3:$AA$15,MATCH(AK33,INFOS!$AB$3:$AB$15,0))))),"")} | AO33: =AO32+1 -> 46597 | AP33: =TEXT(Y33,"jjj") -> lun | AQ33: {=IFERROR(IF(AR33='EDT HEBDO'!$I$3,"C", IF(AR33='EDT HEBDO'!$I$1, INDEX('EDT HEBDO'!$B$7:$F$7,MATCH(AP33,LEFT('EDT HEBDO'!$B$1:$F$1,3),0)), IF(AR33='EDT HEBDO'!$I$2, INDEX('EDT HEBDO'!$B$15:$F$15,MATCH(AP33,LEFT('EDT HEBDO'!$B$1:$F$1,3),0)), INDEX(INFOS!$AA$3:$AA$15,MATCH(AO33,INFOS!$AB$3:$AB$15,0))))),"")} | AS33: =AS32+1 -> 46628 | AT33: =TEXT(Y33,"jjj") -> lun | AU33: {=IFERROR(IF(AV33='EDT HEBDO'!$I$3,"C", IF(AV33='EDT HEBDO'!$I$1, INDEX('EDT HEBDO'!$B$7:$F$7,MATCH(AT33,LEFT('EDT HEBDO'!$B$1:$F$1,3),0)), IF(AV33='EDT HEBDO'!$I$2, INDEX('EDT HEBDO'!$B$15:$F$15,MATCH(AT33,LEFT('EDT HEBDO'!$B$1:$F$1,3),0)), INDEX(INFOS!$AA$3:$AA$15,MATCH(AS33,INFOS!$AB$3:$AB$15,0))))),"")}
A34: =A33+1 -> 46295 | B34: =TEXT(A34,"jjj") -> mer | C34: {=IFERROR(IF(D34='EDT HEBDO'!$I$3,"C", IF(D34='EDT HEBDO'!$I$1, INDEX('EDT HEBDO'!$B$7:$F$7,MATCH(B34,LEFT('EDT HEBDO'!$B$1:$F$1,3),0)), IF(D34='EDT HEBDO'!$I$2, INDEX('EDT HEBDO'!$B$15:$F$15,MATCH(B34,LEFT('EDT HEBDO'!$B$1:$F$1,3),0)), INDEX(INFOS!$X$2:$X$14,MATCH(A34,INFOS!$W$2:$W$14,0))))),"")} -> 0.16666667 | D34: PS | E34: =E33+1 -> 46325 | F34: =TEXT(E34,"jjj") -> ven | G34: {=IFERROR(IF(H34='EDT HEBDO'!$I$3,"C", IF(H34='EDT HEBDO'!$I$1, INDEX('EDT HEBDO'!$B$7:$F$7,MATCH(F34,LEFT('EDT HEBDO'!$B$1:$F$1,3),0)), IF(H34='EDT HEBDO'!$I$2, INDEX('EDT HEBDO'!$B$15:$F$15,MATCH(F34,LEFT('EDT HEBDO'!$B$1:$F$1,3),0)), INDEX(INFOS!$X$2:$X$14,MATCH(E34,INFOS!$W$2:$W$14,0))))),"")} -> 0.37847222 | H34: PS | I34: =I33+1 -> 46356 | J34: =TEXT(I34,"jjj") -> lun | K34: {=IFERROR(IF(L34='EDT HEBDO'!$I$3,"C", IF(L34='EDT HEBDO'!$I$1, INDEX('EDT HEBDO'!$B$7:$F$7,MATCH(J34,LEFT('EDT HEBDO'!$B$1:$F$1,3),0)), IF(L34='EDT HEBDO'!$I$2, INDEX('EDT HEBDO'!$B$15:$F$15,MATCH(J34,LEFT('EDT HEBDO'!$B$1:$F$1,3),0)), INDEX(INFOS!$X$3:$X$15,MATCH(I34,INFOS!$Y$3:$Y$15,0))))),"")} -> 0.37847222 | L34: PS | M34: =M33+1 -> 46386 | N34: =TEXT(M34,"jjj") -> mer | O34: {=IFERROR(IF(P34='EDT HEBDO'!$I$3,"C", IF(P34='EDT HEBDO'!$I$1, INDEX('EDT HEBDO'!$B$7:$F$7,MATCH(N34,LEFT('EDT HEBDO'!$B$1:$F$1,3),0)), IF(P34='EDT HEBDO'!$I$2, INDEX('EDT HEBDO'!$B$15:$F$15,MATCH(N34,LEFT('EDT HEBDO'!$B$1:$F$1,3),0)), INDEX(INFOS!$X$2:$X$14,MATCH(M34,INFOS!$W$2:$W$14,0))))),"")} -> 0.16666667 | P34: PS | Q34: =Q33+1 -> 46417 | R34: =TEXT(Q34,"jjj") -> sam | S34: {=IFERROR(IF(T34='EDT HEBDO'!$I$3,"C", IF(T34='EDT HEBDO'!$I$1, INDEX('EDT HEBDO'!$B$7:$F$7,MATCH(R34,LEFT('EDT HEBDO'!$B$1:$F$1,3),0)), IF(T34='EDT HEBDO'!$I$2, INDEX('EDT HEBDO'!$B$15:$F$15,MATCH(R34,LEFT('EDT HEBDO'!$B$1:$F$1,3),0)), INDEX(INFOS!$AA$3:$AA$15,MATCH(Q34,INFOS!$AB$3:$AB$15,0))))),"")} | Y34: =Y33+1 -> 46476 | Z34: =TEXT(Y34,"jjj") -> mar | AA34: {=IFERROR(IF(AB34='EDT HEBDO'!$I$3,"C", IF(AB34='EDT HEBDO'!$I$1, INDEX('EDT HEBDO'!$B$7:$F$7,MATCH(Z34,LEFT('EDT HEBDO'!$B$1:$F$1,3),0)), IF(AB34='EDT HEBDO'!$I$2, INDEX('EDT HEBDO'!$B$15:$F$15,MATCH(Z34,LEFT('EDT HEBDO'!$B$1:$F$1,3),0)), INDEX(INFOS!$AA$3:$AA$15,MATCH(Y34,INFOS!$AB$3:$AB$15,0))))),"")} -> 0.37847222 | AB34: PS | AC34: =AC33+1 -> 46507 | AD34: =TEXT(Y34,"jjj") -> mar | AE34: {=IFERROR(IF(AF34='EDT HEBDO'!$I$3,"C", IF(AF34='EDT HEBDO'!$I$1, INDEX('EDT HEBDO'!$B$7:$F$7,MATCH(AD34,LEFT('EDT HEBDO'!$B$1:$F$1,3),0)), IF(AF34='EDT HEBDO'!$I$2, INDEX('EDT HEBDO'!$B$15:$F$15,MATCH(AD34,LEFT('EDT HEBDO'!$B$1:$F$1,3),0)), INDEX(INFOS!$AA$3:$AA$15,MATCH(AC34,INFOS!$AB$3:$AB$15,0))))),"")} | AG34: =AG33+1 -> 46537 | AH34: =TEXT(Y34,"jjj") -> mar | AI34: {=IFERROR(IF(AJ34='EDT HEBDO'!$I$3,"C", IF(AJ34='EDT HEBDO'!$I$1, INDEX('EDT HEBDO'!$B$7:$F$7,MATCH(AH34,LEFT('EDT HEBDO'!$B$1:$F$1,3),0)), IF(AJ34='EDT HEBDO'!$I$2, INDEX('EDT HEBDO'!$B$15:$F$15,MATCH(AH34,LEFT('EDT HEBDO'!$B$1:$F$1,3),0)), INDEX(INFOS!$AA$3:$AA$15,MATCH(AG34,INFOS!$AB$3:$AB$15,0))))),"")} | AK34: =AK33+1 -> 46568 | AL34: =TEXT(Y34,"jjj") -> mar | AM34: {=IFERROR(IF(AN34='EDT HEBDO'!$I$3,"C", IF(AN34='EDT HEBDO'!$I$1, INDEX('EDT HEBDO'!$B$7:$F$7,MATCH(AL34,LEFT('EDT HEBDO'!$B$1:$F$1,3),0)), IF(AN34='EDT HEBDO'!$I$2, INDEX('EDT HEBDO'!$B$15:$F$15,MATCH(AL34,LEFT('EDT HEBDO'!$B$1:$F$1,3),0)), INDEX(INFOS!$AA$3:$AA$15,MATCH(AK34,INFOS!$AB$3:$AB$15,0))))),"")} | AO34: =AO33+1 -> 46598 | AP34: =TEXT(Y34,"jjj") -> mar | AQ34: {=IFERROR(IF(AR34='EDT HEBDO'!$I$3,"C", IF(AR34='EDT HEBDO'!$I$1, INDEX('EDT HEBDO'!$B$7:$F$7,MATCH(AP34,LEFT('EDT HEBDO'!$B$1:$F$1,3),0)), IF(AR34='EDT HEBDO'!$I$2, INDEX('EDT HEBDO'!$B$15:$F$15,MATCH(AP34,LEFT('EDT HEBDO'!$B$1:$F$1,3),0)), INDEX(INFOS!$AA$3:$AA$15,MATCH(AO34,INFOS!$AB$3:$AB$15,0))))),"")} | AS34: =AS33+1 -> 46629 | AT34: =TEXT(Y34,"jjj") -> mar | AU34: {=IFERROR(IF(AV34='EDT HEBDO'!$I$3,"C", IF(AV34='EDT HEBDO'!$I$1, INDEX('EDT HEBDO'!$B$7:$F$7,MATCH(AT34,LEFT('EDT HEBDO'!$B$1:$F$1,3),0)), IF(AV34='EDT HEBDO'!$I$2, INDEX('EDT HEBDO'!$B$15:$F$15,MATCH(AT34,LEFT('EDT HEBDO'!$B$1:$F$1,3),0)), INDEX(INFOS!$AA$3:$AA$15,MATCH(AS34,INFOS!$AB$3:$AB$15,0))))),"")}
E35: =E34+1 -> 46326 | F35: =TEXT(E35,"jjj") -> sam | G35: {=IFERROR(IF(H35='EDT HEBDO'!$I$3,"C", IF(H35='EDT HEBDO'!$I$1, INDEX('EDT HEBDO'!$B$7:$F$7,MATCH(F35,LEFT('EDT HEBDO'!$B$1:$F$1,3),0)), IF(H35='EDT HEBDO'!$I$2, INDEX('EDT HEBDO'!$B$15:$F$15,MATCH(F35,LEFT('EDT HEBDO'!$B$1:$F$1,3),0)), INDEX(INFOS!$X$2:$X$14,MATCH(E35,INFOS!$W$2:$W$14,0))))),"")} | M35: =M34+1 -> 46387 | N35: =TEXT(M35,"jjj") -> jeu | O35: {=IFERROR(IF(P35='EDT HEBDO'!$I$3,"C", IF(P35='EDT HEBDO'!$I$1, INDEX('EDT HEBDO'!$B$7:$F$7,MATCH(N35,LEFT('EDT HEBDO'!$B$1:$F$1,3),0)), IF(P35='EDT HEBDO'!$I$2, INDEX('EDT HEBDO'!$B$15:$F$15,MATCH(N35,LEFT('EDT HEBDO'!$B$1:$F$1,3),0)), INDEX(INFOS!$X$2:$X$14,MATCH(M35,INFOS!$W$2:$W$14,0))))),"")} -> 0.37847222 | P35: PS | Q35: =Q34+1 -> 46418 | R35: =TEXT(Q35,"jjj") -> dim | S35: {=IFERROR(IF(T35='EDT HEBDO'!$I$3,"C", IF(T35='EDT HEBDO'!$I$1, INDEX('EDT HEBDO'!$B$7:$F$7,MATCH(R35,LEFT('EDT HEBDO'!$B$1:$F$1,3),0)), IF(T35='EDT HEBDO'!$I$2, INDEX('EDT HEBDO'!$B$15:$F$15,MATCH(R35,LEFT('EDT HEBDO'!$B$1:$F$1,3),0)), INDEX(INFOS!$AA$3:$AA$15,MATCH(Q35,INFOS!$AB$3:$AB$15,0))))),"")} | Y35: =Y34+1 -> 46477 | Z35: =TEXT(Y35,"jjj") -> mer | AA35: {=IFERROR(IF(AB35='EDT HEBDO'!$I$3,"C", IF(AB35='EDT HEBDO'!$I$1, INDEX('EDT HEBDO'!$B$7:$F$7,MATCH(Z35,LEFT('EDT HEBDO'!$B$1:$F$1,3),0)), IF(AB35='EDT HEBDO'!$I$2, INDEX('EDT HEBDO'!$B$15:$F$15,MATCH(Z35,LEFT('EDT HEBDO'!$B$1:$F$1,3),0)), INDEX(INFOS!$AA$3:$AA$15,MATCH(Y35,INFOS!$AB$3:$AB$15,0))))),"")} -> 0.16666667 | AB35: PS | AG35: =AG34+1 -> 46538 | AH35: =TEXT(Y35,"jjj") -> mer | AI35: {=IFERROR(IF(AJ35='EDT HEBDO'!$I$3,"C", IF(AJ35='EDT HEBDO'!$I$1, INDEX('EDT HEBDO'!$B$7:$F$7,MATCH(AH35,LEFT('EDT HEBDO'!$B$1:$F$1,3),0)), IF(AJ35='EDT HEBDO'!$I$2, INDEX('EDT HEBDO'!$B$15:$F$15,MATCH(AH35,LEFT('EDT HEBDO'!$B$1:$F$1,3),0)), INDEX(INFOS!$AA$3:$AA$15,MATCH(AG35,INFOS!$AB$3:$AB$15,0))))),"")} | AO35: =AO34+1 -> 46599 | AP35: =TEXT(Y35,"jjj") -> mer | AQ35: {=IFERROR(IF(AR35='EDT HEBDO'!$I$3,"C", IF(AR35='EDT HEBDO'!$I$1, INDEX('EDT HEBDO'!$B$7:$F$7,MATCH(AP35,LEFT('EDT HEBDO'!$B$1:$F$1,3),0)), IF(AR35='EDT HEBDO'!$I$2, INDEX('EDT HEBDO'!$B$15:$F$15,MATCH(AP35,LEFT('EDT HEBDO'!$B$1:$F$1,3),0)), INDEX(INFOS!$AA$3:$AA$15,MATCH(AO35,INFOS!$AB$3:$AB$15,0))))),"")} | AS35: =AS34+1 -> 46630 | AT35: =TEXT(Y35,"jjj") -> mer | AU35: {=IFERROR(IF(AV35='EDT HEBDO'!$I$3,"C", IF(AV35='EDT HEBDO'!$I$1, INDEX('EDT HEBDO'!$B$7:$F$7,MATCH(AT35,LEFT('EDT HEBDO'!$B$1:$F$1,3),0)), IF(AV35='EDT HEBDO'!$I$2, INDEX('EDT HEBDO'!$B$15:$F$15,MATCH(AT35,LEFT('EDT HEBDO'!$B$1:$F$1,3),0)), INDEX(INFOS!$AA$3:$AA$15,MATCH(AS35,INFOS!$AB$3:$AB$15,0))))),"")}

Sheet EDT HEBDO
A1: Période scolaire | B1: Lundi | C1: Mardi | D1: Mercredi | E1: Jeudi | F1: Vendredi | I1: PS | J1: Période scolaire
A2: Matin | B2: 0.32291667 | C2: 0.32291667 | D2: 0.32291667 | E2: 0.32291667 | F2: 0.32291667 | I2: PE | J2: Permanence
A3: Pause méridienne | B3: 0.48958333 | C3: 0.48958333 | E3: 0.48958333 | F3: 0.48958333 | I3: C | J3: Congés
A4: Reprise | B4: 0.49652778 | C4: 0.49652778 | E4: 0.49652778 | F4: 0.49652778
A5: Fin de service | B5: 0.70833333 | C5: 0.70833333 | D5: 0.48958333 | E5: 0.70833333 | F5: 0.70833333
A6: Pause de 20 minutes | B6: 0.49652778 | C6: 0.49652778 | E6: 0.49652778 | F6: 0.49652778
A7: Total journalier | B7: =(B5-B2)-(B4-B3) -> 0.37847222 | C7: =(C5-C2)-(C4-C3) -> 0.37847222 | D7: =(D5-D2)-(D4-D3) -> 0.16666667 | E7: =(E5-E2)-(E4-E3) -> 0.37847222 | F7: =(F5-F2)-(F4-F3) -> 0.37847222
A10: Permanence | B10: Lundi | C10: Mardi | D10: Mercredi | E10: Jeudi | F10: Vendredi
A11: Matin | B11: 0.32291667 | C11: 0.32291667 | D11: 0.32291667 | E11: 0.32291667 | F11: 0.32291667
A12: Pause méridienne | B12: 0.5 | C12: 0.5 | E12: 0.5 | F12: 0.5
A13: Fin de service | B13: 0.69444444 | C13: 0.69444444 | D13: 0.5 | E13: 0.69444444 | F13: 0.69444444
A14: Pause de 20 minutes | B14: 0.50694444 | C14: 0.50694444 | E14: 0.50694444 | F14: 0.50694444
A15: Total journalier | B15: =(B13-B11)-(B14-B12) -> 0.36458333 | C15: =(C13-C11)-(C14-C12) -> 0.36458333 | D15: =(D13-D11)-(D14-D12) -> 0.17708333 | E15: =(E13-E11)-(E14-E12) -> 0.36458333 | F15: =(F13-F11)-(F14-F12) -> 0.36458333

Sheet INFOS
A1: 2026 | B1: =IF(OR(MOD(A1,400)=0,AND(MOD(A1,4)=0,MOD(A1,100)<>0)),"Année bissextile","Année normale") -> Année normale | D1: 9 | E1: 10 | F1: 11 | G1: 12 | I1: 2027 | J1: =IF(OR(MOD(I1,400)=0,AND(MOD(I1,4)=0,MOD(I1,100)<>0)),"Année bissextile","Année normale") -> Année normale | L1: 1 | M1: 2 | N1: 3 | O1: 4 | P1: 5 | Q1: 6 | R1: 7 | S1: 8 | U1: Numéro | V1: Jours | X1: Année | Y1: =A1 -> 2026 | AA1: Année | AB1: =I1 -> 2027 | AD1: Vacances scolaires
A2: L'année est à modifier à chaque rentrée scolaire. Les chiffres en jaune correspondent aux mois : 9 = septembre 10 = octobre et ainsi de suite. Les chiffres en bleu correspondent aux jours : 1 = Lundi 2 = Mardi et ainsi de suite. | D2: =IF('PLANNING ANNUEL'!A5="","",WEEKDAY(DATE(INFOS!$A$1,INFOS!$D$1,'PLANNING ANNUEL'!A5),2)) -> 1 | E2: =IF('PLANNING ANNUEL'!E5="","",WEEKDAY(DATE(INFOS!$A$1,INFOS!$E$1,'PLANNING ANNUEL'!E5),2)) -> 3 | F2: =IF('PLANNING ANNUEL'!I5="","",WEEKDAY(DATE(INFOS!$A$1,INFOS!$F$1,'PLANNING ANNUEL'!I5),2)) -> 6 | G2: =IF('PLANNING ANNUEL'!M5="","",WEEKDAY(DATE(INFOS!$A$1,INFOS!$G$1,'PLANNING ANNUEL'!M5),2)) -> 1 | L2: =IF('PLANNING ANNUEL'!Q5="","",WEEKDAY(DATE(INFOS!$I$1,INFOS!$L$1,'PLANNING ANNUEL'!Q5),2)) -> 4 | M2: =IF('PLANNING ANNUEL'!U5="","",WEEKDAY(DATE(INFOS!$I$1,INFOS!$M$1,'PLANNING ANNUEL'!U5),2)) -> 7 | N2: =IF('PLANNING ANNUEL'!Y5="","",WEEKDAY(DATE(INFOS!$I$1,INFOS!$N$1,'PLANNING ANNUEL'!Y5),2)) -> 7 | O2: =IF('PLANNING ANNUEL'!AC5="","",WEEKDAY(DATE(INFOS!$I$1,INFOS!$O$1,'PLANNING ANNUEL'!AC5),2)) -> 3 | P2: =IF('PLANNING ANNUEL'!AG5="","",WEEKDAY(DATE(INFOS!$I$1,INFOS!$P$1,'PLANNING ANNUEL'!AG5),2)) -> 5 | Q2: =IF('PLANNING ANNUEL'!AK5="","",WEEKDAY(DATE(INFOS!$I$1,INFOS!$Q$1,'PLANNING ANNUEL'!AK5),2)) -> 1 | R2: =IF('PLANNING ANNUEL'!AO5="","",WEEKDAY(DATE(INFOS!$I$1,INFOS!$R$1,'PLANNING ANNUEL'!AO5),2)) -> 3 | S2: =IF('PLANNING ANNUEL'!AS5="","",WEEKDAY(DATE(INFOS!$I$1,INFOS!$S$1,'PLANNING ANNUEL'!AS5),2)) -> 6 | U2: 1 | V2: Lun | AE2: Début | AF2: Fin
D3: =IF('PLANNING ANNUEL'!A6="","",WEEKDAY(DATE(INFOS!$A$1,INFOS!$D$1,'PLANNING ANNUEL'!A6),2)) -> 1 | E3: =IF('PLANNING ANNUEL'!E6="","",WEEKDAY(DATE(INFOS!$A$1,INFOS!$E$1,'PLANNING ANNUEL'!E6),2)) -> 3 | F3: =IF('PLANNING ANNUEL'!I6="","",WEEKDAY(DATE(INFOS!$A$1,INFOS!$F$1,'PLANNING ANNUEL'!I6),2)) -> 6 | G3: =IF('PLANNING ANNUEL'!M6="","",WEEKDAY(DATE(INFOS!$A$1,INFOS!$G$1,'PLANNING ANNUEL'!M6),2)) -> 1 | L3: =IF('PLANNING ANNUEL'!Q6="","",WEEKDAY(DATE(INFOS!$I$1,INFOS!$L$1,'PLANNING ANNUEL'!Q6),2)) -> 4 | M3: =IF('PLANNING ANNUEL'!U6="","",WEEKDAY(DATE(INFOS!$I$1,INFOS!$M$1,'PLANNING ANNUEL'!U6),2)) -> 7 | N3: =IF('PLANNING ANNUEL'!Y6="","",WEEKDAY(DATE(INFOS!$I$1,INFOS!$N$1,'PLANNING ANNUEL'!Y6),2)) -> 7 | O3: =IF('PLANNING ANNUEL'!AC6="","",WEEKDAY(DATE(INFOS!$I$1,INFOS!$O$1,'PLANNING ANNUEL'!AC6),2)) -> 3 | P3: =IF('PLANNING ANNUEL'!AG6="","",WEEKDAY(DATE(INFOS!$I$1,INFOS!$P$1,'PLANNING ANNUEL'!AG6),2)) -> 5 | Q3: =IF('PLANNING ANNUEL'!AK6="","",WEEKDAY(DATE(INFOS!$I$1,INFOS!$Q$1,'PLANNING ANNUEL'!AK6),2)) -> 1 | R3: =IF('PLANNING ANNUEL'!AO6="","",WEEKDAY(DATE(INFOS!$I$1,INFOS!$R$1,'PLANNING ANNUEL'!AO6),2)) -> 3 | S3: =IF('PLANNING ANNUEL'!AS6="","",WEEKDAY(DATE(INFOS!$I$1,INFOS!$S$1,'PLANNING ANNUEL'!AS6),2)) -> 6 | U3: 2 | V3: Mar | W3: =Y3 -> 46023 | X3: Nouvel an | Y3: =DATE($Y$1,1,1) -> 46023 | Z3: =AB3 -> 46388 | AA3: Nouvel an | AB3: =DATE($AB$1,1,1) -> 46388 | AD3: Toussaint | AE3: 46312 | AF3: 46327
D4: =IF('PLANNING ANNUEL'!A7="","",WEEKDAY(DATE(INFOS!$A$1,INFOS!$D$1,'PLANNING ANNUEL'!A7),2)) -> 1 | E4: =IF('PLANNING ANNUEL'!E7="","",WEEKDAY(DATE(INFOS!$A$1,INFOS!$E$1,'PLANNING ANNUEL'!E7),2)) -> 3 | F4: =IF('PLANNING ANNUEL'!I7="","",WEEKDAY(DATE(INFOS!$A$1,INFOS!$F$1,'PLANNING ANNUEL'!I7),2)) -> 6 | G4: =IF('PLANNING ANNUEL'!M7="","",WEEKDAY(DATE(INFOS!$A$1,INFOS!$G$1,'PLANNING ANNUEL'!M7),2)) -> 1 | L4: =IF('PLANNING ANNUEL'!Q7="","",WEEKDAY(DATE(INFOS!$I$1,INFOS!$L$1,'PLANNING ANNUEL'!Q7),2)) -> 4 | M4: =IF('PLANNING ANNUEL'!U7="","",WEEKDAY(DATE(INFOS!$I$1,INFOS!$M$1,'PLANNING ANNUEL'!U7),2)) -> 7 | N4: =IF('PLANNING ANNUEL'!Y7="","",WEEKDAY(DATE(INFOS!$I$1,INFOS!$N$1,'PLANNING ANNUEL'!Y7),2)) -> 7 | O4: =IF('PLANNING ANNUEL'!AC7="","",WEEKDAY(DATE(INFOS!$I$1,INFOS!$O$1,'PLANNING ANNUEL'!AC7),2)) -> 3 | P4: =IF('PLANNING ANNUEL'!AG7="","",WEEKDAY(DATE(INFOS!$I$1,INFOS!$P$1,'PLANNING ANNUEL'!AG7),2)) -> 5 | Q4: =IF('PLANNING ANNUEL'!AK7="","",WEEKDAY(DATE(INFOS!$I$1,INFOS!$Q$1,'PLANNING ANNUEL'!AK7),2)) -> 1 | R4: =IF('PLANNING ANNUEL'!AO7="","",WEEKDAY(DATE(INFOS!$I$1,INFOS!$R$1,'PLANNING ANNUEL'!AO7),2)) -> 3 | S4: =IF('PLANNING ANNUEL'!AS7="","",WEEKDAY(DATE(INFOS!$I$1,INFOS!$S$1,'PLANNING ANNUEL'!AS7),2)) -> 6 | U4: 3 | V4: Mer | W4: =Y4 -> 46117 | X4: Pâques | Y4: =ROUND(DATE($Y$1,4,MOD(234-11*MOD($Y$1,19),30))/7,)*7-6 -> 46117 | Z4: =AB4 -> 46481 | AA4: Pâques | AB4: =ROUND(DATE($AB$1,4,MOD(234-11*MOD($Y$1,19),30))/7,)*7-6 -> 46481 | AD4: Noël | AE4: 46375 | AF4: 46392
D5: =IF('PLANNING ANNUEL'!A8="","",WEEKDAY(DATE(INFOS!$A$1,INFOS!$D$1,'PLANNING ANNUEL'!A8),2)) -> 1 | E5: =IF('PLANNING ANNUEL'!E8="","",WEEKDAY(DATE(INFOS!$A$1,INFOS!$E$1,'PLANNING ANNUEL'!E8),2)) -> 3 | F5: =IF('PLANNING ANNUEL'!I8="","",WEEKDAY(DATE(INFOS!$A$1,INFOS!$F$1,'PLANNING ANNUEL'!I8),2)) -> 6 | G5: =IF('PLANNING ANNUEL'!M8="","",WEEKDAY(DATE(INFOS!$A$1,INFOS!$G$1,'PLANNING ANNUEL'!M8),2)) -> 1 | L5: =IF('PLANNING ANNUEL'!Q8="","",WEEKDAY(DATE(INFOS!$I$1,INFOS!$L$1,'PLANNING ANNUEL'!Q8),2)) -> 4 | M5: =IF('PLANNING ANNUEL'!U8="","",WEEKDAY(DATE(INFOS!$I$1,INFOS!$M$1,'PLANNING ANNUEL'!U8),2)) -> 7 | N5: =IF('PLANNING ANNUEL'!Y8="","",WEEKDAY(DATE(INFOS!$I$1,INFOS!$N$1,'PLANNING ANNUEL'!Y8),2)) -> 7 | O5: =IF('PLANNING ANNUEL'!AC8="","",WEEKDAY(DATE(INFOS!$I$1,INFOS!$O$1,'PLANNING ANNUEL'!AC8),2)) -> 3 | P5: =IF('PLANNING ANNUEL'!AG8="","",WEEKDAY(DATE(INFOS!$I$1,INFOS!$P$1,'PLANNING ANNUEL'!AG8),2)) -> 5 | Q5: =IF('PLANNING ANNUEL'!AK8="","",WEEKDAY(DATE(INFOS!$I$1,INFOS!$Q$1,'PLANNING ANNUEL'!AK8),2)) -> 1 | R5: =IF('PLANNING ANNUEL'!AO8="","",WEEKDAY(DATE(INFOS!$I$1,INFOS!$R$1,'PLANNING ANNUEL'!AO8),2)) -> 3 | S5: =IF('PLANNING ANNUEL'!AS8="","",WEEKDAY(DATE(INFOS!$I$1,INFOS!$S$1,'PLANNING ANNUEL'!AS8),2)) -> 6 | U5: 4 | V5: Jeu | W5: =Y5 -> 46118 | X5: Lundi de Pâques | Y5: =Y4+1 -> 46118 | Z5: =AB5 -> 46482 | AA5: Lundi de Pâques | AB5: =AB4+1 -> 46482 | AD5: Hiver | AE5: 46073 | AF5: 46453
D6: =IF('PLANNING ANNUEL'!A9="","",WEEKDAY(DATE(INFOS!$A$1,INFOS!$D$1,'PLANNING ANNUEL'!A9),2)) -> 1 | E6: =IF('PLANNING ANNUEL'!E9="","",WEEKDAY(DATE(INFOS!$A$1,INFOS!$E$1,'PLANNING ANNUEL'!E9),2)) -> 3 | F6: =IF('PLANNING ANNUEL'!I9="","",WEEKDAY(DATE(INFOS!$A$1,INFOS!$F$1,'PLANNING ANNUEL'!I9),2)) -> 6 | G6: =IF('PLANNING ANNUEL'!M9="","",WEEKDAY(DATE(INFOS!$A$1,INFOS!$G$1,'PLANNING ANNUEL'!M9),2)) -> 1 | L6: =IF('PLANNING ANNUEL'!Q9="","",WEEKDAY(DATE(INFOS!$I$1,INFOS!$L$1,'PLANNING ANNUEL'!Q9),2)) -> 4 | M6: =IF('PLANNING ANNUEL'!U9="","",WEEKDAY(DATE(INFOS!$I$1,INFOS!$M$1,'PLANNING ANNUEL'!U9),2)) -> 7 | N6: =IF('PLANNING ANNUEL'!Y9="","",WEEKDAY(DATE(INFOS!$I$1,INFOS!$N$1,'PLANNING ANNUEL'!Y9),2)) -> 7 | O6: =IF('PLANNING ANNUEL'!AC9="","",WEEKDAY(DATE(INFOS!$I$1,INFOS!$O$1,'PLANNING ANNUEL'!AC9),2)) -> 3 | P6: =IF('PLANNING ANNUEL'!AG9="","",WEEKDAY(DATE(INFOS!$I$1,INFOS!$P$1,'PLANNING ANNUEL'!AG9),2)) -> 5 | Q6: =IF('PLANNING ANNUEL'!AK9="","",WEEKDAY(DATE(INFOS!$I$1,INFOS!$Q$1,'PLANNING ANNUEL'!AK9),2)) -> 1 | R6: =IF('PLANNING ANNUEL'!AO9="","",WEEKDAY(DATE(INFOS!$I$1,INFOS!$R$1,'PLANNING ANNUEL'!AO9),2)) -> 3 | S6: =IF('PLANNING ANNUEL'!AS9="","",WEEKDAY(DATE(INFOS!$I$1,INFOS!$S$1,'PLANNING ANNUEL'!AS9),2)) -> 6 | U6: 5 | V6: Ven | W6: =Y6 -> 46143 | X6: Fête du travail | Y6: =DATE($Y$1,5,1) -> 46143 | Z6: =AB6 -> 46508 | AA6: Fête du travail | AB6: =DATE($AB$1,5,1) -> 46508 | AD6: Printemps | AE6: 46494 | AF6: 46509
D7: =IF('PLANNING ANNUEL'!A10="","",WEEKDAY(DATE(INFOS!$A$1,INFOS!$D$1,'PLANNING ANNUEL'!A10),2)) -> 1 | E7: =IF('PLANNING ANNUEL'!E10="","",WEEKDAY(DATE(INFOS!$A$1,INFOS!$E$1,'PLANNING ANNUEL'!E10),2)) -> 3 | F7: =IF('PLANNING ANNUEL'!I10="","",WEEKDAY(DATE(INFOS!$A$1,INFOS!$F$1,'PLANNING ANNUEL'!I10),2)) -> 6 | G7: =IF('PLANNING ANNUEL'!M10="","",WEEKDAY(DATE(INFOS!$A$1,INFOS!$G$1,'PLANNING ANNUEL'!M10),2)) -> 1 | L7: =IF('PLANNING ANNUEL'!Q10="","",WEEKDAY(DATE(INFOS!$I$1,INFOS!$L$1,'PLANNING ANNUEL'!Q10),2)) -> 4 | M7: =IF('PLANNING ANNUEL'!U10="","",WEEKDAY(DATE(INFOS!$I$1,INFOS!$M$1,'PLANNING ANNUEL'!U10),2)) -> 7 | N7: =IF('PLANNING ANNUEL'!Y10="","",WEEKDAY(DATE(INFOS!$I$1,INFOS!$N$1,'PLANNING ANNUEL'!Y10),2)) -> 7 | O7: =IF('PLANNING ANNUEL'!AC10="","",WEEKDAY(DATE(INFOS!$I$1,INFOS!$O$1,'PLANNING ANNUEL'!AC10),2)) -> 3 | P7: =IF('PLANNING ANNUEL'!AG10="","",WEEKDAY(DATE(INFOS!$I$1,INFOS!$P$1,'PLANNING ANNUEL'!AG10),2)) -> 5 | Q7: =IF('PLANNING ANNUEL'!AK10="","",WEEKDAY(DATE(INFOS!$I$1,INFOS!$Q$1,'PLANNING ANNUEL'!AK10),2)) -> 1 | R7: =IF('PLANNING ANNUEL'!AO10="","",WEEKDAY(DATE(INFOS!$I$1,INFOS!$R$1,'PLANNING ANNUEL'!AO10),2)) -> 3 | S7: =IF('PLANNING ANNUEL'!AS10="","",WEEKDAY(DATE(INFOS!$I$1,INFOS!$S$1,'PLANNING ANNUEL'!AS10),2)) -> 6 | U7: 6 | V7: Sam | W7: =Y7 -> 46150 | X7: Victoire 1945 | Y7: =DATE($Y$1,5,8) -> 46150 | Z7: =AB7 -> 46515 | AA7: Victoire 1945 | AB7: =DATE($AB$1,5,8) -> 46515 | AD7: Eté | AE7: 46571 | AF7: 46630
D8: =IF('PLANNING ANNUEL'!A11="","",WEEKDAY(DATE(INFOS!$A$1,INFOS!$D$1,'PLANNING ANNUEL'!A11),2)) -> 1 | E8: =IF('PLANNING ANNUEL'!E11="","",WEEKDAY(DATE(INFOS!$A$1,INFOS!$E$1,'PLANNING ANNUEL'!E11),2)) -> 3 | F8: =IF('PLANNING ANNUEL'!I11="","",WEEKDAY(DATE(INFOS!$A$1,INFOS!$F$1,'PLANNING ANNUEL'!I11),2)) -> 6 | G8: =IF('PLANNING ANNUEL'!M11="","",WEEKDAY(DATE(INFOS!$A$1,INFOS!$G$1,'PLANNING ANNUEL'!M11),2)) -> 1 | L8: =IF('PLANNING ANNUEL'!Q11="","",WEEKDAY(DATE(INFOS!$I$1,INFOS!$L$1,'PLANNING ANNUEL'!Q11),2)) -> 4 | M8: =IF('PLANNING ANNUEL'!U11="","",WEEKDAY(DATE(INFOS!$I$1,INFOS!$M$1,'PLANNING ANNUEL'!U11),2)) -> 7 | N8: =IF('PLANNING ANNUEL'!Y11="","",WEEKDAY(DATE(INFOS!$I$1,INFOS!$N$1,'PLANNING ANNUEL'!Y11),2)) -> 7 | O8: =IF('PLANNING ANNUEL'!AC11="","",WEEKDAY(DATE(INFOS!$I$1,INFOS!$O$1,'PLANNING ANNUEL'!AC11),2)) -> 3 | P8: =IF('PLANNING ANNUEL'!AG11="","",WEEKDAY(DATE(INFOS!$I$1,INFOS!$P$1,'PLANNING ANNUEL'!AG11),2)) -> 5 | Q8: =IF('PLANNING ANNUEL'!AK11="","",WEEKDAY(DATE(INFOS!$I$1,INFOS!$Q$1,'PLANNING ANNUEL'!AK11),2)) -> 1 | R8: =IF('PLANNING ANNUEL'!AO11="","",WEEKDAY(DATE(INFOS!$I$1,INFOS!$R$1,'PLANNING ANNUEL'!AO11),2)) -> 3 | S8: =IF('PLANNING ANNUEL'!AS11="","",WEEKDAY(DATE(INFOS!$I$1,INFOS!$S$1,'PLANNING ANNUEL'!AS11),2)) -> 6 | U8: 7 | V8: Dim | W8: =Y8 -> 46156 | X8: Ascenscion | Y8: =Y4+39 -> 46156 | Z8: =AB8 -> 46520 | AA8: Ascenscion | AB8: =AB4+39 -> 46520
D9: =IF('PLANNING ANNUEL'!A12="","",WEEKDAY(DATE(INFOS!$A$1,INFOS!$D$1,'PLANNING ANNUEL'!A12),2)) -> 1 | E9: =IF('PLANNING ANNUEL'!E12="","",WEEKDAY(DATE(INFOS!$A$1,INFOS!$E$1,'PLANNING ANNUEL'!E12),2)) -> 3 | F9: =IF('PLANNING ANNUEL'!I12="","",WEEKDAY(DATE(INFOS!$A$1,INFOS!$F$1,'PLANNING ANNUEL'!I12),2)) -> 6 | G9: =IF('PLANNING ANNUEL'!M12="","",WEEKDAY(DATE(INFOS!$A$1,INFOS!$G$1,'PLANNING ANNUEL'!M12),2)) -> 1 | L9: =IF('PLANNING ANNUEL'!Q12="","",WEEKDAY(DATE(INFOS!$I$1,INFOS!$L$1,'PLANNING ANNUEL'!Q12),2)) -> 4 | M9: =IF('PLANNING ANNUEL'!U12="","",WEEKDAY(DATE(INFOS!$I$1,INFOS!$M$1,'PLANNING ANNUEL'!U12),2)) -> 7 | N9: =IF('PLANNING ANNUEL'!Y12="","",WEEKDAY(DATE(INFOS!$I$1,INFOS!$N$1,'PLANNING ANNUEL'!Y12),2)) -> 7 | O9: =IF('PLANNING ANNUEL'!AC12="","",WEEKDAY(DATE(INFOS!$I$1,INFOS!$O$1,'PLANNING ANNUEL'!AC12),2)) -> 3 | P9: =IF('PLANNING ANNUEL'!AG12="","",WEEKDAY(DATE(INFOS!$I$1,INFOS!$P$1,'PLANNING ANNUEL'!AG12),2)) -> 5 | Q9: =IF('PLANNING ANNUEL'!AK12="","",WEEKDAY(DATE(INFOS!$I$1,INFOS!$Q$1,'PLANNING ANNUEL'!AK12),2)) -> 1 | R9: =IF('PLANNING ANNUEL'!AO12="","",WEEKDAY(DATE(INFOS!$I$1,INFOS!$R$1,'PLANNING ANNUEL'!AO12),2)) -> 3 | S9: =IF('PLANNING ANNUEL'!AS12="","",WEEKDAY(DATE(INFOS!$I$1,INFOS!$S$1,'PLANNING ANNUEL'!AS12),2)) -> 6 | W9: =Y9 -> 46166 | X9: Pentecôte | Y9: =Y4+49 -> 46166 | Z9: =AB9 -> 46530 | AA9: Pentecôte | AB9: =AB4+49 -> 46530
D10: =IF('PLANNING ANNUEL'!A13="","",WEEKDAY(DATE(INFOS!$A$1,INFOS!$D$1,'PLANNING ANNUEL'!A13),2)) -> 1 | E10: =IF('PLANNING ANNUEL'!E13="","",WEEKDAY(DATE(INFOS!$A$1,INFOS!$E$1,'PLANNING ANNUEL'!E13),2)) -> 3 | F10: =IF('PLANNING ANNUEL'!I13="","",WEEKDAY(DATE(INFOS!$A$1,INFOS!$F$1,'PLANNING ANNUEL'!I13),2)) -> 6 | G10: =IF('PLANNING ANNUEL'!M13="","",WEEKDAY(DATE(INFOS!$A$1,INFOS!$G$1,'PLANNING ANNUEL'!M13),2)) -> 1 | L10: =IF('PLANNING ANNUEL'!Q13="","",WEEKDAY(DATE(INFOS!$I$1,INFOS!$L$1,'PLANNING ANNUEL'!Q13),2)) -> 4 | M10: =IF('PLANNING ANNUEL'!U13="","",WEEKDAY(DATE(INFOS!$I$1,INFOS!$M$1,'PLANNING ANNUEL'!U13),2)) -> 7 | N10: =IF('PLANNING ANNUEL'!Y13="","",WEEKDAY(DATE(INFOS!$I$1,INFOS!$N$1,'PLANNING ANNUEL'!Y13),2)) -> 7 | O10: =IF('PLANNING ANNUEL'!AC13="","",WEEKDAY(DATE(INFOS!$I$1,INFOS!$O$1,'PLANNING ANNUEL'!AC13),2)) -> 3 | P10: =IF('PLANNING ANNUEL'!AG13="","",WEEKDAY(DATE(INFOS!$I$1,INFOS!$P$1,'PLANNING ANNUEL'!AG13),2)) -> 5 | Q10: =IF('PLANNING ANNUEL'!AK13="","",WEEKDAY(DATE(INFOS!$I$1,INFOS!$Q$1,'PLANNING ANNUEL'!AK13),2)) -> 1 | R10: =IF('PLANNING ANNUEL'!AO13="","",WEEKDAY(DATE(INFOS!$I$1,INFOS!$R$1,'PLANNING ANNUEL'!AO13),2)) -> 3 | S10: =IF('PLANNING ANNUEL'!AS13="","",WEEKDAY(DATE(INFOS!$I$1,INFOS!$S$1,'PLANNING ANNUEL'!AS13),2)) -> 6 | W10: =Y10 -> 46167 | X10: Lundi de Pentecôte | Y10: =Y4+50 -> 46167 | Z10: =AB10 -> 46531 | AA10: Lundi de Pentecôte | AB10: =AB4+50 -> 46531
D11: =IF('PLANNING ANNUEL'!A14="","",WEEKDAY(DATE(INFOS!$A$1,INFOS!$D$1,'PLANNING ANNUEL'!A14),2)) -> 1 | E11: =IF('PLANNING ANNUEL'!E14="","",WEEKDAY(DATE(INFOS!$A$1,INFOS!$E$1,'PLANNING ANNUEL'!E14),2)) -> 3 | F11: =IF('PLANNING ANNUEL'!I14="","",WEEKDAY(DATE(INFOS!$A$1,INFOS!$F$1,'PLANNING ANNUEL'!I14),2)) -> 6 | G11: =IF('PLANNING ANNUEL'!M14="","",WEEKDAY(DATE(INFOS!$A$1,INFOS!$G$1,'PLANNING ANNUEL'!M14),2)) -> 1 | L11: =IF('PLANNING ANNUEL'!Q14="","",WEEKDAY(DATE(INFOS!$I$1,INFOS!$L$1,'PLANNING ANNUEL'!Q14),2)) -> 4 | M11: =IF('PLANNING ANNUEL'!U14="","",WEEKDAY(DATE(INFOS!$I$1,INFOS!$M$1,'PLANNING ANNUEL'!U14),2)) -> 7 | N11: =IF('PLANNING ANNUEL'!Y14="","",WEEKDAY(DATE(INFOS!$I$1,INFOS!$N$1,'PLANNING ANNUEL'!Y14),2)) -> 7 | O11: =IF('PLANNING ANNUEL'!AC14="","",WEEKDAY(DATE(INFOS!$I$1,INFOS!$O$1,'PLANNING ANNUEL'!AC14),2)) -> 3 | P11: =IF('PLANNING ANNUEL'!AG14="","",WEEKDAY(DATE(INFOS!$I$1,INFOS!$P$1,'PLANNING ANNUEL'!AG14),2)) -> 5 | Q11: =IF('PLANNING ANNUEL'!AK14="","",WEEKDAY(DATE(INFOS!$I$1,INFOS!$Q$1,'PLANNING ANNUEL'!AK14),2)) -> 1 | R11: =IF('PLANNING ANNUEL'!AO14="","",WEEKDAY(DATE(INFOS!$I$1,INFOS!$R$1,'PLANNING ANNUEL'!AO14),2)) -> 3 | S11: =IF('PLANNING ANNUEL'!AS14="","",WEEKDAY(DATE(INFOS!$I$1,INFOS!$S$1,'PLANNING ANNUEL'!AS14),2)) -> 6 | W11: =Y11 -> 46217 | X11: Fête nationale | Y11: =DATE($Y$1,7,14) -> 46217 | Z11: =AB11 -> 46582 | AA11: Fête nationale | AB11: =DATE($AB$1,7,14) -> 46582
D12: =IF('PLANNING ANNUEL'!A15="","",WEEKDAY(DATE(INFOS!$A$1,INFOS!$D$1,'PLANNING ANNUEL'!A15),2)) -> 1 | E12: =IF('PLANNING ANNUEL'!E15="","",WEEKDAY(DATE(INFOS!$A$1,INFOS!$E$1,'PLANNING ANNUEL'!E15),2)) -> 3 | F12: =IF('PLANNING ANNUEL'!I15="","",WEEKDAY(DATE(INFOS!$A$1,INFOS!$F$1,'PLANNING ANNUEL'!I15),2)) -> 6 | G12: =IF('PLANNING ANNUEL'!M15="","",WEEKDAY(DATE(INFOS!$A$1,INFOS!$G$1,'PLANNING ANNUEL'!M15),2)) -> 1 | L12: =IF('PLANNING ANNUEL'!Q15="","",WEEKDAY(DATE(INFOS!$I$1,INFOS!$L$1,'PLANNING ANNUEL'!Q15),2)) -> 4 | M12: =IF('PLANNING ANNUEL'!U15="","",WEEKDAY(DATE(INFOS!$I$1,INFOS!$M$1,'PLANNING ANNUEL'!U15),2)) -> 7 | N12: =IF('PLANNING ANNUEL'!Y15="","",WEEKDAY(DATE(INFOS!$I$1,INFOS!$N$1,'PLANNING ANNUEL'!Y15),2)) -> 7 | O12: =IF('PLANNING ANNUEL'!AC15="","",WEEKDAY(DATE(INFOS!$I$1,INFOS!$O$1,'PLANNING ANNUEL'!AC15),2)) -> 3 | P12: =IF('PLANNING ANNUEL'!AG15="","",WEEKDAY(DATE(INFOS!$I$1,INFOS!$P$1,'PLANNING ANNUEL'!AG15),2)) -> 5 | Q12: =IF('PLANNING ANNUEL'!AK15="","",WEEKDAY(DATE(INFOS!$I$1,INFOS!$Q$1,'PLANNING ANNUEL'!AK15),2)) -> 1 | R12: =IF('PLANNING ANNUEL'!AO15="","",WEEKDAY(DATE(INFOS!$I$1,INFOS!$R$1,'PLANNING ANNUEL'!AO15),2)) -> 3 | S12: =IF('PLANNING ANNUEL'!AS15="","",WEEKDAY(DATE(INFOS!$I$1,INFOS!$S$1,'PLANNING ANNUEL'!AS15),2)) -> 6 | W12: =Y12 -> 46249 | X12: Assomption | Y12: =DATE($Y$1,8,15) -> 46249 | Z12: =AB12 -> 46614 | AA12: Assomption | AB12: =DATE($AB$1,8,15) -> 46614
D13: =IF('PLANNING ANNUEL'!A16="","",WEEKDAY(DATE(INFOS!$A$1,INFOS!$D$1,'PLANNING ANNUEL'!A16),2)) -> 1 | E13: =IF('PLANNING ANNUEL'!E16="","",WEEKDAY(DATE(INFOS!$A$1,INFOS!$E$1,'PLANNING ANNUEL'!E16),2)) -> 3 | F13: =IF('PLANNING ANNUEL'!I16="","",WEEKDAY(DATE(INFOS!$A$1,INFOS!$F$1,'PLANNING ANNUEL'!I16),2)) -> 6 | G13: =IF('PLANNING ANNUEL'!M16="","",WEEKDAY(DATE(INFOS!$A$1,INFOS!$G$1,'PLANNING ANNUEL'!M16),2)) -> 1 | L13: =IF('PLANNING ANNUEL'!Q16="","",WEEKDAY(DATE(INFOS!$I$1,INFOS!$L$1,'PLANNING ANNUEL'!Q16),2)) -> 4 | M13: =IF('PLANNING ANNUEL'!U16="","",WEEKDAY(DATE(INFOS!$I$1,INFOS!$M$1,'PLANNING ANNUEL'!U16),2)) -> 7 | N13: =IF('PLANNING ANNUEL'!Y16="","",WEEKDAY(DATE(INFOS!$I$1,INFOS!$N$1,'PLANNING ANNUEL'!Y16),2)) -> 7 | O13: =IF('PLANNING ANNUEL'!AC16="","",WEEKDAY(DATE(INFOS!$I$1,INFOS!$O$1,'PLANNING ANNUEL'!AC16),2)) -> 3 | P13: =IF('PLANNING ANNUEL'!AG16="","",WEEKDAY(DATE(INFOS!$I$1,INFOS!$P$1,'PLANNING ANNUEL'!AG16),2)) -> 5 | Q13: =IF('PLANNING ANNUEL'!AK16="","",WEEKDAY(DATE(INFOS!$I$1,INFOS!$Q$1,'PLANNING ANNUEL'!AK16),2)) -> 1 | R13: =IF('PLANNING ANNUEL'!AO16="","",WEEKDAY(DATE(INFOS!$I$1,INFOS!$R$1,'PLANNING ANNUEL'!AO16),2)) -> 3 | S13: =IF('PLANNING ANNUEL'!AS16="","",WEEKDAY(DATE(INFOS!$I$1,INFOS!$S$1,'PLANNING ANNUEL'!AS16),2)) -> 6 | W13: =Y13 -> 46327 | X13: Toussaint | Y13: =DATE($Y$1,11,1) -> 46327 | Z13: =AB13 -> 46692 | AA13: Toussaint | AB13: =DATE($AB$1,11,1) -> 46692
D14: =IF('PLANNING ANNUEL'!A17="","",WEEKDAY(DATE(INFOS!$A$1,INFOS!$D$1,'PLANNING ANNUEL'!A17),2)) -> 1 | E14: =IF('PLANNING ANNUEL'!E17="","",WEEKDAY(DATE(INFOS!$A$1,INFOS!$E$1,'PLANNING ANNUEL'!E17),2)) -> 3 | F14: =IF('PLANNING ANNUEL'!I17="","",WEEKDAY(DATE(INFOS!$A$1,INFOS!$F$1,'PLANNING ANNUEL'!I17),2)) -> 6 | G14: =IF('PLANNING ANNUEL'!M17="","",WEEKDAY(DATE(INFOS!$A$1,INFOS!$G$1,'PLANNING ANNUEL'!M17),2)) -> 1 | L14: =IF('PLANNING ANNUEL'!Q17="","",WEEKDAY(DATE(INFOS!$I$1,INFOS!$L$1,'PLANNING ANNUEL'!Q17),2)) -> 4 | M14: =IF('PLANNING ANNUEL'!U17="","",WEEKDAY(DATE(INFOS!$I$1,INFOS!$M$1,'PLANNING ANNUEL'!U17),2)) -> 7 | N14: =IF('PLANNING ANNUEL'!Y17="","",WEEKDAY(DATE(INFOS!$I$1,INFOS!$N$1,'PLANNING ANNUEL'!Y17),2)) -> 7 | O14: =IF('PLANNING ANNUEL'!AC17="","",WEEKDAY(DATE(INFOS!$I$1,INFOS!$O$1,'PLANNING ANNUEL'!AC17),2)) -> 3 | P14: =IF('PLANNING ANNUEL'!AG17="","",WEEKDAY(DATE(INFOS!$I$1,INFOS!$P$1,'PLANNING ANNUEL'!AG17),2)) -> 5 | Q14: =IF('PLANNING ANNUEL'!AK17="","",WEEKDAY(DATE(INFOS!$I$1,INFOS!$Q$1,'PLANNING ANNUEL'!AK17),2)) -> 1 | R14: =IF('PLANNING ANNUEL'!AO17="","",WEEKDAY(DATE(INFOS!$I$1,INFOS!$R$1,'PLANNING ANNUEL'!AO17),2)) -> 3 | S14: =IF('PLANNING ANNUEL'!AS17="","",WEEKDAY(DATE(INFOS!$I$1,INFOS!$S$1,'PLANNING ANNUEL'!AS17),2)) -> 6 | W14: =Y14 -> 46337 | X14: Armistice 1918 | Y14: =DATE($Y$1,11,11) -> 46337 | Z14: =AB14 -> 46702 | AA14: Armistice 1918 | AB14: =DATE($AB$1,11,11) -> 46702
D15: =IF('PLANNING ANNUEL'!A18="","",WEEKDAY(DATE(INFOS!$A$1,INFOS!$D$1,'PLANNING ANNUEL'!A18),2)) -> 1 | E15: =IF('PLANNING ANNUEL'!E18="","",WEEKDAY(DATE(INFOS!$A$1,INFOS!$E$1,'PLANNING ANNUEL'!E18),2)) -> 3 | F15: =IF('PLANNING ANNUEL'!I18="","",WEEKDAY(DATE(INFOS!$A$1,INFOS!$F$1,'PLANNING ANNUEL'!I18),2)) -> 6 | G15: =IF('PLANNING ANNUEL'!M18="","",WEEKDAY(DATE(INFOS!$A$1,INFOS!$G$1,'PLANNING ANNUEL'!M18),2)) -> 1 | L15: =IF('PLANNING ANNUEL'!Q18="","",WEEKDAY(DATE(INFOS!$I$1,INFOS!$L$1,'PLANNING ANNUEL'!Q18),2)) -> 4 | M15: =IF('PLANNING ANNUEL'!U18="","",WEEKDAY(DATE(INFOS!$I$1,INFOS!$M$1,'PLANNING ANNUEL'!U18),2)) -> 7 | N15: =IF('PLANNING ANNUEL'!Y18="","",WEEKDAY(DATE(INFOS!$I$1,INFOS!$N$1,'PLANNING ANNUEL'!Y18),2)) -> 7 | O15: =IF('PLANNING ANNUEL'!AC18="","",WEEKDAY(DATE(INFOS!$I$1,INFOS!$O$1,'PLANNING ANNUEL'!AC18),2)) -> 3 | P15: =IF('PLANNING ANNUEL'!AG18="","",WEEKDAY(DATE(INFOS!$I$1,INFOS!$P$1,'PLANNING ANNUEL'!AG18),2)) -> 5 | Q15: =IF('PLANNING ANNUEL'!AK18="","",WEEKDAY(DATE(INFOS!$I$1,INFOS!$Q$1,'PLANNING ANNUEL'!AK18),2)) -> 1 | R15: =IF('PLANNING ANNUEL'!AO18="","",WEEKDAY(DATE(INFOS!$I$1,INFOS!$R$1,'PLANNING ANNUEL'!AO18),2)) -> 3 | S15: =IF('PLANNING ANNUEL'!AS18="","",WEEKDAY(DATE(INFOS!$I$1,INFOS!$S$1,'PLANNING ANNUEL'!AS18),2)) -> 6 | W15: =Y15 -> 46381 | X15: Noël | Y15: =DATE($Y$1,12,25) -> 46381 | Z15: =AB15 -> 46746 | AA15: Noël | AB15: =DATE($AB$1,12,25) -> 46746
D16: =IF('PLANNING ANNUEL'!A19="","",WEEKDAY(DATE(INFOS!$A$1,INFOS!$D$1,'PLANNING ANNUEL'!A19),2)) -> 1 | E16: =IF('PLANNING ANNUEL'!E19="","",WEEKDAY(DATE(INFOS!$A$1,INFOS!$E$1,'PLANNING ANNUEL'!E19),2)) -> 3 | F16: =IF('PLANNING ANNUEL'!I19="","",WEEKDAY(DATE(INFOS!$A$1,INFOS!$F$1,'PLANNING ANNUEL'!I19),2)) -> 6 | G16: =IF('PLANNING ANNUEL'!M19="","",WEEKDAY(DATE(INFOS!$A$1,INFOS!$G$1,'PLANNING ANNUEL'!M19),2)) -> 1 | L16: =IF('PLANNING ANNUEL'!Q19="","",WEEKDAY(DATE(INFOS!$I$1,INFOS!$L$1,'PLANNING ANNUEL'!Q19),2)) -> 4 | M16: =IF('PLANNING ANNUEL'!U19="","",WEEKDAY(DATE(INFOS!$I$1,INFOS!$M$1,'PLANNING ANNUEL'!U19),2)) -> 7 | N16: =IF('PLANNING ANNUEL'!Y19="","",WEEKDAY(DATE(INFOS!$I$1,INFOS!$N$1,'PLANNING ANNUEL'!Y19),2)) -> 7 | O16: =IF('PLANNING ANNUEL'!AC19="","",WEEKDAY(DATE(INFOS!$I$1,INFOS!$O$1,'PLANNING ANNUEL'!AC19),2)) -> 3 | P16: =IF('PLANNING ANNUEL'!AG19="","",WEEKDAY(DATE(INFOS!$I$1,INFOS!$P$1,'PLANNING ANNUEL'!AG19),2)) -> 5 | Q16: =IF('PLANNING ANNUEL'!AK19="","",WEEKDAY(DATE(INFOS!$I$1,INFOS!$Q$1,'PLANNING ANNUEL'!AK19),2)) -> 1 | R16: =IF('PLANNING ANNUEL'!AO19="","",WEEKDAY(DATE(INFOS!$I$1,INFOS!$R$1,'PLANNING ANNUEL'!AO19),2)) -> 3 | S16: =IF('PLANNING ANNUEL'!AS19="","",WEEKDAY(DATE(INFOS!$I$1,INFOS!$S$1,'PLANNING ANNUEL'!AS19),2)) -> 6
D17: =IF('PLANNING ANNUEL'!A20="","",WEEKDAY(DATE(INFOS!$A$1,INFOS!$D$1,'PLANNING ANNUEL'!A20),2)) -> 1 | E17: =IF('PLANNING ANNUEL'!E20="","",WEEKDAY(DATE(INFOS!$A$1,INFOS!$E$1,'PLANNING ANNUEL'!E20),2)) -> 3 | F17: =IF('PLANNING ANNUEL'!I20="","",WEEKDAY(DATE(INFOS!$A$1,INFOS!$F$1,'PLANNING ANNUEL'!I20),2)) -> 6 | G17: =IF('PLANNING ANNUEL'!M20="","",WEEKDAY(DATE(INFOS!$A$1,INFOS!$G$1,'PLANNING ANNUEL'!M20),2)) -> 1 | L17: =IF('PLANNING ANNUEL'!Q20="","",WEEKDAY(DATE(INFOS!$I$1,INFOS!$L$1,'PLANNING ANNUEL'!Q20),2)) -> 4 | M17: =IF('PLANNING ANNUEL'!U20="","",WEEKDAY(DATE(INFOS!$I$1,INFOS!$M$1,'PLANNING ANNUEL'!U20),2)) -> 7 | N17: =IF('PLANNING ANNUEL'!Y20="","",WEEKDAY(DATE(INFOS!$I$1,INFOS!$N$1,'PLANNING ANNUEL'!Y20),2)) -> 7 | O17: =IF('PLANNING ANNUEL'!AC20="","",WEEKDAY(DATE(INFOS!$I$1,INFOS!$O$1,'PLANNING ANNUEL'!AC20),2)) -> 3 | P17: =IF('PLANNING ANNUEL'!AG20="","",WEEKDAY(DATE(INFOS!$I$1,INFOS!$P$1,'PLANNING ANNUEL'!AG20),2)) -> 5 | Q17: =IF('PLANNING ANNUEL'!AK20="","",WEEKDAY(DATE(INFOS!$I$1,INFOS!$Q$1,'PLANNING ANNUEL'!AK20),2)) -> 1 | R17: =IF('PLANNING ANNUEL'!AO20="","",WEEKDAY(DATE(INFOS!$I$1,INFOS!$R$1,'PLANNING ANNUEL'!AO20),2)) -> 3 | S17: =IF('PLANNING ANNUEL'!AS20="","",WEEKDAY(DATE(INFOS!$I$1,INFOS!$S$1,'PLANNING ANNUEL'!AS20),2)) -> 6 | X17: A modifier manuellement sur le planning
D18: =IF('PLANNING ANNUEL'!A21="","",WEEKDAY(DATE(INFOS!$A$1,INFOS!$D$1,'PLANNING ANNUEL'!A21),2)) -> 1 | E18: =IF('PLANNING ANNUEL'!E21="","",WEEKDAY(DATE(INFOS!$A$1,INFOS!$E$1,'PLANNING ANNUEL'!E21),2)) -> 3 | F18: =IF('PLANNING ANNUEL'!I21="","",WEEKDAY(DATE(INFOS!$A$1,INFOS!$F$1,'PLANNING ANNUEL'!I21),2)) -> 6 | G18: =IF('PLANNING ANNUEL'!M21="","",WEEKDAY(DATE(INFOS!$A$1,INFOS!$G$1,'PLANNING ANNUEL'!M21),2)) -> 1 | L18: =IF('PLANNING ANNUEL'!Q21="","",WEEKDAY(DATE(INFOS!$I$1,INFOS!$L$1,'PLANNING ANNUEL'!Q21),2)) -> 4 | M18: =IF('PLANNING ANNUEL'!U21="","",WEEKDAY(DATE(INFOS!$I$1,INFOS!$M$1,'PLANNING ANNUEL'!U21),2)) -> 7 | N18: =IF('PLANNING ANNUEL'!Y21="","",WEEKDAY(DATE(INFOS!$I$1,INFOS!$N$1,'PLANNING ANNUEL'!Y21),2)) -> 7 | O18: =IF('PLANNING ANNUEL'!AC21="","",WEEKDAY(DATE(INFOS!$I$1,INFOS!$O$1,'PLANNING ANNUEL'!AC21),2)) -> 3 | P18: =IF('PLANNING ANNUEL'!AG21="","",WEEKDAY(DATE(INFOS!$I$1,INFOS!$P$1,'PLANNING ANNUEL'!AG21),2)) -> 5 | Q18: =IF('PLANNING ANNUEL'!AK21="","",WEEKDAY(DATE(INFOS!$I$1,INFOS!$Q$1,'PLANNING ANNUEL'!AK21),2)) -> 1 | R18: =IF('PLANNING ANNUEL'!AO21="","",WEEKDAY(DATE(INFOS!$I$1,INFOS!$R$1,'PLANNING ANNUEL'!AO21),2)) -> 3 | S18: =IF('PLANNING ANNUEL'!AS21="","",WEEKDAY(DATE(INFOS!$I$1,INFOS!$S$1,'PLANNING ANNUEL'!AS21),2)) -> 6
D19: =IF('PLANNING ANNUEL'!A22="","",WEEKDAY(DATE(INFOS!$A$1,INFOS!$D$1,'PLANNING ANNUEL'!A22),2)) -> 1 | E19: =IF('PLANNING ANNUEL'!E22="","",WEEKDAY(DATE(INFOS!$A$1,INFOS!$E$1,'PLANNING ANNUEL'!E22),2)) -> 3 | F19: =IF('PLANNING ANNUEL'!I22="","",WEEKDAY(DATE(INFOS!$A$1,INFOS!$F$1,'PLANNING ANNUEL'!I22),2)) -> 6 | G19: =IF('PLANNING ANNUEL'!M22="","",WEEKDAY(DATE(INFOS!$A$1,INFOS!$G$1,'PLANNING ANNUEL'!M22),2)) -> 1 | L19: =IF('PLANNING ANNUEL'!Q22="","",WEEKDAY(DATE(INFOS!$I$1,INFOS!$L$1,'PLANNING ANNUEL'!Q22),2)) -> 4 | M19: =IF('PLANNING ANNUEL'!U22="","",WEEKDAY(DATE(INFOS!$I$1,INFOS!$M$1,'PLANNING ANNUEL'!U22),2)) -> 7 | N19: =IF('PLANNING ANNUEL'!Y22="","",WEEKDAY(DATE(INFOS!$I$1,INFOS!$N$1,'PLANNING ANNUEL'!Y22),2)) -> 7 | O19: =IF('PLANNING ANNUEL'!AC22="","",WEEKDAY(DATE(INFOS!$I$1,INFOS!$O$1,'PLANNING ANNUEL'!AC22),2)) -> 3 | P19: =IF('PLANNING ANNUEL'!AG22="","",WEEKDAY(DATE(INFOS!$I$1,INFOS!$P$1,'PLANNING ANNUEL'!AG22),2)) -> 5 | Q19: =IF('PLANNING ANNUEL'!AK22="","",WEEKDAY(DATE(INFOS!$I$1,INFOS!$Q$1,'PLANNING ANNUEL'!AK22),2)) -> 1 | R19: =IF('PLANNING ANNUEL'!AO22="","",WEEKDAY(DATE(INFOS!$I$1,INFOS!$R$1,'PLANNING ANNUEL'!AO22),2)) -> 3 | S19: =IF('PLANNING ANNUEL'!AS22="","",WEEKDAY(DATE(INFOS!$I$1,INFOS!$S$1,'PLANNING ANNUEL'!AS22),2)) -> 6
D20: =IF('PLANNING ANNUEL'!A23="","",WEEKDAY(DATE(INFOS!$A$1,INFOS!$D$1,'PLANNING ANNUEL'!A23),2)) -> 1 | E20: =IF('PLANNING ANNUEL'!E23="","",WEEKDAY(DATE(INFOS!$A$1,INFOS!$E$1,'PLANNING ANNUEL'!E23),2)) -> 3 | F20: =IF('PLANNING ANNUEL'!I23="","",WEEKDAY(DATE(INFOS!$A$1,INFOS!$F$1,'PLANNING ANNUEL'!I23),2)) -> 6 | G20: =IF('PLANNING ANNUEL'!M23="","",WEEKDAY(DATE(INFOS!$A$1,INFOS!$G$1,'PLANNING ANNUEL'!M23),2)) -> 1 | L20: =IF('PLANNING ANNUEL'!Q23="","",WEEKDAY(DATE(INFOS!$I$1,INFOS!$L$1,'PLANNING ANNUEL'!Q23),2)) -> 4 | M20: =IF('PLANNING ANNUEL'!U23="","",WEEKDAY(DATE(INFOS!$I$1,INFOS!$M$1,'PLANNING ANNUEL'!U23),2)) -> 7 | N20: =IF('PLANNING ANNUEL'!Y23="","",WEEKDAY(DATE(INFOS!$I$1,INFOS!$N$1,'PLANNING ANNUEL'!Y23),2)) -> 7 | O20: =IF('PLANNING ANNUEL'!AC23="","",WEEKDAY(DATE(INFOS!$I$1,INFOS!$O$1,'PLANNING ANNUEL'!AC23),2)) -> 3 | P20: =IF('PLANNING ANNUEL'!AG23="","",WEEKDAY(DATE(INFOS!$I$1,INFOS!$P$1,'PLANNING ANNUEL'!AG23),2)) -> 5 | Q20: =IF('PLANNING ANNUEL'!AK23="","",WEEKDAY(DATE(INFOS!$I$1,INFOS!$Q$1,'PLANNING ANNUEL'!AK23),2)) -> 1 | R20: =IF('PLANNING ANNUEL'!AO23="","",WEEKDAY(DATE(INFOS!$I$1,INFOS!$R$1,'PLANNING ANNUEL'!AO23),2)) -> 3 | S20: =IF('PLANNING ANNUEL'!AS23="","",WEEKDAY(DATE(INFOS!$I$1,INFOS!$S$1,'PLANNING ANNUEL'!AS23),2)) -> 6
D21: =IF('PLANNING ANNUEL'!A24="","",WEEKDAY(DATE(INFOS!$A$1,INFOS!$D$1,'PLANNING ANNUEL'!A24),2)) -> 1 | E21: =IF('PLANNING ANNUEL'!E24="","",WEEKDAY(DATE(INFOS!$A$1,INFOS!$E$1,'PLANNING ANNUEL'!E24),2)) -> 3 | F21: =IF('PLANNING ANNUEL'!I24="","",WEEKDAY(DATE(INFOS!$A$1,INFOS!$F$1,'PLANNING ANNUEL'!I24),2)) -> 6 | G21: =IF('PLANNING ANNUEL'!M24="","",WEEKDAY(DATE(INFOS!$A$1,INFOS!$G$1,'PLANNING ANNUEL'!M24),2)) -> 1 | L21: =IF('PLANNING ANNUEL'!Q24="","",WEEKDAY(DATE(INFOS!$I$1,INFOS!$L$1,'PLANNING ANNUEL'!Q24),2)) -> 4 | M21: =IF('PLANNING ANNUEL'!U24="","",WEEKDAY(DATE(INFOS!$I$1,INFOS!$M$1,'PLANNING ANNUEL'!U24),2)) -> 7 | N21: =IF('PLANNING ANNUEL'!Y24="","",WEEKDAY(DATE(INFOS!$I$1,INFOS!$N$1,'PLANNING ANNUEL'!Y24),2)) -> 7 | O21: =IF('PLANNING ANNUEL'!AC24="","",WEEKDAY(DATE(INFOS!$I$1,INFOS!$O$1,'PLANNING ANNUEL'!AC24),2)) -> 3 | P21: =IF('PLANNING ANNUEL'!AG24="","",WEEKDAY(DATE(INFOS!$I$1,INFOS!$P$1,'PLANNING ANNUEL'!AG24),2)) -> 5 | Q21: =IF('PLANNING ANNUEL'!AK24="","",WEEKDAY(DATE(INFOS!$I$1,INFOS!$Q$1,'PLANNING ANNUEL'!AK24),2)) -> 1 | R21: =IF('PLANNING ANNUEL'!AO24="","",WEEKDAY(DATE(INFOS!$I$1,INFOS!$R$1,'PLANNING ANNUEL'!AO24),2)) -> 3 | S21: =IF('PLANNING ANNUEL'!AS24="","",WEEKDAY(DATE(INFOS!$I$1,INFOS!$S$1,'PLANNING ANNUEL'!AS24),2)) -> 6
D22: =IF('PLANNING ANNUEL'!A25="","",WEEKDAY(DATE(INFOS!$A$1,INFOS!$D$1,'PLANNING ANNUEL'!A25),2)) -> 1 | E22: =IF('PLANNING ANNUEL'!E25="","",WEEKDAY(DATE(INFOS!$A$1,INFOS!$E$1,'PLANNING ANNUEL'!E25),2)) -> 3 | F22: =IF('PLANNING ANNUEL'!I25="","",WEEKDAY(DATE(INFOS!$A$1,INFOS!$F$1,'PLANNING ANNUEL'!I25),2)) -> 6 | G22: =IF('PLANNING ANNUEL'!M25="","",WEEKDAY(DATE(INFOS!$A$1,INFOS!$G$1,'PLANNING ANNUEL'!M25),2)) -> 1 | L22: =IF('PLANNING ANNUEL'!Q25="","",WEEKDAY(DATE(INFOS!$I$1,INFOS!$L$1,'PLANNING ANNUEL'!Q25),2)) -> 4 | M22: =IF('PLANNING ANNUEL'!U25="","",WEEKDAY(DATE(INFOS!$I$1,INFOS!$M$1,'PLANNING ANNUEL'!U25),2)) -> 7 | N22: =IF('PLANNING ANNUEL'!Y25="","",WEEKDAY(DATE(INFOS!$I$1,INFOS!$N$1,'PLANNING ANNUEL'!Y25),2)) -> 7 | O22: =IF('PLANNING ANNUEL'!AC25="","",WEEKDAY(DATE(INFOS!$I$1,INFOS!$O$1,'PLANNING ANNUEL'!AC25),2)) -> 3 | P22: =IF('PLANNING ANNUEL'!AG25="","",WEEKDAY(DATE(INFOS!$I$1,INFOS!$P$1,'PLANNING ANNUEL'!AG25),2)) -> 5 | Q22: =IF('PLANNING ANNUEL'!AK25="","",WEEKDAY(DATE(INFOS!$I$1,INFOS!$Q$1,'PLANNING ANNUEL'!AK25),2)) -> 1 | R22: =IF('PLANNING ANNUEL'!AO25="","",WEEKDAY(DATE(INFOS!$I$1,INFOS!$R$1,'PLANNING ANNUEL'!AO25),2)) -> 3 | S22: =IF('PLANNING ANNUEL'!AS25="","",WEEKDAY(DATE(INFOS!$I$1,INFOS!$S$1,'PLANNING ANNUEL'!AS25),2)) -> 6
D23: =IF('PLANNING ANNUEL'!A26="","",WEEKDAY(DATE(INFOS!$A$1,INFOS!$D$1,'PLANNING ANNUEL'!A26),2)) -> 1 | E23: =IF('PLANNING ANNUEL'!E26="","",WEEKDAY(DATE(INFOS!$A$1,INFOS!$E$1,'PLANNING ANNUEL'!E26),2)) -> 3 | F23: =IF('PLANNING ANNUEL'!I26="","",WEEKDAY(DATE(INFOS!$A$1,INFOS!$F$1,'PLANNING ANNUEL'!I26),2)) -> 6 | G23: =IF('PLANNING ANNUEL'!M26="","",WEEKDAY(DATE(INFOS!$A$1,INFOS!$G$1,'PLANNING ANNUEL'!M26),2)) -> 1 | L23: =IF('PLANNING ANNUEL'!Q26="","",WEEKDAY(DATE(INFOS!$I$1,INFOS!$L$1,'PLANNING ANNUEL'!Q26),2)) -> 4 | M23: =IF('PLANNING ANNUEL'!U26="","",WEEKDAY(DATE(INFOS!$I$1,INFOS!$M$1,'PLANNING ANNUEL'!U26),2)) -> 7 | N23: =IF('PLANNING ANNUEL'!Y26="","",WEEKDAY(DATE(INFOS!$I$1,INFOS!$N$1,'PLANNING ANNUEL'!Y26),2)) -> 7 | O23: =IF('PLANNING ANNUEL'!AC26="","",WEEKDAY(DATE(INFOS!$I$1,INFOS!$O$1,'PLANNING ANNUEL'!AC26),2)) -> 3 | P23: =IF('PLANNING ANNUEL'!AG26="","",WEEKDAY(DATE(INFOS!$I$1,INFOS!$P$1,'PLANNING ANNUEL'!AG26),2)) -> 5 | Q23: =IF('PLANNING ANNUEL'!AK26="","",WEEKDAY(DATE(INFOS!$I$1,INFOS!$Q$1,'PLANNING ANNUEL'!AK26),2)) -> 1 | R23: =IF('PLANNING ANNUEL'!AO26="","",WEEKDAY(DATE(INFOS!$I$1,INFOS!$R$1,'PLANNING ANNUEL'!AO26),2)) -> 3 | S23: =IF('PLANNING ANNUEL'!AS26="","",WEEKDAY(DATE(INFOS!$I$1,INFOS!$S$1,'PLANNING ANNUEL'!AS26),2)) -> 6
D24: =IF('PLANNING ANNUEL'!A27="","",WEEKDAY(DATE(INFOS!$A$1,INFOS!$D$1,'PLANNING ANNUEL'!A27),2)) -> 1 | E24: =IF('PLANNING ANNUEL'!E27="","",WEEKDAY(DATE(INFOS!$A$1,INFOS!$E$1,'PLANNING ANNUEL'!E27),2)) -> 3 | F24: =IF('PLANNING ANNUEL'!I27="","",WEEKDAY(DATE(INFOS!$A$1,INFOS!$F$1,'PLANNING ANNUEL'!I27),2)) -> 6 | G24: =IF('PLANNING ANNUEL'!M27="","",WEEKDAY(DATE(INFOS!$A$1,INFOS!$G$1,'PLANNING ANNUEL'!M27),2)) -> 1 | L24: =IF('PLANNING ANNUEL'!Q27="","",WEEKDAY(DATE(INFOS!$I$1,INFOS!$L$1,'PLANNING ANNUEL'!Q27),2)) -> 4 | M24: =IF('PLANNING ANNUEL'!U27="","",WEEKDAY(DATE(INFOS!$I$1,INFOS!$M$1,'PLANNING ANNUEL'!U27),2)) -> 7 | N24: =IF('PLANNING ANNUEL'!Y27="","",WEEKDAY(DATE(INFOS!$I$1,INFOS!$N$1,'PLANNING ANNUEL'!Y27),2)) -> 7 | O24: =IF('PLANNING ANNUEL'!AC27="","",WEEKDAY(DATE(INFOS!$I$1,INFOS!$O$1,'PLANNING ANNUEL'!AC27),2)) -> 3 | P24: =IF('PLANNING ANNUEL'!AG27="","",WEEKDAY(DATE(INFOS!$I$1,INFOS!$P$1,'PLANNING ANNUEL'!AG27),2)) -> 5 | Q24: =IF('PLANNING ANNUEL'!AK27="","",WEEKDAY(DATE(INFOS!$I$1,INFOS!$Q$1,'PLANNING ANNUEL'!AK27),2)) -> 1 | R24: =IF('PLANNING ANNUEL'!AO27="","",WEEKDAY(DATE(INFOS!$I$1,INFOS!$R$1,'PLANNING ANNUEL'!AO27),2)) -> 3 | S24: =IF('PLANNING ANNUEL'!AS27="","",WEEKDAY(DATE(INFOS!$I$1,INFOS!$S$1,'PLANNING ANNUEL'!AS27),2)) -> 6
D25: =IF('PLANNING ANNUEL'!A28="","",WEEKDAY(DATE(INFOS!$A$1,INFOS!$D$1,'PLANNING ANNUEL'!A28),2)) -> 1 | E25: =IF('PLANNING ANNUEL'!E28="","",WEEKDAY(DATE(INFOS!$A$1,INFOS!$E$1,'PLANNING ANNUEL'!E28),2)) -> 3 | F25: =IF('PLANNING ANNUEL'!I28="","",WEEKDAY(DATE(INFOS!$A$1,INFOS!$F$1,'PLANNING ANNUEL'!I28),2)) -> 6 | G25: =IF('PLANNING ANNUEL'!M28="","",WEEKDAY(DATE(INFOS!$A$1,INFOS!$G$1,'PLANNING ANNUEL'!M28),2)) -> 1 | L25: =IF('PLANNING ANNUEL'!Q28="","",WEEKDAY(DATE(INFOS!$I$1,INFOS!$L$1,'PLANNING ANNUEL'!Q28),2)) -> 4 | M25: =IF('PLANNING ANNUEL'!U28="","",WEEKDAY(DATE(INFOS!$I$1,INFOS!$M$1,'PLANNING ANNUEL'!U28),2)) -> 7 | N25: =IF('PLANNING ANNUEL'!Y28="","",WEEKDAY(DATE(INFOS!$I$1,INFOS!$N$1,'PLANNING ANNUEL'!Y28),2)) -> 7 | O25: =IF('PLANNING ANNUEL'!AC28="","",WEEKDAY(DATE(INFOS!$I$1,INFOS!$O$1,'PLANNING ANNUEL'!AC28),2)) -> 3 | P25: =IF('PLANNING ANNUEL'!AG28="","",WEEKDAY(DATE(INFOS!$I$1,INFOS!$P$1,'PLANNING ANNUEL'!AG28),2)) -> 5 | Q25: =IF('PLANNING ANNUEL'!AK28="","",WEEKDAY(DATE(INFOS!$I$1,INFOS!$Q$1,'PLANNING ANNUEL'!AK28),2)) -> 1 | R25: =IF('PLANNING ANNUEL'!AO28="","",WEEKDAY(DATE(INFOS!$I$1,INFOS!$R$1,'PLANNING ANNUEL'!AO28),2)) -> 3 | S25: =IF('PLANNING ANNUEL'!AS28="","",WEEKDAY(DATE(INFOS!$I$1,INFOS!$S$1,'PLANNING ANNUEL'!AS28),2)) -> 6
D26: =IF('PLANNING ANNUEL'!A29="","",WEEKDAY(DATE(INFOS!$A$1,INFOS!$D$1,'PLANNING ANNUEL'!A29),2)) -> 1 | E26: =IF('PLANNING ANNUEL'!E29="","",WEEKDAY(DATE(INFOS!$A$1,INFOS!$E$1,'PLANNING ANNUEL'!E29),2)) -> 3 | F26: =IF('PLANNING ANNUEL'!I29="","",WEEKDAY(DATE(INFOS!$A$1,INFOS!$F$1,'PLANNING ANNUEL'!I29),2)) -> 6 | G26: =IF('PLANNING ANNUEL'!M29="","",WEEKDAY(DATE(INFOS!$A$1,INFOS!$G$1,'PLANNING ANNUEL'!M29),2)) -> 1 | L26: =IF('PLANNING ANNUEL'!Q29="","",WEEKDAY(DATE(INFOS!$I$1,INFOS!$L$1,'PLANNING ANNUEL'!Q29),2)) -> 4 | M26: =IF('PLANNING ANNUEL'!U29="","",WEEKDAY(DATE(INFOS!$I$1,INFOS!$M$1,'PLANNING ANNUEL'!U29),2)) -> 7 | N26: =IF('PLANNING ANNUEL'!Y29="","",WEEKDAY(DATE(INFOS!$I$1,INFOS!$N$1,'PLANNING ANNUEL'!Y29),2)) -> 7 | O26: =IF('PLANNING ANNUEL'!AC29="","",WEEKDAY(DATE(INFOS!$I$1,INFOS!$O$1,'PLANNING ANNUEL'!AC29),2)) -> 3 | P26: =IF('PLANNING ANNUEL'!AG29="","",WEEKDAY(DATE(INFOS!$I$1,INFOS!$P$1,'PLANNING ANNUEL'!AG29),2)) -> 5 | Q26: =IF('PLANNING ANNUEL'!AK29="","",WEEKDAY(DATE(INFOS!$I$1,INFOS!$Q$1,'PLANNING ANNUEL'!AK29),2)) -> 1 | R26: =IF('PLANNING ANNUEL'!AO29="","",WEEKDAY(DATE(INFOS!$I$1,INFOS!$R$1,'PLANNING ANNUEL'!AO29),2)) -> 3 | S26: =IF('PLANNING ANNUEL'!AS29="","",WEEKDAY(DATE(INFOS!$I$1,INFOS!$S$1,'PLANNING ANNUEL'!AS29),2)) -> 6
D27: =IF('PLANNING ANNUEL'!A30="","",WEEKDAY(DATE(INFOS!$A$1,INFOS!$D$1,'PLANNING ANNUEL'!A30),2)) -> 1 | E27: =IF('PLANNING ANNUEL'!E30="","",WEEKDAY(DATE(INFOS!$A$1,INFOS!$E$1,'PLANNING ANNUEL'!E30),2)) -> 3 | F27: =IF('PLANNING ANNUEL'!I30="","",WEEKDAY(DATE(INFOS!$A$1,INFOS!$F$1,'PLANNING ANNUEL'!I30),2)) -> 6 | G27: =IF('PLANNING ANNUEL'!M30="","",WEEKDAY(DATE(INFOS!$A$1,INFOS!$G$1,'PLANNING ANNUEL'!M30),2)) -> 1 | L27: =IF('PLANNING ANNUEL'!Q30="","",WEEKDAY(DATE(INFOS!$I$1,INFOS!$L$1,'PLANNING ANNUEL'!Q30),2)) -> 4 | M27: =IF('PLANNING ANNUEL'!U30="","",WEEKDAY(DATE(INFOS!$I$1,INFOS!$M$1,'PLANNING ANNUEL'!U30),2)) -> 7 | N27: =IF('PLANNING ANNUEL'!Y30="","",WEEKDAY(DATE(INFOS!$I$1,INFOS!$N$1,'PLANNING ANNUEL'!Y30),2)) -> 7 | O27: =IF('PLANNING ANNUEL'!AC30="","",WEEKDAY(DATE(INFOS!$I$1,INFOS!$O$1,'PLANNING ANNUEL'!AC30),2)) -> 3 | P27: =IF('PLANNING ANNUEL'!AG30="","",WEEKDAY(DATE(INFOS!$I$1,INFOS!$P$1,'PLANNING ANNUEL'!AG30),2)) -> 5 | Q27: =IF('PLANNING ANNUEL'!AK30="","",WEEKDAY(DATE(INFOS!$I$1,INFOS!$Q$1,'PLANNING ANNUEL'!AK30),2)) -> 1 | R27: =IF('PLANNING ANNUEL'!AO30="","",WEEKDAY(DATE(INFOS!$I$1,INFOS!$R$1,'PLANNING ANNUEL'!AO30),2)) -> 3 | S27: =IF('PLANNING ANNUEL'!AS30="","",WEEKDAY(DATE(INFOS!$I$1,INFOS!$S$1,'PLANNING ANNUEL'!AS30),2)) -> 6
D28: =IF('PLANNING ANNUEL'!A31="","",WEEKDAY(DATE(INFOS!$A$1,INFOS!$D$1,'PLANNING ANNUEL'!A31),2)) -> 1 | E28: =IF('PLANNING ANNUEL'!E31="","",WEEKDAY(DATE(INFOS!$A$1,INFOS!$E$1,'PLANNING ANNUEL'!E31),2)) -> 3 | F28: =IF('PLANNING ANNUEL'!I31="","",WEEKDAY(DATE(INFOS!$A$1,INFOS!$F$1,'PLANNING ANNUEL'!I31),2)) -> 6 | G28: =IF('PLANNING ANNUEL'!M31="","",WEEKDAY(DATE(INFOS!$A$1,INFOS!$G$1,'PLANNING ANNUEL'!M31),2)) -> 1 | L28: =IF('PLANNING ANNUEL'!Q31="","",WEEKDAY(DATE(INFOS!$I$1,INFOS!$L$1,'PLANNING ANNUEL'!Q31),2)) -> 4 | M28: =IF('PLANNING ANNUEL'!U31="","",WEEKDAY(DATE(INFOS!$I$1,INFOS!$M$1,'PLANNING ANNUEL'!U31),2)) -> 7 | N28: =IF('PLANNING ANNUEL'!Y31="","",WEEKDAY(DATE(INFOS!$I$1,INFOS!$N$1,'PLANNING ANNUEL'!Y31),2)) -> 7 | O28: =IF('PLANNING ANNUEL'!AC31="","",WEEKDAY(DATE(INFOS!$I$1,INFOS!$O$1,'PLANNING ANNUEL'!AC31),2)) -> 3 | P28: =IF('PLANNING ANNUEL'!AG31="","",WEEKDAY(DATE(INFOS!$I$1,INFOS!$P$1,'PLANNING ANNUEL'!AG31),2)) -> 5 | Q28: =IF('PLANNING ANNUEL'!AK31="","",WEEKDAY(DATE(INFOS!$I$1,INFOS!$Q$1,'PLANNING ANNUEL'!AK31),2)) -> 1 | R28: =IF('PLANNING ANNUEL'!AO31="","",WEEKDAY(DATE(INFOS!$I$1,INFOS!$R$1,'PLANNING ANNUEL'!AO31),2)) -> 3 | S28: =IF('PLANNING ANNUEL'!AS31="","",WEEKDAY(DATE(INFOS!$I$1,INFOS!$S$1,'PLANNING ANNUEL'!AS31),2)) -> 6
D29: =IF('PLANNING ANNUEL'!A32="","",WEEKDAY(DATE(INFOS!$A$1,INFOS!$D$1,'PLANNING ANNUEL'!A32),2)) -> 1 | E29: =IF('PLANNING ANNUEL'!E32="","",WEEKDAY(DATE(INFOS!$A$1,INFOS!$E$1,'PLANNING ANNUEL'!E32),2)) -> 3 | F29: =IF('PLANNING ANNUEL'!I32="","",WEEKDAY(DATE(INFOS!$A$1,INFOS!$F$1,'PLANNING ANNUEL'!I32),2)) -> 6 | G29: =IF('PLANNING ANNUEL'!M32="","",WEEKDAY(DATE(INFOS!$A$1,INFOS!$G$1,'PLANNING ANNUEL'!M32),2)) -> 1 | L29: =IF('PLANNING ANNUEL'!Q32="","",WEEKDAY(DATE(INFOS!$I$1,INFOS!$L$1,'PLANNING ANNUEL'!Q32),2)) -> 4 | M29: =IF('PLANNING ANNUEL'!U32="","",WEEKDAY(DATE(INFOS!$I$1,INFOS!$M$1,'PLANNING ANNUEL'!U32),2)) -> 7 | N29: =IF('PLANNING ANNUEL'!Y32="","",WEEKDAY(DATE(INFOS!$I$1,INFOS!$N$1,'PLANNING ANNUEL'!Y32),2)) -> 7 | O29: =IF('PLANNING ANNUEL'!AC32="","",WEEKDAY(DATE(INFOS!$I$1,INFOS!$O$1,'PLANNING ANNUEL'!AC32),2)) -> 3 | P29: =IF('PLANNING ANNUEL'!AG32="","",WEEKDAY(DATE(INFOS!$I$1,INFOS!$P$1,'PLANNING ANNUEL'!AG32),2)) -> 5 | Q29: =IF('PLANNING ANNUEL'!AK32="","",WEEKDAY(DATE(INFOS!$I$1,INFOS!$Q$1,'PLANNING ANNUEL'!AK32),2)) -> 1 | R29: =IF('PLANNING ANNUEL'!AO32="","",WEEKDAY(DATE(INFOS!$I$1,INFOS!$R$1,'PLANNING ANNUEL'!AO32),2)) -> 3 | S29: =IF('PLANNING ANNUEL'!AS32="","",WEEKDAY(DATE(INFOS!$I$1,INFOS!$S$1,'PLANNING ANNUEL'!AS32),2)) -> 6
... D32: =IF('PLANNING ANNUEL'!A35="","",WEEKDAY(DATE(INFOS!$A$1,INFOS!$D$1,'PLANNING ANNUEL'!A35),2)) | E32: =IF('PLANNING ANNUEL'!E35="","",WEEKDAY(DATE(INFOS!$A$1,INFOS!$E$1,'PLANNING ANNUEL'!E35),2)) -> 3 | F32: =IF('PLANNING ANNUEL'!I35="","",WEEKDAY(DATE(INFOS!$A$1,INFOS!$F$1,'PLANNING ANNUEL'!I35),2)) | G32: =IF('PLANNING ANNUEL'!M35="","",WEEKDAY(DATE(INFOS!$A$1,INFOS!$G$1,'PLANNING ANNUEL'!M35),2)) -> 1 | L32: =IF('PLANNING ANNUEL'!Q35="","",WEEKDAY(DATE(INFOS!$I$1,INFOS!$L$1,'PLANNING ANNUEL'!Q35),2)) -> 4 | M32: =IF('PLANNING ANNUEL'!U35="","",WEEKDAY(DATE(INFOS!$I$1,INFOS!$M$1,'PLANNING ANNUEL'!U35),2)) | N32: =IF('PLANNING ANNUEL'!Y35="","",WEEKDAY(DATE(INFOS!$I$1,INFOS!$N$1,'PLANNING ANNUEL'!Y35),2)) -> 7 | O32: =IF('PLANNING ANNUEL'!AC35="","",WEEKDAY(DATE(INFOS!$I$1,INFOS!$O$1,'PLANNING ANNUEL'!AC35),2)) | P32: =IF('PLANNING ANNUEL'!AG35="","",WEEKDAY(DATE(INFOS!$I$1,INFOS!$P$1,'PLANNING ANNUEL'!AG35),2)) -> 5 | Q32: =IF('PLANNING ANNUEL'!AK35="","",WEEKDAY(DATE(INFOS!$I$1,INFOS!$Q$1,'PLANNING ANNUEL'!AK35),2)) | R32: =IF('PLANNING ANNUEL'!AO35="","",WEEKDAY(DATE(INFOS!$I$1,INFOS!$R$1,'PLANNING ANNUEL'!AO35),2)) -> 3 | S32: =IF('PLANNING ANNUEL'!AS35="","",WEEKDAY(DATE(INFOS!$I$1,INFOS!$S$1,'PLANNING ANNUEL'!AS35),2)) -> 6
