Workbook
Name annee: [1]Calendrier!$BD$2
Name Feries_1: INFOS!$Y$3:$Y$15
Name Feries_2: INFOS!$AB$3:$AB$15
Name HS_Absence: '[2]4-PLANNING ANNUEL'!$AY$67:$AY$68
Name JFER1: INFOS!$X$3:$Y$15
Name JFER2: INFOS!$AA$3:$AB$15
Name JourJ: [1]Dates!$C$1
Name mois: [1]Calendrier!$BD$4

Sheet PLANNING ANNUEL
A4: Septembre | E4: Octobre | I4: Novembre | M4: Décembre | Q4: Janvier | U4: Février | Y4: Mars | AC4: Avril | AG4: Mai | AK4: Juin | AO4: Juillet | AS4: Août
A5: =DATE(INFOS!$A$1,9,1) -> 46266 | B5: =TEXT(A5,"jjj") -> mar | C5: {=IFERROR(IF(D5='EDT HEBDO'!$I$3,"C", IF(D5='EDT HEBDO'!$I$1, INDEX('EDT HEBDO'!$B$7:$F$7,MATCH(B5,LEFT('EDT HEBDO'!$B$1:$F$1,3),0)), IF(D5='EDT HEBDO'!$I$2, INDEX('EDT HEBDO'!$B$15:$F$15,MATCH(B5,LEFT('EDT HEBDO'!$B$1:$F$1,3),0)), INDEX(INFOS!$X$2:$X$14,MATCH(A5,INFOS!$W$2:$W$14,0))))),"")} -> 0.37847222 | D5: PS | E5: =DATE(INFOS!$A$1,10,1) -> 46296 | F5: =TEXT(E5,"jjj") -> jeu | G5: {=IFERROR(IF(H5='EDT HEBDO'!$I$3,"C", IF(H5='EDT HEBDO'!$I$1, INDEX('EDT HEBDO'!$B$7:$F$7,MATCH(F5,LEFT('EDT HEBDO'!$B$1:$F$1,3),0)), IF(H5='EDT HEBDO'!$I$2, INDEX('EDT HEBDO'!$B$15:$F$15,MATCH(F5,LEFT('EDT HEBDO'!$B$1:$F$1,3),0)), INDEX(INFOS!$X$2:$X$14,MATCH(E5,INFOS!$W$2:$W$14,0))))),"")} -> 0.37847222 | H5: PS | I5: =DATE(INFOS!$A$1,11,1) -> 46327 | J5: =TEXT(I5,"jjj") -> dim | K5: {=IFERROR(IF(L5='EDT HEBDO'!$I$3,"C", IF(L5='EDT HEBDO'!$I$1, INDEX('EDT HEBDO'!$B$7:$F$7,MATCH(J5,LEFT('EDT HEBDO'!$B$1:$F$1,3),0)), IF(L5='EDT HEBDO'!$I$2, INDEX('EDT HEBDO'!$B$15:$F$15,MATCH(J5,LEFT('EDT HEBDO'!$B$1:$F$1,3),0)), INDEX(INFOS!$X$3:$X$15,MATCH(I5,INFOS!$Y$3:$Y$15,0))))),"")} -> Toussaint | M5: =DATE(INFOS!$A$1,12,1) -> 46357 | N5: =TEXT(M5,"jjj") -> mar | O5: {=IFERROR(IF(P5='EDT HEBDO'!$I$3,"C", IF(P5='EDT HEBDO'!$I$1, INDEX('EDT HEBDO'!$B$7:$F$7,MATCH(N5,LEFT('EDT HEBDO'!$B$1:$F$1,3),0)), IF(P5='EDT HEBDO'!$I$2, INDEX('EDT HEBDO'!$B$15:$F$15,MATCH(N5,LEFT('EDT HEBDO'!$B$1:$F$1,3),0)), INDEX(INFOS!$X$2:$X$14,MATCH(M5,INFOS!$W$2:$W$14,0))))),"")} -> 0.37847222 | P5: PS | Q5: =DATE(INFOS!$I$1,1,1) -> 46388 | R5: =TEXT(Q5,"jjj") -> ven | S5: {=IFERROR(IF(T5='EDT HEBDO'!$I$3,"C", IF(T5='EDT HEBDO'!$I$1, INDEX('EDT HEBDO'!$B$7:$F$7,MATCH(R5,LEFT('EDT HEBDO'!$B$1:$F$1,3),0)), IF(T5='EDT HEBDO'!$I$2, INDEX('EDT HEBDO'!$B$15:$F$15,MATCH(R5,LEFT('EDT HEBDO'!$B$1:$F$1,3),0)), INDEX(INFOS!$AA$3:$AA$15,MATCH(Q5,INFOS!$AB$3:$AB$15,0))))),"")} -> Nouvel an | U5: =DATE(INFOS!$I$1,2,1) -> 46419 | V5: =TEXT(U5,"jjj") -> lun | W5: {=IFERROR(IF(X5='EDT HEBDO'!$I$3,"C", IF(X5='EDT HEBDO'!$I$1, INDEX('EDT HEBDO'!$B$7:$F$7,MATCH(V5,LEFT('EDT HEBDO'!$B$1:$F$1,3),0)), IF(X5='EDT HEBDO'!$I$2, INDEX('EDT HEBDO'!$B$15:$F$15,MATCH(V5,LEFT('EDT HEBDO'!$B$1:$F$1,3),0)), INDEX(INFOS!$AA$3:$AA$15,MATCH(U5,INFOS!$AB$3:$AB$15,0))))),"")} -> 0.37847222 | X5: PS | Y5: =DATE(INFOS!$I$1,3,1) -> 46447 | Z5: =TEXT(Y5,"jjj") -> lun | AA5: {=IFERROR(IF(AB5='EDT HEBDO'!$I$3,"C", IF(AB5='EDT HEBDO'!$I$1, INDEX('EDT HEBDO'!$B$7:$F$7,MATCH(Z5,LEFT('EDT HEBDO'!$B$1:$F$1,3),0)), IF(AB5='EDT HEBDO'!$I$2, INDEX('EDT HEBDO'!$B$15:$F$15,MATCH(Z5,LEFT('EDT HEBDO'!$B$1:$F$1,3),0)), INDEX(INFOS!$AA$3:$AA$15,MATCH(Y5,INFOS!$AB$3:$AB$15,0))))),"")} -> 0.37847222 | AB5: PS | AC5: =DATE(INFOS!$I$1,4,1) -> 46478 | AD5: =TEXT(Y5,"jjj") -> lun | AE5: {=IFERROR(IF(AF5='EDT HEBDO'!$I$3,"C", IF(AF5='EDT HEBDO'!$I$1, INDEX('EDT HEBDO'!$B$7:$F$7,MATCH(AD5,LEFT('EDT HEBDO'!$B$1:$F$1,3),0)), IF(AF5='EDT HEBDO'!$I$2, INDEX('EDT HEBDO'!$B$15:$F$15,MATCH(AD5,LEFT('EDT HEBDO'!$B$1:$F$1,3),0)), INDEX(INFOS!$AA$3:$AA$15,MATCH(AC5,INFOS!$AB$3:$AB$15,0))))),"")} | AG5: =DATE(INFOS!$I$1,5,1) -> 46508 | AH5: =TEXT(Y5,"jjj") -> lun | AI5: {=IFERROR(IF(AJ5='EDT HEBDO'!$I$3,"C", IF(AJ5='EDT HEBDO'!$I$1, INDEX('EDT HEBDO'!$B$7:$F$7,MATCH(AH5,LEFT('EDT HEBDO'!$B$1:$F$1,3),0)), IF(AJ5='EDT HEBDO'!$I$2, INDEX('EDT HEBDO'!$B$15:$F$15,MATCH(AH5,LEFT('EDT HEBDO'!$B$1:$F$1,3),0)), INDEX(INFOS!$AA$3:$AA$15,MATCH(AG5,INFOS!$AB$3:$AB$15,0))))),"")} -> Fête du travail | AK5: =DATE(INFOS!$I$1,6,1) -> 46539 | AL5: =TEXT(Y5,"jjj") -> lun | AM5: {=IFERROR(IF(AN5='EDT HEBDO'!$I$3,"C", IF(AN5='EDT HEBDO'!$I$1, INDEX('EDT HEBDO'!$B$7:$F$7,MATCH(AL5,LEFT('EDT HEBDO'!$B$1:$F$1,3),0)), IF(AN5='EDT HEBDO'!$I$2, INDEX('EDT HEBDO'!$B$15:$F$15,MATCH(AL5,LEFT('EDT HEBDO'!$B$1:$F$1,3),0)), INDEX(INFOS!$AA$3:$AA$15,MATCH(AK5,INFOS!$AB$3:$AB$15,0))))),"")} | AO5: =DATE(INFOS!$I$1,7,1) -> 46569 | AP5: =TEXT(Y5,"jjj") -> lun | AQ5: {=IFERROR(IF(AR5='EDT HEBDO'!$I$3,"C", IF(AR5='EDT HEBDO'!$I$1, INDEX('EDT HEBDO'!$B$7:$F$7,MATCH(AP5,LEFT('EDT HEBDO'!$B$1:$F$1,3),0)), IF(AR5='EDT HEBDO'!$I$2, INDEX('EDT HEBDO'!$B$15:$F$15,MATCH(AP5,LEFT('EDT HEBDO'!$B$1:$F$1,3),0)), INDEX(INFOS!$AA$3:$AA$15,MATCH(AO5,INFOS!$AB$3:$AB$15,0))))),"")} | AS5: =DATE(INFOS!$I$1,8,1) -> 46600 | AT5: =TEXT(Y5,"jjj") -> lun | AU5: {=IFERROR(IF(AV5='EDT HEBDO'!$I$3,"C", IF(AV5='EDT HEBDO'!$I$1, INDEX('EDT HEBDO'!$B$7:$F$7,MATCH(AT5,LEFT('EDT HEBDO'!$B$1:$F$1,3),0)), IF(AV5='EDT HEBDO'!$I$2, INDEX('EDT HEBDO'!$B$15:$F$15,MATCH(AT5,LEFT('EDT HEBDO'!$B$1:$F$1,3),0)), INDEX(INFOS!$AA$3:$AA$15,MATCH(AS5,INFOS!$AB$3:$AB$15,0))))),"")}
A6: =A5+1 -> 46267 | B6: =TEXT(A6,"jjj") -> mer | C6: {=IFERROR(IF(D6='EDT HEBDO'!$I$3,"C", IF(D6='EDT HEBDO'!$I$1, INDEX('EDT HEBDO'!$B$7:$F$7,MATCH(B6,LEFT('EDT HEBDO'!$B$1:$F$1,3),0)), IF(D6='EDT HEBDO'!$I$2, INDEX('EDT HEBDO'!$B$15:$F$15,MATCH(B6,LEFT('EDT HEBDO'!$B$1:$F$1,3),0)), INDEX(INFOS!$X$2:$X$14,MATCH(A6,INFOS!$W$2:$W$14,0))))),"")} -> 0.16666667 | D6: PS | E6: =E5+1 -> 46297 | F6: =TEXT(E6,"jjj") -> ven | G6: {=IFERROR(IF(H6='EDT HEBDO'!$I$3,"C", IF(H6='EDT HEBDO'!$I$1, INDEX('EDT HEBDO'!$B$7:$F$7,MATCH(F6,LEFT('EDT HEBDO'!$B$1:$F$1,3),0)), IF(H6='EDT HEBDO'!$I$2, INDEX('EDT HEBDO'!$B$15:$F$15,MATCH(F6,LEFT('EDT HEBDO'!$B$1:$F$1,3),0)), INDEX(INFOS!$X$2:$X$14,MATCH(E6,INFOS!$W$2:$W$14,0))))),"")} -> 0.37847222 | H6: PS | I6: =I5+1 -> 46328 | J6: =TEXT(I6,"jjj") -> lun | K6: {=IFERROR(IF(L6='EDT HEBDO'!$I$3,"C", IF(L6='EDT HEBDO'!$I$1, INDEX('EDT HEBDO'!$B$7:$F$7,MATCH(J6,LEFT('EDT HEBDO'!$B$1:$F$1,3),0)), IF(L6='EDT HEBDO'!$I$2, INDEX('EDT HEBDO'!$B$15:$F$15,MATCH(J6,LEFT('EDT HEBDO'!$B$1:$F$1,3),0)), INDEX(INFOS!$X$3:$X$15,MATCH(I6,INFOS!$Y$3:$Y$15,0))))),"")} -> 0.37847222 | L6: PS | M6: =M5+1 -> 46358 | N6: =TEXT(M6,"jjj") -> mer | O6: {=IFERROR(IF(P6='EDT HEBDO'!$I$3,"C", IF(P6='EDT HEBDO'!$I$1, INDEX('EDT HEBDO'!$B$7:$F$7,MATCH(N6,LEFT('EDT HEBDO'!$B$1:$F$1,3),0)), IF(P6='EDT HEBDO'!$I$2, INDEX('EDT HEBDO'!$B$15:$F$15,MATCH(N6,LEFT('EDT HEBDO'!$B$1:$F$1,3),0)), INDEX(INFOS!$X$2:$X$14,MATCH(M6,INFOS!$W$2:$W$14,0))))),"")} -> 0.16666667 | P6: PS | Q6: =Q5+1 -> 46389 | R6: =TEXT(Q6,"jjj") -> sam | S6: {=IFERROR(IF(T6='EDT HEBDO'!$I$3,"C", IF(T6='EDT HEBDO'!$I$1, INDEX('EDT HEBDO'!$B$7:$F$7,MATCH(R6,LEFT('EDT HEBDO'!$B$1:$F$1,3),0)), IF(T6='EDT HEBDO'!$I$2, INDEX('EDT HEBDO'!$B$15:$F$15,MATCH(R6,LEFT('EDT HEBDO'!$B$1:$F$1,3),0)), INDEX(INFOS!$AA$3:$AA$15,MATCH(Q6,INFOS!$AB$3:$AB$15,0))))),"")} | U6: =U5+1 -> 46420 | V6: =TEXT(U6,"jjj") -> mar | W6: {=IFERROR(IF(X6='EDT HEBDO'!$I$3,"C", IF(X6='EDT HEBDO'!$I$1, INDEX('EDT HEBDO'!$B$7:$F$7,MATCH(V6,LEFT('EDT HEBDO'!$B$1:$F$1,3),0)), IF(X6='EDT HEBDO'!$I$2, INDEX('EDT HEBDO'!$B$15:$F$15,MATCH(V6,LEFT('EDT HEBDO'!$B$1:$F$1,3),0)), INDEX(INFOS!$AA$3:$AA$15,MATCH(U6,INFOS!$AB$3:$AB$15,0))))),"")} -> 0.37847222 | X6: PS | Y6: =Y5+1 -> 46448 | Z6: =TEXT(Y6,"jjj") -> mar | AA6: {=IFERROR(IF(AB6='EDT HEBDO'!$I$3,"C", IF(AB6='EDT HEBDO'!$I$1, INDEX('EDT HEBDO'!$B$7:$F$7,MATCH(Z6,LEFT('EDT HEBDO'!$B$1:$F$1,3),0)), IF(AB6='EDT HEBDO'!$I$2, INDEX('EDT HEBDO'!$B$15:$F$15,MATCH(Z6,LEFT('EDT HEBDO'!$B$1:$F$1,3),0)), INDEX(INFOS!$AA$3:$AA$15,MATCH(Y6,INFOS!$AB$3:$AB$15,0))))),"")} -> 0.37847222 | AB6: PS | AC6: =AC5+1 -> 46479 | AD6: =TEXT(Y6,"jjj") -> mar | AE6: {=IFERROR(IF(AF6='EDT HEBDO'!$I$3,"C", IF(AF6='EDT HEBDO'!$I$1, INDEX('EDT HEBDO'!$B$7:$F$7,MATCH(AD6,LEFT('EDT HEBDO'!$B$1:$F$1,3),0)), IF(AF6='EDT HEBDO'!$I$2, INDEX('EDT HEBDO'!$B$15:$F$15,MATCH(AD6,LEFT('EDT HEBDO'!$B$1:$F$1,3),0)), INDEX(INFOS!$AA$3:$AA$15,MATCH(AC6,INFOS!$AB$3:$AB$15,0))))),"")} | AG6: =AG5+1 -> 46509 | AH6: =TEXT(Y6,"jjj") -> mar | AI6: {=IFERROR(IF(AJ6='EDT HEBDO'!$I$3,"C", IF(AJ6='EDT HEBDO'!$I$1, INDEX('EDT HEBDO'!$B$7:$F$7,MATCH(AH6,LEFT('EDT HEBDO'!$B$1:$F$1,3),0)), IF(AJ6='EDT HEBDO'!$I$2, INDEX('EDT HEBDO'!$B$15:$F$15,MATCH(AH6,LEFT('EDT HEBDO'!$B$1:$F$1,3),0)), INDEX(INFOS!$AA$3:$AA$15,MATCH(AG6,INFOS!$AB$3:$AB$15,0))))),"")} | AK6: =AK5+1 -> 46540 | AL6: =TEXT(Y6,"jjj") -> mar | AM6: {=IFERROR(IF(AN6='EDT HEBDO'!$I$3,"C", IF(AN6='EDT HEBDO'!$I$1, INDEX('EDT HEBDO'!$B$7:$F$7,MATCH(AL6,LEFT('EDT HEBDO'!$B$1:$F$1,3),0)), IF(AN6='EDT HEBDO'!$I$2, INDEX('EDT HEBDO'!$B$15:$F$15,MATCH(AL6,LEFT('EDT HEBDO'!$B$1:$F$1,3),0)), INDEX(INFOS!$AA$3:$AA$15,MATCH(AK6,INFOS!$AB$3:$AB$15,0))))),"")} | AO6: =AO5+1 -> 46570 | AP6: =TEXT(Y6,"jjj") -> mar | AQ6: {=IFERROR(IF(AR6='EDT HEBDO'!$I$3,"C", IF(AR6='EDT HEBDO'!$I$1, INDEX('EDT HEBDO'!$B$7:$F$7,MATCH(AP6,LEFT('EDT HEBDO'!$B$1:$F$1,3),0)), IF(AR6='EDT HEBDO'!$I$2, INDEX('EDT HEBDO'!$B$15:$F$15,MATCH(AP6,LEFT('EDT HEBDO'!$B$1:$F$1,3),0)), INDEX(INFOS!$AA$3:$AA$15,MATCH(AO6,INFOS!$AB$3:$AB$15,0))))),"")} | AS6: =AS5+1 -> 46601 | AT6: =TEXT(Y6,"jjj") -> mar | AU6: {=IFERROR(IF(AV6='EDT HEBDO'!$I$3,"C", IF(AV6='EDT HEBDO'!$I$1, INDEX('EDT HEBDO'!$B$7:$F$7,MATCH(AT6,LEFT('EDT HEBDO'!$B$1:$F$1,3),0)), IF(AV6='EDT HEBDO'!$I$2, INDEX('EDT HEBDO'!$B$15:$F$15,MATCH(AT6,LEFT('EDT HEBDO'!$B$1:$F$1,3),0)), INDEX(INFOS!$AA$3:$AA$15,MATCH(AS6,INFOS!$AB$3:$AB$15,0))))),"")}
A7: =A6+1 -> 46268 | B7: =TEXT(A7,"jjj") -> jeu | C7: {=IFERROR(IF(D7='EDT HEBDO'!$I$3,"C", IF(D7='EDT HEBDO'!$I$1, INDEX('EDT HEBDO'!$B$7:$F$7,MATCH(B7,LEFT('EDT HEBDO'!$B$1:$F$1,3),0)), IF(D7='EDT HEBDO'!$I$2, INDEX('EDT HEBDO'!$B$15:$F$15,MATCH(B7,LEFT('EDT HEBDO'!$B$1:$F$1,3),0)), INDEX(INFOS!$X$2:$X$14,MATCH(A7,INFOS!$W$2:$W$14,0))))),"")} -> 0.37847222 | D7: PS | E7: =E6+1 -> 46298 | F7: =TEXT(E7,"jjj") -> sam | G7: {=IFERROR(IF(H7='EDT HEBDO'!$I$3,"C", IF(H7='EDT HEBDO'!$I$1, INDEX('EDT HEBDO'!$B$7:$F$7,MATCH(F7,LEFT('EDT HEBDO'!$B$1:$F$1,3),0)), IF(H7='EDT HEBDO'!$I$2, INDEX('EDT HEBDO'!$B$15:$F$15,MATCH(F7,LEFT('EDT HEBDO'!$B$1:$F$1,3),0)), INDEX(INFOS!$X$2:$X$14,MATCH(E7,INFOS!$W$2:$W$14,0))))),"")} | I7: =I6+1 -> 46329 | J7: =TEXT(I7,"jjj") -> mar | K7: {=IFERROR(IF(L7='EDT HEBDO'!$I$3,"C", IF(L7='EDT HEBDO'!$I$1, INDEX('EDT HEBDO'!$B$7:$F$7,MATCH(J7,LEFT('EDT HEBDO'!$B$1:$F$1,3),0)), IF(L7='EDT HEBDO'!$I$2, INDEX('EDT HEBDO'!$B$15:$F$15,MATCH(J7,LEFT('EDT HEBDO'!$B$1:$F$1,3),0)), INDEX(INFOS!$X$3:$X$15,MATCH(I7,INFOS!$Y$3:$Y$15,0))))),"")} -> 0.37847222 | L7: PS | M7: =M6+1 -> 46359 | N7: =TEXT(M7,"jjj") -> jeu | O7: {=IFERROR(IF(P7='EDT HEBDO'!$I$3,"C", IF(P7='EDT HEBDO'!$I$1, INDEX('EDT HEBDO'!$B$7:$F$7,MATCH(N7,LEFT('EDT HEBDO'!$B$1:$F$1,3),0)), IF(P7='EDT HEBDO'!$I$2, INDEX('EDT HEBDO'!$B$15:$F$15,MATCH(N7,LEFT('EDT HEBDO'!$B$1:$F$1,3),0)), INDEX(INFOS!$X$2:$X$14,MATCH(M7,INFOS!$W$2:$W$14,0))))),"")} -> 0.37847222 | P7: PS | Q7: =Q6+1 -> 46390 | R7: =TEXT(Q7,"jjj") -> dim | S7: {=IFERROR(IF(T7='EDT HEBDO'!$I$3,"C", IF(T7='EDT HEBDO'!$I$1, INDEX('EDT HEBDO'!$B$7:$F$7,MATCH(R7,LEFT('EDT HEBDO'!$B$1:$F$1,3),0)), IF(T7='EDT HEBDO'!$I$2, INDEX('EDT HEBDO'!$B$15:$F$15,MATCH(R7,LEFT('EDT HEBDO'!$B$1:$F$1,3),0)), INDEX(INFOS!$AA$3:$AA$15,MATCH(Q7,INFOS!$AB$3:$AB$15,0))))),"")} | U7: =U6+1 -> 46421 | V7: =TEXT(U7,"jjj") -> mer | W7: {=IFERROR(IF(X7='EDT HEBDO'!$I$3,"C", IF(X7='EDT HEBDO'!$I$1, INDEX('EDT HEBDO'!$B$7:$F$7,MATCH(V7,LEFT('EDT HEBDO'!$B$1:$F$1,3),0)), IF(X7='EDT HEBDO'!$I$2, INDEX('EDT HEBDO'!$B$15:$F$15,MATCH(V7,LEFT('EDT HEBDO'!$B$1:$F$1,3),0)), INDEX(INFOS!$AA$3:$AA$15,MATCH(U7,INFOS!$AB$3:$AB$15,0))))),"")} -> 0.16666667 | X7: PS | Y7: =Y6+1 -> 46449 | Z7: =TEXT(Y7,"jjj") -> mer | AA7: {=IFERROR(IF(AB7='EDT HEBDO'!$I$3,"C", IF(AB7='EDT HEBDO'!$I$1, INDEX('EDT HEBDO'!$B$7:$F$7,MATCH(Z7,LEFT('EDT HEBDO'!$B$1:$F$1,3),0)), IF(AB7='EDT HEBDO'!$I$2, INDEX('EDT HEBDO'!$B$15:$F$15,MATCH(Z7,LEFT('EDT HEBDO'!$B$1:$F$1,3),0)), INDEX(INFOS!$AA$3:$AA$15,MATCH(Y7,INFOS!$AB$3:$AB$15,0))))),"")} -> 0.16666667 | AB7: PS | AC7: =AC6+1 -> 46480 | AD7: =TEXT(Y7,"jjj") -> mer | AE7: {=IFERROR(IF(AF7='EDT HEBDO'!$I$3,"C", IF(AF7='EDT HEBDO'!$I$1, INDEX('EDT HEBDO'!$B$7:$F$7,MATCH(AD7,LEFT('EDT HEBDO'!$B$1:$F$1,3),0)), IF(AF7='EDT HEBDO'!$I$2, INDEX('EDT HEBDO'!$B$15:$F$15,MATCH(AD7,LEFT('EDT HEBDO'!$B$1:$F$1,3),0)), INDEX(INFOS!$AA$3:$AA$15,MATCH(AC7,INFOS!$AB$3:$AB$15,0))))),"")} | AG7: =AG6+1 -> 46510 | AH7: =TEXT(Y7,"jjj") -> mer | AI7: {=IFERROR(IF(AJ7='EDT HEBDO'!$I$3,"C", IF(AJ7='EDT HEBDO'!$I$1, INDEX('EDT HEBDO'!$B$7:$F$7,MATCH(AH7,LEFT('EDT HEBDO'!$B$1:$F$1,3),0)), IF(AJ7='EDT HEBDO'!$I$2, INDEX('EDT HEBDO'!$B$15:$F$15,MATCH(AH7,LEFT('EDT HEBDO'!$B$1:$F$1,3),0)), INDEX(INFOS!$AA$3:$AA$15,MATCH(AG7,INFOS!$AB$3:$AB$15,0))))),"")} | AK7: =AK6+1 -> 46541 | AL7: =TEXT(Y7,"jjj") -> mer | AM7: {=IFERROR(IF(AN7='EDT HEBDO'!$I$3,"C", IF(AN7='EDT HEBDO'!$I$1, INDEX('EDT HEBDO'!$B$7:$F$7,MATCH(AL7,LEFT('EDT HEBDO'!$B$1:$F$1,3),0)), IF(AN7='EDT HEBDO'!$I$2, INDEX('EDT HEBDO'!$B$15:$F$15,MATCH(AL7,LEFT('EDT HEBDO'!$B$1:$F$1,3),0)), INDEX(INFOS!$AA$3:$AA$15,MATCH(AK7,INFOS!$AB$3:$AB$15,0))))),"")} | AO7: =AO6+1 -> 46571 | AP7: =TEXT(Y7,"jjj") -> mer | AQ7: {=IFERROR(IF(AR7='EDT HEBDO'!$I$3,"C", IF(AR7='EDT HEBDO'!$I$1, INDEX('EDT HEBDO'!$B$7:$F$7,MATCH(AP7,LEFT('EDT HEBDO'!$B$1:$F$1,3),0)), IF(AR7='EDT HEBDO'!$I$2, INDEX('EDT HEBDO'!$B$15:$F$15,MATCH(AP7,LEFT('EDT HEBDO'!$B$1:$F$1,3),0)), INDEX(INFOS!$AA$3:$AA$15,MATCH(AO7,INFOS!$AB$3:$AB$15,0))))),"")} | AS7: =AS6+1 -> 46602 | AT7: =TEXT(Y7,"jjj") -> mer | AU7: {=IFERROR(IF(AV7='EDT HEBDO'!$I$3,"C", IF(AV7='EDT HEBDO'!$I$1, INDEX('EDT HEBDO'!$B$7:$F$7,MATCH(AT7,LEFT('EDT HEBDO'!$B$1:$F$1,3),0)), IF(AV7='EDT HEBDO'!$I$2, INDEX('EDT HEBDO'!$B$15:$F$15,MATCH(AT7,LEFT('EDT HEBDO'!$B$1:$F$1,3),0)), INDEX(INFOS!$AA$3:$AA$15,MATCH(AS7,INFOS!$AB$3:$AB$15,0))))),"")}
A8: =A7+1 -> 46269 | B8: =TEXT(A8,"jjj") -> ven | C8: {=IFERROR(IF(D8='EDT HEBDO'!$I$3,"C", IF(D8='EDT HEBDO'!$I$1, INDEX('EDT HEBDO'!$B$7:$F$7,MATCH(B8,LEFT('EDT HEBDO'!$B$1:$F$1,3),0)), IF(D8='EDT HEBDO'!$I$2, INDEX('EDT HEBDO'!$B$15:$F$15,MATCH(B8,LEFT('EDT HEBDO'!$B$1:$F$1,3),0)), INDEX(INFOS!$X$2:$X$14,MATCH(A8,INFOS!$W$2:$W$14,0))))),"")} -> 0.37847222 | D8: PS | E8: =E7+1 -> 46299 | F8: =TEXT(E8,"jjj") -> dim | G8: {=IFERROR(IF(H8='EDT HEBDO'!$I$3,"C", IF(H8='EDT HEBDO'!$I$1, INDEX('EDT HEBDO'!$B$7:$F$7,MATCH(F8,LEFT('EDT HEBDO'!$B$1:$F$1,3),0)), IF(H8='EDT HEBDO'!$I$2, INDEX('EDT HEBDO'!$B$15:$F$15,MATCH(F8,LEFT('EDT HEBDO'!$B$1:$F$1,3),0)), INDEX(INFOS!$X$2:$X$14,MATCH(E8,INFOS!$W$2:$W$14,0))))),"")} | I8: =I7+1 -> 46330 | J8: =TEXT(I8,"jjj") -> mer | K8: {=IFERROR(IF(L8='EDT HEBDO'!$I$3,"C", IF(L8='EDT HEBDO'!$I$1, INDEX('EDT HEBDO'!$B$7:$F$7,MATCH(J8,LEFT('EDT HEBDO'!$B$1:$F$1,3),0)), IF(L8='EDT HEBDO'!$I$2, INDEX('EDT HEBDO'!$B$15:$F$15,MATCH(J8,LEFT('EDT HEBDO'!$B$1:$F$1,3),0)), INDEX(INFOS!$X$3:$X$15,MATCH(I8,INFOS!$Y$3:$Y$15,0))))),"")} -> 0.16666667 | L8: PS | M8: =M7+1 -> 46360 | N8: =TEXT(M8,"jjj") -> ven | O8: {=IFERROR(IF(P8='EDT HEBDO'!$I$3,"C", IF(P8='EDT HEBDO'!$I$1, INDEX('EDT HEBDO'!$B$7:$F$7,MATCH(N8,LEFT('EDT HEBDO'!$B$1:$F$1,3),0)), IF(P8='EDT HEBDO'!$I$2, INDEX('EDT HEBDO'!$B$15:$F$15,MATCH(N8,LEFT('EDT HEBDO'!$B$1:$F$1,3),0)), INDEX(INFOS!$X$2:$X$14,MATCH(M8,INFOS!$W$2:$W$14,0))))),"")} -> 0.37847222 | P8: PS | Q8: =Q7+1 -> 46391 | R8: =TEXT(Q8,"jjj") -> lun | S8: {=IFERROR(IF(T8='EDT HEBDO'!$I$3,"C", IF(T8='EDT HEBDO'!$I$1, INDEX('EDT HEBDO'!$B$7:$F$7,MATCH(R8,LEFT('EDT HEBDO'!$B$1:$F$1,3),0)), IF(T8='EDT HEBDO'!$I$2, INDEX('EDT HEBDO'!$B$15:$F$15,MATCH(R8,LEFT('EDT HEBDO'!$B$1:$F$1,3),0)), INDEX(INFOS!$AA$3:$AA$15,MATCH(Q8,INFOS!$AB$3:$AB$15,0))))),"")} -> 0.37847222 | T8: PS | U8: =U7+1 -> 46422 | V8: =TEXT(U8,"jjj") -> jeu | W8: {=IFERROR(IF(X8='EDT HEBDO'!$I$3,"C", IF(X8='EDT HEBDO'!$I$1, INDEX('EDT HEBDO'!$B$7:$F$7,MATCH(V8,LEFT('EDT HEBDO'!$B$1:$F$1,3),0)), IF(X8='EDT HEBDO'!$I$2, INDEX('EDT HEBDO'!$B$15:$F$15,MATCH(V8,LEFT('EDT HEBDO'!$B$1:$F$1,3),0)), INDEX(INFOS!$AA$3:$AA$15,MATCH(U8,INFOS!$AB$3:$AB$15,0))))),"")} -> 0.37847222 | X8: PS | Y8: =Y7+1 -> 46450 | Z8: =TEXT(Y8,"jjj") -> jeu | AA8: {=IFERROR(IF(AB8='EDT HEBDO'!$I$3,"C", IF(AB8='EDT HEBDO'!$I$1, INDEX('EDT HEBDO'!$B$7:$F$7,MATCH(Z8,LEFT('EDT HEBDO'!$B$1:$F$1,3),0)), IF(AB8='EDT HEBDO'!$I$2, INDEX('EDT HEBDO'!$B$15:$F$15,MATCH(Z8,LEFT('EDT HEBDO'!$B$1:$F$1,3),0)), INDEX(INFOS!$AA$3:$AA$15,MATCH(Y8,INFOS!$AB$3:$AB$15,0))))),"")} -> 0.37847222 | AB8: PS | AC8: =AC7+1 -> 46481 | AD8: =TEXT(Y8,"jjj") -> jeu | AE8: {=IFERROR(IF(AF8='EDT HEBDO'!$I$3,"C", IF(AF8='EDT HEBDO'!$I$1, INDEX('EDT HEBDO'!$B$7:$F$7,MATCH(AD8,LEFT('EDT HEBDO'!$B$1:$F$1,3),0)), IF(AF8='EDT HEBDO'!$I$2, INDEX('EDT HEBDO'!$B$15:$F$15,MATCH(AD8,LEFT('EDT HEBDO'!$B$1:$F$1,3),0)), INDEX(INFOS!$AA$3:$AA$15,MATCH(AC8,INFOS!$AB$3:$AB$15,0))))),"")} -> Pâques | AG8: =AG7+1 -> 46511 | AH8: =TEXT(Y8,"jjj") -> jeu | AI8: {=IFERROR(IF(AJ8='EDT HEBDO'!$I$3,"C", IF(AJ8='EDT HEBDO'!$I$1, INDEX('EDT HEBDO'!$B$7:$F$7,MATCH(AH8,LEFT('EDT HEBDO'!$B$1:$F$1,3),0)), IF(AJ8='EDT HEBDO'!$I$2, INDEX('EDT HEBDO'!$B$15:$F$15,MATCH(AH8,LEFT('EDT HEBDO'!$B$1:$F$1,3),0)), INDEX(INFOS!$AA$3:$AA$15,MATCH(AG8,INFOS!$AB$3:$AB$15,0))))),"")} | AK8: =AK7+1 -> 46542 | AL8: =TEXT(Y8,"jjj") -> jeu | AM8: {=IFERROR(IF(AN8='EDT HEBDO'!$I$3,"C", IF(AN8='EDT HEBDO'!$I$1, INDEX('EDT HEBDO'!$B$7:$F$7,MATCH(AL8,LEFT('EDT HEBDO'!$B$1:$F$1,3),0)), IF(AN8='EDT HEBDO'!$I$2, INDEX('EDT HEBDO'!$B$15:$F$15,MATCH(AL8,LEFT('EDT HEBDO'!$B$1:$F$1,3),0)), INDEX(INFOS!$AA$3:$AA$15,MATCH(AK8,INFOS!$AB$3:$AB$15,0))))),"")} | AO8: =AO7+1 -> 46572 | AP8: =TEXT(Y8,"jjj") -> jeu | AQ8: {=IFERROR(IF(AR8='EDT HEBDO'!$I$3,"C", IF(AR8='EDT HEBDO'!$I$1, INDEX('EDT HEBDO'!$B$7:$F$7,MATCH(AP8,LEFT('EDT HEBDO'!$B$1:$F$1,3),0)), IF(AR8='EDT HEBDO'!$I$2, INDEX('EDT HEBDO'!$B$15:$F$15,MATCH(AP8,LEFT('EDT HEBDO'!$B$1:$F$1,3),0)), INDEX(INFOS!$AA$3:$AA$15,MATCH(AO8,INFOS!$AB$3:$AB$15,0))))),"")} | AS8: =AS7+1 -> 46603 | AT8: =TEXT(Y8,"jjj") -> jeu | AU8: {=IFERROR(IF(AV8='EDT HEBDO'!$I$3,"C", IF(AV8='EDT HEBDO'!$I$1, INDEX('EDT HEBDO'!$B$7:$F$7,MATCH(AT8,LEFT('EDT HEBDO'!$B$1:$F$1,3),0)), IF(AV8='EDT HEBDO'!$I$2, INDEX('EDT HEBDO'!$B$15:$F$15,MATCH(AT8,LEFT('EDT HEBDO'!$B$1:$F$1,3),0)), INDEX(INFOS!$AA$3:$AA$15,MATCH(AS8,INFOS!$AB$3:$AB$15,0))))),"")}
A9: =A8+1 -> 46270 | B9: =TEXT(A9,"jjj") -> sam | C9: {=IFERROR(IF(D9='EDT HEBDO'!$I$3,"C", IF(D9='EDT HEBDO'!$I$1, INDEX('EDT HEBDO'!$B$7:$F$7,MATCH(B9,LEFT('EDT HEBDO'!$B$1:$F$1,3),0)), IF(D9='EDT HEBDO'!$I$2, INDEX('EDT HEBDO'!$B$15:$F$15,MATCH(B9,LEFT('EDT HEBDO'!$B$1:$F$1,3),0)), INDEX(INFOS!$X$2:$X$14,MATCH(A9,INFOS!$W$2:$W$14,0))))),"")} | E9: =E8+1 -> 46300 | F9: =TEXT(E9,"jjj") -> lun | G9: {=IFERROR(IF(H9='EDT HEBDO'!$I$3,"C", IF(H9='EDT HEBDO'!$I$1, INDEX('EDT HEBDO'!$B$7:$F$7,MATCH(F9,LEFT('EDT HEBDO'!$B$1:$F$1,3),0)), IF(H9='EDT HEBDO'!$I$2, INDEX('EDT HEBDO'!$B$15:$F$15,MATCH(F9,LEFT('EDT HEBDO'!$B$1:$F$1,3),0)), INDEX(INFOS!$X$2:$X$14,MATCH(E9,INFOS!$W$2:$W$14,0))))),"")} -> 0.37847222 | H9: PS | I9: =I8+1 -> 46331 | J9: =TEXT(I9,"jjj") -> jeu | K9: {=IFERROR(IF(L9='EDT HEBDO'!$I$3,"C", IF(L9='EDT HEBDO'!$I$1, INDEX('EDT HEBDO'!$B$7:$F$7,MATCH(J9,LEFT('EDT HEBDO'!$B$1:$F$1,3),0)), IF(L9='EDT HEBDO'!$I$2, INDEX('EDT HEBDO'!$B$15:$F$15,MATCH(J9,LEFT('EDT HEBDO'!$B$1:$F$1,3),0)), INDEX(INFOS!$X$3:$X$15,MATCH(I9,INFOS!$Y$3:$Y$15,0))))),"")} -> 0.37847222 | L9: PS | M9: =M8+1 -> 46361 | N9: =TEXT(M9,"jjj") -> sam | O9: {=IFERROR(IF(P9='EDT HEBDO'!$I$3,"C", IF(P9='EDT HEBDO'!$I$1, INDEX('EDT HEBDO'!$B$7:$F$7,MATCH(N9,LEFT('EDT HEBDO'!$B$1:$F$1,3),0)), IF(P9='EDT HEBDO'!$I$2, INDEX('EDT HEBDO'!$B$15:$F$15,MATCH(N9,LEFT('EDT HEBDO'!$B$1:$F$1,3),0)), INDEX(INFOS!$X$2:$X$14,MATCH(M9,INFOS!$W$2:$W$14,0))))),"")} | Q9: =Q8+1 -> 46392 | R9: =TEXT(Q9,"jjj") -> mar | S9: {=IFERROR(IF(T9='EDT HEBDO'!$I$3,"C", IF(T9='EDT HEBDO'!$I$1, INDEX('EDT HEBDO'!$B$7:$F$7,MATCH(R9,LEFT('EDT HEBDO'!$B$1:$F$1,3),0)), IF(T9='EDT HEBDO'!$I$2, INDEX('EDT HEBDO'!$B$15:$F$15,MATCH(R9,LEFT('EDT HEBDO'!$B$1:$F$1,3),0)), INDEX(INFOS!$AA$3:$AA$15,MATCH(Q9,INFOS!$AB$3:$AB$15,0))))),"")} -> 0.37847222 | T9: PS | U9: =U8+1 -> 46423 | V9: =TEXT(U9,"jjj") -> ven | W9: {=IFERROR(IF(X9='EDT HEBDO'!$I$3,"C", IF(X9='EDT HEBDO'!$I$1, INDEX('EDT HEBDO'!$B$7:$F$7,MATCH(V9,LEFT('EDT HEBDO'!$B$1:$F$1,3),0)), IF(X9='EDT HEBDO'!$I$2, INDEX('EDT HEBDO'!$B$15:$F$15,MATCH(V9,LEFT('EDT HEBDO'!$B$1:$F$1,3),0)), INDEX(INFOS!$AA$3:$AA$15,MATCH(U9,INFOS!$AB$3:$AB$15,0))))),"")} -> 0.37847222 | X9: PS | Y9: =Y8+1 -> 46451 | Z9: =TEXT(Y9,"jjj") -> ven | AA9: {=IFERROR(IF(AB9='EDT HEBDO'!$I$3,"C", IF(AB9='EDT HEBDO'!$I$1, INDEX('EDT HEBDO'!$B$7:$F$7,MATCH(Z9,LEFT('EDT HEBDO'!$B$1:$F$1,3),0)), IF(AB9='EDT HEBDO'!$I$2, INDEX('EDT HEBDO'!$B$15:$F$15,MATCH(Z9,LEFT('EDT HEBDO'!$B$1:$F$1,3),0)), INDEX(INFOS!$AA$3:$AA$15,MATCH(Y9,INFOS!$AB$3:$AB$15,0))))),"")} -> 0.37847222 | AB9: PS | AC9: =AC8+1 -> 46482 | AD9: =TEXT(Y9,"jjj") -> ven | AE9: {=IFERROR(IF(AF9='EDT HEBDO'!$I$3,"C", IF(AF9='EDT HEBDO'!$I$1, INDEX('EDT HEBDO'!$B$7:$F$7,MATCH(AD9,LEFT('EDT HEBDO'!$B$1:$F$1,3),0)), IF(AF9='EDT HEBDO'!$I$2, INDEX('EDT HEBDO'!$B$15:$F$15,MATCH(AD9,LEFT('EDT HEBDO'!$B$1:$F$1,3),0)), INDEX(INFOS!$AA$3:$AA$15,MATCH(AC9,INFOS!$AB$3:$AB$15,0))))),"")} -> Lundi de Pâques | AG9: =AG8+1 -> 46512 | AH9: =TEXT(Y9,"jjj") -> ven | AI9: {=IFERROR(IF(AJ9='EDT HEBDO'!$I$3,"C", IF(AJ9='EDT HEBDO'!$I$1, INDEX('EDT HEBDO'!$B$7:$F$7,MATCH(AH9,LEFT('EDT HEBDO'!$B$1:$F$1,3),0)), IF(AJ9='EDT HEBDO'!$I$2, INDEX('EDT HEBDO'!$B$15:$F$15,MATCH(AH9,LEFT('EDT HEBDO'!$B$1:$F$1,3),0)), INDEX(INFOS!$AA$3:$AA$15,MATCH(AG9,INFOS!$AB$3:$AB$15,0))))),"")} | AK9: =AK8+1 -> 46543 | AL9: =TEXT(Y9,"jjj") -> ven | AM9: {=IFERROR(IF(AN9='EDT HEBDO'!$I$3,"C", IF(AN9='EDT HEBDO'!$I$1, INDEX('EDT HEBDO'!$B$7:$F$7,MATCH(AL9,LEFT('EDT HEBDO'!$B$1:$F$1,3),0)), IF(AN9='EDT HEBDO'!$I$2, INDEX('EDT HEBDO'!$B$15:$F$15,MATCH(AL9,LEFT('EDT HEBDO'!$B$1:$F$1,3),0)), INDEX(INFOS!$AA$3:$AA$15,MATCH(AK9,INFOS!$AB$3:$AB$15,0))))),"")} | AO9: =AO8+1 -> 46573 | AP9: =TEXT(Y9,"jjj") -> ven | AQ9: {=IFERROR(IF(AR9='EDT HEBDO'!$I$3,"C", IF(AR9='EDT HEBDO'!$I$1, INDEX('EDT HEBDO'!$B$7:$F$7,MATCH(AP9,LEFT('EDT HEBDO'!$B$1:$F$1,3),0)), IF(AR9='EDT HEBDO'!$I$2, INDEX('EDT HEBDO'!$B$15:$F$15,MATCH(AP9,LEFT('EDT HEBDO'!$B$1:$F$1,3),0)), INDEX(INFOS!$AA$3:$AA$15,MATCH(AO9,INFOS!$AB$3:$AB$15,0))))),"")} | AS9: =AS8+1 -> 46604 | AT9: =TEXT(Y9,"jjj") -> ven | AU9: {=IFERROR(IF(AV9='EDT HEBDO'!$I$3,"C", IF(AV9='EDT HEBDO'!$I$1, INDEX('EDT HEBDO'!$B$7:$F$7,MATCH(AT9,LEFT('EDT HEBDO'!$B$1:$F$1,3),0)), IF(AV9='EDT HEBDO'!$I$2, INDEX('EDT HEBDO'!$B$15:$F$15,MATCH(AT9,LEFT('EDT HEBDO'!$B$1:$F$1,3),0)), INDEX(INFOS!$AA$3:$AA$15,MATCH(AS9,INFOS!$AB$3:$AB$15,0))))),"")}
A10: =A9+1 -> 46271 | B10: =TEXT(A10,"jjj") -> dim | C10: {=IFERROR(IF(D10='EDT HEBDO'!$I$3,"C", IF(D10='EDT HEBDO'!$I$1, INDEX('EDT HEBDO'!$B$7:$F$7,MATCH(B10,LEFT('EDT HEBDO'!$B$1:$F$1,3),0)), IF(D10='EDT HEBDO'!$I$2, INDEX('EDT HEBDO'!$B$15:$F$15,MATCH(B10,LEFT('EDT HEBDO'!$B$1:$F$1,3),0)), INDEX(INFOS!$X$2:$X$14,MATCH(A10,INFOS!$W$2:$W$14,0))))),"")} | E10: =E9+1 -> 46301 | F10: =TEXT(E10,"jjj") -> mar | G10: {=IFERROR(IF(H10='EDT HEBDO'!$I$3,"C", IF(H10='EDT HEBDO'!$I$1, INDEX('EDT HEBDO'!$B$7:$F$7,MATCH(F10,LEFT('EDT HEBDO'!$B$1:$F$1,3),0)), IF(H10='EDT HEBDO'!$I$2, INDEX('EDT HEBDO'!$B$15:$F$15,MATCH(F10,LEFT('EDT HEBDO'!$B$1:$F$1,3),0)), INDEX(INFOS!$X$2:$X$14,MATCH(E10,INFOS!$W$2:$W$14,0))))),"")} -> 0.37847222 | H10: PS | I10: =I9+1 -> 46332 | J10: =TEXT(I10,"jjj") -> ven | K10: {=IFERROR(IF(L10='EDT HEBDO'!$I$3,"C", IF(L10='EDT HEBDO'!$I$1, INDEX('EDT HEBDO'!$B$7:$F$7,MATCH(J10,LEFT('EDT HEBDO'!$B$1:$F$1,3),0)), IF(L10='EDT HEBDO'!$I$2, INDEX('EDT HEBDO'!$B$15:$F$15,MATCH(J10,LEFT('EDT HEBDO'!$B$1:$F$1,3),0)), INDEX(INFOS!$X$3:$X$15,MATCH(I10,INFOS!$Y$3:$Y$15,0))))),"")} -> 0.37847222 | L10: PS | M10: =M9+1 -> 46362 | N10: =TEXT(M10,"jjj") -> dim | O10: {=IFERROR(IF(P10='EDT HEBDO'!$I$3,"C", IF(P10='EDT HEBDO'!$I$1, INDEX('EDT HEBDO'!$B$7:$F$7,MATCH(N10,LEFT('EDT HEBDO'!$B$1:$F$1,3),0)), IF(P10='EDT HEBDO'!$I$2, INDEX('EDT HEBDO'!$B$15:$F$15,MATCH(N10,LEFT('EDT HEBDO'!$B$1:$F$1,3),0)), INDEX(INFOS!$X$2:$X$14,MATCH(M10,INFOS!$W$2:$W$14,0))))),"")} | Q10: =Q9+1 -> 46393 | R10: =TEXT(Q10,"jjj") -> mer | S10: {=IFERROR(IF(T10='EDT HEBDO'!$I$3,"C", IF(T10='EDT HEBDO'!$I$1, INDEX('EDT HEBDO'!$B$7:$F$7,MATCH(R10,LEFT('EDT HEBDO'!$B$1:$F$1,3),0)), IF(T10='EDT HEBDO'!$I$2, INDEX('EDT HEBDO'!$B$15:$F$15,MATCH(R10,LEFT('EDT HEBDO'!$B$1:$F$1,3),0)), INDEX(INFOS!$AA$3:$AA$15,MATCH(Q10,INFOS!$AB$3:$AB$15,0))))),"")} -> 0.16666667 | T10: PS | U10: =U9+1 -> 46424 | V10: =TEXT(U10,"jjj") -> sam | W10: {=IFERROR(IF(X10='EDT HEBDO'!$I$3,"C", IF(X10='EDT HEBDO'!$I$1, INDEX('EDT HEBDO'!$B$7:$F$7,MATCH(V10,LEFT('EDT HEBDO'!$B$1:$F$1,3),0)), IF(X10='EDT HEBDO'!$I$2, INDEX('EDT HEBDO'!$B$15:$F$15,MATCH(V10,LEFT('EDT HEBDO'!$B$1:$F$1,3),0)), INDEX(INFOS!$AA$3:$AA$15,MATCH(U10,INFOS!$AB$3:$AB$15,0))))),"")} | Y10: =Y9+1 -> 46452 | Z10: =TEXT(Y10,"jjj") -> sam | AA10: {=IFERROR(IF(AB10='EDT HEBDO'!$I$3,"C", IF(AB10='EDT HEBDO'!$I$1, INDEX('EDT HEBDO'!$B$7:$F$7,MATCH(Z10,LEFT('EDT HEBDO'!$B$1:$F$1,3),0)), IF(AB10='EDT HEBDO'!$I$2, INDEX('EDT HEBDO'!$B$15:$F$15,MATCH(Z10,LEFT('EDT HEBDO'!$B$1:$F$1,3),0)), INDEX(INFOS!$AA$3:$AA$15,MATCH(Y10,INFOS!$AB$3:$AB$15,0))))),"")} | AC10: =AC9+1 -> 46483 | AD10: =TEXT(Y10,"jjj") -> sam | AE10: {=IFERROR(IF(AF10='EDT HEBDO'!$I$3,"C", IF(AF10='EDT HEBDO'!$I$1, INDEX('EDT HEBDO'!$B$7:$F$7,MATCH(AD10,LEFT('EDT HEBDO'!$B$1:$F$1,3),0)), IF(AF10='EDT HEBDO'!$I$2, INDEX('EDT HEBDO'!$B$15:$F$15,MATCH(AD10,LEFT('EDT HEBDO'!$B$1:$F$1,3),0)), INDEX(INFOS!$AA$3:$AA$15,MATCH(AC10,INFOS!$AB$3:$AB$15,0))))),"")} | AG10: =AG9+1 -> 46513 | AH10: =TEXT(Y10,"jjj") -> sam | AI10: {=IFERROR(IF(AJ10='EDT HEBDO'!$I$3,"C", IF(AJ10='EDT HEBDO'!$I$1, INDEX('EDT HEBDO'!$B$7:$F$7,MATCH(AH10,LEFT('EDT HEBDO'!$B$1:$F$1,3),0)), IF(AJ10='EDT HEBDO'!$I$2, INDEX('EDT HEBDO'!$B$15:$F$15,MATCH(AH10,LEFT('EDT HEBDO'!$B$1:$F$1,3),0)), INDEX(INFOS!$AA$3:$AA$15,MATCH(AG10,INFOS!$AB$3:$AB$15,0))))),"")} | AK10: =AK9+1 -> 46544 | AL10: =TEXT(Y10,"jjj") -> sam | AM10: {=IFERROR(IF(AN10='EDT HEBDO'!$I$3,"C", IF(AN10='EDT HEBDO'!$I$1, INDEX('EDT HEBDO'!$B$7:$F$7,MATCH(AL10,LEFT('EDT HEBDO'!$B$1:$F$1,3),0)), IF(AN10='EDT HEBDO'!$I$2, INDEX('EDT HEBDO'!$B$15:$F$15,MATCH(AL10,LEFT('EDT HEBDO'!$B$1:$F$1,3),0)), INDEX(INFOS!$AA$3:$AA$15,MATCH(AK10,INFOS!$AB$3:$AB$15,0))))),"")} | AO10: =AO9+1 -> 46574 | AP10: =TEXT(Y10,"jjj") -> sam | AQ10: {=IFERROR(IF(AR10='EDT HEBDO'!$I$3,"C", IF(AR10='EDT HEBDO'!$I$1, INDEX('EDT HEBDO'!$B$7:$F$7,MATCH(AP10,LEFT('EDT HEBDO'!$B$1:$F$1,3),0)), IF(AR10='EDT HEBDO'!$I$2, INDEX('EDT HEBDO'!$B$15:$F$15,MATCH(AP10,LEFT('EDT HEBDO'!$B$1:$F$1,3),0)), INDEX(INFOS!$AA$3:$AA$15,MATCH(AO10,INFOS!$AB$3:$AB$15,0))))),"")} | AS10: =AS9+1 -> 46605 | AT10: =TEXT(Y10,"jjj") -> sam | AU10: {=IFERROR(IF(AV10='EDT HEBDO'!$I$3,"C", IF(AV10='EDT HEBDO'!$I$1, INDEX('EDT HEBDO'!$B$7:$F$7,MATCH(AT10,LEFT('EDT HEBDO'!$B$1:$F$1,3),0)), IF(AV10='EDT HEBDO'!$I$2, INDEX('EDT HEBDO'!$B$15:$F$15,MATCH(AT10,LEFT('EDT HEBDO'!$B$1:$F$1,3),0)), INDEX(INFOS!$AA$3:$AA$15,MATCH(AS10,INFOS!$AB$3:$AB$15,0))))),"")}
A11: =A10+1 -> 46272 | B11: =TEXT(A11,"jjj") -> lun | C11: {=IFERROR(IF(D11='EDT HEBDO'!$I$3,"C", IF(D11='EDT HEBDO'!$I$1, INDEX('EDT HEBDO'!$B$7:$F$7,MATCH(B11,LEFT('EDT HEBDO'!$B$1:$F$1,3),0)), IF(D11='EDT HEBDO'!$I$2, INDEX('EDT HEBDO'!$B$15:$F$15,MATCH(B11,LEFT('EDT HEBDO'!$B$1:$F$1,3),0)), INDEX(INFOS!$X$2:$X$14,MATCH(A11,INFOS!$W$2:$W$14,0))))),"")} -> 0.37847222 | D11: PS | E11: =E10+1 -> 46302 | F11: =TEXT(E11,"jjj") -> mer | G11: {=IFERROR(IF(H11='EDT HEBDO'!$I$3,"C", IF(H11='EDT HEBDO'!$I$1, INDEX('EDT HEBDO'!$B$7:$F$7,MATCH(F11,LEFT('EDT HEBDO'!$B$1:$F$1,3),0)), IF(H11='EDT HEBDO'!$I$2, INDEX('EDT HEBDO'!$B$15:$F$15,MATCH(F11,LEFT('EDT HEBDO'!$B$1:$F$1,3),0)), INDEX(INFOS!$X$2:$X$14,MATCH(E11,INFOS!$W$2:$W$14,0))))),"")} -> 0.16666667 | H11: PS | I11: =I10+1 -> 46333 | J11: =TEXT(I11,"jjj") -> sam | K11: {=IFERROR(IF(L11='EDT HEBDO'!$I$3,"C", IF(L11='EDT HEBDO'!$I$1, INDEX('EDT HEBDO'!$B$7:$F$7,MATCH(J11,LEFT('EDT HEBDO'!$B$1:$F$1,3),0)), IF(L11='EDT HEBDO'!$I$2, INDEX('EDT HEBDO'!$B$15:$F$15,MATCH(J11,LEFT('EDT HEBDO'!$B$1:$F$1,3),0)), INDEX(INFOS!$X$3:$X$15,MATCH(I11,INFOS!$Y$3:$Y$15,0))))),"")} | M11: =M10+1 -> 46363 | N11: =TEXT(M11,"jjj") -> lun | O11: {=IFERROR(IF(P11='EDT HEBDO'!$I$3,"C", IF(P11='EDT HEBDO'!$I$1, INDEX('EDT HEBDO'!$B$7:$F$7,MATCH(N11,LEFT('EDT HEBDO'!$B$1:$F$1,3),0)), IF(P11='EDT HEBDO'!$I$2, INDEX('EDT HEBDO'!$B$15:$F$15,MATCH(N11,LEFT('EDT HEBDO'!$B$1:$F$1,3),0)), INDEX(INFOS!$X$2:$X$14,MATCH(M11,INFOS!$W$2:$W$14,0))))),"")} -> 0.37847222 | P11: PS | Q11: =Q10+1 -> 46394 | R11: =TEXT(Q11,"jjj") -> jeu | S11: {=IFERROR(IF(T11='EDT HEBDO'!$I$3,"C", IF(T11='EDT HEBDO'!$I$1, INDEX('EDT HEBDO'!$B$7:$F$7,MATCH(R11,LEFT('EDT HEBDO'!$B$1:$F$1,3),0)), IF(T11='EDT HEBDO'!$I$2, INDEX('EDT HEBDO'!$B$15:$F$15,MATCH(R11,LEFT('EDT HEBDO'!$B$1:$F$1,3),0)), INDEX(INFOS!$AA$3:$AA$15,MATCH(Q11,INFOS!$AB$3:$AB$15,0))))),"")} -> 0.37847222 | T11: PS | U11: =U10+1 -> 46425 | V11: =TEXT(U11,"jjj") -> dim | W11: {=IFERROR(IF(X11='EDT HEBDO'!$I$3,"C", IF(X11='EDT HEBDO'!$I$1, INDEX('EDT HEBDO'!$B$7:$F$7,MATCH(V11,LEFT('EDT HEBDO'!$B$1:$F$1,3),0)), IF(X11='EDT HEBDO'!$I$2, INDEX('EDT HEBDO'!$B$15:$F$15,MATCH(V11,LEFT('EDT HEBDO'!$B$1:$F$1,3),0)), INDEX(INFOS!$AA$3:$AA$15,MATCH(U11,INFOS!$AB$3:$AB$15,0))))),"")} | Y11: =Y10+1 -> 46453 | Z11: =TEXT(Y11,"jjj") -> dim | AA11: {=IFERROR(IF(AB11='EDT HEBDO'!$I$3,"C", IF(AB11='EDT HEBDO'!$I$1, INDEX('EDT HEBDO'!$B$7:$F$7,MATCH(Z11,LEFT('EDT HEBDO'!$B$1:$F$1,3),0)), IF(AB11='EDT HEBDO'!$I$2, INDEX('EDT HEBDO'!$B$15:$F$15,MATCH(Z11,LEFT('EDT HEBDO'!$B$1:$F$1,3),0)), INDEX(INFOS!$AA$3:$AA$15,MATCH(Y11,INFOS!$AB$3:$AB$15,0))))),"")} | AC11: =AC10+1 -> 46484 | AD11: =TEXT(Y11,"jjj") -> dim | AE11: {=IFERROR(IF(AF11='EDT HEBDO'!$I$3,"C", IF(AF11='EDT HEBDO'!$I$1, INDEX('EDT HEBDO'!$B$7:$F$7,MATCH(AD11,LEFT('EDT HEBDO'!$B$1:$F$1,3),0)), IF(AF11='EDT HEBDO'!$I$2, INDEX('EDT HEBDO'!$B$15:$F$15,MATCH(AD11,LEFT('EDT HEBDO'!$B$1:$F$1,3),0)), INDEX(INFOS!$AA$3:$AA$15,MATCH(AC11,INFOS!$AB$3:$AB$15,0))))),"")} | AG11: =AG10+1 -> 46514 | AH11: =TEXT(Y11,"jjj") -> dim | AI11: {=IFERROR(IF(AJ11='EDT HEBDO'!$I$3,"C", IF(AJ11='EDT HEBDO'!$I$1, INDEX('EDT HEBDO'!$B$7:$F$7,MATCH(AH11,LEFT('EDT HEBDO'!$B$1:$F$1,3),0)), IF(AJ11='EDT HEBDO'!$I$2, INDEX('EDT HEBDO'!$B$15:$F$15,MATCH(AH11,LEFT('EDT HEBDO'!$B$1:$F$1,3),0)), INDEX(INFOS!$AA$3:$AA$15,MATCH(AG11,INFOS!$AB$3:$AB$15,0))))),"")} | AK11: =AK10+1 -> 46545 | AL11: =TEXT(Y11,"jjj") -> dim | AM11: {=IFERROR(IF(AN11='EDT HEBDO'!$I$3,"C", IF(AN11='EDT HEBDO'!$I$1, INDEX('EDT HEBDO'!$B$7:$F$7,MATCH(AL11,LEFT('EDT HEBDO'!$B$1:$F$1,3),0)), IF(AN11='EDT HEBDO'!$I$2, INDEX('EDT HEBDO'!$B$15:$F$15,MATCH(AL11,LEFT('EDT HEBDO'!$B$1:$F$1,3),0)), INDEX(INFOS!$AA$3:$AA$15,MATCH(AK11,INFOS!$AB$3:$AB$15,0))))),"")} | AO11: =AO10+1 -> 46575 | AP11: =TEXT(Y11,"jjj") -> dim | AQ11: {=IFERROR(IF(AR11='EDT HEBDO'!$I$3,"C", IF(AR11='EDT HEBDO'!$I$1, INDEX('EDT HEBDO'!$B$7:$F$7,MATCH(AP11,LEFT('EDT HEBDO'!$B$1:$F$1,3),0)), IF(AR11='EDT HEBDO'!$I$2, INDEX('EDT HEBDO'!$B$15:$F$15,MATCH(AP11,LEFT('EDT HEBDO'!$B$1:$F$1,3),0)), INDEX(INFOS!$AA$3:$AA$15,MATCH(AO11,INFOS!$AB$3:$AB$15,0))))),"")} | AS11: =AS10+1 -> 46606 | AT11: =TEXT(Y11,"jjj") -> dim | AU11: {=IFERROR(IF(AV11='EDT HEBDO'!$I$3,"C", IF(AV11='EDT HEBDO'!$I$1, INDEX('EDT HEBDO'!$B$7:$F$7,MATCH(AT11,LEFT('EDT HEBDO'!$B$1:$F$1,3),0)), IF(AV11='EDT HEBDO'!$I$2, INDEX('EDT HEBDO'!$B$15:$F$15,MATCH(AT11,LEFT('EDT HEBDO'!$B$1:$F$1,3),0)), INDEX(INFOS!$AA$3:$AA$15,MATCH(AS11,INFOS!$AB$3:$AB$15,0))))),"")}
A12: =A11+1 -> 46273 | B12: =TEXT(A12,"jjj") -> mar | C12: {=IFERROR(IF(D12='EDT HEBDO'!$I$3,"C", IF(D12='EDT HEBDO'!$I$1, INDEX('EDT HEBDO'!$B$7:$F$7,MATCH(B12,LEFT('EDT HEBDO'!$B$1:$F$1,3),0)), IF(D12='EDT HEBDO'!$I$2, INDEX('EDT HEBDO'!$B$15:$F$15,MATCH(B12,LEFT('EDT HEBDO'!$B$1:$F$1,3),0)), INDEX(INFOS!$X$2:$X$14,MATCH(A12,INFOS!$W$2:$W$14,0))))),"")} -> 0.37847222 | D12: PS | E12: =E11+1 -> 46303 | F12: =TEXT(E12,"jjj") -> jeu | G12: {=IFERROR(IF(H12='EDT HEBDO'!$I$3,"C", IF(H12='EDT HEBDO'!$I$1, INDEX('EDT HEBDO'!$B$7:$F$7,MATCH(F12,LEFT('EDT HEBDO'!$B$1:$F$1,3),0)), IF(H12='EDT HEBDO'!$I$2, INDEX('EDT HEBDO'!$B$15:$F$15,MATCH(F12,LEFT('EDT HEBDO'!$B$1:$F$1,3),0)), INDEX(INFOS!$X$2:$X$14,MATCH(E12,INFOS!$W$2:$W$14,0))))),"")} -> 0.37847222 | H12: PS | I12: =I11+1 -> 46334 | J12: =TEXT(I12,"jjj") -> dim | K12: {=IFERROR(IF(L12='EDT HEBDO'!$I$3,"C", IF(L12='EDT HEBDO'!$I$1, INDEX('EDT HEBDO'!$B$7:$F$7,MATCH(J12,LEFT('EDT HEBDO'!$B$1:$F$1,3),0)), IF(L12='EDT HEBDO'!$I$2, INDEX('EDT HEBDO'!$B$15:$F$15,MATCH(J12,LEFT('EDT HEBDO'!$B$1:$F$1,3),0)), INDEX(INFOS!$X$3:$X$15,MATCH(I12,INFOS!$Y$3:$Y$15,0))))),"")} | M12: =M11+1 -> 46364 | N12: =TEXT(M12,"jjj") -> mar | O12: {=IFERROR(IF(P12='EDT HEBDO'!$I$3,"C", IF(P12='EDT HEBDO'!$I$1, INDEX('EDT HEBDO'!$B$7:$F$7,MATCH(N12,LEFT('EDT HEBDO'!$B$1:$F$1,3),0)), IF(P12='EDT HEBDO'!$I$2, INDEX('EDT HEBDO'!$B$15:$F$15,MATCH(N12,LEFT('EDT HEBDO'!$B$1:$F$1,3),0)), INDEX(INFOS!$X$2:$X$14,MATCH(M12,INFOS!$W$2:$W$14,0))))),"")} -> 0.37847222 | P12: PS | Q12: =Q11+1 -> 46395 | R12: =TEXT(Q12,"jjj") -> ven | S12: {=IFERROR(IF(T12='EDT HEBDO'!$I$3,"C", IF(T12='EDT HEBDO'!$I$1, INDEX('EDT HEBDO'!$B$7:$F$7,MATCH(R12,LEFT('EDT HEBDO'!$B$1:$F$1,3),0)), IF(T12='EDT HEBDO'!$I$2, INDEX('EDT HEBDO'!$B$15:$F$15,MATCH(R12,LEFT('EDT HEBDO'!$B$1:$F$1,3),0)), INDEX(INFOS!$AA$3:$AA$15,MATCH(Q12,INFOS!$AB$3:$AB$15,0))))),"")} -> 0.37847222 | T12: PS | U12: =U11+1 -> 46426 | V12: =TEXT(U12,"jjj") -> lun | W12: {=IFERROR(IF(X12='EDT HEBDO'!$I$3,"C", IF(X12='EDT HEBDO'!$I$1, INDEX('EDT HEBDO'!$B$7:$F$7,MATCH(V12,LEFT('EDT HEBDO'!$B$1:$F$1,3),0)), IF(X12='EDT HEBDO'!$I$2, INDEX('EDT HEBDO'!$B$15:$F$15,MATCH(V12,LEFT('EDT HEBDO'!$B$1:$F$1,3),0)), INDEX(INFOS!$AA$3:$AA$15,MATCH(U12,INFOS!$AB$3:$AB$15,0))))),"")} -> 0.37847222 | X12: PS | Y12: =Y11+1 -> 46454 | Z12: =TEXT(Y12,"jjj") -> lun | AA12: {=IFERROR(IF(AB12='EDT HEBDO'!$I$3,"C", IF(AB12='EDT HEBDO'!$I$1, INDEX('EDT HEBDO'!$B$7:$F$7,MATCH(Z12,LEFT('EDT HEBDO'!$B$1:$F$1,3),0)), IF(AB12='EDT HEBDO'!$I$2, INDEX('EDT HEBDO'!$B$15:$F$15,MATCH(Z12,LEFT('EDT HEBDO'!$B$1:$F$1,3),0)), INDEX(INFOS!$AA$3:$AA$15,MATCH(Y12,INFOS!$AB$3:$AB$15,0))))),"")} -> 0.37847222 | AB12: PS | AC12: =AC11+1 -> 46485 | AD12: =TEXT(Y12,"jjj") -> lun | AE12: {=IFERROR(IF(AF12='EDT HEBDO'!$I$3,"C", IF(AF12='EDT HEBDO'!$I$1, INDEX('EDT HEBDO'!$B$7:$F$7,MATCH(AD12,LEFT('EDT HEBDO'!$B$1:$F$1,3),0)), IF(AF12='EDT HEBDO'!$I$2, INDEX('EDT HEBDO'!$B$15:$F$15,MATCH(AD12,LEFT('EDT HEBDO'!$B$1:$F$1,3),0)), INDEX(INFOS!$AA$3:$AA$15,MATCH(AC12,INFOS!$AB$3:$AB$15,0))))),"")} | AG12: =AG11+1 -> 46515 | AH12: =TEXT(Y12,"jjj") -> lun | AI12: {=IFERROR(IF(AJ12='EDT HEBDO'!$I$3,"C", IF(AJ12='EDT HEBDO'!$I$1, INDEX('EDT HEBDO'!$B$7:$F$7,MATCH(AH12,LEFT('EDT HEBDO'!$B$1:$F$1,3),0)), IF(AJ12='EDT HEBDO'!$I$2, INDEX('EDT HEBDO'!$B$15:$F$15,MATCH(AH12,LEFT('EDT HEBDO'!$B$1:$F$1,3),0)), INDEX(INFOS!$AA$3:$AA$15,MATCH(AG12,INFOS!$AB$3:$AB$15,0))))),"")} -> Victoire 1945 | AK12: =AK11+1 -> 46546 | AL12: =TEXT(Y12,"jjj") -> lun | AM12: {=IFERROR(IF(AN12='EDT HEBDO'!$I$3,"C", IF(AN12='EDT HEBDO'!$I$1, INDEX('EDT HEBDO'!$B$7:$F$7,MATCH(AL12,LEFT('EDT HEBDO'!$B$1:$F$1,3),0)), IF(AN12='EDT HEBDO'!$I$2, INDEX('EDT HEBDO'!$B$15:$F$15,MATCH(AL12,LEFT('EDT HEBDO'!$B$1:$F$1,3),0)), INDEX(INFOS!$AA$3:$AA$15,MATCH(AK12,INFOS!$AB$3:$AB$15,0))))),"")} | AO12: =AO11+1 -> 46576 | AP12: =TEXT(Y12,"jjj") -> lun | AQ12: {=IFERROR(IF(AR12='EDT HEBDO'!$I$3,"C", IF(AR12='EDT HEBDO'!$I$1, INDEX('EDT HEBDO'!$B$7:$F$7,MATCH(AP12,LEFT('EDT HEBDO'!$B$1:$F$1,3),0)), IF(AR12='EDT HEBDO'!$I$2, INDEX('EDT HEBDO'!$B$15:$F$15,MATCH(AP12,LEFT('EDT HEBDO'!$B$1:$F$1,3),0)), INDEX(INFOS!$AA$3:$AA$15,MATCH(AO12,INFOS!$AB$3:$AB$15,0))))),"")} | AS12: =AS11+1 -> 46607 | AT12: =TEXT(Y12,"jjj") -> lun | AU12: {=IFERROR(IF(AV12='EDT HEBDO'!$I$3,"C", IF(AV12='EDT HEBDO'!$I$1, INDEX('EDT HEBDO'!$B$7:$F$7,MATCH(AT12,LEFT('EDT HEBDO'!$B$1:$F$1,3),0)), IF(AV12='EDT HEBDO'!$I$2, INDEX('EDT HEBDO'!$B$15:$F$15,MATCH(AT12,LEFT('EDT HEBDO'!$B$1:$F$1,3),0)), INDEX(INFOS!$AA$3:$AA$15,MATCH(AS12,INFOS!$AB$3:$AB$15,0))))),"")}
A13: =A12+1 -> 46274 | B13: =TEXT(A13,"jjj") -> mer | C13: {=IFERROR(IF(D13='EDT HEBDO'!$I$3,"C", IF(D13='EDT HEBDO'!$I$1, INDEX('EDT HEBDO'!$B$7:$F$7,MATCH(B13,LEFT('EDT HEBDO'!$B$1:$F$1,3),0)), IF(D13='EDT HEBDO'!$I$2, INDEX('EDT HEBDO'!$B$15:$F$15,MATCH(B13,LEFT('EDT HEBDO'!$B$1:$F$1,3),0)), INDEX(INFOS!$X$2:$X$14,MATCH(A13,INFOS!$W$2:$W$14,0))))),"")} -> 0.16666667 | D13: PS | E13: =E12+1 -> 46304 | F13: =TEXT(E13,"jjj") -> ven | G13: {=IFERROR(IF(H13='EDT HEBDO'!$I$3,"C", IF(H13='EDT HEBDO'!$I$1, INDEX('EDT HEBDO'!$B$7:$F$7,MATCH(F13,LEFT('EDT HEBDO'!$B$1:$F$1,3),0)), IF(H13='EDT HEBDO'!$I$2, INDEX('EDT HEBDO'!$B$15:$F$15,MATCH(F13,LEFT('EDT HEBDO'!$B$1:$F$1,3),0)), INDEX(INFOS!$X$2:$X$14,MATCH(E13,INFOS!$W$2:$W$14,0))))),"")} -> 0.37847222 | H13: PS | I13: =I12+1 -> 46335 | J13: =TEXT(I13,"jjj") -> lun | K13: {=IFERROR(IF(L13='EDT HEBDO'!$I$3,"C", IF(L13='EDT HEBDO'!$I$1, INDEX('EDT HEBDO'!$B$7:$F$7,MATCH(J13,LEFT('EDT HEBDO'!$B$1:$F$1,3),0)), IF(L13='EDT HEBDO'!$I$2, INDEX('EDT HEBDO'!$B$15:$F$15,MATCH(J13,LEFT('EDT HEBDO'!$B$1:$F$1,3),0)), INDEX(INFOS!$X$3:$X$15,MATCH(I13,INFOS!$Y$3:$Y$15,0))))),"")} -> 0.37847222 | L13: PS | M13: =M12+1 -> 46365 | N13: =TEXT(M13,"jjj") -> mer | O13: {=IFERROR(IF(P13='EDT HEBDO'!$I$3,"C", IF(P13='EDT HEBDO'!$I$1, INDEX('EDT HEBDO'!$B$7:$F$7,MATCH(N13,LEFT('EDT HEBDO'!$B$1:$F$1,3),0)), IF(P13='EDT HEBDO'!$I$2, INDEX('EDT HEBDO'!$B$15:$F$15,MATCH(N13,LEFT('EDT HEBDO'!$B$1:$F$1,3),0)), INDEX(INFOS!$X$2:$X$14,MATCH(M13,INFOS!$W$2:$W$14,0))))),"")} -> 0.16666667 | P13: PS | Q13: =Q12+1 -> 46396 | R13: =TEXT(Q13,"jjj") -> sam | S13: {=IFERROR(IF(T13='EDT HEBDO'!$I$3,"C", IF(T13='EDT HEBDO'!$I$1, INDEX('EDT HEBDO'!$B$7:$F$7,MATCH(R13,LEFT('EDT HEBDO'!$B$1:$F$1,3),0)), IF(T13='EDT HEBDO'!$I$2, INDEX('EDT HEBDO'!$B$15:$F$15,MATCH(R13,LEFT('EDT HEBDO'!$B$1:$F$1,3),0)), INDEX(INFOS!$AA$3:$AA$15,MATCH(Q13,INFOS!$AB$3:$AB$15,0))))),"")} | U13: =U12+1 -> 46427 | V13: =TEXT(U13,"jjj") -> mar | W13: {=IFERROR(IF(X13='EDT HEBDO'!$I$3,"C", IF(X13='EDT HEBDO'!$I$1, INDEX('EDT HEBDO'!$B$7:$F$7,MATCH(V13,LEFT('EDT HEBDO'!$B$1:$F$1,3),0)), IF(X13='EDT HEBDO'!$I$2, INDEX('EDT HEBDO'!$B$15:$F$15,MATCH(V13,LEFT('EDT HEBDO'!$B$1:$F$1,3),0)), INDEX(INFOS!$AA$3:$AA$15,MATCH(U13,INFOS!$AB$3:$AB$15,0))))),"")} -> 0.37847222 | X13: PS | Y13: =Y12+1 -> 46455 | Z13: =TEXT(Y13,"jjj") -> mar | AA13: {=IFERROR(IF(AB13='EDT HEBDO'!$I$3,"C", IF(AB13='EDT HEBDO'!$I$1, INDEX('EDT HEBDO'!$B$7:$F$7,MATCH(Z13,LEFT('EDT HEBDO'!$B$1:$F$1,3),0)), IF(AB13='EDT HEBDO'!$I$2, INDEX('EDT HEBDO'!$B$15:$F$15,MATCH(Z13,LEFT('EDT HEBDO'!$B$1:$F$1,3),0)), INDEX(INFOS!$AA$3:$AA$15,MATCH(Y13,INFOS!$AB$3:$AB$15,0))))),"")} -> 0.37847222 | AB13: PS | AC13: =AC12+1 -> 46486 | AD13: =TEXT(Y13,"jjj") -> mar | AE13: {=IFERROR(IF(AF13='EDT HEBDO'!$I$3,"C", IF(AF13='EDT HEBDO'!$I$1, INDEX('EDT HEBDO'!$B$7:$F$7,MATCH(AD13,LEFT('EDT HEBDO'!$B$1:$F$1,3),0)), IF(AF13='EDT HEBDO'!$I$2, INDEX('EDT HEBDO'!$B$15:$F$15,MATCH(AD13,LEFT('EDT HEBDO'!$B$1:$F$1,3),0)), INDEX(INFOS!$AA$3:$AA$15,MATCH(AC13,INFOS!$AB$3:$AB$15,0))))),"")} | AG13: =AG12+1 -> 46516 | AH13: =TEXT(Y13,"jjj") -> mar | AI13: {=IFERROR(IF(AJ13='EDT HEBDO'!$I$3,"C", IF(AJ13='EDT HEBDO'!$I$1, INDEX('EDT HEBDO'!$B$7:$F$7,MATCH(AH13,LEFT('EDT HEBDO'!$B$1:$F$1,3),0)), IF(AJ13='EDT HEBDO'!$I$2, INDEX('EDT HEBDO'!$B$15:$F$15,MATCH(AH13,LEFT('EDT HEBDO'!$B$1:$F$1,3),0)), INDEX(INFOS!$AA$3:$AA$15,MATCH(AG13,INFOS!$AB$3:$AB$15,0))))),"")} | AK13: =AK12+1 -> 46547 | AL13: =TEXT(Y13,"jjj") -> mar | AM13: {=IFERROR(IF(AN13='EDT HEBDO'!$I$3,"C", IF(AN13='EDT HEBDO'!$I$1, INDEX('EDT HEBDO'!$B$7:$F$7,MATCH(AL13,LEFT('EDT HEBDO'!$B$1:$F$1,3),0)), IF(AN13='EDT HEBDO'!$I$2, INDEX('EDT HEBDO'!$B$15:$F$15,MATCH(AL13,LEFT('EDT HEBDO'!$B$1:$F$1,3),0)), INDEX(INFOS!$AA$3:$AA$15,MATCH(AK13,INFOS!$AB$3:$AB$15,0))))),"")} | AO13: =AO12+1 -> 46577 | AP13: =TEXT(Y13,"jjj") -> mar | AQ13: {=IFERROR(IF(AR13='EDT HEBDO'!$I$3,"C", IF(AR13='EDT HEBDO'!$I$1, INDEX('EDT HEBDO'!$B$7:$F$7,MATCH(AP13,LEFT('EDT HEBDO'!$B$1:$F$1,3),0)), IF(AR13='EDT HEBDO'!$I$2, INDEX('EDT HEBDO'!$B$15:$F$15,MATCH(AP13,LEFT('EDT HEBDO'!$B$1:$F$1,3),0)), INDEX(INFOS!$AA$3:$AA$15,MATCH(AO13,INFOS!$AB$3:$AB$15,0))))),"")} | AS13: =AS12+1 -> 46608 | AT13: =TEXT(Y13,"jjj") -> mar | AU13: {=IFERROR(IF(AV13='EDT HEBDO'!$I$3,"C", IF(AV13='EDT HEBDO'!$I$1, INDEX('EDT HEBDO'!$B$7:$F$7,MATCH(AT13,LEFT('EDT HEBDO'!$B$1:$F$1,3),0)), IF(AV13='EDT HEBDO'!$I$2, INDEX('EDT HEBDO'!$B$15:$F$15,MATCH(AT13,LEFT('EDT HEBDO'!$B$1:$F$1,3),0)), INDEX(INFOS!$AA$3:$AA$15,MATCH(AS13,INFOS!$AB$3:$AB$15,0))))),"")}
A14: =A13+1 -> 46275 | B14: =TEXT(A14,"jjj") -> jeu | C14: {=IFERROR(IF(D14='EDT HEBDO'!$I$3,"C", IF(D14='EDT HEBDO'!$I$1, INDEX('EDT HEBDO'!$B$7:$F$7,MATCH(B14,LEFT('EDT HEBDO'!$B$1:$F$1,3),0)), IF(D14='EDT HEBDO'!$I$2, INDEX('EDT HEBDO'!$B$15:$F$15,MATCH(B14,LEFT('EDT HEBDO'!$B$1:$F$1,3),0)), INDEX(INFOS!$X$2:$X$14,MATCH(A14,INFOS!$W$2:$W$14,0))))),"")} -> 0.37847222 | D14: PS | E14: =E13+1 -> 46305 | F14: =TEXT(E14,"jjj") -> sam | G14: {=IFERROR(IF(H14='EDT HEBDO'!$I$3,"C", IF(H14='EDT HEBDO'!$I$1, INDEX('EDT HEBDO'!$B$7:$F$7,MATCH(F14,LEFT('EDT HEBDO'!$B$1:$F$1,3),0)), IF(H14='EDT HEBDO'!$I$2, INDEX('EDT HEBDO'!$B$15:$F$15,MATCH(F14,LEFT('EDT HEBDO'!$B$1:$F$1,3),0)), INDEX(INFOS!$X$2:$X$14,MATCH(E14,INFOS!$W$2:$W$14,0))))),"")} | I14: =I13+1 -> 46336 | J14: =TEXT(I14,"jjj") -> mar | K14: {=IFERROR(IF(L14='EDT HEBDO'!$I$3,"C", IF(L14='EDT HEBDO'!$I$1, INDEX('EDT HEBDO'!$B$7:$F$7,MATCH(J14,LEFT('EDT HEBDO'!$B$1:$F$1,3),0)), IF(L14='EDT HEBDO'!$I$2, INDEX('EDT HEBDO'!$B$15:$F$15,MATCH(J14,LEFT('EDT HEBDO'!$B$1:$F$1,3),0)), INDEX(INFOS!$X$3:$X$15,MATCH(I14,INFOS!$Y$3:$Y$15,0))))),"")} -> 0.37847222 | L14: PS | M14: =M13+1 -> 46366 | N14: =TEXT(M14,"jjj") -> jeu | O14: {=IFERROR(IF(P14='EDT HEBDO'!$I$3,"C", IF(P14='EDT HEBDO'!$I$1, INDEX('EDT HEBDO'!$B$7:$F$7,MATCH(N14,LEFT('EDT HEBDO'!$B$1:$F$1,3),0)), IF(P14='EDT HEBDO'!$I$2, INDEX('EDT HEBDO'!$B$15:$F$15,MATCH(N14,LEFT('EDT HEBDO'!$B$1:$F$1,3),0)), INDEX(INFOS!$X$2:$X$14,MATCH(M14,INFOS!$W$2:$W$14,0))))),"")} -> 0.37847222 | P14: PS | Q14: =Q13+1 -> 46397 | R14: =TEXT(Q14,"jjj") -> dim | S14: {=IFERROR(IF(T14='EDT HEBDO'!$I$3,"C", IF(T14='EDT HEBDO'!$I$1, INDEX('EDT HEBDO'!$B$7:$F$7,MATCH(R14,LEFT('EDT HEBDO'!$B$1:$F$1,3),0)), IF(T14='EDT HEBDO'!$I$2, INDEX('EDT HEBDO'!$B$15:$F$15,MATCH(R14,LEFT('EDT HEBDO'!$B$1:$F$1,3),0)), INDEX(INFOS!$AA$3:$AA$15,MATCH(Q14,INFOS!$AB$3:$AB$15,0))))),"")} | U14: =U13+1 -> 46428 | V14: =TEXT(U14,"jjj") -> mer | W14: {=IFERROR(IF(X14='EDT HEBDO'!$I$3,"C", IF(X14='EDT HEBDO'!$I$1, INDEX('EDT HEBDO'!$B$7:$F$7,MATCH(V14,LEFT('EDT HEBDO'!$B$1:$F$1,3),0)), IF(X14='EDT HEBDO'!$I$2, INDEX('EDT HEBDO'!$B$15:$F$15,MATCH(V14,LEFT('EDT HEBDO'!$B$1:$F$1,3),0)), INDEX(INFOS!$AA$3:$AA$15,MATCH(U14,INFOS!$AB$3:$AB$15,0))))),"")} -> 0.16666667 | X14: PS | Y14: =Y13+1 -> 46456 | Z14: =TEXT(Y14,"jjj") -> mer | AA14: {=IFERROR(IF(AB14='EDT HEBDO'!$I$3,"C", IF(AB14='EDT HEBDO'!$I$1, INDEX('EDT HEBDO'!$B$7:$F$7,MATCH(Z14,LEFT('EDT HEBDO'!$B$1:$F$1,3),0)), IF(AB14='EDT HEBDO'!$I$2, INDEX('EDT HEBDO'!$B$15:$F$15,MATCH(Z14,LEFT('EDT HEBDO'!$B$1:$F$1,3),0)), INDEX(INFOS!$AA$3:$AA$15,MATCH(Y14,INFOS!$AB$3:$AB$15,0))))),"")} -> 0.16666667 | AB14: PS | AC14: =AC13+1 -> 46487 | AD14: =TEXT(Y14,"jjj") -> mer | AE14: {=IFERROR(IF(AF14='EDT HEBDO'!$I$3,"C", IF(AF14='EDT HEBDO'!$I$1, INDEX('EDT HEBDO'!$B$7:$F$7,MATCH(AD14,LEFT('EDT HEBDO'!$B$1:$F$1,3),0)), IF(AF14='EDT HEBDO'!$I$2, INDEX('EDT HEBDO'!$B$15:$F$15,MATCH(AD14,LEFT('EDT HEBDO'!$B$1:$F$1,3),0)), INDEX(INFOS!$AA$3:$AA$15,MATCH(AC14,INFOS!$AB$3:$AB$15,0))))),"")} | AG14: =AG13+1 -> 46517 | AH14: =TEXT(Y14,"jjj") -> mer | AI14: {=IFERROR(IF(AJ14='EDT HEBDO'!$I$3,"C", IF(AJ14='EDT HEBDO'!$I$1, INDEX('EDT HEBDO'!$B$7:$F$7,MATCH(AH14,LEFT('EDT HEBDO'!$B$1:$F$1,3),0)), IF(AJ14='EDT HEBDO'!$I$2, INDEX('EDT HEBDO'!$B$15:$F$15,MATCH(AH14,LEFT('EDT HEBDO'!$B$1:$F$1,3),0)), INDEX(INFOS!$AA$3:$AA$15,MATCH(AG14,INFOS!$AB$3:$AB$15,0))))),"")} | AK14: =AK13+1 -> 46548 | AL14: =TEXT(Y14,"jjj") -> mer | AM14: {=IFERROR(IF(AN14='EDT HEBDO'!$I$3,"C", IF(AN14='EDT HEBDO'!$I$1, INDEX('EDT HEBDO'!$B$7:$F$7,MATCH(AL14,LEFT('EDT HEBDO'!$B$1:$F$1,3),0)), IF(AN14='EDT HEBDO'!$I$2, INDEX('EDT HEBDO'!$B$15:$F$15,MATCH(AL14,LEFT('EDT HEBDO'!$B$1:$F$1,3),0)), INDEX(INFOS!$AA$3:$AA$15,MATCH(AK14,INFOS!$AB$3:$AB$15,0))))),"")} | AO14: =AO13+1 -> 46578 | AP14: =TEXT(Y14,"jjj") -> mer | AQ14: {=IFERROR(IF(AR14='EDT HEBDO'!$I$3,"C", IF(AR14='EDT HEBDO'!$I$1, INDEX('EDT HEBDO'!$B$7:$F$7,MATCH(AP14,LEFT('EDT HEBDO'!$B$1:$F$1,3),0)), IF(AR14='EDT HEBDO'!$I$2, INDEX('EDT HEBDO'!$B$15:$F$15,MATCH(AP14,LEFT('EDT HEBDO'!$B$1:$F$1,3),0)), INDEX(INFOS!$AA$3:$AA$15,MATCH(AO14,INFOS!$AB$3:$AB$15,0))))),"")} | AS14: =AS13+1 -> 46609 | AT14: =TEXT(Y14,"jjj") -> mer | AU14: {=IFERROR(IF(AV14='EDT HEBDO'!$I$3,"C", IF(AV14='EDT HEBDO'!$I$1, INDEX('EDT HEBDO'!$B$7:$F$7,MATCH(AT14,LEFT('EDT HEBDO'!$B$1:$F$1,3),0)), IF(AV14='EDT HEBDO'!$I$2, INDEX('EDT HEBDO'!$B$15:$F$15,MATCH(AT14,LEFT('EDT HEBDO'!$B$1:$F$1,3),0)), INDEX(INFOS!$AA$3:$AA$15,MATCH(AS14,INFOS!$AB$3:$AB$15,0))))),"")}
A15: =A14+1 -> 46276 | B15: =TEXT(A15,"jjj") -> ven | C15: {=IFERROR(IF(D15='EDT HEBDO'!$I$3,"C", IF(D15='EDT HEBDO'!$I$1, INDEX('EDT HEBDO'!$B$7:$F$7,MATCH(B15,LEFT('EDT HEBDO'!$B$1:$F$1,3),0)), IF(D15='EDT HEBDO'!$I$2, INDEX('EDT HEBDO'!$B$15:$F$15,MATCH(B15,LEFT('EDT HEBDO'!$B$1:$F$1,3),0)), INDEX(INFOS!$X$2:$X$14,MATCH(A15,INFOS!$W$2:$W$14,0))))),"")} -> 0.37847222 | D15: PS | E15: =E14+1 -> 46306 | F15: =TEXT(E15,"jjj") -> dim | G15: {=IFERROR(IF(H15='EDT HEBDO'!$I$3,"C", IF(H15='EDT HEBDO'!$I$1, INDEX('EDT HEBDO'!$B$7:$F$7,MATCH(F15,LEFT('EDT HEBDO'!$B$1:$F$1,3),0)), IF(H15='EDT HEBDO'!$I$2, INDEX('EDT HEBDO'!$B$15:$F$15,MATCH(F15,LEFT('EDT HEBDO'!$B$1:$F$1,3),0)), INDEX(INFOS!$X$2:$X$14,MATCH(E15,INFOS!$W$2:$W$14,0))))),"")} | I15: =I14+1 -> 46337 | J15: =TEXT(I15,"jjj") -> mer | K15: {=IFERROR(IF(L15='EDT HEBDO'!$I$3,"C", IF(L15='EDT HEBDO'!$I$1, INDEX('EDT HEBDO'!$B$7:$F$7,MATCH(J15,LEFT('EDT HEBDO'!$B$1:$F$1,3),0)), IF(L15='EDT HEBDO'!$I$2, INDEX('EDT HEBDO'!$B$15:$F$15,MATCH(J15,LEFT('EDT HEBDO'!$B$1:$F$1,3),0)), INDEX(INFOS!$X$3:$X$15,MATCH(I15,INFOS!$Y$3:$Y$15,0))))),"")} -> Armistice 1918 | M15: =M14+1 -> 46367 | N15: =TEXT(M15,"jjj") -> ven | O15: {=IFERROR(IF(P15='EDT HEBDO'!$I$3,"C", IF(P15='EDT HEBDO'!$I$1, INDEX('EDT HEBDO'!$B$7:$F$7,MATCH(N15,LEFT('EDT HEBDO'!$B$1:$F$1,3),0)), IF(P15='EDT HEBDO'!$I$2, INDEX('EDT HEBDO'!$B$15:$F$15,MATCH(N15,LEFT('EDT HEBDO'!$B$1:$F$1,3),0)), INDEX(INFOS!$X$2:$X$14,MATCH(M15,INFOS!$W$2:$W$14,0))))),"")} -> 0.37847222 | P15: PS | Q15: =Q14+1 -> 46398 | R15: =TEXT(Q15,"jjj") -> lun | S15: {=IFERROR(IF(T15='EDT HEBDO'!$I$3,"C", IF(T15='EDT HEBDO'!$I$1, INDEX('EDT HEBDO'!$B$7:$F$7,MATCH(R15,LEFT('EDT HEBDO'!$B$1:$F$1,3),0)), IF(T15='EDT HEBDO'!$I$2, INDEX('EDT HEBDO'!$B$15:$F$15,MATCH(R15,LEFT('EDT HEBDO'!$B$1:$F$1,3),0)), INDEX(INFOS!$AA$3:$AA$15,MATCH(Q15,INFOS!$AB$3:$AB$15,0))))),"")} -> 0.37847222 | T15: PS | U15: =U14+1 -> 46429 | V15: =TEXT(U15,"jjj") -> jeu | W15: {=IFERROR(IF(X15='EDT HEBDO'!$I$3,"C", IF(X15='EDT HEBDO'!$I$1, INDEX('EDT HEBDO'!$B$7:$F$7,MATCH(V15,LEFT('EDT HEBDO'!$B$1:$F$1,3),0)), IF(X15='EDT HEBDO'!$I$2, INDEX('EDT HEBDO'!$B$15:$F$15,MATCH(V15,LEFT('EDT HEBDO'!$B$1:$F$1,3),0)), INDEX(INFOS!$AA$3:$AA$15,MATCH(U15,INFOS!$AB$3:$AB$15,0))))),"")} -> 0.37847222 | X15: PS | Y15: =Y14+1 -> 46457 | Z15: =TEXT(Y15,"jjj") -> jeu | AA15: {=IFERROR(IF(AB15='EDT HEBDO'!$I$3,"C", IF(AB15='EDT HEBDO'!$I$1, INDEX('EDT HEBDO'!$B$7:$F$7,MATCH(Z15,LEFT('EDT HEBDO'!$B$1:$F$1,3),0)), IF(AB15='EDT HEBDO'!$I$2, INDEX('EDT HEBDO'!$B$15:$F$15,MATCH(Z15,LEFT('EDT HEBDO'!$B$1:$F$1,3),0)), INDEX(INFOS!$AA$3:$AA$15,MATCH(Y15,INFOS!$AB$3:$AB$15,0))))),"")} -> 0.37847222 | AB15: PS | AC15: =AC14+1 -> 46488 | AD15: =TEXT(Y15,"jjj") -> jeu | AE15: {=IFERROR(IF(AF15='EDT HEBDO'!$I$3,"C", IF(AF15='EDT HEBDO'!$I$1, INDEX('EDT HEBDO'!$B$7:$F$7,MATCH(AD15,LEFT('EDT HEBDO'!$B$1:$F$1,3),0)), IF(AF15='EDT HEBDO'!$I$2, INDEX('EDT HEBDO'!$B$15:$F$15,MATCH(AD15,LEFT('EDT HEBDO'!$B$1:$F$1,3),0)), INDEX(INFOS!$AA$3:$AA$15,MATCH(AC15,INFOS!$AB$3:$AB$15,0))))),"")} | AG15: =AG14+1 -> 46518 | AH15: =TEXT(Y15,"jjj") -> jeu | AI15: {=IFERROR(IF(AJ15='EDT HEBDO'!$I$3,"C", IF(AJ15='EDT HEBDO'!$I$1, INDEX('EDT HEBDO'!$B$7:$F$7,MATCH(AH15,LEFT('EDT HEBDO'!$B$1:$F$1,3),0)), IF(AJ15='EDT HEBDO'!$I$2, INDEX('EDT HEBDO'!$B$15:$F$15,MATCH(AH15,LEFT('EDT HEBDO'!$B$1:$F$1,3),0)), INDEX(INFOS!$AA$3:$AA$15,MATCH(AG15,INFOS!$AB$3:$AB$15,0))))),"")} | AK15: =AK14+1 -> 46549 | AL15: =TEXT(Y15,"jjj") -> jeu | AM15: {=IFERROR(IF(AN15='EDT HEBDO'!$I$3,"C", IF(AN15='EDT HEBDO'!$I$1, INDEX('EDT HEBDO'!$B$7:$F$7,MATCH(AL15,LEFT('EDT HEBDO'!$B$1:$F$1,3),0)), IF(AN15='EDT HEBDO'!$I$2, INDEX('EDT HEBDO'!$B$15:$F$15,MATCH(AL15,LEFT('EDT HEBDO'!$B$1:$F$1,3),0)), INDEX(INFOS!$AA$3:$AA$15,MATCH(AK15,INFOS!$AB$3:$AB$15,0))))),"")} | AO15: =AO14+1 -> 46579 | AP15: =TEXT(Y15,"jjj") -> jeu | AQ15: {=IFERROR(IF(AR15='EDT HEBDO'!$I$3,"C", IF(AR15='EDT HEBDO'!$I$1, INDEX('EDT HEBDO'!$B$7:$F$7,MATCH(AP15,LEFT('EDT HEBDO'!$B$1:$F$1,3),0)), IF(AR15='EDT HEBDO'!$I$2, INDEX('EDT HEBDO'!$B$15:$F$15,MATCH(AP15,LEFT('EDT HEBDO'!$B$1:$F$1,3),0)), INDEX(INFOS!$AA$3:$AA$15,MATCH(AO15,INFOS!$AB$3:$AB$15,0))))),"")} | AS15: =AS14+1 -> 46610 | AT15: =TEXT(Y15,"jjj") -> jeu | AU15: {=IFERROR(IF(AV15='EDT HEBDO'!$I$3,"C", IF(AV15='EDT HEBDO'!$I$1, INDEX('EDT HEBDO'!$B$7:$F$7,MATCH(AT15,LEFT('EDT HEBDO'!$B$1:$F$1,3),0)), IF(AV15='EDT HEBDO'!$I$2, INDEX('EDT HEBDO'!$B$15:$F$15,MATCH(AT15,LEFT('EDT HEBDO'!$B$1:$F$1,3),0)), INDEX(INFOS!$AA$3:$AA$15,MATCH(AS15,INFOS!$AB$3:$AB$15,0))))),"")}
A16: =A15+1 -> 46277 | B16: =TEXT(A16,"jjj") -> sam | C16: {=IFERROR(IF(D16='EDT HEBDO'!$I$3,"C", IF(D16='EDT HEBDO'!$I$1, INDEX('EDT HEBDO'!$B$7:$F$7,MATCH(B16,LEFT('EDT HEBDO'!$B$1:$F$1,3),0)), IF(D16='EDT HEBDO'!$I$2, INDEX('EDT HEBDO'!$B$15:$F$15,MATCH(B16,LEFT('EDT HEBDO'!$B$1:$F$1,3),0)), INDEX(INFOS!$X$2:$X$14,MATCH(A16,INFOS!$W$2:$W$14,0))))),"")} | E16: =E15+1 -> 46307 | F16: =TEXT(E16,"jjj") -> lun | G16: {=IFERROR(IF(H16='EDT HEBDO'!$I$3,"C", IF(H16='EDT HEBDO'!$I$1, INDEX('EDT HEBDO'!$B$7:$F$7,MATCH(F16,LEFT('EDT HEBDO'!$B$1:$F$1,3),0)), IF(H16='EDT HEBDO'!$I$2, INDEX('EDT HEBDO'!$B$15:$F$15,MATCH(F16,LEFT('EDT HEBDO'!$B$1:$F$1,3),0)), INDEX(INFOS!$X$2:$X$14,MATCH(E16,INFOS!$W$2:$W$14,0))))),"")} -> 0.37847222 | H16: PS | I16: =I15+1 -> 46338 | J16: =TEXT(I16,"jjj") -> jeu | K16: {=IFERROR(IF(L16='EDT HEBDO'!$I$3,"C", IF(L16='EDT HEBDO'!$I$1, INDEX('EDT HEBDO'!$B$7:$F$7,MATCH(J16,LEFT('EDT HEBDO'!$B$1:$F$1,3),0)), IF(L16='EDT HEBDO'!$I$2, INDEX('EDT HEBDO'!$B$15:$F$15,MATCH(J16,LEFT('EDT HEBDO'!$B$1:$F$1,3),0)), INDEX(INFOS!$X$3:$X$15,MATCH(I16,INFOS!$Y$3:$Y$15,0))))),"")} -> 0.37847222 | L16: PS | M16: =M15+1 -> 46368 | N16: =TEXT(M16,"jjj") -> sam | O16: {=IFERROR(IF(P16='EDT HEBDO'!$I$3,"C", IF(P16='EDT HEBDO'!$I$1, INDEX('EDT HEBDO'!$B$7:$F$7,MATCH(N16,LEFT('EDT HEBDO'!$B$1:$F$1,3),0)), IF(P16='EDT HEBDO'!$I$2, INDEX('EDT HEBDO'!$B$15:$F$15,MATCH(N16,LEFT('EDT HEBDO'!$B$1:$F$1,3),0)), INDEX(INFOS!$X$2:$X$14,MATCH(M16,INFOS!$W$2:$W$14,0))))),"")} | Q16: =Q15+1 -> 46399 | R16: =TEXT(Q16,"jjj") -> mar | S16: {=IFERROR(IF(T16='EDT HEBDO'!$I$3,"C", IF(T16='EDT HEBDO'!$I$1, INDEX('EDT HEBDO'!$B$7:$F$7,MATCH(R16,LEFT('EDT HEBDO'!$B$1:$F$1,3),0)), IF(T16='EDT HEBDO'!$I$2, INDEX('EDT HEBDO'!$B$15:$F$15,MATCH(R16,LEFT('EDT HEBDO'!$B$1:$F$1,3),0)), INDEX(INFOS!$AA$3:$AA$15,MATCH(Q16,INFOS!$AB$3:$AB$15,0))))),"")} -> 0.37847222 | T16: PS | U16: =U15+1 -> 46430 | V16: =TEXT(U16,"jjj") -> ven | W16: {=IFERROR(IF(X16='EDT HEBDO'!$I$3,"C", IF(X16='EDT HEBDO'!$I$1, INDEX('EDT HEBDO'!$B$7:$F$7,MATCH(V16,LEFT('EDT HEBDO'!$B$1:$F$1,3),0)), IF(X16='EDT HEBDO'!$I$2, INDEX('EDT HEBDO'!$B$15:$F$15,MATCH(V16,LEFT('EDT HEBDO'!$B$1:$F$1,3),0)), INDEX(INFOS!$AA$3:$AA$15,MATCH(U16,INFOS!$AB$3:$AB$15,0))))),"")} -> 0.37847222 | X16: PS | Y16: =Y15+1 -> 46458 | Z16: =TEXT(Y16,"jjj") -> ven | AA16: {=IFERROR(IF(AB16='EDT HEBDO'!$I$3,"C", IF(AB16='EDT HEBDO'!$I$1, INDEX('EDT HEBDO'!$B$7:$F$7,MATCH(Z16,LEFT('EDT HEBDO'!$B$1:$F$1,3),0)), IF(AB16='EDT HEBDO'!$I$2, INDEX('EDT HEBDO'!$B$15:$F$15,MATCH(Z16,LEFT('EDT HEBDO'!$B$1:$F$1,3),0)), INDEX(INFOS!$AA$3:$AA$15,MATCH(Y16,INFOS!$AB$3:$AB$15,0))))),"")} -> 0.37847222 | AB16: PS | AC16: =AC15+1 -> 46489 | AD16: =TEXT(Y16,"jjj") -> ven | AE16: {=IFERROR(IF(AF16='EDT HEBDO'!$I$3,"C", IF(AF16='EDT HEBDO'!$I$1, INDEX('EDT HEBDO'!$B$7:$F$7,MATCH(AD16,LEFT('EDT HEBDO'!$B$1:$F$1,3),0)), IF(AF16='EDT HEBDO'!$I$2, INDEX('EDT HEBDO'!$B$15:$F$15,MATCH(AD16,LEFT('EDT HEBDO'!$B$1:$F$1,3),0)), INDEX(INFOS!$AA$3:$AA$15,MATCH(AC16,INFOS!$AB$3:$AB$15,0))))),"")} | AG16: =AG15+1 -> 46519 | AH16: =TEXT(Y16,"jjj") -> ven | AI16: {=IFERROR(IF(AJ16='EDT HEBDO'!$I$3,"C", IF(AJ16='EDT HEBDO'!$I$1, INDEX('EDT HEBDO'!$B$7:$F$7,MATCH(AH16,LEFT('EDT HEBDO'!$B$1:$F$1,3),0)), IF(AJ16='EDT HEBDO'!$I$2, INDEX('EDT HEBDO'!$B$15:$F$15,MATCH(AH16,LEFT('EDT HEBDO'!$B$1:$F$1,3),0)), INDEX(INFOS!$AA$3:$AA$15,MATCH(AG16,INFOS!$AB$3:$AB$15,0))))),"")} | AK16: =AK15+1 -> 46550 | AL16: =TEXT(Y16,"jjj") -> ven | AM16: {=IFERROR(IF(AN16='EDT HEBDO'!$I$3,"C", IF(AN16='EDT HEBDO'!$I$1, INDEX('EDT HEBDO'!$B$7:$F$7,MATCH(AL16,LEFT('EDT HEBDO'!$B$1:$F$1,3),0)), IF(AN16='EDT HEBDO'!$I$2, INDEX('EDT HEBDO'!$B$15:$F$15,MATCH(AL16,LEFT('EDT HEBDO'!$B$1:$F$1,3),0)), INDEX(INFOS!$AA$3:$AA$15,MATCH(AK16,INFOS!$AB$3:$AB$15,0))))),"")} | AO16: =AO15+1 -> 46580 | AP16: =TEXT(Y16,"jjj") -> ven | AQ16: {=IFERROR(IF(AR16='EDT HEBDO'!$I$3,"C", IF(AR16='EDT HEBDO'!$I$1, INDEX('EDT HEBDO'!$B$7:$F$7,MATCH(AP16,LEFT('EDT HEBDO'!$B$1:$F$1,3),0)), IF(AR16='EDT HEBDO'!$I$2, INDEX('EDT HEBDO'!$B$15:$F$15,MATCH(AP16,LEFT('EDT HEBDO'!$B$1:$F$1,3),0)), INDEX(INFOS!$AA$3:$AA$15,MATCH(AO16,INFOS!$AB$3:$AB$15,0))))),"")} | AS16: =AS15+1 -> 46611 | AT16: =TEXT(Y16,"jjj") -> ven | AU16: {=IFERROR(IF(AV16='EDT HEBDO'!$I$3,"C", IF(AV16='EDT HEBDO'!$I$1, INDEX('EDT HEBDO'!$B$7:$F$7,MATCH(AT16,LEFT('EDT HEBDO'!$B$1:$F$1,3),0)), IF(AV16='EDT HEBDO'!$I$2, INDEX('EDT HEBDO'!$B$15:$F$15,MATCH(AT16,LEFT('EDT HEBDO'!$B$1:$F$1,3),0)), INDEX(INFOS!$AA$3:$AA$15,MATCH(AS16,INFOS!$AB$3:$AB$15,0))))),"")}
A17: =A16+1 -> 46278 | B17: =TEXT(A17,"jjj") -> dim | C17: {=IFERROR(IF(D17='EDT HEBDO'!$I$3,"C", IF(D17='EDT HEBDO'!$I$1, INDEX('EDT HEBDO'!$B$7:$F$7,MATCH(B17,LEFT('EDT HEBDO'!$B$1:$F$1,3),0)), IF(D17='EDT HEBDO'!$I$2, INDEX('EDT HEBDO'!$B$15:$F$15,MATCH(B17,LEFT('EDT HEBDO'!$B$1:$F$1,3),0)), INDEX(INFOS!$X$2:$X$14,MATCH(A17,INFOS!$W$2:$W$14,0))))),"")} | E17: =E16+1 -> 46308 | F17: =TEXT(E17,"jjj") -> mar | G17: {=IFERROR(IF(H17='EDT HEBDO'!$I$3,"C", IF(H17='EDT HEBDO'!$I$1, INDEX('EDT HEBDO'!$B$7:$F$7,MATCH(F17,LEFT('EDT HEBDO'!$B$1:$F$1,3),0)), IF(H17='EDT HEBDO'!$I$2, INDEX('EDT HEBDO'!$B$15:$F$15,MATCH(F17,LEFT('EDT HEBDO'!$B$1:$F$1,3),0)), INDEX(INFOS!$X$2:$X$14,MATCH(E17,INFOS!$W$2:$W$14,0))))),"")} -> 0.37847222 | H17: PS | I17: =I16+1 -> 46339 | J17: =TEXT(I17,"jjj") -> ven | K17: {=IFERROR(IF(L17='EDT HEBDO'!$I$3,"C", IF(L17='EDT HEBDO'!$I$1, INDEX('EDT HEBDO'!$B$7:$F$7,MATCH(J17,LEFT('EDT HEBDO'!$B$1:$F$1,3),0)), IF(L17='EDT HEBDO'!$I$2, INDEX('EDT HEBDO'!$B$15:$F$15,MATCH(J17,LEFT('EDT HEBDO'!$B$1:$F$1,3),0)), INDEX(INFOS!$X$3:$X$15,MATCH(I17,INFOS!$Y$3:$Y$15,0))))),"")} -> 0.37847222 | L17: PS | M17: =M16+1 -> 46369 | N17: =TEXT(M17,"jjj") -> dim | O17: {=IFERROR(IF(P17='EDT HEBDO'!$I$3,"C", IF(P17='EDT HEBDO'!$I$1, INDEX('EDT HEBDO'!$B$7:$F$7,MATCH(N17,LEFT('EDT HEBDO'!$B$1:$F$1,3),0)), IF(P17='EDT HEBDO'!$I$2, INDEX('EDT HEBDO'!$B$15:$F$15,MATCH(N17,LEFT('EDT HEBDO'!$B$1:$F$1,3),0)), INDEX(INFOS!$X$2:$X$14,MATCH(M17,INFOS!$W$2:$W$14,0))))),"")} | Q17: =Q16+1 -> 46400 | R17: =TEXT(Q17,"jjj") -> mer | S17: {=IFERROR(IF(T17='EDT HEBDO'!$I$3,"C", IF(T17='EDT HEBDO'!$I$1, INDEX('EDT HEBDO'!$B$7:$F$7,MATCH(R17,LEFT('EDT HEBDO'!$B$1:$F$1,3),0)), IF(T17='EDT HEBDO'!$I$2, INDEX('EDT HEBDO'!$B$15:$F$15,MATCH(R17,LEFT('EDT HEBDO'!$B$1:$F$1,3),0)), INDEX(INFOS!$AA$3:$AA$15,MATCH(Q17,INFOS!$AB$3:$AB$15,0))))),"")} -> 0.16666667 | T17: PS | U17: =U16+1 -> 46431 | V17: =TEXT(U17,"jjj") -> sam | W17: {=IFERROR(IF(X17='EDT HEBDO'!$I$3,"C", IF(X17='EDT HEBDO'!$I$1, INDEX('EDT HEBDO'!$B$7:$F$7,MATCH(V17,LEFT('EDT HEBDO'!$B$1:$F$1,3),0)), IF(X17='EDT HEBDO'!$I$2, INDEX('EDT HEBDO'!$B$15:$F$15,MATCH(V17,LEFT('EDT HEBDO'!$B$1:$F$1,3),0)), INDEX(INFOS!$AA$3:$AA$15,MATCH(U17,INFOS!$AB$3:$AB$15,0))))),"")} | Y17: =Y16+1 -> 46459 | Z17: =TEXT(Y17,"jjj") -> sam | AA17: {=IFERROR(IF(AB17='EDT HEBDO'!$I$3,"C", IF(AB17='EDT HEBDO'!$I$1, INDEX('EDT HEBDO'!$B$7:$F$7,MATCH(Z17,LEFT('EDT HEBDO'!$B$1:$F$1,3),0)), IF(AB17='EDT HEBDO'!$I$2, INDEX('EDT HEBDO'!$B$15:$F$15,MATCH(Z17,LEFT('EDT HEBDO'!$B$1:$F$1,3),0)), INDEX(INFOS!$AA$3:$AA$15,MATCH(Y17,INFOS!$AB$3:$AB$15,0))))),"")} | AC17: =AC16+1 -> 46490 | AD17: =TEXT(Y17,"jjj") -> sam | AE17: {=IFERROR(IF(AF17='EDT HEBDO'!$I$3,"C", IF(AF17='EDT HEBDO'!$I$1, INDEX('EDT HEBDO'!$B$7:$F$7,MATCH(AD17,LEFT('EDT HEBDO'!$B$1:$F$1,3),0)), IF(AF17='EDT HEBDO'!$I$2, INDEX('EDT HEBDO'!$B$15:$F$15,MATCH(AD17,LEFT('EDT HEBDO'!$B$1:$F$1,3),0)), INDEX(INFOS!$AA$3:$AA$15,MATCH(AC17,INFOS!$AB$3:$AB$15,0))))),"")} | AG17: =AG16+1 -> 46520 | AH17: =TEXT(Y17,"jjj") -> sam | AI17: {=IFERROR(IF(AJ17='EDT HEBDO'!$I$3,"C", IF(AJ17='EDT HEBDO'!$I$1, INDEX('EDT HEBDO'!$B$7:$F$7,MATCH(AH17,LEFT('EDT HEBDO'!$B$1:$F$1,3),0)), IF(AJ17='EDT HEBDO'!$I$2, INDEX('EDT HEBDO'!$B$15:$F$15,MATCH(AH17,LEFT('EDT HEBDO'!$B$1:$F$1,3),0)), INDEX(INFOS!$AA$3:$AA$15,MATCH(AG17,INFOS!$AB$3:$AB$15,0))))),"")} -> Ascenscion | AK17: =AK16+1 -> 46551 | AL17: =TEXT(Y17,"jjj") -> sam | AM17: {=IFERROR(IF(AN17='EDT HEBDO'!$I$3,"C", IF(AN17='EDT HEBDO'!$I$1, INDEX('EDT HEBDO'!$B$7:$F$7,MATCH(AL17,LEFT('EDT HEBDO'!$B$1:$F$1,3),0)), IF(AN17='EDT HEBDO'!$I$2, INDEX('EDT HEBDO'!$B$15:$F$15,MATCH(AL17,LEFT('EDT HEBDO'!$B$1:$F$1,3),0)), INDEX(INFOS!$AA$3:$AA$15,MATCH(AK17,INFOS!$AB$3:$AB$15,0))))),"")} | AO17: =AO16+1 -> 46581 | AP17: =TEXT(Y17,"jjj") -> sam | AQ17: {=IFERROR(IF(AR17='EDT HEBDO'!$I$3,"C", IF(AR17='EDT HEBDO'!$I$1, INDEX('EDT HEBDO'!$B$7:$F$7,MATCH(AP17,LEFT('EDT HEBDO'!$B$1:$F$1,3),0)), IF(AR17='EDT HEBDO'!$I$2, INDEX('EDT HEBDO'!$B$15:$F$15,MATCH(AP17,LEFT('EDT HEBDO'!$B$1:$F$1,3),0)), INDEX(INFOS!$AA$3:$AA$15,MATCH(AO17,INFOS!$AB$3:$AB$15,0))))),"")} | AS17: =AS16+1 -> 46612 | AT17: =TEXT(Y17,"jjj") -> sam | AU17: {=IFERROR(IF(AV17='EDT HEBDO'!$I$3,"C", IF(AV17='EDT HEBDO'!$I$1, INDEX('EDT HEBDO'!$B$7:$F$7,MATCH(AT17,LEFT('EDT HEBDO'!$B$1:$F$1,3),0)), IF(AV17='EDT HEBDO'!$I$2, INDEX('EDT HEBDO'!$B$15:$F$15,MATCH(AT17,LEFT('EDT HEBDO'!$B$1:$F$1,3),0)), INDEX(INFOS!$AA$3:$AA$15,MATCH(AS17,INFOS!$AB$3:$AB$15,0))))),"")}
