Workbook
Name L_Dangers: OFFSET(T_Dangers[[#Headers],[Dangers]],MATCH(Phyto[[#This Row],[Risque]],T_Dangers[Risques],0),,COUNTIF(T_Dangers[Risques],Phyto[[#This Row],[Risque]]))
Name L_Risques: T_Risques[Risques]

Sheet Modèle
A1: Secteur | B1: Pièce | C1: Poste de travail | D1: Opération/ Matériel concerné | E1: Descriptif du risque | H1: Cotation de la criticité | K1: Moyen de prévention mis en place | L1: Cotation du niveau de prévention | P1: Niveau du risque | Q1: Moyen de prévention préconisés | R1: Personnes concernées par ce risque | S1: Nombre d'accident ayant eu lieu | T1: Plan d'action
E2: Risque | F2: Danger | G2: Dommage possible | H2: Probabilité | I2: Gravité | J2: Niveau de la criticité | L2: Type de prévention et protection mis en place | N2: Efficacité | O2: Niveau de protection / prévention
A3: Nommer | B3: Nommer | C3: Nommer | D3: Nommer | E3: Eventualité rencontré | F3: Source de dommage | G3: Evènement non souhaité | H3: Très probable (16) : Fréquence d'exposition quotidienne d'une durée de plus d'une heure Probable (8) : Fréquence d'exposition hebdomadaire et d'une durée entre une et quatre heures Improbable (4) : Fréquence d'exposition 1 fois par mois et durée de plus d'une heure par jour Très impropable (2) : Fréquence d'exposition 1 fois par an ou moins et durée de moins d'1 heure à 1 journée | I3: Très grave (16) : Accident mortel Grave (8) : accident ou maladie avec une incapacité permanente Moyenne (4) : Accident ou maldie avec arrêt de travail Faible (2) : Accident ou maldie sans arrêt de travail | J3: Probabilité* gravité | K3: Organisationnel : ressource utilisée pour l'organisation de la prévention Ex : Procédure, mode de travail, signalisation, balisage, alternance des tâches, pause courte mais régulière, plan de formation, polyvalence Technique : moyen matériel Ex : Aménagement de poste, achat de nouvelle machine, organe de sécurité Humain : équipement de protection pour le salarié lui-même, information, formation Ex : EPI, formation, information, consigne, suivi médical | L3: O+T+H (3) les 3 types de moyens de prévention/ protection sont en place O+T, O+H, T+H (2) parmi les 3 types de moyens de prévention/protection, seulement 2 sont en place O ou T ou H (1) seulement un des trois types de moyens de prévention/protection est en place Inexistant (0) Pas de moyens de prévention / protection | N3: Efficace (2) : moyens de prévention/protection efficaces ou appliqués par tous Peu efficace (1) : moyens de prévention/protection partiellement efficaces ou partiellement appliqués Inopérant (0) : moyens de prévention/protection inefficaces ou non appliqués | O3: Types de moyens de prévention et protection X Efficacité | P3: Croisement du chiffre de la criticité avec le chiffre du niveau de protection | Q3: Actions réalisées sur les 3 types de moyens de prévention : (Organisationnel Technique Humain) pour supprimer ou réduire le risque résiduel | R3: Nombre en fourchette | S3: Nombre d'accident déjà enregistrer sur ce point | T3: Plan d'action à mettre en place oui ou non + référence de l'ouverture de la fiche action si oui
J4: =H4*I4 -> 0 | O4: =N4*M4 -> 0 | P4: =IF(OR(ISBLANK(J4),ISBLANK(O4)),"","Risque "&INDEX(Annexe!$N$3:$T$18,MATCH(J4,Annexe!$M$3:$M$18,0),MATCH(O4,Annexe!$N$19:$T$19,0))) -> #N/A
J5: =H5*I5 -> 0 | O5: =N5*M5 -> 0 | P5: =IF(OR(ISBLANK(J5),ISBLANK(O5)),"","Risque "&INDEX(Annexe!$N$3:$T$18,MATCH(J5,Annexe!$M$3:$M$18,0),MATCH(O5,Annexe!$N$19:$T$19,0))) -> #N/A
J6: =H6*I6 -> 0 | O6: =N6*M6 -> 0 | P6: =IF(OR(ISBLANK(J6),ISBLANK(O6)),"","Risque "&INDEX(Annexe!$N$3:$T$18,MATCH(J6,Annexe!$M$3:$M$18,0),MATCH(O6,Annexe!$N$19:$T$19,0))) -> #N/A
J7: =H7*I7 -> 0 | O7: =N7*M7 -> 0 | P7: =IF(OR(ISBLANK(J7),ISBLANK(O7)),"","Risque "&INDEX(Annexe!$N$3:$T$18,MATCH(J7,Annexe!$M$3:$M$18,0),MATCH(O7,Annexe!$N$19:$T$19,0))) -> #N/A
J8: =H8*I8 -> 0 | O8: =N8*M8 -> 0 | P8: =IF(OR(ISBLANK(J8),ISBLANK(O8)),"","Risque "&INDEX(Annexe!$N$3:$T$18,MATCH(J8,Annexe!$M$3:$M$18,0),MATCH(O8,Annexe!$N$19:$T$19,0))) -> #N/A
J9: =H9*I9 -> 0 | O9: =N9*M9 -> 0 | P9: =IF(OR(ISBLANK(J9),ISBLANK(O9)),"","Risque "&INDEX(Annexe!$N$3:$T$18,MATCH(J9,Annexe!$M$3:$M$18,0),MATCH(O9,Annexe!$N$19:$T$19,0))) -> #N/A
J10: =H10*I10 -> 0 | O10: =N10*M10 -> 0 | P10: =IF(OR(ISBLANK(J10),ISBLANK(O10)),"","Risque "&INDEX(Annexe!$N$3:$T$18,MATCH(J10,Annexe!$M$3:$M$18,0),MATCH(O10,Annexe!$N$19:$T$19,0))) -> #N/A
J11: =H11*I11 -> 0 | O11: =N11*M11 -> 0 | P11: =IF(OR(ISBLANK(J11),ISBLANK(O11)),"","Risque "&INDEX(Annexe!$N$3:$T$18,MATCH(J11,Annexe!$M$3:$M$18,0),MATCH(O11,Annexe!$N$19:$T$19,0))) -> #N/A
J12: =H12*I12 -> 0 | O12: =N12*M12 -> 0 | P12: =IF(OR(ISBLANK(J12),ISBLANK(O12)),"","Risque "&INDEX(Annexe!$N$3:$T$18,MATCH(J12,Annexe!$M$3:$M$18,0),MATCH(O12,Annexe!$N$19:$T$19,0))) -> #N/A
J13: =H13*I13 -> 0 | O13: =N13*M13 -> 0 | P13: =IF(OR(ISBLANK(J13),ISBLANK(O13)),"","Risque "&INDEX(Annexe!$N$3:$T$18,MATCH(J13,Annexe!$M$3:$M$18,0),MATCH(O13,Annexe!$N$19:$T$19,0))) -> #N/A
J14: =H14*I14 -> 0 | O14: =N14*M14 -> 0 | P14: =IF(OR(ISBLANK(J14),ISBLANK(O14)),"","Risque "&INDEX(Annexe!$N$3:$T$18,MATCH(J14,Annexe!$M$3:$M$18,0),MATCH(O14,Annexe!$N$19:$T$19,0))) -> #N/A
J15: =H15*I15 -> 0 | O15: =N15*M15 -> 0 | P15: =IF(OR(ISBLANK(J15),ISBLANK(O15)),"","Risque "&INDEX(Annexe!$N$3:$T$18,MATCH(J15,Annexe!$M$3:$M$18,0),MATCH(O15,Annexe!$N$19:$T$19,0))) -> #N/A
... J22: =H22*I22 -> 0 | O22: =N22*M22 -> 0 | P22: =IF(OR(ISBLANK(J22),ISBLANK(O22)),"","Risque "&INDEX(Annexe!$N$3:$T$18,MATCH(J22,Annexe!$M$3:$M$18,0),MATCH(O22,Annexe!$N$19:$T$19,0))) -> #N/A
P23: =IF(OR(ISBLANK(J23),ISBLANK(O23)),"","Risque "&INDEX(Annexe!$N$3:$T$18,MATCH(J23,Annexe!$M$3:$M$18,0),MATCH(O23,Annexe!$N$19:$T$19,0)))
P24: =IF(OR(ISBLANK(J24),ISBLANK(O24)),"","Risque "&INDEX(Annexe!$N$3:$T$18,MATCH(J24,Annexe!$M$3:$M$18,0),MATCH(O24,Annexe!$N$19:$T$19,0)))
P25: =IF(OR(ISBLANK(J25),ISBLANK(O25)),"","Risque "&INDEX(Annexe!$N$3:$T$18,MATCH(J25,Annexe!$M$3:$M$18,0),MATCH(O25,Annexe!$N$19:$T$19,0)))
P26: =IF(OR(ISBLANK(J26),ISBLANK(O26)),"","Risque "&INDEX(Annexe!$N$3:$T$18,MATCH(J26,Annexe!$M$3:$M$18,0),MATCH(O26,Annexe!$N$19:$T$19,0)))
P27: =IF(OR(ISBLANK(J27),ISBLANK(O27)),"","Risque "&INDEX(Annexe!$N$3:$T$18,MATCH(J27,Annexe!$M$3:$M$18,0),MATCH(O27,Annexe!$N$19:$T$19,0)))
P28: =IF(OR(ISBLANK(J28),ISBLANK(O28)),"","Risque "&INDEX(Annexe!$N$3:$T$18,MATCH(J28,Annexe!$M$3:$M$18,0),MATCH(O28,Annexe!$N$19:$T$19,0)))
P29: =IF(OR(ISBLANK(J29),ISBLANK(O29)),"","Risque "&INDEX(Annexe!$N$3:$T$18,MATCH(J29,Annexe!$M$3:$M$18,0),MATCH(O29,Annexe!$N$19:$T$19,0)))
P30: =IF(OR(ISBLANK(J30),ISBLANK(O30)),"","Risque "&INDEX(Annexe!$N$3:$T$18,MATCH(J30,Annexe!$M$3:$M$18,0),MATCH(O30,Annexe!$N$19:$T$19,0)))
P31: =IF(OR(ISBLANK(J31),ISBLANK(O31)),"","Risque "&INDEX(Annexe!$N$3:$T$18,MATCH(J31,Annexe!$M$3:$M$18,0),MATCH(O31,Annexe!$N$19:$T$19,0)))
P32: =IF(OR(ISBLANK(J32),ISBLANK(O32)),"","Risque "&INDEX(Annexe!$N$3:$T$18,MATCH(J32,Annexe!$M$3:$M$18,0),MATCH(O32,Annexe!$N$19:$T$19,0)))
P33: =IF(OR(ISBLANK(J33),ISBLANK(O33)),"","Risque "&INDEX(Annexe!$N$3:$T$18,MATCH(J33,Annexe!$M$3:$M$18,0),MATCH(O33,Annexe!$N$19:$T$19,0)))
P34: =IF(OR(ISBLANK(J34),ISBLANK(O34)),"","Risque "&INDEX(Annexe!$N$3:$T$18,MATCH(J34,Annexe!$M$3:$M$18,0),MATCH(O34,Annexe!$N$19:$T$19,0)))
... P99: =IF(OR(ISBLANK(J99),ISBLANK(O99)),"","Risque "&INDEX(Annexe!$N$3:$T$18,MATCH(J99,Annexe!$M$3:$M$18,0),MATCH(O99,Annexe!$N$19:$T$19,0)))

Sheet Phytopathologie
A1: Nommer | B1: Nommer | C1: Nommer | D1: Nommer | E1: Eventualité rencontré | G1: Evènement non souhaité | H1: Très probable (16) : Fréquence d'exposition quotidienne d'une durée de plus d'une heure Probable (8) : Fréquence d'exposition hebdomadaire et d'une durée entre une et quatre heures Improbable (4) : Fréquence d'exposition 1 fois par mois et durée de plus d'une heure par jour Très impropable (2) : Fréquence d'exposition 1 fois par an ou moins et durée de moins d'1 heure à 1 journée | I1: Très grave (16) : Accident mortel Grave (8) : accident ou maladie avec une incapacité permanente Moyenne (4) : Accident ou maldie avec arrêt de travail Faible (2) : Accident ou maldie sans arrêt de travail | J1: Probabilité* gravité | K1: Organisationnel : ressource utilisée pour l'organisation de la prévention Ex : Procédure, mode de travail, signalisation, balisage, alternance des tâches, pause courte mais régulière, plan de formation, polyvalence Technique : moyen matériel Ex : Aménagement de poste, achat de nouvelle machine, organe de sécurité Humain : équipement de protection pour le salarié lui-même, information, formation Ex : EPI, formation, information, consigne, suivi médical | L1: O+T+H (3) les 3 types de moyens de prévention/ protection sont en place O+T, O+H, T+H (2) parmi les 3 types de moyens de prévention/protection, seulement 2 sont en place O ou T ou H (1) seulement un des trois types de moyens de prévention/protection est en place Inexistant (0) Pas de moyens de prévention / protection | N1: Efficace (2) : moyens de prévention/protection efficaces ou appliqués par tous Peu efficace (1) : moyens de prévention/protection partiellement efficaces ou partiellement appliqués Inopérant (0) : moyens de prévention/protection inefficaces ou non appliqués | O1: Types de moyens de prévention et protection X Efficacité | P1: Croisement du chiffre de la criticité avec le chiffre du niveau de protection | Q1: Actions réalisées sur les 3 types de moyens de prévention : (Organisationnel Technique Humain) pour supprimer ou réduire le risque résiduel | R1: Nombre en fourchette | S1: Nombre d'accident déjà enregistrer sur ce point | T1: Plan d'action à mettre en place oui ou non + référence de l'ouverture de la fiche action si oui
E2: Descriptif du risque | H2: Cotation de la criticité | L2: Cotation du niveau de prévention
A3: Secteur | B3: Pièce | C3: Poste de travail | D3: Opération/ Matériel concerné | E3: Risque | F3: Danger | G3: Dommage possible | H3: Probabilité | I3: Gravité | J3: Niveau de la criticité | K3: Moyen de prévention mis en place | L3: Type de prévention et protection mis en place | M3: Colonne1 | N3: Efficacité | O3: Niveau de protection / prévention | P3: Niveau du risque | Q3: Moyen de prévention préconisés | R3: Personnes concernées par ce risque | S3: Nombre d'accident ayant eu lieu | T3: Plan d'action
A4: Phytopathologie | B4: I1/J1 - Préparation phytopathologie | C4: Prise d’échantillons | D4: Utilisation d’un sécateur (bois et racines), d’un emporte-pièce ou scalpel, puis pesée | E4: Coupures, piqûres | F4: Utilisation d'objets tranchants, coupants ou piquants | G4: Plaies, infections | J4: =H4*I4 -> 0 | O4: =N4*M4 -> 0 | P4: =IF(OR(ISBLANK(J4),ISBLANK(O4)),"","Risque "&INDEX(Annexe!$N$3:$T$18,MATCH(J4,Annexe!$M$3:$M$18,0),MATCH(O4,Annexe!$N$19:$T$19,0))) -> #N/A | Q4: Humain : port de gants Technique : matériel sécurisé
A5: Phytopathologie | B5: I1/J1 - Préparation phytopathologie | C5: Prise d’échantillons | D5: Utilisation d’un sécateur (bois et racines), d’un emporte-pièce ou scalpel, puis pesée | J5: =H5*I5 -> 0 | O5: =N5*M5 -> 0 | P5: =IF(OR(ISBLANK(J5),ISBLANK(O5)),"","Risque "&INDEX(Annexe!$N$3:$T$18,MATCH(J5,Annexe!$M$3:$M$18,0),MATCH(O5,Annexe!$N$19:$T$19,0))) -> #N/A
A6: Phytopathologie | B6: I1/J1 - Préparation phytopathologie | C6: Prise d’échantillons | D6: Désinfection des outils et balance à l’aide d’alcool 70° | J6: =H6*I6 -> 0 | O6: =N6*M6 -> 0 | P6: =IF(OR(ISBLANK(J6),ISBLANK(O6)),"","Risque "&INDEX(Annexe!$N$3:$T$18,MATCH(J6,Annexe!$M$3:$M$18,0),MATCH(O6,Annexe!$N$19:$T$19,0))) -> #N/A
A7: Phytopathologie | B7: I1/J1 - Préparation phytopathologie | C7: Préparation de l’extrait avec broyage | D7: Dépôt des échantillons dans sachet à filtre + tampon d’extraction | J7: =H7*I7 -> 0 | O7: =N7*M7 -> 0 | P7: =IF(OR(ISBLANK(J7),ISBLANK(O7)),"","Risque "&INDEX(Annexe!$N$3:$T$18,MATCH(J7,Annexe!$M$3:$M$18,0),MATCH(O7,Annexe!$N$19:$T$19,0))) -> #N/A
A8: Phytopathologie | B8: I1 - Broyage | J8: =H8*I8 -> 0 | O8: =N8*M8 -> 0 | P8: =IF(OR(ISBLANK(J8),ISBLANK(O8)),"","Risque "&INDEX(Annexe!$N$3:$T$18,MATCH(J8,Annexe!$M$3:$M$18,0),MATCH(O8,Annexe!$N$19:$T$19,0))) -> #N/A
G24: =DECALER(T_Dangers[[#En-têtes];[Dangers = “À quoi suis-je exposé ?” (cause, source du problème)]];EQUIV([@Risque];T_Dangers[Risques (situation dangereuse)];0);;NB.SI(T_Risques[Risques (situation dangereuse)];[@Risque]))

Sheet Administratif
A1: Secteur | B1: Pièce | C1: Poste de travail | D1: Opération/ Matériel concerné | E1: Descriptif du risque | H1: Cotation de la criticité | K1: Moyen de prévention mis en place | L1: Cotation du niveau de prévention | P1: Niveau du risque | Q1: Moyen de prévention préconisés | R1: Personnes concernées par ce risque | S1: Nombre d'accident ayant eu lieu | T1: Plan d'action
E2: Risque | F2: Danger | G2: Dommage possible | H2: Probabilité | I2: Gravité | J2: Niveau de la criticité | L2: Type de prévention et protection mis en place | N2: Efficacité | O2: Niveau de protection / prévention
A3: Nommer | B3: Nommer | C3: Nommer | D3: Nommer | E3: Eventualité rencontré | F3: Source de dommage | G3: Evènement non souhaité | H3: Très probable (16) : Fréquence d'exposition quotidienne d'une durée de plus d'une heure Probable (8) : Fréquence d'exposition hebdomadaire et d'une durée entre une et quatre heures Improbable (4) : Fréquence d'exposition 1 fois par mois et durée de plus d'une heure par jour Très impropable (2) : Fréquence d'exposition 1 fois par an ou moins et durée de moins d'1 heure à 1 journée | I3: Très grave (16) : Accident mortel Grave (8) : accident ou maladie avec une incapacité permanente Moyenne (4) : Accident ou maldie avec arrêt de travail Faible (2) : Accident ou maldie sans arrêt de travail | J3: Probabilité* gravité | K3: Organisationnel : ressource utilisée pour l'organisation de la prévention Ex : Procédure, mode de travail, signalisation, balisage, alternance des tâches, pause courte mais régulière, plan de formation, polyvalence Technique : moyen matériel Ex : Aménagement de poste, achat de nouvelle machine, organe de sécurité Humain : équipement de protection pour le salarié lui-même, information, formation Ex : EPI, formation, information, consigne, suivi médical | L3: O+T+H (3) les 3 types de moyens de prévention/ protection sont en place O+T, O+H, T+H (2) parmi les 3 types de moyens de prévention/protection, seulement 2 sont en place O ou T ou H (1) seulement un des trois types de moyens de prévention/protection est en place Inexistant (0) Pas de moyens de prévention / protection | N3: Efficace (2) : moyens de prévention/protection efficaces ou appliqués par tous Peu efficace (1) : moyens de prévention/protection partiellement efficaces ou partiellement appliqués Inopérant (0) : moyens de prévention/protection inefficaces ou non appliqués | O3: Types de moyens de prévention et protection X Efficacité | P3: Croisement du chiffre de la criticité avec le chiffre du niveau de protection | Q3: Actions réalisées sur les 3 types de moyens de prévention : (Organisationnel Technique Humain) pour supprimer ou réduire le risque résiduel | R3: Nombre en fourchette | S3: Nombre d'accident déjà enregistrer sur ce point | T3: Plan d'action à mettre en place oui ou non + référence de l'ouverture de la fiche action si oui
A4: Administratif | B4: A4 - Bureau responsable qualité | J4: =H4*I4 -> 0 | O4: =N4*M4 -> 0 | P4: =IF(OR(ISBLANK(J4),ISBLANK(O4)),"","Risque "&INDEX(Annexe!$N$3:$T$18,MATCH(J4,Annexe!$M$3:$M$18,0),MATCH(O4,Annexe!$N$19:$T$19,0))) -> #N/A
A5: Administratif | B5: A3 - Bureau responsable technique | J5: =H5*I5 -> 0 | O5: =N5*M5 -> 0 | P5: =IF(OR(ISBLANK(J5),ISBLANK(O5)),"","Risque "&INDEX(Annexe!$N$3:$T$18,MATCH(J5,Annexe!$M$3:$M$18,0),MATCH(O5,Annexe!$N$19:$T$19,0))) -> #N/A
A6: Administratif | B6: A3 - Bureau polyvalent | J6: =H6*I6 -> 0 | O6: =N6*M6 -> 0 | P6: =IF(OR(ISBLANK(J6),ISBLANK(O6)),"","Risque "&INDEX(Annexe!$N$3:$T$18,MATCH(J6,Annexe!$M$3:$M$18,0),MATCH(O6,Annexe!$N$19:$T$19,0))) -> #N/A
A7: Administratif | B7: A2 - Bureau de la directrice | J7: =H7*I7 -> 0 | O7: =N7*M7 -> 0 | P7: =IF(OR(ISBLANK(J7),ISBLANK(O7)),"","Risque "&INDEX(Annexe!$N$3:$T$18,MATCH(J7,Annexe!$M$3:$M$18,0),MATCH(O7,Annexe!$N$19:$T$19,0))) -> #N/A
A8: Administratif | B8: A5 - Bureau cadre administratif | J8: =H8*I8 -> 0 | O8: =N8*M8 -> 0 | P8: =IF(OR(ISBLANK(J8),ISBLANK(O8)),"","Risque "&INDEX(Annexe!$N$3:$T$18,MATCH(J8,Annexe!$M$3:$M$18,0),MATCH(O8,Annexe!$N$19:$T$19,0))) -> #N/A
A9: Administratif | B9: A6 - Bureau comptabilité | J9: =H9*I9 -> 0 | O9: =N9*M9 -> 0 | P9: =IF(OR(ISBLANK(J9),ISBLANK(O9)),"","Risque "&INDEX(Annexe!$N$3:$T$18,MATCH(J9,Annexe!$M$3:$M$18,0),MATCH(O9,Annexe!$N$19:$T$19,0))) -> #N/A
A10: Administratif | B10: A1 - Bureau assistant | J10: =H10*I10 -> 0 | O10: =N10*M10 -> 0 | P10: =IF(OR(ISBLANK(J10),ISBLANK(O10)),"","Risque "&INDEX(Annexe!$N$3:$T$18,MATCH(J10,Annexe!$M$3:$M$18,0),MATCH(O10,Annexe!$N$19:$T$19,0))) -> #N/A
A11: Administratif | B11: A1 - Accueil - Espace d'attente | J11: =H11*I11 -> 0 | O11: =N11*M11 -> 0 | P11: =IF(OR(ISBLANK(J11),ISBLANK(O11)),"","Risque "&INDEX(Annexe!$N$3:$T$18,MATCH(J11,Annexe!$M$3:$M$18,0),MATCH(O11,Annexe!$N$19:$T$19,0))) -> #N/A
A12: Administratif | B12: M4 - Local VDI | J12: =H12*I12 -> 0 | O12: =N12*M12 -> 0 | P12: =IF(OR(ISBLANK(J12),ISBLANK(O12)),"","Risque "&INDEX(Annexe!$N$3:$T$18,MATCH(J12,Annexe!$M$3:$M$18,0),MATCH(O12,Annexe!$N$19:$T$19,0))) -> #N/A
A13: Administratif | B13: Local électrique | J13: =H13*I13 -> 0 | O13: =N13*M13 -> 0 | P13: =IF(OR(ISBLANK(J13),ISBLANK(O13)),"","Risque "&INDEX(Annexe!$N$3:$T$18,MATCH(J13,Annexe!$M$3:$M$18,0),MATCH(O13,Annexe!$N$19:$T$19,0))) -> #N/A
J14: =H14*I14 -> 0 | O14: =N14*M14 -> 0 | P14: =IF(OR(ISBLANK(J14),ISBLANK(O14)),"","Risque "&INDEX(Annexe!$N$3:$T$18,MATCH(J14,Annexe!$M$3:$M$18,0),MATCH(O14,Annexe!$N$19:$T$19,0))) -> #N/A
J15: =H15*I15 -> 0 | O15: =N15*M15 -> 0 | P15: =IF(OR(ISBLANK(J15),ISBLANK(O15)),"","Risque "&INDEX(Annexe!$N$3:$T$18,MATCH(J15,Annexe!$M$3:$M$18,0),MATCH(O15,Annexe!$N$19:$T$19,0))) -> #N/A
J16: =H16*I16 -> 0 | O16: =N16*M16 -> 0 | P16: =IF(OR(ISBLANK(J16),ISBLANK(O16)),"","Risque "&INDEX(Annexe!$N$3:$T$18,MATCH(J16,Annexe!$M$3:$M$18,0),MATCH(O16,Annexe!$N$19:$T$19,0))) -> #N/A
J17: =H17*I17 -> 0 | O17: =N17*M17 -> 0 | P17: =IF(OR(ISBLANK(J17),ISBLANK(O17)),"","Risque "&INDEX(Annexe!$N$3:$T$18,MATCH(J17,Annexe!$M$3:$M$18,0),MATCH(O17,Annexe!$N$19:$T$19,0))) -> #N/A
J18: =H18*I18 -> 0 | O18: =N18*M18 -> 0 | P18: =IF(OR(ISBLANK(J18),ISBLANK(O18)),"","Risque "&INDEX(Annexe!$N$3:$T$18,MATCH(J18,Annexe!$M$3:$M$18,0),MATCH(O18,Annexe!$N$19:$T$19,0))) -> #N/A
J19: =H19*I19 -> 0 | O19: =N19*M19 -> 0 | P19: =IF(OR(ISBLANK(J19),ISBLANK(O19)),"","Risque "&INDEX(Annexe!$N$3:$T$18,MATCH(J19,Annexe!$M$3:$M$18,0),MATCH(O19,Annexe!$N$19:$T$19,0))) -> #N/A
J20: =H20*I20 -> 0 | O20: =N20*M20 -> 0 | P20: =IF(OR(ISBLANK(J20),ISBLANK(O20)),"","Risque "&INDEX(Annexe!$N$3:$T$18,MATCH(J20,Annexe!$M$3:$M$18,0),MATCH(O20,Annexe!$N$19:$T$19,0))) -> #N/A
J21: =H21*I21 -> 0 | O21: =N21*M21 -> 0 | P21: =IF(OR(ISBLANK(J21),ISBLANK(O21)),"","Risque "&INDEX(Annexe!$N$3:$T$18,MATCH(J21,Annexe!$M$3:$M$18,0),MATCH(O21,Annexe!$N$19:$T$19,0))) -> #N/A
J22: =H22*I22 -> 0 | O22: =N22*M22 -> 0 | P22: =IF(OR(ISBLANK(J22),ISBLANK(O22)),"","Risque "&INDEX(Annexe!$N$3:$T$18,MATCH(J22,Annexe!$M$3:$M$18,0),MATCH(O22,Annexe!$N$19:$T$19,0))) -> #N/A
P23: =IF(OR(ISBLANK(J23),ISBLANK(O23)),"","Risque "&INDEX(Annexe!$N$3:$T$18,MATCH(J23,Annexe!$M$3:$M$18,0),MATCH(O23,Annexe!$N$19:$T$19,0)))
P24: =IF(OR(ISBLANK(J24),ISBLANK(O24)),"","Risque "&INDEX(Annexe!$N$3:$T$18,MATCH(J24,Annexe!$M$3:$M$18,0),MATCH(O24,Annexe!$N$19:$T$19,0)))
P25: =IF(OR(ISBLANK(J25),ISBLANK(O25)),"","Risque "&INDEX(Annexe!$N$3:$T$18,MATCH(J25,Annexe!$M$3:$M$18,0),MATCH(O25,Annexe!$N$19:$T$19,0)))
P26: =IF(OR(ISBLANK(J26),ISBLANK(O26)),"","Risque "&INDEX(Annexe!$N$3:$T$18,MATCH(J26,Annexe!$M$3:$M$18,0),MATCH(O26,Annexe!$N$19:$T$19,0)))
P27: =IF(OR(ISBLANK(J27),ISBLANK(O27)),"","Risque "&INDEX(Annexe!$N$3:$T$18,MATCH(J27,Annexe!$M$3:$M$18,0),MATCH(O27,Annexe!$N$19:$T$19,0)))
P28: =IF(OR(ISBLANK(J28),ISBLANK(O28)),"","Risque "&INDEX(Annexe!$N$3:$T$18,MATCH(J28,Annexe!$M$3:$M$18,0),MATCH(O28,Annexe!$N$19:$T$19,0)))
P29: =IF(OR(ISBLANK(J29),ISBLANK(O29)),"","Risque "&INDEX(Annexe!$N$3:$T$18,MATCH(J29,Annexe!$M$3:$M$18,0),MATCH(O29,Annexe!$N$19:$T$19,0)))
P30: =IF(OR(ISBLANK(J30),ISBLANK(O30)),"","Risque "&INDEX(Annexe!$N$3:$T$18,MATCH(J30,Annexe!$M$3:$M$18,0),MATCH(O30,Annexe!$N$19:$T$19,0)))
P31: =IF(OR(ISBLANK(J31),ISBLANK(O31)),"","Risque "&INDEX(Annexe!$N$3:$T$18,MATCH(J31,Annexe!$M$3:$M$18,0),MATCH(O31,Annexe!$N$19:$T$19,0)))
P32: =IF(OR(ISBLANK(J32),ISBLANK(O32)),"","Risque "&INDEX(Annexe!$N$3:$T$18,MATCH(J32,Annexe!$M$3:$M$18,0),MATCH(O32,Annexe!$N$19:$T$19,0)))
P33: =IF(OR(ISBLANK(J33),ISBLANK(O33)),"","Risque "&INDEX(Annexe!$N$3:$T$18,MATCH(J33,Annexe!$M$3:$M$18,0),MATCH(O33,Annexe!$N$19:$T$19,0)))
P34: =IF(OR(ISBLANK(J34),ISBLANK(O34)),"","Risque "&INDEX(Annexe!$N$3:$T$18,MATCH(J34,Annexe!$M$3:$M$18,0),MATCH(O34,Annexe!$N$19:$T$19,0)))
... P99: =IF(OR(ISBLANK(J99),ISBLANK(O99)),"","Risque "&INDEX(Annexe!$N$3:$T$18,MATCH(J99,Annexe!$M$3:$M$18,0),MATCH(O99,Annexe!$N$19:$T$19,0)))

Sheet Listes
A1: Risques (situation dangereuse) | B1: Dangers = “À quoi suis-je exposé ?” (cause, source du problème) | C1: Dommage “Qu’est-ce que ça peut me faire ?” (conséquence sur la santé) | D1: Mesures de prévention | F1: Risques | H1: Risques | I1: Dangers | K1: Risques | L1: Dangers | M1: Dommage | O1: Risques | P1: Dangers | Q1: Dommage | R1: Mesures de prévention
A2: Biologiques | B2: Exposition à des agents pathogènes | C2: Infection | D2: Humain : port d'EPI (gants, blouse, masque, lunette), lavage des mains ou désinfection des mains avec solution hydro-alcoolique, vaccination Technique : manipulation sous PSM Organisationnel : procédures (PSM, désinfection, gestion déchets), limitation du personnel exposé, formations, traçabilité échantillons dans Diplabo, zone de confinement | F2: Biologiques | H2: Biologiques | I2: Exposition à des agents pathogènes | K2: Biologiques | L2: Exposition à des agents pathogènes | M2: Infection | O2: Biologiques | P2: Exposition à des agents pathogènes | Q2: Infection | R2: Humain : port d'EPI (gants, blouse, masque, lunette), lavage des mains ou désinfection des mains avec solution hydro-alcoolique, vaccination Technique : manipulation sous PSM Organisationnel : procédures (PSM, désinfection, gestion déchets), limitation du personnel exposé, formations, traçabilité échantillons dans Diplabo, zone de confinement
B3: Manipulation d’échantillons infectieux (sang, organes, fèces, écouvillons) | F3: Bruit | H3: Biologiques | I3: Manipulation d’échantillons infectieux (sang, organes, fèces, écouvillons) | K3: Biologiques | L3: Manipulation d’échantillons infectieux (sang, organes, fèces, écouvillons) | M3: Infection | O3: Biologiques | P3: Manipulation d’échantillons infectieux (sang, organes, fèces, écouvillons) | Q3: Infection | R3: Humain : port d'EPI (gants, blouse, masque, lunette), lavage des mains ou désinfection des mains avec solution hydro-alcoolique, vaccination Technique : manipulation sous PSM Organisationnel : procédures (PSM, désinfection, gestion déchets), limitation du personnel exposé, formations, traçabilité échantillons dans Diplabo, zone de confinement
B4: Manipulation de cadavres ou tissus animaux | F4: Brûlures | H4: Biologiques | I4: Manipulation de cadavres ou tissus animaux | K4: Biologiques | L4: Manipulation de cadavres ou tissus animaux | M4: Infection | O4: Biologiques | P4: Manipulation de cadavres ou tissus animaux | Q4: Infection | R4: Humain : port d'EPI (gants, blouse, masque, lunette), lavage des mains ou désinfection des mains avec solution hydro-alcoolique, vaccination Technique : manipulation sous PSM Organisationnel : procédures (PSM, désinfection, gestion déchets), limitation du personnel exposé, formations, traçabilité échantillons dans Diplabo, zone de confinement
B5: Exposition à des aérosols contaminés (centrifugation, pipetage) | F5: Champs éléctromagnétiques | H5: Biologiques | I5: Exposition à des aérosols contaminés (centrifugation, pipetage) | K5: Biologiques | L5: Exposition à des aérosols contaminés (centrifugation, pipetage) | M5: Infection | O5: Biologiques | P5: Exposition à des aérosols contaminés (centrifugation, pipetage) | Q5: Infection | R5: Humain : port d'EPI (gants, blouse, masque, lunette), lavage des mains ou désinfection des mains avec solution hydro-alcoolique, vaccination Technique : manipulation sous PSM Organisationnel : procédures (PSM, désinfection, gestion déchets), limitation du personnel exposé, formations, traçabilité échantillons dans Diplabo, zone de confinement
B6: Déchets infectieux | F6: Chimiques | H6: Biologiques | I6: Déchets infectieux | K6: Biologiques | L6: Déchets infectieux | M6: Infection | O6: Biologiques | P6: Déchets infectieux | Q6: Infection | R6: Humain : port d'EPI (gants, blouse, masque, lunette), lavage des mains ou désinfection des mains avec solution hydro-alcoolique, vaccination Technique : manipulation sous PSM Organisationnel : procédures (PSM, désinfection, gestion déchets), limitation du personnel exposé, formations, traçabilité échantillons dans Diplabo, zone de confinement
A7: Bruit | B7: Exposition prolongée à un bruit continu (machines) | C7: Surdité progressive, trouble de la concentration, fatigue, irritabilité | D7: Humain : port d'EPI (bouchons, casque anti-bruit) Technique : maintenance machines Organisationnel : limiter durée d’exposition | F7: Chutes de hauteur | H7: Bruit | I7: Exposition prolongée à un bruit continu (machines) | K7: Bruit | L7: Exposition prolongée à un bruit continu (machines) | M7: Surdité progressive, trouble de la concentration, fatigue, irritabilité | O7: Bruit | P7: Exposition prolongée à un bruit continu (machines) | Q7: Surdité progressive, trouble de la concentration, fatigue, irritabilité | R7: Humain : port d'EPI (bouchons, casque anti-bruit) Technique : maintenance machines Organisationnel : limiter durée d’exposition
A8: Brûlures | B8: Contact avec des surfaces chaudes/froides ou fluides à température extrême | C8: Brûlures thermiques | D8: Humain : port d'EPI (gants thermiques) Technique : signalisation surfaces chaudes | F8: Chutes de plain-pied | H8: Brûlures | I8: Contact avec des surfaces chaudes/froides ou fluides à température extrême | K8: Brûlures | L8: Contact avec des surfaces chaudes/froides ou fluides à température extrême | M8: Brûlures thermiques | O8: Brûlures | P8: Contact avec des surfaces chaudes/froides ou fluides à température extrême | Q8: Brûlures thermiques | R8: Humain : port d'EPI (gants thermiques) Technique : signalisation surfaces chaudes
A9: Champs éléctromagnétiques | B9: Exposition à des champs électromagnétiques (appareils électriques, antennes, équipements) | C9: Echauffement des tissus | D9: Organisationnel : respect distances de sécurité, limitation exposition | F9: Coupures, piqûres | H9: Champs éléctromagnétiques | I9: Exposition à des champs électromagnétiques (appareils électriques, antennes, équipements) | K9: Champs éléctromagnétiques | L9: Exposition à des champs électromagnétiques (appareils électriques, antennes, équipements) | M9: Echauffement des tissus | O9: Champs éléctromagnétiques | P9: Exposition à des champs électromagnétiques (appareils électriques, antennes, équipements) | Q9: Echauffement des tissus | R9: Organisationnel : respect distances de sécurité, limitation exposition
A10: Chimiques | B10: Exposition aux produits chimiques (formol, solvants, désinfectants) | C10: Irritations, brûlures chimiques | D10: Humain : port d'EPI (gants, lunettes, blouse) Technique : manipulation sous hotte chimique Organisationnel : procédures (FDS), stockage adapté (armoire ventilée), étiquetage conforme | F10: Electriques | H10: Chimiques | I10: Exposition aux produits chimiques (formol, solvants, désinfectants) | K10: Chimiques | L10: Exposition aux produits chimiques (formol, solvants, désinfectants) | M10: Irritations, brûlures chimiques | O10: Chimiques | P10: Exposition aux produits chimiques (formol, solvants, désinfectants) | Q10: Irritations, brûlures chimiques | R10: Humain : port d'EPI (gants, lunettes, blouse) Technique : manipulation sous hotte chimique Organisationnel : procédures (FDS), stockage adapté (armoire ventilée), étiquetage conforme
A11: Chutes de hauteur | B11: Travail en hauteur (échelle, escabeau, plateforme) | C11: Fractures, traumatismes | D11: Humain : port d'EPI (chaussures sécurité) Technique : matériel sécurisé (garde-corps) | F11: Espaces confinés | H11: Chutes de hauteur | I11: Travail en hauteur (échelle, escabeau, plateforme) | K11: Chutes de hauteur | L11: Travail en hauteur (échelle, escabeau, plateforme) | M11: Fractures, traumatismes | O11: Chutes de hauteur | P11: Travail en hauteur (échelle, escabeau, plateforme) | Q11: Fractures, traumatismes | R11: Humain : port d'EPI (chaussures sécurité) Technique : matériel sécurisé (garde-corps)
A12: Chutes de plain-pied | B12: Sols glissants ou encombrement | C12: Entorses | D12: Organisationnel : rangement, signalisation | F12: Explosions | H12: Chutes de plain-pied | I12: Sols glissants ou encombrement | K12: Chutes de plain-pied | L12: Sols glissants ou encombrement | M12: Entorses | O12: Chutes de plain-pied | P12: Sols glissants ou encombrement | Q12: Entorses | R12: Organisationnel : rangement, signalisation
A13: Coupures, piqûres | B13: Utilisation d'objets tranchants, coupants ou piquants | C13: Plaies, infections | D13: Humain : port de gants Technique : matériel sécurisé | F13: Glissade, heurts | H13: Coupures, piqûres | I13: Utilisation d'objets tranchants, coupants ou piquants | K13: Coupures, piqûres | L13: Utilisation d'objets tranchants, coupants ou piquants | M13: Plaies, infections | O13: Coupures, piqûres | P13: Utilisation d'objets tranchants, coupants ou piquants | Q13: Plaies, infections | R13: Humain : port de gants Technique : matériel sécurisé
A14: Electriques | B14: Contact avec des installations ou équipements sous tension | C14: Electrisation, électrocution | D14: Humain : port de gants isolants Technique : vérification installations | F14: Incendie | H14: Electriques | I14: Contact avec des installations ou équipements sous tension | K14: Electriques | L14: Contact avec des installations ou équipements sous tension | M14: Electrisation, électrocution | O14: Electriques | P14: Contact avec des installations ou équipements sous tension | Q14: Electrisation, électrocution | R14: Humain : port de gants isolants Technique : vérification installations
A15: Espaces confinés | B15: Travail en espace clos ou mal ventilé | C15: Asphyxie, perte de connaissance | D15: Technique : ventilation Organisationnel : travail en binôme, procédures | F15: Liés aux circulations, déplacements | H15: Espaces confinés | I15: Travail en espace clos ou mal ventilé | K15: Espaces confinés | L15: Travail en espace clos ou mal ventilé | M15: Asphyxie, perte de connaissance | O15: Espaces confinés | P15: Travail en espace clos ou mal ventilé | Q15: Asphyxie, perte de connaissance | R15: Technique : ventilation Organisationnel : travail en binôme, procédures
A16: Explosions | B16: Présence ou manipulation de substances explosives ou de gaz sous pression | C16: Brûlures, projections | D16: Technique : ventilation Organisationnel : stockage réglementé | F16: Liés aux équipements de laboratoire | H16: Explosions | I16: Présence ou manipulation de substances explosives ou de gaz sous pression | K16: Explosions | L16: Présence ou manipulation de substances explosives ou de gaz sous pression | M16: Brûlures, projections | O16: Explosions | P16: Présence ou manipulation de substances explosives ou de gaz sous pression | Q16: Brûlures, projections | R16: Technique : ventilation Organisationnel : stockage réglementé
A17: Glissade, heurts | B17: Déplacement dans un environnement encombré ou présence d'obstacles | C17: Contusions, chocs | D17: Organisationnel : rangement, signalisation | F17: Lombalgie | H17: Glissade, heurts | I17: Déplacement dans un environnement encombré ou présence d'obstacles | K17: Glissade, heurts | L17: Déplacement dans un environnement encombré ou présence d'obstacles | M17: Contusions, chocs | O17: Glissade, heurts | P17: Déplacement dans un environnement encombré ou présence d'obstacles | Q17: Contusions, chocs | R17: Organisationnel : rangement, signalisation
A18: Incendie | B18: Présence de produits inflammables (solvants, gaz) ou de sources d'ignition (flamme, matériel électrique) | C18: Brûlures, intoxication aux fumées, asphyxie | D18: Technique : extincteurs Organisationnel : procédures, exercice évacuation incendie, formations | F18: Manutention manuelle/mécanique | H18: Incendie | I18: Présence de produits inflammables (solvants, gaz) ou de sources d'ignition (flamme, matériel électrique) | K18: Incendie | L18: Présence de produits inflammables (solvants, gaz) ou de sources d'ignition (flamme, matériel électrique) | M18: Brûlures, intoxication aux fumées, asphyxie | O18: Incendie | P18: Présence de produits inflammables (solvants, gaz) ou de sources d'ignition (flamme, matériel électrique) | Q18: Brûlures, intoxication aux fumées, asphyxie | R18: Technique : extincteurs Organisationnel : procédures, exercice évacuation incendie, formations
... A20: Liés aux équipements de laboratoire | B20: Manipulation de centrifugeuses (projection, rupture de rotor) | C20: Brûlures, projections, blessures | D20: Humain : port de gants Technique : maintenance, utilisation de rotors sécurisés et étanches Organisationnel : procédures, attente avant ouverture après centrifugation, utilisation conforme (équilibrage des charges) | F20: Psychosociaux (RPS) | H20: Liés aux équipements de laboratoire | I20: Manipulation de centrifugeuses (projection, rupture de rotor) | K20: Liés aux équipements de laboratoire | L20: Manipulation de centrifugeuses (projection, rupture de rotor) | M20: Brûlures, projections, blessures | O20: Liés aux équipements de laboratoire | P20: Manipulation de centrifugeuses (projection, rupture de rotor) | Q20: Brûlures, projections, blessures | R20: Humain : port de gants Technique : maintenance, utilisation de rotors sécurisés et étanches Organisationnel : procédures, attente avant ouverture après centrifugation, utilisation conforme (équilibrage des charges)
B21: Manipulation d'autoclave (brûlures, pression) | D21: Humain : port de gants thermiques Technique : maintenance Organisationnel : procédures, formation, limitation du personnel exposé | F21: Rayonnements optiques | H21: Liés aux équipements de laboratoire | I21: Manipulation d'autoclave (brûlures, pression) | K21: Liés aux équipements de laboratoire | L21: Manipulation d'autoclave (brûlures, pression) | M21: Brûlures, projections, blessures | O21: Liés aux équipements de laboratoire | P21: Manipulation d'autoclave (brûlures, pression) | Q21: Brûlures, projections, blessures | R21: Humain : port de gants thermiques Technique : maintenance Organisationnel : procédures, formation, limitation du personnel exposé
A22: Lombalgie | B22: Gestes répétitifs sollicitant le dos | C22: Douleurs lombaires, hernies discales | D22: Organisationnel : ergonomie, formation gestes/postures | F22: Routiers | H22: Lombalgie | I22: Gestes répétitifs sollicitant le dos | K22: Lombalgie | L22: Gestes répétitifs sollicitant le dos | M22: Douleurs lombaires, hernies discales | O22: Lombalgie | P22: Gestes répétitifs sollicitant le dos | Q22: Douleurs lombaires, hernies discales | R22: Organisationnel : ergonomie, formation gestes/postures
B23: Postures contraignantes | F23: Stress au travail | H23: Lombalgie | I23: Postures contraignantes | K23: Lombalgie | L23: Postures contraignantes | M23: Douleurs lombaires, hernies discales | O23: Lombalgie | P23: Postures contraignantes | Q23: Douleurs lombaires, hernies discales | R23: Organisationnel : ergonomie, formation gestes/postures
B24: Station debout ou assise prolongée | F24: Télétravail | H24: Lombalgie | I24: Station debout ou assise prolongée | K24: Lombalgie | L24: Station debout ou assise prolongée | M24: Douleurs lombaires, hernies discales | O24: Lombalgie | P24: Station debout ou assise prolongée | Q24: Douleurs lombaires, hernies discales | R24: Organisationnel : ergonomie, formation gestes/postures
A25: Manutention manuelle/mécanique | B25: Port de charges lourdes | C25: TMS, déchirures musculaires | D25: Humain : port de chaussures Organisationnel : formation | F25: Travail au froid | H25: Manutention manuelle/mécanique | I25: Port de charges lourdes | K25: Manutention manuelle/mécanique | L25: Port de charges lourdes | M25: TMS, déchirures musculaires | O25: Manutention manuelle/mécanique | P25: Port de charges lourdes | Q25: TMS, déchirures musculaires | R25: Humain : port de chaussures Organisationnel : formation
B26: Utilisation d’engins de manutention | F26: Travail isolé | H26: Manutention manuelle/mécanique | I26: Utilisation d’engins de manutention | K26: Manutention manuelle/mécanique | L26: Utilisation d’engins de manutention | M26: TMS, déchirures musculaires | O26: Manutention manuelle/mécanique | P26: Utilisation d’engins de manutention | Q26: TMS, déchirures musculaires | R26: Humain : port de chaussures Organisationnel : formation
A27: Oculaires | B27: Travail prolongé au microscope / écran | C27: Fatigue oculaire | D27: Technique : éclairage adapté Organisationnel : pauses | F27: Travail sur écran | H27: Oculaires | I27: Travail prolongé au microscope / écran | K27: Oculaires | L27: Travail prolongé au microscope / écran | M27: Fatigue oculaire | O27: Oculaires | P27: Travail prolongé au microscope / écran | Q27: Fatigue oculaire | R27: Technique : éclairage adapté Organisationnel : pauses
B28: Eclairage inadapté | F28: Troubles musculosquelettiques (TMS) | H28: Oculaires | I28: Eclairage inadapté | K28: Oculaires | L28: Eclairage inadapté | M28: Fatigue oculaire | O28: Oculaires | P28: Eclairage inadapté | Q28: Fatigue oculaire | R28: Technique : éclairage adapté Organisationnel : pauses
A29: Psychosociaux (RPS) | B29: Charge de travail excessive, pression | C29: Stress, troubles anxieux, dépression, burn | D29: Organisationnel : charge adaptée, management, écoute | F29: Vibrations | H29: Psychosociaux (RPS) | I29: Charge de travail excessive, pression | K29: Psychosociaux (RPS) | L29: Charge de travail excessive, pression | M29: Stress, troubles anxieux, dépression, burn | O29: Psychosociaux (RPS) | P29: Charge de travail excessive, pression | Q29: Stress, troubles anxieux, dépression, burn | R29: Organisationnel : charge adaptée, management, écoute
B30: Conflits | F30: Zoonoses | H30: Psychosociaux (RPS) | I30: Conflits | K30: Psychosociaux (RPS) | L30: Conflits | M30: Stress, troubles anxieux, dépression, burn | O30: Psychosociaux (RPS) | P30: Conflits | Q30: Stress, troubles anxieux, dépression, burn | R30: Organisationnel : charge adaptée, management, écoute
A31: Rayonnements optiques | B31: Exposition à des sources lumineuses intenses (UV, laser) | C31: Lésions oculaires, brûlures cutanées | D31: Humain : port de lunettes adaptées Organisationnel : procédures, accès limité | H31: Rayonnements optiques | I31: Exposition à des sources lumineuses intenses (UV, laser) | K31: Rayonnements optiques | L31: Exposition à des sources lumineuses intenses (UV, laser) | M31: Lésions oculaires, brûlures cutanées | O31: Rayonnements optiques | P31: Exposition à des sources lumineuses intenses (UV, laser) | Q31: Lésions oculaires, brûlures cutanées | R31: Humain : port de lunettes adaptées Organisationnel : procédures, accès limité
A32: Routiers | B32: Utilisation de véhicules pour déplacements professionnels | C32: Accidents de la route | D32: Humain : permis de conduire du conducteur Organisationnel : planification | H32: Routiers | I32: Utilisation de véhicules pour déplacements professionnels | K32: Routiers | L32: Utilisation de véhicules pour déplacements professionnels | M32: Accidents de la route | O32: Routiers | P32: Utilisation de véhicules pour déplacements professionnels | Q32: Accidents de la route | R32: Humain : permis de conduire du conducteur Organisationnel : planification
A33: Stress au travail | B33: Surchage de travail, charge mentale, pression liée aux délais de rendu des résultats | C33: Fatigue, baisse de vigilance, trouble du sommeil | D33: Organisationnel : priorisation, suivi médecin du travail | H33: Stress au travail | I33: Surchage de travail, charge mentale, pression liée aux délais de rendu des résultats | K33: Stress au travail | L33: Surchage de travail, charge mentale, pression liée aux délais de rendu des résultats | M33: Fatigue, baisse de vigilance, trouble du sommeil | O33: Stress au travail | P33: Surchage de travail, charge mentale, pression liée aux délais de rendu des résultats | Q33: Fatigue, baisse de vigilance, trouble du sommeil | R33: Organisationnel : priorisation, suivi médecin du travail
A34: Télétravail | B34: Travail à distance prolongé | C34: Isolement , troubles psychosociaux | D34: Organisationnel : suivi régulier, ergonomie poste | H34: Télétravail | I34: Travail à distance prolongé | K34: Télétravail | L34: Travail à distance prolongé | M34: Isolement , troubles psychosociaux | O34: Télétravail | P34: Travail à distance prolongé | Q34: Isolement , troubles psychosociaux | R34: Organisationnel : suivi régulier, ergonomie poste
A35: Travail au froid | B35: Exposition prolongée à un environnement froid | C35: Hypothermie, troubles circulatoires | D35: Humain : port de vêtements thermiques Organisationnel : pauses | H35: Travail au froid | I35: Exposition prolongée à un environnement froid | K35: Travail au froid | L35: Exposition prolongée à un environnement froid | M35: Hypothermie, troubles circulatoires | O35: Travail au froid | P35: Exposition prolongée à un environnement froid | Q35: Hypothermie, troubles circulatoires | R35: Humain : port de vêtements thermiques Organisationnel : pauses
A36: Travail isolé | B36: Travail seul en laboratoire | C36: Absence de secours rapide, aggravation d'accidents | D36: Organisationnel : système d’alerte (téléphone, DATI, DAE), procédures DATI, horaires encadrés | H36: Travail isolé | I36: Travail seul en laboratoire | K36: Travail isolé | L36: Travail seul en laboratoire | M36: Absence de secours rapide, aggravation d'accidents | O36: Travail isolé | P36: Travail seul en laboratoire | Q36: Absence de secours rapide, aggravation d'accidents | R36: Organisationnel : système d’alerte (téléphone, DATI, DAE), procédures DATI, horaires encadrés
A37: Travail sur écran | B37: Travail prolongé au microscope / écran | C37: Fatigue visuelle, maux de tête, TMS | D37: Technique : sièges ergonomiques, réglage hauteur plan de travail, éclairage adapté Organisationnel : alternance des tâches, pauses | H37: Travail sur écran | I37: Travail prolongé au microscope / écran | K37: Travail sur écran | L37: Travail prolongé au microscope / écran | M37: Fatigue visuelle, maux de tête, TMS | O37: Travail sur écran | P37: Travail prolongé au microscope / écran | Q37: Fatigue visuelle, maux de tête, TMS | R37: Technique : sièges ergonomiques, réglage hauteur plan de travail, éclairage adapté Organisationnel : alternance des tâches, pauses
A38: Troubles musculosquelettiques (TMS) | B38: Gestes répétitifs | C38: Douleurs chroniques, TMS | D38: Technique : pipettes électroniques Organisationnel : rotation tâches, pauses régulières, ergonomie des paillasses, formation gestes et postures | H38: Troubles musculosquelettiques (TMS) | I38: Gestes répétitifs | K38: Troubles musculosquelettiques (TMS) | L38: Gestes répétitifs | M38: Douleurs chroniques, TMS | O38: Troubles musculosquelettiques (TMS) | P38: Gestes répétitifs | Q38: Douleurs chroniques, TMS | R38: Technique : pipettes électroniques Organisationnel : rotation tâches, pauses régulières, ergonomie des paillasses, formation gestes et postures
B39: Port de charges lourdes, mauvaise posture | H39: Troubles musculosquelettiques (TMS) | I39: Port de charges lourdes, mauvaise posture | K39: Troubles musculosquelettiques (TMS) | L39: Port de charges lourdes, mauvaise posture | M39: Douleurs chroniques, TMS | O39: Troubles musculosquelettiques (TMS) | P39: Port de charges lourdes, mauvaise posture | Q39: Douleurs chroniques, TMS | R39: Technique : pipettes électroniques Organisationnel : rotation tâches, pauses régulières, ergonomie des paillasses, formation gestes et postures
A40: Vibrations | B40: Utilisation d’équipements vibrants (machines, outils) | C40: Troubles circulatoires, nerveux | D40: Humain : port de gants anti-vibration Organisationnel : limitation exposition | H40: Vibrations | I40: Utilisation d’équipements vibrants (machines, outils) | K40: Vibrations | L40: Utilisation d’équipements vibrants (machines, outils) | M40: Troubles circulatoires, nerveux | O40: Vibrations | P40: Utilisation d’équipements vibrants (machines, outils) | Q40: Troubles circulatoires, nerveux | R40: Humain : port de gants anti-vibration Organisationnel : limitation exposition
A41: Zoonoses | B41: Manipulation de germes transmissible à l'homme | C41: Maladies infectieuses, fièvre | D41: Humain : port d'EPI (gants, blouse, masque, lunette) Organisationnel : procédures | H41: Zoonoses | I41: Manipulation de germes transmissible à l'homme | K41: Zoonoses | L41: Manipulation de germes transmissible à l'homme | M41: Maladies infectieuses, fièvre | O41: Zoonoses | P41: Manipulation de germes transmissible à l'homme | Q41: Maladies infectieuses, fièvre | R41: Humain : port d'EPI (gants, blouse, masque, lunette) Organisationnel : procédures

Sheet Annexe
A1: Cotation de la criticité = | M1: COTATION DU NIVEAU DE RISQUE =
A2: Fréquence | D2: x | E2: Gravité | M2: croisement du chiffre de la criticité avec le chiffre du niveau de protection
A3: Fréquence | B3: Rare | C3: 2 | E3: Gravité | F3: Faible | G3: 2 | M3: 256 | N3: élevé | O3: élevé | P3: élevé | Q3: élevé | R3: élevé | S3: élevé | T3: élevé
B4: Occasionnelle | C4: 4 | F4: Moyenne | G4: 4 | M4: 192 | N4: élevé | O4: élevé | P4: élevé | Q4: élevé | R4: élevé | S4: élevé | T4: modéré
B5: Fréquente | C5: 8 | F5: Grave | G5: 8 | M5: 160 | N5: élevé | O5: élevé | P5: élevé | Q5: élevé | R5: élevé | S5: modéré | T5: modéré
B6: Très fréquent | C6: 16 | F6: Très grave | G6: 16 | M6: 128 | N6: élevé | O6: élevé | P6: élevé | Q6: élevé | R6: modéré | S6: modéré | T6: modéré
M7: 96 | N7: élevé | O7: élevé | P7: élevé | Q7: modéré | R7: modéré | S7: modéré | T7: modéré
M8: 80 | N8: élevé | O8: élevé | P8: modéré | Q8: modéré | R8: modéré | S8: modéré | T8: modéré
B9: 16 | C9: 32 | D9: 64 | E9: 128 | F9: 256 | M9: 64 | N9: élevé | O9: modéré | P9: modéré | Q9: modéré | R9: modéré | S9: modéré | T9: modéré
B10: 8 | C10: 16 | D10: 32 | E10: 64 | F10: 128 | M10: 48 | N10: modéré | O10: modéré | P10: modéré | Q10: modéré | R10: modéré | S10: modéré | T10: modéré
B11: 4 | C11: 8 | D11: 16 | E11: 32 | F11: 64 | M11: 40 | N11: modéré | O11: modéré | P11: modéré | Q11: modéré | R11: modéré | S11: modéré | T11: faible
B12: 2 | C12: 4 | D12: 8 | E12: 16 | F12: 32 | M12: 32 | N12: modéré | O12: modéré | P12: modéré | Q12: modéré | R12: modéré | S12: faible | T12: faible
B13: Fréquence | C13: 2 | D13: 4 | E13: 8 | F13: 16 | M13: 24 | N13: modéré | O13: modéré | P13: modéré | Q13: modéré | R13: faible | S13: faible | T13: faible
B14: Gravité | M14: 20 | N14: modéré | O14: modéré | P14: modéré | Q14: faible | R14: faible | S14: faible | T14: faible
M15: 16 | N15: modéré | O15: modéré | P15: faible | Q15: faible | R15: faible | S15: faible | T15: faible
M16: 12 | N16: modéré | O16: faible | P16: faible | Q16: faible | R16: faible | S16: faible | T16: faible
M17: 8 | N17: faible | O17: faible | P17: faible | Q17: faible | R17: faible | S17: faible | T17: faible
A18: Cotation du niveau de protection = | M18: 4 | N18: faible | O18: faible | P18: faible | Q18: faible | R18: faible | S18: faible | T18: faible
A19: Type de moyen de prévention | D19: x | E19: Efficacité | M19: Criticité Protection | N19: 0 | O19: 1 | P19: 2 | Q19: 3 | R19: 4 | S19: 5 | T19: 6
A20: Type de moyens de prévention | B20: Inexistant | C20: 0 | E20: Efficacité | F20: Inopérant | G20: 0
B21: O ou T ou H | C21: 1 | F21: Peu Efficace | G21: 1
B22: O+T ; O+H ; T+H | C22: 2 | F22: Efficace | G22: 2
B23: O+T+H | C23: 3
N24: Légende :
B26: 3 | C26: 0 | D26: 3 | E26: 6 | O26: Risque faible
B27: 2 | C27: 0 | D27: 2 | E27: 4 | O27: Risque modéré
B28: 1 | C28: 0 | D28: 1 | E28: 2 | O28: Risque élevé
B29: 0 | C29: 0 | D29: 0 | E29: 0
B30: Moyen de prévention EFFICACITE | C30: 0 | D30: 1 | E30: 2
