Workbook

Sheet export_societes
A1: Type de client | B1: Nom | C1: Email | D1: Téléphone | E1: Contacts | F1: ADRESSE PARTIE 1 | G1: CODE POSTAL | H1: VILLE | I1: CODE PAYS | J1: Note
A2: magasin de sport franchisé | B2: ad | D2: vvgzregrt | F2: 1 | G2: 2 | H2: 3 | I2: 4

Sheet export_opportunites
A1: Client / Prospect | B1: Etape
A2: ad | B2: 1er contact fait

Sheet statut couleur
A1: type seller | B1: status seller | C1: associed color | D1: hex
A2: magasin de sport franchisé | B2: non contacté | D2: #00B0F0
A3: magasin de sport indépendant | B3: 1er contact fait | D3: #0070C0
A4: magasin de vélo | B4: echec suite premier contact | D4: #FF0000
A5: magasin de running | B5: rdv pris | D5: #C6EOB4
A6: magasin de sport de combat | B6: echec suite rdv | D6: #C00000
A7: parapharmacie | B7: depot vente ok | D7: #548235
A8: pharmacie | B8: animation prévu | D8: #92D050
A9: magain de produit bio/naturelle | B9: animation faite | D9: #00B050
A10: magasin equestre | B10: 1 ere vente acquise | D10: #000000
B11: reassort vente | D11: #000000

Sheet groupage
A1: =export_societes!A1 -> Type de client | B1: =export_societes!B1 -> Nom | C1: =export_societes!C1 -> Email | D1: =export_societes!D1 -> Téléphone | E1: =export_societes!E1 -> Contacts | F1: =export_societes!F1 -> ADRESSE PARTIE 1 | G1: =export_societes!G1 -> CODE POSTAL | H1: =export_societes!H1 -> VILLE | I1: =export_societes!I1 -> CODE PAYS | J1: note | K1: statut | L1: hex
A2: =IFERROR(IF(export_societes!A2="","",export_societes!A2),"") -> magasin de sport franchisé | B2: =IFERROR(IF(export_societes!B2="","",export_societes!B2),"") -> ad | C2: =IFERROR(IF(export_societes!C2="","",export_societes!C2),"") | D2: =IFERROR(IF(export_societes!D2="","",export_societes!D2),"") -> vvgzregrt | E2: =IFERROR(IF(export_societes!E2="","",export_societes!E2),"") | F2: =IFERROR(IF(export_societes!F2="","",export_societes!F2),"") -> 1 | G2: =IFERROR(IF(export_societes!G2="","",export_societes!G2),"") -> 2 | H2: =IFERROR(IF(export_societes!H2="","",export_societes!H2),"") -> 3 | I2: =IFERROR(IF(export_societes!I2="","",IF(export_societes!I2="fr","France","")),"") | J2: =IFERROR(IF(export_societes!J2="","",export_societes!J2),"") | K2: =IFERROR(VLOOKUP(B2,export_opportunites!A2:B25,2),"") -> 1er contact fait | L2: =IFERROR(INDEX('statut couleur'!B1:D16,MATCH(groupage!K2,'statut couleur'!B:B,0),3),"") -> #0070C0
M3: =IFERROR(IF(export_societes!A3="","",export_societes!A3),"") | N3: =IFERROR(IF(export_societes!B3="","",export_societes!B3),"") | O3: =IFERROR(IF(export_societes!C3="","",export_societes!C3),"") | P3: =IFERROR(IF(export_societes!D3="","",export_societes!D3),"") | Q3: =IFERROR(IF(export_societes!E3="","",export_societes!E3),"") | R3: =IFERROR(IF(export_societes!F3="","",export_societes!F3),"") | S3: =IFERROR(IF(export_societes!G3="","",export_societes!G3),"") | T3: =IFERROR(IF(export_societes!H3="","",export_societes!H3),"") | U3: =IFERROR(IF(export_societes!I3="","",IF(export_societes!I3="fr","France","")),"") | V3: =IFERROR(IF(export_societes!J3="","",export_societes!J3),"") | W3: =IFERROR(VLOOKUP(N3,export_opportunites!A3:B26,2),"") | X3: =IFERROR(INDEX('statut couleur'!B2:D17,MATCH(groupage!W3,'statut couleur'!B:B,0),3),"")
M4: =IFERROR(IF(export_societes!A4="","",export_societes!A4),"") | N4: =IFERROR(IF(export_societes!B4="","",export_societes!B4),"") | O4: =IFERROR(IF(export_societes!C4="","",export_societes!C4),"") | P4: =IFERROR(IF(export_societes!D4="","",export_societes!D4),"") | Q4: =IFERROR(IF(export_societes!E4="","",export_societes!E4),"") | R4: =IFERROR(IF(export_societes!F4="","",export_societes!F4),"") | S4: =IFERROR(IF(export_societes!G4="","",export_societes!G4),"") | T4: =IFERROR(IF(export_societes!H4="","",export_societes!H4),"") | U4: =IFERROR(IF(export_societes!I4="","",IF(export_societes!I4="fr","France","")),"") | V4: =IFERROR(IF(export_societes!J4="","",export_societes!J4),"") | W4: =IFERROR(VLOOKUP(N4,export_opportunites!A4:B27,2),"") | X4: =IFERROR(INDEX('statut couleur'!B3:D18,MATCH(groupage!W4,'statut couleur'!B:B,0),3),"")
A5: Type de client | B5: Nom | C5: Email | D5: Téléphone | E5: Contacts | F5: ADRESSE PARTIE 1 | G5: CODE POSTAL | H5: VILLE | I5: CODE PAYS | J5: Note | K5: Statut | L5: hex | M5: =IFERROR(IF(export_societes!A5="","",export_societes!A5),"") | N5: =IFERROR(IF(export_societes!B5="","",export_societes!B5),"") | O5: =IFERROR(IF(export_societes!C5="","",export_societes!C5),"") | P5: =IFERROR(IF(export_societes!D5="","",export_societes!D5),"") | Q5: =IFERROR(IF(export_societes!E5="","",export_societes!E5),"") | R5: =IFERROR(IF(export_societes!F5="","",export_societes!F5),"") | S5: =IFERROR(IF(export_societes!G5="","",export_societes!G5),"") | T5: =IFERROR(IF(export_societes!H5="","",export_societes!H5),"") | U5: =IFERROR(IF(export_societes!I5="","",IF(export_societes!I5="fr","France","")),"") | V5: =IFERROR(IF(export_societes!J5="","",export_societes!J5),"") | W5: =IFERROR(VLOOKUP(N5,export_opportunites!A5:B28,2),"") | X5: =IFERROR(INDEX('statut couleur'!B4:D19,MATCH(groupage!W5,'statut couleur'!B:B,0),3),"")
A6: magasin de sport franchisé | B6: ad | D6: vvgzregrt | F6: 1 | G6: 2 | H6: 3 | I6: 4 | K6: 1er contact fait | L6: #0070C0 | M6: =IFERROR(IF(export_societes!A6="","",export_societes!A6),"") | N6: =IFERROR(IF(export_societes!B6="","",export_societes!B6),"") | O6: =IFERROR(IF(export_societes!C6="","",export_societes!C6),"") | P6: =IFERROR(IF(export_societes!D6="","",export_societes!D6),"") | Q6: =IFERROR(IF(export_societes!E6="","",export_societes!E6),"") | R6: =IFERROR(IF(export_societes!F6="","",export_societes!F6),"") | S6: =IFERROR(IF(export_societes!G6="","",export_societes!G6),"") | T6: =IFERROR(IF(export_societes!H6="","",export_societes!H6),"") | U6: =IFERROR(IF(export_societes!I6="","",IF(export_societes!I6="fr","France","")),"") | V6: =IFERROR(IF(export_societes!J6="","",export_societes!J6),"") | W6: =IFERROR(VLOOKUP(N6,export_opportunites!A6:B29,2),"") | X6: =IFERROR(INDEX('statut couleur'!B5:D20,MATCH(groupage!W6,'statut couleur'!B:B,0),3),"")
M7: =IFERROR(IF(export_societes!A7="","",export_societes!A7),"") | N7: =IFERROR(IF(export_societes!B7="","",export_societes!B7),"") | O7: =IFERROR(IF(export_societes!C7="","",export_societes!C7),"") | P7: =IFERROR(IF(export_societes!D7="","",export_societes!D7),"") | Q7: =IFERROR(IF(export_societes!E7="","",export_societes!E7),"") | R7: =IFERROR(IF(export_societes!F7="","",export_societes!F7),"") | S7: =IFERROR(IF(export_societes!G7="","",export_societes!G7),"") | T7: =IFERROR(IF(export_societes!H7="","",export_societes!H7),"") | U7: =IFERROR(IF(export_societes!I7="","",IF(export_societes!I7="fr","France","")),"") | V7: =IFERROR(IF(export_societes!J7="","",export_societes!J7),"") | W7: =IFERROR(VLOOKUP(N7,export_opportunites!A7:B30,2),"") | X7: =IFERROR(INDEX('statut couleur'!B6:D21,MATCH(groupage!W7,'statut couleur'!B:B,0),3),"")
M8: =IFERROR(IF(export_societes!A8="","",export_societes!A8),"") | N8: =IFERROR(IF(export_societes!B8="","",export_societes!B8),"") | O8: =IFERROR(IF(export_societes!C8="","",export_societes!C8),"") | P8: =IFERROR(IF(export_societes!D8="","",export_societes!D8),"") | Q8: =IFERROR(IF(export_societes!E8="","",export_societes!E8),"") | R8: =IFERROR(IF(export_societes!F8="","",export_societes!F8),"") | S8: =IFERROR(IF(export_societes!G8="","",export_societes!G8),"") | T8: =IFERROR(IF(export_societes!H8="","",export_societes!H8),"") | U8: =IFERROR(IF(export_societes!I8="","",IF(export_societes!I8="fr","France","")),"") | V8: =IFERROR(IF(export_societes!J8="","",export_societes!J8),"") | W8: =IFERROR(VLOOKUP(N8,export_opportunites!A8:B31,2),"") | X8: =IFERROR(INDEX('statut couleur'!B7:D22,MATCH(groupage!W8,'statut couleur'!B:B,0),3),"")
M9: =IFERROR(IF(export_societes!A9="","",export_societes!A9),"") | N9: =IFERROR(IF(export_societes!B9="","",export_societes!B9),"") | O9: =IFERROR(IF(export_societes!C9="","",export_societes!C9),"") | P9: =IFERROR(IF(export_societes!D9="","",export_societes!D9),"") | Q9: =IFERROR(IF(export_societes!E9="","",export_societes!E9),"") | R9: =IFERROR(IF(export_societes!F9="","",export_societes!F9),"") | S9: =IFERROR(IF(export_societes!G9="","",export_societes!G9),"") | T9: =IFERROR(IF(export_societes!H9="","",export_societes!H9),"") | U9: =IFERROR(IF(export_societes!I9="","",IF(export_societes!I9="fr","France","")),"") | V9: =IFERROR(IF(export_societes!J9="","",export_societes!J9),"") | W9: =IFERROR(VLOOKUP(N9,export_opportunites!A9:B32,2),"") | X9: =IFERROR(INDEX('statut couleur'!B8:D23,MATCH(groupage!W9,'statut couleur'!B:B,0),3),"")
M10: =IFERROR(IF(export_societes!A10="","",export_societes!A10),"") | N10: =IFERROR(IF(export_societes!B10="","",export_societes!B10),"") | O10: =IFERROR(IF(export_societes!C10="","",export_societes!C10),"") | P10: =IFERROR(IF(export_societes!D10="","",export_societes!D10),"") | Q10: =IFERROR(IF(export_societes!E10="","",export_societes!E10),"") | R10: =IFERROR(IF(export_societes!F10="","",export_societes!F10),"") | S10: =IFERROR(IF(export_societes!G10="","",export_societes!G10),"") | T10: =IFERROR(IF(export_societes!H10="","",export_societes!H10),"") | U10: =IFERROR(IF(export_societes!I10="","",IF(export_societes!I10="fr","France","")),"") | V10: =IFERROR(IF(export_societes!J10="","",export_societes!J10),"") | W10: =IFERROR(VLOOKUP(N10,export_opportunites!A10:B33,2),"") | X10: =IFERROR(INDEX('statut couleur'!B9:D24,MATCH(groupage!W10,'statut couleur'!B:B,0),3),"")
M11: =IFERROR(IF(export_societes!A11="","",export_societes!A11),"") | N11: =IFERROR(IF(export_societes!B11="","",export_societes!B11),"") | O11: =IFERROR(IF(export_societes!C11="","",export_societes!C11),"") | P11: =IFERROR(IF(export_societes!D11="","",export_societes!D11),"") | Q11: =IFERROR(IF(export_societes!E11="","",export_societes!E11),"") | R11: =IFERROR(IF(export_societes!F11="","",export_societes!F11),"") | S11: =IFERROR(IF(export_societes!G11="","",export_societes!G11),"") | T11: =IFERROR(IF(export_societes!H11="","",export_societes!H11),"") | U11: =IFERROR(IF(export_societes!I11="","",IF(export_societes!I11="fr","France","")),"") | V11: =IFERROR(IF(export_societes!J11="","",export_societes!J11),"") | W11: =IFERROR(VLOOKUP(N11,export_opportunites!A11:B34,2),"") | X11: =IFERROR(INDEX('statut couleur'!B10:D25,MATCH(groupage!W11,'statut couleur'!B:B,0),3),"")
M12: =IFERROR(IF(export_societes!A12="","",export_societes!A12),"") | N12: =IFERROR(IF(export_societes!B12="","",export_societes!B12),"") | O12: =IFERROR(IF(export_societes!C12="","",export_societes!C12),"") | P12: =IFERROR(IF(export_societes!D12="","",export_societes!D12),"") | Q12: =IFERROR(IF(export_societes!E12="","",export_societes!E12),"") | R12: =IFERROR(IF(export_societes!F12="","",export_societes!F12),"") | S12: =IFERROR(IF(export_societes!G12="","",export_societes!G12),"") | T12: =IFERROR(IF(export_societes!H12="","",export_societes!H12),"") | U12: =IFERROR(IF(export_societes!I12="","",IF(export_societes!I12="fr","France","")),"") | V12: =IFERROR(IF(export_societes!J12="","",export_societes!J12),"") | W12: =IFERROR(VLOOKUP(N12,export_opportunites!A12:B35,2),"") | X12: =IFERROR(INDEX('statut couleur'!B11:D26,MATCH(groupage!W12,'statut couleur'!B:B,0),3),"")
M13: =IFERROR(IF(export_societes!A13="","",export_societes!A13),"") | N13: =IFERROR(IF(export_societes!B13="","",export_societes!B13),"") | O13: =IFERROR(IF(export_societes!C13="","",export_societes!C13),"") | P13: =IFERROR(IF(export_societes!D13="","",export_societes!D13),"") | Q13: =IFERROR(IF(export_societes!E13="","",export_societes!E13),"") | R13: =IFERROR(IF(export_societes!F13="","",export_societes!F13),"") | S13: =IFERROR(IF(export_societes!G13="","",export_societes!G13),"") | T13: =IFERROR(IF(export_societes!H13="","",export_societes!H13),"") | U13: =IFERROR(IF(export_societes!I13="","",IF(export_societes!I13="fr","France","")),"") | V13: =IFERROR(IF(export_societes!J13="","",export_societes!J13),"") | W13: =IFERROR(VLOOKUP(N13,export_opportunites!A13:B36,2),"") | X13: =IFERROR(INDEX('statut couleur'!B12:D27,MATCH(groupage!W13,'statut couleur'!B:B,0),3),"")
M14: =IFERROR(IF(export_societes!A14="","",export_societes!A14),"") | N14: =IFERROR(IF(export_societes!B14="","",export_societes!B14),"") | O14: =IFERROR(IF(export_societes!C14="","",export_societes!C14),"") | P14: =IFERROR(IF(export_societes!D14="","",export_societes!D14),"") | Q14: =IFERROR(IF(export_societes!E14="","",export_societes!E14),"") | R14: =IFERROR(IF(export_societes!F14="","",export_societes!F14),"") | S14: =IFERROR(IF(export_societes!G14="","",export_societes!G14),"") | T14: =IFERROR(IF(export_societes!H14="","",export_societes!H14),"") | U14: =IFERROR(IF(export_societes!I14="","",IF(export_societes!I14="fr","France","")),"") | V14: =IFERROR(IF(export_societes!J14="","",export_societes!J14),"") | W14: =IFERROR(VLOOKUP(N14,export_opportunites!A14:B37,2),"") | X14: =IFERROR(INDEX('statut couleur'!B13:D28,MATCH(groupage!W14,'statut couleur'!B:B,0),3),"")
M15: =IFERROR(IF(export_societes!A15="","",export_societes!A15),"") | N15: =IFERROR(IF(export_societes!B15="","",export_societes!B15),"") | O15: =IFERROR(IF(export_societes!C15="","",export_societes!C15),"") | P15: =IFERROR(IF(export_societes!D15="","",export_societes!D15),"") | Q15: =IFERROR(IF(export_societes!E15="","",export_societes!E15),"") | R15: =IFERROR(IF(export_societes!F15="","",export_societes!F15),"") | S15: =IFERROR(IF(export_societes!G15="","",export_societes!G15),"") | T15: =IFERROR(IF(export_societes!H15="","",export_societes!H15),"") | U15: =IFERROR(IF(export_societes!I15="","",IF(export_societes!I15="fr","France","")),"") | V15: =IFERROR(IF(export_societes!J15="","",export_societes!J15),"") | W15: =IFERROR(VLOOKUP(N15,export_opportunites!A15:B38,2),"") | X15: =IFERROR(INDEX('statut couleur'!B14:D29,MATCH(groupage!W15,'statut couleur'!B:B,0),3),"")
M16: =IFERROR(IF(export_societes!A16="","",export_societes!A16),"") | N16: =IFERROR(IF(export_societes!B16="","",export_societes!B16),"") | O16: =IFERROR(IF(export_societes!C16="","",export_societes!C16),"") | P16: =IFERROR(IF(export_societes!D16="","",export_societes!D16),"") | Q16: =IFERROR(IF(export_societes!E16="","",export_societes!E16),"") | R16: =IFERROR(IF(export_societes!F16="","",export_societes!F16),"") | S16: =IFERROR(IF(export_societes!G16="","",export_societes!G16),"") | T16: =IFERROR(IF(export_societes!H16="","",export_societes!H16),"") | U16: =IFERROR(IF(export_societes!I16="","",IF(export_societes!I16="fr","France","")),"") | V16: =IFERROR(IF(export_societes!J16="","",export_societes!J16),"") | W16: =IFERROR(VLOOKUP(N16,export_opportunites!A16:B39,2),"") | X16: =IFERROR(INDEX('statut couleur'!B15:D30,MATCH(groupage!W16,'statut couleur'!B:B,0),3),"")
M17: =IFERROR(IF(export_societes!A17="","",export_societes!A17),"") | N17: =IFERROR(IF(export_societes!B17="","",export_societes!B17),"") | O17: =IFERROR(IF(export_societes!C17="","",export_societes!C17),"") | P17: =IFERROR(IF(export_societes!D17="","",export_societes!D17),"") | Q17: =IFERROR(IF(export_societes!E17="","",export_societes!E17),"") | R17: =IFERROR(IF(export_societes!F17="","",export_societes!F17),"") | S17: =IFERROR(IF(export_societes!G17="","",export_societes!G17),"") | T17: =IFERROR(IF(export_societes!H17="","",export_societes!H17),"") | U17: =IFERROR(IF(export_societes!I17="","",IF(export_societes!I17="fr","France","")),"") | V17: =IFERROR(IF(export_societes!J17="","",export_societes!J17),"") | W17: =IFERROR(VLOOKUP(N17,export_opportunites!A17:B40,2),"") | X17: =IFERROR(INDEX('statut couleur'!B16:D31,MATCH(groupage!W17,'statut couleur'!B:B,0),3),"")
M18: =IFERROR(IF(export_societes!A18="","",export_societes!A18),"") | N18: =IFERROR(IF(export_societes!B18="","",export_societes!B18),"") | O18: =IFERROR(IF(export_societes!C18="","",export_societes!C18),"") | P18: =IFERROR(IF(export_societes!D18="","",export_societes!D18),"") | Q18: =IFERROR(IF(export_societes!E18="","",export_societes!E18),"") | R18: =IFERROR(IF(export_societes!F18="","",export_societes!F18),"") | S18: =IFERROR(IF(export_societes!G18="","",export_societes!G18),"") | T18: =IFERROR(IF(export_societes!H18="","",export_societes!H18),"") | U18: =IFERROR(IF(export_societes!I18="","",IF(export_societes!I18="fr","France","")),"") | V18: =IFERROR(IF(export_societes!J18="","",export_societes!J18),"") | W18: =IFERROR(VLOOKUP(N18,export_opportunites!A18:B41,2),"") | X18: =IFERROR(INDEX('statut couleur'!B17:D32,MATCH(groupage!W18,'statut couleur'!B:B,0),3),"")
... M387: =IFERROR(IF(export_societes!A387="","",export_societes!A387),"") | N387: =IFERROR(IF(export_societes!B387="","",export_societes!B387),"") | O387: =IFERROR(IF(export_societes!C387="","",export_societes!C387),"") | P387: =IFERROR(IF(export_societes!D387="","",export_societes!D387),"") | Q387: =IFERROR(IF(export_societes!E387="","",export_societes!E387),"") | R387: =IFERROR(IF(export_societes!F387="","",export_societes!F387),"") | S387: =IFERROR(IF(export_societes!G387="","",export_societes!G387),"") | T387: =IFERROR(IF(export_societes!H387="","",export_societes!H387),"") | U387: =IFERROR(IF(export_societes!I387="","",IF(export_societes!I387="fr","France","")),"") | V387: =IFERROR(IF(export_societes!J387="","",export_societes!J387),"") | W387: =IFERROR(VLOOKUP(N387,export_opportunites!A387:B410,2),"") | X387: =IFERROR(INDEX('statut couleur'!B386:D401,MATCH(groupage!W387,'statut couleur'!B:B,0),3),"")

Sheet export sheet for power bi
A1: export_societes!A1 | B1: info bulle | C1: adresse | D1: hex
A2: =IFERROR(IF(groupage!B2<>"",groupage!A2,""),"") -> magasin de sport franchisé | B2: =IFERROR(IF(groupage!B2<>"",CONCATENATE(groupage!B2," ",groupage!D2," ",groupage!E2," ",groupage!J2),""),"") -> ad vvgzregrt | C2: =IFERROR(IF(groupage!B2<>"",CONCATENATE(groupage!F2," ",groupage!G2," ",groupage!H2," ",groupage!I2),""),"") -> 1 2 3 | D2: =IFERROR(INDEX('statut couleur'!B1:D16,MATCH(groupage!K2,'statut couleur'!B:B,0),3),"") -> #0070C0
A4: Type de client | B4: Info bulle | C4: Adfesse | D4: hex
A5: magasin de sport franchisé | B5: ad vvgzregrt | C5: 1 2 3 4 | D5: #0070C0
B618: =IFERROR(IF(groupage!N618<>"",CONCATENATE(groupage!N618," ",groupage!P618," ",groupage!Q618," ",groupage!V618),""),"") | C618: =IFERROR(IF(groupage!N618<>"",CONCATENATE(groupage!R618," ",groupage!S618," ",groupage!T618," ",groupage!U618),""),"") | D618: =IFERROR(INDEX('statut couleur'!B617:D632,MATCH(groupage!W618,'statut couleur'!B:B,0),3),"")
B619: =IFERROR(IF(groupage!N619<>"",CONCATENATE(groupage!N619," ",groupage!P619," ",groupage!Q619," ",groupage!V619),""),"") | C619: =IFERROR(IF(groupage!N619<>"",CONCATENATE(groupage!R619," ",groupage!S619," ",groupage!T619," ",groupage!U619),""),"") | D619: =IFERROR(INDEX('statut couleur'!B618:D633,MATCH(groupage!W619,'statut couleur'!B:B,0),3),"")
B620: =IFERROR(IF(groupage!N620<>"",CONCATENATE(groupage!N620," ",groupage!P620," ",groupage!Q620," ",groupage!V620),""),"") | C620: =IFERROR(IF(groupage!N620<>"",CONCATENATE(groupage!R620," ",groupage!S620," ",groupage!T620," ",groupage!U620),""),"") | D620: =IFERROR(INDEX('statut couleur'!B619:D634,MATCH(groupage!W620,'statut couleur'!B:B,0),3),"")
B621: =IFERROR(IF(groupage!N621<>"",CONCATENATE(groupage!N621," ",groupage!P621," ",groupage!Q621," ",groupage!V621),""),"") | C621: =IFERROR(IF(groupage!N621<>"",CONCATENATE(groupage!R621," ",groupage!S621," ",groupage!T621," ",groupage!U621),""),"") | D621: =IFERROR(INDEX('statut couleur'!B620:D635,MATCH(groupage!W621,'statut couleur'!B:B,0),3),"")
B622: =IFERROR(IF(groupage!N622<>"",CONCATENATE(groupage!N622," ",groupage!P622," ",groupage!Q622," ",groupage!V622),""),"") | C622: =IFERROR(IF(groupage!N622<>"",CONCATENATE(groupage!R622," ",groupage!S622," ",groupage!T622," ",groupage!U622),""),"") | D622: =IFERROR(INDEX('statut couleur'!B621:D636,MATCH(groupage!W622,'statut couleur'!B:B,0),3),"")
B623: =IFERROR(IF(groupage!N623<>"",CONCATENATE(groupage!N623," ",groupage!P623," ",groupage!Q623," ",groupage!V623),""),"") | C623: =IFERROR(IF(groupage!N623<>"",CONCATENATE(groupage!R623," ",groupage!S623," ",groupage!T623," ",groupage!U623),""),"") | D623: =IFERROR(INDEX('statut couleur'!B622:D637,MATCH(groupage!W623,'statut couleur'!B:B,0),3),"")
B624: =IFERROR(IF(groupage!N624<>"",CONCATENATE(groupage!N624," ",groupage!P624," ",groupage!Q624," ",groupage!V624),""),"") | C624: =IFERROR(IF(groupage!N624<>"",CONCATENATE(groupage!R624," ",groupage!S624," ",groupage!T624," ",groupage!U624),""),"") | D624: =IFERROR(INDEX('statut couleur'!B623:D638,MATCH(groupage!W624,'statut couleur'!B:B,0),3),"")
B625: =IFERROR(IF(groupage!N625<>"",CONCATENATE(groupage!N625," ",groupage!P625," ",groupage!Q625," ",groupage!V625),""),"") | C625: =IFERROR(IF(groupage!N625<>"",CONCATENATE(groupage!R625," ",groupage!S625," ",groupage!T625," ",groupage!U625),""),"") | D625: =IFERROR(INDEX('statut couleur'!B624:D639,MATCH(groupage!W625,'statut couleur'!B:B,0),3),"")
B626: =IFERROR(IF(groupage!N626<>"",CONCATENATE(groupage!N626," ",groupage!P626," ",groupage!Q626," ",groupage!V626),""),"") | C626: =IFERROR(IF(groupage!N626<>"",CONCATENATE(groupage!R626," ",groupage!S626," ",groupage!T626," ",groupage!U626),""),"") | D626: =IFERROR(INDEX('statut couleur'!B625:D640,MATCH(groupage!W626,'statut couleur'!B:B,0),3),"")
B627: =IFERROR(IF(groupage!N627<>"",CONCATENATE(groupage!N627," ",groupage!P627," ",groupage!Q627," ",groupage!V627),""),"") | C627: =IFERROR(IF(groupage!N627<>"",CONCATENATE(groupage!R627," ",groupage!S627," ",groupage!T627," ",groupage!U627),""),"") | D627: =IFERROR(INDEX('statut couleur'!B626:D641,MATCH(groupage!W627,'statut couleur'!B:B,0),3),"")
B628: =IFERROR(IF(groupage!N628<>"",CONCATENATE(groupage!N628," ",groupage!P628," ",groupage!Q628," ",groupage!V628),""),"") | C628: =IFERROR(IF(groupage!N628<>"",CONCATENATE(groupage!R628," ",groupage!S628," ",groupage!T628," ",groupage!U628),""),"") | D628: =IFERROR(INDEX('statut couleur'!B627:D642,MATCH(groupage!W628,'statut couleur'!B:B,0),3),"")
B629: =IFERROR(IF(groupage!N629<>"",CONCATENATE(groupage!N629," ",groupage!P629," ",groupage!Q629," ",groupage!V629),""),"") | C629: =IFERROR(IF(groupage!N629<>"",CONCATENATE(groupage!R629," ",groupage!S629," ",groupage!T629," ",groupage!U629),""),"") | D629: =IFERROR(INDEX('statut couleur'!B628:D643,MATCH(groupage!W629,'statut couleur'!B:B,0),3),"")
... B815: =IFERROR(IF(groupage!N815<>"",CONCATENATE(groupage!N815," ",groupage!P815," ",groupage!Q815," ",groupage!V815),""),"") | C815: =IFERROR(IF(groupage!N815<>"",CONCATENATE(groupage!R815," ",groupage!S815," ",groupage!T815," ",groupage!U815),""),"") | D815: =IFERROR(INDEX('statut couleur'!B814:D829,MATCH(groupage!W815,'statut couleur'!B:B,0),3),"")
