Workbook
Name CodeMétier: OFFSET(Params!$A$1,1,,COUNTA(Params!$A:$A)-1)
Name Equipe: OFFSET(PERSONNEL!$F$1,1,,COUNTA(PERSONNEL!$F:$F)-1)
Name NOM_Prénom: OFFSET(PERSONNEL!$B$1,1,,COUNTA(PERSONNEL!$B:$B)-1)
Name Segment_NOM_Prénom: #N/A

Sheet Feuil1
A1: Voici ce que j'ai comme classeur avec 3 feuilles (en vert)
A3: Via Power Query, j'aimerai pouvoir obtenir, le coût global de chacun de mes chefs d'équipe = I306
A4: avec le personnel et le matériel qui leur est attribué
A5: Pour le personnel attribué, le nom du chef d'équipe est indiqué en colonne I
A6: Pour le matériel attribué, le nom du chef d'équipe est indiqué en colonne A
A8: Exemple pour SOK Oline, j'aurais un total de : 26+31 en personnel et 56,55€ de matériel

Sheet Personnel_I306
A3: Étiquettes de lignes | B3: PxU | C3: Coût Personnel | D3: Coût Matériel
A4: SOK Oline | B4: 26 | C4: 55 | D4: 56.55
A5: Total général | B5: 26 | C5: 55 | D5: 56.55

Sheet PERSONNEL
A1: Matricule | B1: NOM_Prénom | C1: SAP | D1: Qualif | E1: Qualif_zone | F1: Nom | G1: Prénom | H1: LibMétiers | I1: Equipe | J1: PxU
A2: 82112 | B2: =F2& " " &G2 -> BEN Abou | C2: I306 | D2: - | E2: C | F2: BEN | G2: Abou | H2: Responsable d'équipe | J2: =VLOOKUP(C2,[1]Params!A$2:L$17,3,FALSE) -> 36.3
A3: 13650 | B3: =F3& " " &G3 -> DET Rodolf | C3: I306 | D3: - | E3: C | F3: DET | G3: Rodolf | H3: Responsable d'équipe | J3: =VLOOKUP(C3,[1]Params!A$2:L$17,3,FALSE) -> 36.3
A4: 00940 | B4: =F4& " " &G4 -> LEB Maximilien | C4: I306 | D4: - | E4: C | F4: LEB | G4: Maximilien | H4: Chef d'équipe | J4: =VLOOKUP(C4,[1]Params!A$2:L$17,3,FALSE) -> 36.3
A5: 56459 | B5: =F5& " " &G5 -> LEQ Christopher | C5: I306 | D5: - | E5: C | F5: LEQ | G5: Christopher | H5: Chef d'équipe | J5: =VLOOKUP(C5,[1]Params!A$2:L$17,3,FALSE) -> 36.3
A6: 60506 | B6: =F6& " " &G6 -> MER Pierre | C6: I306 | D6: - | E6: C | F6: MER | G6: Pierre | H6: Responsable d'équipe | J6: =VLOOKUP(C6,[1]Params!A$2:L$17,3,FALSE) -> 36.3
A7: 63296 | B7: =F7& " " &G7 -> MON Ludovic | C7: I306 | D7: - | E7: C | F7: MON | G7: Ludovic | H7: Responsable d'équipe | J7: =VLOOKUP(C7,[1]Params!A$2:L$17,3,FALSE) -> 36.3
A8: 45285 | B8: =F8& " " &G8 -> PAG Michael | C8: I306 | D8: - | E8: C | F8: PAG | G8: Michael | H8: Chef d'équipe | J8: =VLOOKUP(C8,[1]Params!A$2:L$17,3,FALSE) -> 36.3
A9: 46171 | B9: =F9& " " &G9 -> PRI Sylvain | C9: I306 | D9: - | E9: C | F9: PRI | G9: Sylvain | H9: Responsable d'équipe | J9: =VLOOKUP(C9,[1]Params!A$2:L$17,3,FALSE) -> 36.3
A10: 35611 | B10: =F10& " " &G10 -> RED Madi | C10: I306 | D10: - | E10: C | F10: RED | G10: Madi | H10: Responsable d'équipe | J10: =VLOOKUP(C10,[1]Params!A$2:L$17,3,FALSE) -> 36.3
A11: 00865 | B11: =F11& " " &G11 -> REG Franck | C11: I306 | D11: - | E11: C | F11: REG | G11: Franck | H11: Responsable d'équipe | J11: =VLOOKUP(C11,[1]Params!A$2:L$17,3,FALSE) -> 36.3
A12: 00001 | B12: =F12& " " &G12 -> SOK Oline | C12: I306 | D12: - | E12: C | F12: SOK | G12: Oline | H12: Chef d'équipe | J12: =VLOOKUP(C12,Params!A$2:C$17,3,FALSE) -> 26
A13: 00001 | B13: =F13& " " &G13 -> TAR Jérémy | C13: I306 | D13: - | E13: C | F13: TAR | G13: Jérémy | H13: Chef d'équipe | J13: =VLOOKUP(C13,Params!A$2:C$17,3,FALSE) -> 26
A14: 00001 | B14: =F14& " " &G14 -> VAL Stéphane | C14: I306 | D14: - | E14: C | F14: VAL | G14: Stéphane | H14: Chef d'équipe | J14: =VLOOKUP(C14,Params!A$2:C$17,3,FALSE) -> 26
A15: 00001 | B15: =F15& " " &G15 -> VEN Anthony | C15: I306 | D15: - | E15: C | F15: VEN | G15: Anthony | H15: Chef d'équipe | J15: =VLOOKUP(C15,Params!A$2:C$17,3,FALSE) -> 26
A16: 00001 | B16: =F16& " " &G16 -> ANC Jimmy | C16: I304 | D16: - | E16: C | F16: ANC | G16: Jimmy | H16: Conudcteur d'engins | I16: SOK | J16: =VLOOKUP(C16,Params!A$2:C$17,3,FALSE) -> 24
A17: 00001 | B17: =F17& " " &G17 -> AYD Enes | C17: I311 | D17: - | E17: C | F17: AYD | G17: Enes | H17: Apprenti | I17: TAR | J17: =VLOOKUP(C17,Params!A$2:C$17,3,FALSE) -> 28
A18: 00001 | B18: =F18& " " &G18 -> BOD Julien | C18: I310 | D18: - | E18: C | F18: BOD | G18: Julien | H18: Monteur | I18: VAL | J18: =VLOOKUP(C18,Params!A$2:C$17,3,FALSE) -> 27
A19: 00001 | B19: =F19& " " &G19 -> CHA Romuald | C19: I304 | D19: - | E19: C | F19: CHA | G19: Romuald | H19: Monteur | I19: TAR | J19: =VLOOKUP(C19,Params!A$2:C$17,3,FALSE) -> 24
A20: 00001 | B20: =F20& " " &G20 -> CHE Oussama | C20: I312 | D20: - | E20: C | F20: CHE | G20: Oussama | H20: Monteur | I20: LEQ | J20: =VLOOKUP(C20,Params!A$2:C$17,3,FALSE) -> 29
A21: 00001 | B21: =F21& " " &G21 -> DEO Daniel | C21: I304 | D21: - | E21: C | F21: DEO | G21: Daniel | H21: Conducteur d'engins | I21: PAG | J21: =VLOOKUP(C21,Params!A$2:C$17,3,FALSE) -> 24
A22: 00001 | B22: =F22& " " &G22 -> DES Philippe | C22: I304 | D22: - | E22: C | F22: DES | G22: Philippe | H22: Conducteur d'engins | I22: MER | J22: =VLOOKUP(C22,Params!A$2:C$17,3,FALSE) -> 24
A23: 00001 | B23: =F23& " " &G23 -> LAN Cyril | C23: I304 | D23: - | E23: C | F23: LAN | G23: Cyril | H23: Conducteur d'engins | J23: =VLOOKUP(C23,Params!A$2:C$17,3,FALSE) -> 24
A24: 00001 | B24: =F24& " " &G24 -> LOP Anthony | C24: I304 | D24: - | E24: C | F24: LOP | G24: Anthony | H24: Monteur | I24: PRI | J24: =VLOOKUP(C24,Params!A$2:C$17,3,FALSE) -> 24
A25: 00001 | B25: =F25& " " &G25 -> MIC Laurent | C25: I304 | D25: - | E25: C | F25: MIC | G25: Laurent | H25: Conducteur d'engins | J25: =VLOOKUP(C25,Params!A$2:C$17,3,FALSE) -> 24
A26: 00001 | B26: =F26& " " &G26 -> PAR Sylvain | C26: I306 | D26: - | E26: C | F26: PAR | G26: Sylvain | H26: Monteur | J26: =VLOOKUP(C26,Params!A$2:C$17,3,FALSE) -> 26
A27: 00001 | B27: =F27& " " &G27 -> PET Stéphane | C27: I306 | D27: - | E27: C | F27: PET | G27: Stéphane | H27: Monteur | I27: RED | J27: =VLOOKUP(C27,Params!A$2:C$17,3,FALSE) -> 26
A28: 00001 | B28: =F28& " " &G28 -> POI Lionel | C28: I304 | D28: - | E28: C | F28: POI | G28: Lionel | H28: Conducteur d'engins | I28: REG | J28: =VLOOKUP(C28,Params!A$2:C$17,3,FALSE) -> 24
A29: 00001 | B29: =F29& " " &G29 -> POU Francis | C29: I304 | D29: - | E29: C | F29: POU | G29: Francis | H29: Conducteur d'engins | I29: LEB | J29: =VLOOKUP(C29,Params!A$2:C$17,3,FALSE) -> 24
A30: 00001 | B30: =F30& " " &G30 -> RAG Jean-Yves | C30: I310 | D30: - | E30: C | F30: RAG | G30: Jean-Yves | H30: Monteur | J30: =VLOOKUP(C30,Params!A$2:C$17,3,FALSE) -> 27
A31: 00001 | B31: =F31& " " &G31 -> CIO Florent | C31: I201 | D31: - | E31: C | F31: CIO | G31: Florent | H31: Responsable BE | J31: =VLOOKUP(C31,Params!A$2:C$17,3,FALSE) -> 21
A32: 00001 | B32: =F32& " " &G32 -> BEQ Vincent | C32: I201 | D32: - | E32: C | F32: BEQ | G32: Vincent | H32: Technicien Etudes | J32: =VLOOKUP(C32,Params!A$2:C$17,3,FALSE) -> 21
A33: 00001 | B33: =F33& " " &G33 -> ABD Abdelhakam | C33: E302 | D33: - | E33: C | F33: ABD | G33: Abdelhakam | H33: Technicien Etudes | J33: =VLOOKUP(C33,Params!A$2:C$17,3,FALSE) -> 31
A34: 00001 | B34: =F34& " " &G34 -> HEN Ghislain | C34: I201 | D34: - | F34: HEN | G34: Ghislain | H34: Technicien Etudes | J34: =VLOOKUP(C34,Params!A$2:C$17,3,FALSE) -> 21
A35: 00001 | B35: =F35& " " &G35 -> COQ Thierry | C35: E302 | D35: - | E35: C | F35: COQ | G35: Thierry | H35: Intérimaire | I35: BEN | J35: =VLOOKUP(C35,Params!A$2:C$17,3,FALSE) -> 31
A36: 00001 | B36: =F36& " " &G36 -> DOS Kévin | C36: E302 | D36: - | E36: C | F36: DOS | G36: Kévin | H36: Intérimaire | I36: DET | J36: =VLOOKUP(C36,Params!A$2:C$17,3,FALSE) -> 31
A37: 00001 | B37: =F37& " " &G37 -> FLE Gabriel | C37: E302 | D37: - | E37: C | F37: FLE | G37: Gabriel | H37: Intérimaire | I37: LEB | J37: =VLOOKUP(C37,Params!A$2:C$17,3,FALSE) -> 31
A38: 00001 | B38: =F38& " " &G38 -> FOM Christophe | C38: E302 | D38: - | E38: C | F38: FOM | G38: Christophe | H38: Intérimaire | I38: SOK | J38: =VLOOKUP(C38,Params!A$2:C$17,3,FALSE) -> 31
A39: 00001 | B39: =F39& " " &G39 -> HEN Theo | C39: E302 | D39: - | E39: C | F39: HEN | G39: Theo | H39: Intérimaire | I39: LEB | J39: =VLOOKUP(C39,Params!A$2:C$17,3,FALSE) -> 31
A40: 00001 | B40: =F40& " " &G40 -> JOU Emeric | C40: E302 | D40: - | F40: JOU | G40: Emeric | H40: Intérimaire | I40: REG | J40: =VLOOKUP(C40,Params!A$2:C$17,3,FALSE) -> 31
A41: 00001 | B41: =F41& " " &G41 -> NDI Mohammed | C41: E302 | D41: - | E41: C | F41: NDI | G41: Mohammed | H41: Intérimaire | I41: DET | J41: =VLOOKUP(C41,Params!A$2:C$17,3,FALSE) -> 31
A42: 00001 | B42: =F42& " " &G42 -> INT | C42: E302 | D42: - | E42: C | F42: INT | H42: Intérimaire | J42: =VLOOKUP(C42,Params!A$2:C$17,3,FALSE) -> 31
A43: 00001 | B43: =F43& " " &G43 -> INT | C43: E302 | D43: - | E43: C | F43: INT | H43: Intérimaire | J43: =VLOOKUP(C43,Params!A$2:C$17,3,FALSE) -> 31
A44: 00001 | B44: =F44& " " &G44 -> INT | C44: E302 | D44: - | E44: C | F44: INT | H44: Intérimaire | J44: =VLOOKUP(C44,Params!A$2:C$17,3,FALSE) -> 31

Sheet MATERIEL
A1: NOM_Prénom | B1: Equipement | C1: Désignation_objet | D1: Immat | E1: UnV | F1: PxU | G1: Equip_sup | H1: Repère | I1: Type
A2: LEB Maximilien | B2: EQU001 | C2: PACK OUTILLAGE TERRASSIER N°1 | D2: - | E2: HRE | F2: 0.9 | G2: - | H2: 8001 | I2: PACK OUTILLAGE
A3: MER Pierre | B3: EQU002 | C3: PACK OUTILLAGE TERRASSIER N°2 | D3: - | E3: HRE | F3: 0.9 | G3: - | H3: 8002 | I3: PACK OUTILLAGE
A4: PAG Michael | B4: EQU003 | C4: PACK OUTILLAGE TERRASSIER N°3 | D4: - | E4: HRE | F4: 0.9 | G4: - | H4: 8003 | I4: PACK OUTILLAGE
A5: SOK Oline | B5: EQU004 | C5: PACK OUTILLAGE TERRASSIER N°4 | D5: - | E5: HRE | F5: 0.9 | G5: - | H5: 8004 | I5: PACK OUTILLAGE
A6: DET Rodolf | B6: EQU005 | C6: PACK OUTILLAGE TERRASSIER N°5 | D6: - | E6: HRE | F6: 0.9 | G6: - | H6: 8005 | I6: PACK OUTILLAGE
A7: BEN Abou | B7: EQU006 | C7: PACK OUTILLAGE ELEC EP N°1 | D7: - | E7: HRE | F7: 0.5 | G7: - | H7: 8006 | I7: PACK OUTILLAGE
A8: PAR sylvain | B8: EQU007 | C8: PACK OUTILLAGE ELEC EP N°2 | D8: - | E8: HRE | F8: 0.5 | G8: - | H8: 8007 | I8: PACK OUTILLAGE
A9: MON Ludovic | B9: EQU008 | C9: PACK OUTILLAGE ELEC EP N°3 | D9: - | E9: HRE | F9: 0.5 | G9: - | H9: 8008 | I9: PACK OUTILLAGE
A10: PRI SYLVAIN | B10: EQU009 | C10: PACK OUTILLAGE LEVAGE N°1 | D10: - | E10: HRE | F10: 0.7 | G10: - | H10: 8009 | I10: PACK OUTILLAGE
A11: VEN Anthony | B11: EQU010 | C11: PACK OUTILLAGE ELEC ER N°1 | D11: - | E11: HRE | F11: 0 | G11: - | H11: 8010 | I11: PACK OUTILLAGE
A12: TAR Jérémy | B12: EQU011 | C12: PACK OUTILLAGE ELEC ER N°2 | D12: - | E12: HRE | F12: 1.2 | G12: - | H12: 8011 | I12: PACK OUTILLAGE
A13: LEQ Christopher | B13: EQU012 | C13: PACK OUTILLAGE ELEC ER N°3 | D13: - | E13: HRE | F13: 1.2 | G13: - | H13: 8012 | I13: PACK OUTILLAGE
... A53: VEN Anthony | B53: EQU052 | C53: DETECTEUR DE TENSION BT | D53: - | E53: HRE | F53: 0 | G53: - | H53: 8052 | I53: DETECTEUR
A54: MAT COMMUN | B54: EQU053 | C54: POUTRE DE POSITIONNEMENT ALU | D54: - | E54: HRE | F54: 0 | G54: - | H54: 8053
A55: LEB Maximilien | B55: EQU054 | C55: MESUREUR DE TERRE 3 FILS | D55: - | E55: HRE | F55: 0.2 | G55: - | H55: 8054 | I55: MESUREUR
A56: DET Rodolf | B56: EQU055 | C56: MESUREUR DE TERRE 3 FILS | D56: - | E56: HRE | F56: 0.2 | G56: - | H56: 8055 | I56: MESUREUR
A57: PAG Michael | B57: EQU056 | C57: MESUREUR DE TERRE 3 FILS | D57: - | E57: HRE | F57: 0.2 | G57: - | H57: 8056 | I57: MESUREUR
A58: MAT COMMUN | B58: EQU057 | C58: BALAYEUSE STANDARD SIMA 2.10 M | D58: - | E58: HRE | F58: 0 | G58: - | H58: 8057
A59: MER Pierre | B59: EQU058 | C59: ABRI DE CHANTIER 3.45*1.75 | D59: - | E59: HRE | F59: 1.5 | G59: - | H59: 8058 | I59: ABRI
A60: LEB Maximilien | B60: EQU059 | C60: ABRI DE CHANTIER 3.45*1.75 | D60: - | E60: HRE | F60: 1.5 | G60: - | H60: 8059 | I60: ABRI
A61: DET Rodolf | B61: EQU060 | C61: ABRI DE CHANTIER 3.45*1.75 | D61: - | E61: HRE | F61: 1.5 | G61: - | H61: 8060 | I61: ABRI
A62: SOK Oline | B62: EQU061 | C62: ABRI DE CHANTIER 3.45*1.75 | D62: - | E62: HRE | F62: 1.5 | G62: - | H62: 8061 | I62: ABRI
A63: PAG Michael | B63: EQU062 | C63: ABRI DE CHANTIER 3.45*1.75 | D63: - | E63: HRE | F63: 1.5 | G63: - | H63: 8062 | I63: ABRI
A64: PAR Sylvain | B64: EQU063 | C64: BENNE VL MASTER | D64: - | E64: HRE | F64: 9 | G64: - | H64: 8063 | I64: FOURGON
A65: LEB Maximilien | B65: EQU064 | C65: FOURGON MASTER L3H2 (DEPANNAGE) | D65: - | E65: HRE | F65: 10.7 | G65: - | H65: 8064 | I65: FOURGON
A66: REG Franck | B66: EQU065 | C66: FOURGON MASTER L3H2 | D66: - | E66: HRE | F66: 10.7 | G66: - | H66: 8065 | I66: FOURGON
A67: PET Stéphane | B67: EQU066 | C67: FOURGON MASTER L2H2 | D67: - | E67: HRE | F67: 10.7 | G67: - | H67: 8066 | I67: FOURGON
A68: CHE Bruno | B68: EQU067 | C68: FOURGON MASTER L2H2 | D68: - | E68: HRE | F68: 10.7 | G68: - | H68: 8067 | I68: FOURGON
A69: LEB Maximilien | B69: EQU068 | C69: FOURGON L3H2 DCI 150 DBLE CABINE | D69: - | E69: HRE | F69: 10.7 | G69: - | H69: 8068 | I69: FOURGON
A70: PAG Michael | B70: EQU069 | C70: FOURGON L3H2 DCI 150 DBLE CABINE | D70: - | E70: HRE | F70: 10.7 | G70: - | H70: 8069 | I70: FOURGON
... A77: BEQ Vincent | B77: EQU076 | C77: CITROEN C3 | D77: - | E77: HRE | F77: 5 | G77: - | H77: 8076 | I77: VL
A78: MAT COMMUN | B78: EQU077 | C78: CHASSIS 6X4 RENAULT BENNE GRUE PP | D78: - | E78: HRE | F78: 0 | G78: - | H78: 8077
A79: MON Ludovic | B79: EQU078 | C79: CHASSIS 6X4 RENAULT BENNE GRUE | D79: - | E79: HRE | F79: 28.5 | G79: - | H79: 8078 | I79: CAMION
A80: MAT COMMUN | B80: EQU079 | C80: CHASSIS 6X4 IVECO BENNE GRUE | D80: - | E80: HRE | F80: 0 | G80: - | H80: 8079
A81: PAG Michael | B81: EQU080 | C81: CHASSIS 6X4 KERAX BENNE GRUE | D81: - | E81: HRE | F81: 28.5 | G81: - | H81: 8080 | I81: CAMION
A82: PRI SYLVAIN | B82: EQU081 | C82: CHASSIS 6X4 BENNE GRUE POSE POTEAUX | D82: - | E82: HRE | F82: 41 | G82: - | H82: 8081 | I82: CAMION
A83: DET Rodolf | B83: EQU082 | C83: CHASSIS 6X4 BENNE GRUE HMF | D83: - | E83: HRE | F83: 28.5 | G83: - | H83: 8082 | I83: CAMION
A84: DES Philippe | B84: EQU083 | C84: CHASSIS 6X4 BENNE GRUE HMF | D84: - | E84: HRE | F84: 28.5 | G84: - | H84: 8083 | I84: CAMION
A85: REG Franck | B85: EQU084 | C85: CAMION 14 TO BENNE | D85: - | E85: HRE | F85: 28.5 | G85: - | H85: 8084 | I85: CAMION
A86: DE OLIVEIRAD Daniel | B86: EQU085 | C86: CAMION 26TO BENNE GRUE | D86: - | E86: HRE | F86: 28.5 | G86: - | H86: 8085 | I86: CAMION
A87: POU Francis | B87: EQU086 | C87: CAMION 8*4 BIBENNE | D87: - | E87: HRE | F87: 28.5 | G87: - | H87: 8086 | I87: CAMION
A88: MAT COMMUN | B88: EQU087 | C88: BENNE 12T RENAULT | D88: - | E88: HRE | F88: 0 | G88: - | H88: 8087
A89: MER Pierre | B89: EQU088 | C89: CHARGEUSE YANMAR VT 70 S | D89: - | E89: HRE | F89: 9 | G89: - | H89: 8088 | I89: CHARGEUSE
A90: MAT COMMUN | B90: EQU089 | C90: COMPRESSEUR ATLAS COPCO XAS88-7 | D90: - | E90: HRE | F90: 0 | G90: - | H90: 8089
A91: MAT COMMUN | B91: EQU090 | C91: COMPRESSEUR ATLAS COPCO XAS88-7 | D91: - | E91: HRE | F91: 0 | G91: - | H91: 8090
A92: MAT COMMUN | B92: EQU091 | C92: COMPRESSEUR KAESER | D92: - | E92: HRE | F92: 0 | G92: - | H92: 8091
A93: MAT COMMUN | B93: EQU092 | C93: COMPRESSEUR ATLAS COPCO XAS88-7 | D93: - | E93: HRE | F93: 0 | G93: - | H93: 8092
A94: CHE Bruno | B94: EQU093 | C94: COMPRESSEUR A PISTON FIXE | D94: - | E94: HRE | F94: 0.5 | G94: - | H94: 8093 | I94: COMPRESSEUR
A95: MER Pierre | B95: EQU094 | C95: CONTENEUR LC8 | D95: - | E95: HRE | F95: 0.45 | G95: - | H95: 8094 | I95: CONT
A96: SOK Oline | B96: EQU095 | C96: CONTENEUR LC8 | D96: - | E96: HRE | F96: 0.45 | G96: - | H96: 8095 | I96: CONT
A97: VEN Anthony | B97: EQU096 | C97: CONTENEUR LC8 | D97: - | E97: HRE | F97: 0 | G97: - | H97: 8096 | I97: CONT
A98: TAR Jérémy | B98: EQU097 | C98: CONTENEUR LC8 | D98: - | E98: HRE | F98: 0.45 | G98: - | H98: 8097 | I98: CONT
A99: REG Franck | B99: EQU098 | C99: CONTENEUR LC8 | D99: - | E99: HRE | F99: 0.45 | G99: - | H99: 8098 | I99: CONT
A100: LEB Maximilien | B100: EQU099 | C100: CONTENEUR LC8 | D100: - | E100: HRE | F100: 0.45 | G100: - | H100: 8099 | I100: CONT
A101: DET Rodolf | B101: EQU100 | C101: CONTENEUR LC8 | D101: - | E101: HRE | F101: 0.45 | G101: - | H101: 8100 | I101: CONT
A102: PAG Michael | B102: EQU101 | C102: CONTENEUR LC8 | D102: - | E102: HRE | F102: 0.45 | G102: - | H102: 8101 | I102: CONT
A103: MAT COMMUN | B103: EQU102 | C103: DEROULEUSE VL MOIROUD | D103: - | E103: HRE | F103: 0 | G103: - | H103: 8102
A104: MAT COMMUN | B104: EQU103 | C104: DEROULEUSE PL ADOC | D104: - | E104: HRE | F104: 0 | G104: - | H104: 8103
A105: MAT COMMUN | B105: EQU104 | C105: DEROULEUSE PL ADOC | D105: - | E105: HRE | F105: 0 | G105: - | H105: 8104
A106: MAT COMMUN | B106: EQU105 | C106: DEROULEUSE VL ADOC | D106: - | E106: HRE | F106: 0 | G106: - | H106: 8105
A107: MAT COMMUN | B107: EQU106 | C107: DEROULEUSE VL ADOC | D107: - | E107: HRE | F107: 0 | G107: - | H107: 8106
A108: MON Ludovic | B108: EQU107 | C108: DEROULEUSE SPIREL S504 | D108: - | E108: HRE | F108: 2 | G108: - | H108: 8107 | I108: DEROULEUSE
A109: REG Franck | B109: EQU108 | C109: ENSEMBLE DE DEROULAGE 50 KN | D109: - | E109: HRE | F109: 0.5 | G109: - | H109: 8108 | I109: DEROULEUSE
A110: PAG Michael | B110: EQU109 | C110: ENSEMBLE DE DEROULAGE 50 KN | D110: - | E110: HRE | F110: 0.5 | G110: - | H110: 8109 | I110: DEROULEUSE
A111: MAT COMMUN | B111: EQU110 | C111: DEROULEUSE SPIREL S2000 | D111: - | E111: HRE | F111: 0 | G111: - | H111: 8110
A112: DET Rodolf | B112: EQU111 | C112: ENSEMBLE DE DEROULAGE 50 KN | D112: - | E112: HRE | F112: 0.5 | G112: - | H112: 8111 | I112: DEROULEUSE
A113: SOK Oline | B113: EQU112 | C113: ENSEMBLE DE DEROULAGE 50 KN | D113: - | E113: HRE | F113: 0.5 | G113: - | H113: 8112 | I113: DEROULEUSE
A114: LEB Maximilien | B114: EQU113 | C114: ENSEMBLE DE DEROULAGE 50 KN | D114: - | E114: HRE | F114: 0.5 | G114: - | H114: 8113 | I114: DEROULEUSE
A115: MER Pierre | B115: EQU114 | C115: ENSEMBLE DE DEROULAGE 50 KN | D115: - | E115: HRE | F115: 0.5 | G115: - | H115: 8114 | I115: DEROULEUSE
A116: LEQ Christopher | B116: EQU115 | C116: ECHELLE PRONOR 3 PLANS | D116: - | E116: HRE | F116: 0.5 | G116: - | H116: 8115 | I116: ECHELLE
A117: TAR Jérémy | B117: EQU116 | C117: COFFRET COMPLET CABLE 50 MM² | D117: - | E117: HRE | F117: 0.5 | G117: - | H117: 8116 | I117: COFFRET
A118: LEQ Christopher | B118: EQU117 | C118: COFFRET COMPLET CABLE 50 MM² | D118: - | E118: HRE | F118: 0.5 | G118: - | H118: 8117 | I118: COFFRET
A119: MER Pierre | B119: EQU118 | C119: AIMANT DE LEVAGE MF350 | D119: - | E119: HRE | F119: 0.1 | G119: - | H119: 8118 | I119: AIMANT
A120: DET Rodolf | B120: EQU119 | C120: AIMANT DE LEVAGE MF350 | D120: - | E120: HRE | F120: 0.1 | G120: - | H120: 8119 | I120: AIMANT
A121: SOK Oline | B121: EQU120 | C121: AIMANT DE LEVAGE MF350 | D121: - | E121: HRE | F121: 0.1 | G121: - | H121: 8120 | I121: AIMANT
A122: LEB Maximilien | B122: EQU121 | C122: AIMANT DE LEVAGE MF350 | D122: - | E122: HRE | F122: 0.1 | G122: - | H122: 8121 | I122: AIMANT
A123: CHE Bruno | B123: EQU122 | C123: TRANCHEUSE RT 170 | D123: - | E123: HRE | F123: 120 | G123: - | H123: 8122 | I123: TRANCHEUSE
A124: MAT COMMUN | B124: EQU123 | C124: FUSEE GRUNDOMAT Ø85 P | D124: - | E124: HRE | F124: 0 | G124: - | H124: 8123
A125: MAT COMMUN | B125: EQU124 | C125: FUSEE AQUAREX Ø 130 | D125: - | E125: HRE | F125: 0 | G125: - | H125: 8124
A126: MAT COMMUN | B126: EQU125 | C126: FUSEE AQUAREX Ø 90 | D126: - | E126: HRE | F126: 0 | G126: - | H126: 8125
A127: BEN Abou | B127: EQU126 | C127: PERFORATEUR MAKITA | D127: - | E127: HRE | F127: 0.2 | G127: - | H127: 8126 | I127: MARTPIQ
A128: LEQ Christopher | B128: EQU127 | C128: BURINEUR MAKITA HM 123C | D128: - | E128: HRE | F128: 0.2 | G128: - | H128: 8127 | I128: MARTPIQ
A129: PAG Michael | B129: EQU128 | C129: MARTEAU PIQUEUR TEX 05P | D129: - | E129: HRE | F129: 0.1 | G129: - | H129: 8128 | I129: MARTPIQ
A130: SOK Oline | B130: EQU129 | C130: MARTEAU PIQUEUR TEX 05P | D130: - | E130: HRE | F130: 0.1 | G130: - | H130: 8129 | I130: MARTPIQ
A131: PRI Sylvain | B131: EQU130 | C131: MARTEAU PIQUEUR TEX 150PE | D131: - | E131: HRE | F131: 0.2 | G131: - | H131: 8130 | I131: MARTPIQ
A132: PAG Michael | B132: EQU131 | C132: MARTEAU PIQUEUR TEX 150PE | D132: - | E132: HRE | F132: 0.2 | G132: - | H132: 8131 | I132: MARTPIQ
A133: SOK Oline | B133: EQU132 | C133: MARTEAU PIQUEUR TEX 150PE | D133: - | E133: HRE | F133: 0.2 | G133: - | H133: 8132 | I133: MARTPIQ
A134: MER Pierre | B134: EQU133 | C134: MARTEAU PIQUEUR TEX 150PE | D134: - | E134: HRE | F134: 0.2 | G134: - | H134: 8133 | I134: MARTPIQ
A135: DET Rodolf | B135: EQU134 | C135: MARTEAU PIQUEUR TEX 05P | D135: - | E135: HRE | F135: 0.1 | G135: - | H135: 8134 | I135: MARTPIQ
A136: LEB Maximilien | B136: EQU135 | C136: MARTEAU PNEUMATIQUE TEX150 | D136: - | E136: HRE | F136: 0.2 | G136: - | H136: 8135 | I136: MARTPIQ
A137: REG Franck | B137: EQU136 | C137: BRH ATLAS COPCO SB152 | D137: - | E137: HRE | F137: 0.9 | G137: - | H137: 8136 | I137: MARTPIQ
A138: SAN AFFECTATION | B138: EQU137 | C138: BRH ATLAS COPCO SB 202 | D138: - | E138: HRE | F138: 0.9 | G138: - | H138: 8137 | I138: MARTPIQ
A139: MAT COMMUN | B139: EQU138 | C139: NACELLE PL 4X4 COMILEV | D139: - | E139: HRE | F139: 0 | G139: - | H139: 8138
A140: MAT COMMUN | B140: EQU139 | C140: NACELLE DAILY 16M VL | D140: - | E140: HRE | F140: 0 | G140: - | H140: 8139
A141: TAR Jérémy | B141: EQU140 | C141: NACELLE PL COMILEV EN 215 | D141: - | E141: HRE | F141: 21 | G141: - | H141: 8140 | I141: NACELLE
A142: LEQ Christopher | B142: EQU141 | C142: NACELLE VL B18HV | D142: - | E142: HRE | F142: 15 | G142: - | H142: 8141 | I142: NACELLE
A143: SAN AFFECTATION | B143: EQU142 | C143: NACELLE XTENSO SUR PORTEUR RENAULT | D143: - | E143: HRE | F143: 23 | G143: - | H143: 8142 | I143: NACELLE
A144: BEN Abou | B144: EQU143 | C144: NACELLE XTENSO SUR PORTEUR RENAULT | D144: - | E144: HRE | F144: 23 | G144: - | H144: 8143 | I144: NACELLE
A145: RED Madi | B145: EQU144 | C145: NACELLE KT48 SUR IVECO | D145: - | E145: HRE | F145: 15 | G145: - | H145: 8144 | I145: NACELLE
...

Sheet Params
A1: Code SAP | B1: Famille | C1: Taux 2025
A2: I101 | B2: Responsable d'Affaires | C2: 31
A3: I102 | B3: Assistant RA | C3: 32
A4: I201 | B4: Technicien Etudes | C4: 21
A5: I302 | B5: Conducteur de travaux | C5: 22
A6: I303 | B6: Chef de chantier | C6: 23
A7: I304 | B7: Conducteur d'engins | C7: 24
A8: I305 | B8: Canalisateur | C8: 25
A9: I306 | B9: Chef d'équipe | C9: 26
A10: I310 | B10: Monteurs | C10: 27
A11: I311 | B11: Apprenti | C11: 28
A12: I312 | B12: Contrat qualif. | C12: 29
A13: I810 | B13: Personnel Interne | C13: 30
A14: E100 | B14: Suivi externe
A15: E200 | B15: Etudes externes
A16: E301 | B16: Encadrement externe
A17: E302 | B17: Production externe | C17: 31
