Workbook
Name Liste_Tableau_Etat: [1]!Tableau_Etat[Etat]
Name TAB_Col_Bleu: [2]!TAB_PraV2[[BK]:[Index]]
Name TAB_Pra_V2: [2]!TAB_PraV2[#Data]
Name taber: #REF!
Name Tableau_martingale_CDJ_GAG: #REF!
Name Tableau_martingale_CDJ_Placé: #REF!
Name Tableau_ref_martingale: #REF!

Sheet Feuil2
B4: index | C4: date | D4: A | E4: A5 | F4: A6 | G4: victoire | H4: Nul | I4: Perdu
B5: =0+1 -> 1 | C5: 45839
B6: =B5+1 -> 2 | C6: 45839
B7: =B6+1 -> 3 | C7: 45839
B8: =B7+1 -> 4 | C8: 45840
B9: =B8+1 -> 5 | C9: 45840
B10: =B9+1 -> 6 | C10: 45841
B11: =B10+1 -> 7 | C11: 45842
B12: =B11+1 -> 8 | C12: 45842
B13: =B12+1 -> 9 | C13: 45842
B14: =B13+1 -> 10 | C14: 45843
B15: =B14+1 -> 11 | C15: 45843
B16: =B15+1 -> 12 | C16: 45844
B17: =B16+1 -> 13 | C17: 45844
... B41: =B40+1 -> 37 | C41: 45884

Sheet Feuil3
B3: index | C3: date | D3: A | E3: A5 | F3: A6 | G3: victoire | H3: Nul | I3: Perdu
B4: =Feuil2!B5 -> 1 | C4: =IF(Feuil2!C5="","",Feuil2!C5) -> 45839 | D4: =IF(Feuil2!D5="","",Feuil2!D5) | E4: =IF(Feuil2!E5="","",Feuil2!E5) | F4: =IF(Feuil2!F5="","",Feuil2!F5) | G4: =IF(Feuil2!G5="","",Feuil2!G5) | H4: =IF(Feuil2!H5="","",Feuil2!H5) | I4: =IF(Feuil2!I5="","",Feuil2!I5)
B5: =Feuil2!B6 -> 2 | C5: =IF(Feuil2!C6="","",Feuil2!C6) -> 45839 | I5: =IF(Feuil2!I6="","",Feuil2!I6)
B6: =Feuil2!B7 -> 3 | C6: =IF(Feuil2!C7="","",Feuil2!C7) -> 45839 | I6: =IF(Feuil2!I7="","",Feuil2!I7)
B7: =Feuil2!B8 -> 4 | C7: =IF(Feuil2!C8="","",Feuil2!C8) -> 45840 | I7: =IF(Feuil2!I8="","",Feuil2!I8)
B8: =Feuil2!B9 -> 5 | C8: =IF(Feuil2!C9="","",Feuil2!C9) -> 45840 | I8: =IF(Feuil2!I9="","",Feuil2!I9)
B9: =Feuil2!B10 -> 6 | C9: =IF(Feuil2!C10="","",Feuil2!C10) -> 45841 | I9: =IF(Feuil2!I10="","",Feuil2!I10)
B10: =Feuil2!B11 -> 7 | C10: =IF(Feuil2!C11="","",Feuil2!C11) -> 45842 | I10: =IF(Feuil2!I11="","",Feuil2!I11)
B11: =Feuil2!B12 -> 8 | C11: =IF(Feuil2!C12="","",Feuil2!C12) -> 45842 | I11: =IF(Feuil2!I12="","",Feuil2!I12)
B12: =Feuil2!B13 -> 9 | C12: =IF(Feuil2!C13="","",Feuil2!C13) -> 45842 | I12: =IF(Feuil2!I13="","",Feuil2!I13)
B13: =Feuil2!B14 -> 10 | C13: =IF(Feuil2!C14="","",Feuil2!C14) -> 45843 | I13: =IF(Feuil2!I14="","",Feuil2!I14)
B14: =Feuil2!B15 -> 11 | C14: =IF(Feuil2!C15="","",Feuil2!C15) -> 45843 | I14: =IF(Feuil2!I15="","",Feuil2!I15)
B15: =Feuil2!B16 -> 12 | C15: =IF(Feuil2!C16="","",Feuil2!C16) -> 45844 | I15: =IF(Feuil2!I16="","",Feuil2!I16)
B16: =Feuil2!B17 -> 13 | C16: =IF(Feuil2!C17="","",Feuil2!C17) -> 45844 | I16: =IF(Feuil2!I17="","",Feuil2!I17)
... B34: =Feuil2!B35 -> 31 | C34: =IF(Feuil2!C35="","",Feuil2!C35) -> 45881 | I34: =IF(Feuil2!I35="","",Feuil2!I35)
B35: =Feuil2!B36 -> 32 | C35: =IF(Feuil2!C36="","",Feuil2!C36) -> 45881 | I35: =IF(Feuil2!I39="","",Feuil2!I39)
B36: =Feuil2!B37 -> 33 | C36: =IF(Feuil2!C37="","",Feuil2!C37) -> 45882 | I36: =IF(Feuil2!I42="","",Feuil2!I42)
B37: =Feuil2!B38 -> 34 | C37: =IF(Feuil2!C38="","",Feuil2!C38) -> 45882 | I37: =IF(Feuil2!I43="","",Feuil2!I43)
B38: =Feuil2!B39 -> 35 | C38: =IF(Feuil2!C39="","",Feuil2!C39) -> 45883 | I38: =IF(Feuil2!I44="","",Feuil2!I44)
B39: =Feuil2!B42 -> 0 | C39: =IF(Feuil2!C42="","",Feuil2!C42) | I39: =IF(Feuil2!I45="","",Feuil2!I45)
